{"text_format":"1","workbook":"xlsx","n_sheets":22,"sheets":["Start","Sheet1","Forum","Print","K","www","model","chitante","Inscrieri","CLS","Rezultate","Grupe","Gr.1","Gr.inf.","Gr.sup.","Arb.inf.","Tabel","Elim.","T64","T32","T16","T8"],"not_rendered":{"charts":0,"images":57,"macros":1,"external_links":0,"defined_names":93,"comments":0,"pivot_tables":0},"unopened":[],"bounds":{"document_bytes":16777216,"sheet_cells":100000,"rows_first":2000,"rows_last":500,"rows_between":2000,"halvings":0,"cell_chars":16384,"cell_head_chars":4096},"cells_cut":0,"cells_raw":0,"read":"whole","date_system":"1900"}

{"sheet":"Start","index":0,"n_rows":36,"n_cols":60,"rows_kept":36,"cut":false,"hidden":false,"merged":[[1,12,1,13],[0,3,0,4],[2,3,2,5],[1,0,1,11],[2,6,2,8],[0,0,0,1],[2,9,2,11],[13,0,13,13],[15,0,15,13],[2,0,2,2],[20,0,20,13],[16,0,16,13],[11,0,11,13],[10,0,10,13],[14,0,14,13],[12,0,12,13],[17,0,17,13],[18,0,18,13],[6,9,6,13],[8,0,8,13],[24,0,24,13],[34,0,34,13],[35,0,35,13],[19,0,19,13],[29,0,29,13],[25,0,25,13],[30,0,30,13],[32,0,32,13],[33,0,33,13],[28,0,28,13],[31,0,31,13],[27,0,27,13],[26,0,26,13],[23,0,23,13],[22,0,22,13],[21,0,21,13]]}
["turneu",null,"data","Elite",null,null,null,"n","A+ (y/n) ?",null,null,"v7.4","cls_2025-nov",null,null,null,null,null,null,null,null,null,null,"[COLOR=black]","[COLOR=#990000]",null,"[\"",null,null,null,"[TABLE width=\"auto\"]",null,"[td width=\"45px\"] [/td]",null,"[COLOR=\"#FF0000\"]","[COLOR=#FF0000] [/COLOR]",null,null,null,null,null,null,null,null,null,null,null,null,null,null,null,null,null,null,null,null,null,null,null,"v7.4"]
["- randul de sus ... localitate, data, categoria, tipul turneului (n - turneu A, y - turneu A+)",null,null,null,null,null,null,null,null,null,null,null,2,null,null,null,null,null,null,null,null,null,null,"[/COLOR] ","[COLOR=#000075]",null,"\",\"",null,null,null,null,null,"[td width=\"20px\"] [/td]",null,"[COLOR=\"#2C75ee\"]","[COLOR=#2C75ee] [/COLOR]"]
["Initializare",null,null,"Grupe inferioare",null,null,"Grupe superioare",null,null,"Eliminatorii",null,null,null,null,null,null,null,null,null,null,null,null,null,"[/i][/COLOR] ","[COLOR=#009900]",null,"\"],",null,null,null,null,null,"[td width=\"300px\"] [/td]",null,"[COLOR=\"#FF00FF\"]","[COLOR=\"#7030A0\"] [/COLOR]"]
[null,null,null,null,null,null,null,null,null,null,null,null,null,null,null,null,null,null,null,null,null,null,null,null,"[COLOR=#6900af]",null,null,null,null,null,null,null,"[td width=\"55px\"] [/td]",null,"[COLOR=\"#E26B0A\"]","[COLOR=#E26B0A] [/COLOR]"]
[null,null,null,null,null,null,null,null,null,null,null,null,null,null,null,null,null,null,null,null,null,null,null,null,"[COLOR=#cc5000][i]",null,null,null,null,null,null,null,null,null,"[COLOR=\"#7030A0\"]","[COLOR=#FF00FF] [/COLOR]"]
[0,null,null,null,null,null,null,null,null,null,null,null,null,null,null,null,null,null,null,null,null,null,null,null,"[COLOR=#4040FF][i]"]
["Limitare","MPmax","MPmin","Nr.Gr.Inf.","Nr. Calif.","X inf","Nr.Gr.Sup.","Nr. Calif.","X sup",null,null,null,null,null,null,null,null,null,null,null,null,null,null,null,"[COLOR=#00DC00][i]"]
[48,100,null,8,4,0,8,2,0,6,7,8,null,null,null,null,null,null,null,null,null,null,null,null,"[COLOR=#bd5dff][i]"]
["Nu stergeti nimic din ceea ce exista deja in fisier, nici copy-paste din alte fisiere - multe celule contin formule",null,null,null,null,null,null,null,null,null,null,null,null,null,null,null,null,null,null,null,null,null,null,null,"[COLOR=red]"]
["1. Daca este cazul, click pe \"Actualizare CLS\" in sheetul Inscrieri.",null,null,null,null,null,null,null,null,null,null,null,null,null,null,null,null,null,null,null,null,null,null,null,"[COLOR=\"#8e44ad\"]"]
["2. Se modifica mai sus datele turneului si se salveaza cate un fisier separat pentru fiecare categorie (Elite - Open - Avansati - Hobby etc)",null,null,null,null,null,null,null,null,null,null,null,null,null,null,null,null,null,null,null,null,null,null,null,"[COLOR=\"#e74c3c\"]",null,null,{"$f":"REPT(\"-\",20) & \" \"","v":"-------------------- "}]
["3. Click pe butonul \"Initializare\" - numai daca este nevoie - se vor sterge automat inscrierile, grupele, foile completate, eliminatoriile - daca exista.",null,null,null,null,null,null,null,null,null,null,null,null,null,null,null,null,null,null,null,null,null,null,null,"[COLOR=\"#2379B5\"]",null,null,{"$f":"REPT(\"-\",40) & \" \"","v":"---------------------------------------- "}]
["\"Limitare\" = numarul maxim de participanti; \"MPmax, MPmin\" - mediile maxime si minime ale categoriei",null,null,null,null,null,null,null,null,null,null,null,null,null,null,null,null,null,null,null,null,null,null,null,null,null,null,{"$f":"REPT(\"-\",60) & \" \"","v":"------------------------------------------------------------ "}]
["Inscrieri - scop: in coloana 7 din \"Inscrieri\" sa fie bifat cu \"1\" fiecare jucator inscris.",null,null,null,null,null,null,null,null,null,null,null,null,null,null,null,null,null,null,null,null,null,null,null,null,null,null,{"$f":"REPT(\"-\",80) & \" \"","v":"-------------------------------------------------------------------------------- "}]
["4. Doua metode de lucru:    a) click pe \"Formular\";    b) Plus/Minus conform instructiunilor din coloana 26 (din \"Inscrieri\").",null,null,null,null,null,null,null,null,null,null,null,null,null,null,null,null,null,null,null,null,null,null,null,null,null,null,{"$f":"REPT(\"-\",100) & \" \"","v":"---------------------------------------------------------------------------------------------------- "}]
["Periodic se actualizeaza lista: click pe \"Lista\", Paste pe forum. Sheetul \"Print\" se scoate la imprimanta.",null,null,null,null,null,null,null,null,null,null,null,null,null,null,null,null,null,null,null,null,null,null,null,null,null,null,{"$f":"REPT(\"-\",120) & \" \"","v":"------------------------------------------------------------------------------------------------------------------------ "}]
["Confirmari - scop: in coloana 7 din \"Inscrieri\" sa ramana bifati cu \"1\" doar jucatorii prezenti."]
["5. Click pe jucatorul absent sau retras dupa termen in coloana 21 apoi click pe N sau r2."]
["6. Click pe \"Selectie participanti\""]
[]
["Grupe inferioare - in celula \"Nr.Gr.Inf.\" de mai sus (randul 8) se trec nr. de grupe inferioare (maxim 32), nr.de calificati, nr. de calificati suplimentar"]
["7. Click pe \"Selectie grupe\", in sheet-ul \"Grupe\" vor fi afisate grupele. Se pot opera modificari asupra lor prin permutarea unor jucatori \"sus-jos\", pe aceeasi coloana."]
["8. Click pe \"Completare foi\" - se genereaza sheet-ul \"Gr.inf.\", se vor completa rezultatele in partea superioara a diagonalei.",null,null,null,null,null,null,null,null,null,null,null,null,null,null,null,null,null,null,null,null,null,null,null,null,null,null,"[td=\"bgcolor:#ffffaa\"]","[td=\"bgcolor:#2C75ee\"]","[td]","[TABLE=\"class: x\"]",null,"[td=\"width: 25\"]",null,"[td=\"bgcolor:#00ff00\"]"]
["9. Se trece in fiecare grupa locul ocupat -  atentie! doar pt. cei calificati, pot fi si cele mai bune X locuri suplimentare, numarul lor se trece in celula X inf",null,null,null,null,null,null,null,null,null,null,null,null,null,null,null,null,null,null,null,null,null,null,null,null,null,null,"[td=\"align:center\"]","[td=\"bgcolor:#d31f1f\"]",null,"[td=\"width:20\"][/td]",null,"[td=\"width: 120\"]",null,"[td=\"bgcolor:#ffff00\"]"]
["Grupe superioare - se completeaza mai sus celulele \"Nr.Gr.Sup.\", nr. de calificati, nr. de calificati suplimentar",null,null,null,null,null,null,null,null,null,null,null,null,null,null,null,null,null,null,null,null,null,null,null,null,null,null,null,null,null,"[td=\"width:150\"][/td]",null,"[td=\"width: 280\"]",null,"[td=\"bgcolor:#ff0000\"]"]
["Nr.Gr.Sup. poate fi egal sau diferit de nr.gr.inferioare (maxim 32 a cate 4 jucatori) / se trece 0 daca nu se fac si superioare",null,null,null,null,null,null,null,null,null,null,null,null,null,null,null,null,null,null,null,null,null,null,null,null,null,null,null,null,null,null,null,"[td=\"width: 20\"]",null,"[td=\"bgcolor:#ff8700\"]"]
["10. Click pe \"Selectie grupe\" - in sheetul \"Grupe\" apar grupele superioare"]
["11. Click pe \"Completare foi\" - Se genereaza sheet-ul \"Gr.sup.\", se vor completa rezultatele in partea superioara a diagonalei.",null,null,null,null,null,null,null,null,null,null,null,null,null,null,null,null,null,null,null,null,null,null,null,null,null,null,null,null,null,null,null,null,null,"[td style=\"background-color:#00ff00\"]"]
["12. Se trece in fiecare grupa locul ocupat - atentie! doar pt. cei calificati, pot fi si cele mai bune X locuri suplimentare, numarul lor se trece in celula X sup",null,null,null,null,null,null,null,null,null,null,null,null,null,null,null,null,null,null,null,null,null,null,null,null,null,null,null,null,null,null,null,null,null,"[td style=\"background-color:#ffff00\"]"]
[null,null,null,null,null,null,null,null,null,null,null,null,null,null,null,null,null,null,null,null,null,null,null,null,null,null,null,null,null,null,null,null,null,null,"[td style=\"background-color:#ff0000\"]"]
["Eliminatorii - maxim 64 de jucatori",null,null,null,null,null,null,null,null,null,null,null,null,null,null,null,null,null,null,null,null,null,null,null,null,null,null,null,null,null,null,null,null,null,"[td style=\"background-color:#ff8700\"]"]
["13. Click pe \"Tabel calificati\". In sheetul \"Tabel\" se completeaza automat celulele \"Poz.tablou\""]
["In coloana \"1/4 tab\" apare sfertul de tablou in care a nimerit respectivul jucator (s1, s2 = superior 1, 2;    i1, i2 = inferior 1, 2)"]
["14. Click pe \"Tablou eliminatoriu\", in sheetul \"Elim.\" se trec rezultatele in celulele colorate, fara alte modificari"]
["Clasament"]
["15. In sheet-ul \"CLS\" click pe \"Clasament / Copy CLS\" apoi Paste pe forum"]

{"sheet":"Sheet1","index":1,"n_rows":33,"n_cols":25,"rows_kept":33,"cut":false,"hidden":true,"merged":[]}
[null,null,null,null,"init ----------------------","selgi ----------------------------------","selgs --------------------"]
["x=1","init",null,null,"wcl.Range(wcl.Cells(2, 9), wcl.Cells(6000, 25)).ClearContents"]
[null,null,null,null,"wcl.Range(wcl.Cells(2, 11), wcl.Cells(100, 12)).Clear"]
[null,null,null,null,"selp:"]
["x=1","selp",null,null,"wgr.Shapes(\"copy_inf\").Left = 800"]
[null,null,null,null,"wgr.Shapes(\"copy_inf\").Top = 5"]
[null,null,null,null,"wst.Range(wst.Columns(16), wst.Columns(17)).ClearContents"]
[null,null,null,null,"wli.Range(wli.Cells(2, 1), wli.Cells(300, 10)).Clear"]
[null,null,null,null,"selgi:"]
["x=4","selgi",null,null,"wgr.Rows(\"1:150\").Clear","wgr.Rows(\"1:150\").Clear"]
[null,null,null,null,"wgr.Rows(\"1:150\").RowHeight = 15","wgr.Rows(\"1:150\").RowHeight = 15"]
[null,null,null,null,"wgr.Shapes(\"copy_cal_sup\").Left = 800","wgr.Shapes(\"copy_cal_sup\").Left = 800"]
[null,null,null,null,"wgr.Shapes(\"copy_cal_sup\").Top = 35","wgr.Shapes(\"copy_cal_sup\").Top = 35"]
[null,null,null,null,"wgr.Shapes(\"copy_sup\").Left = 800","wgr.Shapes(\"copy_sup\").Left = 800"]
[null,null,null,null,"wgr.Shapes(\"copy_sup\").Top = 65","wgr.Shapes(\"copy_sup\").Top = 65"]
[null,null,null,null,"wgr.Cells.Font.Size = 8","wgr.Cells.Font.Size = 8"]
[null,null,null,null,"foigi:"]
["x=6","foigi",null,null,"Call DelLines(\"Gr.inferioare\")","Call DelLines(\"Gr.inferioare\")"]
[null,null,null,null,"selgs:"]
[null,null,null,null,"foigs:"]
["x=7","selgs","x=9","foigs","Call DelLines(\"Gr.superioare\")","Call DelLines(\"Gr.superioare\")","Call DelLines(\"Gr.superioare\")"]
[null,null,null,null,"Call CopySheet(\"T\", \"Tabel\")","Call CopySheet(\"T\", \"Tabel\")","Call CopySheet(\"T\", \"Tabel\")"]
[null,null,null,null,"Call InitEall","Call InitEall","Call InitEall"]
[null,null,null,null,"Call HideSheets(5 + wgr.Index)","Call HideSheets(5 + wgr.Index)","Call HideSheets(5 + wgr.Index)"]
[null,null,null,null,"wli.Range(wli.Cells(2, 11), wli.Cells(300, 18)).Clear","wli.Range(wli.Cells(2, 11), wli.Cells(300, 18)).Clear","wli.Range(wli.Cells(2, 11), wli.Cells(300, 18)).Clear"]
[null,null,null,null,"Sheets(\"Forum\").Columns(1).ClearContents","Sheets(\"Forum\").Columns(1).ClearContents","Sheets(\"Forum\").Columns(1).ClearContents"]
[]
[null,null,null,null,"wst.Range(wst.Cells(6, x), wst.Cells(6, 14)).ClearContents","wst.Range(wst.Cells(6, x), wst.Cells(6, 14)).ClearContents","wst.Range(wst.Cells(6, x), wst.Cells(6, 14)).ClearContents"]
[]
[]
[]
[]
["a","b","c","d","e","f","g","h","i","j","k","l","m","n","o","p","q","r","s","t","u","v","x","y","z"]

{"sheet":"Forum","index":2,"n_rows":330,"n_cols":10,"rows_kept":330,"cut":false,"hidden":false,"merged":[]}
[null,"|",null,"|",null,"|",null,"|",null,"|"]
[null,"|",null,"|",null,"|",null,"|",null,"|"]
[null,"|",null,"|",null,"|",null,"|",null,"|"]
[null,"|",null,"|",null,"|",null,"|",null,"|"]
[null,"|",null,"|",null,"|",null,"|",null,"|"]
[null,"|",null,"|",null,"|",null,"|",null,"|"]
[null,"|",null,"|",null,"|",null,"|",null,"|"]
[null,"|",null,"|",null,"|",null,"|",null,"|"]
[null,"|",null,"|",null,"|",null,"|",null,"|"]
[null,"|",null,"|",null,"|",null,"|",null,"|"]
[null,"|",null,"|",null,"|",null,"|",null,"|"]
[null,"|",null,"|",null,"|",null,"|",null,"|"]
[null,"|",null,"|",null,"|",null,"|",null,"|"]
[null,"|",null,"|",null,"|",null,"|",null,"|"]
[null,"|",null,"|",null,"|",null,"|",null,"|"]
[null,"|",null,"|",null,"|",null,"|",null,"|"]
[null,"|",null,"|",null,"|",null,"|",null,"|"]
[null,"|",null,"|",null,"|",null,"|",null,"|"]
[null,"|",null,"|",null,"|",null,"|",null,"|"]
[null,"|",null,"|",null,"|",null,"|",null,"|"]
[null,"|",null,"|",null,"|",null,"|",null,"|"]
[null,"|",null,"|",null,"|",null,"|",null,"|"]
[null,"|",null,"|",null,"|",null,"|",null,"|"]
[null,"|",null,"|",null,"|",null,"|",null,"|"]
[null,"|",null,"|",null,"|",null,"|",null,"|"]
[null,"|",null,"|",null,"|",null,"|",null,"|"]
[null,"|",null,"|",null,"|",null,"|",null,"|"]
[null,"|",null,"|",null,"|",null,"|",null,"|"]
[null,"|",null,"|",null,"|",null,"|",null,"|"]
[null,"|",null,"|",null,"|",null,"|",null,"|"]
[null,"|",null,"|",null,"|",null,"|",null,"|"]
[null,"|",null,"|",null,"|",null,"|",null,"|"]
[null,"|",null,"|",null,"|",null,"|",null,"|"]
[null,"|",null,"|",null,"|",null,"|",null,"|"]
[null,"|",null,"|",null,"|",null,"|",null,"|"]
[null,"|",null,"|",null,"|",null,"|",null,"|"]
[null,"|",null,"|",null,"|",null,"|",null,"|"]
[null,"|",null,"|",null,"|",null,"|",null,"|"]
[null,"|",null,"|",null,"|",null,"|",null,"|"]
[null,"|",null,"|",null,"|",null,"|",null,"|"]
[null,"|",null,"|",null,"|",null,"|",null,"|"]
[null,"|",null,"|",null,"|",null,"|",null,"|"]
[null,"|",null,"|",null,"|",null,"|",null,"|"]
[null,"|",null,"|",null,"|",null,"|",null,"|"]
[null,"|",null,"|",null,"|",null,"|",null,"|"]
[null,"|",null,"|",null,"|",null,"|",null,"|"]
[null,"|",null,"|",null,"|",null,"|",null,"|"]
[null,"|",null,"|",null,"|",null,"|",null,"|"]
[null,"|",null,"|",null,"|",null,"|",null,"|"]
[null,"|",null,"|",null,"|",null,"|",null,"|"]
[null,"|",null,"|",null,"|",null,"|",null,"|"]
[null,"|",null,"|",null,"|",null,"|",null,"|"]
[null,"|",null,"|",null,"|",null,"|",null,"|"]
[null,"|",null,"|",null,"|",null,"|",null,"|"]
[null,"|",null,"|",null,"|",null,"|",null,"|"]
[null,"|",null,"|",null,"|",null,"|",null,"|"]
[null,"|",null,"|",null,"|",null,"|",null,"|"]
[null,"|",null,"|",null,"|",null,"|",null,"|"]
[null,"|",null,"|",null,"|",null,"|",null,"|"]
[null,"|",null,"|",null,"|",null,"|",null,"|"]
[null,"|",null,"|",null,"|",null,"|",null,"|"]
[null,"|",null,"|",null,"|",null,"|",null,"|"]
[null,"|",null,"|",null,"|",null,"|",null,"|"]
[null,"|",null,"|",null,"|",null,"|",null,"|"]
[null,"|",null,"|",null,"|",null,"|",null,"|"]
[null,"|",null,"|",null,"|",null,"|",null,"|"]
[null,"|",null,"|",null,"|",null,"|",null,"|"]
[null,"|",null,"|",null,"|",null,"|",null,"|"]
[null,"|",null,"|",null,"|",null,"|",null,"|"]
[null,"|",null,"|",null,"|",null,"|",null,"|"]
[null,"|",null,"|",null,"|",null,"|",null,"|"]
[null,"|",null,"|",null,"|",null,"|",null,"|"]
[null,"|",null,"|",null,"|",null,"|",null,"|"]
[null,"|",null,"|",null,"|",null,"|",null,"|"]
[null,"|",null,"|",null,"|",null,"|",null,"|"]
[null,"|",null,"|",null,"|",null,"|",null,"|"]
[null,"|",null,"|",null,"|",null,"|",null,"|"]
[null,"|",null,"|",null,"|",null,"|",null,"|"]
[null,"|",null,"|",null,"|",null,"|",null,"|"]
[null,"|",null,"|",null,"|",null,"|",null,"|"]
[null,"|",null,"|",null,"|",null,"|",null,"|"]
[null,"|",null,"|",null,"|",null,"|",null,"|"]
[null,"|",null,"|",null,"|",null,"|",null,"|"]
[null,"|",null,"|",null,"|",null,"|",null,"|"]
[null,"|",null,"|",null,"|",null,"|",null,"|"]
[null,"|",null,"|",null,"|",null,"|",null,"|"]
[null,"|",null,"|",null,"|",null,"|",null,"|"]
[null,"|",null,"|",null,"|",null,"|",null,"|"]
[null,"|",null,"|",null,"|",null,"|",null,"|"]
[null,"|",null,"|",null,"|",null,"|",null,"|"]
[null,"|",null,"|",null,"|",null,"|",null,"|"]
[null,"|",null,"|",null,"|",null,"|",null,"|"]
[null,"|",null,"|",null,"|",null,"|",null,"|"]
[null,"|",null,"|",null,"|",null,"|",null,"|"]
[null,"|",null,"|",null,"|",null,"|",null,"|"]
[null,"|",null,"|",null,"|",null,"|",null,"|"]
[null,"|",null,"|",null,"|",null,"|",null,"|"]
[null,"|",null,"|",null,"|",null,"|",null,"|"]
[null,"|",null,"|",null,"|",null,"|",null,"|"]
[null,"|",null,"|",null,"|",null,"|",null,"|"]
[null,"|",null,"|",null,"|",null,"|",null,"|"]
[null,"|",null,"|",null,"|",null,"|",null,"|"]
[null,"|",null,"|",null,"|",null,"|",null,"|"]
[null,"|",null,"|",null,"|",null,"|",null,"|"]
[null,"|",null,"|",null,"|",null,"|",null,"|"]
[null,"|",null,"|",null,"|",null,"|",null,"|"]
[null,"|",null,"|",null,"|",null,"|",null,"|"]
[null,"|",null,"|",null,"|",null,"|",null,"|"]
[null,"|",null,"|",null,"|",null,"|",null,"|"]
[null,"|",null,"|",null,"|",null,"|",null,"|"]
[null,"|",null,"|",null,"|",null,"|",null,"|"]
[null,"|",null,"|",null,"|",null,"|",null,"|"]
[null,"|",null,"|",null,"|",null,"|",null,"|"]
[null,"|",null,"|",null,"|",null,"|",null,"|"]
[null,"|",null,"|",null,"|",null,"|",null,"|"]
[null,"|",null,"|",null,"|",null,"|",null,"|"]
[null,"|",null,"|",null,"|",null,"|",null,"|"]
[null,"|",null,"|",null,"|",null,"|",null,"|"]
[null,"|",null,"|",null,"|",null,"|",null,"|"]
[null,"|",null,"|",null,"|",null,"|",null,"|"]
[null,"|",null,"|",null,"|",null,"|",null,"|"]
[null,"|",null,"|",null,"|",null,"|",null,"|"]
[null,"|",null,"|",null,"|",null,"|",null,"|"]
[null,"|",null,"|",null,"|",null,"|",null,"|"]
[null,"|",null,"|",null,"|",null,"|",null,"|"]
[null,"|",null,"|",null,"|",null,"|",null,"|"]
[null,"|",null,"|",null,"|",null,"|",null,"|"]
[null,"|",null,"|",null,"|",null,"|",null,"|"]
[null,"|",null,"|",null,"|",null,"|",null,"|"]
[null,"|",null,"|",null,"|",null,"|",null,"|"]
[null,"|",null,"|",null,"|",null,"|",null,"|"]
[null,"|",null,"|",null,"|",null,"|",null,"|"]
[null,"|",null,"|",null,"|",null,"|",null,"|"]
[null,"|",null,"|",null,"|",null,"|",null,"|"]
[null,"|",null,"|",null,"|",null,"|",null,"|"]
[null,"|",null,"|",null,"|",null,"|",null,"|"]
[null,"|",null,"|",null,"|",null,"|",null,"|"]
[null,"|",null,"|",null,"|",null,"|",null,"|"]
[null,"|",null,"|",null,"|",null,"|",null,"|"]
[null,"|",null,"|",null,"|",null,"|",null,"|"]
[null,"|",null,"|",null,"|",null,"|",null,"|"]
[null,"|",null,"|",null,"|",null,"|",null,"|"]
[null,"|",null,"|",null,"|",null,"|",null,"|"]
[null,"|",null,"|",null,"|",null,"|",null,"|"]
[null,"|",null,"|",null,"|",null,"|",null,"|"]
[null,"|",null,"|",null,"|",null,"|",null,"|"]
[null,"|",null,"|",null,"|",null,"|",null,"|"]
[null,"|",null,"|",null,"|",null,"|",null,"|"]
[null,"|",null,"|",null,"|",null,"|",null,"|"]
[null,"|",null,"|",null,"|",null,"|",null,"|"]
[null,"|",null,"|",null,"|",null,"|",null,"|"]
[null,"|",null,"|",null,"|",null,"|",null,"|"]
[null,"|",null,"|",null,"|",null,"|",null,"|"]
[null,"|",null,"|",null,"|",null,"|",null,"|"]
[null,"|",null,"|",null,"|",null,"|",null,"|"]
[null,"|",null,"|",null,"|",null,"|",null,"|"]
[null,"|",null,"|",null,"|",null,"|",null,"|"]
[null,"|",null,"|",null,"|",null,"|",null,"|"]
[null,"|",null,"|",null,"|",null,"|",null,"|"]
[null,"|",null,"|",null,"|",null,"|",null,"|"]
[null,"|",null,"|",null,"|",null,"|",null,"|"]
[null,"|",null,"|",null,"|",null,"|",null,"|"]
[null,"|",null,"|",null,"|",null,"|",null,"|"]
[null,"|",null,"|",null,"|",null,"|",null,"|"]
[null,"|",null,"|",null,"|",null,"|",null,"|"]
[null,"|",null,"|",null,"|",null,"|",null,"|"]
[null,"|",null,"|",null,"|",null,"|",null,"|"]
[null,"|",null,"|",null,"|",null,"|",null,"|"]
[null,"|",null,"|",null,"|",null,"|",null,"|"]
[null,"|",null,"|",null,"|",null,"|",null,"|"]
[null,"|",null,"|",null,"|",null,"|",null,"|"]
[null,"|",null,"|",null,"|",null,"|",null,"|"]
[null,"|",null,"|",null,"|",null,"|",null,"|"]
[null,"|",null,"|",null,"|",null,"|",null,"|"]
[null,"|",null,"|",null,"|",null,"|",null,"|"]
[null,"|",null,"|",null,"|",null,"|",null,"|"]
[null,"|",null,"|",null,"|",null,"|",null,"|"]
[null,"|",null,"|",null,"|",null,"|",null,"|"]
[null,"|",null,"|",null,"|",null,"|",null,"|"]
[null,"|",null,"|",null,"|",null,"|",null,"|"]
[null,"|",null,"|",null,"|",null,"|",null,"|"]
[null,"|",null,"|",null,"|",null,"|",null,"|"]
[null,"|",null,"|",null,"|",null,"|",null,"|"]
[null,"|",null,"|",null,"|",null,"|",null,"|"]
[null,"|",null,"|",null,"|",null,"|",null,"|"]
[null,"|",null,"|",null,"|",null,"|",null,"|"]
[null,"|",null,"|",null,"|",null,"|",null,"|"]
[null,"|",null,"|",null,"|",null,"|",null,"|"]
[null,"|",null,"|",null,"|",null,"|",null,"|"]
[null,"|",null,"|",null,"|",null,"|",null,"|"]
[null,"|",null,"|",null,"|",null,"|",null,"|"]
[null,"|",null,"|",null,"|",null,"|",null,"|"]
[null,"|",null,"|",null,"|",null,"|",null,"|"]
[null,"|",null,"|",null,"|",null,"|",null,"|"]
[null,"|",null,"|",null,"|",null,"|",null,"|"]
[null,"|",null,"|",null,"|",null,"|",null,"|"]
[null,"|",null,"|",null,"|",null,"|",null,"|"]
[null,"|",null,"|",null,"|",null,"|",null,"|"]
[null,"|",null,"|",null,"|",null,"|",null,"|"]
[null,"|",null,"|",null,"|",null,"|",null,"|"]
[null,"|",null,"|",null,"|",null,"|",null,"|"]
[null,"|",null,"|",null,"|",null,"|",null,"|"]
[null,"|",null,"|",null,"|",null,"|",null,"|"]
[null,"|",null,"|",null,"|",null,"|",null,"|"]
[null,"|",null,"|",null,"|",null,"|",null,"|"]
[null,"|",null,"|",null,"|",null,"|",null,"|"]
[null,"|",null,"|",null,"|",null,"|",null,"|"]
[null,"|",null,"|",null,"|",null,"|",null,"|"]
[null,"|",null,"|",null,"|",null,"|",null,"|"]
[null,"|",null,"|",null,"|",null,"|",null,"|"]
[null,"|",null,"|",null,"|",null,"|",null,"|"]
[null,"|",null,"|",null,"|",null,"|",null,"|"]
[null,"|",null,"|",null,"|",null,"|",null,"|"]
[null,"|",null,"|",null,"|",null,"|",null,"|"]
[null,"|",null,"|",null,"|",null,"|",null,"|"]
[null,"|",null,"|",null,"|",null,"|",null,"|"]
[null,"|",null,"|",null,"|",null,"|",null,"|"]
[null,"|",null,"|",null,"|",null,"|",null,"|"]
[null,"|",null,"|",null,"|",null,"|",null,"|"]
[null,"|",null,"|",null,"|",null,"|",null,"|"]
[null,"|",null,"|",null,"|",null,"|",null,"|"]
[null,"|",null,"|",null,"|",null,"|",null,"|"]
[null,"|",null,"|",null,"|",null,"|",null,"|"]
[null,"|",null,"|",null,"|",null,"|",null,"|"]
[null,"|",null,"|",null,"|",null,"|",null,"|"]
[null,"|",null,"|",null,"|",null,"|",null,"|"]
[null,"|",null,"|",null,"|",null,"|",null,"|"]
[null,"|",null,"|",null,"|",null,"|",null,"|"]
[null,"|",null,"|",null,"|",null,"|",null,"|"]
[null,"|",null,"|",null,"|",null,"|",null,"|"]
[null,"|",null,"|",null,"|",null,"|",null,"|"]
[null,"|",null,"|",null,"|",null,"|",null,"|"]
[null,"|",null,"|",null,"|",null,"|",null,"|"]
[null,"|",null,"|",null,"|",null,"|",null,"|"]
[null,"|",null,"|",null,"|",null,"|",null,"|"]
[null,"|",null,"|",null,"|",null,"|",null,"|"]
[null,"|",null,"|",null,"|",null,"|",null,"|"]
[null,"|",null,"|",null,"|",null,"|",null,"|"]
[null,"|",null,"|",null,"|",null,"|",null,"|"]
[null,"|",null,"|",null,"|",null,"|",null,"|"]
[null,"|",null,"|",null,"|",null,"|",null,"|"]
[null,"|",null,"|",null,"|",null,"|",null,"|"]
[null,"|",null,"|",null,"|",null,"|",null,"|"]
[null,"|",null,"|",null,"|",null,"|",null,"|"]
[null,"|",null,"|",null,"|",null,"|",null,"|"]
[null,"|",null,"|",null,"|",null,"|",null,"|"]
[null,"|",null,"|",null,"|",null,"|",null,"|"]
[null,"|",null,"|",null,"|",null,"|",null,"|"]
[null,"|",null,"|",null,"|",null,"|",null,"|"]
[null,"|",null,"|",null,"|",null,"|",null,"|"]
[null,"|",null,"|",null,"|",null,"|",null,"|"]
[null,"|",null,"|",null,"|",null,"|",null,"|"]
[null,"|",null,"|",null,"|",null,"|",null,"|"]
[null,"|",null,"|",null,"|",null,"|",null,"|"]
[null,"|",null,"|",null,"|",null,"|",null,"|"]
[null,"|",null,"|",null,"|",null,"|",null,"|"]
[null,"|",null,"|",null,"|",null,"|",null,"|"]
[null,"|",null,"|",null,"|",null,"|",null,"|"]
[null,"|",null,"|",null,"|",null,"|",null,"|"]
[null,"|",null,"|",null,"|",null,"|",null,"|"]
[null,"|",null,"|",null,"|",null,"|",null,"|"]
[null,"|",null,"|",null,"|",null,"|",null,"|"]
[null,"|",null,"|",null,"|",null,"|",null,"|"]
[null,"|",null,"|",null,"|",null,"|",null,"|"]
[null,"|",null,"|",null,"|",null,"|",null,"|"]
[null,"|",null,"|",null,"|",null,"|",null,"|"]
[null,"|",null,"|",null,"|",null,"|",null,"|"]
[null,"|",null,"|",null,"|",null,"|",null,"|"]
[null,"|",null,"|",null,"|",null,"|",null,"|"]
[null,"|",null,"|",null,"|",null,"|",null,"|"]
[null,"|",null,"|",null,"|",null,"|",null,"|"]
[null,"|",null,"|",null,"|",null,"|",null,"|"]
[null,"|",null,"|",null,"|",null,"|",null,"|"]
[null,"|",null,"|",null,"|",null,"|",null,"|"]
[null,"|",null,"|",null,"|",null,"|",null,"|"]
[null,"|",null,"|",null,"|",null,"|",null,"|"]
[null,"|",null,"|",null,"|",null,"|",null,"|"]
[null,"|",null,"|",null,"|",null,"|",null,"|"]
[null,"|",null,"|",null,"|",null,"|",null,"|"]
[null,"|",null,"|",null,"|",null,"|",null,"|"]
[null,"|",null,"|",null,"|",null,"|",null,"|"]
[null,"|",null,"|",null,"|",null,"|",null,"|"]
[null,"|",null,"|",null,"|",null,"|",null,"|"]
[null,"|",null,"|",null,"|",null,"|",null,"|"]
[null,"|",null,"|",null,"|",null,"|",null,"|"]
[null,"|",null,"|",null,"|",null,"|",null,"|"]
[null,"|",null,"|",null,"|",null,"|",null,"|"]
[null,"|",null,"|",null,"|",null,"|",null,"|"]
[null,"|",null,"|",null,"|",null,"|",null,"|"]
[null,"|",null,"|",null,"|",null,"|",null,"|"]
[null,"|",null,"|",null,"|",null,"|",null,"|"]
[null,"|",null,"|",null,"|",null,"|",null,"|"]
[null,"|",null,"|",null,"|",null,"|",null,"|"]
[null,"|",null,"|",null,"|",null,"|",null,"|"]
[null,"|",null,"|",null,"|",null,"|",null,"|"]
[null,"|",null,"|",null,"|",null,"|",null,"|"]
[null,"|",null,"|",null,"|",null,"|",null,"|"]
[null,"|",null,"|",null,"|",null,"|",null,"|"]
[null,"|",null,"|",null,"|",null,"|",null,"|"]
[null,"|",null,"|",null,"|",null,"|",null,"|"]
[null,"|",null,"|",null,"|",null,"|",null,"|"]
[null,"|",null,"|",null,"|",null,"|",null,"|"]
[null,"|",null,"|",null,"|",null,"|",null,"|"]
[null,"|",null,"|",null,"|",null,"|",null,"|"]
[null,"|",null,"|",null,"|",null,"|",null,"|"]
[null,"|",null,"|",null,"|",null,"|",null,"|"]
[null,"|",null,"|",null,"|",null,"|",null,"|"]
[null,"|",null,"|",null,"|",null,"|",null,"|"]
[null,"|",null,"|",null,"|",null,"|",null,"|"]
[null,"|",null,"|",null,"|",null,"|",null,"|"]
[null,"|",null,"|",null,"|",null,"|",null,"|"]
[null,"|",null,"|",null,"|",null,"|",null,"|"]
[null,"|",null,"|",null,"|",null,"|",null,"|"]
[null,"|",null,"|",null,"|",null,"|",null,"|"]
[null,"|",null,"|",null,"|",null,"|",null,"|"]
[null,"|",null,"|",null,"|",null,"|",null,"|"]
[null,"|",null,"|",null,"|",null,"|",null,"|"]
[null,"|",null,"|",null,"|",null,"|",null,"|"]
[null,"|",null,"|",null,"|",null,"|",null,"|"]
[null,"|",null,"|",null,"|",null,"|",null,"|"]
[null,"|",null,"|",null,"|",null,"|",null,"|"]
[null,"|",null,"|",null,"|",null,"|",null,"|"]
[null,"|",null,"|",null,"|",null,"|",null,"|"]
[null,"|",null,"|",null,"|",null,"|",null,"|"]
[null,"|",null,"|",null,"|",null,"|",null,"|"]
[null,"|",null,"|",null,"|",null,"|",null,"|"]
[null,"|",null,"|",null,"|",null,"|",null,"|"]
[null,"|",null,"|",null,"|",null,"|",null,"|"]
[null,"|",null,"|",null,"|",null,"|",null,"|"]
[null,"|",null,"|",null,"|",null,"|",null,"|"]

{"sheet":"Print","index":3,"n_rows":229,"n_cols":11,"rows_kept":229,"cut":false,"hidden":false,"merged":[[3,0,3,8],[2,0,2,8]]}
["     Subsemnatul(a) ... conform tabel ... declar pe propria răspundere că:"]
["- Am luat la cunoștință și sunt de acord cu Regulamentul AmaTur 2025;",null,null,null,null,null,null,null,null,null,"Puteti modifica textul, dar ..."]
["- Nu sufăr de nici o afecțiune care să îmi pericliteze starea de sănătate în timpul desfăsurării competiției și îmi asum întreaga responsabilitate în ceea ce privește participarea mea la Turneul: ",null,null,null,null,null,null,null,null,null,"Nu stergeti randuri sau coloane !!"]
[{"$f":"Start!$A$1 &\" \" &Start!$C$1 &\" - \" &Start!$D$1","v":"turneu data - Elite"}]
["Nr.","Nume si prenume","Localitate","Loc","MP","Cat","Taxa","Observatii","Semnatura",null,"Inainte de a scoate la imprimanta, verificati setarile acesteia!"]
[1,null,null,null,null,null,null,null,null,null,"Print Preview --> urmariti incadrarea corecta in pagina, eventual mai trageti de margini."]
[2,null,null,null,null,null,null,null,null,null,"Pagina este setata pe Portrait si trebuie sa incapa cele 9 coloane cu 36 jucatori/pagina"]
[3]
[4]
[5]
[6]
[7]
[8]
[9]
[10]
[11]
[12]
[13]
[14]
[15]
[16]
[17]
[18]
[19]
[20]
[21]
[22]
[23]
[24]
[25]
[26]
[27]
[28]
[29]
[30]
[31]
[32]
[33]
[34]
[35]
[36]
[37]
[38]
[39]
[40]
[41]
[42]
[43]
[44]
[45]
[46]
[47]
[48]
[49]
[50]
[51]
[52]
[53]
[54]
[55]
[56]
[57]
[58]
[59]
[60]
[61]
[62]
[63]
[64]
[65]
[66]
[67]
[68]
[69]
[70]
[71]
[72]
[73]
[74]
[75]
[76]
[77]
[78]
[79]
[80]
[81]
[82]
[83]
[84]
[85]
[86]
[87]
[88]
[89]
[90]
[91]
[92]
[93]
[94]
[95]
[96]
[97]
[98]
[99]
[100]
[101]
[102]
[103]
[104]
[105]
[106]
[107]
[108]
[109]
[110]
[111]
[112]
[113]
[114]
[115]
[116]
[117]
[118]
[119]
[120]
[121]
[122]
[123]
[124]
[125]
[126]
[127]
[128]
[129]
[130]
[131]
[132]
[133]
[134]
[135]
[136]
[137]
[138]
[139]
[140]
[141]
[142]
[143]
[144]
[145]
[146]
[147]
[148]
[149]
[150]
[151]
[152]
[153]
[154]
[155]
[156]
[157]
[158]
[159]
[160]
[161]
[162]
[163]
[164]
[165]
[166]
[167]
[168]
[169]
[170]
[171]
[172]
[173]
[174]
[175]
[176]
[177]
[178]
[179]
[180]
[181]
[182]
[183]
[184]
[185]
[186]
[187]
[188]
[189]
[190]
[191]
[192]
[193]
[194]
[195]
[196]
[197]
[198]
[199]
[200]
[201]
[202]
[203]
[204]
[205]
[206]
[207]
[208]
[209]
[210]
[211]
[212]
[213]
[214]
[215]
[216]
[217]
[218]
[219]
[220]
[221]
[222]
[223]
[224]

{"sheet":"K","index":4,"n_rows":5175,"n_cols":37,"rows_kept":4500,"cut":true,"hidden":false,"merged":[],"bounds":{"rows_first":2000,"rows_last":500,"rows_between":2000,"halvings":0}}
[3,null,null,null,null,null,null,"2--3","1--3","1--2",null,null,"1--4",null,"Aiud","AB",null,null,null,"Nume_si_prenume","Localitate",null,null,null,null,null,null,null,null,null,null,"P"]
[null,null,null,null,null,null,null,null,null,null,null,"2--3","2--3",null,"Alba Iulia","AB",null,null,null,"Ababei Razvan","Iasi",null,null,null,1,1,1,1,"s1",null,"E",1]
[null,null,null,null,null,null,null,null,null,null,null,"1--3","1--3",null,"Blaj","AB",null,null,null,"Abdi Shenol","Bucuresti",null,null,null,{"$f":"REPT(\"-\",20)","v":"--------------------"},{"$f":"REPT(\"-\",20)","v":"--------------------"},{"$f":"REPT(\"-\",20)","v":"--------------------"},{"$f":"REPT(\"-\",20)","v":"--------------------"},"s1",null,"O",2]
[null,null,null,null,null,null,null,null,null,null,null,null,"2--4",null,"Cergau Mare","AB",null,null,null,"Abuziloae Bogdan","Floresti",null,null,null,64,32,16,8,"s1",null,"A",3]
[null,null,null,null,null,null,null,null,null,null,null,"1--2","1--2",null,"Cugir","AB",null,null,null,"Acasandrei Cosmin","Mangalia",null,null,null,{"$f":"REPT(\"-\",35)","v":"-----------------------------------"},{"$f":"REPT(\"-\",35)","v":"-----------------------------------"},{"$f":"REPT(\"-\",35)","v":"-----------------------------------"},{"$f":"REPT(\"-\",35)","v":"-----------------------------------"},"s1",null,"H",4]
[4,null,null,null,null,null,null,"1--4","1--3","1--2",null,null,"3--4",null,"Fenes","AB",null,null,null,"Acatrinei Ciprian","Iasi",null,null,null,33,17,9,5,"s1"]
[4,null,null,null,null,null,null,"2--3","2--4","3--4",null,null,null,null,"Jidvei","AB",null,null,null,"Acatrinei Daniel","Iasi",null,null,null,{"$f":"REPT(\"-\",20)","v":"--------------------"},{"$f":"REPT(\"-\",20)","v":"--------------------"},{"$f":"REPT(\"-\",20)","v":"--------------------"},{"$f":"REPT(\"-\",20)","v":"--------------------"},"s1"]
[null,null,null,null,null,null,null,null,null,null,null,null,null,null,"Razboieni","AB",null,null,null,"Acatrinei Lucian","Bucuresti",null,null,null,32,16,8,4,"s1"]
[null,null,null,null,null,null,null,null,null,null,null,null,null,null,"Rosia Montana","AB",null,null,null,"Achim Paul","Arad",null,null,null,{"$f":"REPT(\"-\",50)","v":"--------------------------------------------------"},{"$f":"REPT(\"-\",50)","v":"--------------------------------------------------"},{"$f":"REPT(\"-\",50)","v":"--------------------------------------------------"},{"$f":"REPT(\"-\",50)","v":"--------------------------------------------------"},"s1"]
[null,null,null,null,null,null,null,null,null,null,null,null,null,null,"Salciua","AB",null,null,null,"Achirei Paul","Simeria",null,null,null,17,9,5,3,"s1"]
[5,null,null,null,null,"2--5","1--5","1--4","2--4","4--5",null,null,null,null,"Santimbru AB","AB",null,null,null,"Acquistapace Santiago","Lombardia Italia",null,null,null,{"$f":"REPT(\"-\",20)","v":"--------------------"},{"$f":"REPT(\"-\",20)","v":"--------------------"},{"$f":"REPT(\"-\",20)","v":"--------------------"},{"$f":"REPT(\"-\",20)","v":"--------------------"},"s1"]
[5,null,null,null,null,"3--4","2--3","3--5","1--3","1--2",null,null,null,null,"Stremt","AB",null,null,null,"Acriva Marian","Mizil",null,null,null,48,24,12,6,"s1"]
[null,null,null,null,null,null,null,null,null,null,null,null,null,null,"Teius","AB",null,null,null,"Acsinte Andrei","Roman",null,null,null,{"$f":"REPT(\"-\",35)","v":"-----------------------------------"},{"$f":"REPT(\"-\",35)","v":"-----------------------------------"},{"$f":"REPT(\"-\",35)","v":"-----------------------------------"},{"$f":"REPT(\"-\",35)","v":"-----------------------------------"},"s1"]
[null,null,null,null,null,null,null,null,null,null,null,null,null,null,"Vintu de Jos","AB",null,null,null,"Acsinte Oana","Bucuresti",null,null,null,49,25,13,7,"s1"]
[null,null,null,null,null,null,null,null,null,null,null,null,null,null,"Zlatna","AB",null,null,null,"Acu Paul","Bucuresti",null,null,null,{"$f":"REPT(\"-\",20)","v":"--------------------"},{"$f":"REPT(\"-\",20)","v":"--------------------"},{"$f":"REPT(\"-\",20)","v":"--------------------"},{"$f":"REPT(\"-\",20)","v":"--------------------"},"s1"]
[6,null,null,null,null,"1--6","1--5","1--4","1--3","1--2",null,null,null,null,"Bughea de Jos","AG",null,null,null,"Acu Rares","Bucuresti",null,null,null,16,8,4,2,"s1",null,1,2,3,4,5,6]
[6,null,null,null,null,"2--5","4--6","3--5","2--4","3--6",null,null,null,null,"Buzoesti","AG",null,null,null,"Adam Cristian","Navodari",null,null,null,{"$f":"REPT(\"-\",65)","v":"-----------------------------------------------------------------"},{"$f":"REPT(\"-\",65)","v":"-----------------------------------------------------------------"},{"$f":"REPT(\"-\",65)","v":"-----------------------------------------------------------------"},null,"s1",null,0,1,2,2,1,0]
[6,null,null,null,null,"3--4","2--3","2--6","5--6","4--5",null,null,null,null,"Calinesti Arges","AG",null,null,null,"Adam Florin","Targoviste",null,null,null,9,5,3,null,"s1",null,2,3,2,1,1,3]
[null,null,null,null,null,null,null,null,null,null,null,null,null,null,"Campulung Muscel","AG",null,null,null,"Adamosi Klaudia","Targu Mures",null,null,null,{"$f":"REPT(\"-\",20)","v":"--------------------"},{"$f":"REPT(\"-\",20)","v":"--------------------"},{"$f":"REPT(\"-\",20)","v":"--------------------"},null,"s1",null,2,2,1,1,3,3]
[null,null,null,null,null,null,null,null,null,null,null,null,null,null,"Cateasca","AG",null,null,null,"Adeaconitei Gigel","Adjud",null,null,null,56,28,14,null,"s1",null,2,1,1,3,3,2]
[7,null,null,"2--7","1--7","1--6","1--5","1--4","1--3","1--2",null,null,null,null,"Cosesti","AG",null,null,null,"Aden Erduan","Constanta",null,null,null,{"$f":"REPT(\"-\",35)","v":"-----------------------------------"},{"$f":"REPT(\"-\",35)","v":"-----------------------------------"},{"$f":"REPT(\"-\",35)","v":"-----------------------------------"},null,"s1",null,2,1,3,3,2,1]
[7,null,null,"3--6","2--5","5--7","4--6","3--5","2--4","5--6",null,null,null,null,"Costesti","AG",null,null,null,"Aga Alexandru","Botosani",null,null,null,41,21,11,null,"s1"]
[7,null,null,"4--5","3--4","2--3","3--7","2--6","6--7","4--7",null,null,null,null,"Curtea de Arges","AG",null,null,null,"Aga Petrica","Putna",null,null,null,{"$f":"REPT(\"-\",20)","v":"--------------------"},{"$f":"REPT(\"-\",20)","v":"--------------------"},{"$f":"REPT(\"-\",20)","v":"--------------------"},null,"s1",null,1,2,3,4,5,6,7]
[null,null,null,null,null,null,null,null,null,null,null,null,null,null,"Domnesti AG","AG",null,null,null,"Agache Sorin","Navodari",null,null,null,24,12,6,null,"s1",null,3,0,1,2,2,1,0]
[null,null,null,null,null,null,null,null,null,null,null,null,null,null,"Leordeni","AG",null,null,null,"Aherghelegitei Mihai","Dumbraveni SB",null,null,null,{"$f":"REPT(\"-\",50)","v":"--------------------------------------------------"},{"$f":"REPT(\"-\",50)","v":"--------------------------------------------------"},{"$f":"REPT(\"-\",50)","v":"--------------------------------------------------"},null,"s1",null,2,3,3,2,1,4,2]
[8,null,null,"1--8","1--7","1--6","1--5","1--4","1--3","1--2",null,null,null,null,"Maracineni","AG",null,null,null,"Aiben Robert","Tasnad",null,null,null,25,13,7,null,"s1",null,2,3,2,4,2,3,3]
[8,null,null,"2--7","8--6","7--5","6--4","5--3","4--2","3--8",null,null,null,null,"Mioveni","AG",null,null,null,"Aihan Velula","Constanta",null,null,null,{"$f":"REPT(\"-\",20)","v":"--------------------"},{"$f":"REPT(\"-\",20)","v":"--------------------"},{"$f":"REPT(\"-\",20)","v":"--------------------"},null,"s1",null,2,5,2,1,1,3,3]
[8,null,null,"3--6","2--5","8--4","7--3","6--2","5--8","4--7",null,null,null,null,"Pitesti","AG",null,null,null,"Ailioaie Gheorghe","Comanesti",null,null,null,40,20,10,null,"s1",null,2,1,1,3,3,2,5]
[8,null,null,"4--5","3--4","2--3","8--2","7--8","6--7","5--6",null,null,null,null,"Stefanesti Arges","AG",null,null,null,"Ailioaie Ionut","Comanesti",null,null,null,{"$f":"REPT(\"-\",35)","v":"-----------------------------------"},{"$f":"REPT(\"-\",35)","v":"-----------------------------------"},{"$f":"REPT(\"-\",35)","v":"-----------------------------------"},null,"s1",null,2,1,1,3,5,1,2]
[null,null,null,null,null,null,null,null,null,null,null,null,null,null,"Topoloveni","AG",null,null,null,"Aizner Imre","Ludus",null,null,null,57,29,15,null,"s1",null,2,2,5,0,1,1,0]
[9,"2--9","1--9","1--8","1--7","1--6","1--5","1--4","1--3","1--2",null,null,null,null,"Alunis","AR",null,null,null,"Aksic Radovan","Belgrad",null,null,null,{"$f":"REPT(\"-\",20)","v":"--------------------"},{"$f":"REPT(\"-\",20)","v":"--------------------"},{"$f":"REPT(\"-\",20)","v":"--------------------"},null,"s1"]
[9,"3--8","2--7","9--7","8--6","7--5","6--4","3--5","4--2","4--9",null,null,null,null,"Arad","AR",null,null,null,"Alamorean Viorel","Blaj",null,null,null,8,4,2,null,"s1"]
[9,"4--7","3--6","2--5","9--5","8--4","7--3","2--6","6--9","5--8",null,null,null,null,"Chisineu Cris","AR",null,null,null,"Alb Sorin","Alba Iulia",null,null,null,{"$f":"REPT(\"-\",80)","v":"--------------------------------------------------------------------------------"},{"$f":"REPT(\"-\",80)","v":"--------------------------------------------------------------------------------"}]
[9,"5--6","4--5","3--4","2--3","9--3","8--2","9--8","7--8","6--7",null,null,null,null,"Lipova","AR",null,null,null,"Albescu Constantin Ionut","Bucuresti",null,null,null,5,3,null,null,"s2"]
[null,null,null,null,null,null,null,null,null,null,null,null,null,null,"Pecica","AR",null,null,null,"Alboiu Robert","Botosani",null,null,null,{"$f":"REPT(\"-\",20)","v":"--------------------"},{"$f":"REPT(\"-\",20)","v":"--------------------"},null,null,"s2"]
[10,"1--10","1--9","1--8","1--7","1--6","1--5","1--4","1--3","1--2",null,null,null,null,"Petris","AR",null,null,null,"Albot Nicolae","Moldova-Balti",null,null,null,60,30,null,null,"s2"]
[10,"2--9","10--8","9--7","8--6","7--5","6--4","3--5","4--2","3--10",null,null,null,null,"Ribita","AR",null,null,null,"Albu Alexandra","Pascani",null,null,null,{"$f":"REPT(\"-\",35)","v":"-----------------------------------"},{"$f":"REPT(\"-\",35)","v":"-----------------------------------"},null,null,"s2"]
[10,"3--8","2--7","10--6","9--5","8--4","7--3","2--6","5--10","4--9",null,null,null,null,"Santana","AR",null,null,null,"Albu Catalin","Pascani",null,null,null,37,19,null,null,"s2"]
[10,"4--7","3--6","2--5","10--4","9--3","8--2","10--7","6--9","5--8",null,null,null,null,"Sebis","AR",null,null,null,"Albu Cristian","Iasi",null,null,null,{"$f":"REPT(\"-\",20)","v":"--------------------"},{"$f":"REPT(\"-\",20)","v":"--------------------"},null,null,"s2"]
[10,"5--6","4--5","3--4","2--3","10--2","9--10","9--8","7--8","6--7",null,null,null,null,"Vinga","AR",null,null,null,"Albu Gheorghe","Galati",null,null,null,28,14,null,null,"s2"]
[11,"2--11","1--11","1--10","1--9","1--8","1--7","1--6","1--5","1--4","1--3","1--2",null,null,"Bucuresti","B",null,null,null,"Albu Iulian","Comanesti",null,null,null,{"$f":"REPT(\"-\",50)","v":"--------------------------------------------------"},{"$f":"REPT(\"-\",50)","v":"--------------------------------------------------"},null,null,"s2"]
[11,"3--10","2--9","11--9","10--8","9--7","8--6","7--5","6--4","5--3","4--2","4--11",null,null,"Bacau","BC",null,null,null,"Albu Stefan","Iasi",null,null,null,21,11,null,null,"s2"]
[11,"4--9","3--8","2--7","11--7","10--6","9--5","8--4","7--3","6--2","6--11","5--10",null,null,"Buhusi","BC",null,null,null,"Albu Vlad","Iasi",null,null,null,{"$f":"REPT(\"-\",20)","v":"--------------------"},{"$f":"REPT(\"-\",20)","v":"--------------------"},null,null,"s2"]
[11,"5--8","4--7","3--6","2--5","11--5","10--4","9--3","8--2","8--11","7--10","6--9",null,null,"Comanesti","BC",null,null,null,"Aldea Andrei","Roman",null,null,null,44,22,null,null,"s2"]
[11,"6--7","5--6","4--5","3--4","2--3","11--3","10--2","10--11","9--10","8--9","7--8",null,null,"Darmanesti BC","BC",null,null,null,"Aldea Eduard","Buzau",null,null,null,{"$f":"REPT(\"-\",35)","v":"-----------------------------------"},{"$f":"REPT(\"-\",35)","v":"-----------------------------------"},null,null,"s2"]
[12,"1--12","1--11","1--10","1--9","1--8","1--7","1--6","1--5","1--4","1--3","1--2",null,null,"Huruiesti","BC",null,null,null,"Aldea Sandrino","Comanesti",null,null,null,53,27,null,null,"s2"]
[12,"2--11","12--10","11--9","10--8","9--7","8--6","7--5","6--4","5--3","4--2","3--12",null,null,"Margineni","BC",null,null,null,"Alecu Ianis","Rosiori de Vede",null,null,null,{"$f":"REPT(\"-\",20)","v":"--------------------"},{"$f":"REPT(\"-\",20)","v":"--------------------"},null,null,"s2"]
[12,"3--10","2--9","12--8","11--7","10--6","9--5","8--4","7--3","6--2","5--12","4--11",null,null,"Moinesti","BC",null,null,null,"Aleksey Sergienko","Bucuresti",null,null,null,12,6,null,null,"s2"]
[12,"4--9","3--8","2--7","12--6","11--5","10--4","9--3","8--2","7--12","6--11","5--10",null,null,"Onesti","BC",null,null,null,"Alesteu Cristina","Alexandria",null,null,null,{"$f":"REPT(\"-\",65)","v":"-----------------------------------------------------------------"},{"$f":"REPT(\"-\",65)","v":"-----------------------------------------------------------------"},null,null,"s2"]
[12,"5--8","4--7","3--6","2--5","12--4","11--3","10--2","9--12","8--11","7--10","6--9",null,null,"Ploscuteni","BC",null,null,null,"Alexa Vicol","Zvoristea",null,null,null,13,7,null,null,"s2"]
[12,"6--7","5--6","4--5","3--4","2--3","12--2","11--12","10--11","9--10","8--9","7--8",null,null,"Solont","BC",null,null,null,"Alexandrescu Cristi","Alexandria",null,null,null,{"$f":"REPT(\"-\",20)","v":"--------------------"},{"$f":"REPT(\"-\",20)","v":"--------------------"},null,null,"s2"]
[null,null,null,null,null,null,null,null,null,null,null,null,null,null,"Targu Ocna","BC",null,null,null,"Alexandrescu Eduard","Bucuresti",null,null,null,52,26,null,null,"s2"]
[null,null,null,null,null,null,null,null,null,null,null,null,null,null,"Alesd","BH",null,null,null,"Alexandrescu Ionica","Piatra Neamt",null,null,null,{"$f":"REPT(\"-\",35)","v":"-----------------------------------"},{"$f":"REPT(\"-\",35)","v":"-----------------------------------"},null,null,"s2"]
[null,null,null,null,null,null,null,null,null,null,null,null,null,null,"Almasu Mare","BH",null,null,null,"Alexandrescu Mario","Bucuresti",null,null,null,45,23,null,null,"s2"]
[null,null,null,null,null,null,null,null,null,null,null,null,null,null,"Balc","BH",null,null,null,"Alexandrescu Marius","Voluntari",null,null,null,{"$f":"REPT(\"-\",20)","v":"--------------------"},{"$f":"REPT(\"-\",20)","v":"--------------------"},null,null,"s2"]
[null,null,null,null,null,null,null,null,null,null,null,null,null,null,"Beius","BH",null,null,null,"Alexandrescu Robert","Bucuresti",null,null,null,20,10,null,null,"s2"]
[null,null,null,null,null,null,null,null,null,null,null,null,null,null,"Bratca","BH",null,null,null,"Alexandrescu Vlad Andrei","Bucuresti",null,null,null,{"$f":"REPT(\"-\",50)","v":"--------------------------------------------------"},{"$f":"REPT(\"-\",50)","v":"--------------------------------------------------"},null,null,"s2"]
[null,null,null,null,null,null,null,null,null,null,null,null,null,null,"Gepiu","BH",null,null,null,"Alexandru Anghel","Bucuresti",null,null,null,29,15,null,null,"s2"]
[null,null,null,null,null,null,null,null,null,null,null,null,null,null,"Lovrin","BH",null,null,null,"Alexandru Constantin","Bucuresti",null,null,null,{"$f":"REPT(\"-\",20)","v":"--------------------"},{"$f":"REPT(\"-\",20)","v":"--------------------"},null,null,"s2"]
[null,null,null,null,null,null,null,null,null,null,null,null,null,null,"Magesti","BH",null,null,null,"Alexandru David Gabriel","Bucuresti",null,null,null,36,18,null,null,"s2"]
[null,null,null,null,null,null,null,null,null,null,null,null,null,null,"Marghita","BH",null,null,null,"Alexandru Marius","Bucuresti",null,null,null,{"$f":"REPT(\"-\",35)","v":"-----------------------------------"},{"$f":"REPT(\"-\",35)","v":"-----------------------------------"},null,null,"s2"]
[null,null,null,null,null,null,null,null,null,null,null,null,null,null,"Oradea","BH",null,null,null,"Alexandru Matei","Cluj Napoca",null,null,null,61,31,null,null,"s2"]
[null,null,null,null,null,null,null,null,null,null,null,null,null,null,"Osorhei","BH",null,null,null,"Alexandru Mihai","Bucuresti",null,null,null,{"$f":"REPT(\"-\",20)","v":"--------------------"},{"$f":"REPT(\"-\",20)","v":"--------------------"},null,null,"s2"]
[null,null,null,null,null,null,null,null,null,null,null,null,null,null,"Paleu","BH",null,null,null,"Alexandru Petrisor","Craiova",null,null,null,4,2,null,null,"s2"]
[null,null,null,null,null,null,null,null,null,null,null,null,null,null,"Sacuieni","BH",null,null,null,"Alexandru Stefan","Bucuresti",null,null,null,{"$f":"REPT(\"-\",90)","v":"------------------------------------------------------------------------------------------"}]
[null,null,null,null,null,null,null,null,null,null,null,null,null,null,"Salonta","BH",null,null,null,"Alexandru Vasile","Iasi",null,null,null,3,null,null,null,"i1"]
[null,null,null,null,null,null,null,null,null,null,null,null,null,null,"Santandrei","BH",null,null,null,"Alexanovici Bogdan","Brasov",null,null,null,{"$f":"REPT(\"-\",20)","v":"--------------------"},null,null,null,"i1"]
[null,null,null,null,null,null,null,null,null,null,null,null,null,null,"Tamaseu","BH",null,null,null,"Alexe Dan","Bucuresti",null,null,null,62,null,null,null,"i1"]
[null,null,null,null,null,null,null,null,null,null,null,null,null,null,"Beclean","BN",null,null,null,"Alexe Razvan","Bucuresti",null,null,null,{"$f":"REPT(\"-\",35)","v":"-----------------------------------"},null,null,null,"i1"]
[null,null,null,null,null,null,null,null,null,null,null,null,null,null,"Bistrita","BN",null,null,null,"Alexoi Marius","Calan",null,null,null,35,null,null,null,"i1"]
[null,null,null,null,null,null,null,null,null,null,null,null,null,null,"Branistea","BN",null,null,null,"Alfred Knobel","Bucuresti",null,null,null,{"$f":"REPT(\"-\",20)","v":"--------------------"},null,null,null,"i1"]
[null,null,null,null,null,null,null,null,null,null,null,null,null,null,"Livezile","BN",null,null,null,"Alimareanu Raul","Dumbravita",null,null,null,30,null,null,null,"i1"]
[null,null,null,null,null,null,null,null,null,null,null,null,null,null,"Maieru","BN",null,null,null,"Alstani Mariana","Drobeta Tr Severin",null,null,null,{"$f":"REPT(\"-\",50)","v":"--------------------------------------------------"},null,null,null,"i1"]
[null,null,null,null,null,null,null,null,null,null,null,null,null,null,"Mogoseni","BN",null,null,null,"Aluculesa Radu","Botosani",null,null,null,19,null,null,null,"i1"]
[null,null,null,null,null,null,null,null,null,null,null,null,null,null,"Nasaud","BN",null,null,null,"Alui Ion Vasile","Targu Neamt",null,null,null,{"$f":"REPT(\"-\",20)","v":"--------------------"},null,null,null,"i1"]
[null,null,null,null,null,null,null,null,null,null,null,null,null,null,"Sieu","BN",null,null,null,"Alupoaie Dumitru","Iasi",null,null,null,46,null,null,null,"i1"]
[null,null,null,null,null,null,null,null,null,null,null,null,null,null,"Sieu Odorhei","BN",null,null,null,"Amarandei Petronel","Vaslui",null,null,null,{"$f":"REPT(\"-\",35)","v":"-----------------------------------"},null,null,null,"i1"]
[null,null,null,null,null,null,null,null,null,null,null,null,null,null,"Uriu","BN",null,null,null,"Amariei Doru","Iasi",null,null,null,51,null,null,null,"i1"]
[null,null,null,null,null,null,null,null,null,null,null,null,null,null,"Braila","BR",null,null,null,"Amariei Lucian","Piatra Neamt",null,null,null,{"$f":"REPT(\"-\",20)","v":"--------------------"},null,null,null,"i1"]
[null,null,null,null,null,null,null,null,null,null,null,null,null,null,"Cazasu","BR",null,null,null,"Amarinei Sorin","Galati",null,null,null,14,null,null,null,"i1"]
[null,null,null,null,null,null,null,null,null,null,null,null,null,null,"Faurei","BR",null,null,null,"Ambros Alin","Botosani",null,null,null,{"$f":"REPT(\"-\",65)","v":"-----------------------------------------------------------------"},null,null,null,"i1"]
[null,null,null,null,null,null,null,null,null,null,null,null,null,null,"Ianca","BR",null,null,null,"Ambros Lucian","Botosani",null,null,null,11,null,null,null,"i1"]
[null,null,null,null,null,null,null,null,null,null,null,null,null,null,"Liesti","GL",null,null,null,"Ambrus Alexandru","Deva",null,null,null,{"$f":"REPT(\"-\",20)","v":"--------------------"},null,null,null,"i1"]
[null,null,null,null,null,null,null,null,null,null,null,null,null,null,"Botosani","BT",null,null,null,"Ambrus Arnold","Lazarea",null,null,null,54,null,null,null,"i1"]
[null,null,null,null,null,null,null,null,null,null,null,null,null,null,"Bucecea","BT",null,null,null,"Ambrus Zoltan","Miercurea Ciuc",null,null,null,{"$f":"REPT(\"-\",35)","v":"-----------------------------------"},null,null,null,"i1"]
[null,null,null,null,null,null,null,null,null,null,null,null,null,null,"Corlateni","BT",null,null,null,"Amuza Radu","Bucuresti",null,null,null,43,null,null,null,"i1"]
[null,null,null,null,null,null,null,null,null,null,null,null,null,null,"Curtesti","BT",null,null,null,"Anastasiu Constantin","Comanesti",null,null,null,{"$f":"REPT(\"-\",20)","v":"--------------------"},null,null,null,"i1"]
[null,null,null,null,null,null,null,null,null,null,null,null,null,null,"Darabani","BT",null,null,null,"Anastasiu Mircea","Bucuresti",null,null,null,22,null,null,null,"i1"]
[null,null,null,null,null,null,null,null,null,null,null,null,null,null,"Dersca","BT",null,null,null,"Anatolii Zamkovyi","Baia Mare",null,null,null,{"$f":"REPT(\"-\",50)","v":"--------------------------------------------------"},null,null,null,"i1"]
[null,null,null,null,null,null,null,null,null,null,null,null,null,null,"Dobarceni","BT",null,null,null,"Anbrus Stefan","Bistrita",null,null,null,27,null,null,null,"i1"]
[null,null,null,null,null,null,null,null,null,null,null,null,null,null,"Dorohoi","BT",null,null,null,"Anca Ana Maria","Ludus",null,null,null,{"$f":"REPT(\"-\",20)","v":"--------------------"},null,null,null,"i1"]
[null,null,null,null,null,null,null,null,null,null,null,null,null,null,"Frumusica BT","BT",null,null,null,"Anca Octavian","Branesti",null,null,null,38,null,null,null,"i1"]
[null,null,null,null,null,null,null,null,null,null,null,null,null,null,"Hlipiceni","BT",null,null,null,"Anca Valentin","Ludus",null,null,null,{"$f":"REPT(\"-\",35)","v":"-----------------------------------"},null,null,null,"i1"]
[null,null,null,null,null,null,null,null,null,null,null,null,null,null,"Horodistea BT","BT",null,null,null,"Anchidin Cosmin","Lugoj",null,null,null,59,null,null,null,"i1"]
[null,null,null,null,null,null,null,null,null,null,null,null,null,null,"Hudesti","BT",null,null,null,"Ancuta Eduard","Botosani",null,null,null,{"$f":"REPT(\"-\",20)","v":"--------------------"},null,null,null,"i1"]
[null,null,null,null,null,null,null,null,null,null,null,null,null,null,"Ipotesti","BT",null,null,null,"Andjelkovic Aleksandar","Stara Palanka",null,null,null,6,null,null,null,"i1"]
[null,null,null,null,null,null,null,null,null,null,null,null,null,null,"Mihai Eminescu","BT",null,null,null,"Andone Claudiu","Cugir",null,null,null,{"$f":"REPT(\"-\",80)","v":"--------------------------------------------------------------------------------"}]
[null,null,null,null,null,null,null,null,null,null,null,null,null,null,"Rauseni","BT",null,null,null,"Andoni Grigore","Moldova-Straseni",null,null,null,7,null,null,null,"i2"]
[null,null,null,null,null,null,null,null,null,null,null,null,null,null,"Saveni","BT",null,null,null,"Andras Nicolae","Oradea",null,null,null,{"$f":"REPT(\"-\",20)","v":"--------------------"},null,null,null,"i2"]
[null,null,null,null,null,null,null,null,null,null,null,null,null,null,"Sebesel","AB",null,null,null,"Andras Robert","Hateg",null,null,null,58,null,null,null,"i2"]
[null,null,null,null,null,null,null,null,null,null,null,null,null,null,"Sendriceni","BT",null,null,null,"Andras Szekely","Bucuresti",null,null,null,{"$f":"REPT(\"-\",35)","v":"-----------------------------------"},null,null,null,"i2"]
[null,null,null,null,null,null,null,null,null,null,null,null,null,null,"Stefanesti","BT",null,null,null,"Andras Zoltan","Miercurea Ciuc",null,null,null,39,null,null,null,"i2"]
[null,null,null,null,null,null,null,null,null,null,null,null,null,null,"Trusesti","BT",null,null,null,"Andrea Simion","Cluj Napoca",null,null,null,{"$f":"REPT(\"-\",20)","v":"--------------------"},null,null,null,"i2"]
[null,null,null,null,null,null,null,null,null,null,null,null,null,null,"Vorona","BT",null,null,null,"Andreas Zoske","Bucuresti",null,null,null,26,null,null,null,"i2"]
[null,null,null,null,null,null,null,null,null,null,null,null,null,null,"Arpas","BV",null,null,null,"Andreescu Liviu","Urlati",null,null,null,{"$f":"REPT(\"-\",50)","v":"--------------------------------------------------"},null,null,null,"i2"]
[null,null,null,null,null,null,null,null,null,null,null,null,null,null,"Bod BV","BV",null,null,null,"Andrei Alin","Nasaud",null,null,null,23,null,null,null,"i2"]
[null,null,null,null,null,null,null,null,null,null,null,null,null,null,"Bran","BV",null,null,null,"Andrei Bogdan Ion","Targoviste",null,null,null,{"$f":"REPT(\"-\",20)","v":"--------------------"},null,null,null,"i2"]
[null,null,null,null,null,null,null,null,null,null,null,null,null,null,"Brasov","BV",null,null,null,"Andrei Cornel","Nasaud",null,null,null,42,null,null,null,"i2"]
[null,null,null,null,null,null,null,null,null,null,null,null,null,null,"Cheile Gradistei","BV",null,null,null,"Andrei Cozmin Stefanut","Buzau",null,null,null,{"$f":"REPT(\"-\",35)","v":"-----------------------------------"},null,null,null,"i2"]
[null,null,null,null,null,null,null,null,null,null,null,null,null,null,"Codlea","BV",null,null,null,"Andrei David","Barlad",null,null,null,55,null,null,null,"i2"]
[null,null,null,null,null,null,null,null,null,null,null,null,null,null,"Fagaras","BV",null,null,null,"Andrei Florin","Timisoara",null,null,null,{"$f":"REPT(\"-\",20)","v":"--------------------"},null,null,null,"i2"]
[null,null,null,null,null,null,null,null,null,null,null,null,null,null,"Lunca Calnicului","BV",null,null,null,"Andrei Gheorghe","Petrosani",null,null,null,10,null,null,null,"i2"]
[null,null,null,null,null,null,null,null,null,null,null,null,null,null,"Sacele","BV",null,null,null,"Andrei Ionut","Pitesti",null,null,null,{"$f":"REPT(\"-\",65)","v":"-----------------------------------------------------------------"},null,null,null,"i2"]
[null,null,null,null,null,null,null,null,null,null,null,null,null,null,"Sinca Noua","BV",null,null,null,"Andrei Iordan","Tulcea",null,null,null,15,null,null,null,"i2"]
[null,null,null,null,null,null,null,null,null,null,null,null,null,null,"Ucea","BV",null,null,null,"Andrei Lucian","Nasaud",null,null,null,{"$f":"REPT(\"-\",20)","v":"--------------------"},null,null,null,"i2"]
[null,null,null,null,null,null,null,null,null,null,null,null,null,null,"Victoria","BV",null,null,null,"Andrei Maria","Ludus",null,null,null,50,null,null,null,"i2"]
[null,null,null,null,null,null,null,null,null,null,null,null,null,null,"Buzau","BZ",null,null,null,"Andrei Marian","Barlad",null,null,null,{"$f":"REPT(\"-\",35)","v":"-----------------------------------"},null,null,null,"i2"]
[null,null,null,null,null,null,null,null,null,null,null,null,null,null,"Ramnicu Sarat","BZ",null,null,null,"Andrei Nicholas Stefan","Targoviste",null,null,null,47,null,null,null,"i2"]
[null,null,null,null,null,null,null,null,null,null,null,null,null,null,"Apahida","CJ",null,null,null,"Andrei Radu Alexandru","Iasi",null,null,null,{"$f":"REPT(\"-\",20)","v":"--------------------"},null,null,null,"i2"]
[null,null,null,null,null,null,null,null,null,null,null,null,null,null,"Baciu","CJ",null,null,null,"Andrei Vasile Ilie","Ludus",null,null,null,18,null,null,null,"i2"]
[null,null,null,null,null,null,null,null,null,null,null,null,null,null,"Bogata","CJ",null,null,null,"Andreica Daniel","Viseu",null,null,null,{"$f":"REPT(\"-\",50)","v":"--------------------------------------------------"},null,null,null,"i2"]
[null,null,null,null,null,null,null,null,null,null,null,null,null,null,"Campia Turzii","CJ",null,null,null,"Andries Cristina","Brasov",null,null,null,31,null,null,null,"i2"]
[null,null,null,null,null,null,null,null,null,null,null,null,null,null,"Cluj Napoca","CJ",null,null,null,"Andries Ionut Alexandru","Iasi",null,null,null,{"$f":"REPT(\"-\",20)","v":"--------------------"},null,null,null,"i2"]
[null,null,null,null,null,null,null,null,null,null,null,null,null,null,"Dej","CJ",null,null,null,"Andries Natalia","Navodari",null,null,null,34,null,null,null,"i2"]
[null,null,null,null,null,null,null,null,null,null,null,null,null,null,"Floresti","CJ",null,null,null,"Androne Cristian","Braila",null,null,null,{"$f":"REPT(\"-\",35)","v":"-----------------------------------"},null,null,null,"i2"]
[null,null,null,null,null,null,null,null,null,null,null,null,null,null,"Gherla","CJ",null,null,null,"Androne Daniel","Petrila",null,null,null,63,null,null,null,"i2"]
[null,null,null,null,null,null,null,null,null,null,null,null,null,null,"Gilau","CJ",null,null,null,"Androne Luca","Bucuresti",null,null,null,{"$f":"REPT(\"-\",20)","v":"--------------------"},null,null,null,"i2"]
[null,null,null,null,null,null,null,null,null,null,null,null,null,null,"Huedin","CJ",null,null,null,"Anghel Alexandru","Iasi",null,null,null,2,null,null,null,"i2"]
[null,null,null,null,null,null,null,null,null,null,null,null,null,null,"Luna CJ","CJ",null,null,null,"Anghel Andrei","Bucuresti"]
[null,null,null,null,null,null,null,null,null,null,null,null,null,null,"Luna de Sus","CJ",null,null,null,"Anghel Bogdan","Buzau"]
[null,null,null,null,null,null,null,null,null,null,null,null,null,null,"Manastireni","CJ",null,null,null,"Anghel George","Targoviste"]
[null,null,null,null,null,null,null,null,null,null,null,null,null,null,"Manasturu Romanesc","CJ",null,null,null,"Anghel Lucian","Ramnicelu"]
[null,null,null,null,null,null,null,null,null,null,null,null,null,null,"Rasca","CJ",null,null,null,"Anghel Nicu","Braila"]
[null,null,null,null,null,null,null,null,null,null,null,null,null,null,"Sanicoara","CJ",null,null,null,"Anghel Patrick","Voluntari"]
[null,null,null,null,null,null,null,null,null,null,null,null,null,null,"Somesu Rece","CJ",null,null,null,"Anghel Valentin","Voluntari"]
[null,null,null,null,null,null,null,null,null,null,null,null,null,null,"Turda","CJ",null,null,null,"Anghele Cristinel","Galati"]
[null,null,null,null,null,null,null,null,null,null,null,null,null,null,"Viisoara CJ","CJ",null,null,null,"Angheloni Adrian","Nadrag"]
[null,null,null,null,null,null,null,null,null,null,null,null,null,null,"Calarasi","CL",null,null,null,"Angi Zoltan","Gheorgheni"]
[null,null,null,null,null,null,null,null,null,null,null,null,null,null,"Lehliu Gara","CL",null,null,null,"Anhelov Mihail","Moldova-Cahul"]
[null,null,null,null,null,null,null,null,null,null,null,null,null,null,"Oltenita","CL",null,null,null,"Anica Andrei","Buzau"]
[null,null,null,null,null,null,null,null,null,null,null,null,null,null,"Anina","CS",null,null,null,"Ankar Mohamed","Timisoara"]
[null,null,null,null,null,null,null,null,null,null,null,null,null,null,"Armenis","CS",null,null,null,"Ankar Wasim","Timisoara"]
[null,null,null,null,null,null,null,null,null,null,null,null,null,null,"Baile Herculane","CS",null,null,null,"Anoiu Alexandru","Hunedoara"]
[null,null,null,null,null,null,null,null,null,null,null,null,null,null,"Berzovia","CS",null,null,null,"Antal Cornel","Oradea"]
[null,null,null,null,null,null,null,null,null,null,null,null,null,null,"Bocsa","CS",null,null,null,"Antal Kevin Martin","Tarcaia"]
[null,null,null,null,null,null,null,null,null,null,null,null,null,null,"Caransebes","CS",null,null,null,"Antal Laszlo","Miercurea Ciuc"]
[null,null,null,null,null,null,null,null,null,null,null,null,null,null,"Cornea","CS",null,null,null,"Antal Martin","Tarcaia"]
[null,null,null,null,null,null,null,null,null,null,null,null,null,null,"Cornereva","CS",null,null,null,"Antochi Iulian","Tamaseni"]
[null,null,null,null,null,null,null,null,null,null,null,null,null,null,"Gradinari","CS",null,null,null,"Antoci Robert","Iasi"]
[null,null,null,null,null,null,null,null,null,null,null,null,null,null,"Moldova Noua","CS",null,null,null,"Anton Alexandru Catalin","Halaucesti"]
[null,null,null,null,null,null,null,null,null,null,null,null,null,null,"Oravita","CS",null,null,null,"Anton Calin","Sibiu"]
[null,null,null,null,null,null,null,null,null,null,null,null,null,null,"Otelu Rosu","CS",null,null,null,"Anton Cristian","Tulcea"]
[null,null,null,null,null,null,null,null,null,null,null,null,null,null,"Plugova","CS",null,null,null,"Anton Cristian","Constanta"]
[null,null,null,null,null,null,null,null,null,null,null,null,null,null,"Resita","CS",null,null,null,"Anton Ioan","Constanta"]
[null,null,null,null,null,null,null,null,null,null,null,null,null,null,"Sacu","CS",null,null,null,"Anton Nicolae","Constanta"]
[null,null,null,null,null,null,null,null,null,null,null,null,null,null,"Slatina Nera","CS",null,null,null,"Antonya Csaba","Brasov"]
[null,null,null,null,null,null,null,null,null,null,null,null,null,null,"Teregova","CS",null,null,null,"Aparaschive Iulian","Botosani"]
[null,null,null,null,null,null,null,null,null,null,null,null,null,null,"Cernavoda","CT",null,null,null,"Aparaschive Paul","Botosani"]
[null,null,null,null,null,null,null,null,null,null,null,null,null,null,"Cobadin","CT",null,null,null,"Aparaschivei Bogdan","Iasi"]
[null,null,null,null,null,null,null,null,null,null,null,null,null,null,"Constanta","CT",null,null,null,"Aparaschivei Marcel","Botosani"]
[null,null,null,null,null,null,null,null,null,null,null,null,null,null,"Costinesti","CT",null,null,null,"Apatachioae Augustin","Paunesti"]
[null,null,null,null,null,null,null,null,null,null,null,null,null,null,"Eforie","CT",null,null,null,"Apetrei Constantin","Iasi"]
[null,null,null,null,null,null,null,null,null,null,null,null,null,null,"Hurezani","GJ",null,null,null,"Apetrei Damian","Suceava"]
[null,null,null,null,null,null,null,null,null,null,null,null,null,null,"Lazu","CT",null,null,null,"Apetrei Darius","Suceava"]
[null,null,null,null,null,null,null,null,null,null,null,null,null,null,"Lumina","CT",null,null,null,"Apetrei Patrick","Vatra Dornei"]
[null,null,null,null,null,null,null,null,null,null,null,null,null,null,"Mamaia","CT",null,null,null,"Apian Florin","Bistrita"]
[null,null,null,null,null,null,null,null,null,null,null,null,null,null,"Mangalia","CT",null,null,null,"Apostol Costel","Targu Neamt"]
[null,null,null,null,null,null,null,null,null,null,null,null,null,null,"Medgidia","CT",null,null,null,"Apostol Ionut","Cluj Napoca"]
[null,null,null,null,null,null,null,null,null,null,null,null,null,null,"Mihail Kogalniceanu","CT",null,null,null,"Apostol Stefan Leonard","Alexandria"]
[null,null,null,null,null,null,null,null,null,null,null,null,null,null,"Murfatlar","CT",null,null,null,"Apostu Laurentiu","Focsani"]
[null,null,null,null,null,null,null,null,null,null,null,null,null,null,"Navodari","CT",null,null,null,"Apostu Marius","Galati"]
[null,null,null,null,null,null,null,null,null,null,null,null,null,null,"Poiana Teiului","NT",null,null,null,"Aprodu Lucian","Bacau"]
[null,null,null,null,null,null,null,null,null,null,null,null,null,null,"Techirghiol","CT",null,null,null,"Aprodu Mircea","Bacau"]
[null,null,null,null,null,null,null,null,null,null,null,null,null,null,"Valul lui Traian","CT",null,null,null,"Arabagiu Marius","Bucuresti"]
[null,null,null,null,null,null,null,null,null,null,null,null,null,null,"Aita Mare","CV",null,null,null,"Arama Gicu","Braila"]
[null,null,null,null,null,null,null,null,null,null,null,null,null,null,"Baraolt","CV",null,null,null,"Aramescu Neculai","Harsova"]
[null,null,null,null,null,null,null,null,null,null,null,null,null,null,"Batanii Mari","CV",null,null,null,"Archip Irinel","Bacau"]
[null,null,null,null,null,null,null,null,null,null,null,null,null,null,"Bixad","CV",null,null,null,"Arcusa Andrei","Ucraina-Umani"]
[null,null,null,null,null,null,null,null,null,null,null,null,null,null,"Bretcu","CV",null,null,null,"Arcusa Dmitrii","Ucraina-Umani"]
[null,null,null,null,null,null,null,null,null,null,null,null,null,null,"Calnic","CV",null,null,null,"Ardelean Alex","Ineu"]
[null,null,null,null,null,null,null,null,null,null,null,null,null,null,"Capeni","CV",null,null,null,"Ardelean Andreea","Sibiu"]
[null,null,null,null,null,null,null,null,null,null,null,null,null,null,"Covasna","CV",null,null,null,"Ardelean Catalin","Oradea"]
[null,null,null,null,null,null,null,null,null,null,null,null,null,null,"Estelnic","CV",null,null,null,"Ardelean Raul","Lipova"]
[null,null,null,null,null,null,null,null,null,null,null,null,null,null,"Micfalau","CV",null,null,null,"Ardeleanu Bogdan","Resita"]
[null,null,null,null,null,null,null,null,null,null,null,null,null,null,"Moacsa","CV",null,null,null,"Ardeleanu Marcel","Focsani"]
[null,null,null,null,null,null,null,null,null,null,null,null,null,null,"Olteni","CV",null,null,null,"Aresan David","Bistrita"]
[null,null,null,null,null,null,null,null,null,null,null,null,null,null,"Racosu de Sus","CV",null,null,null,"Arhip George","Botosani"]
[null,null,null,null,null,null,null,null,null,null,null,null,null,null,"Santionlunca","CV",null,null,null,"Ariciu George","Cocorastii Mislii"]
[null,null,null,null,null,null,null,null,null,null,null,null,null,null,"Sanzieni","CV",null,null,null,"Ariciuc Deea","Suceava"]
[null,null,null,null,null,null,null,null,null,null,null,null,null,null,"Sfantu Gheorghe","CV",null,null,null,"Arimia Constantin","Azuga"]
[null,null,null,null,null,null,null,null,null,null,null,null,null,null,"Targu Secuiesc","CV",null,null,null,"Armene Ionel","Barlad"]
[null,null,null,null,null,null,null,null,null,null,null,null,null,null,"Valea Scurta","CV",null,null,null,"Arnaut Alexandr","Moldova-Avdarma"]
[null,null,null,null,null,null,null,null,null,null,null,null,null,null,"Varghis","CV",null,null,null,"Arnautu Constantin Cristian","Suceava"]
[null,null,null,null,null,null,null,null,null,null,null,null,null,null,"Zabala","CV",null,null,null,"Aron Darie","Sibiu"]
[null,null,null,null,null,null,null,null,null,null,null,null,null,null,"Branesti DB","DB",null,null,null,"Aron Valentin","Fenes"]
[null,null,null,null,null,null,null,null,null,null,null,null,null,null,"Bucsani","DB",null,null,null,"Arteni Sergiu","Bucuresti"]
[null,null,null,null,null,null,null,null,null,null,null,null,null,null,"Caprioru DB","DB",null,null,null,"Asmarandei Petru","Constanta"]
[null,null,null,null,null,null,null,null,null,null,null,null,null,null,"Caragiale DB","DB",null,null,null,"Astefanoaie David","Pascani"]
[null,null,null,null,null,null,null,null,null,null,null,null,null,null,"Cobia","DB",null,null,null,"Asteleanu Lucian","Cluj Napoca"]
[null,null,null,null,null,null,null,null,null,null,null,null,null,null,"Contesti","DB",null,null,null,"Aurica Gabriel","Tecuci"]
[null,null,null,null,null,null,null,null,null,null,null,null,null,null,"Darmanesti","DB",null,null,null,"Avadanei Maria","Cluj Napoca"]
[null,null,null,null,null,null,null,null,null,null,null,null,null,null,"Doicesti","DB",null,null,null,"Avadanoaei Petuel","Bucuresti"]
[null,null,null,null,null,null,null,null,null,null,null,null,null,null,"Dragomiresti DB","DB",null,null,null,"Avasilcai Marcel","Arad"]
[null,null,null,null,null,null,null,null,null,null,null,null,null,null,"Fieni","DB",null,null,null,"Avram Alexandru","Dumbraveni SB"]
[null,null,null,null,null,null,null,null,null,null,null,null,null,null,"Gaesti","DB",null,null,null,"Avram Antonio","Pitesti"]
[null,null,null,null,null,null,null,null,null,null,null,null,null,null,"Glodeni","DB",null,null,null,"Avram Bogdan","Iasi"]
[null,null,null,null,null,null,null,null,null,null,null,null,null,null,"Gura Sutii","DB",null,null,null,"Avram Claudiu","Feleacu"]
[null,null,null,null,null,null,null,null,null,null,null,null,null,null,"Iedera","DB",null,null,null,"Avram Iancu","Petrosani"]
[null,null,null,null,null,null,null,null,null,null,null,null,null,null,"Lucieni","DB",null,null,null,"Avram Ionut","Galati"]
[null,null,null,null,null,null,null,null,null,null,null,null,null,null,"Moreni","DB",null,null,null,"Avram Marian","Alexandria"]
[null,null,null,null,null,null,null,null,null,null,null,null,null,null,"Motaieni","DB",null,null,null,"Avram Nicolae","Nedelea"]
[null,null,null,null,null,null,null,null,null,null,null,null,null,null,"Ocnita","DB",null,null,null,"Avram Roberto","Bucuresti"]
[null,null,null,null,null,null,null,null,null,null,null,null,null,null,"Poiana","DB",null,null,null,"Avram Victor","Arad"]
[null,null,null,null,null,null,null,null,null,null,null,null,null,null,"Produlesti","DB",null,null,null,"Avramescu Bogdan","Bucuresti"]
[null,null,null,null,null,null,null,null,null,null,null,null,null,null,"Pucioasa","DB",null,null,null,"Avramescu Claudiu","Bucuresti"]
[null,null,null,null,null,null,null,null,null,null,null,null,null,null,"Racari","DB",null,null,null,"Avramia Dan","Oniceni"]
[null,null,null,null,null,null,null,null,null,null,null,null,null,null,"Raul Alb","DB",null,null,null,"Avronova Eva","Moldova-Balti"]
[null,null,null,null,null,null,null,null,null,null,null,null,null,null,"Razvad","DB",null,null,null,"Axinte Bogdan","Iasi"]
[null,null,null,null,null,null,null,null,null,null,null,null,null,null,"Sotanga","DB",null,null,null,"Axinte Claudiu","Suceava"]
[null,null,null,null,null,null,null,null,null,null,null,null,null,null,"Targoviste","DB",null,null,null,"Axinte Tiberius","Iasi"]
[null,null,null,null,null,null,null,null,null,null,null,null,null,null,"Tatarani","DB",null,null,null,"Babalean Sebastian","Galanesti"]
[null,null,null,null,null,null,null,null,null,null,null,null,null,null,"Titu","DB",null,null,null,"Babes Razvan","Brasov"]
[null,null,null,null,null,null,null,null,null,null,null,null,null,null,"Ulmi","DB",null,null,null,"Babes Robin","Brasov"]
[null,null,null,null,null,null,null,null,null,null,null,null,null,null,"Vacaresti","DB",null,null,null,"Babolea Ionut","Pascani"]
[null,null,null,null,null,null,null,null,null,null,null,null,null,null,"Valea Voievozilor","DB",null,null,null,"Babonea Claudiu","Iasi"]
[null,null,null,null,null,null,null,null,null,null,null,null,null,null,"Vulcana Bai","DB",null,null,null,"Babos Ioan","Sarmasag"]
[null,null,null,null,null,null,null,null,null,null,null,null,null,null,"Vulcana Pandele","DB",null,null,null,"Babus Liviu","Ploiesti"]
[null,null,null,null,null,null,null,null,null,null,null,null,null,null,"Amarastii de Sus","DJ",null,null,null,"Baca Stefan","Bucuresti"]
[null,null,null,null,null,null,null,null,null,null,null,null,null,null,"Bailesti","DJ",null,null,null,"Bacain Marian","Calarasi"]
[null,null,null,null,null,null,null,null,null,null,null,null,null,null,"Calafat","DJ",null,null,null,"Bacanu Paulian","Brasov"]
[null,null,null,null,null,null,null,null,null,null,null,null,null,null,"Cerat","DJ",null,null,null,"Baceanu Constantin","Buzau"]
[null,null,null,null,null,null,null,null,null,null,null,null,null,null,"Craiova","DJ",null,null,null,"Baciu Adrian","Pascani"]
[null,null,null,null,null,null,null,null,null,null,null,null,null,null,"Dabuleni","DJ",null,null,null,"Baciu Adrian","Giarmata"]
[null,null,null,null,null,null,null,null,null,null,null,null,null,null,"Gighera","DJ",null,null,null,"Baciu Alexandru","Giarmata"]
[null,null,null,null,null,null,null,null,null,null,null,null,null,null,"Leu","DJ",null,null,null,"Baciu Gabriel","Tarnaveni"]
[null,null,null,null,null,null,null,null,null,null,null,null,null,null,"Piscul Vechi","DJ",null,null,null,"Baciu Stefan","Mioveni"]
[null,null,null,null,null,null,null,null,null,null,null,null,null,null,"Plenita DJ","DJ",null,null,null,"Bacosca Catalin","Sabaoani"]
[null,null,null,null,null,null,null,null,null,null,null,null,null,null,"Segarcea","DJ",null,null,null,"Bacotiu Ciprian","Cluj Napoca"]
[null,null,null,null,null,null,null,null,null,null,null,null,null,null,"Motru","GJ",null,null,null,"Badaluta Marian","Vatra Dornei"]
[null,null,null,null,null,null,null,null,null,null,null,null,null,null,"Novaci","GJ",null,null,null,"Badea Alexandru","Bucuresti"]
[null,null,null,null,null,null,null,null,null,null,null,null,null,null,"Rovinari","GJ",null,null,null,"Badea Catalin","Dumbravita"]
[null,null,null,null,null,null,null,null,null,null,null,null,null,null,"Targu Carbunesti","GJ",null,null,null,"Badea Cristian","Calarasi"]
[null,null,null,null,null,null,null,null,null,null,null,null,null,null,"Targu Jiu","GJ",null,null,null,"Badea Daniel","Targoviste"]
[null,null,null,null,null,null,null,null,null,null,null,null,null,null,"Telesti","GJ",null,null,null,"Badea Ionel","Oltenita"]
[null,null,null,null,null,null,null,null,null,null,null,null,null,null,"Tismana","GJ",null,null,null,"Badea Marian","Buftea"]
[null,null,null,null,null,null,null,null,null,null,null,null,null,null,"Barcea","GL",null,null,null,"Badea Mihai","Targoviste"]
[null,null,null,null,null,null,null,null,null,null,null,null,null,null,"Certesti","GL",null,null,null,"Badea Robert","Bucuresti"]
[null,null,null,null,null,null,null,null,null,null,null,null,null,null,"Corod","GL",null,null,null,"Badea Stefan","Targoviste"]
[null,null,null,null,null,null,null,null,null,null,null,null,null,null,"Cosmesti","GL",null,null,null,"Badescu Andrei","Bucuresti"]
[null,null,null,null,null,null,null,null,null,null,null,null,null,null,"Draganesti","GL",null,null,null,"Badescu Lucian","Oradea"]
[null,null,null,null,null,null,null,null,null,null,null,null,null,null,"Galati","GL",null,null,null,"Badescu Stefan","Campulung Muscel"]
[null,null,null,null,null,null,null,null,null,null,null,null,null,null,"Matca","GL",null,null,null,"Badescu Tudor","Cluj Napoca"]
[null,null,null,null,null,null,null,null,null,null,null,null,null,null,"Tecuci","GL",null,null,null,"Badila Sebastian","Bucuresti"]
[null,null,null,null,null,null,null,null,null,null,null,null,null,null,"Umbraresti","GL",null,null,null,"Badiu Gavril","Rasca"]
[null,null,null,null,null,null,null,null,null,null,null,null,null,null,"Giurgiu","GR",null,null,null,"Badiu Patricia","Floresti"]
[null,null,null,null,null,null,null,null,null,null,null,null,null,null,"Novaci GR","GR",null,null,null,"Badulescu Daniel Catalin","Urlati"]
[null,null,null,null,null,null,null,null,null,null,null,null,null,null,"Baia de Cris","HD",null,null,null,"Baetu Constantin","Targu Neamt"]
[null,null,null,null,null,null,null,null,null,null,null,null,null,null,"Brad","HD",null,null,null,"Bagneanu Raisa","Campulung Muscel"]
[null,null,null,null,null,null,null,null,null,null,null,null,null,null,"Calan","HD",null,null,null,"Baias Calin","Floresti"]
[null,null,null,null,null,null,null,null,null,null,null,null,null,null,"Cristur","HD",null,null,null,"Baiburi Levent","Tulcea"]
[null,null,null,null,null,null,null,null,null,null,null,null,null,null,"Deva","HD",null,null,null,"Baican Alexandru","Bucuresti"]
[null,null,null,null,null,null,null,null,null,null,null,null,null,null,"Geoagiu","HD",null,null,null,"Baican Cristian","Cluj Napoca"]
[null,null,null,null,null,null,null,null,null,null,null,null,null,null,"Hateg","HD",null,null,null,"Baicu Andrei","Sinaia"]
[null,null,null,null,null,null,null,null,null,null,null,null,null,null,"Hunedoara","HD",null,null,null,"Baicu Claudiu","Bucuresti"]
[null,null,null,null,null,null,null,null,null,null,null,null,null,null,"Ilia","HD",null,null,null,"Baicu Cristian","Bucuresti"]
[null,null,null,null,null,null,null,null,null,null,null,null,null,null,"Lupeni","HD",null,null,null,"Baidoc Marius","Zalau"]
[null,null,null,null,null,null,null,null,null,null,null,null,null,null,"Mintia","HD",null,null,null,"Baidoc Sergiu","Zalau"]
[null,null,null,null,null,null,null,null,null,null,null,null,null,null,"Orastie","HD",null,null,null,"Baies Ioan","Floresti"]
[null,null,null,null,null,null,null,null,null,null,null,null,null,null,"Petrila","HD",null,null,null,"Bailescu Stefan","Craiova"]
[null,null,null,null,null,null,null,null,null,null,null,null,null,null,"Petrosani","HD",null,null,null,"Bairam Marcel","Harsova"]
[null,null,null,null,null,null,null,null,null,null,null,null,null,null,"Sebes","AB",null,null,null,"Baisan Paul","Roman"]
[null,null,null,null,null,null,null,null,null,null,null,null,null,null,"Simeria","HD",null,null,null,"Baitan Adrian","Suceava"]
[null,null,null,null,null,null,null,null,null,null,null,null,null,null,"Sugag","HD",null,null,null,"Baiu Costel","Iasi"]
[null,null,null,null,null,null,null,null,null,null,null,null,null,null,"Tampa","HD",null,null,null,"Baiu Lacramioara","Iasi"]
[null,null,null,null,null,null,null,null,null,null,null,null,null,null,"Uricani","HD",null,null,null,"Bajko Attila","Sfantu Gheorghe"]
[null,null,null,null,null,null,null,null,null,null,null,null,null,null,"Vulcan","HD",null,null,null,"Bajko Daniel","Sarmas"]
[null,null,null,null,null,null,null,null,null,null,null,null,null,null,"Baile Tusnad","HR",null,null,null,"Bakos Miklos","Zrenjanin"]
[null,null,null,null,null,null,null,null,null,null,null,null,null,null,"Balan","HR",null,null,null,"Bal Adrian","Gherla"]
[null,null,null,null,null,null,null,null,null,null,null,null,null,null,"Borsec","HR",null,null,null,"Balaban Adrian","Bucuresti"]
[null,null,null,null,null,null,null,null,null,null,null,null,null,null,"Bradesti","HR",null,null,null,"Balaban Daniel","Bucuresti"]
[null,null,null,null,null,null,null,null,null,null,null,null,null,null,"Ciceu","HR",null,null,null,"Balaj Roland","Arad"]
[null,null,null,null,null,null,null,null,null,null,null,null,null,null,"Ciumani","HR",null,null,null,"Balan Alexandru","Ploiesti"]
[null,null,null,null,null,null,null,null,null,null,null,null,null,null,"Corbu","HR",null,null,null,"Balan Andrei Tiberiu","Timisoara"]
[null,null,null,null,null,null,null,null,null,null,null,null,null,null,"Corund","HR",null,null,null,"Balan Cristian","Tecuci"]
[null,null,null,null,null,null,null,null,null,null,null,null,null,null,"Cristuru Secuiesc","HR",null,null,null,"Balan Florin","Brasov"]
[null,null,null,null,null,null,null,null,null,null,null,null,null,null,"Danesti","HR",null,null,null,"Balan Ionel","Calarasi"]
[null,null,null,null,null,null,null,null,null,null,null,null,null,null,"Dealu","HR",null,null,null,"Balan Margareta","Brasov"]
[null,null,null,null,null,null,null,null,null,null,null,null,null,null,"Ditrau","HR",null,null,null,"Balan Mihai","Ploiesti"]
[null,null,null,null,null,null,null,null,null,null,null,null,null,null,"Galautas","HR",null,null,null,"Balan Viorel","Bistrita"]
[null,null,null,null,null,null,null,null,null,null,null,null,null,null,"Gheorgheni","HR",null,null,null,"Balanean Andrei","Sibiu"]
[null,null,null,null,null,null,null,null,null,null,null,null,null,null,"Ineu HR","HR",null,null,null,"Balanean Daniel","Zalau"]
[null,null,null,null,null,null,null,null,null,null,null,null,null,null,"Joseni","HR",null,null,null,"Balanean David","Zalau"]
[null,null,null,null,null,null,null,null,null,null,null,null,null,null,"Lazarea","HR",null,null,null,"Balanean Florin","Cisnadie"]
[null,null,null,null,null,null,null,null,null,null,null,null,null,null,"Lueta Hr","HR",null,null,null,"Balanescu Alexandru","Brasov"]
[null,null,null,null,null,null,null,null,null,null,null,null,null,null,"Lunca de Sus","HR",null,null,null,"Balanescu Boby","Ploiesti"]
[null,null,null,null,null,null,null,null,null,null,null,null,null,null,"Miercurea Ciuc","HR",null,null,null,"Balanescu Gheorghe","Slobozia"]
[null,null,null,null,null,null,null,null,null,null,null,null,null,null,"Odorheiu Secuiesc","HR",null,null,null,"Balanuca Teo","Comanesti"]
[null,null,null,null,null,null,null,null,null,null,null,null,null,null,"Praid","HR",null,null,null,"Balasa Adrian","Alexandria"]
[null,null,null,null,null,null,null,null,null,null,null,null,null,null,"Remetea","HR",null,null,null,"Balasa Andrei","Bucuresti"]
[null,null,null,null,null,null,null,null,null,null,null,null,null,null,"Sandominic","HR",null,null,null,"Balasa Flavius","Bucuresti"]
[null,null,null,null,null,null,null,null,null,null,null,null,null,null,"Sanmartin","HR",null,null,null,"Balasa Mihai","Sibiu"]
[null,null,null,null,null,null,null,null,null,null,null,null,null,null,"Sansimion","HR",null,null,null,"Balasescu Ionut","Campina"]
[null,null,null,null,null,null,null,null,null,null,null,null,null,null,"Santimbru","HR",null,null,null,"Balasoiu Liviu","Novaci"]
[null,null,null,null,null,null,null,null,null,null,null,null,null,null,"Sarmas","HR",null,null,null,"Balasoiu Maria","Novaci"]
[null,null,null,null,null,null,null,null,null,null,null,null,null,null,"Siculeni","HR",null,null,null,"Balasoiu Mihai","Novaci"]
[null,null,null,null,null,null,null,null,null,null,null,null,null,null,"Subcetate","HR",null,null,null,"Balauca Cornel","Botosani"]
[null,null,null,null,null,null,null,null,null,null,null,null,null,null,"Suseni","HR",null,null,null,"Balauca Daniel","Constanta"]
[null,null,null,null,null,null,null,null,null,null,null,null,null,null,"Tomesti","HR",null,null,null,"Balazs Boglarka","Targu Secuiesc"]
[null,null,null,null,null,null,null,null,null,null,null,null,null,null,"Toplita","HR",null,null,null,"Balazs Imre Florin","Apahida"]
[null,null,null,null,null,null,null,null,null,null,null,null,null,null,"Valea Stramba","HR",null,null,null,"Balazs Lorant","Sfantu Gheorghe"]
[null,null,null,null,null,null,null,null,null,null,null,null,null,null,"Vlahita","HR",null,null,null,"Balcu Laurentiu","Bocsa"]
[null,null,null,null,null,null,null,null,null,null,null,null,null,null,"Zetea","HR",null,null,null,"Baldan Andrei","Cluj Napoca"]
[null,null,null,null,null,null,null,null,null,null,null,null,null,null,"Balotesti","IF",null,null,null,"Baldan Eric","Cluj Napoca"]
[null,null,null,null,null,null,null,null,null,null,null,null,null,null,"Berceni","IF",null,null,null,"Baldan Ioana","Cluj Napoca"]
[null,null,null,null,null,null,null,null,null,null,null,null,null,null,"Bragadiru","IF",null,null,null,"Balea Alexe Marian Iulian","Podenii Vechi"]
[null,null,null,null,null,null,null,null,null,null,null,null,null,null,"Branesti","IF",null,null,null,"Balhuc Marian Andrei","Halaucesti"]
[null,null,null,null,null,null,null,null,null,null,null,null,null,null,"Buftea","IF",null,null,null,"Balhuc Rares","Halaucesti"]
[null,null,null,null,null,null,null,null,null,null,null,null,null,null,"Cernica","IF",null,null,null,"Balici Aurel","Radauti"]
[null,null,null,null,null,null,null,null,null,null,null,null,null,null,"Chiajna","IF",null,null,null,"Balint Andrei","Reghin"]
[null,null,null,null,null,null,null,null,null,null,null,null,null,null,"Chitila","IF",null,null,null,"Balint Doru","Alesd"]
[null,null,null,null,null,null,null,null,null,null,null,null,null,null,"Dobroesti","IF",null,null,null,"Balla Peter","Toplita"]
[null,null,null,null,null,null,null,null,null,null,null,null,null,null,"Ilfov","IF",null,null,null,"Balmez Dorel","Oravita"]
[null,null,null,null,null,null,null,null,null,null,null,null,null,null,"Mogosoaia","IF",null,null,null,"Balog Mihai","Timisoara"]
[null,null,null,null,null,null,null,null,null,null,null,null,null,null,"Otopeni","IF",null,null,null,"Balogh Attila","Oradea"]
[null,null,null,null,null,null,null,null,null,null,null,null,null,null,"Peris","IF",null,null,null,"Baltaga Florin","Deva"]
[null,null,null,null,null,null,null,null,null,null,null,null,null,null,"Popesti Leordeni","IF",null,null,null,"Baltariu Remus","Suceava"]
[null,null,null,null,null,null,null,null,null,null,null,null,null,null,"Stefanestii de Jos","IF",null,null,null,"Baltateanu Cezar","Brasov"]
[null,null,null,null,null,null,null,null,null,null,null,null,null,null,"Voluntari","IF",null,null,null,"Baltatu Eduard Laurentiu","Bucuresti"]
[null,null,null,null,null,null,null,null,null,null,null,null,null,null,"Amara","IL",null,null,null,"Baltatu Marius","Pitesti"]
[null,null,null,null,null,null,null,null,null,null,null,null,null,null,"Fetesti","IL",null,null,null,"Baltes Ovidiu","Ocna Sibiului"]
[null,null,null,null,null,null,null,null,null,null,null,null,null,null,"Movila","IL",null,null,null,"Baluta Silviu","Bucuresti"]
[null,null,null,null,null,null,null,null,null,null,null,null,null,null,"Ograda","IL",null,null,null,"Ban Attila","Odorheiu Secuiesc"]
[null,null,null,null,null,null,null,null,null,null,null,null,null,null,"Slobozia","IL",null,null,null,"Banaru Mihai","Videle"]
[null,null,null,null,null,null,null,null,null,null,null,null,null,null,"Urziceni","IL",null,null,null,"Banceanu Radu","Hunedoara"]
[null,null,null,null,null,null,null,null,null,null,null,null,null,null,"Braesti","IS",null,null,null,"Banda Mircea","Timisoara"]
[null,null,null,null,null,null,null,null,null,null,null,null,null,null,"Halaucesti","IS",null,null,null,"Banea Radu","Sibiu"]
[null,null,null,null,null,null,null,null,null,null,null,null,null,null,"Husi","VS",null,null,null,"Bantush Mihaela","Moldova-Cahul"]
[null,null,null,null,null,null,null,null,null,null,null,null,null,null,"Iasi","IS",null,null,null,"Banu Codrin","Brasov"]
[null,null,null,null,null,null,null,null,null,null,null,null,null,null,"Lespezi","IS",null,null,null,"Banu Dan","Ploiesti"]
[null,null,null,null,null,null,null,null,null,null,null,null,null,null,"Mogosesti","IS",null,null,null,"Banu Florentin","Timisoara"]
[null,null,null,null,null,null,null,null,null,null,null,null,null,null,"Pascani","IS",null,null,null,"Banuta Dumitru","Ploiesti"]
[null,null,null,null,null,null,null,null,null,null,null,null,null,null,"Stolniceni","IS",null,null,null,"Bara Radu","Floresti"]
[null,null,null,null,null,null,null,null,null,null,null,null,null,null,"Targu Frumos","IS",null,null,null,"Bara Titus","Oradea"]
[null,null,null,null,null,null,null,null,null,null,null,null,null,null,"Todiresti","IS",null,null,null,"Barabas Victor","Suceava"]
[null,null,null,null,null,null,null,null,null,null,null,null,null,null,"Drobeta Tr Severin","MH",null,null,null,"Barabas Zoltan","Sighisoara"]
[null,null,null,null,null,null,null,null,null,null,null,null,null,null,"Orsova","MH",null,null,null,"Barabasi Balazs","Campenita"]
[null,null,null,null,null,null,null,null,null,null,null,null,null,null,"Baia Mare","MM",null,null,null,"Barabasi Botond","Campenita"]
[null,null,null,null,null,null,null,null,null,null,null,null,null,null,"Baia Sprie","MM",null,null,null,"Barac Marius","Sibiu"]
[null,null,null,null,null,null,null,null,null,null,null,null,null,null,"Bogdan Voda","MM",null,null,null,"Baragan Vladimir","Moldova-Cahul"]
[null,null,null,null,null,null,null,null,null,null,null,null,null,null,"Campulung la Tisa","MM",null,null,null,"Baran Angelo","Aiud"]
[null,null,null,null,null,null,null,null,null,null,null,null,null,null,"Cavnic","MM",null,null,null,"Baran Virgil","Bucuresti"]
[null,null,null,null,null,null,null,null,null,null,null,null,null,null,"Desesti","MM",null,null,null,"Baran Virgil Sr","Bucuresti"]
[null,null,null,null,null,null,null,null,null,null,null,null,null,null,"Sacel","MM",null,null,null,"Barascu Andrei","Suceava"]
[null,null,null,null,null,null,null,null,null,null,null,null,null,null,"Sapanta","MM",null,null,null,"Barau Adrian","Bucuresti"]
[null,null,null,null,null,null,null,null,null,null,null,null,null,null,"Seini","MM",null,null,null,"Barau Cristi","Odobesti"]
[null,null,null,null,null,null,null,null,null,null,null,null,null,null,"Sighetu Marmatiei","MM",null,null,null,"Barbalata Lorin","Suceava"]
[null,null,null,null,null,null,null,null,null,null,null,null,null,null,"Somcuta Mare","MM",null,null,null,"Barberiu Codruta","Brasov"]
[null,null,null,null,null,null,null,null,null,null,null,null,null,null,"Targu Lapus","MM",null,null,null,"Barberiu Constantin","Brasov"]
[null,null,null,null,null,null,null,null,null,null,null,null,null,null,"Viseu","MM",null,null,null,"Barboiu Adrian","Curtea de Arges"]
[null,null,null,null,null,null,null,null,null,null,null,null,null,null,"Viseu de Sus","MM",null,null,null,"Barbos Florin","Bistrita"]
[null,null,null,null,null,null,null,null,null,null,null,null,null,null,"Albesti","MS",null,null,null,"Barbu Alexandru","Bucuresti"]
[null,null,null,null,null,null,null,null,null,null,null,null,null,null,"Bagaciu","MS",null,null,null,"Barbu Cristian","Maneciu"]
[null,null,null,null,null,null,null,null,null,null,null,null,null,null,"Batos","MS",null,null,null,"Barbu Cristian","Slobozia"]
[null,null,null,null,null,null,null,null,null,null,null,null,null,null,"Bordosiu","MS",null,null,null,"Barbu Dorin","Constanta"]
[null,null,null,null,null,null,null,null,null,null,null,null,null,null,"Brancovenesti","MS",null,null,null,"Barbu Sara","Constanta"]
[null,null,null,null,null,null,null,null,null,null,null,null,null,null,"Chibed","MS",null,null,null,"Barbu Tiberiu","Deva"]
[null,null,null,null,null,null,null,null,null,null,null,null,null,null,"Corunca","MS",null,null,null,"Barbulescu Dan","Sibiu"]
[null,null,null,null,null,null,null,null,null,null,null,null,null,null,"Deda","MS",null,null,null,"Barbus David","Luna de Sus"]
[null,null,null,null,null,null,null,null,null,null,null,null,null,null,"Ernei","MS",null,null,null,"Barbuta Ioan","Dej"]
[null,null,null,null,null,null,null,null,null,null,null,null,null,null,"Fantanele","MS",null,null,null,"Barca George","Pitesti"]
[null,null,null,null,null,null,null,null,null,null,null,null,null,null,"Ghindari","MS",null,null,null,"Bardas Ioan","Dumbraveni SB"]
[null,null,null,null,null,null,null,null,null,null,null,null,null,null,"Gornesti","MS",null,null,null,"Bardas Mark","Dumbraveni SB"]
[null,null,null,null,null,null,null,null,null,null,null,null,null,null,"Hodosa","MS",null,null,null,"Bardas Patrick","Dumbraveni SB"]
[null,null,null,null,null,null,null,null,null,null,null,null,null,null,"Laslea","MS",null,null,null,"Bardi Cristian","Aiud"]
[null,null,null,null,null,null,null,null,null,null,null,null,null,null,"Ludus","MS",null,null,null,"Bardocz Ferenc","Ditrau"]
[null,null,null,null,null,null,null,null,null,null,null,null,null,null,"Maioresti","MS",null,null,null,"Baricz Dezso","Joseni"]
[null,null,null,null,null,null,null,null,null,null,null,null,null,null,"Miercurea Nirajului","MS",null,null,null,"Barjac Octavian","Prodanesti"]
[null,null,null,null,null,null,null,null,null,null,null,null,null,null,"Ocna Mures","AB",null,null,null,"Barjac Raul","Prodanesti"]
[null,null,null,null,null,null,null,null,null,null,null,null,null,null,"Rastolita","MS",null,null,null,"Barjovanu Dragos","Piatra Neamt"]
[null,null,null,null,null,null,null,null,null,null,null,null,null,null,"Reghin","MS",null,null,null,"Barla Catalin","Videle"]
[null,null,null,null,null,null,null,null,null,null,null,null,null,null,"Sangeorgiu de Padure","MS",null,null,null,"Barladeanu Emil","Constanta"]
[null,null,null,null,null,null,null,null,null,null,null,null,null,null,"Sanpaul","MS",null,null,null,"Barle Marco","Lapusel"]
[null,null,null,null,null,null,null,null,null,null,null,null,null,null,"Sighisoara","MS",null,null,null,"Barlea Radu","Oradea"]
[null,null,null,null,null,null,null,null,null,null,null,null,null,null,"Sovata","MS",null,null,null,"Barlianu Liviu","Vaslui"]
[null,null,null,null,null,null,null,null,null,null,null,null,null,null,"Stanceni","MS",null,null,null,"Barna Florin","Aiud"]
[null,null,null,null,null,null,null,null,null,null,null,null,null,null,"Targu Mures","MS",null,null,null,"Barsan Roberto Raul","Buzau"]
[null,null,null,null,null,null,null,null,null,null,null,null,null,null,"Tarnaveni","MS",null,null,null,"Bartha Arpad","Micfalau"]
[null,null,null,null,null,null,null,null,null,null,null,null,null,null,"Topa","MS",null,null,null,"Bartha David","Sovata"]
[null,null,null,null,null,null,null,null,null,null,null,null,null,null,"Vanatori","MS",null,null,null,"Bartha Dezso","Sovata"]
[null,null,null,null,null,null,null,null,null,null,null,null,null,null,"Alexandru cel Bun","NT",null,null,null,"Bartha Istvan Zsolt","Aita Mare"]
[null,null,null,null,null,null,null,null,null,null,null,null,null,null,"Bicaz","NT",null,null,null,"Bartha Lorant","Micfalau"]
[null,null,null,null,null,null,null,null,null,null,null,null,null,null,"Garcina","NT",null,null,null,"Bartic Stefan","Mogosesti"]
[null,null,null,null,null,null,null,null,null,null,null,null,null,null,"Gheraesti","NT",null,null,null,"Bartos Csongor","Miercurea Ciuc"]
[null,null,null,null,null,null,null,null,null,null,null,null,null,null,"Mircesti","NT",null,null,null,"Bartos Vlad","Cluj Napoca"]
[null,null,null,null,null,null,null,null,null,null,null,null,null,null,"Piatra Neamt","NT",null,null,null,"Batar Adrian","Bucuresti"]
[null,null,null,null,null,null,null,null,null,null,null,null,null,null,"Roman","NT",null,null,null,"Batin Ianis","Arad"]
[null,null,null,null,null,null,null,null,null,null,null,null,null,null,"Sabaoani","NT",null,null,null,"Batin Marius","Arad"]
[null,null,null,null,null,null,null,null,null,null,null,null,null,null,"Targu Neamt","NT",null,null,null,"Batir Alexandru","Bucuresti"]
[null,null,null,null,null,null,null,null,null,null,null,null,null,null,"Tibucani","NT",null,null,null,"Batista Lucian","Sibiu"]
[null,null,null,null,null,null,null,null,null,null,null,null,null,null,"Turturesti","NT",null,null,null,"Batog George","Buzau"]
[null,null,null,null,null,null,null,null,null,null,null,null,null,null,"Bals","OT",null,null,null,"Batrinu Valentin","Bucuresti"]
[null,null,null,null,null,null,null,null,null,null,null,null,null,null,"Caracal","OT",null,null,null,"Bayusz Peter","Arad"]
[null,null,null,null,null,null,null,null,null,null,null,null,null,null,"Gostavatu","OT",null,null,null,"Bayusz Zoltan","Arad"]
[null,null,null,null,null,null,null,null,null,null,null,null,null,null,"Slatina","OT",null,null,null,"Beches Andrei","Sibiu"]
[null,null,null,null,null,null,null,null,null,null,null,null,null,null,"Aricestii Rahtivani","PH",null,null,null,"Becleanu Octavian","Bucuresti"]
[null,null,null,null,null,null,null,null,null,null,null,null,null,null,"Azuga","PH",null,null,null,"Bectas Igor","Moldova-Hincesti"]
[null,null,null,null,null,null,null,null,null,null,null,null,null,null,"Baicoi","PH",null,null,null,"Beganu Mihai","Buzau"]
[null,null,null,null,null,null,null,null,null,null,null,null,null,null,"Barcanesti","PH",null,null,null,"Bege Laszlo","Joseni"]
[null,null,null,null,null,null,null,null,null,null,null,null,null,null,"Batesti","PH",null,null,null,"Beian Luca","Floresti"]
[null,null,null,null,null,null,null,null,null,null,null,null,null,null,"Blejoi","PH",null,null,null,"Beican Razvan","Bistrita"]
[null,null,null,null,null,null,null,null,null,null,null,null,null,null,"Boldesti","PH",null,null,null,"Bej Ioan","Arad"]
[null,null,null,null,null,null,null,null,null,null,null,null,null,null,"Boldesti Scaeni","PH",null,null,null,"Bej Sergiu","Arad"]
[null,null,null,null,null,null,null,null,null,null,null,null,null,null,"Bratasanca","PH",null,null,null,"Bejan Alexandru","Tecuci"]
[null,null,null,null,null,null,null,null,null,null,null,null,null,null,"Brazi","PH",null,null,null,"Bejan Boglarka","Targu Secuiesc"]
[null,null,null,null,null,null,null,null,null,null,null,null,null,null,"Breaza","PH",null,null,null,"Bejan Nicolae","Iasi"]
[null,null,null,null,null,null,null,null,null,null,null,null,null,null,"Bucov","PH",null,null,null,"Bejenariu Andrei","Arghira"]
[null,null,null,null,null,null,null,null,null,null,null,null,null,null,"Busteni","PH",null,null,null,"Bejenariu Costel","Siret"]
[null,null,null,null,null,null,null,null,null,null,null,null,null,null,"Calinesti Prahova","PH",null,null,null,"Bejinariu Valentin","Iasi"]
[null,null,null,null,null,null,null,null,null,null,null,null,null,null,"Campina","PH",null,null,null,"Beka Kristijan","Lokve"]
[null,null,null,null,null,null,null,null,null,null,null,null,null,null,"Cerasu","PH",null,null,null,"Belba Caius","Baile Herculane"]
[null,null,null,null,null,null,null,null,null,null,null,null,null,null,"Cocorasti Colt","PH",null,null,null,"Belba Mihai","Baile Herculane"]
[null,null,null,null,null,null,null,null,null,null,null,null,null,null,"Cocorastii Mislii","PH",null,null,null,"Belea Laurentiu","Galati"]
[null,null,null,null,null,null,null,null,null,null,null,null,null,null,"Comarnic","PH",null,null,null,"Belgun Ionut","Timisoara"]
[null,null,null,null,null,null,null,null,null,null,null,null,null,null,"Cornesti","PH",null,null,null,"Beltechi Razvan","Victoria"]
[null,null,null,null,null,null,null,null,null,null,null,null,null,null,"Cornu","PH",null,null,null,"Benca Lucian","Balan"]
[null,null,null,null,null,null,null,null,null,null,null,null,null,null,"Drajna de Jos","PH",null,null,null,"Benderschi Alexandru","Moldova-Briceni"]
[null,null,null,null,null,null,null,null,null,null,null,null,null,null,"Filipestii de Targ","PH",null,null,null,"Bendescu Matei","Iasi"]
[null,null,null,null,null,null,null,null,null,null,null,null,null,null,"Gornet","PH",null,null,null,"Bendris Nicu","Targu Mures"]
[null,null,null,null,null,null,null,null,null,null,null,null,null,null,"Gura Vitioarei","PH",null,null,null,"Benedek Elemer","Gheorgheni"]
[null,null,null,null,null,null,null,null,null,null,null,null,null,null,"Homoraciu","PH",null,null,null,"Benedek Oszkar Bela","Brasov"]
[null,null,null,null,null,null,null,null,null,null,null,null,null,null,"Izvoarele","PH",null,null,null,"Benko Jozsef","Reghin"]
[null,null,null,null,null,null,null,null,null,null,null,null,null,null,"Lipanesti","PH",null,null,null,"Bentea Alexandru","Targu Mures"]
[null,null,null,null,null,null,null,null,null,null,null,null,null,null,"Magurele","PH",null,null,null,"Benyi Crinel","Tarnaveni"]
[null,null,null,null,null,null,null,null,null,null,null,null,null,null,"Magureni","PH",null,null,null,"Berbecanu Andrei","Videle"]
[null,null,null,null,null,null,null,null,null,null,null,null,null,null,"Maneciu","PH",null,null,null,"Berbecar Alin","Zalau"]
[null,null,null,null,null,null,null,null,null,null,null,null,null,null,"Marginenii de Jos","PH",null,null,null,"Bercea Alex","Drobeta Tr Severin"]
[null,null,null,null,null,null,null,null,null,null,null,null,null,null,"Mizil","PH",null,null,null,"Bercea Darius Marian","Iasi"]
[null,null,null,null,null,null,null,null,null,null,null,null,null,null,"Nedelea","PH",null,null,null,"Berco Veaceslav","Suceava"]
[null,null,null,null,null,null,null,null,null,null,null,null,null,null,"Paulesti","PH",null,null,null,"Berco Vlad","Suceava"]
[null,null,null,null,null,null,null,null,null,null,null,null,null,null,"Pietrosani","PH",null,null,null,"Berei Adalbert","Satu Mare"]
[null,null,null,null,null,null,null,null,null,null,null,null,null,null,"Ploiesti","PH",null,null,null,"Berei Roland","Satu Mare"]
[null,null,null,null,null,null,null,null,null,null,null,null,null,null,"Ploiestiori","PH",null,null,null,"Berinde Paul","Satu Mare"]
[null,null,null,null,null,null,null,null,null,null,null,null,null,null,"Plopeni","PH",null,null,null,"Berinde Raul","Satu Mare"]
[null,null,null,null,null,null,null,null,null,null,null,null,null,null,"Plopu","PH",null,null,null,"Berki Milan","Arad"]
[null,null,null,null,null,null,null,null,null,null,null,null,null,null,"Predeal Sarari","PH",null,null,null,"Beschiu Daniel","Sibiu"]
[null,null,null,null,null,null,null,null,null,null,null,null,null,null,"Puchenii Mosneni","PH",null,null,null,"Besliu Alexandru","Suceava"]
[null,null,null,null,null,null,null,null,null,null,null,null,null,null,"Rafov","PH",null,null,null,"Besteala Andrei","Alexandria"]
[null,null,null,null,null,null,null,null,null,null,null,null,null,null,"Salciile","PH",null,null,null,"Bialis Nina","Dumbravita"]
[null,null,null,null,null,null,null,null,null,null,null,null,null,null,"Scorteni","PH",null,null,null,"Biber Adrian","Iasi"]
[null,null,null,null,null,null,null,null,null,null,null,null,null,null,"Sinaia","PH",null,null,null,"Bica Alexandru","Alesd"]
[null,null,null,null,null,null,null,null,null,null,null,null,null,null,"Slanic","PH",null,null,null,"Biciin Alexandru","Faurei"]
[null,null,null,null,null,null,null,null,null,null,null,null,null,null,"Strejnicu","PH",null,null,null,"Biciin Mitica","Faurei"]
[null,null,null,null,null,null,null,null,null,null,null,null,null,null,"Teisani","PH",null,null,null,"Bielinsckyi Victor","Stefanestii de Jos"]
[null,null,null,null,null,null,null,null,null,null,null,null,null,null,"Urlati","PH",null,null,null,"Bildea Nicola Daniel","Ramnicu Valcea"]
[null,null,null,null,null,null,null,null,null,null,null,null,null,null,"Urleta","PH",null,null,null,"Bilibok Kristof","Gheorgheni"]
[null,null,null,null,null,null,null,null,null,null,null,null,null,null,"Valcanesti","PH",null,null,null,"Bilt Catalin","Suceava"]
[null,null,null,null,null,null,null,null,null,null,null,null,null,null,"Valea Calugareasca","PH",null,null,null,"Bilt Cristian","Suceava"]
[null,null,null,null,null,null,null,null,null,null,null,null,null,null,"Valea Plopului","PH",null,null,null,"Bina Eduard","Dumbraveni SB"]
[null,null,null,null,null,null,null,null,null,null,null,null,null,null,"Valenii de Munte","PH",null,null,null,"Bira Mitache","Constanta"]
[null,null,null,null,null,null,null,null,null,null,null,null,null,null,"Varbilau","PH",null,null,null,"Biraut Emil","Cluj Napoca"]
[null,null,null,null,null,null,null,null,null,null,null,null,null,null,"Alibunar","S",null,null,null,"Biris Alexandru","Sighisoara"]
[null,null,null,null,null,null,null,null,null,null,null,null,null,null,"Anglia","S",null,null,null,"Birligea Gabriel","Baicoi"]
[null,null,null,null,null,null,null,null,null,null,null,null,null,null,"Arandjelovac","S",null,null,null,"Birloncea Mara","Medias"]
[null,null,null,null,null,null,null,null,null,null,null,null,null,null,"Armenia","S",null,null,null,"Biro Attila","Miercurea Ciuc"]
[null,null,null,null,null,null,null,null,null,null,null,null,null,null,"Austria","S",null,null,null,"Biro Attila","Targu Mures"]
[null,null,null,null,null,null,null,null,null,null,null,null,null,null,"Avdarma","S",null,null,null,"Biro Attila","Reghin"]
[null,null,null,null,null,null,null,null,null,null,null,null,null,null,"Balti","S",null,null,null,"Biro Balazs","Ungaria"]
[null,null,null,null,null,null,null,null,null,null,null,null,null,null,"Banatski Karlovac","S",null,null,null,"Biro Carol","Timisoara"]
[null,null,null,null,null,null,null,null,null,null,null,null,null,null,"Becej","S",null,null,null,"Birsan Marius","Brasov"]
[null,null,null,null,null,null,null,null,null,null,null,null,null,null,"Bela Crkva","S",null,null,null,"Birtalan Attila","Crasna"]
[null,null,null,null,null,null,null,null,null,null,null,null,null,null,"Belgia","S",null,null,null,"Birtalan Bence","Sovata"]
[null,null,null,null,null,null,null,null,null,null,null,null,null,null,"Belgrad","S",null,null,null,"Birtalan Casian","Dumbraveni SB"]
[null,null,null,null,null,null,null,null,null,null,null,null,null,null,"Bulgaria","S",null,null,null,"Birtalan Hunor","Sovata"]
[null,null,null,null,null,null,null,null,null,null,null,null,null,null,"California","S",null,null,null,"Birtalan Laszlo","Oradea"]
[null,null,null,null,null,null,null,null,null,null,null,null,null,null,"Canada","S",null,null,null,"Birtalan Levente","Sovata"]
[null,null,null,null,null,null,null,null,null,null,null,null,null,null,"Cernauti","S",null,null,null,"Birtalan Robert","Oradea"]
[null,null,null,null,null,null,null,null,null,null,null,null,null,null,"Chisinau","S",null,null,null,"Bischin Cristian","Cristian SB"]
[null,null,null,null,null,null,null,null,null,null,null,null,null,null,"Danemarca","S",null,null,null,"Bischin Gabriel","Cisnadie"]
[null,null,null,null,null,null,null,null,null,null,null,null,null,null,"Elvetia","S",null,null,null,"Bisoc Razvan","Sabaoani"]
[null,null,null,null,null,null,null,null,null,null,null,null,null,null,"Filipine","S",null,null,null,"Bistreanu Armand","Bucuresti"]
[null,null,null,null,null,null,null,null,null,null,null,null,null,null,"Franta","S",null,null,null,"Bistreanu Petru","Bucuresti"]
[null,null,null,null,null,null,null,null,null,null,null,null,null,null,"Germania","S",null,null,null,"Bistreanu Sorin","Bucuresti"]
[null,null,null,null,null,null,null,null,null,null,null,null,null,null,"Ibiza","S",null,null,null,"Bivolaru Marius","Ploiesti"]
[null,null,null,null,null,null,null,null,null,null,null,null,null,null,"Israel","S",null,null,null,"Bivolaru Stelian","Targoviste"]
[null,null,null,null,null,null,null,null,null,null,null,null,null,null,"Italia","S",null,null,null,"Bizau Robin","Chisoda"]
[null,null,null,null,null,null,null,null,null,null,null,null,null,null,"Japonia","S",null,null,null,"Bizo Virgil","Brad"]
[null,null,null,null,null,null,null,null,null,null,null,null,null,null,"Kikinda","S",null,null,null,"Bjelanovic Milojko","Nova Varos"]
[null,null,null,null,null,null,null,null,null,null,null,null,null,null,"Lokve","S",null,null,null,"Blaga Alexandru","Iasi"]
[null,null,null,null,null,null,null,null,null,null,null,null,null,null,"Londra","S",null,null,null,"Blaga Daria","Cluj Napoca"]
[null,null,null,null,null,null,null,null,null,null,null,null,null,null,"Macedonia","S",null,null,null,"Blaga Mircea","Simleu Silvaniei"]
[null,null,null,null,null,null,null,null,null,null,null,null,null,null,"Malaysia","S",null,null,null,"Blaga Mircea","Oradea"]
[null,null,null,null,null,null,null,null,null,null,null,null,null,null,"Manheim","S",null,null,null,"Blaga Radu","Zalau"]
[null,null,null,null,null,null,null,null,null,null,null,null,null,null,"Moldova","S",null,null,null,"Blaj Cristian","Slatina Timis"]
[null,null,null,null,null,null,null,null,null,null,null,null,null,null,"New York","S",null,null,null,"Blaj Cristian","Navodari"]
[null,null,null,null,null,null,null,null,null,null,null,null,null,null,"Nikolinci","S",null,null,null,"Blaj Filip","Iasi"]
[null,null,null,null,null,null,null,null,null,null,null,null,null,null,"Nis","S",null,null,null,"Bleahu Luca","Tarnaveni"]
[null,null,null,null,null,null,null,null,null,null,null,null,null,null,"Noua Zeelanda","S",null,null,null,"Bleoca Lucas","Tarnaveni"]
[null,null,null,null,null,null,null,null,null,null,null,null,null,null,"Novi Sad","S",null,null,null,"Bleoca Marius","Tarnaveni"]
[null,null,null,null,null,null,null,null,null,null,null,null,null,null,"Odesa","S",null,null,null,"Blidariu Alin","Bucovat"]
[null,null,null,null,null,null,null,null,null,null,null,null,null,null,"Odzaci","S",null,null,null,"Blindu Gabriel","Suceava"]
[null,null,null,null,null,null,null,null,null,null,null,null,null,null,"Osaka","S",null,null,null,"Boaca Danut","Buzau"]
[null,null,null,null,null,null,null,null,null,null,null,null,null,null,"Polonia","S",null,null,null,"Boaca Valentin","Branesti"]
[null,null,null,null,null,null,null,null,null,null,null,null,null,null,"Pozarevac","S",null,null,null,"Boamfa Marius Andrei","Fagaras"]
[null,null,null,null,null,null,null,null,null,null,null,null,null,null,"Rusia","S",null,null,null,"Boariu Timofte Danut","Borsec"]
[null,null,null,null,null,null,null,null,null,null,null,null,null,null,"Rusko Selo","S",null,null,null,"Boata Edgar","Arad"]
[null,null,null,null,null,null,null,null,null,null,null,null,null,null,"Serbia","S",null,null,null,"Bobarnac Gheorghe","Bacau"]
[null,null,null,null,null,null,null,null,null,null,null,null,null,null,"Sofia","S",null,null,null,"Bobaru Florin","Ploiesti"]
[null,null,null,null,null,null,null,null,null,null,null,null,null,null,"Spania","S",null,null,null,"Bobe Ionel","Faurei"]
[null,null,null,null,null,null,null,null,null,null,null,null,null,null,"Spantov","S",null,null,null,"Bobeica Eduard","Focsani"]
[null,null,null,null,null,null,null,null,null,null,null,null,null,null,"Suedia","S",null,null,null,"Bobeico Igor","Moldova"]
[null,null,null,null,null,null,null,null,null,null,null,null,null,null,"Transnistria","S",null,null,null,"Boboc Eva","Vatra Dornei"]
[null,null,null,null,null,null,null,null,null,null,null,null,null,null,"Ucraina","S",null,null,null,"Boboc Viorel","Slobozia"]
[null,null,null,null,null,null,null,null,null,null,null,null,null,null,"Ungaria","S",null,null,null,"Boboescu Gheorghe","Anina"]
[null,null,null,null,null,null,null,null,null,null,null,null,null,null,"Varset","S",null,null,null,"Bobos Marius","Apahida"]
[null,null,null,null,null,null,null,null,null,null,null,null,null,null,"Vietnam","S",null,null,null,"Bobu Stefan Minodor","Targu Neamt"]
[null,null,null,null,null,null,null,null,null,null,null,null,null,null,"Vlajkovac","S",null,null,null,"Boca Radu Stefan","Bucuresti"]
[null,null,null,null,null,null,null,null,null,null,null,null,null,null,"Vojvodinci","S",null,null,null,"Boca Timotei","Salcea"]
[null,null,null,null,null,null,null,null,null,null,null,null,null,null,"Zrenjanin","S",null,null,null,"Bocos David Nicolas","Apahida"]
[null,null,null,null,null,null,null,null,null,null,null,null,null,null,"Agnita","SB",null,null,null,"Bocos Eugen","Gherla"]
[null,null,null,null,null,null,null,null,null,null,null,null,null,null,"Bazna","SB",null,null,null,"Bocsan Ilie","Caransebes"]
[null,null,null,null,null,null,null,null,null,null,null,null,null,null,"Bradeni","SB",null,null,null,"Bodea Flaviu","Simleu Silvaniei"]
[null,null,null,null,null,null,null,null,null,null,null,null,null,null,"Cirta","SB",null,null,null,"Bodea Vasile","Panciu"]
[null,null,null,null,null,null,null,null,null,null,null,null,null,null,"Cirtisoara","SB",null,null,null,"Bodeanu Dan","Bucuresti"]
[null,null,null,null,null,null,null,null,null,null,null,null,null,null,"Cisnadie","SB",null,null,null,"Bodeanu Mihai","Bucuresti"]
[null,null,null,null,null,null,null,null,null,null,null,null,null,null,"Cristian SB","SB",null,null,null,"Bodin Ion","Tecuci"]
[null,null,null,null,null,null,null,null,null,null,null,null,null,null,"Dumbraveni SB","SB",null,null,null,"Bodnar Cosmin","Vicovu de Sus"]
[null,null,null,null,null,null,null,null,null,null,null,null,null,null,"Eliseni","SB",null,null,null,"Bodnari Mircea","Gura Humorului"]
[null,null,null,null,null,null,null,null,null,null,null,null,null,null,"Gura Raului","SB",null,null,null,"Bodor Attila","Jigodin"]
[null,null,null,null,null,null,null,null,null,null,null,null,null,null,"Medias","SB",null,null,null,"Bodor Ildiko","Jigodin"]
[null,null,null,null,null,null,null,null,null,null,null,null,null,null,"Ocna Sibiului","SB",null,null,null,"Bodroghi Aaron","Lipova"]
[null,null,null,null,null,null,null,null,null,null,null,null,null,null,"Pelisor","SB",null,null,null,"Boga Mihai","Viseu"]
[null,null,null,null,null,null,null,null,null,null,null,null,null,null,"Saliste","SB",null,null,null,"Bogdan Marian","Caransebes"]
[null,null,null,null,null,null,null,null,null,null,null,null,null,null,"Selimbar","SB",null,null,null,"Bogdan Raul","Deva"]
[null,null,null,null,null,null,null,null,null,null,null,null,null,null,"Sibiu","SB",null,null,null,"Bogdan Sergiu","Ilfov"]
[null,null,null,null,null,null,null,null,null,null,null,null,null,null,"Tilisca","SB",null,null,null,"Bogdan Tiberiu","Alexandria"]
[null,null,null,null,null,null,null,null,null,null,null,null,null,null,"Ban SJ","SJ",null,null,null,"Bognean Adrian","Delenii"]
[null,null,null,null,null,null,null,null,null,null,null,null,null,null,"Borla","SJ",null,null,null,"Bogyo Imre","Sfantu Gheorghe"]
[null,null,null,null,null,null,null,null,null,null,null,null,null,null,"Cehu Silvaniei","SJ",null,null,null,"Bohotineanu Florin","Vaslui"]
[null,null,null,null,null,null,null,null,null,null,null,null,null,null,"Crasna","SJ",null,null,null,"Bohotineanu Stefan","Vaslui"]
[null,null,null,null,null,null,null,null,null,null,null,null,null,null,"Ileanda","SJ",null,null,null,"Boian Vlad","Bucuresti"]
[null,null,null,null,null,null,null,null,null,null,null,null,null,null,"Jibou","SJ",null,null,null,"Boicu Eduard","Vaslui"]
[null,null,null,null,null,null,null,null,null,null,null,null,null,null,"Pericei","SJ",null,null,null,"Boicu Gabriel","Vatra Dornei"]
[null,null,null,null,null,null,null,null,null,null,null,null,null,null,"Sarmasag","SJ",null,null,null,"Boicu Tatiana","Moldova-Sadaclia"]
[null,null,null,null,null,null,null,null,null,null,null,null,null,null,"Simleu Silvaniei","SJ",null,null,null,"Boicu Victor","Vatra Dornei"]
[null,null,null,null,null,null,null,null,null,null,null,null,null,null,"Somes Odorhei SJ","SJ",null,null,null,"Boitos Rodica","Oradea"]
[null,null,null,null,null,null,null,null,null,null,null,null,null,null,"Supuru de jos","SJ",null,null,null,"Bojica Alexandru","Giroc"]
[null,null,null,null,null,null,null,null,null,null,null,null,null,null,"Surduc","SJ",null,null,null,"Boka Norbert","Arad"]
[null,null,null,null,null,null,null,null,null,null,null,null,null,null,"Varsolt","SJ",null,null,null,"Bokor Albert","Campulung Muscel"]
[null,null,null,null,null,null,null,null,null,null,null,null,null,null,"Zalau","SJ",null,null,null,"Bokor Zoltan Jr","Brasov"]
[null,null,null,null,null,null,null,null,null,null,null,null,null,null,"Carei","SM",null,null,null,"Bokor Zoltan Sr","Brasov"]
[null,null,null,null,null,null,null,null,null,null,null,null,null,null,"Negresti Oas","SM",null,null,null,"Bokor Zsolt","Sovata"]
[null,null,null,null,null,null,null,null,null,null,null,null,null,null,"Satu Mare","SM",null,null,null,"Boldor Cosmin","Cluj Napoca"]
[null,null,null,null,null,null,null,null,null,null,null,null,null,null,"Tasnad","SM",null,null,null,"Boldor Serban","Cluj Napoca"]
[null,null,null,null,null,null,null,null,null,null,null,null,null,null,"Arbore","SV",null,null,null,"Bolea Catalin","Bucuresti"]
[null,null,null,null,null,null,null,null,null,null,null,null,null,null,"Baia","SV",null,null,null,"Bolgarov David George","Bucuresti"]
[null,null,null,null,null,null,null,null,null,null,null,null,null,null,"Baisesti","SV",null,null,null,"Bolgarov Lucian Andrei","Bucuresti"]
[null,null,null,null,null,null,null,null,null,null,null,null,null,null,"Berchisesti","SV",null,null,null,"Bolos Viorel","Hateg"]
[null,null,null,null,null,null,null,null,null,null,null,null,null,null,"Bilca","SV",null,null,null,"Bolota Marius","Sibiu"]
[null,null,null,null,null,null,null,null,null,null,null,null,null,null,"Cajvana","SV",null,null,null,"Bolovaneanu Vlad","Targoviste"]
[null,null,null,null,null,null,null,null,null,null,null,null,null,null,"Calinesti SV","SV",null,null,null,"Bolozan Laurentiu","Braila"]
[null,null,null,null,null,null,null,null,null,null,null,null,null,null,"Campeni","AB",null,null,null,"Bompa Cosmin","Reghin"]
[null,null,null,null,null,null,null,null,null,null,null,null,null,null,"Campulung Mold","SV",null,null,null,"Boncoi Bogdan","Sinaia"]
[null,null,null,null,null,null,null,null,null,null,null,null,null,null,"Capu Codrului","SV",null,null,null,"Bondar Leontin","Oradea"]
[null,null,null,null,null,null,null,null,null,null,null,null,null,null,"Cosna","SV",null,null,null,"Bondila Adrian","Targoviste"]
[null,null,null,null,null,null,null,null,null,null,null,null,null,null,"Dolhasca","SV",null,null,null,"Bondoc Alesia","Brasov"]
[null,null,null,null,null,null,null,null,null,null,null,null,null,null,"Dolhestii Mari","SV",null,null,null,"Bondoc Alexandru","Brasov"]
[null,null,null,null,null,null,null,null,null,null,null,null,null,null,"Dorna Candrenilor","SV",null,null,null,"Bondor Adrian","Bacau"]
[null,null,null,null,null,null,null,null,null,null,null,null,null,null,"Dornesti","SV",null,null,null,"Bondrea Attila","Gheorgheni"]
[null,null,null,null,null,null,null,null,null,null,null,null,null,null,"Dumbraveni SV","SV",null,null,null,"Bora Nicolae","Alba Iulia"]
[null,null,null,null,null,null,null,null,null,null,null,null,null,null,"Falcau","SV",null,null,null,"Bora Paul","Cluj Napoca"]
[null,null,null,null,null,null,null,null,null,null,null,null,null,null,"Falticeni","SV",null,null,null,"Bora Robert","Constanta"]
[null,null,null,null,null,null,null,null,null,null,null,null,null,null,"Frasin","SV",null,null,null,"Borbeiu Ciprian","Baia Mare"]
[null,null,null,null,null,null,null,null,null,null,null,null,null,null,"Fratauti","SV",null,null,null,"Borbeiu Paul","Baia Mare"]
[null,null,null,null,null,null,null,null,null,null,null,null,null,null,"Fratautii Noi","SV",null,null,null,"Borbeiu Raul","Baia Mare"]
[null,null,null,null,null,null,null,null,null,null,null,null,null,null,"Fratautii Vechi","SV",null,null,null,"Borbely Gabi","Bucuresti"]
[null,null,null,null,null,null,null,null,null,null,null,null,null,null,"Galanesti","SV",null,null,null,"Borbil Octavian","Sibiu"]
[null,null,null,null,null,null,null,null,null,null,null,null,null,null,"Granicesti","SV",null,null,null,"Borca Liviu","Targu Mures"]
[null,null,null,null,null,null,null,null,null,null,null,null,null,null,"Gura Humorului","SV",null,null,null,"Borcea Daniel","Bucuresti"]
[null,null,null,null,null,null,null,null,null,null,null,null,null,null,"Hartop","SV",null,null,null,"Borcila Alexandru","Targu Neamt"]
[null,null,null,null,null,null,null,null,null,null,null,null,null,null,"Horodnic de Jos","SV",null,null,null,"Borcsi Jozsef","Timisoara"]
[null,null,null,null,null,null,null,null,null,null,null,null,null,null,"Horodnic de Sus","SV",null,null,null,"Bordas Laszlo","Santionlunca"]
[null,null,null,null,null,null,null,null,null,null,null,null,null,null,"Hurjuieni","SV",null,null,null,"Bordas Zsolt","Santionlunca"]
[null,null,null,null,null,null,null,null,null,null,null,null,null,null,"Liteni","SV",null,null,null,"Bordea Cristian","Giroc"]
[null,null,null,null,null,null,null,null,null,null,null,null,null,null,"Magura","SV",null,null,null,"Bordea Diana","Calan"]
[null,null,null,null,null,null,null,null,null,null,null,null,null,null,"Maneuti","SV",null,null,null,"Bordeianu Alice","Bucuresti"]
[null,null,null,null,null,null,null,null,null,null,null,null,null,null,"Marginea","SV",null,null,null,"Bordeianu Marcel","Bucuresti"]
[null,null,null,null,null,null,null,null,null,null,null,null,null,null,"Mihoveni","SV",null,null,null,"Bordeianu Marius","Bucuresti"]
[null,null,null,null,null,null,null,null,null,null,null,null,null,null,"Milisauti","SV",null,null,null,"Bordusanu Mona Maria","Constanta"]
[null,null,null,null,null,null,null,null,null,null,null,null,null,null,"Oniceni","SV",null,null,null,"Borisov David","Moldova-Drochia"]
[null,null,null,null,null,null,null,null,null,null,null,null,null,null,"Paltinoasa","SV",null,null,null,"Borla Nicolae","Cluj Napoca"]
[null,null,null,null,null,null,null,null,null,null,null,null,null,null,"Partestii de Jos","SV",null,null,null,"Borod George","Stei"]
[null,null,null,null,null,null,null,null,null,null,null,null,null,null,"Plopeni SV","SV",null,null,null,"Borodi Alin","Cluj Napoca"]
[null,null,null,null,null,null,null,null,null,null,null,null,null,null,"Poiana Negri","SV",null,null,null,"Borodi Claudiu","Dobric"]
[null,null,null,null,null,null,null,null,null,null,null,null,null,null,"Poiana Stampei","SV",null,null,null,"Borodi Levi","Dobric"]
[null,null,null,null,null,null,null,null,null,null,null,null,null,null,"Prelipca","SV",null,null,null,"Boroica Maria","Bucuresti"]
[null,null,null,null,null,null,null,null,null,null,null,null,null,null,"Preutesti","SV",null,null,null,"Boroleanu Robert","Bucuresti"]
[null,null,null,null,null,null,null,null,null,null,null,null,null,null,"Putna","SV",null,null,null,"Boros Mihaly","Crasna"]
[null,null,null,null,null,null,null,null,null,null,null,null,null,null,"Radauti","SV",null,null,null,"Borosoiu Laurentiu","Sinaia"]
[null,null,null,null,null,null,null,null,null,null,null,null,null,null,"Romanesti","SV",null,null,null,"Borovscaia Ungurean Anastasia","Moldova-Chisinau"]
[null,null,null,null,null,null,null,null,null,null,null,null,null,null,"Salcea","SV",null,null,null,"Bors Grigore","Moldova-Chisinau"]
[null,null,null,null,null,null,null,null,null,null,null,null,null,null,"Serbanesti","SV",null,null,null,"Borsan Adrian","Cluj Napoca"]
[null,null,null,null,null,null,null,null,null,null,null,null,null,null,"Siret","SV",null,null,null,"Borsan David","Cluj Napoca"]
[null,null,null,null,null,null,null,null,null,null,null,null,null,null,"Solca","SV",null,null,null,"Borsan Petru","Cluj Napoca"]
[null,null,null,null,null,null,null,null,null,null,null,null,null,null,"Straja","SV",null,null,null,"Borsci Ruslan","Moldova-Drochia"]
[null,null,null,null,null,null,null,null,null,null,null,null,null,null,"Stulpicani","SV",null,null,null,"Borta Alexandru","Iasi"]
[null,null,null,null,null,null,null,null,null,null,null,null,null,null,"Suceava","SV",null,null,null,"Borza Sergiu","Moldova-Leova"]
[null,null,null,null,null,null,null,null,null,null,null,null,null,null,"Sucevita","SV",null,null,null,"Bosbiciu Stefan","Nasaud"]
[null,null,null,null,null,null,null,null,null,null,null,null,null,null,"Tibeni","SV",null,null,null,"Bostan Culita","Moinesti"]
[null,null,null,null,null,null,null,null,null,null,null,null,null,null,"Tisauti","SV",null,null,null,"Bostan Ionut","Braila"]
[null,null,null,null,null,null,null,null,null,null,null,null,null,null,"Udesti","SV",null,null,null,"Bostan Maxim","Moldova-Cahul"]
[null,null,null,null,null,null,null,null,null,null,null,null,null,null,"Vama SV","SV",null,null,null,"Bostan Nicolae","Moldova-Cahul"]
[null,null,null,null,null,null,null,null,null,null,null,null,null,null,"Varatec","SV",null,null,null,"Bostinaru Filip","Curtea de Arges"]
[null,null,null,null,null,null,null,null,null,null,null,null,null,null,"Varfu Dealului","SV",null,null,null,"Bostinaru Paul","Curtea de Arges"]
[null,null,null,null,null,null,null,null,null,null,null,null,null,null,"Vatra Dornei","SV",null,null,null,"Bostiog Cristian","Vicovu de Jos"]
[null,null,null,null,null,null,null,null,null,null,null,null,null,null,"Vicovu de Jos","SV",null,null,null,"Bot Ioan","Uriu"]
[null,null,null,null,null,null,null,null,null,null,null,null,null,null,"Vicovu de Sus","SV",null,null,null,"Bota Sergiu","Cluj Napoca"]
[null,null,null,null,null,null,null,null,null,null,null,null,null,null,"Voitinel","SV",null,null,null,"Botanel Eduard","Rovinari"]
[null,null,null,null,null,null,null,null,null,null,null,null,null,null,"Volovat","SV",null,null,null,"Botanel Grigore","Rovinari"]
[null,null,null,null,null,null,null,null,null,null,null,null,null,null,"Babadag","TL",null,null,null,"Botar Szilard","Miercurea Ciuc"]
[null,null,null,null,null,null,null,null,null,null,null,null,null,null,"Cerna","TL",null,null,null,"Botas Constantin","Sannicolau Mare"]
[null,null,null,null,null,null,null,null,null,null,null,null,null,null,"Greci","TL",null,null,null,"Bote Tudor","Dej"]
[null,null,null,null,null,null,null,null,null,null,null,null,null,null,"Isaccea","TL",null,null,null,"Botea Fabian","Hunedoara"]
[null,null,null,null,null,null,null,null,null,null,null,null,null,null,"Jijila","TL",null,null,null,"Botea Mihai","Braila"]
[null,null,null,null,null,null,null,null,null,null,null,null,null,null,"Jurilovca","TL",null,null,null,"Boteanu Alexandru","Constanta"]
[null,null,null,null,null,null,null,null,null,null,null,null,null,null,"Luncavita","TL",null,null,null,"Boteanu Mihai Claudiu","Slobozia"]
[null,null,null,null,null,null,null,null,null,null,null,null,null,null,"Macin","TL",null,null,null,"Boteanu Nicu","Bucuresti"]
[null,null,null,null,null,null,null,null,null,null,null,null,null,null,"Niculitel","TL",null,null,null,"Botez Radu","Targu Mures"]
[null,null,null,null,null,null,null,null,null,null,null,null,null,null,"Tulcea","TL",null,null,null,"Botezan Vlad","Ludus"]
[null,null,null,null,null,null,null,null,null,null,null,null,null,null,"Vacareni","TL",null,null,null,"Botezatu Nicusor","Focsani"]
[null,null,null,null,null,null,null,null,null,null,null,null,null,null,"Buzias","TM",null,null,null,"Botezatu Onelus","Galati"]
[null,null,null,null,null,null,null,null,null,null,null,null,null,null,"Curtea","TM",null,null,null,"Bothazan Florin","Dej"]
[null,null,null,null,null,null,null,null,null,null,null,null,null,null,"Deta","TM",null,null,null,"Botian Radu","Sibiu"]
[null,null,null,null,null,null,null,null,null,null,null,null,null,null,"Dumbravita","TM",null,null,null,"Botnaru Alex","Oradea"]
[null,null,null,null,null,null,null,null,null,null,null,null,null,null,"Faget","TM",null,null,null,"Botoc Ovidiu","Paulesti"]
[null,null,null,null,null,null,null,null,null,null,null,null,null,null,"Giroc","TM",null,null,null,"Botosneanu Ionut","Videle"]
[null,null,null,null,null,null,null,null,null,null,null,null,null,null,"Jimbolia","TM",null,null,null,"Botusan Florin","Suceava"]
[null,null,null,null,null,null,null,null,null,null,null,null,null,null,"Lugoj","TM",null,null,null,"Boureanu Constantin","Iasi"]
[null,null,null,null,null,null,null,null,null,null,null,null,null,null,"Margina","TM",null,null,null,"Boureanu Ionel","Iasi"]
[null,null,null,null,null,null,null,null,null,null,null,null,null,null,"Moravita","TM",null,null,null,"Bozga Dan","Arad"]
[null,null,null,null,null,null,null,null,null,null,null,null,null,null,"Nadrag","TM",null,null,null,"Bozga Luisa","Dobric"]
[null,null,null,null,null,null,null,null,null,null,null,null,null,null,"Sacalaz","TM",null,null,null,"Bozga Priscilla","Beclean"]
[null,null,null,null,null,null,null,null,null,null,null,null,null,null,"Sandra","TM",null,null,null,"Bozga Stefan","Beclean"]
[null,null,null,null,null,null,null,null,null,null,null,null,null,null,"Sannicolau Mare","TM",null,null,null,"Bozga Viorel","Dobric"]
[null,null,null,null,null,null,null,null,null,null,null,null,null,null,"Silvas","TM",null,null,null,"Boznea Daniel","Deva"]
[null,null,null,null,null,null,null,null,null,null,null,null,null,null,"Timisoara","TM",null,null,null,"Bozosan Petre","Sibiu"]
[null,null,null,null,null,null,null,null,null,null,null,null,null,null,"Utvin","TM",null,null,null,"Brabete Danut","Deva"]
[null,null,null,null,null,null,null,null,null,null,null,null,null,null,"Voiteg","TM",null,null,null,"Bradean Toma","Arad"]
[null,null,null,null,null,null,null,null,null,null,null,null,null,null,"Zagujeni","TM",null,null,null,"Bradina Daniel","Calan"]
[null,null,null,null,null,null,null,null,null,null,null,null,null,null,"Alexandria","TR",null,null,null,"Bradu Dan","Iasi"]
[null,null,null,null,null,null,null,null,null,null,null,null,null,null,"Ciuperceni","TR",null,null,null,"Bradu Georgel","Barlad"]
[null,null,null,null,null,null,null,null,null,null,null,null,null,null,"Frumoasa","TR",null,null,null,"Bradusca Cornel","Targu Jiu"]
[null,null,null,null,null,null,null,null,null,null,null,null,null,null,"Mosteni","TR",null,null,null,"Braescu Valentin","Timisoara"]
[null,null,null,null,null,null,null,null,null,null,null,null,null,null,"Rosiori de Vede","TR",null,null,null,"Bran Florin","Tulcea"]
[null,null,null,null,null,null,null,null,null,null,null,null,null,null,"Sericu","TR",null,null,null,"Bran Miruna","Buhusi"]
[null,null,null,null,null,null,null,null,null,null,null,null,null,null,"Tarnava","TR",null,null,null,"Bran Nicu","Brasov"]
[null,null,null,null,null,null,null,null,null,null,null,null,null,null,"Teleorman","TR",null,null,null,"Brandusa Marius","Sighisoara"]
[null,null,null,null,null,null,null,null,null,null,null,null,null,null,"Turnu Magurele","TR",null,null,null,"Braniste George","Bacau"]
[null,null,null,null,null,null,null,null,null,null,null,null,null,null,"Videle","TR",null,null,null,"Brasoveanu Razvan","Iasi"]
[null,null,null,null,null,null,null,null,null,null,null,null,null,null,"Brezoi","VL",null,null,null,"Brassai Magor","Reghin"]
[null,null,null,null,null,null,null,null,null,null,null,null,null,null,"Corabia","OT",null,null,null,"Brassai Zoard","Reghin"]
[null,null,null,null,null,null,null,null,null,null,null,null,null,null,"Dragasani","VL",null,null,null,"Brateanu Liviu","Bacau"]
[null,null,null,null,null,null,null,null,null,null,null,null,null,null,"Malaia","VL",null,null,null,"Bratescu Adrian","Targoviste"]
[null,null,null,null,null,null,null,null,null,null,null,null,null,null,"Ramnicu Valcea","VL",null,null,null,"Bratescu Alexandru","Bucuresti"]
[null,null,null,null,null,null,null,null,null,null,null,null,null,null,"Adjud","VN",null,null,null,"Bratosin Lica","Faurei"]
[null,null,null,null,null,null,null,null,null,null,null,null,null,null,"Biliesti","VN",null,null,null,"Bratu Andrei","Brasov"]
[null,null,null,null,null,null,null,null,null,null,null,null,null,null,"Calienii Vechi","VN",null,null,null,"Bratu Antonia","Buzau"]
[null,null,null,null,null,null,null,null,null,null,null,null,null,null,"Cotesti","VN",null,null,null,"Bratu Aurel","Constanta"]
[null,null,null,null,null,null,null,null,null,null,null,null,null,null,"Dumbraveni VN","VN",null,null,null,"Bratu Florentin","Bucuresti"]
[null,null,null,null,null,null,null,null,null,null,null,null,null,null,"Dumitresti","VN",null,null,null,"Bratu Gabriel","Italia"]
[null,null,null,null,null,null,null,null,null,null,null,null,null,null,"Focsani","VN",null,null,null,"Breaza Theodor","Drobeta Tr Severin"]
[null,null,null,null,null,null,null,null,null,null,null,null,null,null,"Gugesti","VN",null,null,null,"Bregar Dan","Alba Iulia"]
[null,null,null,null,null,null,null,null,null,null,null,null,null,null,"Jaristea","VN",null,null,null,"Breje Marin","Zalau"]
[null,null,null,null,null,null,null,null,null,null,null,null,null,null,"Marasesti","VN",null,null,null,"Bretan Alexandru","Satu Mare"]
[null,null,null,null,null,null,null,null,null,null,null,null,null,null,"Marasti","VN",null,null,null,"Bretan Natalia","Satu Mare"]
[null,null,null,null,null,null,null,null,null,null,null,null,null,null,"Nistoresti","VN",null,null,null,"Bria Vitalie","Bucuresti"]
[null,null,null,null,null,null,null,null,null,null,null,null,null,null,"Odobesti","VN",null,null,null,"Briceag Bebe","Targoviste"]
[null,null,null,null,null,null,null,null,null,null,null,null,null,null,"Panciu","VN",null,null,null,"Bricico Valeri","Moldova-Chisinau"]
[null,null,null,null,null,null,null,null,null,null,null,null,null,null,"Paunesti","VN",null,null,null,"Brinza Dorin","Moldova-Balti"]
[null,null,null,null,null,null,null,null,null,null,null,null,null,null,"Pufesti","VN",null,null,null,"Brinza Paul","Iasi"]
[null,null,null,null,null,null,null,null,null,null,null,null,null,null,"Straoane","VN",null,null,null,"Brinza Vitalie","Moldova-Balti"]
[null,null,null,null,null,null,null,null,null,null,null,null,null,null,"Barlad","VS",null,null,null,"Brisc Nelu","Timisoara"]
[null,null,null,null,null,null,null,null,null,null,null,null,null,null,"Vaslui","VS",null,null,null,"Broatec Mihai","Targu Mures"]
[null,null,null,null,null,null,null,null,null,null,null,null,null,null,"x","x",null,null,null,"Brodetchi Andrei","Sibiu"]
[null,null,null,null,null,null,null,null,null,null,null,null,null,null,"Sanpaul AR","AR",null,null,null,"Brotea Aurel","Bucuresti"]
[null,null,null,null,null,null,null,null,null,null,null,null,null,null,"Ruse","S",null,null,null,"Bruchiu Doru","Ploiesti"]
[null,null,null,null,null,null,null,null,null,null,null,null,null,null,"Mogosesti Siret","IS",null,null,null,"Brulea Petre","Paulesti"]
[null,null,null,null,null,null,null,null,null,null,null,null,null,null,"Dumbraveni","SB",null,null,null,"Bruma Daniel","Bacau"]
[null,null,null,null,null,null,null,null,null,null,null,null,null,null,"Bors","BH",null,null,null,"Bruma Ion","Harsova"]
[null,null,null,null,null,null,null,null,null,null,null,null,null,null,"Cocorastii Grind","PH",null,null,null,"Bruma Ovidiu","Bucuresti"]
[null,null,null,null,null,null,null,null,null,null,null,null,null,null,"Dobric","BN",null,null,null,"Bruzan Cosmin","Calan"]
[null,null,null,null,null,null,null,null,null,null,null,null,null,null,"Rediu","IS",null,null,null,"Bubanja Dragan","Belgrad"]
[null,null,null,null,null,null,null,null,null,null,null,null,null,null,"Victor Vlad Delamarina","TM",null,null,null,"Buboi Bogdan","Zalau"]
[null,null,null,null,null,null,null,null,null,null,null,null,null,null,"Santamaria Orlea","HD",null,null,null,"Bubulac Cristi","Piatra Neamt"]
[null,null,null,null,null,null,null,null,null,null,null,null,null,null,"Lozovik","S",null,null,null,"Bucalaete Andrei","Alimpesti GJ"]
[null,null,null,null,null,null,null,null,null,null,null,null,null,null,"Smederevo","S",null,null,null,"Buciu Cristina","Bucuresti"]
[null,null,null,null,null,null,null,null,null,null,null,null,null,null,"Stara Palanka","S",null,null,null,"Buciuman Ionut","Oradea"]
[null,null,null,null,null,null,null,null,null,null,null,null,null,null,"Ilandza","S",null,null,null,"Bucovszki Alexandru","Sighetu Marmatiei"]
[null,null,null,null,null,null,null,null,null,null,null,null,null,null,"Sarajevo","S",null,null,null,"Bucsa Eugen Marcel","Apahida"]
[null,null,null,null,null,null,null,null,null,null,null,null,null,null,"Valcau","SJ",null,null,null,"Bucsan Romeo","Pitesti"]
[null,null,null,null,null,null,null,null,null,null,null,null,null,null,"Harsova","CT",null,null,null,"Bucse Natalia","Sibiu"]
[null,null,null,null,null,null,null,null,null,null,null,null,null,null,"Iordania","S",null,null,null,"Bucse Stefan","Sibiu"]
[null,null,null,null,null,null,null,null,null,null,null,null,null,null,"Malut","BN",null,null,null,"Bucsoiu Vlad","Brasov"]
[null,null,null,null,null,null,null,null,null,null,null,null,null,null,"Sacadat","BH",null,null,null,"Bucur Alin Adrian","Targu Mures"]
[null,null,null,null,null,null,null,null,null,null,null,null,null,null,"Bucovat","TM",null,null,null,"Bucur Andrei","Blaj"]
[null,null,null,null,null,null,null,null,null,null,null,null,null,null,"Caianu Mic","BN",null,null,null,"Bucur Andrei Nicolas","Buzau"]
[null,null,null,null,null,null,null,null,null,null,null,null,null,null,"Lopadea Noua","AB",null,null,null,"Bucur Dan","Cisnadie"]
[null,null,null,null,null,null,null,null,null,null,null,null,null,null,"Cenade","AB",null,null,null,"Bucur Mario","Bucuresti"]
[null,null,null,null,null,null,null,null,null,null,null,null,null,null,"Atintis","MS",null,null,null,"Bucurel Ion","Comanesti"]
[null,null,null,null,null,null,null,null,null,null,null,null,null,null,"Sarmasu","MS",null,null,null,"Bucurenciu Mihai","Fagaras"]
[null,null,null,null,null,null,null,null,null,null,null,null,null,null,"Pancevo","S",null,null,null,"Bud Ilie","Cavnic"]
[null,null,null,null,null,null,null,null,null,null,null,null,null,null,"Petrovac","S",null,null,null,"Budean Daniel","Gherla"]
[null,null,null,null,null,null,null,null,null,null,null,null,null,null,"Fundu Moldovei","SV",null,null,null,"Budeanu Cristian","Suceava"]
[null,null,null,null,null,null,null,null,null,null,null,null,null,null,"Giarmata","TM",null,null,null,"Budeanu Dan","Sannicolau Mare"]
[null,null,null,null,null,null,null,null,null,null,null,null,null,null,"Hida","SJ",null,null,null,"Budes Alin","Timisoara"]
[null,null,null,null,null,null,null,null,null,null,null,null,null,null,"Tuzla","CT",null,null,null,"Budescu Marian","Galati"]
[null,null,null,null,null,null,null,null,null,null,null,null,null,null,"Snagov","IF",null,null,null,"Budihala Raul","Hunedoara"]
[null,null,null,null,null,null,null,null,null,null,null,null,null,null,"Moldova-Balti","S",null,null,null,"Budiu Ioana","Medias"]
[null,null,null,null,null,null,null,null,null,null,null,null,null,null,"Moldova-Chisinau","S",null,null,null,"Bufetov Ilia","Moldova-Balti"]
[null,null,null,null,null,null,null,null,null,null,null,null,null,null,"Moldova-Lunga","S",null,null,null,"Buga Adrian","Cluj Napoca"]
[null,null,null,null,null,null,null,null,null,null,null,null,null,null,"Moldova-Avdarma","S",null,null,null,"Bugarcic Ivan","Belgrad"]
[null,null,null,null,null,null,null,null,null,null,null,null,null,null,"Moldova-Tvardita","S",null,null,null,"Bugarin Fabian","Lugoj"]
[null,null,null,null,null,null,null,null,null,null,null,null,null,null,"Moldova-Taraclia","S",null,null,null,"Bugariu Teodora","Lugoj"]
[null,null,null,null,null,null,null,null,null,null,null,null,null,null,"Moldova-Comrat","S",null,null,null,"Buhai Andrii","Stefanestii de Jos"]
[null,null,null,null,null,null,null,null,null,null,null,null,null,null,"Moldova-Basarabeasca","S",null,null,null,"Buhaianu Bogdan","Bacau"]
[null,null,null,null,null,null,null,null,null,null,null,null,null,null,"Moldova-Cahul","S",null,null,null,"Buhaianu Ionut","Siret"]
[null,null,null,null,null,null,null,null,null,null,null,null,null,null,"Moldova-Vulcanesti","S",null,null,null,"Buica Elisei","Hateg"]
[null,null,null,null,null,null,null,null,null,null,null,null,null,null,"Moldova-Budjac","S",null,null,null,"Buica Filip","Hateg"]
[null,null,null,null,null,null,null,null,null,null,null,null,null,null,"Moldova-Dubasari","S",null,null,null,"Buie Laurentiu","Arad"]
[null,null,null,null,null,null,null,null,null,null,null,null,null,null,"Pildesti","NT",null,null,null,"Bujenita Elena","Galati"]
[null,null,null,null,null,null,null,null,null,null,null,null,null,null,"Tamaseni","NT",null,null,null,"Bujenita Mihai","Galati"]
[null,null,null,null,null,null,null,null,null,null,null,null,null,null,"Mihai Viteazu","CJ",null,null,null,"Bujoi Emanuel","Braila"]
[null,null,null,null,null,null,null,null,null,null,null,null,null,null,"Moldova-Ceadir-Lunga","S",null,null,null,"Bujoreanu Neculai","Falticeni"]
[null,null,null,null,null,null,null,null,null,null,null,null,null,null,"Moldova-Cazaclia","S",null,null,null,"Bujuleg Petre","Breaza"]
[null,null,null,null,null,null,null,null,null,null,null,null,null,null,"Ucraina-Ciornomorsk","S",null,null,null,"Bukuresti Lorand","Sovata"]
[null,null,null,null,null,null,null,null,null,null,null,null,null,null,"Harlau","IS",null,null,null,"Bularda Iulian","Barlad"]
[null,null,null,null,null,null,null,null,null,null,null,null,null,null,"Muncel","IS",null,null,null,"Bulat Petru","Moldova-Chisinau"]
[null,null,null,null,null,null,null,null,null,null,null,null,null,null,"Ciohorani","IS",null,null,null,"Bulcu Daniel","Bistrita"]
[null,null,null,null,null,null,null,null,null,null,null,null,null,null,"Remetea Mare","TM",null,null,null,"Buleandra Radu","Craiova"]
[null,null,null,null,null,null,null,null,null,null,null,null,null,null,"Stei","BH",null,null,null,"Bulgari Serghei","Moldova-Briceni"]
[null,null,null,null,null,null,null,null,null,null,null,null,null,null,"Moldova-Briceni","S",null,null,null,"Buliga Cornel","Galati"]
[null,null,null,null,null,null,null,null,null,null,null,null,null,null,"Moldova-Larga","S",null,null,null,"Bulihar Cristian","Vaslui"]
[null,null,null,null,null,null,null,null,null,null,null,null,null,null,"Moldova-Lipcani","S",null,null,null,"Bulz Ovidiu","Arad"]
[null,null,null,null,null,null,null,null,null,null,null,null,null,null,"Moldova-Coteala","S",null,null,null,"Bumbu Adrian","Zalau"]
[null,null,null,null,null,null,null,null,null,null,null,null,null,null,"Vama","SM",null,null,null,"Bumbu Florin","Focsani"]
[null,null,null,null,null,null,null,null,null,null,null,null,null,null,"Moldova-Edinet","S",null,null,null,"Bunduchi Mihnea","Solont"]
[null,null,null,null,null,null,null,null,null,null,null,null,null,null,"Moldova-Drochia","S",null,null,null,"Bunduchi Mircea Andrei","Solont"]
[null,null,null,null,null,null,null,null,null,null,null,null,null,null,"Moldova-Singerei","S",null,null,null,"Bunea Adrian","Ploiesti"]
[null,null,null,null,null,null,null,null,null,null,null,null,null,null,"Vicov","SV",null,null,null,"Bunea Andrei","Bucuresti"]
[null,null,null,null,null,null,null,null,null,null,null,null,null,null,"Vadu Moldovei","SV",null,null,null,"Bunea Aurel","Salciua"]
[null,null,null,null,null,null,null,null,null,null,null,null,null,null,"Petia","SV",null,null,null,"Bungeanu Bogdan","Vaslui"]
[null,null,null,null,null,null,null,null,null,null,null,null,null,null,"Arghira","SV",null,null,null,"Bura Ionut Virgil","Cluj Napoca"]
[null,null,null,null,null,null,null,null,null,null,null,null,null,null,"Blandesti","BT",null,null,null,"Buraciuc Cornel","Nasaud"]
[null,null,null,null,null,null,null,null,null,null,null,null,null,null,"Slatina Timis","CS",null,null,null,"Buraciuc Raluca","Nasaud"]
[null,null,null,null,null,null,null,null,null,null,null,null,null,null,"Telega","PH",null,null,null,"Buravtov Maxim","Ucraina-Odessa"]
[null,null,null,null,null,null,null,null,null,null,null,null,null,null,"Jebel","TM",null,null,null,"Burca Albertin","Roman"]
[null,null,null,null,null,null,null,null,null,null,null,null,null,null,"Balomir","HD",null,null,null,"Burca Virgil","Sinaia"]
[null,null,null,null,null,null,null,null,null,null,null,null,null,null,"Bulzestii de Sus","HD",null,null,null,"Burcea Daniel","Bucuresti"]
[null,null,null,null,null,null,null,null,null,null,null,null,null,null,"Priboieni","AG",null,null,null,"Burcea Daniel","Lugoj"]
[null,null,null,null,null,null,null,null,null,null,null,null,null,null,"Dor Marunt","CL",null,null,null,"Burcea Stefan Gabriel","Alexandria"]
[null,null,null,null,null,null,null,null,null,null,null,null,null,null,"Fundeni","BZ",null,null,null,"Burcea Valentin","Bucuresti"]
[null,null,null,null,null,null,null,null,null,null,null,null,null,null,"Gligoresti","CJ",null,null,null,"Burdalescu Bogdan","Bucuresti"]
[null,null,null,null,null,null,null,null,null,null,null,null,null,null,"Ineu","AR",null,null,null,"Burduja Vladimir","Moldova-Chisinau"]
[null,null,null,null,null,null,null,null,null,null,null,null,null,null,"Popeni","VS",null,null,null,"Burechita Marian","Vaslui"]
[null,null,null,null,null,null,null,null,null,null,null,null,null,null,"Andrasesti","IL",null,null,null,"Burga Ionut","Bucuresti"]
[null,null,null,null,null,null,null,null,null,null,null,null,null,null,"Vadeni","BR",null,null,null,"Burghelea Florin","Piatra Neamt"]
[null,null,null,null,null,null,null,null,null,null,null,null,null,null,"Tibanesti","IS",null,null,null,"Burghelea Liviu","Bucuresti"]
[null,null,null,null,null,null,null,null,null,null,null,null,null,null,"Ianova","TM",null,null,null,"Burian Alexandru","Cluj Napoca"]
[null,null,null,null,null,null,null,null,null,null,null,null,null,null,"Domnesti","IF",null,null,null,"Burian Ovidiu","Cluj Napoca"]
[null,null,null,null,null,null,null,null,null,null,null,null,null,null,"Popesti CJ","CJ",null,null,null,"Burlacel Ionut","Bucuresti"]
[null,null,null,null,null,null,null,null,null,null,null,null,null,null,"Frasinet","CL",null,null,null,"Burlacu Diana","Buzau"]
[null,null,null,null,null,null,null,null,null,null,null,null,null,null,"Branceni","TR",null,null,null,"Burlacu Eduard","Ramnicu Sarat"]
[null,null,null,null,null,null,null,null,null,null,null,null,null,null,"Solonet","SV",null,null,null,"Burlacu Ioan Liviu","Iasi"]
[null,null,null,null,null,null,null,null,null,null,null,null,null,null,"Vizejdia","TM",null,null,null,"Burnar Ioan","Viseu"]
[null,null,null,null,null,null,null,null,null,null,null,null,null,null,"Magiresti","BC",null,null,null,"Burtea Teodor Daniel","Galati"]
[null,null,null,null,null,null,null,null,null,null,null,null,null,null,"Dobrotesti","DJ",null,null,null,"Burtumac Alin","Balotesti"]
[null,null,null,null,null,null,null,null,null,null,null,null,null,null,"Baru","HD",null,null,null,"Burucenco Vadim","Moldova-Chisinau"]
[null,null,null,null,null,null,null,null,null,null,null,null,null,null,"Cotoroaia","GL",null,null,null,"Buruian Ovidiu","Cluj Napoca"]
[null,null,null,null,null,null,null,null,null,null,null,null,null,null,"Branistea DB","DB",null,null,null,"Buruian Paul","Zalau"]
[null,null,null,null,null,null,null,null,null,null,null,null,null,null,"Foeni","TM",null,null,null,"Buruiana Mihai","Marasesti"]
[null,null,null,null,null,null,null,null,null,null,null,null,null,null,"Kladovo Serbia","S",null,null,null,"Buruiana Petru","Piatra Neamt"]
[null,null,null,null,null,null,null,null,null,null,null,null,null,null,"Satumare","SV",null,null,null,"Burz Adrian Gheorghe","Fagaras"]
[null,null,null,null,null,null,null,null,null,null,null,null,null,null,"Zajecar Serbia","S",null,null,null,"Busega Iulian","Bucuresti"]
[null,null,null,null,null,null,null,null,null,null,null,null,null,null,"Kentucky USA","S",null,null,null,"Busnatu Radu Andrei","Bucuresti"]
[null,null,null,null,null,null,null,null,null,null,null,null,null,null,"Lunca Muresului","AB",null,null,null,"Bustiuc Razvan","Iasi"]
[null,null,null,null,null,null,null,null,null,null,null,null,null,null,"Moldova-Cantemir","S",null,null,null,"Busuioc Andrei","Panciu"]
[null,null,null,null,null,null,null,null,null,null,null,null,null,null,"Voinesti DB","DB",null,null,null,"Busuioc Bogdan","Panciu"]
[null,null,null,null,null,null,null,null,null,null,null,null,null,null,"Sangeorgiu de Mures","MS",null,null,null,"Busuioc Gabriel Razvan","Urleta"]
[null,null,null,null,null,null,null,null,null,null,null,null,null,null,"Berveni","SM",null,null,null,"Busuioc Marian","Bucuresti"]
[null,null,null,null,null,null,null,null,null,null,null,null,null,null,"Amarastii de Jos","DJ",null,null,null,"Busuioc Robert","Radauti"]
[null,null,null,null,null,null,null,null,null,null,null,null,null,null,"Darmanesti SV","SV",null,null,null,"Busuioc Stelian","Bucuresti"]
[null,null,null,null,null,null,null,null,null,null,null,null,null,null,"Voinesti","IS",null,null,null,"But Victor","Moldova-Comrat"]
[null,null,null,null,null,null,null,null,null,null,null,null,null,null,"Coarnele Caprei","IS",null,null,null,"Buta Raul","Petrosani"]
[null,null,null,null,null,null,null,null,null,null,null,null,null,null,"Maderat","AR",null,null,null,"Butiu Cristian","Bistrita"]
[null,null,null,null,null,null,null,null,null,null,null,null,null,null,"Cornetu","IF",null,null,null,"Butnaru Alexandru","Oradea"]
[null,null,null,null,null,null,null,null,null,null,null,null,null,null,"Erbiceni","IS",null,null,null,"Butnaru Andrei","Iasi"]
[null,null,null,null,null,null,null,null,null,null,null,null,null,null,"Rascaeti","DB",null,null,null,"Butnaru Damian","Mogosesti"]
[null,null,null,null,null,null,null,null,null,null,null,null,null,null,"Ucraina-Kiev","S",null,null,null,"Butnaru Ionut","Iasi"]
[null,null,null,null,null,null,null,null,null,null,null,null,null,null,"Poienita","MS",null,null,null,"Butoi Aurel","Caracal"]
[null,null,null,null,null,null,null,null,null,null,null,null,null,null,"Tomesti IS","IS",null,null,null,"Butugan Ioan Adrian","Iasi"]
[null,null,null,null,null,null,null,null,null,null,null,null,null,null,"Chiuza","BN",null,null,null,"Butura Vasile","Alba Iulia"]
[null,null,null,null,null,null,null,null,null,null,null,null,null,null,"Asau","BC",null,null,null,"Buzas Erika","Baia Mare"]
[null,null,null,null,null,null,null,null,null,null,null,null,null,null,"Kovin","S",null,null,null,"Buzatu Vasile","Buftea"]
[null,null,null,null,null,null,null,null,null,null,null,null,null,null,"Nova Varos","S",null,null,null,"Buzdea Casian","Iasi"]
[null,null,null,null,null,null,null,null,null,null,null,null,null,null,"Trstenik","S",null,null,null,"Buzdea Stefan","Iasi"]
[null,null,null,null,null,null,null,null,null,null,null,null,null,null,"Ram","S",null,null,null,"Buzdea Stefanel","Iasi"]
[null,null,null,null,null,null,null,null,null,null,null,null,null,null,"Kumane","S",null,null,null,"Buzera Matei","Timisoara"]
[null,null,null,null,null,null,null,null,null,null,null,null,null,null,"Ucraina-Umani","S",null,null,null,"Buzila Adrian","Botosani"]
[null,null,null,null,null,null,null,null,null,null,null,null,null,null,"Ucraina-Okny","S",null,null,null,"Buzila Marcel","Cluj Napoca"]
[null,null,null,null,null,null,null,null,null,null,null,null,null,null,"Campani","BH",null,null,null,"Buzoianu Eduard","Oltenita"]
[null,null,null,null,null,null,null,null,null,null,null,null,null,null,"Hotarel","BH",null,null,null,"Buzzoni Amelia","Lombardia Italia"]
[null,null,null,null,null,null,null,null,null,null,null,null,null,null,"Saliste de Vascau","BH",null,null,null,"Buzzoni Clara","Lombardia Italia"]
[null,null,null,null,null,null,null,null,null,null,null,null,null,null,"Ucraina-Odessa","S",null,null,null,"Buzzoni Matilde","Lombardia Italia"]
[null,null,null,null,null,null,null,null,null,null,null,null,null,null,"Moldova-Glodeni","S",null,null,null,"Bzovii Elena","Moldova-Cahul"]
[null,null,null,null,null,null,null,null,null,null,null,null,null,null,"Stejeris","CJ",null,null,null,"Bzovii Teodora","Moldova-Cahul"]
[null,null,null,null,null,null,null,null,null,null,null,null,null,null,"Sibot","AB",null,null,null,"Caba Ciprian","Putna"]
[null,null,null,null,null,null,null,null,null,null,null,null,null,null,"Delenii","MS",null,null,null,"Caciandone Stere","Constanta"]
[null,null,null,null,null,null,null,null,null,null,null,null,null,null,"Aroneanu","IS",null,null,null,"Cadar Alexandru","Dudestii Noi"]
[null,null,null,null,null,null,null,null,null,null,null,null,null,null,"Moldova-Leova","S",null,null,null,"Cadar Ioan","Cluj Napoca"]
[null,null,null,null,null,null,null,null,null,null,null,null,null,null,"Moldova-Hincesti","S",null,null,null,"Caia Dan","Bicazu Ardelean"]
[null,null,null,null,null,null,null,null,null,null,null,null,null,null,"Moldova-Riscani","S",null,null,null,"Caileanu Patrick","Sibiu"]
[null,null,null,null,null,null,null,null,null,null,null,null,null,null,"Chisoda","TM",null,null,null,"Calalb Tudor","Lipova"]
[null,null,null,null,null,null,null,null,null,null,null,null,null,null,"Mihaesti","VL",null,null,null,"Calaroi Daniel","Barlad"]
[null,null,null,null,null,null,null,null,null,null,null,null,null,null,"Cicarlau","MM",null,null,null,"Calasnicov Matvei","Moldova-Cahul"]
[null,null,null,null,null,null,null,null,null,null,null,null,null,null,"Becicherecu Mic","TM",null,null,null,"Calasnicov Stanislav","Moldova-Cahul"]
[null,null,null,null,null,null,null,null,null,null,null,null,null,null,"Zebil","TL",null,null,null,"Calauz Horatiu","Baia Mare"]
[null,null,null,null,null,null,null,null,null,null,null,null,null,null,"Jucu","CJ",null,null,null,"Calciu Vasile","Craiova"]
[null,null,null,null,null,null,null,null,null,null,null,null,null,null,"Moldova-Straseni","S",null,null,null,"Calea George","Drobeta Tr Severin"]
[null,null,null,null,null,null,null,null,null,null,null,null,null,null,"Moldova-Sadaclia","S",null,null,null,"Calenciuc Dumitru","Radauti"]
[null,null,null,null,null,null,null,null,null,null,null,null,null,null,"Valea Lunga","DB",null,null,null,"Calin Alexandru","Focsani"]
[null,null,null,null,null,null,null,null,null,null,null,null,null,null,"Malaiesti","PH",null,null,null,"Calin Anisoara","Bucuresti"]
[null,null,null,null,null,null,null,null,null,null,null,null,null,null,"Tarcaia","BH",null,null,null,"Calin Dragos","Focsani"]
[null,null,null,null,null,null,null,null,null,null,null,null,null,null,"Zvoristea","SV",null,null,null,"Calin Stefan Daniel","Urlati"]
[null,null,null,null,null,null,null,null,null,null,null,null,null,null,"Corocaesti SV","SV",null,null,null,"Calinescu Mircea","Ploiesti"]
[null,null,null,null,null,null,null,null,null,null,null,null,null,null,"Scheia SV","SV",null,null,null,"Calinoiu Matei","Sibiu"]
[null,null,null,null,null,null,null,null,null,null,null,null,null,null,"Orasu Nou","SM",null,null,null,"Calomfirescu Vlad","Bucuresti"]
[null,null,null,null,null,null,null,null,null,null,null,null,null,null,"Ciobanu","CT",null,null,null,"Calonfirescu Sever","Manastireni"]
[null,null,null,null,null,null,null,null,null,null,null,null,null,null,"Sanpetru","BV",null,null,null,"Calota Cristian","Tulcea"]
[null,null,null,null,null,null,null,null,null,null,null,null,null,null,"Mosnita Veche","TM",null,null,null,"Calpacci Olga","Moldova-Ceadir-Lunga"]
[null,null,null,null,null,null,null,null,null,null,null,null,null,null,"Lombardia Italia","S",null,null,null,"Camarasiu Tiberiu","Cluj Napoca"]
[null,null,null,null,null,null,null,null,null,null,null,null,null,null,"Alimpesti GJ","GJ",null,null,null,"Caminschi Mihai","Constanta"]
[null,null,null,null,null,null,null,null,null,null,null,null,null,null,"Valea lui Liman","TM",null,null,null,"Caminschi Vlad","Moldova-Cahul"]
[null,null,null,null,null,null,null,null,null,null,null,null,null,null,"Varna","S",null,null,null,"Campean Adrian","Bucuresti"]
[null,null,null,null,null,null,null,null,null,null,null,null,null,null,"Gornet Cricov","PH",null,null,null,"Campean Eugen","Dej"]
[null,null,null,null,null,null,null,null,null,null,null,null,null,null,"Valea Lupului","IS",null,null,null,"Campean Traian","Apahida"]
[null,null,null,null,null,null,null,null,null,null,null,null,null,null,"Moldova-Falesti","S",null,null,null,"Candea Ana Nasta","Bucuresti"]
[null,null,null,null,null,null,null,null,null,null,null,null,null,null,"Prodanesti","SJ",null,null,null,"Canea Kocsis Abigel","Targu Secuiesc"]
[null,null,null,null,null,null,null,null,null,null,null,null,null,null,"Cristesti","IS",null,null,null,"Canea Kocsis Andras","Targu Secuiesc"]
[null,null,null,null,null,null,null,null,null,null,null,null,null,null,"Dudestii Noi","TM",null,null,null,"Canga Tudor","Moldova-Cahul"]
[null,null,null,null,null,null,null,null,null,null,null,null,null,null,"Sarata Monteoru","DB",null,null,null,"Cangea Todor","Moldova-Cahul"]
[null,null,null,null,null,null,null,null,null,null,null,null,null,null,"Comisani","DB",null,null,null,"Cantemir Constantin Mihai","Fagaras"]
[null,null,null,null,null,null,null,null,null,null,null,null,null,null,"Ciprian Porumbescu","SV",null,null,null,"Cantuniari Razvan","Bucuresti"]
[null,null,null,null,null,null,null,null,null,null,null,null,null,null,"Campenita","MS",null,null,null,"Capalnas Vasile","Bistrita"]
[null,null,null,null,null,null,null,null,null,null,null,null,null,null,"Soimari","PH",null,null,null,"Capbatut Petru","Moldova-Chisinau"]
[null,null,null,null,null,null,null,null,null,null,null,null,null,null,"Pojorata","SV",null,null,null,"Caploiu Elena","Giarmata"]
[null,null,null,null,null,null,null,null,null,null,null,null,null,null,"Zurbaua","IF",null,null,null,"Capriceana Alexandru","Timisoara"]
[null,null,null,null,null,null,null,null,null,null,null,null,null,null,"Miroslava","IS",null,null,null,"Capus Giani","Galati"]
[null,null,null,null,null,null,null,null,null,null,null,null,null,null,"Bicazu Ardelean","NT",null,null,null,"Capusa Bogdan","Bacau"]
[null,null,null,null,null,null,null,null,null,null,null,null,null,null,"Moisei","MM",null,null,null,"Cara Dmitrii","Moldova-Chisinau"]
[null,null,null,null,null,null,null,null,null,null,null,null,null,null,"Feleacu","CJ",null,null,null,"Carabas Cosmin","Timisoara"]
[null,null,null,null,null,null,null,null,null,null,null,null,null,null,"Iordacheanu","PH",null,null,null,"Carabas Gabriel","Iasi"]
[null,null,null,null,null,null,null,null,null,null,null,null,null,null,"Ghirdoveni","DB",null,null,null,"Caracuda Andrei","Sibiu"]
[null,null,null,null,null,null,null,null,null,null,null,null,null,null,"Lapusel","MM",null,null,null,"Caradjov Stepan","Moldova-Leova"]
[null,null,null,null,null,null,null,null,null,null,null,null,null,null,"Cehalut","SM",null,null,null,"Caramalau Sofia","Galati"]
[null,null,null,null,null,null,null,null,null,null,null,null,null,null,"Sacalaseni","MM",null,null,null,"Caraman Vitalie","Moldova-Cahul"]
[null,null,null,null,null,null,null,null,null,null,null,null,null,null,"Tautii Magheraus","MM",null,null,null,"Caramidaru Daniel","Constanta"]
[null,null,null,null,null,null,null,null,null,null,null,null,null,null,"Petru Rares","BN",null,null,null,"Caramilia Igor","Moldova-Vulcanesti"]
[null,null,null,null,null,null,null,null,null,null,null,null,null,null,"Gura Ialomitei","IL",null,null,null,"Caramitru Costin","Bucuresti"]
[null,null,null,null,null,null,null,null,null,null,null,null,null,null,"Bistra","AB",null,null,null,"Caranda Alexandru","Bucuresti"]
[null,null,null,null,null,null,null,null,null,null,null,null,null,null,"Podenii Vechi","PH",null,null,null,"Caranfilian Migo","Bucuresti"]
[null,null,null,null,null,null,null,null,null,null,null,null,null,null,"Ciba","MS",null,null,null,"Carare Cristinel","Vaslui"]
[null,null,null,null,null,null,null,null,null,null,null,null,null,null,"Parta","S",null,null,null,"Carata Catalin","Tulcea"]
[null,null,null,null,null,null,null,null,null,null,null,null,null,null,"Sabac","S",null,null,null,"Caraus Sorin","Deva"]
[null,null,null,null,null,null,null,null,null,null,null,null,null,null,"Secusigiu","AR",null,null,null,"Cardas Alexandru","Dumbravita"]
[null,null,null,null,null,null,null,null,null,null,null,null,null,null,"Seleus","MS",null,null,null,"Cardas Andrei","Dumbravita"]
[null,null,null,null,null,null,null,null,null,null,null,null,null,null,"Corusu CJ","CJ",null,null,null,"Cardas Rares","Cluj Napoca"]
[null,null,null,null,null,null,null,null,null,null,null,null,null,null,"Patrauti","SV",null,null,null,"Carnu Eugen","Bacau"]
[null,null,null,null,null,null,null,null,null,null,null,null,null,null,"Popricani","IS",null,null,null,"Carnu Mirel","Buzau"]
[null,null,null,null,null,null,null,null,null,null,null,null,null,null,"Bursuceni SV","SV",null,null,null,"Carp Marius","Bucuresti"]
[null,null,null,null,null,null,null,null,null,null,null,null,null,null,"Filipestii de Padure","PH",null,null,null,"Carpaci Alexandru","Ludus"]
[null,null,null,null,null,null,null,null,null,null,null,null,null,null,"China","S",null,null,null,"Carpovici Boris","Falticeni"]
[null,null,null,null,null,null,null,null,null,null,null,null,null,null,"Ungheni","MS",null,null,null,"Caruntu Constantin","Bucuresti"]
[null,null,null,null,null,null,null,null,null,null,null,null,null,null,"Moldova-Tiraspol","S",null,null,null,"Casapciuc Stanislav","Moldova-Chisinau"]
[null,null,null,null,null,null,null,null,null,null,null,null,null,null,"Moldova-Causeni","S",null,null,null,"Casim Alina","Moldova-Avdarma"]
[null,null,null,null,null,null,null,null,null,null,null,null,null,null,"Moldova-Ialoveni","S",null,null,null,"Casim Igor","Moldova-Avdarma"]
[null,null,null,null,null,null,null,null,null,null,null,null,null,null,"Moldova-Floresti","S",null,null,null,"Casim Milena","Moldova-Avdarma"]
[null,null,null,null,null,null,null,null,null,null,null,null,null,null,"Iasi BV","BV",null,null,null,"Casu Marius","Bucuresti"]
[null,null,null,null,null,null,null,null,null,null,null,null,null,null,"Sanmarghita","CJ",null,null,null,"Cata Teodor","Baia Mare"]
[null,null,null,null,null,null,null,null,null,null,null,null,null,null,"Limanu","CT",null,null,null,"Catana Claudiu","Bucuresti"]
[null,null,null,null,null,null,null,null,null,null,null,null,null,null,"Taureni","MS",null,null,null,"Catana Gabriel","Bucuresti"]
[null,null,null,null,null,null,null,null,null,null,null,null,null,null,"Sag","TM",null,null,null,"Catana Vasile","Bacau"]
[null,null,null,null,null,null,null,null,null,null,null,null,null,null,"Moldova-Anenii Noi","S",null,null,null,"Catinean Anda","Targu Mures"]
[null,null,null,null,null,null,null,null,null,null,null,null,null,null,"Moldova-Telenesti","S",null,null,null,"Catiru Stefan","Pascani"]
[null,null,null,null,null,null,null,null,null,null,null,null,null,null,"Ramnicelu","BZ",null,null,null,"Catricicau Adrian","Baia Mare"]
[null,null,null,null,null,null,null,null,null,null,null,null,null,null,"Manastirea Humorului","SV",null,null,null,"Catrinescu Florin","Ploiesti"]
[null,null,null,null,null,null,null,null,null,null,null,null,null,null,"Targu Bujor","GL",null,null,null,"Cattaneo Nicolo","Lombardia Italia"]
[null,null,null,null,null,null,null,null,null,null,null,null,null,null,"Jigodin","HR",null,null,null,"Catuna Bogdan","Cluj Napoca"]
[null,null,null,null,null,null,null,null,null,null,null,null,null,null,"Negresti","VS",null,null,null,"Cavasdan Doru","Oradea"]
[null,null,null,null,null,null,null,null,null,null,null,null,null,null,"Satu Mare AR","AR",null,null,null,"Cazac Iulia","Moldova-Briceni"]
[null,null,null,null,null,null,null,null,null,null,null,null,null,null,"Chichis","CV",null,null,null,"Cazac Victor","Moldova-Briceni"]
[null,null,null,null,null,null,null,null,null,null,null,null,null,null,null,null,null,null,null,"Cazacu Florin","Vatra Dornei"]
[null,null,null,null,null,null,null,null,null,null,null,null,null,null,null,null,null,null,null,"Cazacu Valentin","Pitesti"]
[null,null,null,null,null,null,null,null,null,null,null,null,null,null,null,null,null,null,null,"Ceaca Lucian","Lugoj"]
[null,null,null,null,null,null,null,null,null,null,null,null,null,null,null,null,null,null,null,"Ceacusta Daria","Moldova-Avdarma"]
[null,null,null,null,null,null,null,null,null,null,null,null,null,null,null,null,null,null,null,"Ceasar Ovidiu","Brasov"]
[null,null,null,null,null,null,null,null,null,null,null,null,null,null,null,null,null,null,null,"Ceausescu Rares","Pitesti"]
[null,null,null,null,null,null,null,null,null,null,null,null,null,null,null,null,null,null,null,"Ceausescu Rebeca","Pitesti"]
[null,null,null,null,null,null,null,null,null,null,null,null,null,null,null,null,null,null,null,"Ceavdar Andrei","Moldova-Cahul"]
[null,null,null,null,null,null,null,null,null,null,null,null,null,null,null,null,null,null,null,"Cebotari Alexandru","Iasi"]
[null,null,null,null,null,null,null,null,null,null,null,null,null,null,null,null,null,null,null,"Cebotari Constantin","Moldova-Singerei"]
[null,null,null,null,null,null,null,null,null,null,null,null,null,null,null,null,null,null,null,"Cebuc Emma","Dumbravita"]
[null,null,null,null,null,null,null,null,null,null,null,null,null,null,null,null,null,null,null,"Cecan Ghenadie","Moldova-Falesti"]
[null,null,null,null,null,null,null,null,null,null,null,null,null,null,null,null,null,null,null,"Cecan Leonid","Moldova-Drochia"]
[null,null,null,null,null,null,null,null,null,null,null,null,null,null,null,null,null,null,null,"Cecan Miroslav","Moldova-Glodeni"]
[null,null,null,null,null,null,null,null,null,null,null,null,null,null,null,null,null,null,null,"Cecan Vasile","Timisoara"]
[null,null,null,null,null,null,null,null,null,null,null,null,null,null,null,null,null,null,null,"Centea Daniel","Dej"]
[null,null,null,null,null,null,null,null,null,null,null,null,null,null,null,null,null,null,null,"Centea Razvan","Zalau"]
[null,null,null,null,null,null,null,null,null,null,null,null,null,null,null,null,null,null,null,"Ceontea Horatiu","Batos"]
[null,null,null,null,null,null,null,null,null,null,null,null,null,null,null,null,null,null,null,"Cercega Dani","Timisoara"]
[null,null,null,null,null,null,null,null,null,null,null,null,null,null,null,null,null,null,null,"Cercel Ionut","Buzau"]
[null,null,null,null,null,null,null,null,null,null,null,null,null,null,null,null,null,null,null,"Cercel Marian","Buzau"]
[null,null,null,null,null,null,null,null,null,null,null,null,null,null,null,null,null,null,null,"Cerciu Marius","Timisoara"]
[null,null,null,null,null,null,null,null,null,null,null,null,null,null,null,null,null,null,null,"Cerciu Samir","Timisoara"]
[null,null,null,null,null,null,null,null,null,null,null,null,null,null,null,null,null,null,null,"Cernat Cristian","Iasi"]
[null,null,null,null,null,null,null,null,null,null,null,null,null,null,null,null,null,null,null,"Cernat Gheorghe","Bucuresti"]
[null,null,null,null,null,null,null,null,null,null,null,null,null,null,null,null,null,null,null,"Ceuca Gavrila","Satu Mare"]
[null,null,null,null,null,null,null,null,null,null,null,null,null,null,null,null,null,null,null,"Charbel Farah","Sibiu"]
[null,null,null,null,null,null,null,null,null,null,null,null,null,null,null,null,null,null,null,"Chelan Ana","Moldova-Drochia"]
[null,null,null,null,null,null,null,null,null,null,null,null,null,null,null,null,null,null,null,"Chelan Catalin","Giroc"]
[null,null,null,null,null,null,null,null,null,null,null,null,null,null,null,null,null,null,null,"Chereches Sergiu","Tulcea"]
[null,null,null,null,null,null,null,null,null,null,null,null,null,null,null,null,null,null,null,"Cheregi Nelu","Oradea"]
[null,null,null,null,null,null,null,null,null,null,null,null,null,null,null,null,null,null,null,"Cherhat Dumitru","Cluj Napoca"]
[null,null,null,null,null,null,null,null,null,null,null,null,null,null,null,null,null,null,null,"Chesche Mihai","Harsova"]
[null,null,null,null,null,null,null,null,null,null,null,null,null,null,null,null,null,null,null,"Cheseli Rares","Bucuresti"]
[null,null,null,null,null,null,null,null,null,null,null,null,null,null,null,null,null,null,null,"Chesintan Luca","Lipova"]
[null,null,null,null,null,null,null,null,null,null,null,null,null,null,null,null,null,null,null,"Cheta Victor","Zalau"]
[null,null,null,null,null,null,null,null,null,null,null,null,null,null,null,null,null,null,null,"Chetronie Liviu","Tecuci"]
[null,null,null,null,null,null,null,null,null,null,null,null,null,null,null,null,null,null,null,"Chibulcutean Ioan","Tarnaveni"]
[null,null,null,null,null,null,null,null,null,null,null,null,null,null,null,null,null,null,null,"Chifor Vlad","Targu Mures"]
[null,null,null,null,null,null,null,null,null,null,null,null,null,null,null,null,null,null,null,"Chihaia Ianis","Iasi"]
[null,null,null,null,null,null,null,null,null,null,null,null,null,null,null,null,null,null,null,"Chilaru Mihai","Moldova-Drochia"]
[null,null,null,null,null,null,null,null,null,null,null,null,null,null,null,null,null,null,null,"Chindea Emilian","Targu Neamt"]
[null,null,null,null,null,null,null,null,null,null,null,null,null,null,null,null,null,null,null,"Chiosa Stanislav","Moldova-Chisinau"]
[null,null,null,null,null,null,null,null,null,null,null,null,null,null,null,null,null,null,null,"Chira Angel","Baia Mare"]
[null,null,null,null,null,null,null,null,null,null,null,null,null,null,null,null,null,null,null,"Chiran Valentin","Bucuresti"]
[null,null,null,null,null,null,null,null,null,null,null,null,null,null,null,null,null,null,null,"Chirca Alexandru","Mioveni"]
[null,null,null,null,null,null,null,null,null,null,null,null,null,null,null,null,null,null,null,"Chirea Laurentiu","Targu Jiu"]
[null,null,null,null,null,null,null,null,null,null,null,null,null,null,null,null,null,null,null,"Chiriac Adrian","Bucuresti"]
[null,null,null,null,null,null,null,null,null,null,null,null,null,null,null,null,null,null,null,"Chiriac Alexandru","Bucuresti"]
[null,null,null,null,null,null,null,null,null,null,null,null,null,null,null,null,null,null,null,"Chiriac Andrei","Bucuresti"]
[null,null,null,null,null,null,null,null,null,null,null,null,null,null,null,null,null,null,null,"Chiriac Catalin","Bucuresti"]
[null,null,null,null,null,null,null,null,null,null,null,null,null,null,null,null,null,null,null,"Chiriac Nastase","Galati"]
[null,null,null,null,null,null,null,null,null,null,null,null,null,null,null,null,null,null,null,"Chiriac Petru","Roman"]
[null,null,null,null,null,null,null,null,null,null,null,null,null,null,null,null,null,null,null,"Chirica Alexandru","Bucuresti"]
[null,null,null,null,null,null,null,null,null,null,null,null,null,null,null,null,null,null,null,"Chiricuta Sebastian","Corusu CJ"]
[null,null,null,null,null,null,null,null,null,null,null,null,null,null,null,null,null,null,null,"Chirieac Adrian","Voinesti"]
[null,null,null,null,null,null,null,null,null,null,null,null,null,null,null,null,null,null,null,"Chirila Laurentiu","Braila"]
[null,null,null,null,null,null,null,null,null,null,null,null,null,null,null,null,null,null,null,"Chirila Ovidiu","Hunedoara"]
[null,null,null,null,null,null,null,null,null,null,null,null,null,null,null,null,null,null,null,"Chirila Robert","Bucuresti"]
[null,null,null,null,null,null,null,null,null,null,null,null,null,null,null,null,null,null,null,"Chirila Vlad","Bucuresti"]
[null,null,null,null,null,null,null,null,null,null,null,null,null,null,null,null,null,null,null,"Chirita Cristian","Curtea de Arges"]
[null,null,null,null,null,null,null,null,null,null,null,null,null,null,null,null,null,null,null,"Chirita Daniel","Bucuresti"]
[null,null,null,null,null,null,null,null,null,null,null,null,null,null,null,null,null,null,null,"Chiron Adrian","Bucuresti"]
[null,null,null,null,null,null,null,null,null,null,null,null,null,null,null,null,null,null,null,"Chironda Nica","Moldova-Balti"]
[null,null,null,null,null,null,null,null,null,null,null,null,null,null,null,null,null,null,null,"Chirtoaca Sergiu","Ploiesti"]
[null,null,null,null,null,null,null,null,null,null,null,null,null,null,null,null,null,null,null,"Chiru Cristian","Galati"]
[null,null,null,null,null,null,null,null,null,null,null,null,null,null,null,null,null,null,null,"Chis Mihai","Techirghiol"]
[null,null,null,null,null,null,null,null,null,null,null,null,null,null,null,null,null,null,null,"Chiscan Bogdan","Arad"]
[null,null,null,null,null,null,null,null,null,null,null,null,null,null,null,null,null,null,null,"Chitaru Carolina","Vaslui"]
[null,null,null,null,null,null,null,null,null,null,null,null,null,null,null,null,null,null,null,"Chitic Gabriel","Isaccea"]
[null,null,null,null,null,null,null,null,null,null,null,null,null,null,null,null,null,null,null,"Chitic Mihai","Isaccea"]
[null,null,null,null,null,null,null,null,null,null,null,null,null,null,null,null,null,null,null,"Chitroceanu David","Vaslui"]
[null,null,null,null,null,null,null,null,null,null,null,null,null,null,null,null,null,null,null,"Chivaran Alin","Timisoara"]
[null,null,null,null,null,null,null,null,null,null,null,null,null,null,null,null,null,null,null,"Chivoiu Adrian","Comanesti"]
[null,null,null,null,null,null,null,null,null,null,null,null,null,null,null,null,null,null,null,"Chivu Adrian","Slobozia"]
[null,null,null,null,null,null,null,null,null,null,null,null,null,null,null,null,null,null,null,"Chivu Cornel","Craiova"]
[null,null,null,null,null,null,null,null,null,null,null,null,null,null,null,null,null,null,null,"Chivu Octav","Bucuresti"]
[null,null,null,null,null,null,null,null,null,null,null,null,null,null,null,null,null,null,null,"Chivu Radu","Bucuresti"]
[null,null,null,null,null,null,null,null,null,null,null,null,null,null,null,null,null,null,null,"Chivu Valentin","Bucuresti"]
[null,null,null,null,null,null,null,null,null,null,null,null,null,null,null,null,null,null,null,"Chovan Peter","Ungaria"]
[null,null,null,null,null,null,null,null,null,null,null,null,null,null,null,null,null,null,null,"Christova Raia","Bulgaria"]
[null,null,null,null,null,null,null,null,null,null,null,null,null,null,null,null,null,null,null,"Cibotariu Bogdan","Piatra Neamt"]
[null,null,null,null,null,null,null,null,null,null,null,null,null,null,null,null,null,null,null,"Ciga Stefan","Satu Mare AR"]
[null,null,null,null,null,null,null,null,null,null,null,null,null,null,null,null,null,null,null,"Ciky Cornel","Fagaras"]
[null,null,null,null,null,null,null,null,null,null,null,null,null,null,null,null,null,null,null,"Cilan Nicusor","Arad"]
[null,null,null,null,null,null,null,null,null,null,null,null,null,null,null,null,null,null,null,"Cili Denis","Ludus"]
[null,null,null,null,null,null,null,null,null,null,null,null,null,null,null,null,null,null,null,"Cili Denisa","Ludus"]
[null,null,null,null,null,null,null,null,null,null,null,null,null,null,null,null,null,null,null,"Cilianu Vladut Gabriel","Bucuresti"]
[null,null,null,null,null,null,null,null,null,null,null,null,null,null,null,null,null,null,null,"Cimpan Ioan","Satu Mare AR"]
[null,null,null,null,null,null,null,null,null,null,null,null,null,null,null,null,null,null,null,"Cimpanu Mihai","Roman"]
[null,null,null,null,null,null,null,null,null,null,null,null,null,null,null,null,null,null,null,"Cimpei Alexandru","Bucuresti"]
[null,null,null,null,null,null,null,null,null,null,null,null,null,null,null,null,null,null,null,"Cimponeriu Ianis","Lugoj"]
[null,null,null,null,null,null,null,null,null,null,null,null,null,null,null,null,null,null,null,"Cindea Cristian","Medias"]
[null,null,null,null,null,null,null,null,null,null,null,null,null,null,null,null,null,null,null,"Cioanca Aurelian","Iasi"]
[null,null,null,null,null,null,null,null,null,null,null,null,null,null,null,null,null,null,null,"Cioata Marian","Constanta"]
[null,null,null,null,null,null,null,null,null,null,null,null,null,null,null,null,null,null,null,"Ciobanu Adrian","Pitesti"]
[null,null,null,null,null,null,null,null,null,null,null,null,null,null,null,null,null,null,null,"Ciobanu Adrian","Brasov"]
[null,null,null,null,null,null,null,null,null,null,null,null,null,null,null,null,null,null,null,"Ciobanu Andra","Moinesti"]
[null,null,null,null,null,null,null,null,null,null,null,null,null,null,null,null,null,null,null,"Ciobanu Andrei","Iasi"]
[null,null,null,null,null,null,null,null,null,null,null,null,null,null,null,null,null,null,null,"Ciobanu Anton","Tuzla"]
[null,null,null,null,null,null,null,null,null,null,null,null,null,null,null,null,null,null,null,"Ciobanu Cosmin","Cristian SB"]
[null,null,null,null,null,null,null,null,null,null,null,null,null,null,null,null,null,null,null,"Ciobanu Cristi","Curtea de Arges"]
[null,null,null,null,null,null,null,null,null,null,null,null,null,null,null,null,null,null,null,"Ciobanu Daniel","Blaj"]
[null,null,null,null,null,null,null,null,null,null,null,null,null,null,null,null,null,null,null,"Ciobanu David Florin","Gura Humorului"]
[null,null,null,null,null,null,null,null,null,null,null,null,null,null,null,null,null,null,null,"Ciobanu Edi","Lugoj"]
[null,null,null,null,null,null,null,null,null,null,null,null,null,null,null,null,null,null,null,"Ciobanu Emilian","Moldova-Cahul"]
[null,null,null,null,null,null,null,null,null,null,null,null,null,null,null,null,null,null,null,"Ciobanu Gabriel","Cluj Napoca"]
[null,null,null,null,null,null,null,null,null,null,null,null,null,null,null,null,null,null,null,"Ciobanu Marian","Buzau"]
[null,null,null,null,null,null,null,null,null,null,null,null,null,null,null,null,null,null,null,"Ciobanu Marius","Iasi"]
[null,null,null,null,null,null,null,null,null,null,null,null,null,null,null,null,null,null,null,"Ciobanu Mihail","Moldova-Balti"]
[null,null,null,null,null,null,null,null,null,null,null,null,null,null,null,null,null,null,null,"Ciobanu Mihail","Moldova-Vulcanesti"]
[null,null,null,null,null,null,null,null,null,null,null,null,null,null,null,null,null,null,null,"Ciobanu Sabin","Pascani"]
[null,null,null,null,null,null,null,null,null,null,null,null,null,null,null,null,null,null,null,"Ciobanu Sebastian","Mogosesti"]
[null,null,null,null,null,null,null,null,null,null,null,null,null,null,null,null,null,null,null,"Ciobescu Gabriel Radu","Targu Jiu"]
[null,null,null,null,null,null,null,null,null,null,null,null,null,null,null,null,null,null,null,"Cioboiu Dan","Craiova"]
[null,null,null,null,null,null,null,null,null,null,null,null,null,null,null,null,null,null,null,"Ciobotaru Gigi","Iasi"]
[null,null,null,null,null,null,null,null,null,null,null,null,null,null,null,null,null,null,null,"Cioca Raul","Agnita"]
[null,null,null,null,null,null,null,null,null,null,null,null,null,null,null,null,null,null,null,"Ciocan Eduard","Campia Turzii"]
[null,null,null,null,null,null,null,null,null,null,null,null,null,null,null,null,null,null,null,"Ciocan Ion","Bucuresti"]
[null,null,null,null,null,null,null,null,null,null,null,null,null,null,null,null,null,null,null,"Ciocan Leonard Teodor","Vaslui"]
[null,null,null,null,null,null,null,null,null,null,null,null,null,null,null,null,null,null,null,"Ciocanel Stefan","Botosani"]
[null,null,null,null,null,null,null,null,null,null,null,null,null,null,null,null,null,null,null,"Ciocani Rafael","Sannicolau Mare"]
[null,null,null,null,null,null,null,null,null,null,null,null,null,null,null,null,null,null,null,"Ciocau Viorel","Bucuresti"]
[null,null,null,null,null,null,null,null,null,null,null,null,null,null,null,null,null,null,null,"Ciocirlan Mircea","Tulcea"]
[null,null,null,null,null,null,null,null,null,null,null,null,null,null,null,null,null,null,null,"Ciocirlan Victor","Tulcea"]
[null,null,null,null,null,null,null,null,null,null,null,null,null,null,null,null,null,null,null,"Ciocoiu Alexandru","Brasov"]
[null,null,null,null,null,null,null,null,null,null,null,null,null,null,null,null,null,null,null,"Ciolan Dumitru","Brasov"]
[null,null,null,null,null,null,null,null,null,null,null,null,null,null,null,null,null,null,null,"Ciolca Eduard Gabriel","Bucuresti"]
[null,null,null,null,null,null,null,null,null,null,null,null,null,null,null,null,null,null,null,"Cioloca Stefan","Reghin"]
[null,null,null,null,null,null,null,null,null,null,null,null,null,null,null,null,null,null,null,"Ciomaga Andrei","Iasi"]
[null,null,null,null,null,null,null,null,null,null,null,null,null,null,null,null,null,null,null,"Cionoiu Cristian","Bucuresti"]
[null,null,null,null,null,null,null,null,null,null,null,null,null,null,null,null,null,null,null,"Ciorasteanu Ionut","Brasov"]
[null,null,null,null,null,null,null,null,null,null,null,null,null,null,null,null,null,null,null,"Ciorba Arnold","Cehalut"]
[null,null,null,null,null,null,null,null,null,null,null,null,null,null,null,null,null,null,null,"Ciorba Arnold","Berveni"]
[null,null,null,null,null,null,null,null,null,null,null,null,null,null,null,null,null,null,null,"Ciorca Ovidiu","Corusu CJ"]
[null,null,null,null,null,null,null,null,null,null,null,null,null,null,null,null,null,null,null,"Ciorlip Sorin","Hunedoara"]
[null,null,null,null,null,null,null,null,null,null,null,null,null,null,null,null,null,null,null,"Ciornuleta Denis Stefan","Focsani"]
[null,null,null,null,null,null,null,null,null,null,null,null,null,null,null,null,null,null,null,"Ciortan Catalin","Cluj Napoca"]
[null,null,null,null,null,null,null,null,null,null,null,null,null,null,null,null,null,null,null,"Ciortescu Cristi","Popeni"]
[null,null,null,null,null,null,null,null,null,null,null,null,null,null,null,null,null,null,null,"Ciripan Camelia","Bucuresti"]
[null,null,null,null,null,null,null,null,null,null,null,null,null,null,null,null,null,null,null,"Cirsmar Stefan","Siret"]
[null,null,null,null,null,null,null,null,null,null,null,null,null,null,null,null,null,null,null,"Cirstea David","Bucuresti"]
[null,null,null,null,null,null,null,null,null,null,null,null,null,null,null,null,null,null,null,"Cirstea Toni","Targu Jiu"]
[null,null,null,null,null,null,null,null,null,null,null,null,null,null,null,null,null,null,null,"Cisco Eldar","Moldova-Balti"]
[null,null,null,null,null,null,null,null,null,null,null,null,null,null,null,null,null,null,null,"Cisco Elina","Moldova-Balti"]
[null,null,null,null,null,null,null,null,null,null,null,null,null,null,null,null,null,null,null,"Ciublea Vichente","Oravita"]
[null,null,null,null,null,null,null,null,null,null,null,null,null,null,null,null,null,null,null,"Ciubotaru Bogdan Florin","Bucuresti"]
[null,null,null,null,null,null,null,null,null,null,null,null,null,null,null,null,null,null,null,"Ciubotaru Dan","Piatra Neamt"]
[null,null,null,null,null,null,null,null,null,null,null,null,null,null,null,null,null,null,null,"Ciubotaru Ioana","Moinesti"]
[null,null,null,null,null,null,null,null,null,null,null,null,null,null,null,null,null,null,null,"Ciubotaru Leo","Iasi"]
[null,null,null,null,null,null,null,null,null,null,null,null,null,null,null,null,null,null,null,"Ciuca Dan","Pitesti"]
[null,null,null,null,null,null,null,null,null,null,null,null,null,null,null,null,null,null,null,"Ciuca Sorin","Iasi"]
[null,null,null,null,null,null,null,null,null,null,null,null,null,null,null,null,null,null,null,"Ciucalau Sergiu","Galati"]
[null,null,null,null,null,null,null,null,null,null,null,null,null,null,null,null,null,null,null,"Ciucioiu Dorin","Timisoara"]
[null,null,null,null,null,null,null,null,null,null,null,null,null,null,null,null,null,null,null,"Ciucu Catalin","Medias"]
[null,null,null,null,null,null,null,null,null,null,null,null,null,null,null,null,null,null,null,"Ciufudean Lucian","Cluj Napoca"]
[null,null,null,null,null,null,null,null,null,null,null,null,null,null,null,null,null,null,null,"Ciufudean Nicolae","Blaj"]
[null,null,null,null,null,null,null,null,null,null,null,null,null,null,null,null,null,null,null,"Ciulei Adrian","Movila"]
[null,null,null,null,null,null,null,null,null,null,null,null,null,null,null,null,null,null,null,"Ciuntu Marcel","Moldova-Drochia"]
[null,null,null,null,null,null,null,null,null,null,null,null,null,null,null,null,null,null,null,"Ciupe Alin","Zalau"]
[null,null,null,null,null,null,null,null,null,null,null,null,null,null,null,null,null,null,null,"Ciurca Ovidiu","Targu Mures"]
[null,null,null,null,null,null,null,null,null,null,null,null,null,null,null,null,null,null,null,"Ciurca Sorin","Tarnaveni"]
[null,null,null,null,null,null,null,null,null,null,null,null,null,null,null,null,null,null,null,"Ciurdar Andrei","Arad"]
[null,null,null,null,null,null,null,null,null,null,null,null,null,null,null,null,null,null,null,"Ciurdea Danut","Mogoseni"]
[null,null,null,null,null,null,null,null,null,null,null,null,null,null,null,null,null,null,null,"Ciurdea Gheorghe","Mogosesti"]
[null,null,null,null,null,null,null,null,null,null,null,null,null,null,null,null,null,null,null,"Ciurdea Ionut","Mogoseni"]
[null,null,null,null,null,null,null,null,null,null,null,null,null,null,null,null,null,null,null,"Ciurea Gheorghe","Mogosesti Siret"]
[null,null,null,null,null,null,null,null,null,null,null,null,null,null,null,null,null,null,null,"Ciurlica Mugurel","Pascani"]
[null,null,null,null,null,null,null,null,null,null,null,null,null,null,null,null,null,null,null,"Ciutre Ioan","Zalau"]
[null,null,null,null,null,null,null,null,null,null,null,null,null,null,null,null,null,null,null,"Ciuverca Adrian","Satu Mare"]
[null,null,null,null,null,null,null,null,null,null,null,null,null,null,null,null,null,null,null,"Clej Alexandru","Arad"]
[null,null,null,null,null,null,null,null,null,null,null,null,null,null,null,null,null,null,null,"Clesiu Florin","Deva"]
[null,null,null,null,null,null,null,null,null,null,null,null,null,null,null,null,null,null,null,"Clisic Iosif","Sannicolau Mare"]
[null,null,null,null,null,null,null,null,null,null,null,null,null,null,null,null,null,null,null,"Clontea Mircea","Victoria"]
[null,null,null,null,null,null,null,null,null,null,null,null,null,null,null,null,null,null,null,"Coaja Constantin","Bucuresti"]
[null,null,null,null,null,null,null,null,null,null,null,null,null,null,null,null,null,null,null,"Coaja Matei","Bucuresti"]
[null,null,null,null,null,null,null,null,null,null,null,null,null,null,null,null,null,null,null,"Cobeanu Marius","Breaza"]
[null,null,null,null,null,null,null,null,null,null,null,null,null,null,null,null,null,null,null,"Cobzaru Radu","Deva"]
[null,null,null,null,null,null,null,null,null,null,null,null,null,null,null,null,null,null,null,"Cocan Mircea","Bucuresti"]
[null,null,null,null,null,null,null,null,null,null,null,null,null,null,null,null,null,null,null,"Cocea Felix","Bucuresti"]
[null,null,null,null,null,null,null,null,null,null,null,null,null,null,null,null,null,null,null,"Cocea Radu","Bucuresti"]
[null,null,null,null,null,null,null,null,null,null,null,null,null,null,null,null,null,null,null,"Cocerva Nica","Moldova-Balti"]
[null,null,null,null,null,null,null,null,null,null,null,null,null,null,null,null,null,null,null,"Cocis Alberto","Gherla"]
[null,null,null,null,null,null,null,null,null,null,null,null,null,null,null,null,null,null,null,"Cocis Radu","Lunca Muresului"]
[null,null,null,null,null,null,null,null,null,null,null,null,null,null,null,null,null,null,null,"Coclea Ionel","Braila"]
[null,null,null,null,null,null,null,null,null,null,null,null,null,null,null,null,null,null,null,"Cocolos Alexandru","Bucuresti"]
[null,null,null,null,null,null,null,null,null,null,null,null,null,null,null,null,null,null,null,"Cocos Claudiu","Calan"]
[null,null,null,null,null,null,null,null,null,null,null,null,null,null,null,null,null,null,null,"Cocotan Vasile","Oltenita"]
[null,null,null,null,null,null,null,null,null,null,null,null,null,null,null,null,null,null,null,"Cocu Daniel","Brasov"]
[null,null,null,null,null,null,null,null,null,null,null,null,null,null,null,null,null,null,null,"Codau Vlad","Oradea"]
[null,null,null,null,null,null,null,null,null,null,null,null,null,null,null,null,null,null,null,"Codin Mihai","Bucuresti"]
[null,null,null,null,null,null,null,null,null,null,null,null,null,null,null,null,null,null,null,"Codreanu Delia","Vatra Dornei"]
[null,null,null,null,null,null,null,null,null,null,null,null,null,null,null,null,null,null,null,"Codreanu George","Tecuci"]
[null,null,null,null,null,null,null,null,null,null,null,null,null,null,null,null,null,null,null,"Codreanu Laurentiu","Buzau"]
[null,null,null,null,null,null,null,null,null,null,null,null,null,null,null,null,null,null,null,"Cofari Alex Daniel","Sovata"]
[null,null,null,null,null,null,null,null,null,null,null,null,null,null,null,null,null,null,null,"Cofari Eugen","Sovata"]
[null,null,null,null,null,null,null,null,null,null,null,null,null,null,null,null,null,null,null,"Coica Laurentia","Iasi"]
[null,null,null,null,null,null,null,null,null,null,null,null,null,null,null,null,null,null,null,"Coiov Nicolae","Arad"]
[null,null,null,null,null,null,null,null,null,null,null,null,null,null,null,null,null,null,null,"Cojanu Ciprian","Bucuresti"]
[null,null,null,null,null,null,null,null,null,null,null,null,null,null,null,null,null,null,null,"Cojanu Ioan","Bucuresti"]
[null,null,null,null,null,null,null,null,null,null,null,null,null,null,null,null,null,null,null,"Cojocariu Vasile","Comanesti"]
[null,null,null,null,null,null,null,null,null,null,null,null,null,null,null,null,null,null,null,"Cojocaru Adrian","Suceava"]
[null,null,null,null,null,null,null,null,null,null,null,null,null,null,null,null,null,null,null,"Cojocaru Alexandru","Arad"]
[null,null,null,null,null,null,null,null,null,null,null,null,null,null,null,null,null,null,null,"Cojocaru Andru","Targoviste"]
[null,null,null,null,null,null,null,null,null,null,null,null,null,null,null,null,null,null,null,"Cojocaru Cristian","Targu Jiu"]
[null,null,null,null,null,null,null,null,null,null,null,null,null,null,null,null,null,null,null,"Cojocaru Didi","Ramnicu Valcea"]
[null,null,null,null,null,null,null,null,null,null,null,null,null,null,null,null,null,null,null,"Cojocaru Dorin","Moldova-Chisinau"]
[null,null,null,null,null,null,null,null,null,null,null,null,null,null,null,null,null,null,null,"Cojocaru Ioan","Comanesti"]
[null,null,null,null,null,null,null,null,null,null,null,null,null,null,null,null,null,null,null,"Cojocaru Ion","Ploiesti"]
[null,null,null,null,null,null,null,null,null,null,null,null,null,null,null,null,null,null,null,"Cojocaru Nicusor","Brasov"]
[null,null,null,null,null,null,null,null,null,null,null,null,null,null,null,null,null,null,null,"Cojocaru Stefan","Suceava"]
[null,null,null,null,null,null,null,null,null,null,null,null,null,null,null,null,null,null,null,"Cojocaru Stefan","Targu Jiu"]
[null,null,null,null,null,null,null,null,null,null,null,null,null,null,null,null,null,null,null,"Cojocaru Vitalie","Moldova-Chisinau"]
[null,null,null,null,null,null,null,null,null,null,null,null,null,null,null,null,null,null,null,"Cojocea Florin","Cluj Napoca"]
[null,null,null,null,null,null,null,null,null,null,null,null,null,null,null,null,null,null,null,"Colcer Ioan","Galautas"]
[null,null,null,null,null,null,null,null,null,null,null,null,null,null,null,null,null,null,null,"Colcer Nicolae","Toplita"]
[null,null,null,null,null,null,null,null,null,null,null,null,null,null,null,null,null,null,null,"Colceru Paul","Comanesti"]
[null,null,null,null,null,null,null,null,null,null,null,null,null,null,null,null,null,null,null,"Colda Dorin","Lupeni"]
[null,null,null,null,null,null,null,null,null,null,null,null,null,null,null,null,null,null,null,"Colesniuc Romeo","Botosani"]
[null,null,null,null,null,null,null,null,null,null,null,null,null,null,null,null,null,null,null,"Colinicenco Denis","Moldova-Basarabeasca"]
[null,null,null,null,null,null,null,null,null,null,null,null,null,null,null,null,null,null,null,"Coltau Ana","Salonta"]
[null,null,null,null,null,null,null,null,null,null,null,null,null,null,null,null,null,null,null,"Coltau Aurica","Salonta"]
[null,null,null,null,null,null,null,null,null,null,null,null,null,null,null,null,null,null,null,"Coman Denis","Cluj Napoca"]
[null,null,null,null,null,null,null,null,null,null,null,null,null,null,null,null,null,null,null,"Coman Florin","Bucuresti"]
[null,null,null,null,null,null,null,null,null,null,null,null,null,null,null,null,null,null,null,"Coman Gabriel","Bucuresti"]
[null,null,null,null,null,null,null,null,null,null,null,null,null,null,null,null,null,null,null,"Coman Janina Elena","Brasov"]
[null,null,null,null,null,null,null,null,null,null,null,null,null,null,null,null,null,null,null,"Coman Mihaita","Harsova"]
[null,null,null,null,null,null,null,null,null,null,null,null,null,null,null,null,null,null,null,"Comaneci Denis Florin","Brasov"]
[null,null,null,null,null,null,null,null,null,null,null,null,null,null,null,null,null,null,null,"Comanescu Marian","Branceni"]
[null,null,null,null,null,null,null,null,null,null,null,null,null,null,null,null,null,null,null,"Comanoiu Andrei","Bucuresti"]
[null,null,null,null,null,null,null,null,null,null,null,null,null,null,null,null,null,null,null,"Comanoiu Claudiu","Bucuresti"]
[null,null,null,null,null,null,null,null,null,null,null,null,null,null,null,null,null,null,null,"Comsa Aurel","Nedelea"]
[null,null,null,null,null,null,null,null,null,null,null,null,null,null,null,null,null,null,null,"Comsa Dan","Sibiu"]
[null,null,null,null,null,null,null,null,null,null,null,null,null,null,null,null,null,null,null,"Comsa George Alexandru","Tulcea"]
[null,null,null,null,null,null,null,null,null,null,null,null,null,null,null,null,null,null,null,"Comsa Patricia","Medias"]
[null,null,null,null,null,null,null,null,null,null,null,null,null,null,null,null,null,null,null,"Comsa Viorel","Blaj"]
[null,null,null,null,null,null,null,null,null,null,null,null,null,null,null,null,null,null,null,"Condrea Nicolae","Alba Iulia"]
[null,null,null,null,null,null,null,null,null,null,null,null,null,null,null,null,null,null,null,"Congiu Luigi","Italia"]
[null,null,null,null,null,null,null,null,null,null,null,null,null,null,null,null,null,null,null,"Constantin Adrian","Craiova"]
[null,null,null,null,null,null,null,null,null,null,null,null,null,null,null,null,null,null,null,"Constantin Alessia","Lugoj"]
[null,null,null,null,null,null,null,null,null,null,null,null,null,null,null,null,null,null,null,"Constantin Alexandru","Bucuresti"]
[null,null,null,null,null,null,null,null,null,null,null,null,null,null,null,null,null,null,null,"Constantin Cristian","Curtea de Arges"]
[null,null,null,null,null,null,null,null,null,null,null,null,null,null,null,null,null,null,null,"Constantin Cristina","Bucuresti"]
[null,null,null,null,null,null,null,null,null,null,null,null,null,null,null,null,null,null,null,"Constantin Daniel","Filipestii de Targ"]
[null,null,null,null,null,null,null,null,null,null,null,null,null,null,null,null,null,null,null,"Constantin Eduard","Bucuresti"]
[null,null,null,null,null,null,null,null,null,null,null,null,null,null,null,null,null,null,null,"Constantin Filip","Sinaia"]
[null,null,null,null,null,null,null,null,null,null,null,null,null,null,null,null,null,null,null,"Constantin Franko Nicholas","Chiajna"]
[null,null,null,null,null,null,null,null,null,null,null,null,null,null,null,null,null,null,null,"Constantin Gabriela","Bucuresti"]
[null,null,null,null,null,null,null,null,null,null,null,null,null,null,null,null,null,null,null,"Constantin Luca Andrei","Focsani"]
[null,null,null,null,null,null,null,null,null,null,null,null,null,null,null,null,null,null,null,"Constantin Mihaela","Bucuresti"]
[null,null,null,null,null,null,null,null,null,null,null,null,null,null,null,null,null,null,null,"Constantin Rares","Focsani"]
[null,null,null,null,null,null,null,null,null,null,null,null,null,null,null,null,null,null,null,"Constantin Teodor","Bucuresti"]
[null,null,null,null,null,null,null,null,null,null,null,null,null,null,null,null,null,null,null,"Constantin Valentin","Ploiesti"]
[null,null,null,null,null,null,null,null,null,null,null,null,null,null,null,null,null,null,null,"Constantinescu Gabriel","Bucuresti"]
[null,null,null,null,null,null,null,null,null,null,null,null,null,null,null,null,null,null,null,"Constantinovici Ciprian","Liteni"]
[null,null,null,null,null,null,null,null,null,null,null,null,null,null,null,null,null,null,null,"Cont Cosmin","Gherla"]
[null,null,null,null,null,null,null,null,null,null,null,null,null,null,null,null,null,null,null,"Cont Mircea","Hunedoara"]
[null,null,null,null,null,null,null,null,null,null,null,null,null,null,null,null,null,null,null,"Contes Vasile","Timisoara"]
[null,null,null,null,null,null,null,null,null,null,null,null,null,null,null,null,null,null,null,"Contiu Flaviu","Floresti"]
[null,null,null,null,null,null,null,null,null,null,null,null,null,null,null,null,null,null,null,"Contiu Mircea","Brasov"]
[null,null,null,null,null,null,null,null,null,null,null,null,null,null,null,null,null,null,null,"Corabian Daniel","Cluj Napoca"]
[null,null,null,null,null,null,null,null,null,null,null,null,null,null,null,null,null,null,null,"Corbu Darius","Valenii de Munte"]
[null,null,null,null,null,null,null,null,null,null,null,null,null,null,null,null,null,null,null,"Corbu Mihai Cosmin","Pitesti"]
[null,null,null,null,null,null,null,null,null,null,null,null,null,null,null,null,null,null,null,"Corburean Ioan","Tarnaveni"]
[null,null,null,null,null,null,null,null,null,null,null,null,null,null,null,null,null,null,null,"Cordaro Samuel","Bucuresti"]
[null,null,null,null,null,null,null,null,null,null,null,null,null,null,null,null,null,null,null,"Corduneanu Daniel","Suceava"]
[null,null,null,null,null,null,null,null,null,null,null,null,null,null,null,null,null,null,null,"Corduneanu Flavius","Iasi"]
[null,null,null,null,null,null,null,null,null,null,null,null,null,null,null,null,null,null,null,"Corlan Gabriel","Bucuresti"]
[null,null,null,null,null,null,null,null,null,null,null,null,null,null,null,null,null,null,null,"Cornea Marian","Constanta"]
[null,null,null,null,null,null,null,null,null,null,null,null,null,null,null,null,null,null,null,"Cornea Valeriu","Fagaras"]
[null,null,null,null,null,null,null,null,null,null,null,null,null,null,null,null,null,null,null,"Corneanu Sorin","Botosani"]
[null,null,null,null,null,null,null,null,null,null,null,null,null,null,null,null,null,null,null,"Coroama Mircea","Suceava"]
[null,null,null,null,null,null,null,null,null,null,null,null,null,null,null,null,null,null,null,"Corocaescu Cristian","Suceava"]
[null,null,null,null,null,null,null,null,null,null,null,null,null,null,null,null,null,null,null,"Corodeanu Mihai","Tecuci"]
[null,null,null,null,null,null,null,null,null,null,null,null,null,null,null,null,null,null,null,"Coroi Cristian","Piatra Neamt"]
[null,null,null,null,null,null,null,null,null,null,null,null,null,null,null,null,null,null,null,"Coroi Sergiu","Moldova-Leova"]
[null,null,null,null,null,null,null,null,null,null,null,null,null,null,null,null,null,null,null,"Coroiu Andrei","Roman"]
[null,null,null,null,null,null,null,null,null,null,null,null,null,null,null,null,null,null,null,"Coroiu Dan","Roman"]
[null,null,null,null,null,null,null,null,null,null,null,null,null,null,null,null,null,null,null,"Coroiu Matei","Brasov"]
[null,null,null,null,null,null,null,null,null,null,null,null,null,null,null,null,null,null,null,"Coroliuc Maria","Moldova-Balti"]
[null,null,null,null,null,null,null,null,null,null,null,null,null,null,null,null,null,null,null,"Coroliuc Victoria","Moldova-Balti"]
[null,null,null,null,null,null,null,null,null,null,null,null,null,null,null,null,null,null,null,"Cosau Toader","Targu Neamt"]
[null,null,null,null,null,null,null,null,null,null,null,null,null,null,null,null,null,null,null,"Cosma Darius","Cluj Napoca"]
[null,null,null,null,null,null,null,null,null,null,null,null,null,null,null,null,null,null,null,"Cosmineanu Lucian","Baicoi"]
[null,null,null,null,null,null,null,null,null,null,null,null,null,null,null,null,null,null,null,"Cosoiu Traian Stefan","Bucuresti"]
[null,null,null,null,null,null,null,null,null,null,null,null,null,null,null,null,null,null,null,"Costache Claudiu","Calarasi"]
[null,null,null,null,null,null,null,null,null,null,null,null,null,null,null,null,null,null,null,"Costache Dragos Valentin","Vadeni"]
[null,null,null,null,null,null,null,null,null,null,null,null,null,null,null,null,null,null,null,"Costache Rosioru Cristian","Timisoara"]
[null,null,null,null,null,null,null,null,null,null,null,null,null,null,null,null,null,null,null,"Costandache Narcis","Iasi"]
[null,null,null,null,null,null,null,null,null,null,null,null,null,null,null,null,null,null,null,"Coste Rafael","Lupeni"]
[null,null,null,null,null,null,null,null,null,null,null,null,null,null,null,null,null,null,null,"Coste Stelian","Cehu Silvaniei"]
[null,null,null,null,null,null,null,null,null,null,null,null,null,null,null,null,null,null,null,"Costea Andrei Ionatan","Craiova"]
[null,null,null,null,null,null,null,null,null,null,null,null,null,null,null,null,null,null,null,"Costea Claudiu","Negresti Oas"]
[null,null,null,null,null,null,null,null,null,null,null,null,null,null,null,null,null,null,null,"Costea Dominic","Medias"]
[null,null,null,null,null,null,null,null,null,null,null,null,null,null,null,null,null,null,null,"Costea Lucas","Targu Mures"]
[null,null,null,null,null,null,null,null,null,null,null,null,null,null,null,null,null,null,null,"Costea Mircea","Alba Iulia"]
[null,null,null,null,null,null,null,null,null,null,null,null,null,null,null,null,null,null,null,"Costea Stefan","Tarnaveni"]
[null,null,null,null,null,null,null,null,null,null,null,null,null,null,null,null,null,null,null,"Costeant Tiberiu","Margina"]
[null,null,null,null,null,null,null,null,null,null,null,null,null,null,null,null,null,null,null,"Costin Bogdan","Iasi"]
[null,null,null,null,null,null,null,null,null,null,null,null,null,null,null,null,null,null,null,"Costin Casian","Baia Mare"]
[null,null,null,null,null,null,null,null,null,null,null,null,null,null,null,null,null,null,null,"Costin Filip","Iasi"]
[null,null,null,null,null,null,null,null,null,null,null,null,null,null,null,null,null,null,null,"Costrut Emil","Oradea"]
[null,null,null,null,null,null,null,null,null,null,null,null,null,null,null,null,null,null,null,"Cosulianu Cristi","Pascani"]
[null,null,null,null,null,null,null,null,null,null,null,null,null,null,null,null,null,null,null,"Cotca Dacian","Oradea"]
[null,null,null,null,null,null,null,null,null,null,null,null,null,null,null,null,null,null,null,"Cotet George","Pascani"]
[null,null,null,null,null,null,null,null,null,null,null,null,null,null,null,null,null,null,null,"Cotet Nicolae","Braila"]
[null,null,null,null,null,null,null,null,null,null,null,null,null,null,null,null,null,null,null,"Cotoara Toader","Suceava"]
[null,null,null,null,null,null,null,null,null,null,null,null,null,null,null,null,null,null,null,"Cotos Maria","Straja"]
[null,null,null,null,null,null,null,null,null,null,null,null,null,null,null,null,null,null,null,"Cotruta Razvan","Vaslui"]
[null,null,null,null,null,null,null,null,null,null,null,null,null,null,null,null,null,null,null,"Cotun Leo","Suceava"]
[null,null,null,null,null,null,null,null,null,null,null,null,null,null,null,null,null,null,null,"Covaci Eduardo","Arad"]
[null,null,null,null,null,null,null,null,null,null,null,null,null,null,null,null,null,null,null,"Covaci Paul","Cehu Silvaniei"]
[null,null,null,null,null,null,null,null,null,null,null,null,null,null,null,null,null,null,null,"Covaci Vasile","Sighisoara"]
[null,null,null,null,null,null,null,null,null,null,null,null,null,null,null,null,null,null,null,"Coval Valerian","Moldova-Chisinau"]
[null,null,null,null,null,null,null,null,null,null,null,null,null,null,null,null,null,null,null,"Covalciuc Bogdan","Iasi"]
[null,null,null,null,null,null,null,null,null,null,null,null,null,null,null,null,null,null,null,"Covali Anatol","Moldova-Cantemir"]
[null,null,null,null,null,null,null,null,null,null,null,null,null,null,null,null,null,null,null,"Covalschi Romeo","Iasi"]
[null,null,null,null,null,null,null,null,null,null,null,null,null,null,null,null,null,null,null,"Covasa Gloria","Pascani"]
[null,null,null,null,null,null,null,null,null,null,null,null,null,null,null,null,null,null,null,"Covataru Loredan","Brasov"]
[null,null,null,null,null,null,null,null,null,null,null,null,null,null,null,null,null,null,null,"Cozma Adrian","Targu Neamt"]
[null,null,null,null,null,null,null,null,null,null,null,null,null,null,null,null,null,null,null,"Cozma Catalin","Falticeni"]
[null,null,null,null,null,null,null,null,null,null,null,null,null,null,null,null,null,null,null,"Cozma Codrin","Vaslui"]
[null,null,null,null,null,null,null,null,null,null,null,null,null,null,null,null,null,null,null,"Cozma Dan","Dej"]
[null,null,null,null,null,null,null,null,null,null,null,null,null,null,null,null,null,null,null,"Cozma David","Moldova-Comrat"]
[null,null,null,null,null,null,null,null,null,null,null,null,null,null,null,null,null,null,null,"Cozma Denis","Hateg"]
[null,null,null,null,null,null,null,null,null,null,null,null,null,null,null,null,null,null,null,"Cozma Eduard","Targu Neamt"]
[null,null,null,null,null,null,null,null,null,null,null,null,null,null,null,null,null,null,null,"Cozma Flavian","Targu Neamt"]
[null,null,null,null,null,null,null,null,null,null,null,null,null,null,null,null,null,null,null,"Cozma Florina","Baia Mare"]
[null,null,null,null,null,null,null,null,null,null,null,null,null,null,null,null,null,null,null,"Cozma Gheorghe","Bistrita"]
[null,null,null,null,null,null,null,null,null,null,null,null,null,null,null,null,null,null,null,"Cozma Ioan","Buhusi"]
[null,null,null,null,null,null,null,null,null,null,null,null,null,null,null,null,null,null,null,"Cozma Maria","Dej"]
[null,null,null,null,null,null,null,null,null,null,null,null,null,null,null,null,null,null,null,"Cozma Mihai","Targu Neamt"]
[null,null,null,null,null,null,null,null,null,null,null,null,null,null,null,null,null,null,null,"Cozma Stefan","Apahida"]
[null,null,null,null,null,null,null,null,null,null,null,null,null,null,null,null,null,null,null,"Cracana Ionut","Targu Neamt"]
[null,null,null,null,null,null,null,null,null,null,null,null,null,null,null,null,null,null,null,"Cracanel George","Chiajna"]
[null,null,null,null,null,null,null,null,null,null,null,null,null,null,null,null,null,null,null,"Craciun Calin","Oradea"]
[null,null,null,null,null,null,null,null,null,null,null,null,null,null,null,null,null,null,null,"Craciun David Mihai","Bucuresti"]
[null,null,null,null,null,null,null,null,null,null,null,null,null,null,null,null,null,null,null,"Craciun Dragos","Filipestii de Targ"]
[null,null,null,null,null,null,null,null,null,null,null,null,null,null,null,null,null,null,null,"Craciun Laurentiu","Moreni"]
[null,null,null,null,null,null,null,null,null,null,null,null,null,null,null,null,null,null,null,"Craciun Mihaita","Brasov"]
[null,null,null,null,null,null,null,null,null,null,null,null,null,null,null,null,null,null,null,"Craciun Rafael","Videle"]
[null,null,null,null,null,null,null,null,null,null,null,null,null,null,null,null,null,null,null,"Craciun Roberto","Videle"]
[null,null,null,null,null,null,null,null,null,null,null,null,null,null,null,null,null,null,null,"Craciunas Bogdan","Bucuresti"]
[null,null,null,null,null,null,null,null,null,null,null,null,null,null,null,null,null,null,null,"Craciunel Rares Andrei","Giroc"]
[null,null,null,null,null,null,null,null,null,null,null,null,null,null,null,null,null,null,null,"Craciunica Gabriel","Calarasi"]
[null,null,null,null,null,null,null,null,null,null,null,null,null,null,null,null,null,null,null,"Crainic Adrian","Orastie"]
[null,null,null,null,null,null,null,null,null,null,null,null,null,null,null,null,null,null,null,"Craiovan Victor","Resita"]
[null,null,null,null,null,null,null,null,null,null,null,null,null,null,null,null,null,null,null,"Craiu Catalin","Videle"]
[null,null,null,null,null,null,null,null,null,null,null,null,null,null,null,null,null,null,null,"Craja Gina Alexandra","Bucuresti"]
[null,null,null,null,null,null,null,null,null,null,null,null,null,null,null,null,null,null,null,"Crasnojon Alexandra","Moldova-Balti"]
[null,null,null,null,null,null,null,null,null,null,null,null,null,null,null,null,null,null,null,"Crasnoscec Alexandr","Moldova-Vulcanesti"]
[null,null,null,null,null,null,null,null,null,null,null,null,null,null,null,null,null,null,null,"Craus Marian","Bucuresti"]
[null,null,null,null,null,null,null,null,null,null,null,null,null,null,null,null,null,null,null,"Cravcenco Dmitrii","Ucraina-Kiev"]
[null,null,null,null,null,null,null,null,null,null,null,null,null,null,null,null,null,null,null,"Cravcenco Evghenii","Ucraina-Odessa"]
[null,null,null,null,null,null,null,null,null,null,null,null,null,null,null,null,null,null,null,"Creciun Radu","Moldova-Larga"]
[null,null,null,null,null,null,null,null,null,null,null,null,null,null,null,null,null,null,null,"Cresca Alexandru Dumitru","Siret"]
[null,null,null,null,null,null,null,null,null,null,null,null,null,null,null,null,null,null,null,"Creta Petru","Luna CJ"]
[null,null,null,null,null,null,null,null,null,null,null,null,null,null,null,null,null,null,null,"Cretan Titi","Straja"]
[null,null,null,null,null,null,null,null,null,null,null,null,null,null,null,null,null,null,null,"Cretu Ionut","Bucuresti"]
[null,null,null,null,null,null,null,null,null,null,null,null,null,null,null,null,null,null,null,"Cretu Ionut","Bacau"]
[null,null,null,null,null,null,null,null,null,null,null,null,null,null,null,null,null,null,null,"Cretu Marian","Craiova"]
[null,null,null,null,null,null,null,null,null,null,null,null,null,null,null,null,null,null,null,"Cretu Marius Bogdan","Focsani"]
[null,null,null,null,null,null,null,null,null,null,null,null,null,null,null,null,null,null,null,"Crihan Tudor","Bucuresti"]
[null,null,null,null,null,null,null,null,null,null,null,null,null,null,null,null,null,null,null,"Crihana Ciprian","Bucuresti"]
[null,null,null,null,null,null,null,null,null,null,null,null,null,null,null,null,null,null,null,"Crimschi Denis","Moldova-Chisinau"]
[null,null,null,null,null,null,null,null,null,null,null,null,null,null,null,null,null,null,null,"Crippa Beatrice","Lombardia Italia"]
[null,null,null,null,null,null,null,null,null,null,null,null,null,null,null,null,null,null,null,"Crisan Alex","Gherla"]
[null,null,null,null,null,null,null,null,null,null,null,null,null,null,null,null,null,null,null,"Crisan Alexandru","Cluj Napoca"]
[null,null,null,null,null,null,null,null,null,null,null,null,null,null,null,null,null,null,null,"Crisan Alexandru","Oradea"]
[null,null,null,null,null,null,null,null,null,null,null,null,null,null,null,null,null,null,null,"Crisan Beniamin","Sighetu Marmatiei"]
[null,null,null,null,null,null,null,null,null,null,null,null,null,null,null,null,null,null,null,"Crisan Casian","Agnita"]
[null,null,null,null,null,null,null,null,null,null,null,null,null,null,null,null,null,null,null,"Crisan Cristian","Oradea"]
[null,null,null,null,null,null,null,null,null,null,null,null,null,null,null,null,null,null,null,"Crisan Dana","Oradea"]
[null,null,null,null,null,null,null,null,null,null,null,null,null,null,null,null,null,null,null,"Crisan Ovidiu","Sibiu"]
[null,null,null,null,null,null,null,null,null,null,null,null,null,null,null,null,null,null,null,"Crisanov Aurel","Timisoara"]
[null,null,null,null,null,null,null,null,null,null,null,null,null,null,null,null,null,null,null,"Cristache George","Bucuresti"]
[null,null,null,null,null,null,null,null,null,null,null,null,null,null,null,null,null,null,null,"Cristanus Cristian","Timisoara"]
[null,null,null,null,null,null,null,null,null,null,null,null,null,null,null,null,null,null,null,"Criste Mihai Marius","Cluj Napoca"]
[null,null,null,null,null,null,null,null,null,null,null,null,null,null,null,null,null,null,null,"Cristea Alexandru Costin","Bucuresti"]
[null,null,null,null,null,null,null,null,null,null,null,null,null,null,null,null,null,null,null,"Cristea Alin Mihai","Bucuresti"]
[null,null,null,null,null,null,null,null,null,null,null,null,null,null,null,null,null,null,null,"Cristea Andrei Cosmin","Aiud"]
[null,null,null,null,null,null,null,null,null,null,null,null,null,null,null,null,null,null,null,"Cristea Calin","Cluj Napoca"]
[null,null,null,null,null,null,null,null,null,null,null,null,null,null,null,null,null,null,null,"Cristea Catalina","Bucuresti"]
[null,null,null,null,null,null,null,null,null,null,null,null,null,null,null,null,null,null,null,"Cristea Daniel","Bistrita"]
[null,null,null,null,null,null,null,null,null,null,null,null,null,null,null,null,null,null,null,"Cristea Gabriel","Straoane"]
[null,null,null,null,null,null,null,null,null,null,null,null,null,null,null,null,null,null,null,"Cristea Ovidiu","Bucuresti"]
[null,null,null,null,null,null,null,null,null,null,null,null,null,null,null,null,null,null,null,"Cristea Virgil","Cugir"]
[null,null,null,null,null,null,null,null,null,null,null,null,null,null,null,null,null,null,null,"Cristescu Cristian","Bucuresti"]
[null,null,null,null,null,null,null,null,null,null,null,null,null,null,null,null,null,null,null,"Cristescu Denis","Dumbraveni SB"]
[null,null,null,null,null,null,null,null,null,null,null,null,null,null,null,null,null,null,null,"Cristian Bogdan","Timisoara"]
[null,null,null,null,null,null,null,null,null,null,null,null,null,null,null,null,null,null,null,"Cristian Minu","Onesti"]
[null,null,null,null,null,null,null,null,null,null,null,null,null,null,null,null,null,null,null,"Cristian Stefan Gheorghe","Buzau"]
[null,null,null,null,null,null,null,null,null,null,null,null,null,null,null,null,null,null,null,"Cristofor Razvan","Moinesti"]
[null,null,null,null,null,null,null,null,null,null,null,null,null,null,null,null,null,null,null,"Cristoiu Cozmin","Bucuresti"]
[null,null,null,null,null,null,null,null,null,null,null,null,null,null,null,null,null,null,null,"Critina Alexandra","Ucraina-Kiev"]
[null,null,null,null,null,null,null,null,null,null,null,null,null,null,null,null,null,null,null,"Croitoru Adrian Nicolae","Brasov"]
[null,null,null,null,null,null,null,null,null,null,null,null,null,null,null,null,null,null,null,"Croitoru Alexandru","Iasi"]
[null,null,null,null,null,null,null,null,null,null,null,null,null,null,null,null,null,null,null,"Croitoru Alin","Brasov"]
[null,null,null,null,null,null,null,null,null,null,null,null,null,null,null,null,null,null,null,"Croitoru Carli","Craiova"]
[null,null,null,null,null,null,null,null,null,null,null,null,null,null,null,null,null,null,null,"Croitoru Daniel","Craiova"]
[null,null,null,null,null,null,null,null,null,null,null,null,null,null,null,null,null,null,null,"Croitoru Doru","Vaslui"]
[null,null,null,null,null,null,null,null,null,null,null,null,null,null,null,null,null,null,null,"Croitoru Gabriel","Craiova"]
[null,null,null,null,null,null,null,null,null,null,null,null,null,null,null,null,null,null,null,"Croitoru Marian Ciprian","Brasov"]
[null,null,null,null,null,null,null,null,null,null,null,null,null,null,null,null,null,null,null,"Cruceru Ion","Ramnicu Sarat"]
[null,null,null,null,null,null,null,null,null,null,null,null,null,null,null,null,null,null,null,"Cruceru Sergiu","Targu Jiu"]
[null,null,null,null,null,null,null,null,null,null,null,null,null,null,null,null,null,null,null,"Crutian Alexei","Moldova-Balti"]
[null,null,null,null,null,null,null,null,null,null,null,null,null,null,null,null,null,null,null,"Csaki Zsolt","Tomesti"]
[null,null,null,null,null,null,null,null,null,null,null,null,null,null,null,null,null,null,null,"Csaky Tiberiu","Resita"]
[null,null,null,null,null,null,null,null,null,null,null,null,null,null,null,null,null,null,null,"Csefko Tibi","Giroc"]
[null,null,null,null,null,null,null,null,null,null,null,null,null,null,null,null,null,null,null,"Cserei Gabor","Sovata"]
[null,null,null,null,null,null,null,null,null,null,null,null,null,null,null,null,null,null,null,"Cserei Stefan","Apahida"]
[null,null,null,null,null,null,null,null,null,null,null,null,null,null,null,null,null,null,null,"Csibi Arpad","Ditrau"]
[null,null,null,null,null,null,null,null,null,null,null,null,null,null,null,null,null,null,null,"Csibi Razvan","Lunca Muresului"]
[null,null,null,null,null,null,null,null,null,null,null,null,null,null,null,null,null,null,null,"Csiki Alexandru","Tarnaveni"]
[null,null,null,null,null,null,null,null,null,null,null,null,null,null,null,null,null,null,null,"Csiki Ioan","Targu Mures"]
[null,null,null,null,null,null,null,null,null,null,null,null,null,null,null,null,null,null,null,"Csiszar Zsolt","Targu Secuiesc"]
[null,null,null,null,null,null,null,null,null,null,null,null,null,null,null,null,null,null,null,"Csiszer Tibor","Sighisoara"]
[null,null,null,null,null,null,null,null,null,null,null,null,null,null,null,null,null,null,null,"Csokany Gheorghe","Sannicolau Mare"]
[null,null,null,null,null,null,null,null,null,null,null,null,null,null,null,null,null,null,null,"Csortan Szabolcs","Odorheiu Secuiesc"]
[null,null,null,null,null,null,null,null,null,null,null,null,null,null,null,null,null,null,null,"Csulak Jozsef","Sfantu Gheorghe"]
[null,null,null,null,null,null,null,null,null,null,null,null,null,null,null,null,null,null,null,"Csurulya Gyula","Miercurea Ciuc"]
[null,null,null,null,null,null,null,null,null,null,null,null,null,null,null,null,null,null,null,"Cucereavaia Natalia","Moldova-Balti"]
[null,null,null,null,null,null,null,null,null,null,null,null,null,null,null,null,null,null,null,"Cucerzan Sonia","Medias"]
[null,null,null,null,null,null,null,null,null,null,null,null,null,null,null,null,null,null,null,"Cuciureanu Daniel","Ploiesti"]
[null,null,null,null,null,null,null,null,null,null,null,null,null,null,null,null,null,null,null,"Cuckovic Djuro","Novi Sad"]
[null,null,null,null,null,null,null,null,null,null,null,null,null,null,null,null,null,null,null,"Cucu Gabriela","Brasov"]
[null,null,null,null,null,null,null,null,null,null,null,null,null,null,null,null,null,null,null,"Cucu Ioan Emanuel","Brasov"]
[null,null,null,null,null,null,null,null,null,null,null,null,null,null,null,null,null,null,null,"Cucurigu Paul","Vatra Dornei"]
[null,null,null,null,null,null,null,null,null,null,null,null,null,null,null,null,null,null,null,"Cudalbu Ciprian","Ploiesti"]
[null,null,null,null,null,null,null,null,null,null,null,null,null,null,null,null,null,null,null,"Cudalbu Constantin","Ploiesti"]
[null,null,null,null,null,null,null,null,null,null,null,null,null,null,null,null,null,null,null,"Cuic Biljana","Belgrad"]
[null,null,null,null,null,null,null,null,null,null,null,null,null,null,null,null,null,null,null,"Cuiumju Victor","Moldova-Vulcanesti"]
[null,null,null,null,null,null,null,null,null,null,null,null,null,null,null,null,null,null,null,"Culda Andrei","Oradea"]
[null,null,null,null,null,null,null,null,null,null,null,null,null,null,null,null,null,null,null,"Culda Florin","Oradea"]
[null,null,null,null,null,null,null,null,null,null,null,null,null,null,null,null,null,null,null,"Cumpaniciu Alin","Barlad"]
[null,null,null,null,null,null,null,null,null,null,null,null,null,null,null,null,null,null,null,"Cuna Gheorghe","Buzau"]
[null,null,null,null,null,null,null,null,null,null,null,null,null,null,null,null,null,null,null,"Cuntan Ioan","Saliste"]
[null,null,null,null,null,null,null,null,null,null,null,null,null,null,null,null,null,null,null,"Cupii Cezin","Constanta"]
[null,null,null,null,null,null,null,null,null,null,null,null,null,null,null,null,null,null,null,"Cupse Alexandru","Baia Mare"]
[null,null,null,null,null,null,null,null,null,null,null,null,null,null,null,null,null,null,null,"Cupse Vasile","Baia Mare"]
[null,null,null,null,null,null,null,null,null,null,null,null,null,null,null,null,null,null,null,"Curaciuc Claudiu","Resita"]
[null,null,null,null,null,null,null,null,null,null,null,null,null,null,null,null,null,null,null,"Curcin Vladimir","Parta"]
[null,null,null,null,null,null,null,null,null,null,null,null,null,null,null,null,null,null,null,"Curelea Andrei","Bucuresti"]
[null,null,null,null,null,null,null,null,null,null,null,null,null,null,null,null,null,null,null,"Curelea Petre","Lehliu Gara"]
[null,null,null,null,null,null,null,null,null,null,null,null,null,null,null,null,null,null,null,"Curinnoi Andrei","Moldova-Balti"]
[null,null,null,null,null,null,null,null,null,null,null,null,null,null,null,null,null,null,null,"Curpas Ioan","Oradea"]
[null,null,null,null,null,null,null,null,null,null,null,null,null,null,null,null,null,null,null,"Curtea Daniel","Viseu"]
[null,null,null,null,null,null,null,null,null,null,null,null,null,null,null,null,null,null,null,"Curtea Lucas","Viseu"]
[null,null,null,null,null,null,null,null,null,null,null,null,null,null,null,null,null,null,null,"Curticapean Aurelian","Fagaras"]
[null,null,null,null,null,null,null,null,null,null,null,null,null,null,null,null,null,null,null,"Curut Gabriel","Timisoara"]
[null,null,null,null,null,null,null,null,null,null,null,null,null,null,null,null,null,null,null,"Curutiu Corin","Dumbraveni SB"]
[null,null,null,null,null,null,null,null,null,null,null,null,null,null,null,null,null,null,null,"Curutiu Traian","Dumbraveni SB"]
[null,null,null,null,null,null,null,null,null,null,null,null,null,null,null,null,null,null,null,"Cusmir Raul","Oradea"]
[null,null,null,null,null,null,null,null,null,null,null,null,null,null,null,null,null,null,null,"Cuzmin Gabriel","Navodari"]
[null,null,null,null,null,null,null,null,null,null,null,null,null,null,null,null,null,null,null,"Cuznetova Polina","Moldova-Comrat"]
[null,null,null,null,null,null,null,null,null,null,null,null,null,null,null,null,null,null,null,"Cvetkovic Zoran","Smederevo"]
[null,null,null,null,null,null,null,null,null,null,null,null,null,null,null,null,null,null,null,"Czegenyi Raymond","Oradea"]
[null,null,null,null,null,null,null,null,null,null,null,null,null,null,null,null,null,null,null,"Czimbalmos Gyula","Lazarea"]
[null,null,null,null,null,null,null,null,null,null,null,null,null,null,null,null,null,null,null,"Dabacan Dorin","Tarnaveni"]
[null,null,null,null,null,null,null,null,null,null,null,null,null,null,null,null,null,null,null,"Dabija Razvan","Iasi"]
[null,null,null,null,null,null,null,null,null,null,null,null,null,null,null,null,null,null,null,"Dabucean Matei","Hateg"]
[null,null,null,null,null,null,null,null,null,null,null,null,null,null,null,null,null,null,null,"Daca Adrian","Alexandria"]
[null,null,null,null,null,null,null,null,null,null,null,null,null,null,null,null,null,null,null,"Daianu Ion","Timisoara"]
[null,null,null,null,null,null,null,null,null,null,null,null,null,null,null,null,null,null,null,"Daineanu Paul","Constanta"]
[null,null,null,null,null,null,null,null,null,null,null,null,null,null,null,null,null,null,null,"Dalalau Dora","Targu Mures"]
[null,null,null,null,null,null,null,null,null,null,null,null,null,null,null,null,null,null,null,"Damaschin Cristina","Moldova-Cahul"]
[null,null,null,null,null,null,null,null,null,null,null,null,null,null,null,null,null,null,null,"Damian Alin","Campia Turzii"]
[null,null,null,null,null,null,null,null,null,null,null,null,null,null,null,null,null,null,null,"Damian Gelu","Comanesti"]
[null,null,null,null,null,null,null,null,null,null,null,null,null,null,null,null,null,null,null,"Damian Mircea","Bistrita"]
[null,null,null,null,null,null,null,null,null,null,null,null,null,null,null,null,null,null,null,"Damian Sebastian","Paulesti"]
[null,null,null,null,null,null,null,null,null,null,null,null,null,null,null,null,null,null,null,"Damian Toma","Comanesti"]
[null,null,null,null,null,null,null,null,null,null,null,null,null,null,null,null,null,null,null,"Damian Vasile","Nasaud"]
[null,null,null,null,null,null,null,null,null,null,null,null,null,null,null,null,null,null,null,"Damoc Francisc Teodor","Valea Lupului"]
[null,null,null,null,null,null,null,null,null,null,null,null,null,null,null,null,null,null,null,"Damoc George","Pildesti"]
[null,null,null,null,null,null,null,null,null,null,null,null,null,null,null,null,null,null,null,"Damse Daniel","Oradea"]
[null,null,null,null,null,null,null,null,null,null,null,null,null,null,null,null,null,null,null,"Dan Adrian","Stremt"]
[null,null,null,null,null,null,null,null,null,null,null,null,null,null,null,null,null,null,null,"Dan Alexandru","Alexandria"]
[null,null,null,null,null,null,null,null,null,null,null,null,null,null,null,null,null,null,null,"Dan Bogdan","Orastie"]
[null,null,null,null,null,null,null,null,null,null,null,null,null,null,null,null,null,null,null,"Dan Cosmin","Ucraina"]
[null,null,null,null,null,null,null,null,null,null,null,null,null,null,null,null,null,null,null,"Dan Radu","Zalau"]
[null,null,null,null,null,null,null,null,null,null,null,null,null,null,null,null,null,null,null,"Dan Tudor","Reghin"]
[null,null,null,null,null,null,null,null,null,null,null,null,null,null,null,null,null,null,null,"Danalache Daniel","Navodari"]
[null,null,null,null,null,null,null,null,null,null,null,null,null,null,null,null,null,null,null,"Danca Cezar","Navodari"]
[null,null,null,null,null,null,null,null,null,null,null,null,null,null,null,null,null,null,null,"Danci Lili","Iasi"]
[null,null,null,null,null,null,null,null,null,null,null,null,null,null,null,null,null,null,null,"Dancila Tudor","Sibiu"]
[null,null,null,null,null,null,null,null,null,null,null,null,null,null,null,null,null,null,null,"Dancu Luminita","Medias"]
[null,null,null,null,null,null,null,null,null,null,null,null,null,null,null,null,null,null,null,"Dancu Luminita","Sibiu"]
[null,null,null,null,null,null,null,null,null,null,null,null,null,null,null,null,null,null,null,"Daneliuc Gabi","Selimbar"]
[null,null,null,null,null,null,null,null,null,null,null,null,null,null,null,null,null,null,null,"Danescu Emil Dan","Ploiesti"]
[null,null,null,null,null,null,null,null,null,null,null,null,null,null,null,null,null,null,null,"Dangulea Tudor","Dumbraveni SB"]
[null,null,null,null,null,null,null,null,null,null,null,null,null,null,null,null,null,null,null,"Dani Leo","Arad"]
[null,null,null,null,null,null,null,null,null,null,null,null,null,null,null,null,null,null,null,"Daniel Hunor","Gheorgheni"]
[null,null,null,null,null,null,null,null,null,null,null,null,null,null,null,null,null,null,null,"Danila Alexandru","Cugir"]
[null,null,null,null,null,null,null,null,null,null,null,null,null,null,null,null,null,null,null,"Danila Anton","Campulung Mold"]
[null,null,null,null,null,null,null,null,null,null,null,null,null,null,null,null,null,null,null,"Danila Eugeniu","Bucuresti"]
[null,null,null,null,null,null,null,null,null,null,null,null,null,null,null,null,null,null,null,"Danila Florin","Cugir"]
[null,null,null,null,null,null,null,null,null,null,null,null,null,null,null,null,null,null,null,"Danu Ion","Moldova-Balti"]
[null,null,null,null,null,null,null,null,null,null,null,null,null,null,null,null,null,null,null,"Daraba Gabriel","Botosani"]
[null,null,null,null,null,null,null,null,null,null,null,null,null,null,null,null,null,null,null,"Dari Valeriu","Moldova-Cahul"]
[null,null,null,null,null,null,null,null,null,null,null,null,null,null,null,null,null,null,null,"Darie Gabriel","Comanesti"]
[null,null,null,null,null,null,null,null,null,null,null,null,null,null,null,null,null,null,null,"Darmaz Ion","Targoviste"]
[null,null,null,null,null,null,null,null,null,null,null,null,null,null,null,null,null,null,null,"Daroi Valentin","Ilfov"]
[null,null,null,null,null,null,null,null,null,null,null,null,null,null,null,null,null,null,null,"Darosi Alin","Bistrita"]
[null,null,null,null,null,null,null,null,null,null,null,null,null,null,null,null,null,null,null,"Darosi Robert","Bistrita"]
[null,null,null,null,null,null,null,null,null,null,null,null,null,null,null,null,null,null,null,"Daroti Florin","Lipova"]
[null,null,null,null,null,null,null,null,null,null,null,null,null,null,null,null,null,null,null,"Dascal Tiberiu","Cluj Napoca"]
[null,null,null,null,null,null,null,null,null,null,null,null,null,null,null,null,null,null,null,"Dascalasu Viorel","Bucuresti"]
[null,null,null,null,null,null,null,null,null,null,null,null,null,null,null,null,null,null,null,"Dascalu Cosmin Stefan","Cluj Napoca"]
[null,null,null,null,null,null,null,null,null,null,null,null,null,null,null,null,null,null,null,"Dascalu Cristian","Bucuresti"]
[null,null,null,null,null,null,null,null,null,null,null,null,null,null,null,null,null,null,null,"Dascalu Mihnea Stefan","Suceava"]
[null,null,null,null,null,null,null,null,null,null,null,null,null,null,null,null,null,null,null,"Dascalu Octavian","Suceava"]
[null,null,null,null,null,null,null,null,null,null,null,null,null,null,null,null,null,null,null,"Dascalu Sergiu","Vorona"]
[null,null,null,null,null,null,null,null,null,null,null,null,null,null,null,null,null,null,null,"David Dominik","Floresti"]
[null,null,null,null,null,null,null,null,null,null,null,null,null,null,null,null,null,null,null,"David Marian","Braila"]
[null,null,null,null,null,null,null,null,null,null,null,null,null,null,null,null,null,null,null,"David Mihail","Fagaras"]
[null,null,null,null,null,null,null,null,null,null,null,null,null,null,null,null,null,null,null,"David Sergiu Danut","Bucuresti"]
[null,null,null,null,null,null,null,null,null,null,null,null,null,null,null,null,null,null,null,"David Stefan","Ploiesti"]
[null,null,null,null,null,null,null,null,null,null,null,null,null,null,null,null,null,null,null,"David Zoltan","Floresti"]
[null,null,null,null,null,null,null,null,null,null,null,null,null,null,null,null,null,null,null,"Davidoiu Gabriela","Cluj Napoca"]
[null,null,null,null,null,null,null,null,null,null,null,null,null,null,null,null,null,null,null,"Davydov Valerii","Ucraina-Kiev"]
[null,null,null,null,null,null,null,null,null,null,null,null,null,null,null,null,null,null,null,"Deabluc Samuel","Dumbraveni SV"]
[null,null,null,null,null,null,null,null,null,null,null,null,null,null,null,null,null,null,null,"Deac Isabela","Dumbravita"]
[null,null,null,null,null,null,null,null,null,null,null,null,null,null,null,null,null,null,null,"Deac Octavian","Dumbraveni SB"]
[null,null,null,null,null,null,null,null,null,null,null,null,null,null,null,null,null,null,null,"Deaconu Lucian","Curtea de Arges"]
[null,null,null,null,null,null,null,null,null,null,null,null,null,null,null,null,null,null,null,"Deak Sandor","Cluj Napoca"]
[null,null,null,null,null,null,null,null,null,null,null,null,null,null,null,null,null,null,null,"Deak Valentin","Sebis"]
[null,null,null,null,null,null,null,null,null,null,null,null,null,null,null,null,null,null,null,"Deca Mario Constantin","Buzau"]
[null,null,null,null,null,null,null,null,null,null,null,null,null,null,null,null,null,null,null,"Decean Darian","Sibiu"]
[null,null,null,null,null,null,null,null,null,null,null,null,null,null,null,null,null,null,null,"Decsei Emma","Ludus"]
[null,null,null,null,null,null,null,null,null,null,null,null,null,null,null,null,null,null,null,"Decuseara Adrian","Medias"]
[null,null,null,null,null,null,null,null,null,null,null,null,null,null,null,null,null,null,null,"Degianschi Obrad","Resita"]
[null,null,null,null,null,null,null,null,null,null,null,null,null,null,null,null,null,null,null,"Dehelean Alexandru","Dumbravita"]
[null,null,null,null,null,null,null,null,null,null,null,null,null,null,null,null,null,null,null,"Dehelean Octavian","Timisoara"]
[null,null,null,null,null,null,null,null,null,null,null,null,null,null,null,null,null,null,null,"Delca Maria","Alexandria"]
[null,null,null,null,null,null,null,null,null,null,null,null,null,null,null,null,null,null,null,"Delca Marius","Alexandria"]
[null,null,null,null,null,null,null,null,null,null,null,null,null,null,null,null,null,null,null,"Delev Andreea","Moldova-Balti"]
[null,null,null,null,null,null,null,null,null,null,null,null,null,null,null,null,null,null,null,"Delev Paula","Moldova-Balti"]
[null,null,null,null,null,null,null,null,null,null,null,null,null,null,null,null,null,null,null,"Deli Victoria","Moldova-Comrat"]
[null,null,null,null,null,null,null,null,null,null,null,null,null,null,null,null,null,null,null,"Delibaltov Gennadii","Moldova-Cazaclia"]
[null,null,null,null,null,null,null,null,null,null,null,null,null,null,null,null,null,null,null,"Delibaltov Piotr","Moldova-Cantemir"]
[null,null,null,null,null,null,null,null,null,null,null,null,null,null,null,null,null,null,null,"Delu Marian","Hunedoara"]
[null,null,null,null,null,null,null,null,null,null,null,null,null,null,null,null,null,null,null,"Demeter Attila","Campia Turzii"]
[null,null,null,null,null,null,null,null,null,null,null,null,null,null,null,null,null,null,null,"Demian Dan","Corusu CJ"]
[null,null,null,null,null,null,null,null,null,null,null,null,null,null,null,null,null,null,null,"Demian Daniel","Arad"]
[null,null,null,null,null,null,null,null,null,null,null,null,null,null,null,null,null,null,null,"Demian Elvira","Baia Mare"]
[null,null,null,null,null,null,null,null,null,null,null,null,null,null,null,null,null,null,null,"Demian Ioan","Baia Mare"]
[null,null,null,null,null,null,null,null,null,null,null,null,null,null,null,null,null,null,null,"Demianciuc Nichita","Moldova-Chisinau"]
[null,null,null,null,null,null,null,null,null,null,null,null,null,null,null,null,null,null,null,"Demsa Daniel","Brasov"]
[null,null,null,null,null,null,null,null,null,null,null,null,null,null,null,null,null,null,null,"Dena Corneliu","Giurgiu"]
[null,null,null,null,null,null,null,null,null,null,null,null,null,null,null,null,null,null,null,"Denes Andrei","Varsolt"]
[null,null,null,null,null,null,null,null,null,null,null,null,null,null,null,null,null,null,null,"Denes Ferenc","Praid"]
[null,null,null,null,null,null,null,null,null,null,null,null,null,null,null,null,null,null,null,"Denes Ludovic","Varsolt"]
[null,null,null,null,null,null,null,null,null,null,null,null,null,null,null,null,null,null,null,"Derbac Ioan","Caransebes"]
[null,null,null,null,null,null,null,null,null,null,null,null,null,null,null,null,null,null,null,"Derenciuc Ion","Moldova-Telenesti"]
[null,null,null,null,null,null,null,null,null,null,null,null,null,null,null,null,null,null,null,"Derzsi Gabor","Hunedoara"]
[null,null,null,null,null,null,null,null,null,null,null,null,null,null,null,null,null,null,null,"Deto Cornel","Cluj Napoca"]
[null,null,null,null,null,null,null,null,null,null,null,null,null,null,null,null,null,null,null,"Dezso Attila","Dej"]
[null,null,null,null,null,null,null,null,null,null,null,null,null,null,null,null,null,null,null,"Dezso Lorand","Dej"]
[null,null,null,null,null,null,null,null,null,null,null,null,null,null,null,null,null,null,null,"Diaconescu Cristian","Floresti"]
[null,null,null,null,null,null,null,null,null,null,null,null,null,null,null,null,null,null,null,"Diaconescu Dragos","Craiova"]
[null,null,null,null,null,null,null,null,null,null,null,null,null,null,null,null,null,null,null,"Diaconescu Lucian","Targoviste"]
[null,null,null,null,null,null,null,null,null,null,null,null,null,null,null,null,null,null,null,"Diaconu Dan","Hunedoara"]
[null,null,null,null,null,null,null,null,null,null,null,null,null,null,null,null,null,null,null,"Diaconu Daniel","Timisoara"]
[null,null,null,null,null,null,null,null,null,null,null,null,null,null,null,null,null,null,null,"Diaconu Lucian","Targu Neamt"]
[null,null,null,null,null,null,null,null,null,null,null,null,null,null,null,null,null,null,null,"Dica Danut","Caracal"]
[null,null,null,null,null,null,null,null,null,null,null,null,null,null,null,null,null,null,null,"Dicu Bogdan","Voinesti DB"]
[null,null,null,null,null,null,null,null,null,null,null,null,null,null,null,null,null,null,null,"Dicu Mircea","Sebes"]
[null,null,null,null,null,null,null,null,null,null,null,null,null,null,null,null,null,null,null,"Dicu Vlad","Vaslui"]
[null,null,null,null,null,null,null,null,null,null,null,null,null,null,null,null,null,null,null,"Digolean Alexandru","Moldova-Larga"]
[null,null,null,null,null,null,null,null,null,null,null,null,null,null,null,null,null,null,null,"Dilan Pavel","Iasi"]
[null,null,null,null,null,null,null,null,null,null,null,null,null,null,null,null,null,null,null,"Dima George","Gura Ialomitei"]
[null,null,null,null,null,null,null,null,null,null,null,null,null,null,null,null,null,null,null,"Dima Paul","Giroc"]
[null,null,null,null,null,null,null,null,null,null,null,null,null,null,null,null,null,null,null,"Dimache Maria","Brasov"]
[null,null,null,null,null,null,null,null,null,null,null,null,null,null,null,null,null,null,null,"Dimache Marian","Braila"]
[null,null,null,null,null,null,null,null,null,null,null,null,null,null,null,null,null,null,null,"Dimitriu Gheorghe","Husi"]
[null,null,null,null,null,null,null,null,null,null,null,null,null,null,null,null,null,null,null,"Dimitriu Vasile","Bacau"]
[null,null,null,null,null,null,null,null,null,null,null,null,null,null,null,null,null,null,null,"Dimitrov Claudiu Marian","Suceava"]
[null,null,null,null,null,null,null,null,null,null,null,null,null,null,null,null,null,null,null,"Dimoiu Cezar","Bucuresti"]
[null,null,null,null,null,null,null,null,null,null,null,null,null,null,null,null,null,null,null,"Dina Alexandru","Bucuresti"]
[null,null,null,null,null,null,null,null,null,null,null,null,null,null,null,null,null,null,null,"Dinca Alexandru","Calarasi"]
[null,null,null,null,null,null,null,null,null,null,null,null,null,null,null,null,null,null,null,"Dinca Dorinel","Calarasi"]
[null,null,null,null,null,null,null,null,null,null,null,null,null,null,null,null,null,null,null,"Dinca Mircea Iulian","Rosiori de Vede"]
[null,null,null,null,null,null,null,null,null,null,null,null,null,null,null,null,null,null,null,"Dinescu Alin","Bucuresti"]
[null,null,null,null,null,null,null,null,null,null,null,null,null,null,null,null,null,null,null,"Dinescu Dan","Oradea"]
[null,null,null,null,null,null,null,null,null,null,null,null,null,null,null,null,null,null,null,"Dinescu Mihai","Curtea de Arges"]
[null,null,null,null,null,null,null,null,null,null,null,null,null,null,null,null,null,null,null,"Dinic Jovica","Zajecar Serbia"]
[null,null,null,null,null,null,null,null,null,null,null,null,null,null,null,null,null,null,null,"Dinicescu Ion","Pitesti"]
[null,null,null,null,null,null,null,null,null,null,null,null,null,null,null,null,null,null,null,"Dinu Adrian","Darmanesti"]
[null,null,null,null,null,null,null,null,null,null,null,null,null,null,null,null,null,null,null,"Dinu Christian","Bucuresti"]
[null,null,null,null,null,null,null,null,null,null,null,null,null,null,null,null,null,null,null,"Dinu Gheorghe","Bucuresti"]
[null,null,null,null,null,null,null,null,null,null,null,null,null,null,null,null,null,null,null,"Dinu Ion","Bals"]
[null,null,null,null,null,null,null,null,null,null,null,null,null,null,null,null,null,null,null,"Dinu Mihai","Craiova"]
[null,null,null,null,null,null,null,null,null,null,null,null,null,null,null,null,null,null,null,"Dinu Vladimir","Bucuresti"]
[null,null,null,null,null,null,null,null,null,null,null,null,null,null,null,null,null,null,null,"Dirlau Ionut","Bacau"]
[null,null,null,null,null,null,null,null,null,null,null,null,null,null,null,null,null,null,null,"Dirlau Roxana","Bucuresti"]
[null,null,null,null,null,null,null,null,null,null,null,null,null,null,null,null,null,null,null,"Dirlea Ana","Aiud"]
[null,null,null,null,null,null,null,null,null,null,null,null,null,null,null,null,null,null,null,"Dirlea Ioan","Aiud"]
[null,null,null,null,null,null,null,null,null,null,null,null,null,null,null,null,null,null,null,"Dobai Istvan","Cluj Napoca"]
[null,null,null,null,null,null,null,null,null,null,null,null,null,null,null,null,null,null,null,"Dobai Sandor","Targu Mures"]
[null,null,null,null,null,null,null,null,null,null,null,null,null,null,null,null,null,null,null,"Dobinda Alexandru","Arad"]
[null,null,null,null,null,null,null,null,null,null,null,null,null,null,null,null,null,null,null,"Dobinda Dinu","Arad"]
[null,null,null,null,null,null,null,null,null,null,null,null,null,null,null,null,null,null,null,"Dobos Robert","Iasi"]
[null,null,null,null,null,null,null,null,null,null,null,null,null,null,null,null,null,null,null,"Dobre Elisei","Jimbolia"]
[null,null,null,null,null,null,null,null,null,null,null,null,null,null,null,null,null,null,null,"Dobre Ionel","Bucuresti"]
[null,null,null,null,null,null,null,null,null,null,null,null,null,null,null,null,null,null,null,"Dobre Matei","Targoviste"]
[null,null,null,null,null,null,null,null,null,null,null,null,null,null,null,null,null,null,null,"Dobrean Efraim","Faget"]
[null,null,null,null,null,null,null,null,null,null,null,null,null,null,null,null,null,null,null,"Dobrean Mateo","Faget"]
[null,null,null,null,null,null,null,null,null,null,null,null,null,null,null,null,null,null,null,"Dobrean Ruben","Faget"]
[null,null,null,null,null,null,null,null,null,null,null,null,null,null,null,null,null,null,null,"Dobrica Marius","Videle"]
[null,null,null,null,null,null,null,null,null,null,null,null,null,null,null,null,null,null,null,"Dobrin Adrian","Targoviste"]
[null,null,null,null,null,null,null,null,null,null,null,null,null,null,null,null,null,null,null,"Dobrin David","Alexandria"]
[null,null,null,null,null,null,null,null,null,null,null,null,null,null,null,null,null,null,null,"Dobrin Dragos","Alexandria"]
[null,null,null,null,null,null,null,null,null,null,null,null,null,null,null,null,null,null,null,"Dobrincu Vlad","Iasi"]
[null,null,null,null,null,null,null,null,null,null,null,null,null,null,null,null,null,null,null,"Dobritoiu David","Floresti"]
[null,null,null,null,null,null,null,null,null,null,null,null,null,null,null,null,null,null,null,"Dobrjinschi Oleg","Moldova-Chisinau"]
[null,null,null,null,null,null,null,null,null,null,null,null,null,null,null,null,null,null,null,"Docan Cristian","Bucuresti"]
[null,null,null,null,null,null,null,null,null,null,null,null,null,null,null,null,null,null,null,"Dodan Alin Iulian","Filipestii de Padure"]
[null,null,null,null,null,null,null,null,null,null,null,null,null,null,null,null,null,null,null,"Dodon Sebastian","Dej"]
[null,null,null,null,null,null,null,null,null,null,null,null,null,null,null,null,null,null,null,"Dodon Vlad","Dej"]
[null,null,null,null,null,null,null,null,null,null,null,null,null,null,null,null,null,null,null,"Dodu Costica","Focsani"]
[null,null,null,null,null,null,null,null,null,null,null,null,null,null,null,null,null,null,null,"Dogaru Iurie","Moldova-Cahul"]
[null,null,null,null,null,null,null,null,null,null,null,null,null,null,null,null,null,null,null,"Dogaru Mihai","Drobeta Tr Severin"]
[null,null,null,null,null,null,null,null,null,null,null,null,null,null,null,null,null,null,null,"Dogaru Radu","Harsova"]
[null,null,null,null,null,null,null,null,null,null,null,null,null,null,null,null,null,null,null,"Dogaru Teodor","Bucuresti"]
[null,null,null,null,null,null,null,null,null,null,null,null,null,null,null,null,null,null,null,"Doghi Ciprian","Apahida"]
[null,null,null,null,null,null,null,null,null,null,null,null,null,null,null,null,null,null,null,"Dolete David","Bucuresti"]
[null,null,null,null,null,null,null,null,null,null,null,null,null,null,null,null,null,null,null,"Dolis Narcis","Comanesti"]
[null,null,null,null,null,null,null,null,null,null,null,null,null,null,null,null,null,null,null,"Doloscan Liviu","Moldova-Chisinau"]
[null,null,null,null,null,null,null,null,null,null,null,null,null,null,null,null,null,null,null,"Domnescu Mirela","Iasi"]
[null,null,null,null,null,null,null,null,null,null,null,null,null,null,null,null,null,null,null,"Domokos Andras","Targu Mures"]
[null,null,null,null,null,null,null,null,null,null,null,null,null,null,null,null,null,null,null,"Domokos Jozsef","Targu Mures"]
[null,null,null,null,null,null,null,null,null,null,null,null,null,null,null,null,null,null,null,"Dongolo Zsolt","Targu Mures"]
[null,null,null,null,null,null,null,null,null,null,null,null,null,null,null,null,null,null,null,"Donisan Costel","Pascani"]
[null,null,null,null,null,null,null,null,null,null,null,null,null,null,null,null,null,null,null,"Dontu Ionut","Calarasi"]
[null,null,null,null,null,null,null,null,null,null,null,null,null,null,null,null,null,null,null,"Dorcu Emanuel","Tamaseni"]
[null,null,null,null,null,null,null,null,null,null,null,null,null,null,null,null,null,null,null,"Dordea Lucian","Medias"]
[null,null,null,null,null,null,null,null,null,null,null,null,null,null,null,null,null,null,null,"Dorner Thomas","Germania"]
[null,null,null,null,null,null,null,null,null,null,null,null,null,null,null,null,null,null,null,"Doroftei Kevyn","Arad"]
[null,null,null,null,null,null,null,null,null,null,null,null,null,null,null,null,null,null,null,"Doru Vasile","Snagov"]
[null,null,null,null,null,null,null,null,null,null,null,null,null,null,null,null,null,null,null,"Dosoftei Traian","Mangalia"]
[null,null,null,null,null,null,null,null,null,null,null,null,null,null,null,null,null,null,null,"Dospinescu George","Sibiu"]
[null,null,null,null,null,null,null,null,null,null,null,null,null,null,null,null,null,null,null,"Dostatean Danut","Sibiu"]
[null,null,null,null,null,null,null,null,null,null,null,null,null,null,null,null,null,null,null,"Dovleac Dragos","Bucuresti"]
[null,null,null,null,null,null,null,null,null,null,null,null,null,null,null,null,null,null,null,"Doxan Adrian","Resita"]
[null,null,null,null,null,null,null,null,null,null,null,null,null,null,null,null,null,null,null,"Dracea Gabriel","Sinaia"]
[null,null,null,null,null,null,null,null,null,null,null,null,null,null,null,null,null,null,null,"Dragan Andrei","Bucuresti"]
[null,null,null,null,null,null,null,null,null,null,null,null,null,null,null,null,null,null,null,"Dragan Marius","Hunedoara"]
[null,null,null,null,null,null,null,null,null,null,null,null,null,null,null,null,null,null,null,"Dragan Petru Ioan","Iasi"]
[null,null,null,null,null,null,null,null,null,null,null,null,null,null,null,null,null,null,null,"Dragan Razvan","Alexandria"]
[null,null,null,null,null,null,null,null,null,null,null,null,null,null,null,null,null,null,null,"Dragan Sofia","Braila"]
[null,null,null,null,null,null,null,null,null,null,null,null,null,null,null,null,null,null,null,"Draganescu Denis","Pascani"]
[null,null,null,null,null,null,null,null,null,null,null,null,null,null,null,null,null,null,null,"Draganescu Stefan","Pascani"]
[null,null,null,null,null,null,null,null,null,null,null,null,null,null,null,null,null,null,null,"Draganescu Viorel","Ploiesti"]
[null,null,null,null,null,null,null,null,null,null,null,null,null,null,null,null,null,null,null,"Draghita Marius","Cugir"]
[null,null,null,null,null,null,null,null,null,null,null,null,null,null,null,null,null,null,null,"Dragne Andrei Dacian","Bucuresti"]
[null,null,null,null,null,null,null,null,null,null,null,null,null,null,null,null,null,null,null,"Dragoi Mihai","Bucuresti"]
[null,null,null,null,null,null,null,null,null,null,null,null,null,null,null,null,null,null,null,"Dragomanu Ana Maria","Comanesti"]
[null,null,null,null,null,null,null,null,null,null,null,null,null,null,null,null,null,null,null,"Dragomanu Florin","Comanesti"]
[null,null,null,null,null,null,null,null,null,null,null,null,null,null,null,null,null,null,null,"Dragomir Cristian","Bucuresti"]
[null,null,null,null,null,null,null,null,null,null,null,null,null,null,null,null,null,null,null,"Dragomir Dan","Bucuresti"]
[null,null,null,null,null,null,null,null,null,null,null,null,null,null,null,null,null,null,null,"Dragomir Ioan","Cristian SB"]
[null,null,null,null,null,null,null,null,null,null,null,null,null,null,null,null,null,null,null,"Dragomir Iulian","Targoviste"]
[null,null,null,null,null,null,null,null,null,null,null,null,null,null,null,null,null,null,null,"Dragomir Iuliu","Turnu Magurele"]
[null,null,null,null,null,null,null,null,null,null,null,null,null,null,null,null,null,null,null,"Dragomir Marian","Slatina Timis"]
[null,null,null,null,null,null,null,null,null,null,null,null,null,null,null,null,null,null,null,"Dragomir Marius","Targu Mures"]
[null,null,null,null,null,null,null,null,null,null,null,null,null,null,null,null,null,null,null,"Dragomir Mihai","Armenis"]
[null,null,null,null,null,null,null,null,null,null,null,null,null,null,null,null,null,null,null,"Dragomir Mircea","Medias"]
[null,null,null,null,null,null,null,null,null,null,null,null,null,null,null,null,null,null,null,"Dragomir Mitica","Sibiu"]
[null,null,null,null,null,null,null,null,null,null,null,null,null,null,null,null,null,null,null,"Dragomir Nicolae","Armenis"]
[null,null,null,null,null,null,null,null,null,null,null,null,null,null,null,null,null,null,null,"Dragomir Silviu Nicu","Focsani"]
[null,null,null,null,null,null,null,null,null,null,null,null,null,null,null,null,null,null,null,"Dragos Matei","Brasov"]
[null,null,null,null,null,null,null,null,null,null,null,null,null,null,null,null,null,null,null,"Dragoste Dorin","Cluj Napoca"]
[null,null,null,null,null,null,null,null,null,null,null,null,null,null,null,null,null,null,null,"Dragota Bogdan","Bucuresti"]
[null,null,null,null,null,null,null,null,null,null,null,null,null,null,null,null,null,null,null,"Dragotel Alexandru","Bucuresti"]
[null,null,null,null,null,null,null,null,null,null,null,null,null,null,null,null,null,null,null,"Dragotescu Iulian Darius","Deva"]
[null,null,null,null,null,null,null,null,null,null,null,null,null,null,null,null,null,null,null,"Dragu Ciprian","Tecuci"]
[null,null,null,null,null,null,null,null,null,null,null,null,null,null,null,null,null,null,null,"Dragu Fanel","Slobozia"]
[null,null,null,null,null,null,null,null,null,null,null,null,null,null,null,null,null,null,null,"Dragu Raul","Focsani"]
[null,null,null,null,null,null,null,null,null,null,null,null,null,null,null,null,null,null,null,"Dragut Tudor","Moinesti"]
[null,null,null,null,null,null,null,null,null,null,null,null,null,null,null,null,null,null,null,"Dragutoiu Petre","Bucuresti"]
[null,null,null,null,null,null,null,null,null,null,null,null,null,null,null,null,null,null,null,"Dramba Daniel Dumitru","Bucuresti"]
[null,null,null,null,null,null,null,null,null,null,null,null,null,null,null,null,null,null,null,"Dranca David","Aiud"]
[null,null,null,null,null,null,null,null,null,null,null,null,null,null,null,null,null,null,null,"Drapac Gheorghe","Brasov"]
[null,null,null,null,null,null,null,null,null,null,null,null,null,null,null,null,null,null,null,"Driha Catalin","Timisoara"]
[null,null,null,null,null,null,null,null,null,null,null,null,null,null,null,null,null,null,null,"Drimbau Calin","Marghita"]
[null,null,null,null,null,null,null,null,null,null,null,null,null,null,null,null,null,null,null,"Drinceanu Lilian","Oravita"]
[null,null,null,null,null,null,null,null,null,null,null,null,null,null,null,null,null,null,null,"Druga Ioana","Constanta"]
[null,null,null,null,null,null,null,null,null,null,null,null,null,null,null,null,null,null,null,"Drugas Laurentiu Florin","Bucuresti"]
[null,null,null,null,null,null,null,null,null,null,null,null,null,null,null,null,null,null,null,"Drulea Petru","Jimbolia"]
[null,null,null,null,null,null,null,null,null,null,null,null,null,null,null,null,null,null,null,"Drulea Radu Vlad","Jimbolia"]
[null,null,null,null,null,null,null,null,null,null,null,null,null,null,null,null,null,null,null,"Drumen Dumitru","Vatra Dornei"]
[null,null,null,null,null,null,null,null,null,null,null,null,null,null,null,null,null,null,null,"Drumen Evelina","Vatra Dornei"]
[null,null,null,null,null,null,null,null,null,null,null,null,null,null,null,null,null,null,null,"Duagi Ervin","Galati"]
[null,null,null,null,null,null,null,null,null,null,null,null,null,null,null,null,null,null,null,"Dubrovin Evghenii","Moldova-Balti"]
[null,null,null,null,null,null,null,null,null,null,null,null,null,null,null,null,null,null,null,"Duca Bebe","Curtea de Arges"]
[null,null,null,null,null,null,null,null,null,null,null,null,null,null,null,null,null,null,null,"Duca George","Curtea de Arges"]
[null,null,null,null,null,null,null,null,null,null,null,null,null,null,null,null,null,null,null,"Duca Marius","Sibiu"]
[null,null,null,null,null,null,null,null,null,null,null,null,null,null,null,null,null,null,null,"Duceac Catalin","Botosani"]
[null,null,null,null,null,null,null,null,null,null,null,null,null,null,null,null,null,null,null,"Dudun Ghenadi","Moldova-Taraclia"]
[null,null,null,null,null,null,null,null,null,null,null,null,null,null,null,null,null,null,null,"Dughi Cristi","Arad"]
[null,null,null,null,null,null,null,null,null,null,null,null,null,null,null,null,null,null,null,"Duhan Regina Elena","Bucuresti"]
[null,null,null,null,null,null,null,null,null,null,null,null,null,null,null,null,null,null,null,"Duka Peter","Marghita"]
[null,null,null,null,null,null,null,null,null,null,null,null,null,null,null,null,null,null,null,"Dulca Raul","Dumbravita"]
[null,null,null,null,null,null,null,null,null,null,null,null,null,null,null,null,null,null,null,"Dulgheru Gheorghe","Buzau"]
[null,null,null,null,null,null,null,null,null,null,null,null,null,null,null,null,null,null,null,"Duman Andrei","Calarasi"]
[null,null,null,null,null,null,null,null,null,null,null,null,null,null,null,null,null,null,null,"Duman Iulian","Halaucesti"]
[null,null,null,null,null,null,null,null,null,null,null,null,null,null,null,null,null,null,null,"Dumbrava Daniel","Focsani"]
[null,null,null,null,null,null,null,null,null,null,null,null,null,null,null,null,null,null,null,"Dumbrava Doru","Bucuresti"]
[null,null,null,null,null,null,null,null,null,null,null,null,null,null,null,null,null,null,null,"Dumbrava Gabriel","Bucuresti"]
[null,null,null,null,null,null,null,null,null,null,null,null,null,null,null,null,null,null,null,"Dumitrache Daniel","Sinaia"]
[null,null,null,null,null,null,null,null,null,null,null,null,null,null,null,null,null,null,null,"Dumitrache Gabriel","Giurgiu"]
[null,null,null,null,null,null,null,null,null,null,null,null,null,null,null,null,null,null,null,"Dumitrache Ovidiu","Petrosani"]
[null,null,null,null,null,null,null,null,null,null,null,null,null,null,null,null,null,null,null,"Dumitrana Catalin","Bucuresti"]
[null,null,null,null,null,null,null,null,null,null,null,null,null,null,null,null,null,null,null,"Dumitras Cosmin","Barlad"]
[null,null,null,null,null,null,null,null,null,null,null,null,null,null,null,null,null,null,null,"Dumitras Cristian","Giroc"]
[null,null,null,null,null,null,null,null,null,null,null,null,null,null,null,null,null,null,null,"Dumitras Victor","Giroc"]
[null,null,null,null,null,null,null,null,null,null,null,null,null,null,null,null,null,null,null,"Dumitrascu Alin","Buzau"]
[null,null,null,null,null,null,null,null,null,null,null,null,null,null,null,null,null,null,null,"Dumitrascu Cristi","Brasov"]
[null,null,null,null,null,null,null,null,null,null,null,null,null,null,null,null,null,null,null,"Dumitrascu Eduard","Bucuresti"]
[null,null,null,null,null,null,null,null,null,null,null,null,null,null,null,null,null,null,null,"Dumitrascu Marius","Buzau"]
[null,null,null,null,null,null,null,null,null,null,null,null,null,null,null,null,null,null,null,"Dumitrescu Anca","Timisoara"]
[null,null,null,null,null,null,null,null,null,null,null,null,null,null,null,null,null,null,null,"Dumitrescu Catalin","Otopeni"]
[null,null,null,null,null,null,null,null,null,null,null,null,null,null,null,null,null,null,null,"Dumitrescu Cornel","Bucuresti"]
[null,null,null,null,null,null,null,null,null,null,null,null,null,null,null,null,null,null,null,"Dumitrescu Dan","Piatra Neamt"]
[null,null,null,null,null,null,null,null,null,null,null,null,null,null,null,null,null,null,null,"Dumitrescu David","Timisoara"]
[null,null,null,null,null,null,null,null,null,null,null,null,null,null,null,null,null,null,null,"Dumitrescu Marius","Timisoara"]
[null,null,null,null,null,null,null,null,null,null,null,null,null,null,null,null,null,null,null,"Dumitrescu Norocel","Ploiesti"]
[null,null,null,null,null,null,null,null,null,null,null,null,null,null,null,null,null,null,null,"Dumitrescu Robert Nicolae","Bucuresti"]
[null,null,null,null,null,null,null,null,null,null,null,null,null,null,null,null,null,null,null,"Dumitrescu Sorin","Brasov"]
[null,null,null,null,null,null,null,null,null,null,null,null,null,null,null,null,null,null,null,"Dumitriu David","Timisoara"]
[null,null,null,null,null,null,null,null,null,null,null,null,null,null,null,null,null,null,null,"Dumitriu Florin","Iasi"]
[null,null,null,null,null,null,null,null,null,null,null,null,null,null,null,null,null,null,null,"Dumitriu Vitalie","Moldova-Larga"]
[null,null,null,null,null,null,null,null,null,null,null,null,null,null,null,null,null,null,null,"Dumitrov Paula Andreea","Valea Lupului"]
[null,null,null,null,null,null,null,null,null,null,null,null,null,null,null,null,null,null,null,"Dumitru Anca Elena","Buzau"]
[null,null,null,null,null,null,null,null,null,null,null,null,null,null,null,null,null,null,null,"Dumitru Cosmin","Bucuresti"]
[null,null,null,null,null,null,null,null,null,null,null,null,null,null,null,null,null,null,null,"Dumitru Cristian","Bucuresti"]
[null,null,null,null,null,null,null,null,null,null,null,null,null,null,null,null,null,null,null,"Dumitru Daria","Navodari"]
[null,null,null,null,null,null,null,null,null,null,null,null,null,null,null,null,null,null,null,"Dumitru Denis","Navodari"]
[null,null,null,null,null,null,null,null,null,null,null,null,null,null,null,null,null,null,null,"Dumitru Florin","Slobozia"]
[null,null,null,null,null,null,null,null,null,null,null,null,null,null,null,null,null,null,null,"Dumitru Florin","Barlad"]
[null,null,null,null,null,null,null,null,null,null,null,null,null,null,null,null,null,null,null,"Dumitru George","Targoviste"]
[null,null,null,null,null,null,null,null,null,null,null,null,null,null,null,null,null,null,null,"Dumitru George","Slobozia"]
[null,null,null,null,null,null,null,null,null,null,null,null,null,null,null,null,null,null,null,"Dumitru Gheorghe","Bucuresti"]
[null,null,null,null,null,null,null,null,null,null,null,null,null,null,null,null,null,null,null,"Dumitru Luci","Baia Mare"]
[null,null,null,null,null,null,null,null,null,null,null,null,null,null,null,null,null,null,null,"Dumitru Ovidiu","Buzau"]
[null,null,null,null,null,null,null,null,null,null,null,null,null,null,null,null,null,null,null,"Dumitru Paul","Bucuresti"]
[null,null,null,null,null,null,null,null,null,null,null,null,null,null,null,null,null,null,null,"Dumitru Rares","Pitesti"]
[null,null,null,null,null,null,null,null,null,null,null,null,null,null,null,null,null,null,null,"Dumitru Stefan","Buzau"]
[null,null,null,null,null,null,null,null,null,null,null,null,null,null,null,null,null,null,null,"Dumitru Traian","Bucuresti"]
[null,null,null,null,null,null,null,null,null,null,null,null,null,null,null,null,null,null,null,"Dumitru Vasile Ionut","Slobozia"]
[null,null,null,null,null,null,null,null,null,null,null,null,null,null,null,null,null,null,null,"Dunca Andrei","Viseu"]
[null,null,null,null,null,null,null,null,null,null,null,null,null,null,null,null,null,null,null,"Duplii Alexandru","Moldova-Chisinau"]
[null,null,null,null,null,null,null,null,null,null,null,null,null,null,null,null,null,null,null,"Durac Viorel","Constanta"]
[null,null,null,null,null,null,null,null,null,null,null,null,null,null,null,null,null,null,null,"Durlan Andrei","Iasi"]
[null,null,null,null,null,null,null,null,null,null,null,null,null,null,null,null,null,null,null,"Dusan Marcel","Arad"]
[null,null,null,null,null,null,null,null,null,null,null,null,null,null,null,null,null,null,null,"Duta Alexandru","Alexandria"]
[null,null,null,null,null,null,null,null,null,null,null,null,null,null,null,null,null,null,null,"Duta David","Curtea de Arges"]
[null,null,null,null,null,null,null,null,null,null,null,null,null,null,null,null,null,null,null,"Duta Ion","Craiova"]
[null,null,null,null,null,null,null,null,null,null,null,null,null,null,null,null,null,null,null,"Dutan Ionut Marius","Bucuresti"]
[null,null,null,null,null,null,null,null,null,null,null,null,null,null,null,null,null,null,null,"Dutu Constantin","Galati"]
[null,null,null,null,null,null,null,null,null,null,null,null,null,null,null,null,null,null,null,"Dzitac Stefan","Bucuresti"]
[null,null,null,null,null,null,null,null,null,null,null,null,null,null,null,null,null,null,null,"Edves Vasile","Alba Iulia"]
[null,null,null,null,null,null,null,null,null,null,null,null,null,null,null,null,null,null,null,"Edwin Kristof","Lugoj"]
[null,null,null,null,null,null,null,null,null,null,null,null,null,null,null,null,null,null,null,"Effler Stefan","Arad"]
[null,null,null,null,null,null,null,null,null,null,null,null,null,null,null,null,null,null,null,"Eftene Roberto","Oltenita"]
[null,null,null,null,null,null,null,null,null,null,null,null,null,null,null,null,null,null,null,"Eftimie Gabriel","Slobozia"]
[null,null,null,null,null,null,null,null,null,null,null,null,null,null,null,null,null,null,null,"Eftimie Nicolae","Slobozia"]
[null,null,null,null,null,null,null,null,null,null,null,null,null,null,null,null,null,null,null,"Eitan Duldner","Israel"]
[null,null,null,null,null,null,null,null,null,null,null,null,null,null,null,null,null,null,null,"Elekes Tibor","Sebes"]
[null,null,null,null,null,null,null,null,null,null,null,null,null,null,null,null,null,null,null,"Enache Adrian","Tulcea"]
[null,null,null,null,null,null,null,null,null,null,null,null,null,null,null,null,null,null,null,"Enache Adrian","Ploiesti"]
[null,null,null,null,null,null,null,null,null,null,null,null,null,null,null,null,null,null,null,"Enache Adrian Victor","Ploiesti"]
[null,null,null,null,null,null,null,null,null,null,null,null,null,null,null,null,null,null,null,"Enache Ciprian","Ploiesti"]
[null,null,null,null,null,null,null,null,null,null,null,null,null,null,null,null,null,null,null,"Enache Doru","Cobadin"]
[null,null,null,null,null,null,null,null,null,null,null,null,null,null,null,null,null,null,null,"Enache Ionel Gabriel","Oniceni"]
[null,null,null,null,null,null,null,null,null,null,null,null,null,null,null,null,null,null,null,"Enache Leo","Ramnicu Valcea"]
[null,null,null,null,null,null,null,null,null,null,null,null,null,null,null,null,null,null,null,"Enache Puiu Adrian","Ploiesti"]
[null,null,null,null,null,null,null,null,null,null,null,null,null,null,null,null,null,null,null,"Enache Viorel","Bucuresti"]
[null,null,null,null,null,null,null,null,null,null,null,null,null,null,null,null,null,null,null,"Encea Alexandru","Bucuresti"]
[null,null,null,null,null,null,null,null,null,null,null,null,null,null,null,null,null,null,null,"Enciu Alexandru","Slobozia"]
[null,null,null,null,null,null,null,null,null,null,null,null,null,null,null,null,null,null,null,"Enculescu Lucian","Bucuresti"]
[null,null,null,null,null,null,null,null,null,null,null,null,null,null,null,null,null,null,null,"Enculescu Mihaita","Dobroesti"]
[null,null,null,null,null,null,null,null,null,null,null,null,null,null,null,null,null,null,null,"Ene Alexandru","Navodari"]
[null,null,null,null,null,null,null,null,null,null,null,null,null,null,null,null,null,null,null,"Ene Alexandru","Bucuresti"]
[null,null,null,null,null,null,null,null,null,null,null,null,null,null,null,null,null,null,null,"Ene Daniel","Ploiesti"]
[null,null,null,null,null,null,null,null,null,null,null,null,null,null,null,null,null,null,null,"Ene Daniel","Bucuresti"]
[null,null,null,null,null,null,null,null,null,null,null,null,null,null,null,null,null,null,null,"Ene Denis","Navodari"]
[null,null,null,null,null,null,null,null,null,null,null,null,null,null,null,null,null,null,null,"Ene Dragos","Ploiesti"]
[null,null,null,null,null,null,null,null,null,null,null,null,null,null,null,null,null,null,null,"Ene Florin","Ploiesti"]
[null,null,null,null,null,null,null,null,null,null,null,null,null,null,null,null,null,null,null,"Ene Florin","Craiova"]
[null,null,null,null,null,null,null,null,null,null,null,null,null,null,null,null,null,null,null,"Ene Stefan","Craiova"]
[null,null,null,null,null,null,null,null,null,null,null,null,null,null,null,null,null,null,null,"Enea Remus","Vaslui"]
[null,null,null,null,null,null,null,null,null,null,null,null,null,null,null,null,null,null,null,"Enescu Robert","Vulcana Bai"]
[null,null,null,null,null,null,null,null,null,null,null,null,null,null,null,null,null,null,null,"Eparu Darius","Iasi"]
[null,null,null,null,null,null,null,null,null,null,null,null,null,null,null,null,null,null,null,"Epstein Shachar","Israel"]
[null,null,null,null,null,null,null,null,null,null,null,null,null,null,null,null,null,null,null,"Epureanu Alexandru","Timisoara"]
[null,null,null,null,null,null,null,null,null,null,null,null,null,null,null,null,null,null,null,"Erdei Romeo","Tasnad"]
[null,null,null,null,null,null,null,null,null,null,null,null,null,null,null,null,null,null,null,"Erdely Andras","Targu Mures"]
[null,null,null,null,null,null,null,null,null,null,null,null,null,null,null,null,null,null,null,"Ermler Celin","Resita"]
[null,null,null,null,null,null,null,null,null,null,null,null,null,null,null,null,null,null,null,"Escribano Giulia","Lombardia Italia"]
[null,null,null,null,null,null,null,null,null,null,null,null,null,null,null,null,null,null,null,"Evghenii Dubrovin","Moldova-Balti"]
[null,null,null,null,null,null,null,null,null,null,null,null,null,null,null,null,null,null,null,"Evtei Vasile","Tulcea"]
[null,null,null,null,null,null,null,null,null,null,null,null,null,null,null,null,null,null,null,"Fadgyas Gyula","Sfantu Gheorghe"]
[null,null,null,null,null,null,null,null,null,null,null,null,null,null,null,null,null,null,null,"Fagaras Cristian","Arad"]
[null,null,null,null,null,null,null,null,null,null,null,null,null,null,null,null,null,null,null,"Fagaras Daniel","Arad"]
[null,null,null,null,null,null,null,null,null,null,null,null,null,null,null,null,null,null,null,"Fagas Alberto","Arad"]
[null,null,null,null,null,null,null,null,null,null,null,null,null,null,null,null,null,null,null,"Faladau Madalina","Aiud"]
[null,null,null,null,null,null,null,null,null,null,null,null,null,null,null,null,null,null,null,"Faladau Ovidiu","Aiud"]
[null,null,null,null,null,null,null,null,null,null,null,null,null,null,null,null,null,null,null,"Falos Teodor","Targu Neamt"]
[null,null,null,null,null,null,null,null,null,null,null,null,null,null,null,null,null,null,null,"Faltisca Eugen","Viseu"]
[null,null,null,null,null,null,null,null,null,null,null,null,null,null,null,null,null,null,null,"Fancsali Kalman","Miercurea Ciuc"]
[null,null,null,null,null,null,null,null,null,null,null,null,null,null,null,null,null,null,null,"Fanea Sorin","Oradea"]
[null,null,null,null,null,null,null,null,null,null,null,null,null,null,null,null,null,null,null,"Farago Mihaly","Odorheiu Secuiesc"]
[null,null,null,null,null,null,null,null,null,null,null,null,null,null,null,null,null,null,null,"Farcas Carla","Dumbravita"]
[null,null,null,null,null,null,null,null,null,null,null,null,null,null,null,null,null,null,null,"Farcas Cristi","Medias"]
[null,null,null,null,null,null,null,null,null,null,null,null,null,null,null,null,null,null,null,"Farcas Dan","Zalau"]
[null,null,null,null,null,null,null,null,null,null,null,null,null,null,null,null,null,null,null,"Farcas Marius","Hunedoara"]
[null,null,null,null,null,null,null,null,null,null,null,null,null,null,null,null,null,null,null,"Farcas Raul","Targu Mures"]
[null,null,null,null,null,null,null,null,null,null,null,null,null,null,null,null,null,null,null,"Farcas Sonia","Zalau"]
[null,null,null,null,null,null,null,null,null,null,null,null,null,null,null,null,null,null,null,"Farcas Tudor","Cluj Napoca"]
[null,null,null,null,null,null,null,null,null,null,null,null,null,null,null,null,null,null,null,"Farcau Petre","Tasnad"]
[null,null,null,null,null,null,null,null,null,null,null,null,null,null,null,null,null,null,null,"Farkas Gabor","Targu Mures"]
[null,null,null,null,null,null,null,null,null,null,null,null,null,null,null,null,null,null,null,"Farkas Gabor","Miercurea Ciuc"]
[null,null,null,null,null,null,null,null,null,null,null,null,null,null,null,null,null,null,null,"Farkas Lorant","Miercurea Ciuc"]
[null,null,null,null,null,null,null,null,null,null,null,null,null,null,null,null,null,null,null,"Fartusnic Florin","Botosani"]
[null,null,null,null,null,null,null,null,null,null,null,null,null,null,null,null,null,null,null,"Fat Nicu","Sighetu Marmatiei"]
[null,null,null,null,null,null,null,null,null,null,null,null,null,null,null,null,null,null,null,"Faur Claudiu","Timisoara"]
[null,null,null,null,null,null,null,null,null,null,null,null,null,null,null,null,null,null,null,"Faur Laurentiu","Calarasi"]
[null,null,null,null,null,null,null,null,null,null,null,null,null,null,null,null,null,null,null,"Faur Lucian","Jimbolia"]
[null,null,null,null,null,null,null,null,null,null,null,null,null,null,null,null,null,null,null,"Faur Noam","Otelu Rosu"]
[null,null,null,null,null,null,null,null,null,null,null,null,null,null,null,null,null,null,null,"Fazakas Antal","Suseni"]
[null,null,null,null,null,null,null,null,null,null,null,null,null,null,null,null,null,null,null,"Fazakas Gergely","Miercurea Ciuc"]
[null,null,null,null,null,null,null,null,null,null,null,null,null,null,null,null,null,null,null,"Fecioru Cristi","Craiova"]
[null,null,null,null,null,null,null,null,null,null,null,null,null,null,null,null,null,null,null,"Fedorciuc Elias","Viseu"]
[null,null,null,null,null,null,null,null,null,null,null,null,null,null,null,null,null,null,null,"Fedot Valentin","Tulcea"]
[null,null,null,null,null,null,null,null,null,null,null,null,null,null,null,null,null,null,null,"Feher Tamara","Targu Mures"]
[null,null,null,null,null,null,null,null,null,null,null,null,null,null,null,null,null,null,null,"Fejer Konnert Andras","Sovata"]
[null,null,null,null,null,null,null,null,null,null,null,null,null,null,null,null,null,null,null,"Fekete Istvan","Arad"]
[null,null,null,null,null,null,null,null,null,null,null,null,null,null,null,null,null,null,null,"Feldiorean Alessandra","Sfantu Gheorghe"]
[null,null,null,null,null,null,null,null,null,null,null,null,null,null,null,null,null,null,null,"Feodorov Gabriel","Tulcea"]
[null,null,null,null,null,null,null,null,null,null,null,null,null,null,null,null,null,null,null,"Feraru Claudiu","Lugoj"]
[null,null,null,null,null,null,null,null,null,null,null,null,null,null,null,null,null,null,null,"Feraru Nicolas Cezar","Navodari"]
[null,null,null,null,null,null,null,null,null,null,null,null,null,null,null,null,null,null,null,"Feraru Stefan","Buzau"]
[null,null,null,null,null,null,null,null,null,null,null,null,null,null,null,null,null,null,null,"Ferenczi Laszlo","Sighisoara"]
[null,null,null,null,null,null,null,null,null,null,null,null,null,null,null,null,null,null,null,"Ferenczi Robert","Suseni"]
[null,null,null,null,null,null,null,null,null,null,null,null,null,null,null,null,null,null,null,"Ferenczi Sandor","Targu Mures"]
[null,null,null,null,null,null,null,null,null,null,null,null,null,null,null,null,null,null,null,"Ferenczy Zita","Cluj Napoca"]
[null,null,null,null,null,null,null,null,null,null,null,null,null,null,null,null,null,null,null,"Fernando Barbossa","Cluj Napoca"]
[null,null,null,null,null,null,null,null,null,null,null,null,null,null,null,null,null,null,null,"Ficleanu Gabriel","Giurgiu"]
[null,null,null,null,null,null,null,null,null,null,null,null,null,null,null,null,null,null,null,"Filat Maria","Bucuresti"]
[null,null,null,null,null,null,null,null,null,null,null,null,null,null,null,null,null,null,null,"Filea Adonis","Sibiu"]
[null,null,null,null,null,null,null,null,null,null,null,null,null,null,null,null,null,null,null,"Filep Attila","Gherla"]
[null,null,null,null,null,null,null,null,null,null,null,null,null,null,null,null,null,null,null,"Filimon Alexandru","Aiud"]
[null,null,null,null,null,null,null,null,null,null,null,null,null,null,null,null,null,null,null,"Filip Alin","Medias"]
[null,null,null,null,null,null,null,null,null,null,null,null,null,null,null,null,null,null,null,"Filip Cezar","Brasov"]
[null,null,null,null,null,null,null,null,null,null,null,null,null,null,null,null,null,null,null,"Filip Cezar","Sinaia"]
[null,null,null,null,null,null,null,null,null,null,null,null,null,null,null,null,null,null,null,"Filip Cristi","Comanesti"]
[null,null,null,null,null,null,null,null,null,null,null,null,null,null,null,null,null,null,null,"Filip Dan","Comanesti"]
[null,null,null,null,null,null,null,null,null,null,null,null,null,null,null,null,null,null,null,"Filip Gabriel","Bucuresti"]
[null,null,null,null,null,null,null,null,null,null,null,null,null,null,null,null,null,null,null,"Filip Gabriel","Cluj Napoca"]
[null,null,null,null,null,null,null,null,null,null,null,null,null,null,null,null,null,null,null,"Filip Maia","Cluj Napoca"]
[null,null,null,null,null,null,null,null,null,null,null,null,null,null,null,null,null,null,null,"Filip Patric","Cluj Napoca"]
[null,null,null,null,null,null,null,null,null,null,null,null,null,null,null,null,null,null,null,"Filipescu Radu","Bucuresti"]
[null,null,null,null,null,null,null,null,null,null,null,null,null,null,null,null,null,null,null,"Filipics Zoli","Timisoara"]
[null,null,null,null,null,null,null,null,null,null,null,null,null,null,null,null,null,null,null,"Filipoiu Bogdan","Ramnicu Valcea"]
[null,null,null,null,null,null,null,null,null,null,null,null,null,null,null,null,null,null,null,"Filipovici Florin","Giroc"]
[null,null,null,null,null,null,null,null,null,null,null,null,null,null,null,null,null,null,null,"Finaru Razvan","Bucuresti"]
[null,null,null,null,null,null,null,null,null,null,null,null,null,null,null,null,null,null,null,"Fiodorov Egor","Moldova-Cahul"]
[null,null,null,null,null,null,null,null,null,null,null,null,null,null,null,null,null,null,null,"Firanescu David","Dumbraveni SB"]
[null,null,null,null,null,null,null,null,null,null,null,null,null,null,null,null,null,null,null,"Firica Lucian","Constanta"]
[null,null,null,null,null,null,null,null,null,null,null,null,null,null,null,null,null,null,null,"Firican Andrei","Deva"]
[null,null,null,null,null,null,null,null,null,null,null,null,null,null,null,null,null,null,null,"Firu Marian","Vatra Dornei"]
[null,null,null,null,null,null,null,null,null,null,null,null,null,null,null,null,null,null,null,"Flesariu Mihai","Agnita"]
[null,null,null,null,null,null,null,null,null,null,null,null,null,null,null,null,null,null,null,"Fleser Marian","Blaj"]
[null,null,null,null,null,null,null,null,null,null,null,null,null,null,null,null,null,null,null,"Flocea Codrin","Vatra Dornei"]
[null,null,null,null,null,null,null,null,null,null,null,null,null,null,null,null,null,null,null,"Florea Alin","Popesti Leordeni"]
[null,null,null,null,null,null,null,null,null,null,null,null,null,null,null,null,null,null,null,"Florea Bogdan","Caracal"]
[null,null,null,null,null,null,null,null,null,null,null,null,null,null,null,null,null,null,null,"Florea Cristian","Constanta"]
[null,null,null,null,null,null,null,null,null,null,null,null,null,null,null,null,null,null,null,"Florea Ionut","Vatra Dornei"]
[null,null,null,null,null,null,null,null,null,null,null,null,null,null,null,null,null,null,null,"Florea Iulian","Bucuresti"]
[null,null,null,null,null,null,null,null,null,null,null,null,null,null,null,null,null,null,null,"Florea Lucian","Vaslui"]
[null,null,null,null,null,null,null,null,null,null,null,null,null,null,null,null,null,null,null,"Florea Madalin","Bucuresti"]
[null,null,null,null,null,null,null,null,null,null,null,null,null,null,null,null,null,null,null,"Florea Marian","Targoviste"]
[null,null,null,null,null,null,null,null,null,null,null,null,null,null,null,null,null,null,null,"Florea Marin","Filipestii de Targ"]
[null,null,null,null,null,null,null,null,null,null,null,null,null,null,null,null,null,null,null,"Florea Mihai","Ludus"]
[null,null,null,null,null,null,null,null,null,null,null,null,null,null,null,null,null,null,null,"Florea Stelian","Bucuresti"]
[null,null,null,null,null,null,null,null,null,null,null,null,null,null,null,null,null,null,null,"Florean Luca","Lunca Muresului"]
[null,null,null,null,null,null,null,null,null,null,null,null,null,null,null,null,null,null,null,"Florean Mihai","Jidvei"]
[null,null,null,null,null,null,null,null,null,null,null,null,null,null,null,null,null,null,null,"Florean Renata","Lunca Muresului"]
[null,null,null,null,null,null,null,null,null,null,null,null,null,null,null,null,null,null,null,"Florescu Bogdan","Bucuresti"]
[null,null,null,null,null,null,null,null,null,null,null,null,null,null,null,null,null,null,null,"Florescu Eleodor","Deva"]
[null,null,null,null,null,null,null,null,null,null,null,null,null,null,null,null,null,null,null,"Florescu Florin","Timisoara"]
[null,null,null,null,null,null,null,null,null,null,null,null,null,null,null,null,null,null,null,"Florescu George","Bucuresti"]
[null,null,null,null,null,null,null,null,null,null,null,null,null,null,null,null,null,null,null,"Florescu Ionut","Craiova"]
[null,null,null,null,null,null,null,null,null,null,null,null,null,null,null,null,null,null,null,"Florian Ridiche","Bucuresti"]
[null,null,null,null,null,null,null,null,null,null,null,null,null,null,null,null,null,null,null,"Florida Alin Emil","Videle"]
[null,null,null,null,null,null,null,null,null,null,null,null,null,null,null,null,null,null,null,"Floroiu Laurentiu","Buzau"]
[null,null,null,null,null,null,null,null,null,null,null,null,null,null,null,null,null,null,null,"Floroiu Robert Bogdan","Brasov"]
[null,null,null,null,null,null,null,null,null,null,null,null,null,null,null,null,null,null,null,"Flueraru Gilbert","Iasi"]
[null,null,null,null,null,null,null,null,null,null,null,null,null,null,null,null,null,null,null,"Flutur Ghita","Granicesti"]
[null,null,null,null,null,null,null,null,null,null,null,null,null,null,null,null,null,null,null,"Fodor Attila","Vanatori"]
[null,null,null,null,null,null,null,null,null,null,null,null,null,null,null,null,null,null,null,"Fogarasi David","Baciu"]
[null,null,null,null,null,null,null,null,null,null,null,null,null,null,null,null,null,null,null,"Fomin Alexandru","Moldova-Tiraspol"]
[null,null,null,null,null,null,null,null,null,null,null,null,null,null,null,null,null,null,null,"Fonariuc Denis","Iasi"]
[null,null,null,null,null,null,null,null,null,null,null,null,null,null,null,null,null,null,null,"Fordon Alin","Campani"]
[null,null,null,null,null,null,null,null,null,null,null,null,null,null,null,null,null,null,null,"Foris Andrei","Baia Mare"]
[null,null,null,null,null,null,null,null,null,null,null,null,null,null,null,null,null,null,null,"Foris Csaba","Bistrita"]
[null,null,null,null,null,null,null,null,null,null,null,null,null,null,null,null,null,null,null,"Foris Dana","Baia Mare"]
[null,null,null,null,null,null,null,null,null,null,null,null,null,null,null,null,null,null,null,"Forna Andrei","Apahida"]
[null,null,null,null,null,null,null,null,null,null,null,null,null,null,null,null,null,null,null,"Forton Nicusor","Arad"]
[null,null,null,null,null,null,null,null,null,null,null,null,null,null,null,null,null,null,null,"Fota Alexandra","Drobeta Tr Severin"]
[null,null,null,null,null,null,null,null,null,null,null,null,null,null,null,null,null,null,null,"Fotia Iulian","Bacau"]
[null,null,null,null,null,null,null,null,null,null,null,null,null,null,null,null,null,null,null,"Franciuc Robert Catalin","Suceava"]
[null,null,null,null,null,null,null,null,null,null,null,null,null,null,null,null,null,null,null,"Franculescu Marius","Sinaia"]
[null,null,null,null,null,null,null,null,null,null,null,null,null,null,null,null,null,null,null,"Fratea Aurel","Constanta"]
[null,null,null,null,null,null,null,null,null,null,null,null,null,null,null,null,null,null,null,"Fratila Dan","Ocna Sibiului"]
[null,null,null,null,null,null,null,null,null,null,null,null,null,null,null,null,null,null,null,"Fratila Robert","Filipestii de Targ"]
[null,null,null,null,null,null,null,null,null,null,null,null,null,null,null,null,null,null,null,"Fratila Tiberiu","Bucuresti"]
[null,null,null,null,null,null,null,null,null,null,null,null,null,null,null,null,null,null,null,"Frent Ovidiu","Resita"]
[null,null,null,null,null,null,null,null,null,null,null,null,null,null,null,null,null,null,null,"Frincu Iustin","Ploiesti"]
[null,null,null,null,null,null,null,null,null,null,null,null,null,null,null,null,null,null,null,"Frisan Andrei","Nasaud"]
[null,null,null,null,null,null,null,null,null,null,null,null,null,null,null,null,null,null,null,"Fritea Raul","Marghita"]
[null,null,null,null,null,null,null,null,null,null,null,null,null,null,null,null,null,null,null,"Fritz Costel","Slobozia"]
[null,null,null,null,null,null,null,null,null,null,null,null,null,null,null,null,null,null,null,"Fritz Florin","Bucuresti"]
[null,null,null,null,null,null,null,null,null,null,null,null,null,null,null,null,null,null,null,"Frunza Alexandru","Timisoara"]
[null,null,null,null,null,null,null,null,null,null,null,null,null,null,null,null,null,null,null,"Frunza George","Slobozia"]
[null,null,null,null,null,null,null,null,null,null,null,null,null,null,null,null,null,null,null,"Fuad Lior Sholmo","Israel"]
[null,null,null,null,null,null,null,null,null,null,null,null,null,null,null,null,null,null,null,"Fuciu Alexandru","Sighetu Marmatiei"]
[null,null,null,null,null,null,null,null,null,null,null,null,null,null,null,null,null,null,null,"Fudulu Sorin Gigi","Alexandria"]
[null,null,null,null,null,null,null,null,null,null,null,null,null,null,null,null,null,null,null,"Fuleki Zoltan","Uriu"]
[null,null,null,null,null,null,null,null,null,null,null,null,null,null,null,null,null,null,null,"Fulop Attila","Aiud"]
[null,null,null,null,null,null,null,null,null,null,null,null,null,null,null,null,null,null,null,"Fulop Laszlo","Targu Mures"]
[null,null,null,null,null,null,null,null,null,null,null,null,null,null,null,null,null,null,null,"Fulop Lehel","Sovata"]
[null,null,null,null,null,null,null,null,null,null,null,null,null,null,null,null,null,null,null,"Fulop Nimrod","Cristuru Secuiesc"]
[null,null,null,null,null,null,null,null,null,null,null,null,null,null,null,null,null,null,null,"Fulop Oscar","Reghin"]
[null,null,null,null,null,null,null,null,null,null,null,null,null,null,null,null,null,null,null,"Fulop Tamas","Miercurea Ciuc"]
[null,null,null,null,null,null,null,null,null,null,null,null,null,null,null,null,null,null,null,"Furdui Anatol","Moldova-Balti"]
[null,null,null,null,null,null,null,null,null,null,null,null,null,null,null,null,null,null,null,"Furdui Damian","Moldova-Balti"]
[null,null,null,null,null,null,null,null,null,null,null,null,null,null,null,null,null,null,null,"Furdui Iulian","Moldova-Balti"]
[null,null,null,null,null,null,null,null,null,null,null,null,null,null,null,null,null,null,null,"Furdui Lia","Moldova-Balti"]
[null,null,null,null,null,null,null,null,null,null,null,null,null,null,null,null,null,null,null,"Furdui Maria","Simeria"]
[null,null,null,null,null,null,null,null,null,null,null,null,null,null,null,null,null,null,null,"Furtuna Adrian","Brasov"]
[null,null,null,null,null,null,null,null,null,null,null,null,null,null,null,null,null,null,null,"Furtuna Traian","Brasov"]
[null,null,null,null,null,null,null,null,null,null,null,null,null,null,null,null,null,null,null,"Fusca Georgian","Targoviste"]
[null,null,null,null,null,null,null,null,null,null,null,null,null,null,null,null,null,null,null,"Gaborean Bogdan","Cluj Napoca"]
[null,null,null,null,null,null,null,null,null,null,null,null,null,null,null,null,null,null,null,"Gabudean Dorin","Cluj Napoca"]
[null,null,null,null,null,null,null,null,null,null,null,null,null,null,null,null,null,null,null,"Gaciu Gabriel","Gherla"]
[null,null,null,null,null,null,null,null,null,null,null,null,null,null,null,null,null,null,null,"Gado Ramses","Oradea"]
[null,null,null,null,null,null,null,null,null,null,null,null,null,null,null,null,null,null,null,"Gadzinscaia Maria","Ucraina-Okny"]
[null,null,null,null,null,null,null,null,null,null,null,null,null,null,null,null,null,null,null,"Gaftea Maria","Iasi"]
[null,null,null,null,null,null,null,null,null,null,null,null,null,null,null,null,null,null,null,"Gaga Ioan","Cluj Napoca"]
[null,null,null,null,null,null,null,null,null,null,null,null,null,null,null,null,null,null,null,"Gagea Marian","Botosani"]
[null,null,null,null,null,null,null,null,null,null,null,null,null,null,null,null,null,null,null,"Gagiu David","Targoviste"]
[null,null,null,null,null,null,null,null,null,null,null,null,null,null,null,null,null,null,null,"Gagiu Remus","Pitesti"]
[null,null,null,null,null,null,null,null,null,null,null,null,null,null,null,null,null,null,null,"Gaia Mihai","Iasi"]
[null,null,null,null,null,null,null,null,null,null,null,null,null,null,null,null,null,null,null,"Gaidarli Bogdan","Moldova-Chisinau"]
[null,null,null,null,null,null,null,null,null,null,null,null,null,null,null,null,null,null,null,"Gaidei Antoniu Mihai","Cluj Napoca"]
[null,null,null,null,null,null,null,null,null,null,null,null,null,null,null,null,null,null,null,"Gaitan Tiberiu","Braila"]
[null,null,null,null,null,null,null,null,null,null,null,null,null,null,null,null,null,null,null,"Gal Csaby","Alesd"]
[null,null,null,null,null,null,null,null,null,null,null,null,null,null,null,null,null,null,null,"Gal Farkas Arpad","Miercurea Ciuc"]
[null,null,null,null,null,null,null,null,null,null,null,null,null,null,null,null,null,null,null,"Galan Andreea","Vatra Dornei"]
[null,null,null,null,null,null,null,null,null,null,null,null,null,null,null,null,null,null,null,"Galan Edoardo","Corocaesti SV"]
[null,null,null,null,null,null,null,null,null,null,null,null,null,null,null,null,null,null,null,"Galanton Yanis","Suceava"]
[null,null,null,null,null,null,null,null,null,null,null,null,null,null,null,null,null,null,null,"Galatanu Silviu","Cluj Napoca"]
[null,null,null,null,null,null,null,null,null,null,null,null,null,null,null,null,null,null,null,"Galatean Mircea","Bistrita"]
[null,null,null,null,null,null,null,null,null,null,null,null,null,null,null,null,null,null,null,"Galateanu Silviu","Cluj Napoca"]
[null,null,null,null,null,null,null,null,null,null,null,null,null,null,null,null,null,null,null,"Galateanu Sorin","Suceava"]
[null,null,null,null,null,null,null,null,null,null,null,null,null,null,null,null,null,null,null,"Galban Calin","Viseu"]
[null,null,null,null,null,null,null,null,null,null,null,null,null,null,null,null,null,null,null,"Galca Andrei","Bucuresti"]
[null,null,null,null,null,null,null,null,null,null,null,null,null,null,null,null,null,null,null,"Galca Cristian","Iasi"]
[null,null,null,null,null,null,null,null,null,null,null,null,null,null,null,null,null,null,null,"Galea Robert","Arad"]
[null,null,null,null,null,null,null,null,null,null,null,null,null,null,null,null,null,null,null,"Gales Ioan","Suceava"]
[null,null,null,null,null,null,null,null,null,null,null,null,null,null,null,null,null,null,null,"Galfi Levente","Cluj Napoca"]
[null,null,null,null,null,null,null,null,null,null,null,null,null,null,null,null,null,null,null,"Galiu Mihai","Brasov"]
[null,null,null,null,null,null,null,null,null,null,null,null,null,null,null,null,null,null,null,"Galos Alexandru","Bucuresti"]
[null,null,null,null,null,null,null,null,null,null,null,null,null,null,null,null,null,null,null,"Gaman Alin","Marginenii de Jos"]
[null,null,null,null,null,null,null,null,null,null,null,null,null,null,null,null,null,null,null,"Gaman Catalin","Moinesti"]
[null,null,null,null,null,null,null,null,null,null,null,null,null,null,null,null,null,null,null,"Gaman Dragos","Moinesti"]
[null,null,null,null,null,null,null,null,null,null,null,null,null,null,null,null,null,null,null,"Ganea Darius","Timisoara"]
[null,null,null,null,null,null,null,null,null,null,null,null,null,null,null,null,null,null,null,"Ganja Ciprian","Giroc"]
[null,null,null,null,null,null,null,null,null,null,null,null,null,null,null,null,null,null,null,"Garabet Dan","Iasi"]
[null,null,null,null,null,null,null,null,null,null,null,null,null,null,null,null,null,null,null,"Garabet Mihnea","Iasi"]
[null,null,null,null,null,null,null,null,null,null,null,null,null,null,null,null,null,null,null,"Garaz Mircea","Bistrita"]
[null,null,null,null,null,null,null,null,null,null,null,null,null,null,null,null,null,null,null,"Garaz Razvan","Bistrita"]
[null,null,null,null,null,null,null,null,null,null,null,null,null,null,null,null,null,null,null,"Garbacea Ionut","Slobozia"]
[null,null,null,null,null,null,null,null,null,null,null,null,null,null,null,null,null,null,null,"Garciu Iulian","Bucuresti"]
[null,null,null,null,null,null,null,null,null,null,null,null,null,null,null,null,null,null,null,"Garciu Iulian","Balotesti"]
[null,null,null,null,null,null,null,null,null,null,null,null,null,null,null,null,null,null,null,"Gargalic Marina","Moldova-Avdarma"]
[null,null,null,null,null,null,null,null,null,null,null,null,null,null,null,null,null,null,null,"Gaspar Cecilia","Targu Mures"]
[null,null,null,null,null,null,null,null,null,null,null,null,null,null,null,null,null,null,null,"Gaspar Janos","Cristuru Secuiesc"]
[null,null,null,null,null,null,null,null,null,null,null,null,null,null,null,null,null,null,null,"Gatea Marius","Piatra Neamt"]
[null,null,null,null,null,null,null,null,null,null,null,null,null,null,null,null,null,null,null,"Gavre Augustin","Hateg"]
[null,null,null,null,null,null,null,null,null,null,null,null,null,null,null,null,null,null,null,"Gavril Claudiu","Bucuresti"]
[null,null,null,null,null,null,null,null,null,null,null,null,null,null,null,null,null,null,null,"Gavrila Fanica","Braila"]
[null,null,null,null,null,null,null,null,null,null,null,null,null,null,null,null,null,null,null,"Gavrilei Adelina","Pascani"]
[null,null,null,null,null,null,null,null,null,null,null,null,null,null,null,null,null,null,null,"Gavrilei Constantin","Pascani"]
[null,null,null,null,null,null,null,null,null,null,null,null,null,null,null,null,null,null,null,"Gavrilescu Petru Albert","Vaslui"]
[null,null,null,null,null,null,null,null,null,null,null,null,null,null,null,null,null,null,null,"Gavriliuc Daniel","Botosani"]
[null,null,null,null,null,null,null,null,null,null,null,null,null,null,null,null,null,null,null,"Gavriliuc Sorin","Botosani"]
[null,null,null,null,null,null,null,null,null,null,null,null,null,null,null,null,null,null,null,"Gavriluta Danut","Vadu Moldovei"]
[null,null,null,null,null,null,null,null,null,null,null,null,null,null,null,null,null,null,null,"Gazsi Adam","Marghita"]
[null,null,null,null,null,null,null,null,null,null,null,null,null,null,null,null,null,null,null,"Geamanu Robert","Drobeta Tr Severin"]
[null,null,null,null,null,null,null,null,null,null,null,null,null,null,null,null,null,null,null,"Geanta Mihai","Slobozia"]
[null,null,null,null,null,null,null,null,null,null,null,null,null,null,null,null,null,null,null,"Geanta Tony","Braila"]
[null,null,null,null,null,null,null,null,null,null,null,null,null,null,null,null,null,null,null,"Gecse Alpar","Chibed"]
[null,null,null,null,null,null,null,null,null,null,null,null,null,null,null,null,null,null,null,"Gegea Dimitrie","Straoane"]
[null,null,null,null,null,null,null,null,null,null,null,null,null,null,null,null,null,null,null,"Geiger Norbert","Baia Mare"]
[null,null,null,null,null,null,null,null,null,null,null,null,null,null,null,null,null,null,null,"Gelei Kristof","Odorheiu Secuiesc"]
[null,null,null,null,null,null,null,null,null,null,null,null,null,null,null,null,null,null,null,"Gelei Nimrod","Odorheiu Secuiesc"]
[null,null,null,null,null,null,null,null,null,null,null,null,null,null,null,null,null,null,null,"Gemene Petru","Suceava"]
[null,null,null,null,null,null,null,null,null,null,null,null,null,null,null,null,null,null,null,"Genig Oreste Constantin","Giroc"]
[null,null,null,null,null,null,null,null,null,null,null,null,null,null,null,null,null,null,null,"Geodescu Cosmin","Cluj Napoca"]
[null,null,null,null,null,null,null,null,null,null,null,null,null,null,null,null,null,null,null,"Georgescu Alexandru","Izvoarele"]
[null,null,null,null,null,null,null,null,null,null,null,null,null,null,null,null,null,null,null,"Georgescu Constantin","Orastie"]
[null,null,null,null,null,null,null,null,null,null,null,null,null,null,null,null,null,null,null,"Georgescu Costin","Bucuresti"]
[null,null,null,null,null,null,null,null,null,null,null,null,null,null,null,null,null,null,null,"Georgescu Cristian","Pitesti"]
[null,null,null,null,null,null,null,null,null,null,null,null,null,null,null,null,null,null,null,"Georgescu Florin","Bucuresti"]
[null,null,null,null,null,null,null,null,null,null,null,null,null,null,null,null,null,null,null,"Georgescu Marius","Sibiu"]
[null,null,null,null,null,null,null,null,null,null,null,null,null,null,null,null,null,null,null,"Georgescu Nicolas","Bucuresti"]
[null,null,null,null,null,null,null,null,null,null,null,null,null,null,null,null,null,null,null,"Georgescu Robert Stefan","Bucuresti"]
[null,null,null,null,null,null,null,null,null,null,null,null,null,null,null,null,null,null,null,"Georgiu Dragos","Vatra Dornei"]
[null,null,null,null,null,null,null,null,null,null,null,null,null,null,null,null,null,null,null,"Gereb Istvan Attila","Miercurea Ciuc"]
[null,null,null,null,null,null,null,null,null,null,null,null,null,null,null,null,null,null,null,"Gered Ferenc","Miercurea Ciuc"]
[null,null,null,null,null,null,null,null,null,null,null,null,null,null,null,null,null,null,null,"Gergely Anton","Oradea"]
[null,null,null,null,null,null,null,null,null,null,null,null,null,null,null,null,null,null,null,"Gergely Istvan","Ditrau"]
[null,null,null,null,null,null,null,null,null,null,null,null,null,null,null,null,null,null,null,"Ghebaur Adi","Bucuresti"]
[null,null,null,null,null,null,null,null,null,null,null,null,null,null,null,null,null,null,null,"Ghenadie Dumitru","Cluj Napoca"]
[null,null,null,null,null,null,null,null,null,null,null,null,null,null,null,null,null,null,null,"Gheorghe Catalin","Ploiesti"]
[null,null,null,null,null,null,null,null,null,null,null,null,null,null,null,null,null,null,null,"Gheorghe Constantin","Paulesti"]
[null,null,null,null,null,null,null,null,null,null,null,null,null,null,null,null,null,null,null,"Gheorghe Dragos","Ploiesti"]
[null,null,null,null,null,null,null,null,null,null,null,null,null,null,null,null,null,null,null,"Gheorghe Ion","Bucuresti"]
[null,null,null,null,null,null,null,null,null,null,null,null,null,null,null,null,null,null,null,"Gheorghe Mihai","Bucuresti"]
[null,null,null,null,null,null,null,null,null,null,null,null,null,null,null,null,null,null,null,"Gheorghe Nicolae","Calarasi"]
[null,null,null,null,null,null,null,null,null,null,null,null,null,null,null,null,null,null,null,"Gheorghe Nicu","Drobeta Tr Severin"]
[null,null,null,null,null,null,null,null,null,null,null,null,null,null,null,null,null,null,null,"Gheorghescu Marian","Ramnicu Valcea"]
[null,null,null,null,null,null,null,null,null,null,null,null,null,null,null,null,null,null,null,"Gheorghies Ovidiu","Iasi"]
[null,null,null,null,null,null,null,null,null,null,null,null,null,null,null,null,null,null,null,"Gheorghiev Bojidar","Bulgaria"]
[null,null,null,null,null,null,null,null,null,null,null,null,null,null,null,null,null,null,null,"Gheorghiev Traian","Bulgaria"]
[null,null,null,null,null,null,null,null,null,null,null,null,null,null,null,null,null,null,null,"Gheorghita Iulius Cezar","Ciprian Porumbescu"]
[null,null,null,null,null,null,null,null,null,null,null,null,null,null,null,null,null,null,null,"Gheorghita Robert","Cisnadie"]
[null,null,null,null,null,null,null,null,null,null,null,null,null,null,null,null,null,null,null,"Gheorghita Vasile","Buzau"]
[null,null,null,null,null,null,null,null,null,null,null,null,null,null,null,null,null,null,null,"Gheorghitoiu Andrei","Brasov"]
[null,null,null,null,null,null,null,null,null,null,null,null,null,null,null,null,null,null,null,"Gheozdan Daniel","Bucuresti"]
[null,null,null,null,null,null,null,null,null,null,null,null,null,null,null,null,null,null,null,"Gherasim Iulian","Tulcea"]
[null,null,null,null,null,null,null,null,null,null,null,null,null,null,null,null,null,null,null,"Gherasim Rares","Tulcea"]
[null,null,null,null,null,null,null,null,null,null,null,null,null,null,null,null,null,null,null,"Gherghel Petru","Gheraesti"]
[null,null,null,null,null,null,null,null,null,null,null,null,null,null,null,null,null,null,null,"Gherghel Valer","Alba Iulia"]
[null,null,null,null,null,null,null,null,null,null,null,null,null,null,null,null,null,null,null,"Gherghinoiu Cosmin","Bucuresti"]
[null,null,null,null,null,null,null,null,null,null,null,null,null,null,null,null,null,null,null,"Gherghita Ilaria","Moldova-Briceni"]
[null,null,null,null,null,null,null,null,null,null,null,null,null,null,null,null,null,null,null,"Gherman Constantin","Curtea de Arges"]
[null,null,null,null,null,null,null,null,null,null,null,null,null,null,null,null,null,null,null,"Gherman Sorin","Hida"]
[null,null,null,null,null,null,null,null,null,null,null,null,null,null,null,null,null,null,null,"Gherman Vlad","Timisoara"]
[null,null,null,null,null,null,null,null,null,null,null,null,null,null,null,null,null,null,null,"Ghet Ionut","Gheraesti"]
[null,null,null,null,null,null,null,null,null,null,null,null,null,null,null,null,null,null,null,"Ghete Alexandru","Timisoara"]
[null,null,null,null,null,null,null,null,null,null,null,null,null,null,null,null,null,null,null,"Ghetu Andreea","Bucuresti"]
[null,null,null,null,null,null,null,null,null,null,null,null,null,null,null,null,null,null,null,"Ghica Marius","Craiova"]
[null,null,null,null,null,null,null,null,null,null,null,null,null,null,null,null,null,null,null,"Ghica Nicolae","Gornet Cricov"]
[null,null,null,null,null,null,null,null,null,null,null,null,null,null,null,null,null,null,null,"Ghidibaca Adrian","Bacau"]
[null,null,null,null,null,null,null,null,null,null,null,null,null,null,null,null,null,null,null,"Ghidiu Valer","Sighisoara"]
[null,null,null,null,null,null,null,null,null,null,null,null,null,null,null,null,null,null,null,"Ghilan Romeo","Targu Neamt"]
[null,null,null,null,null,null,null,null,null,null,null,null,null,null,null,null,null,null,null,"Ghile Ioan","Oradea"]
[null,null,null,null,null,null,null,null,null,null,null,null,null,null,null,null,null,null,null,"Ghinea Dragos","Moinesti"]
[null,null,null,null,null,null,null,null,null,null,null,null,null,null,null,null,null,null,null,"Ghinescu Stefan","Ilfov"]
[null,null,null,null,null,null,null,null,null,null,null,null,null,null,null,null,null,null,null,"Ghiorghiu Dragos","Iasi"]
[null,null,null,null,null,null,null,null,null,null,null,null,null,null,null,null,null,null,null,"Ghita Adrian Codrut","Timisoara"]
[null,null,null,null,null,null,null,null,null,null,null,null,null,null,null,null,null,null,null,"Ghita Alexandru","Mangalia"]
[null,null,null,null,null,null,null,null,null,null,null,null,null,null,null,null,null,null,null,"Ghita Eric","Sibiu"]
[null,null,null,null,null,null,null,null,null,null,null,null,null,null,null,null,null,null,null,"Ghita Marius","Ploiesti"]
[null,null,null,null,null,null,null,null,null,null,null,null,null,null,null,null,null,null,null,"Ghiurutan Razvan","Bucuresti"]
[null,null,null,null,null,null,null,null,null,null,null,null,null,null,null,null,null,null,null,"Ghizdavescu Adrian","Navodari"]
[null,null,null,null,null,null,null,null,null,null,null,null,null,null,null,null,null,null,null,"Gihan Sefcati","Popesti Leordeni"]
[null,null,null,null,null,null,null,null,null,null,null,null,null,null,null,null,null,null,null,"Gilea Adrian","Barlad"]
[null,null,null,null,null,null,null,null,null,null,null,null,null,null,null,null,null,null,null,"Gimbuta Catalin","Bistrita"]
[null,null,null,null,null,null,null,null,null,null,null,null,null,null,null,null,null,null,null,"Gindu Claudiu","Roman"]
[null,null,null,null,null,null,null,null,null,null,null,null,null,null,null,null,null,null,null,"Giol Mihai","Braila"]
[null,null,null,null,null,null,null,null,null,null,null,null,null,null,null,null,null,null,null,"Gipsy King","Hunedoara"]
[null,null,null,null,null,null,null,null,null,null,null,null,null,null,null,null,null,null,null,"Girboni Adrian Iacob","Timisoara"]
[null,null,null,null,null,null,null,null,null,null,null,null,null,null,null,null,null,null,null,"Gisca Catalin","Bucuresti"]
[null,null,null,null,null,null,null,null,null,null,null,null,null,null,null,null,null,null,null,"Gita Dan","Sfantu Gheorghe"]
[null,null,null,null,null,null,null,null,null,null,null,null,null,null,null,null,null,null,null,"Gita Danut","Galati"]
[null,null,null,null,null,null,null,null,null,null,null,null,null,null,null,null,null,null,null,"Giurgiu Alexandru","Sibiu"]
[null,null,null,null,null,null,null,null,null,null,null,null,null,null,null,null,null,null,null,"Giurgiu Andrei","Sibiu"]
[null,null,null,null,null,null,null,null,null,null,null,null,null,null,null,null,null,null,null,"Giurgiu Cristian","Arad"]
[null,null,null,null,null,null,null,null,null,null,null,null,null,null,null,null,null,null,null,"Giuseppe Brancati","Bucuresti"]
[null,null,null,null,null,null,null,null,null,null,null,null,null,null,null,null,null,null,null,"Glavan Alexandru","Targoviste"]
[null,null,null,null,null,null,null,null,null,null,null,null,null,null,null,null,null,null,null,"Glavan Niculae","Constanta"]
[null,null,null,null,null,null,null,null,null,null,null,null,null,null,null,null,null,null,null,"Glavan Radu","Timisoara"]
[null,null,null,null,null,null,null,null,null,null,null,null,null,null,null,null,null,null,null,"Gliga Lavinia","Reghin"]
[null,null,null,null,null,null,null,null,null,null,null,null,null,null,null,null,null,null,null,"Glisic Boris","Smederevo"]
[null,null,null,null,null,null,null,null,null,null,null,null,null,null,null,null,null,null,null,"Glogogeanu Nicolae","Craiova"]
[null,null,null,null,null,null,null,null,null,null,null,null,null,null,null,null,null,null,null,"Gog Vasile","Salciua"]
[null,null,null,null,null,null,null,null,null,null,null,null,null,null,null,null,null,null,null,"Goga Ana","Moldova-Chisinau"]
[null,null,null,null,null,null,null,null,null,null,null,null,null,null,null,null,null,null,null,"Gogorita Octavian","Navodari"]
[null,null,null,null,null,null,null,null,null,null,null,null,null,null,null,null,null,null,null,"Gogu Gabriel","Cluj Napoca"]
[null,null,null,null,null,null,null,null,null,null,null,null,null,null,null,null,null,null,null,"Gogu Ionut","Roman"]
[null,null,null,null,null,null,null,null,null,null,null,null,null,null,null,null,null,null,null,"Goia Alina","Cluj Napoca"]
[null,null,null,null,null,null,null,null,null,null,null,null,null,null,null,null,null,null,null,"Gojkov Milan","Varset"]
[null,null,null,null,null,null,null,null,null,null,null,null,null,null,null,null,null,null,null,"Golai Gheorghe","Piatra Neamt"]
[null,null,null,null,null,null,null,null,null,null,null,null,null,null,null,null,null,null,null,"Golban Nicolae","Alba Iulia"]
[null,null,null,null,null,null,null,null,null,null,null,null,null,null,null,null,null,null,null,"Goldis Marinel","Arad"]
[null,null,null,null,null,null,null,null,null,null,null,null,null,null,null,null,null,null,null,"Golea Dragos","Suceava"]
[null,null,null,null,null,null,null,null,null,null,null,null,null,null,null,null,null,null,null,"Goleanu Remus","Marginea"]
[null,null,null,null,null,null,null,null,null,null,null,null,null,null,null,null,null,null,null,"Gologan Sorin Gabriel","Faurei"]
[null,null,null,null,null,null,null,null,null,null,null,null,null,null,null,null,null,null,null,"Gonta Viorel","Tecuci"]
[null,null,null,null,null,null,null,null,null,null,null,null,null,null,null,null,null,null,null,"Gonzales Levi","Deva"]
[null,null,null,null,null,null,null,null,null,null,null,null,null,null,null,null,null,null,null,"Gora Madalin","Radauti"]
[null,null,null,null,null,null,null,null,null,null,null,null,null,null,null,null,null,null,null,"Gorasciuc Marius","Hurjuieni"]
[null,null,null,null,null,null,null,null,null,null,null,null,null,null,null,null,null,null,null,"Gorbe David","Satu Mare"]
[null,null,null,null,null,null,null,null,null,null,null,null,null,null,null,null,null,null,null,"Gorgonetu Alexandru","Bucuresti"]
[null,null,null,null,null,null,null,null,null,null,null,null,null,null,null,null,null,null,null,"Gorobet Uliana","Ucraina-Kiev"]
[null,null,null,null,null,null,null,null,null,null,null,null,null,null,null,null,null,null,null,"Goroian Vladislav","Moldova-Leova"]
[null,null,null,null,null,null,null,null,null,null,null,null,null,null,null,null,null,null,null,"Gorum Adrian","Topoloveni"]
[null,null,null,null,null,null,null,null,null,null,null,null,null,null,null,null,null,null,null,"Gota Adrian","Santimbru AB"]
[null,null,null,null,null,null,null,null,null,null,null,null,null,null,null,null,null,null,null,"Gotca Adrian","Iasi"]
[null,null,null,null,null,null,null,null,null,null,null,null,null,null,null,null,null,null,null,"Gotea Denis","Hateg"]
[null,null,null,null,null,null,null,null,null,null,null,null,null,null,null,null,null,null,null,"Grade Vladut","Slobozia"]
[null,null,null,null,null,null,null,null,null,null,null,null,null,null,null,null,null,null,null,"Gradinari Stefan","Moldova-Drochia"]
[null,null,null,null,null,null,null,null,null,null,null,null,null,null,null,null,null,null,null,"Gradinaru Alin","Corabia"]
[null,null,null,null,null,null,null,null,null,null,null,null,null,null,null,null,null,null,null,"Gradinaru Ilie","Moldova-Drochia"]
[null,null,null,null,null,null,null,null,null,null,null,null,null,null,null,null,null,null,null,"Grama Aurel","Bistrita"]
[null,null,null,null,null,null,null,null,null,null,null,null,null,null,null,null,null,null,null,"Grancea Rares","Sibiu"]
[null,null,null,null,null,null,null,null,null,null,null,null,null,null,null,null,null,null,null,"Graur Robert","Lombardia Italia"]
[null,null,null,null,null,null,null,null,null,null,null,null,null,null,null,null,null,null,null,"Graur Robert","Focsani"]
[null,null,null,null,null,null,null,null,null,null,null,null,null,null,null,null,null,null,null,"Graure Lucian","Resita"]
[null,null,null,null,null,null,null,null,null,null,null,null,null,null,null,null,null,null,null,"Greceanu Alexandru","Macin"]
[null,null,null,null,null,null,null,null,null,null,null,null,null,null,null,null,null,null,null,"Grecu Cornel","Bistrita"]
[null,null,null,null,null,null,null,null,null,null,null,null,null,null,null,null,null,null,null,"Grecu Costel","Harsova"]
[null,null,null,null,null,null,null,null,null,null,null,null,null,null,null,null,null,null,null,"Grecu Radu","Iasi"]
[null,null,null,null,null,null,null,null,null,null,null,null,null,null,null,null,null,null,null,"Greonjanc Marinel","Vlajkovac"]
[null,null,null,null,null,null,null,null,null,null,null,null,null,null,null,null,null,null,null,"Griga Cristian","Oradea"]
[null,null,null,null,null,null,null,null,null,null,null,null,null,null,null,null,null,null,null,"Grigor Fabian","Viseu"]
[null,null,null,null,null,null,null,null,null,null,null,null,null,null,null,null,null,null,null,"Grigore Bogdan","Ramnicu Valcea"]
[null,null,null,null,null,null,null,null,null,null,null,null,null,null,null,null,null,null,null,"Grigore Dumitru Valentin","Ramnicu Sarat"]
[null,null,null,null,null,null,null,null,null,null,null,null,null,null,null,null,null,null,null,"Grigore Mihai","Bucuresti"]
[null,null,null,null,null,null,null,null,null,null,null,null,null,null,null,null,null,null,null,"Grigore Mihai Alexandru","Bucuresti"]
[null,null,null,null,null,null,null,null,null,null,null,null,null,null,null,null,null,null,null,"Grigorean Costel","Marginea"]
[null,null,null,null,null,null,null,null,null,null,null,null,null,null,null,null,null,null,null,"Grigorean Stefan","Suceava"]
[null,null,null,null,null,null,null,null,null,null,null,null,null,null,null,null,null,null,null,"Grigoriu Vlad","Suceava"]
[null,null,null,null,null,null,null,null,null,null,null,null,null,null,null,null,null,null,null,"Grimaldi Alesio","Italia"]
[null,null,null,null,null,null,null,null,null,null,null,null,null,null,null,null,null,null,null,"Gritto Geza","Medias"]
[null,null,null,null,null,null,null,null,null,null,null,null,null,null,null,null,null,null,null,"Gros Eduard","Lupeni"]
[null,null,null,null,null,null,null,null,null,null,null,null,null,null,null,null,null,null,null,"Grosu Alexandru","Botosani"]
[null,null,null,null,null,null,null,null,null,null,null,null,null,null,null,null,null,null,null,"Grosu Andrei","Stei"]
[null,null,null,null,null,null,null,null,null,null,null,null,null,null,null,null,null,null,null,"Grosu Octavian","Botosani"]
[null,null,null,null,null,null,null,null,null,null,null,null,null,null,null,null,null,null,null,"Grosu Robert","Galati"]
[null,null,null,null,null,null,null,null,null,null,null,null,null,null,null,null,null,null,null,"Groza Florin","Cluj Napoca"]
[null,null,null,null,null,null,null,null,null,null,null,null,null,null,null,null,null,null,null,"Groza Sophia Ann","Fagaras"]
[null,null,null,null,null,null,null,null,null,null,null,null,null,null,null,null,null,null,null,"Grozavu Alexandru","Rovinari"]
[null,null,null,null,null,null,null,null,null,null,null,null,null,null,null,null,null,null,null,"Grozavu Daniel","Barlad"]
[null,null,null,null,null,null,null,null,null,null,null,null,null,null,null,null,null,null,null,"Grumeza Lucian","Bucuresti"]
[null,null,null,null,null,null,null,null,null,null,null,null,null,null,null,null,null,null,null,"Grunfeld Tomy","Israel"]
[null,null,null,null,null,null,null,null,null,null,null,null,null,null,null,null,null,null,null,"Grusca Narcis","Gura Humorului"]
[null,null,null,null,null,null,null,null,null,null,null,null,null,null,null,null,null,null,null,"Guita Robert","Cluj Napoca"]
[null,null,null,null,null,null,null,null,null,null,null,null,null,null,null,null,null,null,null,"Guleac Sorin","Bucuresti"]
[null,null,null,null,null,null,null,null,null,null,null,null,null,null,null,null,null,null,null,"Guleaeva Miseli","Moldova-Balti"]
[null,null,null,null,null,null,null,null,null,null,null,null,null,null,null,null,null,null,null,"Guluta Florin","Bucuresti"]
[null,null,null,null,null,null,null,null,null,null,null,null,null,null,null,null,null,null,null,"Gunzilovici Stanislav","Moldova-Cahul"]
[null,null,null,null,null,null,null,null,null,null,null,null,null,null,null,null,null,null,null,"Gurau Florin Catalin","Urlati"]
[null,null,null,null,null,null,null,null,null,null,null,null,null,null,null,null,null,null,null,"Gurita Ioana","Suceava"]
[null,null,null,null,null,null,null,null,null,null,null,null,null,null,null,null,null,null,null,"Gurita Ionut","Tulcea"]
[null,null,null,null,null,null,null,null,null,null,null,null,null,null,null,null,null,null,null,"Gurzun Constantin","Miroslava"]
[null,null,null,null,null,null,null,null,null,null,null,null,null,null,null,null,null,null,null,"Gusan Boris","Turda"]
[null,null,null,null,null,null,null,null,null,null,null,null,null,null,null,null,null,null,null,"Gusea Adrian","Craiova"]
[null,null,null,null,null,null,null,null,null,null,null,null,null,null,null,null,null,null,null,"Gutulescu Marian","Drobeta Tr Severin"]
[null,null,null,null,null,null,null,null,null,null,null,null,null,null,null,null,null,null,null,"Gyorfi Szabolcs","Gheorgheni"]
[null,null,null,null,null,null,null,null,null,null,null,null,null,null,null,null,null,null,null,"Gyorgy Attila","Miercurea Ciuc"]
[null,null,null,null,null,null,null,null,null,null,null,null,null,null,null,null,null,null,null,"Hagatis Andrei","Vatra Dornei"]
[null,null,null,null,null,null,null,null,null,null,null,null,null,null,null,null,null,null,null,"Haidau Alin","Cluj Napoca"]
[null,null,null,null,null,null,null,null,null,null,null,null,null,null,null,null,null,null,null,"Haiura Alexandru","Siret"]
[null,null,null,null,null,null,null,null,null,null,null,null,null,null,null,null,null,null,null,"Hajducsi Zoltan","Campenita"]
[null,null,null,null,null,null,null,null,null,null,null,null,null,null,null,null,null,null,null,"Hajducsi Zoltan Jr","Campenita"]
[null,null,null,null,null,null,null,null,null,null,null,null,null,null,null,null,null,null,null,"Halasz Botond","Ciba"]
[null,null,null,null,null,null,null,null,null,null,null,null,null,null,null,null,null,null,null,"Halasz Levente","Cluj Napoca"]
[null,null,null,null,null,null,null,null,null,null,null,null,null,null,null,null,null,null,null,"Halasz Peter","Oradea"]
[null,null,null,null,null,null,null,null,null,null,null,null,null,null,null,null,null,null,null,"Hamza Catalin","Satu Mare"]
[null,null,null,null,null,null,null,null,null,null,null,null,null,null,null,null,null,null,null,"Hamzescu Adrian Rosu","Craiova"]
[null,null,null,null,null,null,null,null,null,null,null,null,null,null,null,null,null,null,null,"Hancig Mircea","Dumbravita"]
[null,null,null,null,null,null,null,null,null,null,null,null,null,null,null,null,null,null,null,"Hancu Maricel","Vaslui"]
[null,null,null,null,null,null,null,null,null,null,null,null,null,null,null,null,null,null,null,"Handlery Viktor","Oradea"]
[null,null,null,null,null,null,null,null,null,null,null,null,null,null,null,null,null,null,null,"Hanes Onisie","Medias"]
[null,null,null,null,null,null,null,null,null,null,null,null,null,null,null,null,null,null,null,"Hanganu George","Brasov"]
[null,null,null,null,null,null,null,null,null,null,null,null,null,null,null,null,null,null,null,"Hango Carmen","Bucuresti"]
[null,null,null,null,null,null,null,null,null,null,null,null,null,null,null,null,null,null,null,"Hanta George Cosmin","Bucuresti"]
[null,null,null,null,null,null,null,null,null,null,null,null,null,null,null,null,null,null,null,"Hanu Viorel","Moreni"]
[null,null,null,null,null,null,null,null,null,null,null,null,null,null,null,null,null,null,null,"Hanuleac Tamas","Joseni"]
[null,null,null,null,null,null,null,null,null,null,null,null,null,null,null,null,null,null,null,"Harabagiu Tomaso","Galati"]
[null,null,null,null,null,null,null,null,null,null,null,null,null,null,null,null,null,null,null,"Harabagiu Tudor","Botosani"]
[null,null,null,null,null,null,null,null,null,null,null,null,null,null,null,null,null,null,null,"Haran Alexandru","Sibiu"]
[null,null,null,null,null,null,null,null,null,null,null,null,null,null,null,null,null,null,null,"Hariuc Costica","Vaslui"]
[null,null,null,null,null,null,null,null,null,null,null,null,null,null,null,null,null,null,null,"Hartopeanu Constantin","Arad"]
[null,null,null,null,null,null,null,null,null,null,null,null,null,null,null,null,null,null,null,"Haschi Aron","Miercurea Ciuc"]
[null,null,null,null,null,null,null,null,null,null,null,null,null,null,null,null,null,null,null,"Hasna Cosmin","Straja"]
[null,null,null,null,null,null,null,null,null,null,null,null,null,null,null,null,null,null,null,"Hategan Tudor","Alba Iulia"]
[null,null,null,null,null,null,null,null,null,null,null,null,null,null,null,null,null,null,null,"Hauptkorn Martin","Germania"]
[null,null,null,null,null,null,null,null,null,null,null,null,null,null,null,null,null,null,null,"Havas Peter","Targu Mures"]
[null,null,null,null,null,null,null,null,null,null,null,null,null,null,null,null,null,null,null,"Havrisciuc Andrei","Patrauti"]
[null,null,null,null,null,null,null,null,null,null,null,null,null,null,null,null,null,null,null,"Hegedus Aaron","Brasov"]
[null,null,null,null,null,null,null,null,null,null,null,null,null,null,null,null,null,null,null,"Hegedus Simon","Brasov"]
[null,null,null,null,null,null,null,null,null,null,null,null,null,null,null,null,null,null,null,"Heghedus Dumitru","Cicarlau"]
[null,null,null,null,null,null,null,null,null,null,null,null,null,null,null,null,null,null,null,"Heja Zoltan","Ditrau"]
[null,null,null,null,null,null,null,null,null,null,null,null,null,null,null,null,null,null,null,"Heja Zsolt","Ditrau"]
[null,null,null,null,null,null,null,null,null,null,null,null,null,null,null,null,null,null,null,"Herban Cosmin","Hunedoara"]
[null,null,null,null,null,null,null,null,null,null,null,null,null,null,null,null,null,null,null,"Herbei Tudor","Dumbravita"]
[null,null,null,null,null,null,null,null,null,null,null,null,null,null,null,null,null,null,null,"Herciu Iustin","Comanesti"]
[null,null,null,null,null,null,null,null,null,null,null,null,null,null,null,null,null,null,null,"Herdes Gabriel","Putna"]
[null,null,null,null,null,null,null,null,null,null,null,null,null,null,null,null,null,null,null,"Heresanu Mihai","Ludus"]
[null,null,null,null,null,null,null,null,null,null,null,null,null,null,null,null,null,null,null,"Herghelegiu Rodica","Galati"]
[null,null,null,null,null,null,null,null,null,null,null,null,null,null,null,null,null,null,null,"Herlo Ioan","Arad"]
[null,null,null,null,null,null,null,null,null,null,null,null,null,null,null,null,null,null,null,"Herta Gheorghe","Hateg"]
[null,null,null,null,null,null,null,null,null,null,null,null,null,null,null,null,null,null,null,"Herteg Dorinel","Arad"]
[null,null,null,null,null,null,null,null,null,null,null,null,null,null,null,null,null,null,null,"Hidisan Cornel","Campia Turzii"]
[null,null,null,null,null,null,null,null,null,null,null,null,null,null,null,null,null,null,null,"Hindli Patric","Floresti"]
[null,null,null,null,null,null,null,null,null,null,null,null,null,null,null,null,null,null,null,"Hirlea Luca","Suceava"]
[null,null,null,null,null,null,null,null,null,null,null,null,null,null,null,null,null,null,null,"Hirsescu Cosmin","Bucuresti"]
[null,null,null,null,null,null,null,null,null,null,null,null,null,null,null,null,null,null,null,"Hoancea Eugen","Deva"]
[null,null,null,null,null,null,null,null,null,null,null,null,null,null,null,null,null,null,null,"Hobinca Cezar","Iasi"]
[null,null,null,null,null,null,null,null,null,null,null,null,null,null,null,null,null,null,null,"Hoca Bogdan","Lunca Muresului"]
[null,null,null,null,null,null,null,null,null,null,null,null,null,null,null,null,null,null,null,"Hoca Lucas","Lunca Muresului"]
[null,null,null,null,null,null,null,null,null,null,null,null,null,null,null,null,null,null,null,"Hociung Ciprian","Iasi"]
[null,null,null,null,null,null,null,null,null,null,null,null,null,null,null,null,null,null,null,"Hodis Marian","Bucuresti"]
[null,null,null,null,null,null,null,null,null,null,null,null,null,null,null,null,null,null,null,"Hodis Tudor","Bucuresti"]
[null,null,null,null,null,null,null,null,null,null,null,null,null,null,null,null,null,null,null,"Hodivoianu Marius","Bucuresti"]
[null,null,null,null,null,null,null,null,null,null,null,null,null,null,null,null,null,null,null,"Hoffman Zoltan","Baia Mare"]
[null,null,null,null,null,null,null,null,null,null,null,null,null,null,null,null,null,null,null,"Hogea Cristi","Piatra Neamt"]
[null,null,null,null,null,null,null,null,null,null,null,null,null,null,null,null,null,null,null,"Hoitan Daniel","Breaza"]
[null,null,null,null,null,null,null,null,null,null,null,null,null,null,null,null,null,null,null,"Holban Dumitru","Buzau"]
[null,null,null,null,null,null,null,null,null,null,null,null,null,null,null,null,null,null,null,"Holban Ionut","Harsova"]
[null,null,null,null,null,null,null,null,null,null,null,null,null,null,null,null,null,null,null,"Hollo Istvan","Danesti"]
[null,null,null,null,null,null,null,null,null,null,null,null,null,null,null,null,null,null,null,"Holostenco Andrei","Iasi"]
[null,null,null,null,null,null,null,null,null,null,null,null,null,null,null,null,null,null,null,"Homana Marius","Stremt"]
[null,null,null,null,null,null,null,null,null,null,null,null,null,null,null,null,null,null,null,"Honciu Bogdan","Bucuresti"]
[null,null,null,null,null,null,null,null,null,null,null,null,null,null,null,null,null,null,null,"Hopirtean Remus","Alba Iulia"]
[null,null,null,null,null,null,null,null,null,null,null,null,null,null,null,null,null,null,null,"Horeanu Lucian Adrian","Botosani"]
[null,null,null,null,null,null,null,null,null,null,null,null,null,null,null,null,null,null,null,"Horinceanu Sandu","Viseu"]
[null,null,null,null,null,null,null,null,null,null,null,null,null,null,null,null,null,null,null,"Horotan Catalin","Baia Mare"]
[null,null,null,null,null,null,null,null,null,null,null,null,null,null,null,null,null,null,null,"Horvath Mircea","Orastie"]
[null,null,null,null,null,null,null,null,null,null,null,null,null,null,null,null,null,null,null,"Horvath Tibor","Oradea"]
[null,null,null,null,null,null,null,null,null,null,null,null,null,null,null,null,null,null,null,"Hosu Andrei","Resita"]
[null,null,null,null,null,null,null,null,null,null,null,null,null,null,null,null,null,null,null,"Hotico Ciprian","Sighetu Marmatiei"]
[null,null,null,null,null,null,null,null,null,null,null,null,null,null,null,null,null,null,null,"Hotnog Tudor","Suceava"]
[null,null,null,null,null,null,null,null,null,null,null,null,null,null,null,null,null,null,null,"Hradszki Sebastian","Sannicolau Mare"]
[null,null,null,null,null,null,null,null,null,null,null,null,null,null,null,null,null,null,null,"Hriban Stefan","Viseu"]
[null,null,null,null,null,null,null,null,null,null,null,null,null,null,null,null,null,null,null,"Hruban Andrei","Dej"]
[null,null,null,null,null,null,null,null,null,null,null,null,null,null,null,null,null,null,null,"Hui Horatiu","Cluj Napoca"]
[null,null,null,null,null,null,null,null,null,null,null,null,null,null,null,null,null,null,null,"Huica Petre","Bucuresti"]
[null,null,null,null,null,null,null,null,null,null,null,null,null,null,null,null,null,null,null,"Hulea Calin","Alesd"]
[null,null,null,null,null,null,null,null,null,null,null,null,null,null,null,null,null,null,null,"Hupca Ricardo","Straoane"]
[null,null,null,null,null,null,null,null,null,null,null,null,null,null,null,null,null,null,null,"Huruba Cristian","Targu Mures"]
[null,null,null,null,null,null,null,null,null,null,null,null,null,null,null,null,null,null,null,"Hurubean Cristi","Medias"]
[null,null,null,null,null,null,null,null,null,null,null,null,null,null,null,null,null,null,null,"Husa Gelu","Zalau"]
[null,null,null,null,null,null,null,null,null,null,null,null,null,null,null,null,null,null,null,"Husar Toader","Sapanta"]
[null,null,null,null,null,null,null,null,null,null,null,null,null,null,null,null,null,null,null,"Husarciuc Beniamin","Suceava"]
[null,null,null,null,null,null,null,null,null,null,null,null,null,null,null,null,null,null,null,"Husarciuc Marc","Suceava"]
[null,null,null,null,null,null,null,null,null,null,null,null,null,null,null,null,null,null,null,"Hutan Cosmin","Salcea"]
[null,null,null,null,null,null,null,null,null,null,null,null,null,null,null,null,null,null,null,"Hutanu Adrian","Slobozia"]
[null,null,null,null,null,null,null,null,null,null,null,null,null,null,null,null,null,null,null,"Hutina Adrian","Targu Mures"]
[null,null,null,null,null,null,null,null,null,null,null,null,null,null,null,null,null,null,null,"Huza Noris","Targu Mures"]
[null,null,null,null,null,null,null,null,null,null,null,null,null,null,null,null,null,null,null,"Huzoni Viorel","Jibou"]
[null,null,null,null,null,null,null,null,null,null,null,null,null,null,null,null,null,null,null,"Iachimov Gheorghe","Moldova-Briceni"]
[null,null,null,null,null,null,null,null,null,null,null,null,null,null,null,null,null,null,null,"Iacob Gabriel","Iasi"]
[null,null,null,null,null,null,null,null,null,null,null,null,null,null,null,null,null,null,null,"Iacob Matei","Iasi"]
[null,null,null,null,null,null,null,null,null,null,null,null,null,null,null,null,null,null,null,"Iacobciuc Roman","Moldova-Edinet"]
[null,null,null,null,null,null,null,null,null,null,null,null,null,null,null,null,null,null,null,"Iacobut Catalin","Bacau"]
[null,null,null,null,null,null,null,null,null,null,null,null,null,null,null,null,null,null,null,"Iacubenco Arsenii","Moldova-Balti"]
[null,null,null,null,null,null,null,null,null,null,null,null,null,null,null,null,null,null,null,"Iacubenco Artemii","Moldova-Balti"]
[null,null,null,null,null,null,null,null,null,null,null,null,null,null,null,null,null,null,null,"Iacubovici Radu","Radauti"]
[null,null,null,null,null,null,null,null,null,null,null,null,null,null,null,null,null,null,null,"Iakab Ovidiu","Aiud"]
[null,null,null,null,null,null,null,null,null,null,null,null,null,null,null,null,null,null,null,"Ianc Adrian","Floresti"]
[null,null,null,null,null,null,null,null,null,null,null,null,null,null,null,null,null,null,null,"Iancu Laurentiu","Constanta"]
[null,null,null,null,null,null,null,null,null,null,null,null,null,null,null,null,null,null,null,"Iancu Razvan","Arad"]
[null,null,null,null,null,null,null,null,null,null,null,null,null,null,null,null,null,null,null,"Iancu Sorin","Sibiu"]
[null,null,null,null,null,null,null,null,null,null,null,null,null,null,null,null,null,null,null,"Iancu Stefan","Hateg"]
[null,null,null,null,null,null,null,null,null,null,null,null,null,null,null,null,null,null,null,"Iancu Stefan","Slobozia"]
[null,null,null,null,null,null,null,null,null,null,null,null,null,null,null,null,null,null,null,"Ianev Ivan","Moldova-Ceadir-Lunga"]
[null,null,null,null,null,null,null,null,null,null,null,null,null,null,null,null,null,null,null,"Ianos Valentin","Suceava"]
[null,null,null,null,null,null,null,null,null,null,null,null,null,null,null,null,null,null,null,"Ianovici Florin","Brasov"]
[null,null,null,null,null,null,null,null,null,null,null,null,null,null,null,null,null,null,null,"Iaru Robert","Curtea de Arges"]
[null,null,null,null,null,null,null,null,null,null,null,null,null,null,null,null,null,null,null,"Iasinschi Daniel","Suceava"]
[null,null,null,null,null,null,null,null,null,null,null,null,null,null,null,null,null,null,null,"Iavorenciuc Cristian","Suceava"]
[null,null,null,null,null,null,null,null,null,null,null,null,null,null,null,null,null,null,null,"Iavorscaia Anastasia","Moldova-Chisinau"]
[null,null,null,null,null,null,null,null,null,null,null,null,null,null,null,null,null,null,null,"Iavorschii Alexandr","Moldova-Chisinau"]
[null,null,null,null,null,null,null,null,null,null,null,null,null,null,null,null,null,null,null,"Ido Moshe","Israel"]
[null,null,null,null,null,null,null,null,null,null,null,null,null,null,null,null,null,null,null,"Iepure Teodor Calin","Aiud"]
[null,null,null,null,null,null,null,null,null,null,null,null,null,null,null,null,null,null,null,"Ifrim Alexandru","Navodari"]
[null,null,null,null,null,null,null,null,null,null,null,null,null,null,null,null,null,null,null,"Ifrim Dragos","Navodari"]
[null,null,null,null,null,null,null,null,null,null,null,null,null,null,null,null,null,null,null,"Ifrosa Petru","Cluj Napoca"]
[null,null,null,null,null,null,null,null,null,null,null,null,null,null,null,null,null,null,null,"Ifrosa Rebeca","Cluj Napoca"]
[null,null,null,null,null,null,null,null,null,null,null,null,null,null,null,null,null,null,null,"Iftode Ioan","Suceava"]
[null,null,null,null,null,null,null,null,null,null,null,null,null,null,null,null,null,null,null,"Ignat Adrian","Topoloveni"]
[null,null,null,null,null,null,null,null,null,null,null,null,null,null,null,null,null,null,null,"Ignat Liviu","Botosani"]
[null,null,null,null,null,null,null,null,null,null,null,null,null,null,null,null,null,null,null,"Ignatescu Bogdan Ionut","Iasi"]
[null,null,null,null,null,null,null,null,null,null,null,null,null,null,null,null,null,null,null,"Ilas George","Oradea"]
[null,null,null,null,null,null,null,null,null,null,null,null,null,null,null,null,null,null,null,"Ilea Daria","Aiud"]
[null,null,null,null,null,null,null,null,null,null,null,null,null,null,null,null,null,null,null,"Ileanu Bogdan","Targu Jiu"]
[null,null,null,null,null,null,null,null,null,null,null,null,null,null,null,null,null,null,null,"Ilic Marko","Nova Varos"]
[null,null,null,null,null,null,null,null,null,null,null,null,null,null,null,null,null,null,null,"Ilic Marko","Belgrad"]
[null,null,null,null,null,null,null,null,null,null,null,null,null,null,null,null,null,null,null,"Ilie Alexandra","Voluntari"]
[null,null,null,null,null,null,null,null,null,null,null,null,null,null,null,null,null,null,null,"Ilie Alexandru","Galati"]
[null,null,null,null,null,null,null,null,null,null,null,null,null,null,null,null,null,null,null,"Ilie Andreea","Voluntari"]
[null,null,null,null,null,null,null,null,null,null,null,null,null,null,null,null,null,null,null,"Ilie Florian","Voluntari"]
[null,null,null,null,null,null,null,null,null,null,null,null,null,null,null,null,null,null,null,"Ilie Gheorghe Eugen","Timisoara"]
[null,null,null,null,null,null,null,null,null,null,null,null,null,null,null,null,null,null,null,"Ilie Marius Viorel","Brasov"]
[null,null,null,null,null,null,null,null,null,null,null,null,null,null,null,null,null,null,null,"Ilie Mihai Serban","Sibiu"]
[null,null,null,null,null,null,null,null,null,null,null,null,null,null,null,null,null,null,null,"Ilie Octavian Marius","Brasov"]
[null,null,null,null,null,null,null,null,null,null,null,null,null,null,null,null,null,null,null,"Ilie Radu","Iasi"]
[null,null,null,null,null,null,null,null,null,null,null,null,null,null,null,null,null,null,null,"Ilie Sebastian","Bucuresti"]
[null,null,null,null,null,null,null,null,null,null,null,null,null,null,null,null,null,null,null,"Ilie Toma","Ploiesti"]
[null,null,null,null,null,null,null,null,null,null,null,null,null,null,null,null,null,null,null,"Ilie Victor","Medias"]
[null,null,null,null,null,null,null,null,null,null,null,null,null,null,null,null,null,null,null,"Ilies Ioan","Radauti"]
[null,null,null,null,null,null,null,null,null,null,null,null,null,null,null,null,null,null,null,"Iliescu Lucian","Toplita"]
[null,null,null,null,null,null,null,null,null,null,null,null,null,null,null,null,null,null,null,"Iliescu Patricia","Snagov"]
[null,null,null,null,null,null,null,null,null,null,null,null,null,null,null,null,null,null,null,"Ilina Daniel","Campulung Muscel"]
[null,null,null,null,null,null,null,null,null,null,null,null,null,null,null,null,null,null,null,"Ilinca Gabriel","Drobeta Tr Severin"]
[null,null,null,null,null,null,null,null,null,null,null,null,null,null,null,null,null,null,null,"Iliuta Adrian","Sannicolau Mare"]
[null,null,null,null,null,null,null,null,null,null,null,null,null,null,null,null,null,null,null,"Iliuta Marius Iustin","Videle"]
[null,null,null,null,null,null,null,null,null,null,null,null,null,null,null,null,null,null,null,"Illes Kalman","Targu Mures"]
[null,null,null,null,null,null,null,null,null,null,null,null,null,null,null,null,null,null,null,"Illyes Elemer","Ditrau"]
[null,null,null,null,null,null,null,null,null,null,null,null,null,null,null,null,null,null,null,"Imecs Attila","Miercurea Ciuc"]
[null,null,null,null,null,null,null,null,null,null,null,null,null,null,null,null,null,null,null,"Imparatel Alexandru","Moldova-Chisinau"]
[null,null,null,null,null,null,null,null,null,null,null,null,null,null,null,null,null,null,null,"Imre David","Cluj Napoca"]
[null,null,null,null,null,null,null,null,null,null,null,null,null,null,null,null,null,null,null,"Imreh Gyorgy","Sfantu Gheorghe"]
[null,null,null,null,null,null,null,null,null,null,null,null,null,null,null,null,null,null,null,"Incze Geza","Targu Mures"]
[null,null,null,null,null,null,null,null,null,null,null,null,null,null,null,null,null,null,null,"Incze Levente","Miercurea Ciuc"]
[null,null,null,null,null,null,null,null,null,null,null,null,null,null,null,null,null,null,null,"Ioan Filip","Bucuresti"]
[null,null,null,null,null,null,null,null,null,null,null,null,null,null,null,null,null,null,null,"Iobagiu Ionut","Bistrita"]
[null,null,null,null,null,null,null,null,null,null,null,null,null,null,null,null,null,null,null,"Ioja Danut","Calan"]
[null,null,null,null,null,null,null,null,null,null,null,null,null,null,null,null,null,null,null,"Ioji Florin Adrian","Seleus"]
[null,null,null,null,null,null,null,null,null,null,null,null,null,null,null,null,null,null,null,"Ion Catalin","Alexandria"]
[null,null,null,null,null,null,null,null,null,null,null,null,null,null,null,null,null,null,null,"Ion Ion","Ploiesti"]
[null,null,null,null,null,null,null,null,null,null,null,null,null,null,null,null,null,null,null,"Ion Radu","Slobozia"]
[null,null,null,null,null,null,null,null,null,null,null,null,null,null,null,null,null,null,null,"Ion Radu Bogdan","Bucuresti"]
[null,null,null,null,null,null,null,null,null,null,null,null,null,null,null,null,null,null,null,"Ion Robert","Bucuresti"]
[null,null,null,null,null,null,null,null,null,null,null,null,null,null,null,null,null,null,null,"Ion Sandu","Bucuresti"]
[null,null,null,null,null,null,null,null,null,null,null,null,null,null,null,null,null,null,null,"Ionas Radu","Sibiu"]
[null,null,null,null,null,null,null,null,null,null,null,null,null,null,null,null,null,null,null,"Ionascu Gabriel","Bucuresti"]
[null,null,null,null,null,null,null,null,null,null,null,null,null,null,null,null,null,null,null,"Ionescu Alexandru","Cluj Napoca"]
[null,null,null,null,null,null,null,null,null,null,null,null,null,null,null,null,null,null,null,"Ionescu Andrei","Bucuresti"]
[null,null,null,null,null,null,null,null,null,null,null,null,null,null,null,null,null,null,null,"Ionescu Cosmin","Alexandria"]
[null,null,null,null,null,null,null,null,null,null,null,null,null,null,null,null,null,null,null,"Ionescu Cristi","Ploiesti"]
[null,null,null,null,null,null,null,null,null,null,null,null,null,null,null,null,null,null,null,"Ionescu Dan","Iasi"]
[null,null,null,null,null,null,null,null,null,null,null,null,null,null,null,null,null,null,null,"Ionescu Daniel","Bucuresti"]
[null,null,null,null,null,null,null,null,null,null,null,null,null,null,null,null,null,null,null,"Ionescu Darius Andrei","Calarasi"]
[null,null,null,null,null,null,null,null,null,null,null,null,null,null,null,null,null,null,null,"Ionescu Dragos","Buhusi"]
[null,null,null,null,null,null,null,null,null,null,null,null,null,null,null,null,null,null,null,"Ionescu Dumitru","Bucuresti"]
[null,null,null,null,null,null,null,null,null,null,null,null,null,null,null,null,null,null,null,"Ionescu Gabriel","Fetesti"]
[null,null,null,null,null,null,null,null,null,null,null,null,null,null,null,null,null,null,null,"Ionescu Ioana","Bucuresti"]
[null,null,null,null,null,null,null,null,null,null,null,null,null,null,null,null,null,null,null,"Ionescu Mihai","Bucuresti"]
[null,null,null,null,null,null,null,null,null,null,null,null,null,null,null,null,null,null,null,"Ionescu Mihai Dragos","Bucuresti"]
[null,null,null,null,null,null,null,null,null,null,null,null,null,null,null,null,null,null,null,"Ionescu Mihail","Belgia"]
[null,null,null,null,null,null,null,null,null,null,null,null,null,null,null,null,null,null,null,"Ionescu Theodor","Bucuresti"]
[null,null,null,null,null,null,null,null,null,null,null,null,null,null,null,null,null,null,null,"Ionescu Traian","Galati"]
[null,null,null,null,null,null,null,null,null,null,null,null,null,null,null,null,null,null,null,"Ionescu Vlad","Buzau"]
[null,null,null,null,null,null,null,null,null,null,null,null,null,null,null,null,null,null,null,"Ionica Marius","Comanesti"]
[null,null,null,null,null,null,null,null,null,null,null,null,null,null,null,null,null,null,null,"Ionita Alexandru","Ploiesti"]
[null,null,null,null,null,null,null,null,null,null,null,null,null,null,null,null,null,null,null,"Ionita Cristian","Ploiesti"]
[null,null,null,null,null,null,null,null,null,null,null,null,null,null,null,null,null,null,null,"Ionita Ion","Brazi"]
[null,null,null,null,null,null,null,null,null,null,null,null,null,null,null,null,null,null,null,"Ionita Marian","Bucuresti"]
[null,null,null,null,null,null,null,null,null,null,null,null,null,null,null,null,null,null,null,"Ionita Mihai","Lipanesti"]
[null,null,null,null,null,null,null,null,null,null,null,null,null,null,null,null,null,null,null,"Ionita Nicu","Focsani"]
[null,null,null,null,null,null,null,null,null,null,null,null,null,null,null,null,null,null,null,"Ionita Valentin","Galati"]
[null,null,null,null,null,null,null,null,null,null,null,null,null,null,null,null,null,null,null,"Iordache Alexandru","Bucuresti"]
[null,null,null,null,null,null,null,null,null,null,null,null,null,null,null,null,null,null,null,"Iordache Eugen","Braila"]
[null,null,null,null,null,null,null,null,null,null,null,null,null,null,null,null,null,null,null,"Iordache Marian","Craiova"]
[null,null,null,null,null,null,null,null,null,null,null,null,null,null,null,null,null,null,null,"Iordache Mihai Liviu","Targoviste"]
[null,null,null,null,null,null,null,null,null,null,null,null,null,null,null,null,null,null,null,"Iordache Mircea","Brazii de Sus"]
[null,null,null,null,null,null,null,null,null,null,null,null,null,null,null,null,null,null,null,"Iordache Vera","Craiova"]
[null,null,null,null,null,null,null,null,null,null,null,null,null,null,null,null,null,null,null,"Iordache Vlad","Bucuresti"]
[null,null,null,null,null,null,null,null,null,null,null,null,null,null,null,null,null,null,null,"Iordachi Adrian Stanga","Adjud"]
[null,null,null,null,null,null,null,null,null,null,null,null,null,null,null,null,null,null,null,"Iordachioaea Filip","Pitesti"]
[null,null,null,null,null,null,null,null,null,null,null,null,null,null,null,null,null,null,null,"Iordan Adrian","Bucuresti"]
[null,null,null,null,null,null,null,null,null,null,null,null,null,null,null,null,null,null,null,"Iordan Cosmin","Bucuresti"]
[null,null,null,null,null,null,null,null,null,null,null,null,null,null,null,null,null,null,null,"Iordan Marc Gabriel","Bucuresti"]
[null,null,null,null,null,null,null,null,null,null,null,null,null,null,null,null,null,null,null,"Iordan Mihai","Bucuresti"]
[null,null,null,null,null,null,null,null,null,null,null,null,null,null,null,null,null,null,null,"Iorga Eduard Alexandru","Limanu"]
[null,null,null,null,null,null,null,null,null,null,null,null,null,null,null,null,null,null,null,"Iorga Gheorghe","Iasi"]
[null,null,null,null,null,null,null,null,null,null,null,null,null,null,null,null,null,null,null,"Iorga Robert Catalin","Limanu"]
[null,null,null,null,null,null,null,null,null,null,null,null,null,null,null,null,null,null,null,"Iorga Vlad","Bucuresti"]
[null,null,null,null,null,null,null,null,null,null,null,null,null,null,null,null,null,null,null,"Iosca George","Bucuresti"]
[null,null,null,null,null,null,null,null,null,null,null,null,null,null,null,null,null,null,null,"Iosca Sandu","Bucuresti"]
[null,null,null,null,null,null,null,null,null,null,null,null,null,null,null,null,null,null,null,"Iosip Radu Gabriel","Barlad"]
[null,null,null,null,null,null,null,null,null,null,null,null,null,null,null,null,null,null,null,"Iotu Mihaita Sorin","Alexandria"]
[null,null,null,null,null,null,null,null,null,null,null,null,null,null,null,null,null,null,null,"Iova Rares","Giarmata"]
[null,null,null,null,null,null,null,null,null,null,null,null,null,null,null,null,null,null,null,"Iovdi Gheorghe","Ucraina"]
[null,null,null,null,null,null,null,null,null,null,null,null,null,null,null,null,null,null,null,"Ipate Bogdan","Pascani"]
[null,null,null,null,null,null,null,null,null,null,null,null,null,null,null,null,null,null,null,"Ipate Virgil","Bucuresti"]
[null,null,null,null,null,null,null,null,null,null,null,null,null,null,null,null,null,null,null,"Irimia Silviu Marius","Cernavoda"]
[null,null,null,null,null,null,null,null,null,null,null,null,null,null,null,null,null,null,null,"Irimia Sorin Jr","Cluj Napoca"]
[null,null,null,null,null,null,null,null,null,null,null,null,null,null,null,null,null,null,null,"Irimia Tudorel","Onesti"]
[null,null,null,null,null,null,null,null,null,null,null,null,null,null,null,null,null,null,null,"Irimia Viorel","Comanesti"]
[null,null,null,null,null,null,null,null,null,null,null,null,null,null,null,null,null,null,null,"Irimiea Maria","Moinesti"]
[null,null,null,null,null,null,null,null,null,null,null,null,null,null,null,null,null,null,null,"Irlweg Sebastian","Caransebes"]
[null,null,null,null,null,null,null,null,null,null,null,null,null,null,null,null,null,null,null,"Isopescu Vasile","Timisoara"]
[null,null,null,null,null,null,null,null,null,null,null,null,null,null,null,null,null,null,null,"Ispan Stefan","Teius"]
[null,null,null,null,null,null,null,null,null,null,null,null,null,null,null,null,null,null,null,"Ispas Cristian","Sebes"]
[null,null,null,null,null,null,null,null,null,null,null,null,null,null,null,null,null,null,null,"Ispas Emil","Alba Iulia"]
[null,null,null,null,null,null,null,null,null,null,null,null,null,null,null,null,null,null,null,"Ispas Victor","Turnu Magurele"]
[null,null,null,null,null,null,null,null,null,null,null,null,null,null,null,null,null,null,null,"Istrate Adrian","Bistrita"]
[null,null,null,null,null,null,null,null,null,null,null,null,null,null,null,null,null,null,null,"Istrate Cristian","Timisoara"]
[null,null,null,null,null,null,null,null,null,null,null,null,null,null,null,null,null,null,null,"Istrate Cristian","Suceava"]
[null,null,null,null,null,null,null,null,null,null,null,null,null,null,null,null,null,null,null,"Istrate Cristian Daniel","Sibiu"]
[null,null,null,null,null,null,null,null,null,null,null,null,null,null,null,null,null,null,null,"Istrate Ghiorghita","Suceava"]
[null,null,null,null,null,null,null,null,null,null,null,null,null,null,null,null,null,null,null,"Istrate Robert","Alexandria"]
[null,null,null,null,null,null,null,null,null,null,null,null,null,null,null,null,null,null,null,"Istrati Tudor","Moldova-Drochia"]
[null,null,null,null,null,null,null,null,null,null,null,null,null,null,null,null,null,null,null,"Ivan Adrian","Tulcea"]
[null,null,null,null,null,null,null,null,null,null,null,null,null,null,null,null,null,null,null,"Ivan Adrian","Zurbaua"]
[null,null,null,null,null,null,null,null,null,null,null,null,null,null,null,null,null,null,null,"Ivan Adriana","Buzau"]
[null,null,null,null,null,null,null,null,null,null,null,null,null,null,null,null,null,null,null,"Ivan Alexandru","Galati"]
[null,null,null,null,null,null,null,null,null,null,null,null,null,null,null,null,null,null,null,"Ivan Catalin","Fagaras"]
[null,null,null,null,null,null,null,null,null,null,null,null,null,null,null,null,null,null,null,"Ivan Cristian","Bucuresti"]
[null,null,null,null,null,null,null,null,null,null,null,null,null,null,null,null,null,null,null,"Ivan Daniel","Galati"]
[null,null,null,null,null,null,null,null,null,null,null,null,null,null,null,null,null,null,null,"Ivan Ioan","Medias"]
[null,null,null,null,null,null,null,null,null,null,null,null,null,null,null,null,null,null,null,"Ivan Marius","Buzau"]
[null,null,null,null,null,null,null,null,null,null,null,null,null,null,null,null,null,null,null,"Ivan Robert","Galati"]
[null,null,null,null,null,null,null,null,null,null,null,null,null,null,null,null,null,null,null,"Ivan Valentin","Campina"]
[null,null,null,null,null,null,null,null,null,null,null,null,null,null,null,null,null,null,null,"Ivanco Arteom","Moldova-Cahul"]
[null,null,null,null,null,null,null,null,null,null,null,null,null,null,null,null,null,null,null,"Ivanov Alexandru","Cluj Napoca"]
[null,null,null,null,null,null,null,null,null,null,null,null,null,null,null,null,null,null,null,"Ivanov Alexandru","Moldova-Cahul"]
[null,null,null,null,null,null,null,null,null,null,null,null,null,null,null,null,null,null,null,"Ivanov Petru","Piatra Neamt"]
[null,null,null,null,null,null,null,null,null,null,null,null,null,null,null,null,null,null,null,"Ivanov Sorin","Piatra Neamt"]
[null,null,null,null,null,null,null,null,null,null,null,null,null,null,null,null,null,null,null,"Ivascu Gavrila","Viseu"]
[null,null,null,null,null,null,null,null,null,null,null,null,null,null,null,null,null,null,null,"Ivascu Ioan","Viseu"]
[null,null,null,null,null,null,null,null,null,null,null,null,null,null,null,null,null,null,null,"Jandrlic Andrija","Belgrad"]
[null,null,null,null,null,null,null,null,null,null,null,null,null,null,null,null,null,null,null,"Janosi Attila","Targu Mures"]
[null,null,null,null,null,null,null,null,null,null,null,null,null,null,null,null,null,null,null,"Jaouir Khaled","Bucuresti"]
[null,null,null,null,null,null,null,null,null,null,null,null,null,null,null,null,null,null,null,"Jarebe Massimo","Iasi"]
[null,null,null,null,null,null,null,null,null,null,null,null,null,null,null,null,null,null,null,"Jarebe Vasile","Iasi"]
[null,null,null,null,null,null,null,null,null,null,null,null,null,null,null,null,null,null,null,"Jerebetchi Dumitru","Moldova-Cahul"]
[null,null,null,null,null,null,null,null,null,null,null,null,null,null,null,null,null,null,null,"Jichici Svetozar","Timisoara"]
[null,null,null,null,null,null,null,null,null,null,null,null,null,null,null,null,null,null,null,"Jimborean Dorinel","Apahida"]
[null,null,null,null,null,null,null,null,null,null,null,null,null,null,null,null,null,null,null,"Jinga Vlad","Bucuresti"]
[null,null,null,null,null,null,null,null,null,null,null,null,null,null,null,null,null,null,null,"Joarza Constantin","Sibiu"]
[null,null,null,null,null,null,null,null,null,null,null,null,null,null,null,null,null,null,null,"Jobb Levente","Odorheiu Secuiesc"]
[null,null,null,null,null,null,null,null,null,null,null,null,null,null,null,null,null,null,null,"Joghiu Ovidiu","Focsani"]
[null,null,null,null,null,null,null,null,null,null,null,null,null,null,null,null,null,null,null,"Jovanovic Milorad","Nis"]
[null,null,null,null,null,null,null,null,null,null,null,null,null,null,null,null,null,null,null,"Jozsa Zoltan","Odorheiu Secuiesc"]
[null,null,null,null,null,null,null,null,null,null,null,null,null,null,null,null,null,null,null,"Juganaru Gabriel","Buzau"]
[null,null,null,null,null,null,null,null,null,null,null,null,null,null,null,null,null,null,null,"Juganaru Mario","Buzau"]
[null,null,null,null,null,null,null,null,null,null,null,null,null,null,null,null,null,null,null,"Juganaru Valentin","Bucuresti"]
[null,null,null,null,null,null,null,null,null,null,null,null,null,null,null,null,null,null,null,"Jujonescu Paul","Nadrag"]
[null,null,null,null,null,null,null,null,null,null,null,null,null,null,null,null,null,null,null,"Jupiala Mihai","Brasov"]
[null,null,null,null,null,null,null,null,null,null,null,null,null,null,null,null,null,null,null,"Jurchita Ovidiu","Mosnita Veche"]
[null,null,null,null,null,null,null,null,null,null,null,null,null,null,null,null,null,null,null,"Jurescu Sorin","Timisoara"]
[null,null,null,null,null,null,null,null,null,null,null,null,null,null,null,null,null,null,null,"Jurgiu Marian","Botosani"]
[null,null,null,null,null,null,null,null,null,null,null,null,null,null,null,null,null,null,null,"Jurj Sorin","Calan"]
[null,null,null,null,null,null,null,null,null,null,null,null,null,null,null,null,null,null,null,"Jurje Alex Doru","Almasu Mare"]
[null,null,null,null,null,null,null,null,null,null,null,null,null,null,null,null,null,null,null,"Kadar Josif","Oradea"]
[null,null,null,null,null,null,null,null,null,null,null,null,null,null,null,null,null,null,null,"Kadar Levente","Odorheiu Secuiesc"]
[null,null,null,null,null,null,null,null,null,null,null,null,null,null,null,null,null,null,null,"Kaitor Gabriel","Secusigiu"]
[null,null,null,null,null,null,null,null,null,null,null,null,null,null,null,null,null,null,null,"Kalman Csaba","Timisoara"]
[null,null,null,null,null,null,null,null,null,null,null,null,null,null,null,null,null,null,null,"Kanashyn Serhii","Cluj Napoca"]
[null,null,null,null,null,null,null,null,null,null,null,null,null,null,null,null,null,null,null,"Kantor Imre","Reghin"]
[null,null,null,null,null,null,null,null,null,null,null,null,null,null,null,null,null,null,null,"Kanya Csaba","Miercurea Ciuc"]
[null,null,null,null,null,null,null,null,null,null,null,null,null,null,null,null,null,null,null,"Kaposta Victor","Arad"]
[null,null,null,null,null,null,null,null,null,null,null,null,null,null,null,null,null,null,null,"Kardos Andras","Miercurea Ciuc"]
[null,null,null,null,null,null,null,null,null,null,null,null,null,null,null,null,null,null,null,"Karmazsin Daniel","Bucuresti"]
[null,null,null,null,null,null,null,null,null,null,null,null,null,null,null,null,null,null,null,"Kelemen Ingo","Timisoara"]
[null,null,null,null,null,null,null,null,null,null,null,null,null,null,null,null,null,null,null,"Kelemen Miklos","Miercurea Ciuc"]
[null,null,null,null,null,null,null,null,null,null,null,null,null,null,null,null,null,null,null,"Kercsedi Laurentiu","Tarnaveni"]
[null,null,null,null,null,null,null,null,null,null,null,null,null,null,null,null,null,null,null,"Kerestesi Janos","Satu Mare"]
[null,null,null,null,null,null,null,null,null,null,null,null,null,null,null,null,null,null,null,"Kertesz Csaba","Uriu"]
[null,null,null,null,null,null,null,null,null,null,null,null,null,null,null,null,null,null,null,"Kesmarki Laszlo","Tarnaveni"]
[null,null,null,null,null,null,null,null,null,null,null,null,null,null,null,null,null,null,null,"Khashan Salem","Bucuresti"]
[null,null,null,null,null,null,null,null,null,null,null,null,null,null,null,null,null,null,null,"Kim Chung Jin","Brasov"]
[null,null,null,null,null,null,null,null,null,null,null,null,null,null,null,null,null,null,null,"Kiraly Florin","Satu Mare"]
[null,null,null,null,null,null,null,null,null,null,null,null,null,null,null,null,null,null,null,"Kis Istvan","Brasov"]
[null,null,null,null,null,null,null,null,null,null,null,null,null,null,null,null,null,null,null,"Kis Robert","Cluj Napoca"]
[null,null,null,null,null,null,null,null,null,null,null,null,null,null,null,null,null,null,null,"Kiss Annabella","Miercurea Ciuc"]
[null,null,null,null,null,null,null,null,null,null,null,null,null,null,null,null,null,null,null,"Kiss Attila","Crasna"]
[null,null,null,null,null,null,null,null,null,null,null,null,null,null,null,null,null,null,null,"Kiss David","Miercurea Ciuc"]
[null,null,null,null,null,null,null,null,null,null,null,null,null,null,null,null,null,null,null,"Kiss Janos","Miercurea Ciuc"]
[null,null,null,null,null,null,null,null,null,null,null,null,null,null,null,null,null,null,null,"Kiss Vasile","Timisoara"]
[null,null,null,null,null,null,null,null,null,null,null,null,null,null,null,null,null,null,null,"Klepp Lucas","Lipova"]
[null,null,null,null,null,null,null,null,null,null,null,null,null,null,null,null,null,null,null,"Klepp Mario","Lipova"]
[null,null,null,null,null,null,null,null,null,null,null,null,null,null,null,null,null,null,null,"Knecht Barnabas","Carei"]
[null,null,null,null,null,null,null,null,null,null,null,null,null,null,null,null,null,null,null,"Kolotylo Nick","Suceava"]
[null,null,null,null,null,null,null,null,null,null,null,null,null,null,null,null,null,null,null,"Kolumban Attila","Santimbru"]
[null,null,null,null,null,null,null,null,null,null,null,null,null,null,null,null,null,null,null,"Kolumban David","Targu Mures"]
[null,null,null,null,null,null,null,null,null,null,null,null,null,null,null,null,null,null,null,"Kolumban Levente","Targu Mures"]
[null,null,null,null,null,null,null,null,null,null,null,null,null,null,null,null,null,null,null,"Koncsag Csaba","Joseni"]
[null,null,null,null,null,null,null,null,null,null,null,null,null,null,null,null,null,null,null,"Kondort Arpad","Agnita"]
[null,null,null,null,null,null,null,null,null,null,null,null,null,null,null,null,null,null,null,"Kondort Dan","Sibiu"]
[null,null,null,null,null,null,null,null,null,null,null,null,null,null,null,null,null,null,null,"Korodi Csaba","Aita Mare"]
[null,null,null,null,null,null,null,null,null,null,null,null,null,null,null,null,null,null,null,"Korodi Daniel","Aita Mare"]
[null,null,null,null,null,null,null,null,null,null,null,null,null,null,null,null,null,null,null,"Koteles Antonio","Cluj Napoca"]
[null,null,null,null,null,null,null,null,null,null,null,null,null,null,null,null,null,null,null,"Kovaci Stefan","Buhusi"]
[null,null,null,null,null,null,null,null,null,null,null,null,null,null,null,null,null,null,null,"Kovacs Alexandru","Oradea"]
[null,null,null,null,null,null,null,null,null,null,null,null,null,null,null,null,null,null,null,"Kovacs Attila","Covasna"]
[null,null,null,null,null,null,null,null,null,null,null,null,null,null,null,null,null,null,null,"Kovacs Eduard","Balan"]
[null,null,null,null,null,null,null,null,null,null,null,null,null,null,null,null,null,null,null,"Kovacs Emma","Cluj Napoca"]
[null,null,null,null,null,null,null,null,null,null,null,null,null,null,null,null,null,null,null,"Kovacs Istvan","Miercurea Ciuc"]
[null,null,null,null,null,null,null,null,null,null,null,null,null,null,null,null,null,null,null,"Kovacs Istvan","Cristuru Secuiesc"]
[null,null,null,null,null,null,null,null,null,null,null,null,null,null,null,null,null,null,null,"Kovacs Lajos","Odorheiu Secuiesc"]
[null,null,null,null,null,null,null,null,null,null,null,null,null,null,null,null,null,null,null,"Kovacs Lehel","Zabala"]
[null,null,null,null,null,null,null,null,null,null,null,null,null,null,null,null,null,null,null,"Kovacs Zsolt Peter","Gheorgheni"]
[null,null,null,null,null,null,null,null,null,null,null,null,null,null,null,null,null,null,null,"Kovari Odon","Targu Mures"]
[null,null,null,null,null,null,null,null,null,null,null,null,null,null,null,null,null,null,null,"Kraider Helmuth","Resita"]
[null,null,null,null,null,null,null,null,null,null,null,null,null,null,null,null,null,null,null,"Krais Sabin","Brasov"]
[null,null,null,null,null,null,null,null,null,null,null,null,null,null,null,null,null,null,null,"Kravchenko Daniel Mark","Israel"]
[null,null,null,null,null,null,null,null,null,null,null,null,null,null,null,null,null,null,null,"Kreis Sabin Alexandru","Brasov"]
[null,null,null,null,null,null,null,null,null,null,null,null,null,null,null,null,null,null,null,"Krempels Peter","Bucuresti"]
[null,null,null,null,null,null,null,null,null,null,null,null,null,null,null,null,null,null,null,"Kristof Daniel","Oradea"]
[null,null,null,null,null,null,null,null,null,null,null,null,null,null,null,null,null,null,null,"Kromek Iulian","Cugir"]
[null,null,null,null,null,null,null,null,null,null,null,null,null,null,null,null,null,null,null,"Kulisic Slavoljub","Novi Sad"]
[null,null,null,null,null,null,null,null,null,null,null,null,null,null,null,null,null,null,null,"Kurcsakovszki Hunor","Reghin"]
[null,null,null,null,null,null,null,null,null,null,null,null,null,null,null,null,null,null,null,"Kuti Oszkar","Delenii"]
[null,null,null,null,null,null,null,null,null,null,null,null,null,null,null,null,null,null,null,"Labo Antonia","Zalau"]
[null,null,null,null,null,null,null,null,null,null,null,null,null,null,null,null,null,null,null,"Labutin Dmitrii","Moldova-Balti"]
[null,null,null,null,null,null,null,null,null,null,null,null,null,null,null,null,null,null,null,"Lacatusu Aurelian","Iasi"]
[null,null,null,null,null,null,null,null,null,null,null,null,null,null,null,null,null,null,null,"Laczko Csongor","Joseni"]
[null,null,null,null,null,null,null,null,null,null,null,null,null,null,null,null,null,null,null,"Lajos Mozes","Odorheiu Secuiesc"]
[null,null,null,null,null,null,null,null,null,null,null,null,null,null,null,null,null,null,null,"Lakatos Zsolt","Miercurea Ciuc"]
[null,null,null,null,null,null,null,null,null,null,null,null,null,null,null,null,null,null,null,"Lako Valentin","Targu Mures"]
[null,null,null,null,null,null,null,null,null,null,null,null,null,null,null,null,null,null,null,"Lancea Nicolae","Focsani"]
[null,null,null,null,null,null,null,null,null,null,null,null,null,null,null,null,null,null,null,"Lantos Monica","Targu Mures"]
[null,null,null,null,null,null,null,null,null,null,null,null,null,null,null,null,null,null,null,"Lapadat Andrei","Resita"]
[null,null,null,null,null,null,null,null,null,null,null,null,null,null,null,null,null,null,null,"Lapusan Radu","Floresti"]
[null,null,null,null,null,null,null,null,null,null,null,null,null,null,null,null,null,null,null,"Larion Alexandru","Suceava"]
[null,null,null,null,null,null,null,null,null,null,null,null,null,null,null,null,null,null,null,"Lascau Ramon","Constanta"]
[null,null,null,null,null,null,null,null,null,null,null,null,null,null,null,null,null,null,null,"Lascu Alexandru","Dumbravita"]
[null,null,null,null,null,null,null,null,null,null,null,null,null,null,null,null,null,null,null,"Laslau Catalin","Suceava"]
[null,null,null,null,null,null,null,null,null,null,null,null,null,null,null,null,null,null,null,"Laslau Sabin","Suceava"]
[null,null,null,null,null,null,null,null,null,null,null,null,null,null,null,null,null,null,null,"Lates Dorin","Sighisoara"]
[null,null,null,null,null,null,null,null,null,null,null,null,null,null,null,null,null,null,null,"Laza Gabriel","Piatra Neamt"]
[null,null,null,null,null,null,null,null,null,null,null,null,null,null,null,null,null,null,null,"Lazar Adrian","Bucuresti"]
[null,null,null,null,null,null,null,null,null,null,null,null,null,null,null,null,null,null,null,"Lazar Alin","Breaza"]
[null,null,null,null,null,null,null,null,null,null,null,null,null,null,null,null,null,null,null,"Lazar Bogdan","Nasaud"]
[null,null,null,null,null,null,null,null,null,null,null,null,null,null,null,null,null,null,null,"Lazar Catalin","Brasov"]
[null,null,null,null,null,null,null,null,null,null,null,null,null,null,null,null,null,null,null,"Lazar Cristian","Cluj Napoca"]
[null,null,null,null,null,null,null,null,null,null,null,null,null,null,null,null,null,null,null,"Lazar Dumitru","Mizil"]
[null,null,null,null,null,null,null,null,null,null,null,null,null,null,null,null,null,null,null,"Lazar Emil","Ocna Mures"]
[null,null,null,null,null,null,null,null,null,null,null,null,null,null,null,null,null,null,null,"Lazar Ionel","Pufesti"]
[null,null,null,null,null,null,null,null,null,null,null,null,null,null,null,null,null,null,null,"Lazar Tiberiu","Galati"]
[null,null,null,null,null,null,null,null,null,null,null,null,null,null,null,null,null,null,null,"Lazar Vasile","Pufesti"]
[null,null,null,null,null,null,null,null,null,null,null,null,null,null,null,null,null,null,null,"Lazarescu Adina","Iasi"]
[null,null,null,null,null,null,null,null,null,null,null,null,null,null,null,null,null,null,null,"Lazaroiu Adrian","Lucieni"]
[null,null,null,null,null,null,null,null,null,null,null,null,null,null,null,null,null,null,null,"Leaua Fabian","Ramnicu Sarat"]
[null,null,null,null,null,null,null,null,null,null,null,null,null,null,null,null,null,null,null,"Lebada Doru","Arad"]
[null,null,null,null,null,null,null,null,null,null,null,null,null,null,null,null,null,null,null,"Lehel Csiki","Brasov"]
[null,null,null,null,null,null,null,null,null,null,null,null,null,null,null,null,null,null,null,"Lengenfelder Johan","Giroc"]
[null,null,null,null,null,null,null,null,null,null,null,null,null,null,null,null,null,null,null,"Leon Cristi","Galati"]
[null,null,null,null,null,null,null,null,null,null,null,null,null,null,null,null,null,null,null,"Leon Dumitru","Moldova-Cahul"]
[null,null,null,null,null,null,null,null,null,null,null,null,null,null,null,null,null,null,null,"Leon Victor","Galati"]
[null,null,null,null,null,null,null,null,null,null,null,null,null,null,null,null,null,null,null,"Leonard Iulian","Arad"]
[null,null,null,null,null,null,null,null,null,null,null,null,null,null,null,null,null,null,null,"Leonte Toader","Solont"]
[null,null,null,null,null,null,null,null,null,null,null,null,null,null,null,null,null,null,null,"Leonte Vlad","Suceava"]
[null,null,null,null,null,null,null,null,null,null,null,null,null,null,null,null,null,null,null,"Lepadatu Gheorghe","Pascani"]
[null,null,null,null,null,null,null,null,null,null,null,null,null,null,null,null,null,null,null,"Lepadatu Gheorghe","Priboieni"]
[null,null,null,null,null,null,null,null,null,null,null,null,null,null,null,null,null,null,null,"Lepadatu Robert","Priboieni"]
[null,null,null,null,null,null,null,null,null,null,null,null,null,null,null,null,null,null,null,"Leric David","Lipova"]
[null,null,null,null,null,null,null,null,null,null,null,null,null,null,null,null,null,null,null,"Leseanu Mihaita","Alexandria"]
[null,null,null,null,null,null,null,null,null,null,null,null,null,null,null,null,null,null,null,"Leseanu Mihnea Gabriel","Alexandria"]
[null,null,null,null,null,null,null,null,null,null,null,null,null,null,null,null,null,null,null,"Leteanu Marius","Bacau"]
[null,null,null,null,null,null,null,null,null,null,null,null,null,null,null,null,null,null,null,"Leurzeanu George","Bucuresti"]
[null,null,null,null,null,null,null,null,null,null,null,null,null,null,null,null,null,null,null,"Levinta Iurie","Moldova-Leova"]
[null,null,null,null,null,null,null,null,null,null,null,null,null,null,null,null,null,null,null,"Liahu Doru","Botosani"]
[null,null,null,null,null,null,null,null,null,null,null,null,null,null,null,null,null,null,null,"Liculescu Vlad","Bucuresti"]
[null,null,null,null,null,null,null,null,null,null,null,null,null,null,null,null,null,null,null,"Lienerth Lukas","Sibiu"]
[null,null,null,null,null,null,null,null,null,null,null,null,null,null,null,null,null,null,null,"Lilea Edi","Targoviste"]
[null,null,null,null,null,null,null,null,null,null,null,null,null,null,null,null,null,null,null,"Lincan Alexandru","Bucuresti"]
[null,null,null,null,null,null,null,null,null,null,null,null,null,null,null,null,null,null,null,"Linoiu Alexandru","Constanta"]
[null,null,null,null,null,null,null,null,null,null,null,null,null,null,null,null,null,null,null,"Linoiu Stefania","Constanta"]
[null,null,null,null,null,null,null,null,null,null,null,null,null,null,null,null,null,null,null,"Lisnic Nicolae","Moldova-Singerei"]
[null,null,null,null,null,null,null,null,null,null,null,null,null,null,null,null,null,null,null,"Lita Gabriel","Bucuresti"]
[null,null,null,null,null,null,null,null,null,null,null,null,null,null,null,null,null,null,null,"Litra Valerica","Rovinari"]
[null,null,null,null,null,null,null,null,null,null,null,null,null,null,null,null,null,null,null,"Liuba Alin","Oravita"]
[null,null,null,null,null,null,null,null,null,null,null,null,null,null,null,null,null,null,null,"Lobont Adelin","Arad"]
[null,null,null,null,null,null,null,null,null,null,null,null,null,null,null,null,null,null,null,"Loghin Claudiu","Iasi"]
[null,null,null,null,null,null,null,null,null,null,null,null,null,null,null,null,null,null,null,"Loghin Florin","Brasov"]
[null,null,null,null,null,null,null,null,null,null,null,null,null,null,null,null,null,null,null,"Loghin Sergiu","Pascani"]
[null,null,null,null,null,null,null,null,null,null,null,null,null,null,null,null,null,null,null,"Logvinov Vadim","Moldova-Chisinau"]
[null,null,null,null,null,null,null,null,null,null,null,null,null,null,null,null,null,null,null,"Lolea Toma","Fagaras"]
[null,null,null,null,null,null,null,null,null,null,null,null,null,null,null,null,null,null,null,"Lomnasan Alexandru","Sibiu"]
[null,null,null,null,null,null,null,null,null,null,null,null,null,null,null,null,null,null,null,"Longauer Tiberiu","Brasov"]
[null,null,null,null,null,null,null,null,null,null,null,null,null,null,null,null,null,null,null,"Lopotenco Silviu","Bucuresti"]
[null,null,null,null,null,null,null,null,null,null,null,null,null,null,null,null,null,null,null,"Lorincz Zoltan","Miercurea Ciuc"]
[null,null,null,null,null,null,null,null,null,null,null,null,null,null,null,null,null,null,null,"Lovin Eusebiu","Comanesti"]
[null,null,null,null,null,null,null,null,null,null,null,null,null,null,null,null,null,null,null,"Lozneanu Mihai","Iasi"]
[null,null,null,null,null,null,null,null,null,null,null,null,null,null,null,null,null,null,null,"Lozov Dima","Moldova-Avdarma"]
[null,null,null,null,null,null,null,null,null,null,null,null,null,null,null,null,null,null,null,"Luca Eugen","Aiud"]
[null,null,null,null,null,null,null,null,null,null,null,null,null,null,null,null,null,null,null,"Luca Ioan","Piatra Neamt"]
[null,null,null,null,null,null,null,null,null,null,null,null,null,null,null,null,null,null,null,"Luca Ioan","Sibiu"]
[null,null,null,null,null,null,null,null,null,null,null,null,null,null,null,null,null,null,null,"Luca Ionut Vasile","Bursuceni SV"]
[null,null,null,null,null,null,null,null,null,null,null,null,null,null,null,null,null,null,null,"Luca Irinel","Calan"]
[null,null,null,null,null,null,null,null,null,null,null,null,null,null,null,null,null,null,null,"Luca Liviu Stefan","Bucuresti"]
[null,null,null,null,null,null,null,null,null,null,null,null,null,null,null,null,null,null,null,"Luca Nicolae","Teleorman"]
[null,null,null,null,null,null,null,null,null,null,null,null,null,null,null,null,null,null,null,"Luca Octavian","Tulcea"]
[null,null,null,null,null,null,null,null,null,null,null,null,null,null,null,null,null,null,null,"Luca Rares","Vadu Moldovei"]
[null,null,null,null,null,null,null,null,null,null,null,null,null,null,null,null,null,null,null,"Lucaciu Andrei","Suceava"]
[null,null,null,null,null,null,null,null,null,null,null,null,null,null,null,null,null,null,null,"Lucaciu Razvan","Stei"]
[null,null,null,null,null,null,null,null,null,null,null,null,null,null,null,null,null,null,null,"Lucas Ionut","Botosani"]
[null,null,null,null,null,null,null,null,null,null,null,null,null,null,null,null,null,null,null,"Luchian Sorin","Voinesti"]
[null,null,null,null,null,null,null,null,null,null,null,null,null,null,null,null,null,null,null,"Lucian Peter","Sighetu Marmatiei"]
[null,null,null,null,null,null,null,null,null,null,null,null,null,null,null,null,null,null,null,"Lucic Corneliu","Suceava"]
[null,null,null,null,null,null,null,null,null,null,null,null,null,null,null,null,null,null,null,"Lucky Cristina","Comanesti"]
[null,null,null,null,null,null,null,null,null,null,null,null,null,null,null,null,null,null,null,"Lukacs Istvan","Targu Mures"]
[null,null,null,null,null,null,null,null,null,null,null,null,null,null,null,null,null,null,null,"Lumezeanu Cristian","Bucuresti"]
[null,null,null,null,null,null,null,null,null,null,null,null,null,null,null,null,null,null,null,"Lungeanu Cezar","Targoviste"]
[null,null,null,null,null,null,null,null,null,null,null,null,null,null,null,null,null,null,null,"Lungoci Mihai","Craiova"]
[null,null,null,null,null,null,null,null,null,null,null,null,null,null,null,null,null,null,null,"Lungu Adrian","Nasaud"]
[null,null,null,null,null,null,null,null,null,null,null,null,null,null,null,null,null,null,null,"Lungu Andrei George","Roman"]
[null,null,null,null,null,null,null,null,null,null,null,null,null,null,null,null,null,null,null,"Lungu Cristian","Oradea"]
[null,null,null,null,null,null,null,null,null,null,null,null,null,null,null,null,null,null,null,"Lungu Efrem","Giarmata"]
[null,null,null,null,null,null,null,null,null,null,null,null,null,null,null,null,null,null,null,"Lungu Lucian","Onesti"]
[null,null,null,null,null,null,null,null,null,null,null,null,null,null,null,null,null,null,null,"Lungu Mihai","Iasi"]
[null,null,null,null,null,null,null,null,null,null,null,null,null,null,null,null,null,null,null,"Lungu Mihai","Targoviste"]
[null,null,null,null,null,null,null,null,null,null,null,null,null,null,null,null,null,null,null,"Lungu Tatiana","Moldova-Balti"]
[null,null,null,null,null,null,null,null,null,null,null,null,null,null,null,null,null,null,null,"Lungu Tudorel","Tecuci"]
[null,null,null,null,null,null,null,null,null,null,null,null,null,null,null,null,null,null,null,"Luntraru Mihai","Iasi"]
[null,null,null,null,null,null,null,null,null,null,null,null,null,null,null,null,null,null,null,"Lup Silviu","Oradea"]
[null,null,null,null,null,null,null,null,null,null,null,null,null,null,null,null,null,null,null,"Lupascu Ciprian","Cluj Napoca"]
[null,null,null,null,null,null,null,null,null,null,null,null,null,null,null,null,null,null,null,"Lupascu Constantin","Iasi"]
[null,null,null,null,null,null,null,null,null,null,null,null,null,null,null,null,null,null,null,"Lupea Radu","Brasov"]
[null,null,null,null,null,null,null,null,null,null,null,null,null,null,null,null,null,null,null,"Lupean Dumitru","Alba Iulia"]
[null,null,null,null,null,null,null,null,null,null,null,null,null,null,null,null,null,null,null,"Lupescu Nicolae","Reghin"]
[null,null,null,null,null,null,null,null,null,null,null,null,null,null,null,null,null,null,null,"Lupinca Daniel","Resita"]
[null,null,null,null,null,null,null,null,null,null,null,null,null,null,null,null,null,null,null,"Lupse Cezara","Baia Mare"]
[null,null,null,null,null,null,null,null,null,null,null,null,null,null,null,null,null,null,null,"Lupse Sorin","Baia Mare"]
[null,null,null,null,null,null,null,null,null,null,null,null,null,null,null,null,null,null,null,"Lupu Darius","Bucuresti"]
[null,null,null,null,null,null,null,null,null,null,null,null,null,null,null,null,null,null,null,"Lupu Gabriel Ionel","Piatra Neamt"]
[null,null,null,null,null,null,null,null,null,null,null,null,null,null,null,null,null,null,null,"Lupu Rares","Navodari"]
[null,null,null,null,null,null,null,null,null,null,null,null,null,null,null,null,null,null,null,"Lupu Vasile","Cluj Napoca"]
[null,null,null,null,null,null,null,null,null,null,null,null,null,null,null,null,null,null,null,"Luta Silviu Vasilica","Radauti"]
[null,null,null,null,null,null,null,null,null,null,null,null,null,null,null,null,null,null,null,"Macai Catalin","Stei"]
[null,null,null,null,null,null,null,null,null,null,null,null,null,null,null,null,null,null,null,"Macari Ion","Iasi"]
[null,null,null,null,null,null,null,null,null,null,null,null,null,null,null,null,null,null,null,"Macarie Ovidiu","Turda"]
[null,null,null,null,null,null,null,null,null,null,null,null,null,null,null,null,null,null,null,"Macovei Bogdan","Suceava"]
[null,null,null,null,null,null,null,null,null,null,null,null,null,null,null,null,null,null,null,"Macovei Costel","Iasi"]
[null,null,null,null,null,null,null,null,null,null,null,null,null,null,null,null,null,null,null,"Macovei Liviu","Brasov"]
[null,null,null,null,null,null,null,null,null,null,null,null,null,null,null,null,null,null,null,"Macovei Viorel","Suceava"]
[null,null,null,null,null,null,null,null,null,null,null,null,null,null,null,null,null,null,null,"Madescu Adrian","Drobeta Tr Severin"]
[null,null,null,null,null,null,null,null,null,null,null,null,null,null,null,null,null,null,null,"Maer Ciprian","Sebes"]
[null,null,null,null,null,null,null,null,null,null,null,null,null,null,null,null,null,null,null,"Maftei Catalin Doru","Asau"]
[null,null,null,null,null,null,null,null,null,null,null,null,null,null,null,null,null,null,null,"Maftei Danut","Buzau"]
[null,null,null,null,null,null,null,null,null,null,null,null,null,null,null,null,null,null,null,"Maftei Ioana","Constanta"]
[null,null,null,null,null,null,null,null,null,null,null,null,null,null,null,null,null,null,null,"Maftei Leonard","Buhusi"]
[null,null,null,null,null,null,null,null,null,null,null,null,null,null,null,null,null,null,null,"Maftei Ticu","Iasi"]
[null,null,null,null,null,null,null,null,null,null,null,null,null,null,null,null,null,null,null,"Mag Jozsef","Odorheiu Secuiesc"]
[null,null,null,null,null,null,null,null,null,null,null,null,null,null,null,null,null,null,null,"Magdo Mihaly","Brasov"]
[null,null,null,null,null,null,null,null,null,null,null,null,null,null,null,null,null,null,null,"Magercu Alexandru","Bucuresti"]
[null,null,null,null,null,null,null,null,null,null,null,null,null,null,null,null,null,null,null,"Magherca Alexandru","Vatra Dornei"]
[null,null,null,null,null,null,null,null,null,null,null,null,null,null,null,null,null,null,null,"Magura Casian","Constanta"]
[null,null,null,null,null,null,null,null,null,null,null,null,null,null,null,null,null,null,null,"Maguran Daria","Arad"]
[null,null,null,null,null,null,null,null,null,null,null,null,null,null,null,null,null,null,null,"Mahu Bogdan","Pascani"]
[null,null,null,null,null,null,null,null,null,null,null,null,null,null,null,null,null,null,null,"Majai Lehel","Sovata"]
[null,null,null,null,null,null,null,null,null,null,null,null,null,null,null,null,null,null,null,"Majeri Adrian","Bistrita"]
[null,null,null,null,null,null,null,null,null,null,null,null,null,null,null,null,null,null,null,"Majeru Adrian","Radauti"]
[null,null,null,null,null,null,null,null,null,null,null,null,null,null,null,null,null,null,null,"Majeru Gabriel","Radauti"]
[null,null,null,null,null,null,null,null,null,null,null,null,null,null,null,null,null,null,null,"Maksymov Oleksandr","Ucraina"]
[null,null,null,null,null,null,null,null,null,null,null,null,null,null,null,null,null,null,null,"Makszin Dacian","Cluj Napoca"]
[null,null,null,null,null,null,null,null,null,null,null,null,null,null,null,null,null,null,null,"Malacopol Tatiana","Bucuresti"]
[null,null,null,null,null,null,null,null,null,null,null,null,null,null,null,null,null,null,null,"Maladoi George","Tulcea"]
[null,null,null,null,null,null,null,null,null,null,null,null,null,null,null,null,null,null,null,"Malama Felix","Slobozia"]
[null,null,null,null,null,null,null,null,null,null,null,null,null,null,null,null,null,null,null,"Malama Robert","Slobozia"]
[null,null,null,null,null,null,null,null,null,null,null,null,null,null,null,null,null,null,null,"Maldaianu Stefan","Alexandria"]
[null,null,null,null,null,null,null,null,null,null,null,null,null,null,null,null,null,null,null,"Malene Petru","Fagaras"]
[null,null,null,null,null,null,null,null,null,null,null,null,null,null,null,null,null,null,null,"Mamaliga Robert","Tulcea"]
[null,null,null,null,null,null,null,null,null,null,null,null,null,null,null,null,null,null,null,"Man Alexandru","Dej"]
[null,null,null,null,null,null,null,null,null,null,null,null,null,null,null,null,null,null,null,"Man Cristina","Targu Mures"]
[null,null,null,null,null,null,null,null,null,null,null,null,null,null,null,null,null,null,null,"Man Florin","Dej"]
[null,null,null,null,null,null,null,null,null,null,null,null,null,null,null,null,null,null,null,"Man Sebastian","Cluj Napoca"]
[null,null,null,null,null,null,null,null,null,null,null,null,null,null,null,null,null,null,null,"Man Stefan","Medias"]
[null,null,null,null,null,null,null,null,null,null,null,null,null,null,null,null,null,null,null,"Mandru Aurel","Sarmas"]
[null,null,null,null,null,null,null,null,null,null,null,null,null,null,null,null,null,null,null,"Mandru Bogdan","Hunedoara"]
[null,null,null,null,null,null,null,null,null,null,null,null,null,null,null,null,null,null,null,"Manea Adrian","Timisoara"]
[null,null,null,null,null,null,null,null,null,null,null,null,null,null,null,null,null,null,null,"Manea Alexandru","Comarnic"]
[null,null,null,null,null,null,null,null,null,null,null,null,null,null,null,null,null,null,null,"Manea Dan","Constanta"]
[null,null,null,null,null,null,null,null,null,null,null,null,null,null,null,null,null,null,null,"Manea Dorinel","Tecuci"]
[null,null,null,null,null,null,null,null,null,null,null,null,null,null,null,null,null,null,null,"Manea Mihaita","Tulcea"]
[null,null,null,null,null,null,null,null,null,null,null,null,null,null,null,null,null,null,null,"Manea Patricia","Baia Mare"]
[null,null,null,null,null,null,null,null,null,null,null,null,null,null,null,null,null,null,null,"Manescu Alexandru","Slatina"]
[null,null,null,null,null,null,null,null,null,null,null,null,null,null,null,null,null,null,null,"Mania Gabriel","Paunesti"]
[null,null,null,null,null,null,null,null,null,null,null,null,null,null,null,null,null,null,null,"Manitiu Florin","Sibiu"]
[null,null,null,null,null,null,null,null,null,null,null,null,null,null,null,null,null,null,null,"Manoila Adrian","Iasi"]
[null,null,null,null,null,null,null,null,null,null,null,null,null,null,null,null,null,null,null,"Manolache Florin","Ploiesti"]
[null,null,null,null,null,null,null,null,null,null,null,null,null,null,null,null,null,null,null,"Manole Dan","Braila"]
[null,null,null,null,null,null,null,null,null,null,null,null,null,null,null,null,null,null,null,"Manta Radu","Bucuresti"]
[null,null,null,null,null,null,null,null,null,null,null,null,null,null,null,null,null,null,null,"Manta Viorel","Baicoi"]
[null,null,null,null,null,null,null,null,null,null,null,null,null,null,null,null,null,null,null,"Mantoiu Daniel","Pucioasa"]
[null,null,null,null,null,null,null,null,null,null,null,null,null,null,null,null,null,null,null,"Manu Nicolae","Resita"]
[null,null,null,null,null,null,null,null,null,null,null,null,null,null,null,null,null,null,null,"Maor Atias","Israel"]
[null,null,null,null,null,null,null,null,null,null,null,null,null,null,null,null,null,null,null,"Mara Cristina","Comanesti"]
[null,null,null,null,null,null,null,null,null,null,null,null,null,null,null,null,null,null,null,"Maranceac Anna","Moldova-Balti"]
[null,null,null,null,null,null,null,null,null,null,null,null,null,null,null,null,null,null,null,"Maranceac Victoria","Moldova-Balti"]
[null,null,null,null,null,null,null,null,null,null,null,null,null,null,null,null,null,null,null,"Marandici Adrian","Brasov"]
[null,null,null,null,null,null,null,null,null,null,null,null,null,null,null,null,null,null,null,"Marandici Vasile","Bucuresti"]
[null,null,null,null,null,null,null,null,null,null,null,null,null,null,null,null,null,null,null,"Marchis Maximilian","Cluj Napoca"]
[null,null,null,null,null,null,null,null,null,null,null,null,null,null,null,null,null,null,null,"Marchitan Marius","Brasov"]
[null,null,null,null,null,null,null,null,null,null,null,null,null,null,null,null,null,null,null,"Marcu Alexandru","Sebes"]
[null,null,null,null,null,null,null,null,null,null,null,null,null,null,null,null,null,null,null,"Marcu Aurel","Manastireni"]
[null,null,null,null,null,null,null,null,null,null,null,null,null,null,null,null,null,null,null,"Marcu Ciprian","Targu Mures"]
[null,null,null,null,null,null,null,null,null,null,null,null,null,null,null,null,null,null,null,"Marcu Cristian","Alba Iulia"]
[null,null,null,null,null,null,null,null,null,null,null,null,null,null,null,null,null,null,null,"Marcu David","Iasi"]
[null,null,null,null,null,null,null,null,null,null,null,null,null,null,null,null,null,null,null,"Marcu Florin Radu","Manasturu Romanesc"]
[null,null,null,null,null,null,null,null,null,null,null,null,null,null,null,null,null,null,null,"Marcu Nicolae","Bucuresti"]
[null,null,null,null,null,null,null,null,null,null,null,null,null,null,null,null,null,null,null,"Marcu Paul","Sibiu"]
[null,null,null,null,null,null,null,null,null,null,null,null,null,null,null,null,null,null,null,"Marcu Rares","Iasi"]
[null,null,null,null,null,null,null,null,null,null,null,null,null,null,null,null,null,null,null,"Marcu Vasile","Vatra Dornei"]
[null,null,null,null,null,null,null,null,null,null,null,null,null,null,null,null,null,null,null,"Mardale Radu","Galati"]
[null,null,null,null,null,null,null,null,null,null,null,null,null,null,null,null,null,null,null,"Marenco Anton","Moldova-Chisinau"]
[null,null,null,null,null,null,null,null,null,null,null,null,null,null,null,null,null,null,null,"Mares Ionel","Blaj"]
[null,null,null,null,null,null,null,null,null,null,null,null,null,null,null,null,null,null,null,"Maresi Cristian","Targu Jiu"]
[null,null,null,null,null,null,null,null,null,null,null,null,null,null,null,null,null,null,null,"Marginean Catalin","Aiud"]
[null,null,null,null,null,null,null,null,null,null,null,null,null,null,null,null,null,null,null,"Marginean Cornel","Cluj Napoca"]
[null,null,null,null,null,null,null,null,null,null,null,null,null,null,null,null,null,null,null,"Marian Bogdan","Ploiesti"]
[null,null,null,null,null,null,null,null,null,null,null,null,null,null,null,null,null,null,null,"Marian Calin","Reghin"]
[null,null,null,null,null,null,null,null,null,null,null,null,null,null,null,null,null,null,null,"Marian Ioan","Alba Iulia"]
[null,null,null,null,null,null,null,null,null,null,null,null,null,null,null,null,null,null,null,"Marian Mario","Slobozia"]
[null,null,null,null,null,null,null,null,null,null,null,null,null,null,null,null,null,null,null,"Marian Ovidiu","Reghin"]
[null,null,null,null,null,null,null,null,null,null,null,null,null,null,null,null,null,null,null,"Marias Laurentiu","Ploiesti"]
[null,null,null,null,null,null,null,null,null,null,null,null,null,null,null,null,null,null,null,"Marii Lidia","Bucuresti"]
[null,null,null,null,null,null,null,null,null,null,null,null,null,null,null,null,null,null,null,"Marin Adrian","Cateasca"]
[null,null,null,null,null,null,null,null,null,null,null,null,null,null,null,null,null,null,null,"Marin Albert","Bucuresti"]
[null,null,null,null,null,null,null,null,null,null,null,null,null,null,null,null,null,null,null,"Marin Alexandru","Cateasca"]
[null,null,null,null,null,null,null,null,null,null,null,null,null,null,null,null,null,null,null,"Marin Bogdan","Iasi"]
[null,null,null,null,null,null,null,null,null,null,null,null,null,null,null,null,null,null,null,"Marin Catalin","Fenes"]
[null,null,null,null,null,null,null,null,null,null,null,null,null,null,null,null,null,null,null,"Marin Costel","Cateasca"]
[null,null,null,null,null,null,null,null,null,null,null,null,null,null,null,null,null,null,null,"Marin Doru","Iasi"]
[null,null,null,null,null,null,null,null,null,null,null,null,null,null,null,null,null,null,null,"Marin Goran","Varset"]
[null,null,null,null,null,null,null,null,null,null,null,null,null,null,null,null,null,null,null,"Marin Marcel","Fenes"]
[null,null,null,null,null,null,null,null,null,null,null,null,null,null,null,null,null,null,null,"Marin Marcus","Agnita"]
[null,null,null,null,null,null,null,null,null,null,null,null,null,null,null,null,null,null,null,"Marin Marian","Bucuresti"]
[null,null,null,null,null,null,null,null,null,null,null,null,null,null,null,null,null,null,null,"Marin Robert","Pitesti"]
[null,null,null,null,null,null,null,null,null,null,null,null,null,null,null,null,null,null,null,"Marinescu Bogdan","Bucuresti"]
[null,null,null,null,null,null,null,null,null,null,null,null,null,null,null,null,null,null,null,"Marinescu Marius","Craiova"]
[null,null,null,null,null,null,null,null,null,null,null,null,null,null,null,null,null,null,null,"Marinescu Nelu","Targoviste"]
[null,null,null,null,null,null,null,null,null,null,null,null,null,null,null,null,null,null,null,"Marinescu Razvan","Cluj Napoca"]
[null,null,null,null,null,null,null,null,null,null,null,null,null,null,null,null,null,null,null,"Marinescu Stefan","Bucuresti"]
[null,null,null,null,null,null,null,null,null,null,null,null,null,null,null,null,null,null,null,"Maris Corin","Timisoara"]
[null,null,null,null,null,null,null,null,null,null,null,null,null,null,null,null,null,null,null,"Marius Ene","Bucuresti"]
[null,null,null,null,null,null,null,null,null,null,null,null,null,null,null,null,null,null,null,"Markovic Veljko","Varset"]
[null,null,null,null,null,null,null,null,null,null,null,null,null,null,null,null,null,null,null,"Maroccoli Gaia","Lombardia Italia"]
[null,null,null,null,null,null,null,null,null,null,null,null,null,null,null,null,null,null,null,"Marola Mihai","Bacau"]
[null,null,null,null,null,null,null,null,null,null,null,null,null,null,null,null,null,null,null,"Marta Marcel","Timisoara"]
[null,null,null,null,null,null,null,null,null,null,null,null,null,null,null,null,null,null,null,"Marta Tudor Alexandru","Cluj Napoca"]
[null,null,null,null,null,null,null,null,null,null,null,null,null,null,null,null,null,null,null,"Martescu Dan","Novaci"]
[null,null,null,null,null,null,null,null,null,null,null,null,null,null,null,null,null,null,null,"Martin Sergiu","Buhusi"]
[null,null,null,null,null,null,null,null,null,null,null,null,null,null,null,null,null,null,null,"Martinas Marius","Iasi"]
[null,null,null,null,null,null,null,null,null,null,null,null,null,null,null,null,null,null,null,"Martiniuc Cosmin","Viseu"]
[null,null,null,null,null,null,null,null,null,null,null,null,null,null,null,null,null,null,null,"Martoiu Gabriel","Targu Jiu"]
[null,null,null,null,null,null,null,null,null,null,null,null,null,null,null,null,null,null,null,"Masgras Iulian","Tecuci"]
[null,null,null,null,null,null,null,null,null,null,null,null,null,null,null,null,null,null,null,"Maslennicov Anatolie","Moldova-Cahul"]
[null,null,null,null,null,null,null,null,null,null,null,null,null,null,null,null,null,null,null,"Matasa Eduard","Sibiu"]
[null,null,null,null,null,null,null,null,null,null,null,null,null,null,null,null,null,null,null,"Mate David","Timisoara"]
[null,null,null,null,null,null,null,null,null,null,null,null,null,null,null,null,null,null,null,"Mateescu Eduard","Iordacheanu"]
[null,null,null,null,null,null,null,null,null,null,null,null,null,null,null,null,null,null,null,"Mateescu Florin","Hunedoara"]
[null,null,null,null,null,null,null,null,null,null,null,null,null,null,null,null,null,null,null,"Matei Alexandru","Iasi"]
[null,null,null,null,null,null,null,null,null,null,null,null,null,null,null,null,null,null,null,"Matei Alexandru","Focsani"]
[null,null,null,null,null,null,null,null,null,null,null,null,null,null,null,null,null,null,null,"Matei Alin","Arad"]
[null,null,null,null,null,null,null,null,null,null,null,null,null,null,null,null,null,null,null,"Matei Artur","Orasu Nou"]
[null,null,null,null,null,null,null,null,null,null,null,null,null,null,null,null,null,null,null,"Matei Daniel","Targoviste"]
[null,null,null,null,null,null,null,null,null,null,null,null,null,null,null,null,null,null,null,"Matei Dumitru","Deva"]
[null,null,null,null,null,null,null,null,null,null,null,null,null,null,null,null,null,null,null,"Matei Marius","Galati"]
[null,null,null,null,null,null,null,null,null,null,null,null,null,null,null,null,null,null,null,"Matei Mircea","Targoviste"]
[null,null,null,null,null,null,null,null,null,null,null,null,null,null,null,null,null,null,null,"Matei Razvan","Bucuresti"]
[null,null,null,null,null,null,null,null,null,null,null,null,null,null,null,null,null,null,null,"Matei Razvan","Sibiu"]
[null,null,null,null,null,null,null,null,null,null,null,null,null,null,null,null,null,null,null,"Matei Victor","Urlati"]
[null,null,null,null,null,null,null,null,null,null,null,null,null,null,null,null,null,null,null,"Mateiciuc Valentin","Putna"]
[null,null,null,null,null,null,null,null,null,null,null,null,null,null,null,null,null,null,null,"Mates Flavius","Arad"]
[null,null,null,null,null,null,null,null,null,null,null,null,null,null,null,null,null,null,null,"Mateut Ariana","Zalau"]
[null,null,null,null,null,null,null,null,null,null,null,null,null,null,null,null,null,null,null,"Mateut David","Zalau"]
[null,null,null,null,null,null,null,null,null,null,null,null,null,null,null,null,null,null,null,"Mateut Ionut","Zalau"]
[null,null,null,null,null,null,null,null,null,null,null,null,null,null,null,null,null,null,null,"Mathe Mihai","Ludus"]
[null,null,null,null,null,null,null,null,null,null,null,null,null,null,null,null,null,null,null,"Mati Vasile","Snagov"]
[null,null,null,null,null,null,null,null,null,null,null,null,null,null,null,null,null,null,null,"Matica Mihai","Oradea"]
[null,null,null,null,null,null,null,null,null,null,null,null,null,null,null,null,null,null,null,"Matner Robert","Siret"]
[null,null,null,null,null,null,null,null,null,null,null,null,null,null,null,null,null,null,null,"Matsumoto Paul","Brasov"]
[null,null,null,null,null,null,null,null,null,null,null,null,null,null,null,null,null,null,null,"Matveev Victor Nicolae","Bucuresti"]
[null,null,null,null,null,null,null,null,null,null,null,null,null,null,null,null,null,null,null,"Maxim Alexandru","Oradea"]
[null,null,null,null,null,null,null,null,null,null,null,null,null,null,null,null,null,null,null,"Maxim Andrei","Iasi"]
[null,null,null,null,null,null,null,null,null,null,null,null,null,null,null,null,null,null,null,"Maxim Costel","Moinesti"]
[null,null,null,null,null,null,null,null,null,null,null,null,null,null,null,null,null,null,null,"Maxim Cristian","Bistrita"]
[null,null,null,null,null,null,null,null,null,null,null,null,null,null,null,null,null,null,null,"Maxim Ioana","Cluj Napoca"]
[null,null,null,null,null,null,null,null,null,null,null,null,null,null,null,null,null,null,null,"Maxim Valentin","Cluj Napoca"]
[null,null,null,null,null,null,null,null,null,null,null,null,null,null,null,null,null,null,null,"Maximciuc Felix","Baia Mare"]
[null,null,null,null,null,null,null,null,null,null,null,null,null,null,null,null,null,null,null,"Maximenco Ivan","Moldova-Chisinau"]
[null,null,null,null,null,null,null,null,null,null,null,null,null,null,null,null,null,null,null,"Medesan Gheorghe","Bagaciu"]
[null,null,null,null,null,null,null,null,null,null,null,null,null,null,null,null,null,null,null,"Medve Mihai","Reghin"]
[null,null,null,null,null,null,null,null,null,null,null,null,null,null,null,null,null,null,null,"Megan Alexandra","Bucuresti"]
[null,null,null,null,null,null,null,null,null,null,null,null,null,null,null,null,null,null,null,"Meggyes Andras","Sovata"]
[null,null,null,null,null,null,null,null,null,null,null,null,null,null,null,null,null,null,null,"Melicut Sarmis","Hunedoara"]
[null,null,null,null,null,null,null,null,null,null,null,null,null,null,null,null,null,null,null,"Melinte Gabriel","Iasi"]
[null,null,null,null,null,null,null,null,null,null,null,null,null,null,null,null,null,null,null,"Melinte Teodor","Alexandria"]
[null,null,null,null,null,null,null,null,null,null,null,null,null,null,null,null,null,null,null,"Melintii Victoria","Moldova-Avdarma"]
[null,null,null,null,null,null,null,null,null,null,null,null,null,null,null,null,null,null,null,"Melniciuc Elena","Vatra Dornei"]
[null,null,null,null,null,null,null,null,null,null,null,null,null,null,null,null,null,null,null,"Mera David Alexandru","Reghin"]
[null,null,null,null,null,null,null,null,null,null,null,null,null,null,null,null,null,null,null,"Mermezan Sergiu","Timisoara"]
[null,null,null,null,null,null,null,null,null,null,null,null,null,null,null,null,null,null,null,"Mertic Alexandru","Targoviste"]
[null,null,null,null,null,null,null,null,null,null,null,null,null,null,null,null,null,null,null,"Merticariu Timotei","Timisoara"]
[null,null,null,null,null,null,null,null,null,null,null,null,null,null,null,null,null,null,null,"Mesaros Horea Cristin","Ludus"]
[null,null,null,null,null,null,null,null,null,null,null,null,null,null,null,null,null,null,null,"Mesca Luca","Buzau"]
[null,null,null,null,null,null,null,null,null,null,null,null,null,null,null,null,null,null,null,"Mesterca Mihai","Roman"]
[null,null,null,null,null,null,null,null,null,null,null,null,null,null,null,null,null,null,null,"Metes Doru","Cluj Napoca"]
[null,null,null,null,null,null,null,null,null,null,null,null,null,null,null,null,null,null,null,"Meyndt Alexander","Sighisoara"]
[null,null,null,null,null,null,null,null,null,null,null,null,null,null,null,null,null,null,null,"Mezei Mihai","Sarmas"]
[null,null,null,null,null,null,null,null,null,null,null,null,null,null,null,null,null,null,null,"Mezin Sorin","Resita"]
[null,null,null,null,null,null,null,null,null,null,null,null,null,null,null,null,null,null,null,"Mican Nicolae","Dej"]
[null,null,null,null,null,null,null,null,null,null,null,null,null,null,null,null,null,null,null,"Michilea Razvan","Manastireni"]
[null,null,null,null,null,null,null,null,null,null,null,null,null,null,null,null,null,null,null,"Miclea Bogdan","Cluj Napoca"]
[null,null,null,null,null,null,null,null,null,null,null,null,null,null,null,null,null,null,null,"Miclos Andrei","Sanmarghita"]
[null,null,null,null,null,null,null,null,null,null,null,null,null,null,null,null,null,null,null,"Micoara Andrei","Lipova"]
[null,null,null,null,null,null,null,null,null,null,null,null,null,null,null,null,null,null,null,"Micu Catalin","Valenii de Munte"]
[null,null,null,null,null,null,null,null,null,null,null,null,null,null,null,null,null,null,null,"Micula George","Oradea"]
[null,null,null,null,null,null,null,null,null,null,null,null,null,null,null,null,null,null,null,"Miculescu Alexandru","Iasi"]
[null,null,null,null,null,null,null,null,null,null,null,null,null,null,null,null,null,null,null,"Miculita Ovidiu","Lipova"]
[null,null,null,null,null,null,null,null,null,null,null,null,null,null,null,null,null,null,null,"Mierlesteanu Ion","Slatina"]
[null,null,null,null,null,null,null,null,null,null,null,null,null,null,null,null,null,null,null,"Migea Cornel","Sibiu"]
[null,null,null,null,null,null,null,null,null,null,null,null,null,null,null,null,null,null,null,"Migliaccio Antonello","Italia"]
[null,null,null,null,null,null,null,null,null,null,null,null,null,null,null,null,null,null,null,"Mihai Alexandru","Braila"]
[null,null,null,null,null,null,null,null,null,null,null,null,null,null,null,null,null,null,null,"Mihai Andrei","Bucuresti"]
[null,null,null,null,null,null,null,null,null,null,null,null,null,null,null,null,null,null,null,"Mihai Ion","Bucuresti"]
[null,null,null,null,null,null,null,null,null,null,null,null,null,null,null,null,null,null,null,"Mihai Laurentiu","Bucuresti"]
[null,null,null,null,null,null,null,null,null,null,null,null,null,null,null,null,null,null,null,"Mihail Dragos","Constanta"]
[null,null,null,null,null,null,null,null,null,null,null,null,null,null,null,null,null,null,null,"Mihaila Alin Constantin","Iasi"]
[null,null,null,null,null,null,null,null,null,null,null,null,null,null,null,null,null,null,null,"Mihaila Gabriel","Radauti"]
[null,null,null,null,null,null,null,null,null,null,null,null,null,null,null,null,null,null,null,"Mihaila George","Bucuresti"]
[null,null,null,null,null,null,null,null,null,null,null,null,null,null,null,null,null,null,null,"Mihaila Maia","Vulcana Pandele"]
[null,null,null,null,null,null,null,null,null,null,null,null,null,null,null,null,null,null,null,"Mihaila Mihai","Radauti"]
[null,null,null,null,null,null,null,null,null,null,null,null,null,null,null,null,null,null,null,"Mihaila Nicolae","Breaza"]
[null,null,null,null,null,null,null,null,null,null,null,null,null,null,null,null,null,null,null,"Mihaila Petru","Hunedoara"]
[null,null,null,null,null,null,null,null,null,null,null,null,null,null,null,null,null,null,null,"Mihaila Robert","Breaza"]
[null,null,null,null,null,null,null,null,null,null,null,null,null,null,null,null,null,null,null,"Mihaila Romeo","Iasi"]
[null,null,null,null,null,null,null,null,null,null,null,null,null,null,null,null,null,null,null,"Mihailov Serghei","Moldova-Balti"]
[null,null,null,null,null,null,null,null,null,null,null,null,null,null,null,null,null,null,null,"Mihailov Valentin","Moldova-Balti"]
[null,null,null,null,null,null,null,null,null,null,null,null,null,null,null,null,null,null,null,"Mihaiuc Matei","Radauti"]
[null,null,null,null,null,null,null,null,null,null,null,null,null,null,null,null,null,null,null,"Mihalache Andrei","Buzau"]
[null,null,null,null,null,null,null,null,null,null,null,null,null,null,null,null,null,null,null,"Mihalache Antonia","Ludus"]
[null,null,null,null,null,null,null,null,null,null,null,null,null,null,null,null,null,null,null,"Mihalache Catalin","Bucuresti"]
[null,null,null,null,null,null,null,null,null,null,null,null,null,null,null,null,null,null,null,"Mihalache Daniel","Buzau"]
[null,null,null,null,null,null,null,null,null,null,null,null,null,null,null,null,null,null,null,"Mihalache Dario","Plopeni SV"]
[null,null,null,null,null,null,null,null,null,null,null,null,null,null,null,null,null,null,null,"Mihalache Remus","Plopeni SV"]
[null,null,null,null,null,null,null,null,null,null,null,null,null,null,null,null,null,null,null,"Mihalachi Luca","Mogosesti"]
[null,null,null,null,null,null,null,null,null,null,null,null,null,null,null,null,null,null,null,"Mihalca Claudiu","Cluj Napoca"]
[null,null,null,null,null,null,null,null,null,null,null,null,null,null,null,null,null,null,null,"Mihalcea David","Galati"]
[null,null,null,null,null,null,null,null,null,null,null,null,null,null,null,null,null,null,null,"Mihalcea Iulian","Galati"]
[null,null,null,null,null,null,null,null,null,null,null,null,null,null,null,null,null,null,null,"Mihalcea Stefan Tiberiu","Snagov"]
[null,null,null,null,null,null,null,null,null,null,null,null,null,null,null,null,null,null,null,"Mihali Fabian","Timisoara"]
[null,null,null,null,null,null,null,null,null,null,null,null,null,null,null,null,null,null,null,"Mihet Alexandru","Arad"]
[null,null,null,null,null,null,null,null,null,null,null,null,null,null,null,null,null,null,null,"MIHLIUC Andra","Sibiu"]
[null,null,null,null,null,null,null,null,null,null,null,null,null,null,null,null,null,null,null,"Mihoc Cristian Stefan","Iasi"]
[null,null,null,null,null,null,null,null,null,null,null,null,null,null,null,null,null,null,null,"Mihu Florin","Mioveni"]
[null,null,null,null,null,null,null,null,null,null,null,null,null,null,null,null,null,null,null,"Mihut Cornel","Baia Sprie"]
[null,null,null,null,null,null,null,null,null,null,null,null,null,null,null,null,null,null,null,"Mija Gheorghe","Fagaras"]
[null,null,null,null,null,null,null,null,null,null,null,null,null,null,null,null,null,null,null,"Miko Istvan","Targu Mures"]
[null,null,null,null,null,null,null,null,null,null,null,null,null,null,null,null,null,null,null,"Miko Magdalena","Fagaras"]
[null,null,null,null,null,null,null,null,null,null,null,null,null,null,null,null,null,null,null,"Milakovic Mile","Belgrad"]
[null,null,null,null,null,null,null,null,null,null,null,null,null,null,null,null,null,null,null,"Milian Iulian","Hunedoara"]
[null,null,null,null,null,null,null,null,null,null,null,null,null,null,null,null,null,null,null,"Milica Marian","Tulcea"]
[null,null,null,null,null,null,null,null,null,null,null,null,null,null,null,null,null,null,null,"Milos Adrian","Bocsa"]
[null,null,null,null,null,null,null,null,null,null,null,null,null,null,null,null,null,null,null,"Milos Alexandru","Alexandria"]
[null,null,null,null,null,null,null,null,null,null,null,null,null,null,null,null,null,null,null,"Milos Andrei","Bocsa"]
[null,null,null,null,null,null,null,null,null,null,null,null,null,null,null,null,null,null,null,"Milos Cristian","Alexandria"]
[null,null,null,null,null,null,null,null,null,null,null,null,null,null,null,null,null,null,null,"Milos Stefan","Alexandria"]
[null,null,null,null,null,null,null,null,null,null,null,null,null,null,null,null,null,null,null,"Milunovic Andria","Belgrad"]
[null,null,null,null,null,null,null,null,null,null,null,null,null,null,null,null,null,null,null,"Minca Liviu","Videle"]
[null,null,null,null,null,null,null,null,null,null,null,null,null,null,null,null,null,null,null,"Mincu Marian","Tulcea"]
[null,null,null,null,null,null,null,null,null,null,null,null,null,null,null,null,null,null,null,"Mincu Theodor","Craiova"]
[null,null,null,null,null,null,null,null,null,null,null,null,null,null,null,null,null,null,null,"Mindru Marin","Sarmas"]
[null,null,null,null,null,null,null,null,null,null,null,null,null,null,null,null,null,null,null,"Minza Alexandru","Bucuresti"]
[null,null,null,null,null,null,null,null,null,null,null,null,null,null,null,null,null,null,null,"Minzat Mircea","Saliste"]
[null,null,null,null,null,null,null,null,null,null,null,null,null,null,null,null,null,null,null,"Mircea Florin","Harsova"]
[null,null,null,null,null,null,null,null,null,null,null,null,null,null,null,null,null,null,null,"Mircea Ingrid","Giurgiu"]
[null,null,null,null,null,null,null,null,null,null,null,null,null,null,null,null,null,null,null,"Mircescu Alexandru","Bucuresti"]
[null,null,null,null,null,null,null,null,null,null,null,null,null,null,null,null,null,null,null,"Mirciu Serghei","Moldova-Chisinau"]
[null,null,null,null,null,null,null,null,null,null,null,null,null,null,null,null,null,null,null,"Mirisan Dorin","Baia Mare"]
[null,null,null,null,null,null,null,null,null,null,null,null,null,null,null,null,null,null,null,"Miron Andrei","Campina"]
[null,null,null,null,null,null,null,null,null,null,null,null,null,null,null,null,null,null,null,"Miron Cristi","Onesti"]
[null,null,null,null,null,null,null,null,null,null,null,null,null,null,null,null,null,null,null,"Miron Gheorghe","Bucuresti"]
[null,null,null,null,null,null,null,null,null,null,null,null,null,null,null,null,null,null,null,"Miron Liviu","Campina"]
[null,null,null,null,null,null,null,null,null,null,null,null,null,null,null,null,null,null,null,"Miron Mihai","Cluj Napoca"]
[null,null,null,null,null,null,null,null,null,null,null,null,null,null,null,null,null,null,null,"Miron Viorel","Iasi"]
[null,null,null,null,null,null,null,null,null,null,null,null,null,null,null,null,null,null,null,"Mironescu Adrian","Botosani"]
[null,null,null,null,null,null,null,null,null,null,null,null,null,null,null,null,null,null,null,"Mirza Sorin","Arad"]
[null,null,null,null,null,null,null,null,null,null,null,null,null,null,null,null,null,null,null,"Mistodinis Robert","Bucuresti"]
[null,null,null,null,null,null,null,null,null,null,null,null,null,null,null,null,null,null,null,"Mita Augustin","Dorohoi"]
[null,null,null,null,null,null,null,null,null,null,null,null,null,null,null,null,null,null,null,"Mitache Bira","Constanta"]
[null,null,null,null,null,null,null,null,null,null,null,null,null,null,null,null,null,null,null,"Mititelu Daniel","Botosani"]
[null,null,null,null,null,null,null,null,null,null,null,null,null,null,null,null,null,null,null,"Mitoi Alin","Bals"]
[null,null,null,null,null,null,null,null,null,null,null,null,null,null,null,null,null,null,null,"Mitran Gabriel","Craiova"]
[null,null,null,null,null,null,null,null,null,null,null,null,null,null,null,null,null,null,null,"Mitran Mihail","Slatina"]
[null,null,null,null,null,null,null,null,null,null,null,null,null,null,null,null,null,null,null,"Mitranus Ciprian","Turnu Magurele"]
[null,null,null,null,null,null,null,null,null,null,null,null,null,null,null,null,null,null,null,"Mitrea Silviu","Navodari"]
[null,null,null,null,null,null,null,null,null,null,null,null,null,null,null,null,null,null,null,"Mitrica Gheorghe","Gostavatu"]
[null,null,null,null,null,null,null,null,null,null,null,null,null,null,null,null,null,null,null,"Mitrofan Petrica","Brasov"]
[null,null,null,null,null,null,null,null,null,null,null,null,null,null,null,null,null,null,null,"Mitroi Florin","Bucuresti"]
[null,null,null,null,null,null,null,null,null,null,null,null,null,null,null,null,null,null,null,"Mitu Claudiu","Bucuresti"]
[null,null,null,null,null,null,null,null,null,null,null,null,null,null,null,null,null,null,null,"Mitut Octavian","Pitesti"]
[null,null,null,null,null,null,null,null,null,null,null,null,null,null,null,null,null,null,null,"Miu Maria","Bucuresti"]
[null,null,null,null,null,null,null,null,null,null,null,null,null,null,null,null,null,null,null,"Mladinoi Ion","Iasi"]
[null,null,null,null,null,null,null,null,null,null,null,null,null,null,null,null,null,null,null,"Moanta Andrei","Bucuresti"]
[null,null,null,null,null,null,null,null,null,null,null,null,null,null,null,null,null,null,null,"Moca Alexandru","Ludus"]
[null,null,null,null,null,null,null,null,null,null,null,null,null,null,null,null,null,null,null,"Moca Mara","Medias"]
[null,null,null,null,null,null,null,null,null,null,null,null,null,null,null,null,null,null,null,"Moca Vasile","Bucuresti"]
[null,null,null,null,null,null,null,null,null,null,null,null,null,null,null,null,null,null,null,"Mocan Marius","Cluj Napoca"]
[null,null,null,null,null,null,null,null,null,null,null,null,null,null,null,null,null,null,null,"Mocanu Adrian","Targoviste"]
[null,null,null,null,null,null,null,null,null,null,null,null,null,null,null,null,null,null,null,"Mocanu Alexandru","Suceava"]
[null,null,null,null,null,null,null,null,null,null,null,null,null,null,null,null,null,null,null,"Mocanu Costel","Valea Lupului"]
[null,null,null,null,null,null,null,null,null,null,null,null,null,null,null,null,null,null,null,"Mocanu David","Bucuresti"]
[null,null,null,null,null,null,null,null,null,null,null,null,null,null,null,null,null,null,null,"Mocanu Dragos","Bucuresti"]
[null,null,null,null,null,null,null,null,null,null,null,null,null,null,null,null,null,null,null,"Mocanu Georgian","Filipestii de Targ"]
[null,null,null,null,null,null,null,null,null,null,null,null,null,null,null,null,null,null,null,"Mocanu Lucian","Roman"]
[null,null,null,null,null,null,null,null,null,null,null,null,null,null,null,null,null,null,null,"Mocanu Mihai","Halaucesti"]
[null,null,null,null,null,null,null,null,null,null,null,null,null,null,null,null,null,null,null,"Mocean Dan","Cluj Napoca"]
[null,null,null,null,null,null,null,null,null,null,null,null,null,null,null,null,null,null,null,"Mocreac Ilarion","Moldova-Chisinau"]
[null,null,null,null,null,null,null,null,null,null,null,null,null,null,null,null,null,null,null,"Modoran Cosmin","Bucuresti"]
[null,null,null,null,null,null,null,null,null,null,null,null,null,null,null,null,null,null,null,"Modoran Marian","Bucuresti"]
[null,null,null,null,null,null,null,null,null,null,null,null,null,null,null,null,null,null,null,"Mohonea Angel","Braila"]
[null,null,null,null,null,null,null,null,null,null,null,null,null,null,null,null,null,null,null,"Moian Calin","Sighisoara"]
[null,null,null,null,null,null,null,null,null,null,null,null,null,null,null,null,null,null,null,"Moisa Lucian","Popricani"]
[null,null,null,null,null,null,null,null,null,null,null,null,null,null,null,null,null,null,null,"Moisa Radu Ioan","Bacau"]
[null,null,null,null,null,null,null,null,null,null,null,null,null,null,null,null,null,null,null,"Moise Catalin","Slobozia"]
[null,null,null,null,null,null,null,null,null,null,null,null,null,null,null,null,null,null,null,"Moise Mihai","Alexandria"]
[null,null,null,null,null,null,null,null,null,null,null,null,null,null,null,null,null,null,null,"Moise Valentin","Ploiesti"]
[null,null,null,null,null,null,null,null,null,null,null,null,null,null,null,null,null,null,null,"Moise Vasile","Bucuresti"]
[null,null,null,null,null,null,null,null,null,null,null,null,null,null,null,null,null,null,null,"Moisuc Alexandru","Radauti"]
[null,null,null,null,null,null,null,null,null,null,null,null,null,null,null,null,null,null,null,"Moisuc Catalin","Fratautii Noi"]
[null,null,null,null,null,null,null,null,null,null,null,null,null,null,null,null,null,null,null,"Moldovan Alexandru","Nasaud"]
[null,null,null,null,null,null,null,null,null,null,null,null,null,null,null,null,null,null,null,"Moldovan Alexandru Radu","Cluj Napoca"]
[null,null,null,null,null,null,null,null,null,null,null,null,null,null,null,null,null,null,null,"Moldovan Alin","Bistrita"]
[null,null,null,null,null,null,null,null,null,null,null,null,null,null,null,null,null,null,null,"Moldovan Andrei","Oradea"]
[null,null,null,null,null,null,null,null,null,null,null,null,null,null,null,null,null,null,null,"Moldovan Claudiu","Dej"]
[null,null,null,null,null,null,null,null,null,null,null,null,null,null,null,null,null,null,null,"Moldovan Cristian","Bistrita"]
[null,null,null,null,null,null,null,null,null,null,null,null,null,null,null,null,null,null,null,"Moldovan Darian","Nasaud"]
[null,null,null,null,null,null,null,null,null,null,null,null,null,null,null,null,null,null,null,"Moldovan Doru","Dej"]
[null,null,null,null,null,null,null,null,null,null,null,null,null,null,null,null,null,null,null,"Moldovan Flavia","Tarnaveni"]
[null,null,null,null,null,null,null,null,null,null,null,null,null,null,null,null,null,null,null,"Moldovan Horvath Csaba","Targu Mures"]
[null,null,null,null,null,null,null,null,null,null,null,null,null,null,null,null,null,null,null,"Moldovan Laszlo","Praid"]
[null,null,null,null,null,null,null,null,null,null,null,null,null,null,null,null,null,null,null,"Moldovan Marius","Slobozia"]
[null,null,null,null,null,null,null,null,null,null,null,null,null,null,null,null,null,null,null,"Moldovan Nicu","Orastie"]
[null,null,null,null,null,null,null,null,null,null,null,null,null,null,null,null,null,null,null,"Moldovan Radu","Alba Iulia"]
[null,null,null,null,null,null,null,null,null,null,null,null,null,null,null,null,null,null,null,"Moldovan Stefania","Tarnaveni"]
[null,null,null,null,null,null,null,null,null,null,null,null,null,null,null,null,null,null,null,"Moldovan Tudor","Cluj Napoca"]
[null,null,null,null,null,null,null,null,null,null,null,null,null,null,null,null,null,null,null,"Moldoveanu Rares","Bucuresti"]
[null,null,null,null,null,null,null,null,null,null,null,null,null,null,null,null,null,null,null,"Moldoveanu Sorin Florian","Hunedoara"]
[null,null,null,null,null,null,null,null,null,null,null,null,null,null,null,null,null,null,null,"Molnar Tihamer","Tarnaveni"]
[null,null,null,null,null,null,null,null,null,null,null,null,null,null,null,null,null,null,null,"Moncea Emilian","Suceava"]
[null,null,null,null,null,null,null,null,null,null,null,null,null,null,null,null,null,null,null,"Monciu Florin","Greci"]
[null,null,null,null,null,null,null,null,null,null,null,null,null,null,null,null,null,null,null,"Morar Alin","Alba Iulia"]
[null,null,null,null,null,null,null,null,null,null,null,null,null,null,null,null,null,null,null,"Morar Ovidiu","Tarnaveni"]
[null,null,null,null,null,null,null,null,null,null,null,null,null,null,null,null,null,null,null,"Morariu Catalin","Alba Iulia"]
[null,null,null,null,null,null,null,null,null,null,null,null,null,null,null,null,null,null,null,"Morariu Marius","Sibiu"]
[null,null,null,null,null,null,null,null,null,null,null,null,null,null,null,null,null,null,null,"Morariu Mircea","Iasi"]
[null,null,null,null,null,null,null,null,null,null,null,null,null,null,null,null,null,null,null,"Moraru Adrian","Sacele"]
[null,null,null,null,null,null,null,null,null,null,null,null,null,null,null,null,null,null,null,"Moraru Constantin","Bucuresti"]
[null,null,null,null,null,null,null,null,null,null,null,null,null,null,null,null,null,null,null,"Moraru Marius","Bucuresti"]
[null,null,null,null,null,null,null,null,null,null,null,null,null,null,null,null,null,null,null,"Moraru Ramona Cosmina","Drobeta Tr Severin"]
[null,null,null,null,null,null,null,null,null,null,null,null,null,null,null,null,null,null,null,"Morcan Andrei","Sighetu Marmatiei"]
[null,null,null,null,null,null,null,null,null,null,null,null,null,null,null,null,null,null,null,"Moroiu Marius Robert","Bucuresti"]
[null,null,null,null,null,null,null,null,null,null,null,null,null,null,null,null,null,null,null,"Moroldi Antonio","Targu Mures"]
[null,null,null,null,null,null,null,null,null,null,null,null,null,null,null,null,null,null,null,"Moroldi Gabriel","Targu Mures"]
[null,null,null,null,null,null,null,null,null,null,null,null,null,null,null,null,null,null,null,"Morosan Ionel","Granicesti"]
[null,null,null,null,null,null,null,null,null,null,null,null,null,null,null,null,null,null,null,"Morosan Ionel","Radauti"]
[null,null,null,null,null,null,null,null,null,null,null,null,null,null,null,null,null,null,null,"Morosan Mihai","Granicesti"]
[null,null,null,null,null,null,null,null,null,null,null,null,null,null,null,null,null,null,null,"Morosan Sara","Horodnic de Sus"]
[null,null,null,null,null,null,null,null,null,null,null,null,null,null,null,null,null,null,null,"Morosanu Dan","Iasi"]
[null,null,null,null,null,null,null,null,null,null,null,null,null,null,null,null,null,null,null,"Morosanu Vasile","Suceava"]
[null,null,null,null,null,null,null,null,null,null,null,null,null,null,null,null,null,null,null,"Morun Marian","Braila"]
[null,null,null,null,null,null,null,null,null,null,null,null,null,null,null,null,null,null,null,"Morut Sebastian","Oradea"]
[null,null,null,null,null,null,null,null,null,null,null,null,null,null,null,null,null,null,null,"Mos Florin","Arad"]
[null,null,null,null,null,null,null,null,null,null,null,null,null,null,null,null,null,null,null,"Mosneagu Maia","Falticeni"]
[null,null,null,null,null,null,null,null,null,null,null,null,null,null,null,null,null,null,null,"Mosneagu Mario","Partestii de Jos"]
[null,null,null,null,null,null,null,null,null,null,null,null,null,null,null,null,null,null,null,"Mosneagu Marius","Falticeni"]
[null,null,null,null,null,null,null,null,null,null,null,null,null,null,null,null,null,null,null,"Mosnegutu Laurentiu","Dorohoi"]
[null,null,null,null,null,null,null,null,null,null,null,null,null,null,null,null,null,null,null,"Mosnoi Dmitrii","Moldova-Chisinau"]
[null,null,null,null,null,null,null,null,null,null,null,null,null,null,null,null,null,null,null,"Mosteanu Luca","Navodari"]
[null,null,null,null,null,null,null,null,null,null,null,null,null,null,null,null,null,null,null,"Motica Alexandru","Cicarlau"]
[null,null,null,null,null,null,null,null,null,null,null,null,null,null,null,null,null,null,null,"Motica Dumitru Ion","Cicarlau"]
[null,null,null,null,null,null,null,null,null,null,null,null,null,null,null,null,null,null,null,"Motorga Dorin","Targu Mures"]
[null,null,null,null,null,null,null,null,null,null,null,null,null,null,null,null,null,null,null,"Movila Agata","Moldova-Balti"]
[null,null,null,null,null,null,null,null,null,null,null,null,null,null,null,null,null,null,null,"Movileanu Neculae","Brasov"]
[null,null,null,null,null,null,null,null,null,null,null,null,null,null,null,null,null,null,null,"Mrvica Ivan","Belgrad"]
[null,null,null,null,null,null,null,null,null,null,null,null,null,null,null,null,null,null,null,"Muha Mateo","Galati"]
[null,null,null,null,null,null,null,null,null,null,null,null,null,null,null,null,null,null,null,"Muhammad Shehzad","Sibiu"]
[null,null,null,null,null,null,null,null,null,null,null,null,null,null,null,null,null,null,null,"Mul Stepan","Ucraina"]
[null,null,null,null,null,null,null,null,null,null,null,null,null,null,null,null,null,null,null,"Muntean Atila","Hunedoara"]
[null,null,null,null,null,null,null,null,null,null,null,null,null,null,null,null,null,null,null,"Muntean Aurel","Medias"]
[null,null,null,null,null,null,null,null,null,null,null,null,null,null,null,null,null,null,null,"Muntean Mihai","Vicovu de Jos"]
[null,null,null,null,null,null,null,null,null,null,null,null,null,null,null,null,null,null,null,"Muntean Tamas","Sovata"]
[null,null,null,null,null,null,null,null,null,null,null,null,null,null,null,null,null,null,null,"Munteanu Andrei","Piatra Neamt"]
[null,null,null,null,null,null,null,null,null,null,null,null,null,null,null,null,null,null,null,"Munteanu Bogdan","Vaslui"]
[null,null,null,null,null,null,null,null,null,null,null,null,null,null,null,null,null,null,null,"Munteanu Constantin","Resita"]
[null,null,null,null,null,null,null,null,null,null,null,null,null,null,null,null,null,null,null,"Munteanu Constantin","Ramnicu Sarat"]
[null,null,null,null,null,null,null,null,null,null,null,null,null,null,null,null,null,null,null,"Munteanu Corneliu","Harlau"]
[null,null,null,null,null,null,null,null,null,null,null,null,null,null,null,null,null,null,null,"Munteanu Dragos","Bucuresti"]
[null,null,null,null,null,null,null,null,null,null,null,null,null,null,null,null,null,null,null,"Munteanu Elisei","Moldova-Cahul"]
[null,null,null,null,null,null,null,null,null,null,null,null,null,null,null,null,null,null,null,"Munteanu Ion","Comanesti"]
[null,null,null,null,null,null,null,null,null,null,null,null,null,null,null,null,null,null,null,"Munteanu Ion","Brasov"]
[null,null,null,null,null,null,null,null,null,null,null,null,null,null,null,null,null,null,null,"Munteanu Ionut","Slobozia"]
[null,null,null,null,null,null,null,null,null,null,null,null,null,null,null,null,null,null,null,"Munteanu Petrisor","Iasi"]
[null,null,null,null,null,null,null,null,null,null,null,null,null,null,null,null,null,null,null,"Munteanu Sebastian","Bacau"]
[null,null,null,null,null,null,null,null,null,null,null,null,null,null,null,null,null,null,null,"Munteanu Simona","Arad"]
[null,null,null,null,null,null,null,null,null,null,null,null,null,null,null,null,null,null,null,"Munteanu Vasile","Moldova-Cahul"]
[null,null,null,null,null,null,null,null,null,null,null,null,null,null,null,null,null,null,null,"Murariu Ciprian","Bucuresti"]
[null,null,null,null,null,null,null,null,null,null,null,null,null,null,null,null,null,null,null,"Murariu Ionut","Iasi"]
[null,null,null,null,null,null,null,null,null,null,null,null,null,null,null,null,null,null,null,"Muraru Marian Ionel","Roman"]
[null,null,null,null,null,null,null,null,null,null,null,null,null,null,null,null,null,null,null,"Muresan Adrian","Brasov"]
[null,null,null,null,null,null,null,null,null,null,null,null,null,null,null,null,null,null,null,"Muresan Alexandra","Cluj Napoca"]
[null,null,null,null,null,null,null,null,null,null,null,null,null,null,null,null,null,null,null,"Muresan Alexandru","Apahida"]
[null,null,null,null,null,null,null,null,null,null,null,null,null,null,null,null,null,null,null,"Muresan Ana Maria","Cluj Napoca"]
[null,null,null,null,null,null,null,null,null,null,null,null,null,null,null,null,null,null,null,"Muresan Aris","Gherla"]
[null,null,null,null,null,null,null,null,null,null,null,null,null,null,null,null,null,null,null,"Muresan Dorel","Cluj Napoca"]
[null,null,null,null,null,null,null,null,null,null,null,null,null,null,null,null,null,null,null,"Muresan Florin","Deva"]
[null,null,null,null,null,null,null,null,null,null,null,null,null,null,null,null,null,null,null,"Muresan Iulian","Surduc"]
[null,null,null,null,null,null,null,null,null,null,null,null,null,null,null,null,null,null,null,"Muresan Marian","Dej"]
[null,null,null,null,null,null,null,null,null,null,null,null,null,null,null,null,null,null,null,"Muresan Nelu","Stei"]
[null,null,null,null,null,null,null,null,null,null,null,null,null,null,null,null,null,null,null,"Muresan Nicolaie","Cluj Napoca"]
[null,null,null,null,null,null,null,null,null,null,null,null,null,null,null,null,null,null,null,"Muresan Robert","Surduc"]
[null,null,null,null,null,null,null,null,null,null,null,null,null,null,null,null,null,null,null,"Muresan Vasile","Orasu Nou"]
[null,null,null,null,null,null,null,null,null,null,null,null,null,null,null,null,null,null,null,"Muresan Viorel Florin","Baia Mare"]
[null,null,null,null,null,null,null,null,null,null,null,null,null,null,null,null,null,null,null,"Murgu Horia","Ciprian Porumbescu"]
[null,null,null,null,null,null,null,null,null,null,null,null,null,null,null,null,null,null,null,"Murgu Ioan","Oravita"]
[null,null,null,null,null,null,null,null,null,null,null,null,null,null,null,null,null,null,null,"Murvai Bela","Delenii"]
[null,null,null,null,null,null,null,null,null,null,null,null,null,null,null,null,null,null,null,"Musat Aurel","Bucuresti"]
[null,null,null,null,null,null,null,null,null,null,null,null,null,null,null,null,null,null,null,"Musat Catalin","Alexandria"]
[null,null,null,null,null,null,null,null,null,null,null,null,null,null,null,null,null,null,null,"Musat Irina","Targoviste"]
[null,null,null,null,null,null,null,null,null,null,null,null,null,null,null,null,null,null,null,"Musat Marian Florin","Targu Mures"]
[null,null,null,null,null,null,null,null,null,null,null,null,null,null,null,null,null,null,null,"Musat Mihai","Lipanesti"]
[null,null,null,null,null,null,null,null,null,null,null,null,null,null,null,null,null,null,null,"Musat Tudor","Lipanesti"]
[null,null,null,null,null,null,null,null,null,null,null,null,null,null,null,null,null,null,null,"Musteata Gabriel","Suceava"]
[null,null,null,null,null,null,null,null,null,null,null,null,null,null,null,null,null,null,null,"Mutiu Cristian","Sighetu Marmatiei"]
[null,null,null,null,null,null,null,null,null,null,null,null,null,null,null,null,null,null,null,"Mutu Mario","Deva"]
[null,null,null,null,null,null,null,null,null,null,null,null,null,null,null,null,null,null,null,"Naciu Florin","Botosani"]
[null,null,null,null,null,null,null,null,null,null,null,null,null,null,null,null,null,null,null,"Nadoleanu Pavel","Tulcea"]
[null,null,null,null,null,null,null,null,null,null,null,null,null,null,null,null,null,null,null,"Nagea Horia","Craiova"]
[null,null,null,null,null,null,null,null,null,null,null,null,null,null,null,null,null,null,null,"Naghi Vlad","Hunedoara"]
[null,null,null,null,null,null,null,null,null,null,null,null,null,null,null,null,null,null,null,"Naghiu Ioan","Zalau"]
[null,null,null,null,null,null,null,null,null,null,null,null,null,null,null,null,null,null,null,"Nagy Arpad","Suseni"]
[null,null,null,null,null,null,null,null,null,null,null,null,null,null,null,null,null,null,null,"Nagy Attila","Suseni"]
[null,null,null,null,null,null,null,null,null,null,null,null,null,null,null,null,null,null,null,"Nagy Eduard","Deva"]
[null,null,null,null,null,null,null,null,null,null,null,null,null,null,null,null,null,null,null,"Nagy Iosif","Arad"]
[null,null,null,null,null,null,null,null,null,null,null,null,null,null,null,null,null,null,null,"Nagy Kristof","Targu Mures"]
[null,null,null,null,null,null,null,null,null,null,null,null,null,null,null,null,null,null,null,"Nagy Lorincz","Carei"]
[null,null,null,null,null,null,null,null,null,null,null,null,null,null,null,null,null,null,null,"Nagy Robert","Odorheiu Secuiesc"]
[null,null,null,null,null,null,null,null,null,null,null,null,null,null,null,null,null,null,null,"Nani Mihai","Moldova-Chisinau"]
[null,null,null,null,null,null,null,null,null,null,null,null,null,null,null,null,null,null,null,"Nani Stanislav","Moldova-Chisinau"]
[null,null,null,null,null,null,null,null,null,null,null,null,null,null,null,null,null,null,null,"Nania Vlad","Vaslui"]
[null,null,null,null,null,null,null,null,null,null,null,null,null,null,null,null,null,null,null,"Narcis Radu","Dej"]
[null,null,null,null,null,null,null,null,null,null,null,null,null,null,null,null,null,null,null,"Nascu Serban","Cluj Napoca"]
[null,null,null,null,null,null,null,null,null,null,null,null,null,null,null,null,null,null,null,"Nastasa Sergiu","Iasi"]
[null,null,null,null,null,null,null,null,null,null,null,null,null,null,null,null,null,null,null,"Nastase Cosmin","Ramnicu Sarat"]
[null,null,null,null,null,null,null,null,null,null,null,null,null,null,null,null,null,null,null,"Nastase Laurentiu","Arad"]
[null,null,null,null,null,null,null,null,null,null,null,null,null,null,null,null,null,null,null,"Nastic Branko","Ilandza"]
[null,null,null,null,null,null,null,null,null,null,null,null,null,null,null,null,null,null,null,"Natishansky Hamou Lavi","Israel"]
[null,null,null,null,null,null,null,null,null,null,null,null,null,null,null,null,null,null,null,"Nazare Mircea","Iasi"]
[null,null,null,null,null,null,null,null,null,null,null,null,null,null,null,null,null,null,null,"Neag Ioan","Timisoara"]
[null,null,null,null,null,null,null,null,null,null,null,null,null,null,null,null,null,null,null,"Neagoe Catalin","Timisoara"]
[null,null,null,null,null,null,null,null,null,null,null,null,null,null,null,null,null,null,null,"Neagoe Costin","Bucuresti"]
[null,null,null,null,null,null,null,null,null,null,null,null,null,null,null,null,null,null,null,"Neagoe Iulian","Timisoara"]
[null,null,null,null,null,null,null,null,null,null,null,null,null,null,null,null,null,null,null,"Neagu Alexandru","Targoviste"]
[null,null,null,null,null,null,null,null,null,null,null,null,null,null,null,null,null,null,null,"Neagu Ana","Buzau"]
[null,null,null,null,null,null,null,null,null,null,null,null,null,null,null,null,null,null,null,"Neagu Dorin Damian","Iasi"]
[null,null,null,null,null,null,null,null,null,null,null,null,null,null,null,null,null,null,null,"Neagu Dumitru","Branceni"]
[null,null,null,null,null,null,null,null,null,null,null,null,null,null,null,null,null,null,null,"Neagu Ioan Adrian","Slatina Timis"]
[null,null,null,null,null,null,null,null,null,null,null,null,null,null,null,null,null,null,null,"Neagu Mihai","Iasi"]
[null,null,null,null,null,null,null,null,null,null,null,null,null,null,null,null,null,null,null,"Neagu Mircea","Iasi"]
[null,null,null,null,null,null,null,null,null,null,null,null,null,null,null,null,null,null,null,"Neagu Nicolae Valentin","Alexandria"]
[null,null,null,null,null,null,null,null,null,null,null,null,null,null,null,null,null,null,null,"Neamt Doru","Arad"]
[null,null,null,null,null,null,null,null,null,null,null,null,null,null,null,null,null,null,null,"Neamtu Marius","Campia Turzii"]
[null,null,null,null,null,null,null,null,null,null,null,null,null,null,null,null,null,null,null,"Nebesnai Mihail","Moldova-Chisinau"]
[null,null,null,null,null,null,null,null,null,null,null,null,null,null,null,null,null,null,null,"Nechifor Constantin","Navodari"]
[null,null,null,null,null,null,null,null,null,null,null,null,null,null,null,null,null,null,null,"Necsoiu Georgiana","Videle"]
[null,null,null,null,null,null,null,null,null,null,null,null,null,null,null,null,null,null,null,"Necula Daniel","Dej"]
[null,null,null,null,null,null,null,null,null,null,null,null,null,null,null,null,null,null,null,"Neculaes Antonio","Pascani"]
[null,null,null,null,null,null,null,null,null,null,null,null,null,null,null,null,null,null,null,"Neculaes Francisc","Halaucesti"]
[null,null,null,null,null,null,null,null,null,null,null,null,null,null,null,null,null,null,null,"Neculai Valentin","Focsani"]
[null,null,null,null,null,null,null,null,null,null,null,null,null,null,null,null,null,null,null,"Neculaiu Vasile","Braila"]
[null,null,null,null,null,null,null,null,null,null,null,null,null,null,null,null,null,null,null,"Neculcea Alexandru","Moreni"]
[null,null,null,null,null,null,null,null,null,null,null,null,null,null,null,null,null,null,null,"Nedealcova Daria","Moldova-Avdarma"]
[null,null,null,null,null,null,null,null,null,null,null,null,null,null,null,null,null,null,null,"Nedelcu Florin","Bucuresti"]
[null,null,null,null,null,null,null,null,null,null,null,null,null,null,null,null,null,null,null,"Nedelcu Marian","Sinaia"]
[null,null,null,null,null,null,null,null,null,null,null,null,null,null,null,null,null,null,null,"Nedu Ionut Alexandru","Calarasi"]
[null,null,null,null,null,null,null,null,null,null,null,null,null,null,null,null,null,null,null,"Negrea Olimpiu","Otelu Rosu"]
[null,null,null,null,null,null,null,null,null,null,null,null,null,null,null,null,null,null,null,"Negrea Petrut","Comanesti"]
[null,null,null,null,null,null,null,null,null,null,null,null,null,null,null,null,null,null,null,"Negrean Ioan","Sibiu"]
[null,null,null,null,null,null,null,null,null,null,null,null,null,null,null,null,null,null,null,"Negritu Miruna","Campulung Muscel"]
[null,null,null,null,null,null,null,null,null,null,null,null,null,null,null,null,null,null,null,"Negru Marius","Deva"]
[null,null,null,null,null,null,null,null,null,null,null,null,null,null,null,null,null,null,null,"Negulescu Cristi","Sinaia"]
[null,null,null,null,null,null,null,null,null,null,null,null,null,null,null,null,null,null,null,"Negulescu Florin Adrian","Bucuresti"]
[null,null,null,null,null,null,null,null,null,null,null,null,null,null,null,null,null,null,null,"Negulescu Ioan","Ramnicu Valcea"]
[null,null,null,null,null,null,null,null,null,null,null,null,null,null,null,null,null,null,null,"Neica Sorin","Brasov"]
[null,null,null,null,null,null,null,null,null,null,null,null,null,null,null,null,null,null,null,"Neicu Gheorghe","Bucuresti"]
[null,null,null,null,null,null,null,null,null,null,null,null,null,null,null,null,null,null,null,"Nemaciuc Ovidiu","Suceava"]
[null,null,null,null,null,null,null,null,null,null,null,null,null,null,null,null,null,null,null,"Nemet Istvan Levente","Delenii"]
[null,null,null,null,null,null,null,null,null,null,null,null,null,null,null,null,null,null,null,"Nemeth Alesia","Dumbravita"]
[null,null,null,null,null,null,null,null,null,null,null,null,null,null,null,null,null,null,null,"Nemeti Gavril","Baia Mare"]
[null,null,null,null,null,null,null,null,null,null,null,null,null,null,null,null,null,null,null,"Nemeti Zoltan","Oradea"]
[null,null,null,null,null,null,null,null,null,null,null,null,null,null,null,null,null,null,null,"Nguyen Thien","Bucuresti"]
[null,null,null,null,null,null,null,null,null,null,null,null,null,null,null,null,null,null,null,"Ni Alena","Moldova-Chisinau"]
[null,null,null,null,null,null,null,null,null,null,null,null,null,null,null,null,null,null,null,"Nica Sebastian","Bucuresti"]
[null,null,null,null,null,null,null,null,null,null,null,null,null,null,null,null,null,null,null,"Nica Vladimir","Branesti DB"]
[null,null,null,null,null,null,null,null,null,null,null,null,null,null,null,null,null,null,null,"Nichifor Dorin","Bucuresti"]
[null,null,null,null,null,null,null,null,null,null,null,null,null,null,null,null,null,null,null,"Nichifor Ianis","Bucuresti"]
[null,null,null,null,null,null,null,null,null,null,null,null,null,null,null,null,null,null,null,"Nicik Ilia","Moldova-Balti"]
[null,null,null,null,null,null,null,null,null,null,null,null,null,null,null,null,null,null,null,"Nicoara Doru","Arad"]
[null,null,null,null,null,null,null,null,null,null,null,null,null,null,null,null,null,null,null,"Nicoara Victor","Faget"]
[null,null,null,null,null,null,null,null,null,null,null,null,null,null,null,null,null,null,null,"Nicola Marian","Constanta"]
[null,null,null,null,null,null,null,null,null,null,null,null,null,null,null,null,null,null,null,"Nicolae Alyn","Bucuresti"]
[null,null,null,null,null,null,null,null,null,null,null,null,null,null,null,null,null,null,null,"Nicolae Daniel","Bucuresti"]
[null,null,null,null,null,null,null,null,null,null,null,null,null,null,null,null,null,null,null,"Nicolae Eugen Ninel","Videle"]
[null,null,null,null,null,null,null,null,null,null,null,null,null,null,null,null,null,null,null,"Nicolae Ionut","Ploiesti"]
[null,null,null,null,null,null,null,null,null,null,null,null,null,null,null,null,null,null,null,"Nicolae Sorin","Targoviste"]
[null,null,null,null,null,null,null,null,null,null,null,null,null,null,null,null,null,null,null,"Nicolae Sorinel","Targoviste"]
[null,null,null,null,null,null,null,null,null,null,null,null,null,null,null,null,null,null,null,"Nicolaev Valerii","Moldova-Cazaclia"]
[null,null,null,null,null,null,null,null,null,null,null,null,null,null,null,null,null,null,null,"Nicolaiciuc Ovidiu Sebastian","Iasi"]
[null,null,null,null,null,null,null,null,null,null,null,null,null,null,null,null,null,null,null,"Nicu Constantin","Iasi"]
[null,null,null,null,null,null,null,null,null,null,null,null,null,null,null,null,null,null,null,"Nicula Daniel","Petru Rares"]
[null,null,null,null,null,null,null,null,null,null,null,null,null,null,null,null,null,null,null,"Nicula Silviu","Curtea de Arges"]
[null,null,null,null,null,null,null,null,null,null,null,null,null,null,null,null,null,null,null,"Niculache Chirica","Tulcea"]
[null,null,null,null,null,null,null,null,null,null,null,null,null,null,null,null,null,null,null,"Niculae Liviu","Bucuresti"]
[null,null,null,null,null,null,null,null,null,null,null,null,null,null,null,null,null,null,null,"Niculescu Daniel","Pitesti"]
[null,null,null,null,null,null,null,null,null,null,null,null,null,null,null,null,null,null,null,"Niculescu Marcel","Arad"]
[null,null,null,null,null,null,null,null,null,null,null,null,null,null,null,null,null,null,null,"Niculescu Marin","Bucuresti"]
[null,null,null,null,null,null,null,null,null,null,null,null,null,null,null,null,null,null,null,"Nicusan Claudiu","Sibiu"]
[null,null,null,null,null,null,null,null,null,null,null,null,null,null,null,null,null,null,null,"Nicusan Razvan","Targu Mures"]
[null,null,null,null,null,null,null,null,null,null,null,null,null,null,null,null,null,null,null,"Nicusor Dan","Bucuresti"]
[null,null,null,null,null,null,null,null,null,null,null,null,null,null,null,null,null,null,null,"Nicut Valentin","Curtea de Arges"]
[null,null,null,null,null,null,null,null,null,null,null,null,null,null,null,null,null,null,null,"Nierges Ioan","Cluj Napoca"]
[null,null,null,null,null,null,null,null,null,null,null,null,null,null,null,null,null,null,null,"Nierges Pavel","Cluj Napoca"]
[null,null,null,null,null,null,null,null,null,null,null,null,null,null,null,null,null,null,null,"Nistor Alexandru","Suceava"]
[null,null,null,null,null,null,null,null,null,null,null,null,null,null,null,null,null,null,null,"Nistor Alin","Bucuresti"]
[null,null,null,null,null,null,null,null,null,null,null,null,null,null,null,null,null,null,null,"Nistor Costel","Galati"]
[null,null,null,null,null,null,null,null,null,null,null,null,null,null,null,null,null,null,null,"Nistor Cristian","Rasca"]
[null,null,null,null,null,null,null,null,null,null,null,null,null,null,null,null,null,null,null,"Nistor Florin","Comanesti"]
[null,null,null,null,null,null,null,null,null,null,null,null,null,null,null,null,null,null,null,"Nistor Iosif","Miercurea Ciuc"]
[null,null,null,null,null,null,null,null,null,null,null,null,null,null,null,null,null,null,null,"Nistoroiu Alexandru","Bucuresti"]
[null,null,null,null,null,null,null,null,null,null,null,null,null,null,null,null,null,null,null,"Nisulescu Constantin","Bucuresti"]
[null,null,null,null,null,null,null,null,null,null,null,null,null,null,null,null,null,null,null,"Nita Alin","Bucuresti"]
[null,null,null,null,null,null,null,null,null,null,null,null,null,null,null,null,null,null,null,"Nita Darius","Videle"]
[null,null,null,null,null,null,null,null,null,null,null,null,null,null,null,null,null,null,null,"Nitoiu Constantin Raul","Brasov"]
[null,null,null,null,null,null,null,null,null,null,null,null,null,null,null,null,null,null,null,"Nitu Adrian","Sibiu"]
[null,null,null,null,null,null,null,null,null,null,null,null,null,null,null,null,null,null,null,"Nitu Gheorghe","Craiova"]
[null,null,null,null,null,null,null,null,null,null,null,null,null,null,null,null,null,null,null,"Nitu Serban","Ploiesti"]
[null,null,null,null,null,null,null,null,null,null,null,null,null,null,null,null,null,null,null,"Nitu Sorin","Brazi"]
[null,null,null,null,null,null,null,null,null,null,null,null,null,null,null,null,null,null,null,"Nitu Victor","Slobozia"]
[null,null,null,null,null,null,null,null,null,null,null,null,null,null,null,null,null,null,null,"Novac Adrian","Oradea"]
[null,null,null,null,null,null,null,null,null,null,null,null,null,null,null,null,null,null,null,"Novac Brani","Drobeta Tr Severin"]
[null,null,null,null,null,null,null,null,null,null,null,null,null,null,null,null,null,null,null,"Novitchi Daniel","Moldova-Cahul"]
[null,null,null,null,null,null,null,null,null,null,null,null,null,null,null,null,null,null,null,"Nuca Ion","Moldova-Chisinau"]
[null,null,null,null,null,null,null,null,null,null,null,null,null,null,null,null,null,null,null,"Nuta Petru","Sibiu"]
[null,null,null,null,null,null,null,null,null,null,null,null,null,null,null,null,null,null,null,"Nutu Catalin","Targu Neamt"]
[null,null,null,null,null,null,null,null,null,null,null,null,null,null,null,null,null,null,null,"Oana Alexandru","Barlad"]
[null,null,null,null,null,null,null,null,null,null,null,null,null,null,null,null,null,null,null,"Oana Ion Petru","Cernavoda"]
[null,null,null,null,null,null,null,null,null,null,null,null,null,null,null,null,null,null,null,"Oancea Marian","Bacau"]
[null,null,null,null,null,null,null,null,null,null,null,null,null,null,null,null,null,null,null,"Oancea Vasile","Buzau"]
[null,null,null,null,null,null,null,null,null,null,null,null,null,null,null,null,null,null,null,"Obis Akos","Berveni"]
[null,null,null,null,null,null,null,null,null,null,null,null,null,null,null,null,null,null,null,"Obradovic Vojimir","Kovin"]
[null,null,null,null,null,null,null,null,null,null,null,null,null,null,null,null,null,null,null,"Ochian Andrei","Botosani"]
[null,null,null,null,null,null,null,null,null,null,null,null,null,null,null,null,null,null,null,"Ocu Ioan","Botosani"]
[null,null,null,null,null,null,null,null,null,null,null,null,null,null,null,null,null,null,null,"Ogrinji Nicu","Iasi"]
[null,null,null,null,null,null,null,null,null,null,null,null,null,null,null,null,null,null,null,"Ogrutan Marius","Cluj Napoca"]
[null,null,null,null,null,null,null,null,null,null,null,null,null,null,null,null,null,null,null,"Ojog Petrisor","Bacau"]
[null,null,null,null,null,null,null,null,null,null,null,null,null,null,null,null,null,null,null,"Olah Remus","Arad"]
[null,null,null,null,null,null,null,null,null,null,null,null,null,null,null,null,null,null,null,"Olahut Mirel","Baia Mare"]
[null,null,null,null,null,null,null,null,null,null,null,null,null,null,null,null,null,null,null,"Olahut Rares","Baia Mare"]
[null,null,null,null,null,null,null,null,null,null,null,null,null,null,null,null,null,null,null,"Olaru Costin","Bucuresti"]
[null,null,null,null,null,null,null,null,null,null,null,null,null,null,null,null,null,null,null,"Olaru Cristian","Targoviste"]
[null,null,null,null,null,null,null,null,null,null,null,null,null,null,null,null,null,null,null,"Olaru Mara","Floresti"]
[null,null,null,null,null,null,null,null,null,null,null,null,null,null,null,null,null,null,null,"Olaru Mara","Cluj Napoca"]
[null,null,null,null,null,null,null,null,null,null,null,null,null,null,null,null,null,null,null,"Oleinic Cosmin","Moldova-Edinet"]
[null,null,null,null,null,null,null,null,null,null,null,null,null,null,null,null,null,null,null,"Oleinic Denis","Moldova-Edinet"]
[null,null,null,null,null,null,null,null,null,null,null,null,null,null,null,null,null,null,null,"Oltean Mihai","Sibiu"]
[null,null,null,null,null,null,null,null,null,null,null,null,null,null,null,null,null,null,null,"Oltean Raul","Baia Mare"]
[null,null,null,null,null,null,null,null,null,null,null,null,null,null,null,null,null,null,null,"Olteanu Gabriel","Vaslui"]
[null,null,null,null,null,null,null,null,null,null,null,null,null,null,null,null,null,null,null,"Olteanu Valentin Mihai","Buzau"]
[null,null,null,null,null,null,null,null,null,null,null,null,null,null,null,null,null,null,null,"Oman Emre","Constanta"]
[null,null,null,null,null,null,null,null,null,null,null,null,null,null,null,null,null,null,null,"Omeliciuc Anastasia","Ucraina-Umani"]
[null,null,null,null,null,null,null,null,null,null,null,null,null,null,null,null,null,null,null,"Onet Nicolae","Sighisoara"]
[null,null,null,null,null,null,null,null,null,null,null,null,null,null,null,null,null,null,null,"Onica Elisa","Brasov"]
[null,null,null,null,null,null,null,null,null,null,null,null,null,null,null,null,null,null,null,"Oniga Alin","Arad"]
[null,null,null,null,null,null,null,null,null,null,null,null,null,null,null,null,null,null,null,"Oniga Catalin","Dej"]
[null,null,null,null,null,null,null,null,null,null,null,null,null,null,null,null,null,null,null,"Oniga Constantin","Iasi"]
[null,null,null,null,null,null,null,null,null,null,null,null,null,null,null,null,null,null,null,"Oniga Florin","Alba Iulia"]
[null,null,null,null,null,null,null,null,null,null,null,null,null,null,null,null,null,null,null,"Oniga Viviana","Alba Iulia"]
[null,null,null,null,null,null,null,null,null,null,null,null,null,null,null,null,null,null,null,"Onigas Ionica","Bistrita"]
[null,null,null,null,null,null,null,null,null,null,null,null,null,null,null,null,null,null,null,"Onofrei Dan","Oradea"]
[null,null,null,null,null,null,null,null,null,null,null,null,null,null,null,null,null,null,null,"Onofrei Ionut","Iasi"]
[null,null,null,null,null,null,null,null,null,null,null,null,null,null,null,null,null,null,null,"Onofrei Petru","Gherla"]
[null,null,null,null,null,null,null,null,null,null,null,null,null,null,null,null,null,null,null,"Onofreiciuc Dranca Bogdan","Radauti"]
[null,null,null,null,null,null,null,null,null,null,null,null,null,null,null,null,null,null,null,"Ontiu Mircea","Tautii Magheraus"]
[null,null,null,null,null,null,null,null,null,null,null,null,null,null,null,null,null,null,null,"Ontoiu Catalin","Pitesti"]
[null,null,null,null,null,null,null,null,null,null,null,null,null,null,null,null,null,null,null,"Onute Marius","Zalau"]
[null,null,null,null,null,null,null,null,null,null,null,null,null,null,null,null,null,null,null,"Opincaru Marius","Piatra Neamt"]
[null,null,null,null,null,null,null,null,null,null,null,null,null,null,null,null,null,null,null,"Opran Gavril","Bucuresti"]
[null,null,null,null,null,null,null,null,null,null,null,null,null,null,null,null,null,null,null,"Oprea Adrian","Lugoj"]
[null,null,null,null,null,null,null,null,null,null,null,null,null,null,null,null,null,null,null,"Oprea Bogdan","Videle"]
[null,null,null,null,null,null,null,null,null,null,null,null,null,null,null,null,null,null,null,"Oprea Bogdan Andrei","Cluj Napoca"]
[null,null,null,null,null,null,null,null,null,null,null,null,null,null,null,null,null,null,null,"Oprea Emanuel","Bucuresti"]
[null,null,null,null,null,null,null,null,null,null,null,null,null,null,null,null,null,null,null,"Oprea Ionut","Constanta"]
[null,null,null,null,null,null,null,null,null,null,null,null,null,null,null,null,null,null,null,"Oprea Marian","Bucuresti"]
[null,null,null,null,null,null,null,null,null,null,null,null,null,null,null,null,null,null,null,"Oprea Ramona","Brasov"]
[null,null,null,null,null,null,null,null,null,null,null,null,null,null,null,null,null,null,null,"Oprean Andrei","Brad"]
[null,null,null,null,null,null,null,null,null,null,null,null,null,null,null,null,null,null,null,"Oprean Cezar","Cisnadie"]
[null,null,null,null,null,null,null,null,null,null,null,null,null,null,null,null,null,null,null,"Oprica Stefan","Sibiu"]
[null,null,null,null,null,null,null,null,null,null,null,null,null,null,null,null,null,null,null,"Oprinca Mariana","Targu Mures"]
[null,null,null,null,null,null,null,null,null,null,null,null,null,null,null,null,null,null,null,"Opris Andrei","Zalau"]
[null,null,null,null,null,null,null,null,null,null,null,null,null,null,null,null,null,null,null,"Oprita Miruna","Nasaud"]
[null,null,null,null,null,null,null,null,null,null,null,null,null,null,null,null,null,null,null,"Orac Teodor","Slobozia"]
[null,null,null,null,null,null,null,null,null,null,null,null,null,null,null,null,null,null,null,"Oranceanu Andrei","Cluj Napoca"]
[null,null,null,null,null,null,null,null,null,null,null,null,null,null,null,null,null,null,null,"Orban Adrian","Apahida"]
[null,null,null,null,null,null,null,null,null,null,null,null,null,null,null,null,null,null,null,"Orban Alexandru","Lugoj"]
[null,null,null,null,null,null,null,null,null,null,null,null,null,null,null,null,null,null,null,"Orban Darius","Siret"]
[null,null,null,null,null,null,null,null,null,null,null,null,null,null,null,null,null,null,null,"Orban Koppany","Sovata"]
[null,null,null,null,null,null,null,null,null,null,null,null,null,null,null,null,null,null,null,"Orban Madalina","Siret"]
[null,null,null,null,null,null,null,null,null,null,null,null,null,null,null,null,null,null,null,"Orban Marius","Lugoj"]
[null,null,null,null,null,null,null,null,null,null,null,null,null,null,null,null,null,null,null,"Orban Zsolt","Miercurea Ciuc"]
[null,null,null,null,null,null,null,null,null,null,null,null,null,null,null,null,null,null,null,"Orga Adrian","Ludus"]
[null,null,null,null,null,null,null,null,null,null,null,null,null,null,null,null,null,null,null,"Orga Vasile","Ludus"]
[null,null,null,null,null,null,null,null,null,null,null,null,null,null,null,null,null,null,null,"Orosan Vasile","Ludus"]
[null,null,null,null,null,null,null,null,null,null,null,null,null,null,null,null,null,null,null,"Orosz Attila","Miercurea Ciuc"]
[null,null,null,null,null,null,null,null,null,null,null,null,null,null,null,null,null,null,null,"Orosz Silviu","Dumbraveni SB"]
[null,null,null,null,null,null,null,null,null,null,null,null,null,null,null,null,null,null,null,"Osipov Dmitrii","Moldova-Comrat"]
[null,null,null,null,null,null,null,null,null,null,null,null,null,null,null,null,null,null,null,"Osman Levent","Constanta"]
[null,null,null,null,null,null,null,null,null,null,null,null,null,null,null,null,null,null,null,"Osman Metin","Tulcea"]
[null,null,null,null,null,null,null,null,null,null,null,null,null,null,null,null,null,null,null,"Ostrovanu Cosmin","Suceava"]
[null,null,null,null,null,null,null,null,null,null,null,null,null,null,null,null,null,null,null,"Otel Daniel","Craiova"]
[null,null,null,null,null,null,null,null,null,null,null,null,null,null,null,null,null,null,null,"Otoiu Constantin","Alba Iulia"]
[null,null,null,null,null,null,null,null,null,null,null,null,null,null,null,null,null,null,null,"Pacurar Teodor","Gherla"]
[null,null,null,null,null,null,null,null,null,null,null,null,null,null,null,null,null,null,null,"Pacuraru Cristian","Suceava"]
[null,null,null,null,null,null,null,null,null,null,null,null,null,null,null,null,null,null,null,"Padurariu Ciprian","Roman"]
[null,null,null,null,null,null,null,null,null,null,null,null,null,null,null,null,null,null,null,"Padurariu Costel","Brasov"]
[null,null,null,null,null,null,null,null,null,null,null,null,null,null,null,null,null,null,null,"Paduraru Mihnea","Brasov"]
[null,null,null,null,null,null,null,null,null,null,null,null,null,null,null,null,null,null,null,"Padure Andrei","Agnita"]
[null,null,null,null,null,null,null,null,null,null,null,null,null,null,null,null,null,null,null,"Padurean Cornel","Blaj"]
[null,null,null,null,null,null,null,null,null,null,null,null,null,null,null,null,null,null,null,"Padurean Mircea","Resita"]
[null,null,null,null,null,null,null,null,null,null,null,null,null,null,null,null,null,null,null,"Paduret Andrei","Bacau"]
[null,null,null,null,null,null,null,null,null,null,null,null,null,null,null,null,null,null,null,"Paduret Nina","Moldova-Chisinau"]
[null,null,null,null,null,null,null,null,null,null,null,null,null,null,null,null,null,null,null,"Paiu Razvan","Brasov"]
[null,null,null,null,null,null,null,null,null,null,null,null,null,null,null,null,null,null,null,"Paius Daniel","Suceava"]
[null,null,null,null,null,null,null,null,null,null,null,null,null,null,null,null,null,null,null,"Pal Abel","Sfantu Gheorghe"]
[null,null,null,null,null,null,null,null,null,null,null,null,null,null,null,null,null,null,null,"Pal Albert","Satu Mare"]
[null,null,null,null,null,null,null,null,null,null,null,null,null,null,null,null,null,null,null,"Pal Nandor","Miercurea Ciuc"]
[null,null,null,null,null,null,null,null,null,null,null,null,null,null,null,null,null,null,null,"Pal Norbert","Joseni"]
[null,null,null,null,null,null,null,null,null,null,null,null,null,null,null,null,null,null,null,"Pal Szilard","Miercurea Ciuc"]
[null,null,null,null,null,null,null,null,null,null,null,null,null,null,null,null,null,null,null,"Pal Zoltan","Miercurea Ciuc"]
[null,null,null,null,null,null,null,null,null,null,null,null,null,null,null,null,null,null,null,"Paladuta Victor","Timisoara"]
[null,null,null,null,null,null,null,null,null,null,null,null,null,null,null,null,null,null,null,"Palaghianu David","Salcea"]
[null,null,null,null,null,null,null,null,null,null,null,null,null,null,null,null,null,null,null,"Palaina Nicolae","Curtea de Arges"]
[null,null,null,null,null,null,null,null,null,null,null,null,null,null,null,null,null,null,null,"Palangean Iris","Giurgiu"]
[null,null,null,null,null,null,null,null,null,null,null,null,null,null,null,null,null,null,null,"Palaviceanu David","Botosani"]
[null,null,null,null,null,null,null,null,null,null,null,null,null,null,null,null,null,null,null,"Palencsar Nicolae","Satu Mare"]
[null,null,null,null,null,null,null,null,null,null,null,null,null,null,null,null,null,null,null,"Pall Roland","Tarnaveni"]
[null,null,null,null,null,null,null,null,null,null,null,null,null,null,null,null,null,null,null,"Pallo Zoltan","Sighisoara"]
[null,null,null,null,null,null,null,null,null,null,null,null,null,null,null,null,null,null,null,"Pamfilie Cristi","Ludus"]
[null,null,null,null,null,null,null,null,null,null,null,null,null,null,null,null,null,null,null,"Pamfilie Horatiu","Ludus"]
[null,null,null,null,null,null,null,null,null,null,null,null,null,null,null,null,null,null,null,"Pana Marcel","Vaslui"]
[null,null,null,null,null,null,null,null,null,null,null,null,null,null,null,null,null,null,null,"Panait Adrian","Braila"]
[null,null,null,null,null,null,null,null,null,null,null,null,null,null,null,null,null,null,null,"Panaitescu Stefan","Izvoarele"]
[null,null,null,null,null,null,null,null,null,null,null,null,null,null,null,null,null,null,null,"Pancrat Cristian","Brasov"]
[null,null,null,null,null,null,null,null,null,null,null,null,null,null,null,null,null,null,null,"Pandele Ionel","Giurgiu"]
[null,null,null,null,null,null,null,null,null,null,null,null,null,null,null,null,null,null,null,"Pandelescu Eduard","Bucuresti"]
[null,null,null,null,null,null,null,null,null,null,null,null,null,null,null,null,null,null,null,"Panea Ovidiu","Bucuresti"]
[null,null,null,null,null,null,null,null,null,null,null,null,null,null,null,null,null,null,null,"Panic Dejan","Ram"]
[null,null,null,null,null,null,null,null,null,null,null,null,null,null,null,null,null,null,null,"Pantelimon Alexandru","Ploiesti"]
[null,null,null,null,null,null,null,null,null,null,null,null,null,null,null,null,null,null,null,"Pantelimon Andi","Bucuresti"]
[null,null,null,null,null,null,null,null,null,null,null,null,null,null,null,null,null,null,null,"Pap Sandor","Cristuru Secuiesc"]
[null,null,null,null,null,null,null,null,null,null,null,null,null,null,null,null,null,null,null,"Papacu Bejoli","Bucuresti"]
[null,null,null,null,null,null,null,null,null,null,null,null,null,null,null,null,null,null,null,"Papadopol Alexandru","Brasov"]
[null,null,null,null,null,null,null,null,null,null,null,null,null,null,null,null,null,null,null,"Papuc David","Bucuresti"]
[null,null,null,null,null,null,null,null,null,null,null,null,null,null,null,null,null,null,null,"Parasca Dumitru","Radauti"]
[null,null,null,null,null,null,null,null,null,null,null,null,null,null,null,null,null,null,null,"Paraschiv Mihai","Targu Neamt"]
[null,null,null,null,null,null,null,null,null,null,null,null,null,null,null,null,null,null,null,"Paris Ianis Nicolas","Navodari"]
[null,null,null,null,null,null,null,null,null,null,null,null,null,null,null,null,null,null,null,"Parjol Rares","Cluj Napoca"]
[null,null,null,null,null,null,null,null,null,null,null,null,null,null,null,null,null,null,null,"Parlog Florin","Bucuresti"]
[null,null,null,null,null,null,null,null,null,null,null,null,null,null,null,null,null,null,null,"Parnica Leonid","Moinesti"]
[null,null,null,null,null,null,null,null,null,null,null,null,null,null,null,null,null,null,null,"Parus Lilian","Oradea"]
[null,null,null,null,null,null,null,null,null,null,null,null,null,null,null,null,null,null,null,"Parvan Dumitru","Deva"]
[null,null,null,null,null,null,null,null,null,null,null,null,null,null,null,null,null,null,null,"Pasaila Marius George","Timisoara"]
[null,null,null,null,null,null,null,null,null,null,null,null,null,null,null,null,null,null,null,"Pasca Lucian","Targu Mures"]
[null,null,null,null,null,null,null,null,null,null,null,null,null,null,null,null,null,null,null,"Pascal Igor","Moldova"]
[null,null,null,null,null,null,null,null,null,null,null,null,null,null,null,null,null,null,null,"Pascal Raul","Targoviste"]
[null,null,null,null,null,null,null,null,null,null,null,null,null,null,null,null,null,null,null,"Pascariu Andrei Razvan","Iasi"]
[null,null,null,null,null,null,null,null,null,null,null,null,null,null,null,null,null,null,null,"Pascariu Cosmin","Suceava"]
[null,null,null,null,null,null,null,null,null,null,null,null,null,null,null,null,null,null,null,"Pascaru Tudor Andrei","Iasi"]
[null,null,null,null,null,null,null,null,null,null,null,null,null,null,null,null,null,null,null,"Pasconi Anton","Mintia"]
[null,null,null,null,null,null,null,null,null,null,null,null,null,null,null,null,null,null,null,"Pasconi Carmen","Mintia"]
[null,null,null,null,null,null,null,null,null,null,null,null,null,null,null,null,null,null,null,"Pasconi David","Hateg"]
[null,null,null,null,null,null,null,null,null,null,null,null,null,null,null,null,null,null,null,"Pascu Alin","Drobeta Tr Severin"]
[null,null,null,null,null,null,null,null,null,null,null,null,null,null,null,null,null,null,null,"Pascu Constantin","Slatina"]
[null,null,null,null,null,null,null,null,null,null,null,null,null,null,null,null,null,null,null,"Pascu Ioan","Targu Mures"]
[null,null,null,null,null,null,null,null,null,null,null,null,null,null,null,null,null,null,null,"Pascu Marian","Bucuresti"]
[null,null,null,null,null,null,null,null,null,null,null,null,null,null,null,null,null,null,null,"Pascu Rares","Targu Mures"]
[null,null,null,null,null,null,null,null,null,null,null,null,null,null,null,null,null,null,null,"Pascu Razvan","Magureni"]
[null,null,null,null,null,null,null,null,null,null,null,null,null,null,null,null,null,null,null,"Pasoveanu Silvian","Bucuresti"]
[null,null,null,null,null,null,null,null,null,null,null,null,null,null,null,null,null,null,null,"Pastiu Sorin","Cugir"]
[null,null,null,null,null,null,null,null,null,null,null,null,null,null,null,null,null,null,null,"Pasztor Gyorgy","Sovata"]
[null,null,null,null,null,null,null,null,null,null,null,null,null,null,null,null,null,null,null,"Pataki Albertina","Targu Mures"]
[null,null,null,null,null,null,null,null,null,null,null,null,null,null,null,null,null,null,null,"Pataki Janos","Satu Mare"]
[null,null,null,null,null,null,null,null,null,null,null,null,null,null,null,null,null,null,null,"Patapi Alexandru","Moldova-Balti"]
[null,null,null,null,null,null,null,null,null,null,null,null,null,null,null,null,null,null,null,"Patraru Dragos","Ploiesti"]
[null,null,null,null,null,null,null,null,null,null,null,null,null,null,null,null,null,null,null,"Patrascu Dorin","Pitesti"]
[null,null,null,null,null,null,null,null,null,null,null,null,null,null,null,null,null,null,null,"Patrascuta Tiberiu","Drobeta Tr Severin"]
[null,null,null,null,null,null,null,null,null,null,null,null,null,null,null,null,null,null,null,"Patraucean Alex","Vicovu de Sus"]
[null,null,null,null,null,null,null,null,null,null,null,null,null,null,null,null,null,null,null,"Patru Alin","Curtea de Arges"]
[null,null,null,null,null,null,null,null,null,null,null,null,null,null,null,null,null,null,null,"Patru Gabriel","Popesti Leordeni"]
[null,null,null,null,null,null,null,null,null,null,null,null,null,null,null,null,null,null,null,"Pauca Cosmin","Botosani"]
[null,null,null,null,null,null,null,null,null,null,null,null,null,null,null,null,null,null,null,"Paul Alin Sabin","Sandra"]
[null,null,null,null,null,null,null,null,null,null,null,null,null,null,null,null,null,null,null,"Paul Horatiu","Alba Iulia"]
[null,null,null,null,null,null,null,null,null,null,null,null,null,null,null,null,null,null,null,"Paul Marian","Gherla"]
[null,null,null,null,null,null,null,null,null,null,null,null,null,null,null,null,null,null,null,"Paulette Briana","Blaj"]
[null,null,null,null,null,null,null,null,null,null,null,null,null,null,null,null,null,null,null,"Paun Carmen","Alexandria"]
[null,null,null,null,null,null,null,null,null,null,null,null,null,null,null,null,null,null,null,"Paun Maria","Giurgiu"]
[null,null,null,null,null,null,null,null,null,null,null,null,null,null,null,null,null,null,null,"Paun Viorel Dan","Sag"]
[null,null,null,null,null,null,null,null,null,null,null,null,null,null,null,null,null,null,null,"Paunas Raul","Navodari"]
[null,null,null,null,null,null,null,null,null,null,null,null,null,null,null,null,null,null,null,"Paunescu Antonia","Giarmata"]
[null,null,null,null,null,null,null,null,null,null,null,null,null,null,null,null,null,null,null,"Paunescu David Stefan","Bucuresti"]
[null,null,null,null,null,null,null,null,null,null,null,null,null,null,null,null,null,null,null,"Paunescu Viorel Evelin","Targu Jiu"]
[null,null,null,null,null,null,null,null,null,null,null,null,null,null,null,null,null,null,null,"Pausian Claudiu","Cluj Napoca"]
[null,null,null,null,null,null,null,null,null,null,null,null,null,null,null,null,null,null,null,"Paval Mihai","Iasi"]
[null,null,null,null,null,null,null,null,null,null,null,null,null,null,null,null,null,null,null,"Pavaliceanu David","Botosani"]
[null,null,null,null,null,null,null,null,null,null,null,null,null,null,null,null,null,null,null,"Pavel Bianca","Iasi"]
[null,null,null,null,null,null,null,null,null,null,null,null,null,null,null,null,null,null,null,"Pavel Catalin","Iasi"]
[null,null,null,null,null,null,null,null,null,null,null,null,null,null,null,null,null,null,null,"Pavel Cristian","Hunedoara"]
[null,null,null,null,null,null,null,null,null,null,null,null,null,null,null,null,null,null,null,"Pavel Florin","Bucuresti"]
[null,null,null,null,null,null,null,null,null,null,null,null,null,null,null,null,null,null,null,"Pavel Nicolae","Braila"]
[null,null,null,null,null,null,null,null,null,null,null,null,null,null,null,null,null,null,null,"Paven Andrei","Bistra"]
[null,null,null,null,null,null,null,null,null,null,null,null,null,null,null,null,null,null,null,"Pavliuc Daria","Moldova-Briceni"]
[null,null,null,null,null,null,null,null,null,null,null,null,null,null,null,null,null,null,null,"Pavlov Valentin","Moldova-Cahul"]
[null,null,null,null,null,null,null,null,null,null,null,null,null,null,null,null,null,null,null,"Pavlovic Igor","Belgrad"]
[null,null,null,null,null,null,null,null,null,null,null,null,null,null,null,null,null,null,null,"Pavlovic Vasilije","Sabac"]
[null,null,null,null,null,null,null,null,null,null,null,null,null,null,null,null,null,null,null,"Pavunev Dan","Bucuresti"]
[null,null,null,null,null,null,null,null,null,null,null,null,null,null,null,null,null,null,null,"Peiov Petru","Timisoara"]
[null,null,null,null,null,null,null,null,null,null,null,null,null,null,null,null,null,null,null,"Peiu Cosmin","Babadag"]
[null,null,null,null,null,null,null,null,null,null,null,null,null,null,null,null,null,null,null,"Pelcea Alexandru","Bucuresti"]
[null,null,null,null,null,null,null,null,null,null,null,null,null,null,null,null,null,null,null,"Pena Marian","Bucuresti"]
[null,null,null,null,null,null,null,null,null,null,null,null,null,null,null,null,null,null,null,"Penciuc Danut","Cluj Napoca"]
[null,null,null,null,null,null,null,null,null,null,null,null,null,null,null,null,null,null,null,"Pentescu Adrian","Constanta"]
[null,null,null,null,null,null,null,null,null,null,null,null,null,null,null,null,null,null,null,"Peptea Ionut","Ghirdoveni"]
[null,null,null,null,null,null,null,null,null,null,null,null,null,null,null,null,null,null,null,"Peric Jovica","Bela Crkva"]
[null,null,null,null,null,null,null,null,null,null,null,null,null,null,null,null,null,null,null,"Pertascu Damian","Moldova-Chisinau"]
[null,null,null,null,null,null,null,null,null,null,null,null,null,null,null,null,null,null,null,"Perte Calin","Oradea"]
[null,null,null,null,null,null,null,null,null,null,null,null,null,null,null,null,null,null,null,"Pestritu Stefan","Calarasi"]
[null,null,null,null,null,null,null,null,null,null,null,null,null,null,null,null,null,null,null,"Peta Octavian","Cluj Napoca"]
[null,null,null,null,null,null,null,null,null,null,null,null,null,null,null,null,null,null,null,"Petcu Nicolas","Buhusi"]
[null,null,null,null,null,null,null,null,null,null,null,null,null,null,null,null,null,null,null,"Petcu Sorin","Sibiu"]
[null,null,null,null,null,null,null,null,null,null,null,null,null,null,null,null,null,null,null,"Peter Laszlo","Ciumani"]
[null,null,null,null,null,null,null,null,null,null,null,null,null,null,null,null,null,null,null,"Peter Stefan","Arad"]
[null,null,null,null,null,null,null,null,null,null,null,null,null,null,null,null,null,null,null,"Petersi Nuri","Varset"]
[null,null,null,null,null,null,null,null,null,null,null,null,null,null,null,null,null,null,null,"Petho Katalin","Racosu de Sus"]
[null,null,null,null,null,null,null,null,null,null,null,null,null,null,null,null,null,null,null,"Petho Mihaly Jr","Racosu de Sus"]
[null,null,null,null,null,null,null,null,null,null,null,null,null,null,null,null,null,null,null,"Petho Nikolett","Racosu de Sus"]
[null,null,null,null,null,null,null,null,null,null,null,null,null,null,null,null,null,null,null,"Petra Ioan","Balan"]
[null,null,null,null,null,null,null,null,null,null,null,null,null,null,null,null,null,null,null,"Petrache Claudiu","Branesti"]
[null,null,null,null,null,null,null,null,null,null,null,null,null,null,null,null,null,null,null,"Petrache Codrut Costin","Ploiesti"]
[null,null,null,null,null,null,null,null,null,null,null,null,null,null,null,null,null,null,null,"Petrache Lucian","Bucuresti"]
[null,null,null,null,null,null,null,null,null,null,null,null,null,null,null,null,null,null,null,"Petrache Stefan","Blaj"]
[null,null,null,null,null,null,null,null,null,null,null,null,null,null,null,null,null,null,null,"Petrariu Sorin","Brasov"]
[null,null,null,null,null,null,null,null,null,null,null,null,null,null,null,null,null,null,null,"Petre Adrian","Bals"]
[null,null,null,null,null,null,null,null,null,null,null,null,null,null,null,null,null,null,null,"Petre Catalin","Bucuresti"]
[null,null,null,null,null,null,null,null,null,null,null,null,null,null,null,null,null,null,null,"Petre Gabriel","Bucuresti"]
[null,null,null,null,null,null,null,null,null,null,null,null,null,null,null,null,null,null,null,"Petrea Bogdan Andrei","Caransebes"]
[null,null,null,null,null,null,null,null,null,null,null,null,null,null,null,null,null,null,null,"Petrescu Claudiu","Putna"]
[null,null,null,null,null,null,null,null,null,null,null,null,null,null,null,null,null,null,null,"Petrescu Dragos","Bucuresti"]
[null,null,null,null,null,null,null,null,null,null,null,null,null,null,null,null,null,null,null,"Petric David","Timisoara"]
[null,null,null,null,null,null,null,null,null,null,null,null,null,null,null,null,null,null,null,"Petric Paul","Cluj Napoca"]
[null,null,null,null,null,null,null,null,null,null,null,null,null,null,null,null,null,null,null,"Petric Sorin","Satu Mare"]
[null,null,null,null,null,null,null,null,null,null,null,null,null,null,null,null,null,null,null,"Petrici Sergiu","Calan"]
[null,null,null,null,null,null,null,null,null,null,null,null,null,null,null,null,null,null,null,"Petrov Dan","Dobroesti"]
[null,null,null,null,null,null,null,null,null,null,null,null,null,null,null,null,null,null,null,"Petrov Daniel","Lovrin"]
[null,null,null,null,null,null,null,null,null,null,null,null,null,null,null,null,null,null,null,"Petrova Tatiana","Moldova-Chisinau"]
[null,null,null,null,null,null,null,null,null,null,null,null,null,null,null,null,null,null,null,"Petrovai Vasile","Baia Sprie"]
[null,null,null,null,null,null,null,null,null,null,null,null,null,null,null,null,null,null,null,"Petrovic Zeljko","Belgrad"]
[null,null,null,null,null,null,null,null,null,null,null,null,null,null,null,null,null,null,null,"Petrovici Momcilo","Kovin"]
[null,null,null,null,null,null,null,null,null,null,null,null,null,null,null,null,null,null,null,"Petru Razvan","Barlad"]
[null,null,null,null,null,null,null,null,null,null,null,null,null,null,null,null,null,null,null,"Petrus Florin","Zalau"]
[null,null,null,null,null,null,null,null,null,null,null,null,null,null,null,null,null,null,null,"Petrus Madalina","Videle"]
[null,null,null,null,null,null,null,null,null,null,null,null,null,null,null,null,null,null,null,"Petruse Adrian","Zalau"]
[null,null,null,null,null,null,null,null,null,null,null,null,null,null,null,null,null,null,null,"Petrut Andrei","Chisoda"]
[null,null,null,null,null,null,null,null,null,null,null,null,null,null,null,null,null,null,null,"Petrut Luminita","Targu Mures"]
[null,null,null,null,null,null,null,null,null,null,null,null,null,null,null,null,null,null,null,"Pica Horia","Fagaras"]
[null,null,null,null,null,null,null,null,null,null,null,null,null,null,null,null,null,null,null,"Pican Ion","Slatina"]
[null,null,null,null,null,null,null,null,null,null,null,null,null,null,null,null,null,null,null,"Picioroga Lucian","Galati"]
[null,null,null,null,null,null,null,null,null,null,null,null,null,null,null,null,null,null,null,"Picu Patric","Dumbravita"]
[null,null,null,null,null,null,null,null,null,null,null,null,null,null,null,null,null,null,null,"Piesciuc Darius","Siret"]
[null,null,null,null,null,null,null,null,null,null,null,null,null,null,null,null,null,null,null,"Pietraru Dorian","Victoria"]
[null,null,null,null,null,null,null,null,null,null,null,null,null,null,null,null,null,null,null,"Pintilie Cristi","Vaslui"]
[null,null,null,null,null,null,null,null,null,null,null,null,null,null,null,null,null,null,null,"Pintilie Maria","Iasi"]
[null,null,null,null,null,null,null,null,null,null,null,null,null,null,null,null,null,null,null,"Pinzaru Gabriel","Botosani"]
[null,null,null,null,null,null,null,null,null,null,null,null,null,null,null,null,null,null,null,"Piper Catalin","Targu Mures"]
[null,null,null,null,null,null,null,null,null,null,null,null,null,null,null,null,null,null,null,"Piper Petru","Luna CJ"]
[null,null,null,null,null,null,null,null,null,null,null,null,null,null,null,null,null,null,null,"Piperea Florin","Campina"]
[null,null,null,null,null,null,null,null,null,null,null,null,null,null,null,null,null,null,null,"Pirvanescu Daniel","Bucuresti"]
[null,null,null,null,null,null,null,null,null,null,null,null,null,null,null,null,null,null,null,"Pirvu Cristian","Mangalia"]
[null,null,null,null,null,null,null,null,null,null,null,null,null,null,null,null,null,null,null,"Pirvu Marian","Caracal"]
[null,null,null,null,null,null,null,null,null,null,null,null,null,null,null,null,null,null,null,"Pirvu Matei","Bucuresti"]
[null,null,null,null,null,null,null,null,null,null,null,null,null,null,null,null,null,null,null,"Pisceanschi Vladimir","Moldova-Chisinau"]
[null,null,null,null,null,null,null,null,null,null,null,null,null,null,null,null,null,null,null,"Piscoran Alexander","Baia Mare"]
[null,null,null,null,null,null,null,null,null,null,null,null,null,null,null,null,null,null,null,"Pisica Ionel","Slobozia"]
[null,null,null,null,null,null,null,null,null,null,null,null,null,null,null,null,null,null,null,"Pislariu Vlad","Dej"]
[null,null,null,null,null,null,null,null,null,null,null,null,null,null,null,null,null,null,null,"Pislaru Valeriu","Moldova-Chisinau"]
[null,null,null,null,null,null,null,null,null,null,null,null,null,null,null,null,null,null,null,"Pitu Ionut","Suceava"]
[null,null,null,null,null,null,null,null,null,null,null,null,null,null,null,null,null,null,null,"Plaias Krisztian","Targu Mures"]
[null,null,null,null,null,null,null,null,null,null,null,null,null,null,null,null,null,null,null,"Plaiasu Ion","Plopeni"]
[null,null,null,null,null,null,null,null,null,null,null,null,null,null,null,null,null,null,null,"Plamada Aurelian","Botosani"]
[null,null,null,null,null,null,null,null,null,null,null,null,null,null,null,null,null,null,null,"Plamada Iulian","Putna"]
[null,null,null,null,null,null,null,null,null,null,null,null,null,null,null,null,null,null,null,"Platon Mihai","Jurilovca"]
[null,null,null,null,null,null,null,null,null,null,null,null,null,null,null,null,null,null,null,"Plesca Leonard","Halaucesti"]
[null,null,null,null,null,null,null,null,null,null,null,null,null,null,null,null,null,null,null,"Plescaci Vitalie","Moldova-Chisinau"]
[null,null,null,null,null,null,null,null,null,null,null,null,null,null,null,null,null,null,null,"Plescov Leonid","Moldova-Chisinau"]
[null,null,null,null,null,null,null,null,null,null,null,null,null,null,null,null,null,null,null,"Plesoianu Stefan","Constanta"]
[null,null,null,null,null,null,null,null,null,null,null,null,null,null,null,null,null,null,null,"Ploia Marius","Sibiu"]
[null,null,null,null,null,null,null,null,null,null,null,null,null,null,null,null,null,null,null,"Ploscar Claudiu","Cluj Napoca"]
[null,null,null,null,null,null,null,null,null,null,null,null,null,null,null,null,null,null,null,"Pnacsek Alex","Lunca Muresului"]
[null,null,null,null,null,null,null,null,null,null,null,null,null,null,null,null,null,null,null,"Pocriser Stefan","Oradea"]
[null,null,null,null,null,null,null,null,null,null,null,null,null,null,null,null,null,null,null,"Podar Horatiu","Turda"]
[null,null,null,null,null,null,null,null,null,null,null,null,null,null,null,null,null,null,null,"Podean Ion","Foeni"]
[null,null,null,null,null,null,null,null,null,null,null,null,null,null,null,null,null,null,null,"Podoreanu Laurentiu","Bucuresti"]
[null,null,null,null,null,null,null,null,null,null,null,null,null,null,null,null,null,null,null,"Poenariu Darius","Arad"]
[null,null,null,null,null,null,null,null,null,null,null,null,null,null,null,null,null,null,null,"Pogorevici Mircea","Gura Humorului"]
[null,null,null,null,null,null,null,null,null,null,null,null,null,null,null,null,null,null,null,"Pojoni Oliver","Orastie"]
[null,null,null,null,null,null,null,null,null,null,null,null,null,null,null,null,null,null,null,"Polen Costin","Comarnic"]
[null,null,null,null,null,null,null,null,null,null,null,null,null,null,null,null,null,null,null,"Policiuc Alexandr","Moldova-Chisinau"]
[null,null,null,null,null,null,null,null,null,null,null,null,null,null,null,null,null,null,null,"Polint Istvan","Oradea"]
[null,null,null,null,null,null,null,null,null,null,null,null,null,null,null,null,null,null,null,"Polotca Stefan","Sangeorgiu de Padure"]
[null,null,null,null,null,null,null,null,null,null,null,null,null,null,null,null,null,null,null,"Pomirleanu Radu","Iasi"]
[null,null,null,null,null,null,null,null,null,null,null,null,null,null,null,null,null,null,null,"Pop Alexandru","Bucuresti"]
[null,null,null,null,null,null,null,null,null,null,null,null,null,null,null,null,null,null,null,"Pop Alexandru","Viseu"]
[null,null,null,null,null,null,null,null,null,null,null,null,null,null,null,null,null,null,null,"Pop Alexia","Lugoj"]
[null,null,null,null,null,null,null,null,null,null,null,null,null,null,null,null,null,null,null,"Pop Ciprian","Arad"]
[null,null,null,null,null,null,null,null,null,null,null,null,null,null,null,null,null,null,null,"Pop Cornel","Zalau"]
[null,null,null,null,null,null,null,null,null,null,null,null,null,null,null,null,null,null,null,"Pop Dan","Targu Mures"]
[null,null,null,null,null,null,null,null,null,null,null,null,null,null,null,null,null,null,null,"Pop Daniel","Suceava"]
[null,null,null,null,null,null,null,null,null,null,null,null,null,null,null,null,null,null,null,"Pop Daniel Ghe","Cluj Napoca"]
[null,null,null,null,null,null,null,null,null,null,null,null,null,null,null,null,null,null,null,"Pop Danut","Dej"]
[null,null,null,null,null,null,null,null,null,null,null,null,null,null,null,null,null,null,null,"Pop Emanuel","Alesd"]
[null,null,null,null,null,null,null,null,null,null,null,null,null,null,null,null,null,null,null,"Pop Gabriel","Oradea"]
[null,null,null,null,null,null,null,null,null,null,null,null,null,null,null,null,null,null,null,"Pop George","Sibiu"]
[null,null,null,null,null,null,null,null,null,null,null,null,null,null,null,null,null,null,null,"Pop Ioan","Giroc"]
[null,null,null,null,null,null,null,null,null,null,null,null,null,null,null,null,null,null,null,"Pop Ioan","Bistrita"]
[null,null,null,null,null,null,null,null,null,null,null,null,null,null,null,null,null,null,null,"Pop Ioan Florin","Lugoj"]
[null,null,null,null,null,null,null,null,null,null,null,null,null,null,null,null,null,null,null,"Pop Ionut","Cicarlau"]
[null,null,null,null,null,null,null,null,null,null,null,null,null,null,null,null,null,null,null,"Pop Nicolae","Voluntari"]
[null,null,null,null,null,null,null,null,null,null,null,null,null,null,null,null,null,null,null,"Pop Nicu","Zalau"]
[null,null,null,null,null,null,null,null,null,null,null,null,null,null,null,null,null,null,null,"Pop Raul","Zalau"]
[null,null,null,null,null,null,null,null,null,null,null,null,null,null,null,null,null,null,null,"Pop Sergiu","Zalau"]
[null,null,null,null,null,null,null,null,null,null,null,null,null,null,null,null,null,null,null,"Pop Sorin","Bistrita"]
[null,null,null,null,null,null,null,null,null,null,null,null,null,null,null,null,null,null,null,"Pop Sorin","Viseu"]
[null,null,null,null,null,null,null,null,null,null,null,null,null,null,null,null,null,null,null,"Pop Vasile","Dej"]
[null,null,null,null,null,null,null,null,null,null,null,null,null,null,null,null,null,null,null,"Pop Victor","Bucuresti"]
[null,null,null,null,null,null,null,null,null,null,null,null,null,null,null,null,null,null,null,"Pop Zoltan","Dej"]
[null,null,null,null,null,null,null,null,null,null,null,null,null,null,null,null,null,null,null,"Popa Adrian","Hunedoara"]
[null,null,null,null,null,null,null,null,null,null,null,null,null,null,null,null,null,null,null,"Popa Alexandra","Sibiu"]
[null,null,null,null,null,null,null,null,null,null,null,null,null,null,null,null,null,null,null,"Popa Alexandru Arthur","Arad"]
[null,null,null,null,null,null,null,null,null,null,null,null,null,null,null,null,null,null,null,"Popa Alin","Drobeta Tr Severin"]
[null,null,null,null,null,null,null,null,null,null,null,null,null,null,null,null,null,null,null,"Popa Alin","Fagaras"]
[null,null,null,null,null,null,null,null,null,null,null,null,null,null,null,null,null,null,null,"Popa Andrei Mihai","Ploiesti"]
[null,null,null,null,null,null,null,null,null,null,null,null,null,null,null,null,null,null,null,"Popa Bogdan","Bucuresti"]
[null,null,null,null,null,null,null,null,null,null,null,null,null,null,null,null,null,null,null,"Popa Bogdan","Sibiu"]
[null,null,null,null,null,null,null,null,null,null,null,null,null,null,null,null,null,null,null,"Popa Bogdan","Navodari"]
[null,null,null,null,null,null,null,null,null,null,null,null,null,null,null,null,null,null,null,"Popa Constantin","Moldova"]
[null,null,null,null,null,null,null,null,null,null,null,null,null,null,null,null,null,null,null,"Popa Cosmin","Lipova"]
[null,null,null,null,null,null,null,null,null,null,null,null,null,null,null,null,null,null,null,"Popa Cristian Vasile","Cluj Napoca"]
[null,null,null,null,null,null,null,null,null,null,null,null,null,null,null,null,null,null,null,"Popa Dan Teodor","Tecuci"]
[null,null,null,null,null,null,null,null,null,null,null,null,null,null,null,null,null,null,null,"Popa Denis","Craiova"]
[null,null,null,null,null,null,null,null,null,null,null,null,null,null,null,null,null,null,null,"Popa Florin","Medias"]
[null,null,null,null,null,null,null,null,null,null,null,null,null,null,null,null,null,null,null,"Popa Gelu","Focsani"]
[null,null,null,null,null,null,null,null,null,null,null,null,null,null,null,null,null,null,null,"Popa George","Bucuresti"]
[null,null,null,null,null,null,null,null,null,null,null,null,null,null,null,null,null,null,null,"Popa Gheorghe","Brasov"]
[null,null,null,null,null,null,null,null,null,null,null,null,null,null,null,null,null,null,null,"Popa Ionut","Moreni"]
[null,null,null,null,null,null,null,null,null,null,null,null,null,null,null,null,null,null,null,"Popa Liviu","Bucuresti"]
[null,null,null,null,null,null,null,null,null,null,null,null,null,null,null,null,null,null,null,"Popa Luca","Floresti"]
[null,null,null,null,null,null,null,null,null,null,null,null,null,null,null,null,null,null,null,"Popa Mihai Claudiu","Bucuresti"]
[null,null,null,null,null,null,null,null,null,null,null,null,null,null,null,null,null,null,null,"Popa Mihail","Bucuresti"]
[null,null,null,null,null,null,null,null,null,null,null,null,null,null,null,null,null,null,null,"Popa Nicolae","Cergau Mare"]
[null,null,null,null,null,null,null,null,null,null,null,null,null,null,null,null,null,null,null,"Popa Paul","Sibiu"]
[null,null,null,null,null,null,null,null,null,null,null,null,null,null,null,null,null,null,null,"Popa Robert","Targoviste"]
[null,null,null,null,null,null,null,null,null,null,null,null,null,null,null,null,null,null,null,"Popa Romica","Pascani"]
[null,null,null,null,null,null,null,null,null,null,null,null,null,null,null,null,null,null,null,"Popa Virgil","Beius"]
[null,null,null,null,null,null,null,null,null,null,null,null,null,null,null,null,null,null,null,"Popa Vlad","Piatra Neamt"]
[null,null,null,null,null,null,null,null,null,null,null,null,null,null,null,null,null,null,null,"Popescu Alex","Bucuresti"]
[null,null,null,null,null,null,null,null,null,null,null,null,null,null,null,null,null,null,null,"Popescu Alex","Hateg"]
[null,null,null,null,null,null,null,null,null,null,null,null,null,null,null,null,null,null,null,"Popescu Andrei","Curtea de Arges"]
[null,null,null,null,null,null,null,null,null,null,null,null,null,null,null,null,null,null,null,"Popescu Andrei","Bucuresti"]
[null,null,null,null,null,null,null,null,null,null,null,null,null,null,null,null,null,null,null,"Popescu Apreotesei Mihai","Straoane"]
[null,null,null,null,null,null,null,null,null,null,null,null,null,null,null,null,null,null,null,"Popescu Carol","Timisoara"]
[null,null,null,null,null,null,null,null,null,null,null,null,null,null,null,null,null,null,null,"Popescu Cristina","Boldesti Scaeni"]
[null,null,null,null,null,null,null,null,null,null,null,null,null,null,null,null,null,null,null,"Popescu Dan","Craiova"]
[null,null,null,null,null,null,null,null,null,null,null,null,null,null,null,null,null,null,null,"Popescu Eugen","Bucuresti"]
[null,null,null,null,null,null,null,null,null,null,null,null,null,null,null,null,null,null,null,"Popescu Florian Catalin","Bucuresti"]
[null,null,null,null,null,null,null,null,null,null,null,null,null,null,null,null,null,null,null,"Popescu Florin","Bucuresti"]
[null,null,null,null,null,null,null,null,null,null,null,null,null,null,null,null,null,null,null,"Popescu George","Bucuresti"]
[null,null,null,null,null,null,null,null,null,null,null,null,null,null,null,null,null,null,null,"Popescu Ionut","Bucuresti"]
[null,null,null,null,null,null,null,null,null,null,null,null,null,null,null,null,null,null,null,"Popescu Ionut Bogdan","Ploiesti"]
[null,null,null,null,null,null,null,null,null,null,null,null,null,null,null,null,null,null,null,"Popescu Petre","Bucuresti"]
[null,null,null,null,null,null,null,null,null,null,null,null,null,null,null,null,null,null,null,"Popescu Radu","Arad"]
[null,null,null,null,null,null,null,null,null,null,null,null,null,null,null,null,null,null,null,"Popescu Razvan","Dumbravita"]
[null,null,null,null,null,null,null,null,null,null,null,null,null,null,null,null,null,null,null,"Popescu Remus","Ramnicu Valcea"]
[null,null,null,null,null,null,null,null,null,null,null,null,null,null,null,null,null,null,null,"Popescu Theo","Bucuresti"]
[null,null,null,null,null,null,null,null,null,null,null,null,null,null,null,null,null,null,null,"Popescu Tiberiu","Ploiesti"]
[null,null,null,null,null,null,null,null,null,null,null,null,null,null,null,null,null,null,null,"Popet Doru","Timisoara"]
[null,null,null,null,null,null,null,null,null,null,null,null,null,null,null,null,null,null,null,"Popirlan Alin","Craiova"]
[null,null,null,null,null,null,null,null,null,null,null,null,null,null,null,null,null,null,null,"Poplahov Alexandru","Brasov"]
[null,null,null,null,null,null,null,null,null,null,null,null,null,null,null,null,null,null,null,"Popoi Ionut","Moinesti"]
[null,null,null,null,null,null,null,null,null,null,null,null,null,null,null,null,null,null,null,"Popov Alexandr","Moldova-Balti"]
[null,null,null,null,null,null,null,null,null,null,null,null,null,null,null,null,null,null,null,"Popov Iurie","Moldova-Balti"]
[null,null,null,null,null,null,null,null,null,null,null,null,null,null,null,null,null,null,null,"Popovici Andrei","Bucuresti"]
[null,null,null,null,null,null,null,null,null,null,null,null,null,null,null,null,null,null,null,"Popovici Ciprian","Hunedoara"]
[null,null,null,null,null,null,null,null,null,null,null,null,null,null,null,null,null,null,null,"Popovici Daniel","Arad"]
[null,null,null,null,null,null,null,null,null,null,null,null,null,null,null,null,null,null,null,"Popovici Ervin","Craiova"]
[null,null,null,null,null,null,null,null,null,null,null,null,null,null,null,null,null,null,null,"Popovici Robert Gheorghe","Petrosani"]
[null,null,null,null,null,null,null,null,null,null,null,null,null,null,null,null,null,null,null,"Popovici Sandu","Sibiu"]
[null,null,null,null,null,null,null,null,null,null,null,null,null,null,null,null,null,null,null,"Poraico Xenia","Moldova-Balti"]
[null,null,null,null,null,null,null,null,null,null,null,null,null,null,null,null,null,null,null,"Porojan Florin","Bucuresti"]
[null,null,null,null,null,null,null,null,null,null,null,null,null,null,null,null,null,null,null,"Porojniuc Artiom","Moldova-Chisinau"]
[null,null,null,null,null,null,null,null,null,null,null,null,null,null,null,null,null,null,null,"Portase Daria","Galati"]
[null,null,null,null,null,null,null,null,null,null,null,null,null,null,null,null,null,null,null,"Portik Erno","Hodosa"]
[null,null,null,null,null,null,null,null,null,null,null,null,null,null,null,null,null,null,null,"Porumb Alexandru","Sibiu"]
[null,null,null,null,null,null,null,null,null,null,null,null,null,null,null,null,null,null,null,"Postelnicu Ciprian","Tecuci"]
[null,null,null,null,null,null,null,null,null,null,null,null,null,null,null,null,null,null,null,"Postelnicu Mihai","Sibiu"]
[null,null,null,null,null,null,null,null,null,null,null,null,null,null,null,null,null,null,null,"Posteuca Lucian","Botosani"]
[null,null,null,null,null,null,null,null,null,null,null,null,null,null,null,null,null,null,null,"Postolache Valeriu","Pufesti"]
[null,null,null,null,null,null,null,null,null,null,null,null,null,null,null,null,null,null,null,"Postole Luca","Buzau"]
[null,null,null,null,null,null,null,null,null,null,null,null,null,null,null,null,null,null,null,"Postudor Andreea","Iasi"]
[null,null,null,null,null,null,null,null,null,null,null,null,null,null,null,null,null,null,null,"Potoroaca Dragos","Valea Lupului"]
[null,null,null,null,null,null,null,null,null,null,null,null,null,null,null,null,null,null,null,"Prahoveanu Nicolae","Constanta"]
[null,null,null,null,null,null,null,null,null,null,null,null,null,null,null,null,null,null,null,"Pralea David Constantin","Alba Iulia"]
[null,null,null,null,null,null,null,null,null,null,null,null,null,null,null,null,null,null,null,"Pralea Marius Dan","Botosani"]
[null,null,null,null,null,null,null,null,null,null,null,null,null,null,null,null,null,null,null,"Preda Codrin","Piatra Neamt"]
[null,null,null,null,null,null,null,null,null,null,null,null,null,null,null,null,null,null,null,"Preda Filip","Bucuresti"]
[null,null,null,null,null,null,null,null,null,null,null,null,null,null,null,null,null,null,null,"Preda Ionut","Cluj Napoca"]
[null,null,null,null,null,null,null,null,null,null,null,null,null,null,null,null,null,null,null,"Preda Leo","Targoviste"]
[null,null,null,null,null,null,null,null,null,null,null,null,null,null,null,null,null,null,null,"Preda Mark","Slatina"]
[null,null,null,null,null,null,null,null,null,null,null,null,null,null,null,null,null,null,null,"Preda Nicolae","Curtea de Arges"]
[null,null,null,null,null,null,null,null,null,null,null,null,null,null,null,null,null,null,null,"Predus Florin Catalin","Dabuleni"]
[null,null,null,null,null,null,null,null,null,null,null,null,null,null,null,null,null,null,null,"Predut Andrei","Cluj Napoca"]
[null,null,null,null,null,null,null,null,null,null,null,null,null,null,null,null,null,null,null,"Prelipceanu Ciprian","Iasi"]
[null,null,null,null,null,null,null,null,null,null,null,null,null,null,null,null,null,null,null,"Preoteasa Bogdan","Craiova"]
[null,null,null,null,null,null,null,null,null,null,null,null,null,null,null,null,null,null,null,"Preuss Adrian","Cluj Napoca"]
[null,null,null,null,null,null,null,null,null,null,null,null,null,null,null,null,null,null,null,"Prevaritura Nenad","Varset"]
[null,null,null,null,null,null,null,null,null,null,null,null,null,null,null,null,null,null,null,"Pribeagu Sebastian","Pitesti"]
[null,null,null,null,null,null,null,null,null,null,null,null,null,null,null,null,null,null,null,"Pricop Stefan","Suceava"]
[null,null,null,null,null,null,null,null,null,null,null,null,null,null,null,null,null,null,null,"Prisacaru Razvan","Iasi"]
[null,null,null,null,null,null,null,null,null,null,null,null,null,null,null,null,null,null,null,"Prisecaru David","Roman"]
[null,null,null,null,null,null,null,null,null,null,null,null,null,null,null,null,null,null,null,"Prisecaru Florin Eduard","Vaslui"]
[null,null,null,null,null,null,null,null,null,null,null,null,null,null,null,null,null,null,null,"Pristavu Bogdan Constantin","Iasi"]
[null,null,null,null,null,null,null,null,null,null,null,null,null,null,null,null,null,null,null,"Profiroiu Dorel","Sfantu Gheorghe"]
[null,null,null,null,null,null,null,null,null,null,null,null,null,null,null,null,null,null,null,"Pruna Cristian","Ploiesti"]
[null,null,null,null,null,null,null,null,null,null,null,null,null,null,null,null,null,null,null,"Prundeanu Ovidiu","Drobeta Tr Severin"]
[null,null,null,null,null,null,null,null,null,null,null,null,null,null,null,null,null,null,null,"Puia Darius","Stremt"]
[null,null,null,null,null,null,null,null,null,null,null,null,null,null,null,null,null,null,null,"Puiac Elvis","Apahida"]
[null,null,null,null,null,null,null,null,null,null,null,null,null,null,null,null,null,null,null,"Puisoru Victor","Bucuresti"]
[null,null,null,null,null,null,null,null,null,null,null,null,null,null,null,null,null,null,null,"Puiu Dragos","Ploiesti"]
[null,null,null,null,null,null,null,null,null,null,null,null,null,null,null,null,null,null,null,"Puiu Viorel","Moldova-Balti"]
[null,null,null,null,null,null,null,null,null,null,null,null,null,null,null,null,null,null,null,"Purendea Olimpia","Bucuresti"]
[null,null,null,null,null,null,null,null,null,null,null,null,null,null,null,null,null,null,null,"Puscas Darius","Gherla"]
[null,null,null,null,null,null,null,null,null,null,null,null,null,null,null,null,null,null,null,"Puscas Gavril","Oradea"]
[null,null,null,null,null,null,null,null,null,null,null,null,null,null,null,null,null,null,null,"Pusceddu Celestino","Italia"]
[null,null,null,null,null,null,null,null,null,null,null,null,null,null,null,null,null,null,null,"Puscovici Matei","Sibiu"]
[null,null,null,null,null,null,null,null,null,null,null,null,null,null,null,null,null,null,null,"PUSCOVICI Razvan","Sibiu"]
[null,null,null,null,null,null,null,null,null,null,null,null,null,null,null,null,null,null,null,"Puskas Attila","Sovata"]
[null,null,null,null,null,null,null,null,null,null,null,null,null,null,null,null,null,null,null,"Pustianu Lucas","Lunca Muresului"]
[null,null,null,null,null,null,null,null,null,null,null,null,null,null,null,null,null,null,null,"Put Gabriel","Oravita"]
[null,null,null,null,null,null,null,null,null,null,null,null,null,null,null,null,null,null,null,"Putineanu Andrei","Alexandria"]
[null,null,null,null,null,null,null,null,null,null,null,null,null,null,null,null,null,null,null,"Putnik Tiberiu","Varset"]
[null,null,null,null,null,null,null,null,null,null,null,null,null,null,null,null,null,null,null,"Pylypenko Vladyslav","Ucraina"]
[null,null,null,null,null,null,null,null,null,null,null,null,null,null,null,null,null,null,null,"Racic Pera","Zrenjanin"]
[null,null,null,null,null,null,null,null,null,null,null,null,null,null,null,null,null,null,null,"Rada Florin","Pitesti"]
[null,null,null,null,null,null,null,null,null,null,null,null,null,null,null,null,null,null,null,"Radovan Goran","Timisoara"]
[null,null,null,null,null,null,null,null,null,null,null,null,null,null,null,null,null,null,null,"Radovan Radu","Sannicolau Mare"]
[null,null,null,null,null,null,null,null,null,null,null,null,null,null,null,null,null,null,null,"Radu Adrian","Ploiesti"]
[null,null,null,null,null,null,null,null,null,null,null,null,null,null,null,null,null,null,null,"Radu Aurel","Bucuresti"]
[null,null,null,null,null,null,null,null,null,null,null,null,null,null,null,null,null,null,null,"Radu Constantin","Sibiu"]
[null,null,null,null,null,null,null,null,null,null,null,null,null,null,null,null,null,null,null,"Radu Cosmin","Ludus"]
[null,null,null,null,null,null,null,null,null,null,null,null,null,null,null,null,null,null,null,"Radu Daniel","Bucuresti"]
[null,null,null,null,null,null,null,null,null,null,null,null,null,null,null,null,null,null,null,"Radu Doru","Targu Mures"]
[null,null,null,null,null,null,null,null,null,null,null,null,null,null,null,null,null,null,null,"Radu Dragos","Targoviste"]
[null,null,null,null,null,null,null,null,null,null,null,null,null,null,null,null,null,null,null,"Radu Gabriel","Bocsa"]
[null,null,null,null,null,null,null,null,null,null,null,null,null,null,null,null,null,null,null,"Radu Gaspar","Giarmata"]
[null,null,null,null,null,null,null,null,null,null,null,null,null,null,null,null,null,null,null,"Radu Gheorghe","Moldova-Straseni"]
[null,null,null,null,null,null,null,null,null,null,null,null,null,null,null,null,null,null,null,"Radu Lucian","Bucuresti"]
[null,null,null,null,null,null,null,null,null,null,null,null,null,null,null,null,null,null,null,"Radu Mihaela","Targoviste"]
[null,null,null,null,null,null,null,null,null,null,null,null,null,null,null,null,null,null,null,"Radu Razvan","Bucuresti"]
[null,null,null,null,null,null,null,null,null,null,null,null,null,null,null,null,null,null,null,"Raducan Adrian","Sibiu"]
[null,null,null,null,null,null,null,null,null,null,null,null,null,null,null,null,null,null,null,"Radulescu Bogdan","Iedera"]
[null,null,null,null,null,null,null,null,null,null,null,null,null,null,null,null,null,null,null,"Radulescu Catalin","Ploiesti"]
[null,null,null,null,null,null,null,null,null,null,null,null,null,null,null,null,null,null,null,"Radulescu Eugeniu","Turda"]
[null,null,null,null,null,null,null,null,null,null,null,null,null,null,null,null,null,null,null,"Radulescu Fredy Romeo","Bucuresti"]
[null,null,null,null,null,null,null,null,null,null,null,null,null,null,null,null,null,null,null,"Radulescu Marian","Bucuresti"]
[null,null,null,null,null,null,null,null,null,null,null,null,null,null,null,null,null,null,null,"Radulescu Marius","Iasi"]
[null,null,null,null,null,null,null,null,null,null,null,null,null,null,null,null,null,null,null,"Raduly Marius","Sfantu Gheorghe"]
[null,null,null,null,null,null,null,null,null,null,null,null,null,null,null,null,null,null,null,"Raduly Ovidiu","Fantanele"]
[null,null,null,null,null,null,null,null,null,null,null,null,null,null,null,null,null,null,null,"Raduta Viorel","Bacau"]
[null,null,null,null,null,null,null,null,null,null,null,null,null,null,null,null,null,null,null,"Raicov Cornel","Dumbravita"]
[null,null,null,null,null,null,null,null,null,null,null,null,null,null,null,null,null,null,null,"Railean Robert","Moldova-Balti"]
[null,null,null,null,null,null,null,null,null,null,null,null,null,null,null,null,null,null,null,"Rajda Vladimir","Varset"]
[null,null,null,null,null,null,null,null,null,null,null,null,null,null,null,null,null,null,null,"Rakoczi Patrick","Baia Mare"]
[null,null,null,null,null,null,null,null,null,null,null,null,null,null,null,null,null,null,null,"Rakosi Istvan","Zalau"]
[null,null,null,null,null,null,null,null,null,null,null,null,null,null,null,null,null,null,null,"Rasid Aihan","Constanta"]
[null,null,null,null,null,null,null,null,null,null,null,null,null,null,null,null,null,null,null,"Rasnoveanu Daniel","Slobozia"]
[null,null,null,null,null,null,null,null,null,null,null,null,null,null,null,null,null,null,null,"Rastasan Mark","Targu Mures"]
[null,null,null,null,null,null,null,null,null,null,null,null,null,null,null,null,null,null,null,"Rastau Iustinian","Timisoara"]
[null,null,null,null,null,null,null,null,null,null,null,null,null,null,null,null,null,null,null,"Rat Flavius","Sebis"]
[null,null,null,null,null,null,null,null,null,null,null,null,null,null,null,null,null,null,null,"Ratcu Chris","Alexandria"]
[null,null,null,null,null,null,null,null,null,null,null,null,null,null,null,null,null,null,null,"Rau Gabriel","Moldova-Chisinau"]
[null,null,null,null,null,null,null,null,null,null,null,null,null,null,null,null,null,null,null,"Rauh Andrei","Moldova"]
[null,null,null,null,null,null,null,null,null,null,null,null,null,null,null,null,null,null,null,"Rauh Victor","Moldova-Balti"]
[null,null,null,null,null,null,null,null,null,null,null,null,null,null,null,null,null,null,null,"Rausche Valentin","Tulcea"]
[null,null,null,null,null,null,null,null,null,null,null,null,null,null,null,null,null,null,null,"Rece Marius","Constanta"]
[null,null,null,null,null,null,null,null,null,null,null,null,null,null,null,null,null,null,null,"Receanu Cristi","Bucuresti"]
[null,null,null,null,null,null,null,null,null,null,null,null,null,null,null,null,null,null,null,"Repede Calin","Cluj Napoca"]
[null,null,null,null,null,null,null,null,null,null,null,null,null,null,null,null,null,null,null,"Resavac Predrag","Smederevo"]
[null,null,null,null,null,null,null,null,null,null,null,null,null,null,null,null,null,null,null,"Restea Lucian","Fagaras"]
[null,null,null,null,null,null,null,null,null,null,null,null,null,null,null,null,null,null,null,"Retegan Cosmin","Ploiesti"]
[null,null,null,null,null,null,null,null,null,null,null,null,null,null,null,null,null,null,null,"Rezus Oana","Sibiu"]
[null,null,null,null,null,null,null,null,null,null,null,null,null,null,null,null,null,null,null,"Rica Marius","Giroc"]
[null,null,null,null,null,null,null,null,null,null,null,null,null,null,null,null,null,null,null,"Riclea George Eusebiu","Barlad"]
[null,null,null,null,null,null,null,null,null,null,null,null,null,null,null,null,null,null,null,"Rifat Bislimi","Alibunar"]
[null,null,null,null,null,null,null,null,null,null,null,null,null,null,null,null,null,null,null,"Risteiu Paul","Alba Iulia"]
[null,null,null,null,null,null,null,null,null,null,null,null,null,null,null,null,null,null,null,"Ristica Alexandru","Craiova"]
[null,null,null,null,null,null,null,null,null,null,null,null,null,null,null,null,null,null,null,"Roatis Gheorghe","Oradea"]
[null,null,null,null,null,null,null,null,null,null,null,null,null,null,null,null,null,null,null,"Robciuc Doru","Suceava"]
[null,null,null,null,null,null,null,null,null,null,null,null,null,null,null,null,null,null,null,"Robu Mihai","Mogosesti"]
[null,null,null,null,null,null,null,null,null,null,null,null,null,null,null,null,null,null,null,"Robu Sergiu","Iasi"]
[null,null,null,null,null,null,null,null,null,null,null,null,null,null,null,null,null,null,null,"Roca Claudiu","Satu Mare"]
[null,null,null,null,null,null,null,null,null,null,null,null,null,null,null,null,null,null,null,"Rochian Andrei","Giroc"]
[null,null,null,null,null,null,null,null,null,null,null,null,null,null,null,null,null,null,null,"Rogin Florin","Piatra Neamt"]
[null,null,null,null,null,null,null,null,null,null,null,null,null,null,null,null,null,null,null,"Rognean Rafael Alex","Oravita"]
[null,null,null,null,null,null,null,null,null,null,null,null,null,null,null,null,null,null,null,"Roi Denis","Otelu Rosu"]
[null,null,null,null,null,null,null,null,null,null,null,null,null,null,null,null,null,null,null,"Roi Itzik","Israel"]
[null,null,null,null,null,null,null,null,null,null,null,null,null,null,null,null,null,null,null,"Rojnita Sebastian","Bacau"]
[null,null,null,null,null,null,null,null,null,null,null,null,null,null,null,null,null,null,null,"Roman Andrei","Bucuresti"]
[null,null,null,null,null,null,null,null,null,null,null,null,null,null,null,null,null,null,null,"Roman David","Arad"]
[null,null,null,null,null,null,null,null,null,null,null,null,null,null,null,null,null,null,null,"Roman Doru","Medias"]
[null,null,null,null,null,null,null,null,null,null,null,null,null,null,null,null,null,null,null,"Roman Lionel","Vlajkovac"]
[null,null,null,null,null,null,null,null,null,null,null,null,null,null,null,null,null,null,null,"Roman Marcel","Sebes"]
[null,null,null,null,null,null,null,null,null,null,null,null,null,null,null,null,null,null,null,"Roman Ovidiu","Maieru"]
[null,null,null,null,null,null,null,null,null,null,null,null,null,null,null,null,null,null,null,"Roman Raisa","Alexandria"]
[null,null,null,null,null,null,null,null,null,null,null,null,null,null,null,null,null,null,null,"Roman Zhyla","Ucraina"]
[null,null,null,null,null,null,null,null,null,null,null,null,null,null,null,null,null,null,null,"Romanova Daria","Ucraina-Umani"]
[null,null,null,null,null,null,null,null,null,null,null,null,null,null,null,null,null,null,null,"Ron Amran Azulay","Israel"]
[null,null,null,null,null,null,null,null,null,null,null,null,null,null,null,null,null,null,null,"Ropotan Iulian","Bucuresti"]
[null,null,null,null,null,null,null,null,null,null,null,null,null,null,null,null,null,null,null,"Rosca Adela","Galanesti"]
[null,null,null,null,null,null,null,null,null,null,null,null,null,null,null,null,null,null,null,"Rosca Andrei","Vicovu de Jos"]
[null,null,null,null,null,null,null,null,null,null,null,null,null,null,null,null,null,null,null,"Rosca Niculai","Galanesti"]
[null,null,null,null,null,null,null,null,null,null,null,null,null,null,null,null,null,null,null,"Rosianu Nicolae","Sibiu"]
[null,null,null,null,null,null,null,null,null,null,null,null,null,null,null,null,null,null,null,"Rosoga Ana","Constanta"]
[null,null,null,null,null,null,null,null,null,null,null,null,null,null,null,null,null,null,null,"Rosu Adrian","Timisoara"]
[null,null,null,null,null,null,null,null,null,null,null,null,null,null,null,null,null,null,null,"Rosu Gabriel","Comanesti"]
[null,null,null,null,null,null,null,null,null,null,null,null,null,null,null,null,null,null,null,"Rosu Ioan","Sibiu"]
[null,null,null,null,null,null,null,null,null,null,null,null,null,null,null,null,null,null,null,"Rosu Nicolae","Sibiu"]
[null,null,null,null,null,null,null,null,null,null,null,null,null,null,null,null,null,null,null,"Rotari Leonard","Moldova-Chisinau"]
[null,null,null,null,null,null,null,null,null,null,null,null,null,null,null,null,null,null,null,"Rotaru Ionut","Bacau"]
[null,null,null,null,null,null,null,null,null,null,null,null,null,null,null,null,null,null,null,"Rotaru Luca","Siret"]
[null,null,null,null,null,null,null,null,null,null,null,null,null,null,null,null,null,null,null,"Roventa Dan","Bucuresti"]
[null,null,null,null,null,null,null,null,null,null,null,null,null,null,null,null,null,null,null,"Roy Akelay","Israel"]
[null,null,null,null,null,null,null,null,null,null,null,null,null,null,null,null,null,null,null,"Rudy Vrany","Targu Jiu"]
[null,null,null,null,null,null,null,null,null,null,null,null,null,null,null,null,null,null,null,"Rugina Adrian","Botosani"]
[null,null,null,null,null,null,null,null,null,null,null,null,null,null,null,null,null,null,null,"Rugina Ionut Mihai","Ciobanu"]
[null,null,null,null,null,null,null,null,null,null,null,null,null,null,null,null,null,null,null,"Rujan Paul Adrian","Braila"]
[null,null,null,null,null,null,null,null,null,null,null,null,null,null,null,null,null,null,null,"Runceanu David","Pitesti"]
[null,null,null,null,null,null,null,null,null,null,null,null,null,null,null,null,null,null,null,"Rus Alexandru","Targu Mures"]
[null,null,null,null,null,null,null,null,null,null,null,null,null,null,null,null,null,null,null,"Rus Andrei","Brasov"]
[null,null,null,null,null,null,null,null,null,null,null,null,null,null,null,null,null,null,null,"Rus Flavius","Bistrita"]
[null,null,null,null,null,null,null,null,null,null,null,null,null,null,null,null,null,null,null,"Rus Nicolae","Oradea"]
[null,null,null,null,null,null,null,null,null,null,null,null,null,null,null,null,null,null,null,"Rus Partenie","Santimbru AB"]
[null,null,null,null,null,null,null,null,null,null,null,null,null,null,null,null,null,null,null,"Rus Traian","Cluj Napoca"]
[null,null,null,null,null,null,null,null,null,null,null,null,null,null,null,null,null,null,null,"Rusanovschi Adrian","Oradea"]
[null,null,null,null,null,null,null,null,null,null,null,null,null,null,null,null,null,null,null,"Rusanovschi Andrei","Moldova-Edinet"]
[null,null,null,null,null,null,null,null,null,null,null,null,null,null,null,null,null,null,null,"Rusea Gheorghe","Breaza"]
[null,null,null,null,null,null,null,null,null,null,null,null,null,null,null,null,null,null,null,"Rusti Andrei","Bucuresti"]
[null,null,null,null,null,null,null,null,null,null,null,null,null,null,null,null,null,null,null,"Rusti Catalin","Suceava"]
[null,null,null,null,null,null,null,null,null,null,null,null,null,null,null,null,null,null,null,"Rusu Alexandru","Bistrita"]
[null,null,null,null,null,null,null,null,null,null,null,null,null,null,null,null,null,null,null,"Rusu Anatol","Moldova-Briceni"]
[null,null,null,null,null,null,null,null,null,null,null,null,null,null,null,null,null,null,null,"Rusu Andreea","Bucuresti"]
[null,null,null,null,null,null,null,null,null,null,null,null,null,null,null,null,null,null,null,"Rusu Andrei","Strejnicu"]
[null,null,null,null,null,null,null,null,null,null,null,null,null,null,null,null,null,null,null,"Rusu Bogdan","Aiud"]
[null,null,null,null,null,null,null,null,null,null,null,null,null,null,null,null,null,null,null,"Rusu Discultu Ion","Iasi"]
[null,null,null,null,null,null,null,null,null,null,null,null,null,null,null,null,null,null,null,"Rusu Lucian","Iasi"]
[null,null,null,null,null,null,null,null,null,null,null,null,null,null,null,null,null,null,null,"Rusu Matei","Constanta"]
[null,null,null,null,null,null,null,null,null,null,null,null,null,null,null,null,null,null,null,"Rusu Mihai","Floresti"]
[null,null,null,null,null,null,null,null,null,null,null,null,null,null,null,null,null,null,null,"Rusu Ovidiu","Cluj Napoca"]
[null,null,null,null,null,null,null,null,null,null,null,null,null,null,null,null,null,null,null,"Rusu Paul Iulian","Bilca"]
[null,null,null,null,null,null,null,null,null,null,null,null,null,null,null,null,null,null,null,"Rusu Tudor","Suceava"]
[null,null,null,null,null,null,null,null,null,null,null,null,null,null,null,null,null,null,null,"Sabadas Dinu","Oradea"]
[null,null,null,null,null,null,null,null,null,null,null,null,null,null,null,null,null,null,null,"Sabau Catalin","Oradea"]
[null,null,null,null,null,null,null,null,null,null,null,null,null,null,null,null,null,null,null,"Sabau Claudiu","Bistrita"]
[null,null,null,null,null,null,null,null,null,null,null,null,null,null,null,null,null,null,null,"Sabau Gheorghe","Tarnaveni"]
[null,null,null,null,null,null,null,null,null,null,null,null,null,null,null,null,null,null,null,"Sabau Mircea","Tarnaveni"]
[null,null,null,null,null,null,null,null,null,null,null,null,null,null,null,null,null,null,null,"Sabau Radu","Cluj Napoca"]
[null,null,null,null,null,null,null,null,null,null,null,null,null,null,null,null,null,null,null,"Sabin Alexandru","Bucuresti"]
[null,null,null,null,null,null,null,null,null,null,null,null,null,null,null,null,null,null,null,"Sabo Otto","Berveni"]
[null,null,null,null,null,null,null,null,null,null,null,null,null,null,null,null,null,null,null,"Saca Sorin","Zalau"]
[null,null,null,null,null,null,null,null,null,null,null,null,null,null,null,null,null,null,null,"Sacadat Marcel","Ludus"]
[null,null,null,null,null,null,null,null,null,null,null,null,null,null,null,null,null,null,null,"Saftoiu Tudor","Bucuresti"]
[null,null,null,null,null,null,null,null,null,null,null,null,null,null,null,null,null,null,null,"Saitan Claudiu","Bucuresti"]
[null,null,null,null,null,null,null,null,null,null,null,null,null,null,null,null,null,null,null,"Salavastru Petru","Botosani"]
[null,null,null,null,null,null,null,null,null,null,null,null,null,null,null,null,null,null,null,"Salmanov Serghei","Moldova-Balti"]
[null,null,null,null,null,null,null,null,null,null,null,null,null,null,null,null,null,null,null,"Salvan Horatiu","Cluj Napoca"]
[null,null,null,null,null,null,null,null,null,null,null,null,null,null,null,null,null,null,null,"Samarghitan Luca","Ungheni"]
[null,null,null,null,null,null,null,null,null,null,null,null,null,null,null,null,null,null,null,"Samoila Georgel","Bucuresti"]
[null,null,null,null,null,null,null,null,null,null,null,null,null,null,null,null,null,null,null,"Samoila Ion","Babadag"]
[null,null,null,null,null,null,null,null,null,null,null,null,null,null,null,null,null,null,null,"Sandescu Florin","Bucuresti"]
[null,null,null,null,null,null,null,null,null,null,null,null,null,null,null,null,null,null,null,"Sandor Arpad","Sovata"]
[null,null,null,null,null,null,null,null,null,null,null,null,null,null,null,null,null,null,null,"Sandor Attila","Odorheiu Secuiesc"]
[null,null,null,null,null,null,null,null,null,null,null,null,null,null,null,null,null,null,null,"Sandru Aurel","Calarasi"]
[null,null,null,null,null,null,null,null,null,null,null,null,null,null,null,null,null,null,null,"Sandu Adrian","Sfantu Gheorghe"]
[null,null,null,null,null,null,null,null,null,null,null,null,null,null,null,null,null,null,null,"Sandu Adrian Stefan","Slatina"]
[null,null,null,null,null,null,null,null,null,null,null,null,null,null,null,null,null,null,null,"Sandu Andrei","Sibiu"]
[null,null,null,null,null,null,null,null,null,null,null,null,null,null,null,null,null,null,null,"Sandu Danut","Cluj Napoca"]
[null,null,null,null,null,null,null,null,null,null,null,null,null,null,null,null,null,null,null,"Sandu Dragos","Nasaud"]
[null,null,null,null,null,null,null,null,null,null,null,null,null,null,null,null,null,null,null,"Sandu Eugen","Husi"]
[null,null,null,null,null,null,null,null,null,null,null,null,null,null,null,null,null,null,null,"Sandu Ionut","Moinesti"]
[null,null,null,null,null,null,null,null,null,null,null,null,null,null,null,null,null,null,null,"Sandu Marcel","Sighisoara"]
[null,null,null,null,null,null,null,null,null,null,null,null,null,null,null,null,null,null,null,"Sandu Petru Adrian","Buhusi"]
[null,null,null,null,null,null,null,null,null,null,null,null,null,null,null,null,null,null,null,"Sandul Victoria","Moldova-Chisinau"]
[null,null,null,null,null,null,null,null,null,null,null,null,null,null,null,null,null,null,null,"Sarai Alexandru","Baia Mare"]
[null,null,null,null,null,null,null,null,null,null,null,null,null,null,null,null,null,null,null,"Sarandi Ion","Moldova-Avdarma"]
[null,null,null,null,null,null,null,null,null,null,null,null,null,null,null,null,null,null,null,"Sarbu Dan","Ploiesti"]
[null,null,null,null,null,null,null,null,null,null,null,null,null,null,null,null,null,null,null,"Sarca Ovidiu","Marghita"]
[null,null,null,null,null,null,null,null,null,null,null,null,null,null,null,null,null,null,null,"Sardeni Teodora","Moinesti"]
[null,null,null,null,null,null,null,null,null,null,null,null,null,null,null,null,null,null,null,"Sargu David","Moldova-Balti"]
[null,null,null,null,null,null,null,null,null,null,null,null,null,null,null,null,null,null,null,"Saric Artiom","Moldova-Balti"]
[null,null,null,null,null,null,null,null,null,null,null,null,null,null,null,null,null,null,null,"Saric Leonid","Moldova-Balti"]
[null,null,null,null,null,null,null,null,null,null,null,null,null,null,null,null,null,null,null,"Sarlea Tiberiu","Blaj"]
[null,null,null,null,null,null,null,null,null,null,null,null,null,null,null,null,null,null,null,"Sarov Daniel","Bucuresti"]
[null,null,null,null,null,null,null,null,null,null,null,null,null,null,null,null,null,null,null,"Sas Tibor","Oradea"]
[null,null,null,null,null,null,null,null,null,null,null,null,null,null,null,null,null,null,null,"Sasarman Iacob","Bistrita"]
[null,null,null,null,null,null,null,null,null,null,null,null,null,null,null,null,null,null,null,"Saucan Victor","Giroc"]
[null,null,null,null,null,null,null,null,null,null,null,null,null,null,null,null,null,null,null,"Sauciuc Florin","Suceava"]
[null,null,null,null,null,null,null,null,null,null,null,null,null,null,null,null,null,null,null,"Saulean David","Beclean"]
[null,null,null,null,null,null,null,null,null,null,null,null,null,null,null,null,null,null,null,"Saulean Gavrila","Taureni"]
[null,null,null,null,null,null,null,null,null,null,null,null,null,null,null,null,null,null,null,"Sava Andrei","Iasi"]
[null,null,null,null,null,null,null,null,null,null,null,null,null,null,null,null,null,null,null,"Sava Andrei","Cluj Napoca"]
[null,null,null,null,null,null,null,null,null,null,null,null,null,null,null,null,null,null,null,"Sava Harold","Bucuresti"]
[null,null,null,null,null,null,null,null,null,null,null,null,null,null,null,null,null,null,null,"Sava Ionut","Bacau"]
[null,null,null,null,null,null,null,null,null,null,null,null,null,null,null,null,null,null,null,"Sava Marian","Harsova"]
[null,null,null,null,null,null,null,null,null,null,null,null,null,null,null,null,null,null,null,"Sava Mihai Andrei","Malaiesti"]
[null,null,null,null,null,null,null,null,null,null,null,null,null,null,null,null,null,null,null,"Sava Sergiu","Cluj Napoca"]
[null,null,null,null,null,null,null,null,null,null,null,null,null,null,null,null,null,null,null,"Sava Sinel","Focsani"]
[null,null,null,null,null,null,null,null,null,null,null,null,null,null,null,null,null,null,null,"Savescu Mihai","Videle"]
[null,null,null,null,null,null,null,null,null,null,null,null,null,null,null,null,null,null,null,"Savicic Lena","Belgrad"]
[null,null,null,null,null,null,null,null,null,null,null,null,null,null,null,null,null,null,null,"Savin Medeea","Plopeni SV"]
[null,null,null,null,null,null,null,null,null,null,null,null,null,null,null,null,null,null,null,"Savina Dan","Piatra Neamt"]
[null,null,null,null,null,null,null,null,null,null,null,null,null,null,null,null,null,null,null,"Savonea Adrian","Alba Iulia"]
[null,null,null,null,null,null,null,null,null,null,null,null,null,null,null,null,null,null,null,"Savu Cristian","Oradea"]
[null,null,null,null,null,null,null,null,null,null,null,null,null,null,null,null,null,null,null,"Scarlat Razvan","Bucuresti"]
[null,null,null,null,null,null,null,null,null,null,null,null,null,null,null,null,null,null,null,"Scheuleac Silviu","Suceava"]
[null,null,null,null,null,null,null,null,null,null,null,null,null,null,null,null,null,null,null,"Schimbeschi Marian","Tulcea"]
[null,null,null,null,null,null,null,null,null,null,null,null,null,null,null,null,null,null,null,"Schiopulescu Ion","Lugoj"]
[null,null,null,null,null,null,null,null,null,null,null,null,null,null,null,null,null,null,null,"Schnepp Michael","Brasov"]
[null,null,null,null,null,null,null,null,null,null,null,null,null,null,null,null,null,null,null,"Schule Patrik","Oradea"]
[null,null,null,null,null,null,null,null,null,null,null,null,null,null,null,null,null,null,null,"Scorpan Andrei","Moldova-Drochia"]
[null,null,null,null,null,null,null,null,null,null,null,null,null,null,null,null,null,null,null,"Scripei Iulian","Botosani"]
[null,null,null,null,null,null,null,null,null,null,null,null,null,null,null,null,null,null,null,"Scripet Ovidiu","Bistrita"]
[null,null,null,null,null,null,null,null,null,null,null,null,null,null,null,null,null,null,null,"Scrobota Ioan","Alba Iulia"]
[null,null,null,null,null,null,null,null,null,null,null,null,null,null,null,null,null,null,null,"Scutaru Marius","Cernavoda"]
[null,null,null,null,null,null,null,null,null,null,null,null,null,null,null,null,null,null,null,"Scutelnicu Tudor","Iasi"]
[null,null,null,null,null,null,null,null,null,null,null,null,null,null,null,null,null,null,null,"Sechel Vasile","Viseu"]
[null,null,null,null,null,null,null,null,null,null,null,null,null,null,null,null,null,null,null,"Secu Alexandru","Sibiu"]
[null,null,null,null,null,null,null,null,null,null,null,null,null,null,null,null,null,null,null,"Secu Valeriu","Bucuresti"]
[null,null,null,null,null,null,null,null,null,null,null,null,null,null,null,null,null,null,null,"Seica Gheorghe","Oradea"]
[null,null,null,null,null,null,null,null,null,null,null,null,null,null,null,null,null,null,null,"Selaru Romeo","Alba Iulia"]
[null,null,null,null,null,null,null,null,null,null,null,null,null,null,null,null,null,null,null,"Selaru Victoras","Adjud"]
[null,null,null,null,null,null,null,null,null,null,null,null,null,null,null,null,null,null,null,"Seltea Alexandru","Targoviste"]
[null,null,null,null,null,null,null,null,null,null,null,null,null,null,null,null,null,null,null,"Semenescu Andrei","Targu Jiu"]
[null,null,null,null,null,null,null,null,null,null,null,null,null,null,null,null,null,null,null,"Sencu Victor","Targoviste"]
[null,null,null,null,null,null,null,null,null,null,null,null,null,null,null,null,null,null,null,"Seniuc Radu","Arad"]
[null,null,null,null,null,null,null,null,null,null,null,null,null,null,null,null,null,null,null,"Serban Adi Iulian","Ramnicu Sarat"]
[null,null,null,null,null,null,null,null,null,null,null,null,null,null,null,null,null,null,null,"Serban Andrei","Bucuresti"]
[null,null,null,null,null,null,null,null,null,null,null,null,null,null,null,null,null,null,null,"Serban Dumitru","Tulcea"]
[null,null,null,null,null,null,null,null,null,null,null,null,null,null,null,null,null,null,null,"Serban Florin","Fratautii Noi"]
[null,null,null,null,null,null,null,null,null,null,null,null,null,null,null,null,null,null,null,"Serban Iulian","Bucuresti"]
[null,null,null,null,null,null,null,null,null,null,null,null,null,null,null,null,null,null,null,"Serban Leonard","Bucuresti"]
[null,null,null,null,null,null,null,null,null,null,null,null,null,null,null,null,null,null,null,"Serban Lucian Gabriel","Bucuresti"]
[null,null,null,null,null,null,null,null,null,null,null,null,null,null,null,null,null,null,null,"Serban Marian","Orastie"]
[null,null,null,null,null,null,null,null,null,null,null,null,null,null,null,null,null,null,null,"Serban Mihai","Selimbar"]
[null,null,null,null,null,null,null,null,null,null,null,null,null,null,null,null,null,null,null,"Serban Mihai","Bucuresti"]
[null,null,null,null,null,null,null,null,null,null,null,null,null,null,null,null,null,null,null,"Serban Mircea","Brasov"]
[null,null,null,null,null,null,null,null,null,null,null,null,null,null,null,null,null,null,null,"Serban Mircea","Harsova"]
[null,null,null,null,null,null,null,null,null,null,null,null,null,null,null,null,null,null,null,"Serbanescu Bogdan","Bucuresti"]
[null,null,null,null,null,null,null,null,null,null,null,null,null,null,null,null,null,null,null,"Serbanovici Milen","Braila"]
[null,null,null,null,null,null,null,null,null,null,null,null,null,null,null,null,null,null,null,"Serhiy Zabolotnyy","Cluj Napoca"]
[null,null,null,null,null,null,null,null,null,null,null,null,null,null,null,null,null,null,null,"Sfera Mihai","Lokve"]
[null,null,null,null,null,null,null,null,null,null,null,null,null,null,null,null,null,null,null,"Sfrenti Cosmin","Drobeta Tr Severin"]
[null,null,null,null,null,null,null,null,null,null,null,null,null,null,null,null,null,null,null,"Shon Eiikhenbaum","Israel"]
[null,null,null,null,null,null,null,null,null,null,null,null,null,null,null,null,null,null,null,"Sicarov Darko","Varset"]
[null,null,null,null,null,null,null,null,null,null,null,null,null,null,null,null,null,null,null,"Siclovan Gabriel","Arad"]
[null,null,null,null,null,null,null,null,null,null,null,null,null,null,null,null,null,null,null,"Silaghi Marc","Dumbravita"]
[null,null,null,null,null,null,null,null,null,null,null,null,null,null,null,null,null,null,null,"Silaghi Matei","Dumbravita"]
[null,null,null,null,null,null,null,null,null,null,null,null,null,null,null,null,null,null,null,"Silivestru Nicu","Tulcea"]
[null,null,null,null,null,null,null,null,null,null,null,null,null,null,null,null,null,null,null,"Silivestru Sebastian","Tarnaveni"]
[null,null,null,null,null,null,null,null,null,null,null,null,null,null,null,null,null,null,null,"Sima Daniel","Mioveni"]
[null,null,null,null,null,null,null,null,null,null,null,null,null,null,null,null,null,null,null,"Sima Vlad","Giurgiu"]
[null,null,null,null,null,null,null,null,null,null,null,null,null,null,null,null,null,null,null,"Simbirov Eugen","Moldova-Chisinau"]
[null,null,null,null,null,null,null,null,null,null,null,null,null,null,null,null,null,null,null,"Simendroni Florin","Otelu Rosu"]
[null,null,null,null,null,null,null,null,null,null,null,null,null,null,null,null,null,null,null,"Simiganovschi Codrut","Toplita"]
[null,null,null,null,null,null,null,null,null,null,null,null,null,null,null,null,null,null,null,"Simion Boby","Cluj Napoca"]
[null,null,null,null,null,null,null,null,null,null,null,null,null,null,null,null,null,null,null,"Simion Catalin Cristian","Corabia"]
[null,null,null,null,null,null,null,null,null,null,null,null,null,null,null,null,null,null,null,"Simion Cristi","Targu Jiu"]
[null,null,null,null,null,null,null,null,null,null,null,null,null,null,null,null,null,null,null,"Simion Luana","Cluj Napoca"]
[null,null,null,null,null,null,null,null,null,null,null,null,null,null,null,null,null,null,null,"Simion Mircea","Targu Jiu"]
[null,null,null,null,null,null,null,null,null,null,null,null,null,null,null,null,null,null,null,"Simionov Eduard","Navodari"]
[null,null,null,null,null,null,null,null,null,null,null,null,null,null,null,null,null,null,null,"Simionov Sebastian","Navodari"]
[null,null,null,null,null,null,null,null,null,null,null,null,null,null,null,null,null,null,null,"Simo Elias Mate","Miercurea Ciuc"]
[null,null,null,null,null,null,null,null,null,null,null,null,null,null,null,null,null,null,null,"Simo Jozsef Tibor","Miercurea Ciuc"]
[null,null,null,null,null,null,null,null,null,null,null,null,null,null,null,null,null,null,null,"Simon Alexandru","Roman"]
[null,null,null,null,null,null,null,null,null,null,null,null,null,null,null,null,null,null,null,"Simon Andras Zsolt","Sighisoara"]
[null,null,null,null,null,null,null,null,null,null,null,null,null,null,null,null,null,null,null,"Simon Barna","Targu Mures"]
[null,null,null,null,null,null,null,null,null,null,null,null,null,null,null,null,null,null,null,"Simon Bence","Targu Mures"]
[null,null,null,null,null,null,null,null,null,null,null,null,null,null,null,null,null,null,null,"Simon Csongor","Targu Mures"]
[null,null,null,null,null,null,null,null,null,null,null,null,null,null,null,null,null,null,null,"Simon Dani","Arad"]
[null,null,null,null,null,null,null,null,null,null,null,null,null,null,null,null,null,null,null,"Simon Gheorghe","Roman"]
[null,null,null,null,null,null,null,null,null,null,null,null,null,null,null,null,null,null,null,"Simon Ioan","Giroc"]
[null,null,null,null,null,null,null,null,null,null,null,null,null,null,null,null,null,null,null,"Simon Robert","Cluj Napoca"]
[null,null,null,null,null,null,null,null,null,null,null,null,null,null,null,null,null,null,null,"Simulescu Adrian","Focsani"]
[null,null,null,null,null,null,null,null,null,null,null,null,null,null,null,null,null,null,null,"Simulescu Dumitru","Craiova"]
[null,null,null,null,null,null,null,null,null,null,null,null,null,null,null,null,null,null,null,"Sindirinschi Victor","Moldova-Cahul"]
[null,null,null,null,null,null,null,null,null,null,null,null,null,null,null,null,null,null,null,"Sipos Bence","Cristuru Secuiesc"]
[null,null,null,null,null,null,null,null,null,null,null,null,null,null,null,null,null,null,null,"Sipos Claudiu","Gherla"]
[null,null,null,null,null,null,null,null,null,null,null,null,null,null,null,null,null,null,null,"Sirbu David Alexandru","Targoviste"]
[null,null,null,null,null,null,null,null,null,null,null,null,null,null,null,null,null,null,null,"Sirbu Ion","Bucuresti"]
[null,null,null,null,null,null,null,null,null,null,null,null,null,null,null,null,null,null,null,"Sirbu Lucian","Drobeta Tr Severin"]
[null,null,null,null,null,null,null,null,null,null,null,null,null,null,null,null,null,null,null,"Sirbu Moise","Baile Herculane"]
[null,null,null,null,null,null,null,null,null,null,null,null,null,null,null,null,null,null,null,"Sirbu Vlad","Aiud"]
[null,null,null,null,null,null,null,null,null,null,null,null,null,null,null,null,null,null,null,"Sisak Francisc","Brasov"]
[null,null,null,null,null,null,null,null,null,null,null,null,null,null,null,null,null,null,null,"Sivu Leonard","Bucuresti"]
[null,null,null,null,null,null,null,null,null,null,null,null,null,null,null,null,null,null,null,"Smarandache Andra Maria","Craiova"]
[null,null,null,null,null,null,null,null,null,null,null,null,null,null,null,null,null,null,null,"Smit Aurel","Craiova"]
[null,null,null,null,null,null,null,null,null,null,null,null,null,null,null,null,null,null,null,"Soare Andrei","Bucuresti"]
[null,null,null,null,null,null,null,null,null,null,null,null,null,null,null,null,null,null,null,"Soare Nicolae","Bucuresti"]
[null,null,null,null,null,null,null,null,null,null,null,null,null,null,null,null,null,null,null,"Soare Sorin","Slobozia"]
[null,null,null,null,null,null,null,null,null,null,null,null,null,null,null,null,null,null,null,"Soarice Danut","Faurei"]
[null,null,null,null,null,null,null,null,null,null,null,null,null,null,null,null,null,null,null,"Sobetkii Arcadii","Bucuresti"]
[null,null,null,null,null,null,null,null,null,null,null,null,null,null,null,null,null,null,null,"Socaci Marian","Braila"]
[null,null,null,null,null,null,null,null,null,null,null,null,null,null,null,null,null,null,null,"Socaci Razvan","Arad"]
[null,null,null,null,null,null,null,null,null,null,null,null,null,null,null,null,null,null,null,"Socaci Sorin","Panciu"]
[null,null,null,null,null,null,null,null,null,null,null,null,null,null,null,null,null,null,null,"Socaci Valentin","Lugoj"]
[null,null,null,null,null,null,null,null,null,null,null,null,null,null,null,null,null,null,null,"Soceanu Bogdan","Bucuresti"]
[null,null,null,null,null,null,null,null,null,null,null,null,null,null,null,null,null,null,null,"Socolov Serghei","Moldova-Chisinau"]
[null,null,null,null,null,null,null,null,null,null,null,null,null,null,null,null,null,null,null,"Sofian Corneliu","Suceava"]
[null,null,null,null,null,null,null,null,null,null,null,null,null,null,null,null,null,null,null,"Soficaru Flavius","Brasov"]
[null,null,null,null,null,null,null,null,null,null,null,null,null,null,null,null,null,null,null,"Sofran Daniel","Cluj Napoca"]
[null,null,null,null,null,null,null,null,null,null,null,null,null,null,null,null,null,null,null,"Soimusan Tudor","Cluj Napoca"]
[null,null,null,null,null,null,null,null,null,null,null,null,null,null,null,null,null,null,null,"Soldan Asael","Cajvana"]
[null,null,null,null,null,null,null,null,null,null,null,null,null,null,null,null,null,null,null,"Soldan Gica","Cajvana"]
[null,null,null,null,null,null,null,null,null,null,null,null,null,null,null,null,null,null,null,"Soldan Ionatan","Cajvana"]
[null,null,null,null,null,null,null,null,null,null,null,null,null,null,null,null,null,null,null,"Soldan Samuel","Cajvana"]
[null,null,null,null,null,null,null,null,null,null,null,null,null,null,null,null,null,null,null,"Solomon Milan","Cluj Napoca"]
[null,null,null,null,null,null,null,null,null,null,null,null,null,null,null,null,null,null,null,"Solovastru Gabriel","Gura Humorului"]
[null,null,null,null,null,null,null,null,null,null,null,null,null,null,null,null,null,null,null,"Solyom Sandor","Cluj Napoca"]
[null,null,null,null,null,null,null,null,null,null,null,null,null,null,null,null,null,null,null,"Somarlie Valentin","Giurgiu"]
[null,null,null,null,null,null,null,null,null,null,null,null,null,null,null,null,null,null,null,"Sopin Oleksiy","Brasov"]
[null,null,null,null,null,null,null,null,null,null,null,null,null,null,null,null,null,null,null,"Sopoian Emil","Baia Mare"]
[null,null,null,null,null,null,null,null,null,null,null,null,null,null,null,null,null,null,null,"Soran Gabriel","Zalau"]
[null,null,null,null,null,null,null,null,null,null,null,null,null,null,null,null,null,null,null,"Sorescu Deian","Resita"]
[null,null,null,null,null,null,null,null,null,null,null,null,null,null,null,null,null,null,null,"Sorescu Mircea","Paulesti"]
[null,null,null,null,null,null,null,null,null,null,null,null,null,null,null,null,null,null,null,"Sorescu Velimir","Resita"]
[null,null,null,null,null,null,null,null,null,null,null,null,null,null,null,null,null,null,null,"Sorin Inu Moise","Stei"]
[null,null,null,null,null,null,null,null,null,null,null,null,null,null,null,null,null,null,null,"Sosoaca Diana","Ramnicu Valcea"]
[null,null,null,null,null,null,null,null,null,null,null,null,null,null,null,null,null,null,null,"Sovea Sorin","Suceava"]
[null,null,null,null,null,null,null,null,null,null,null,null,null,null,null,null,null,null,null,"Spaller Teodora","Nasaud"]
[null,null,null,null,null,null,null,null,null,null,null,null,null,null,null,null,null,null,null,"Span Maria","Sibiu"]
[null,null,null,null,null,null,null,null,null,null,null,null,null,null,null,null,null,null,null,"Spancioc Ciprian","Cluj Napoca"]
[null,null,null,null,null,null,null,null,null,null,null,null,null,null,null,null,null,null,null,"Spasic Dejan","Belgrad"]
[null,null,null,null,null,null,null,null,null,null,null,null,null,null,null,null,null,null,null,"Spatariu Daniel","Arad"]
[null,null,null,null,null,null,null,null,null,null,null,null,null,null,null,null,null,null,null,"Spineanu Dan","Orastie"]
[null,null,null,null,null,null,null,null,null,null,null,null,null,null,null,null,null,null,null,"Spino Andrei","Bucuresti"]
[null,null,null,null,null,null,null,null,null,null,null,null,null,null,null,null,null,null,null,"Spiridonov Kiril","Bulgaria"]
[null,null,null,null,null,null,null,null,null,null,null,null,null,null,null,null,null,null,null,"Spoiala Cristinel","Focsani"]
[null,null,null,null,null,null,null,null,null,null,null,null,null,null,null,null,null,null,null,"Spulber Bogdan Andrei","Bacau"]
[null,null,null,null,null,null,null,null,null,null,null,null,null,null,null,null,null,null,null,"Spulber Oana Raluca","Bacau"]
[null,null,null,null,null,null,null,null,null,null,null,null,null,null,null,null,null,null,null,"Staicu Adrian","Chiajna"]
[null,null,null,null,null,null,null,null,null,null,null,null,null,null,null,null,null,null,null,"Staicu Ovidiu","Targoviste"]
[null,null,null,null,null,null,null,null,null,null,null,null,null,null,null,null,null,null,null,"Staicu Vasile","Cernavoda"]
[null,null,null,null,null,null,null,null,null,null,null,null,null,null,null,null,null,null,null,"Stamate Eduard","Tecuci"]
[null,null,null,null,null,null,null,null,null,null,null,null,null,null,null,null,null,null,null,"Stan Andrei","Bucuresti"]
[null,null,null,null,null,null,null,null,null,null,null,null,null,null,null,null,null,null,null,"Stan Calin","Stremt"]
[null,null,null,null,null,null,null,null,null,null,null,null,null,null,null,null,null,null,null,"Stan Constantin","Caragiale DB"]
[null,null,null,null,null,null,null,null,null,null,null,null,null,null,null,null,null,null,null,"Stan Constantin","Slobozia"]
[null,null,null,null,null,null,null,null,null,null,null,null,null,null,null,null,null,null,null,"Stan George Catalin","Navodari"]
[null,null,null,null,null,null,null,null,null,null,null,null,null,null,null,null,null,null,null,"Stan Stefan","Mangalia"]
[null,null,null,null,null,null,null,null,null,null,null,null,null,null,null,null,null,null,null,"Stanamirescu Ianis","Hateg"]
[null,null,null,null,null,null,null,null,null,null,null,null,null,null,null,null,null,null,null,"Stanca Florin","Rosiori de Vede"]
[null,null,null,null,null,null,null,null,null,null,null,null,null,null,null,null,null,null,null,"Stanca Sophia","Navodari"]
[null,null,null,null,null,null,null,null,null,null,null,null,null,null,null,null,null,null,null,"Stancalie Doru","Craiova"]
[null,null,null,null,null,null,null,null,null,null,null,null,null,null,null,null,null,null,null,"Stancescu Sebastian","Ploiesti"]
[null,null,null,null,null,null,null,null,null,null,null,null,null,null,null,null,null,null,null,"Stanci Cristian","Petrosani"]
[null,null,null,null,null,null,null,null,null,null,null,null,null,null,null,null,null,null,null,"Stanciu Alexander","Vatra Dornei"]
[null,null,null,null,null,null,null,null,null,null,null,null,null,null,null,null,null,null,null,"Stanciu Constantin","Timisoara"]
[null,null,null,null,null,null,null,null,null,null,null,null,null,null,null,null,null,null,null,"Stanciu Constantin","Brasov"]
[null,null,null,null,null,null,null,null,null,null,null,null,null,null,null,null,null,null,null,"Stanciu Dumitru","Simeria"]
[null,null,null,null,null,null,null,null,null,null,null,null,null,null,null,null,null,null,null,"Stanciu Mugur","Videle"]
[null,null,null,null,null,null,null,null,null,null,null,null,null,null,null,null,null,null,null,"Stanciu Olimpiu","Chitila"]
[null,null,null,null,null,null,null,null,null,null,null,null,null,null,null,null,null,null,null,"Stanciu Teodor","Sighisoara"]
[null,null,null,null,null,null,null,null,null,null,null,null,null,null,null,null,null,null,null,"Stanciu Viorel","Ploiesti"]
[null,null,null,null,null,null,null,null,null,null,null,null,null,null,null,null,null,null,null,"Stanciulescu Bogdan","Brasov"]
[null,null,null,null,null,null,null,null,null,null,null,null,null,null,null,null,null,null,null,"Stancu Gheorghe","Brazi"]
[null,null,null,null,null,null,null,null,null,null,null,null,null,null,null,null,null,null,null,"Stancu Maricel","Focsani"]
[null,null,null,null,null,null,null,null,null,null,null,null,null,null,null,null,null,null,null,"Stancu Octavian","Tulcea"]
[null,null,null,null,null,null,null,null,null,null,null,null,null,null,null,null,null,null,null,"Stanescu Alexandru","Ploiesti"]
[null,null,null,null,null,null,null,null,null,null,null,null,null,null,null,null,null,null,null,"Stanescu Maria","Iasi"]
[null,null,null,null,null,null,null,null,null,null,null,null,null,null,null,null,null,null,null,"Stanescu Petrut","Bucuresti"]
[null,null,null,null,null,null,null,null,null,null,null,null,null,null,null,null,null,null,null,"Stanescu Romeo","Hunedoara"]
[null,null,null,null,null,null,null,null,null,null,null,null,null,null,null,null,null,null,null,"Stanescu Tiberiu","Slatina"]
[null,null,null,null,null,null,null,null,null,null,null,null,null,null,null,null,null,null,null,"Stanescu Victor","Baia Mare"]
[null,null,null,null,null,null,null,null,null,null,null,null,null,null,null,null,null,null,null,"Stankovic Stefan","Ram"]
[null,null,null,null,null,null,null,null,null,null,null,null,null,null,null,null,null,null,null,"Starcz Adrian","Lupeni"]
[null,null,null,null,null,null,null,null,null,null,null,null,null,null,null,null,null,null,null,"Staricov Alexandru","Moldova-Balti"]
[null,null,null,null,null,null,null,null,null,null,null,null,null,null,null,null,null,null,null,"State Copnstantin","Targu Neamt"]
[null,null,null,null,null,null,null,null,null,null,null,null,null,null,null,null,null,null,null,"State Orlando","Bucuresti"]
[null,null,null,null,null,null,null,null,null,null,null,null,null,null,null,null,null,null,null,"Stavarache Andrei","Iasi"]
[null,null,null,null,null,null,null,null,null,null,null,null,null,null,null,null,null,null,null,"Stavarache Florentin","Pascani"]
[null,null,null,null,null,null,null,null,null,null,null,null,null,null,null,null,null,null,null,"Steau Dan","Santimbru AB"]
[null,null,null,null,null,null,null,null,null,null,null,null,null,null,null,null,null,null,null,"Stefan Adrian","Bucuresti"]
[null,null,null,null,null,null,null,null,null,null,null,null,null,null,null,null,null,null,null,"Stefan Alexandru","Vaslui"]
[null,null,null,null,null,null,null,null,null,null,null,null,null,null,null,null,null,null,null,"Stefan Mihai","Craiova"]
[null,null,null,null,null,null,null,null,null,null,null,null,null,null,null,null,null,null,null,"Stefan Narcis","Botosani"]
[null,null,null,null,null,null,null,null,null,null,null,null,null,null,null,null,null,null,null,"Stefan Sorin","Brasov"]
[null,null,null,null,null,null,null,null,null,null,null,null,null,null,null,null,null,null,null,"Stefanescu Eugen","Bucuresti"]
[null,null,null,null,null,null,null,null,null,null,null,null,null,null,null,null,null,null,null,"Stefanescu Serban","Harsova"]
[null,null,null,null,null,null,null,null,null,null,null,null,null,null,null,null,null,null,null,"Stefanescu Tiberiu","Aiud"]
[null,null,null,null,null,null,null,null,null,null,null,null,null,null,null,null,null,null,null,"Stegariu Vladut","Iasi"]
[null,null,null,null,null,null,null,null,null,null,null,null,null,null,null,null,null,null,null,"Stegaru Nicolae","Tulcea"]
[null,null,null,null,null,null,null,null,null,null,null,null,null,null,null,null,null,null,null,"Sterczer Sandor","Sanzieni"]
[null,null,null,null,null,null,null,null,null,null,null,null,null,null,null,null,null,null,null,"Sterie Bogdan","Bucuresti"]
[null,null,null,null,null,null,null,null,null,null,null,null,null,null,null,null,null,null,null,"Sterie Cristian","Bucuresti"]
[null,null,null,null,null,null,null,null,null,null,null,null,null,null,null,null,null,null,null,"Sterpu Gabriel","Navodari"]
[null,null,null,null,null,null,null,null,null,null,null,null,null,null,null,null,null,null,null,"Stinga Ovidiu","Tecuci"]
[null,null,null,null,null,null,null,null,null,null,null,null,null,null,null,null,null,null,null,"Stingaciu Alexandru","Vulcana Bai"]
[null,null,null,null,null,null,null,null,null,null,null,null,null,null,null,null,null,null,null,"Stir Bogdan","Telega"]
[null,null,null,null,null,null,null,null,null,null,null,null,null,null,null,null,null,null,null,"Stirbu Daniel","Braila"]
[null,null,null,null,null,null,null,null,null,null,null,null,null,null,null,null,null,null,null,"Stirbu Dragos Stefan","Negresti"]
[null,null,null,null,null,null,null,null,null,null,null,null,null,null,null,null,null,null,null,"Stoe Sorin","Craiova"]
[null,null,null,null,null,null,null,null,null,null,null,null,null,null,null,null,null,null,null,"Stoean Mircea","Bacau"]
[null,null,null,null,null,null,null,null,null,null,null,null,null,null,null,null,null,null,null,"Stoian Gabriel","Alexandria"]
[null,null,null,null,null,null,null,null,null,null,null,null,null,null,null,null,null,null,null,"Stoian Nicolae","Braila"]
[null,null,null,null,null,null,null,null,null,null,null,null,null,null,null,null,null,null,null,"Stoian Sebastian","Slobozia"]
[null,null,null,null,null,null,null,null,null,null,null,null,null,null,null,null,null,null,null,"Stoian Sorin","Curtea de Arges"]
[null,null,null,null,null,null,null,null,null,null,null,null,null,null,null,null,null,null,null,"Stoica Adrian","Bucuresti"]
[null,null,null,null,null,null,null,null,null,null,null,null,null,null,null,null,null,null,null,"Stoica Armando","Dumbravita"]
[null,null,null,null,null,null,null,null,null,null,null,null,null,null,null,null,null,null,null,"Stoica Ayana Maria","Slobozia"]
[null,null,null,null,null,null,null,null,null,null,null,null,null,null,null,null,null,null,null,"Stoica Dragos","Bucuresti"]
[null,null,null,null,null,null,null,null,null,null,null,null,null,null,null,null,null,null,null,"Stoica Florin","Bucuresti"]
[null,null,null,null,null,null,null,null,null,null,null,null,null,null,null,null,null,null,null,"Stoica Florin Cristian","Bucuresti"]
[null,null,null,null,null,null,null,null,null,null,null,null,null,null,null,null,null,null,null,"Stoica Ion","Slobozia"]
[null,null,null,null,null,null,null,null,null,null,null,null,null,null,null,null,null,null,null,"Stoica Kewin","Dumbraveni SB"]
[null,null,null,null,null,null,null,null,null,null,null,null,null,null,null,null,null,null,null,"Stoica Laura","Bucuresti"]
[null,null,null,null,null,null,null,null,null,null,null,null,null,null,null,null,null,null,null,"Stoica Liviu Gabriel","Slobozia"]
[null,null,null,null,null,null,null,null,null,null,null,null,null,null,null,null,null,null,null,"Stoica Lucian Andrei","Barlad"]
[null,null,null,null,null,null,null,null,null,null,null,null,null,null,null,null,null,null,null,"Stoica Maxim","Moldova-Cahul"]
[null,null,null,null,null,null,null,null,null,null,null,null,null,null,null,null,null,null,null,"Stoica Mihai","Hateg"]
[null,null,null,null,null,null,null,null,null,null,null,null,null,null,null,null,null,null,null,"Stoica Mihai","Brasov"]
[null,null,null,null,null,null,null,null,null,null,null,null,null,null,null,null,null,null,null,"Stoica Nicolae","Hunedoara"]
[null,null,null,null,null,null,null,null,null,null,null,null,null,null,null,null,null,null,null,"Stoica Pedro","Cluj Napoca"]
[null,null,null,null,null,null,null,null,null,null,null,null,null,null,null,null,null,null,null,"Stoica Polina","Moldova-Cahul"]
[null,null,null,null,null,null,null,null,null,null,null,null,null,null,null,null,null,null,null,"Stoica Sandel","Focsani"]
[null,null,null,null,null,null,null,null,null,null,null,null,null,null,null,null,null,null,null,"Stoicescu Gheorghe","Iedera"]
[null,null,null,null,null,null,null,null,null,null,null,null,null,null,null,null,null,null,null,"Stoicescu Radu","Buzau"]
[null,null,null,null,null,null,null,null,null,null,null,null,null,null,null,null,null,null,null,"Stoiciu Aurel","Resita"]
[null,null,null,null,null,null,null,null,null,null,null,null,null,null,null,null,null,null,null,"Stoinea Iulian","Bucuresti"]
[null,null,null,null,null,null,null,null,null,null,null,null,null,null,null,null,null,null,null,"Stoinescu Raul","Arad"]
[null,null,null,null,null,null,null,null,null,null,null,null,null,null,null,null,null,null,null,"Stoli Nicu","Tulcea"]
[null,null,null,null,null,null,null,null,null,null,null,null,null,null,null,null,null,null,null,"Stratiev Ivan","Moldova-Cazaclia"]
[null,null,null,null,null,null,null,null,null,null,null,null,null,null,null,null,null,null,null,"Streche Andrei","Bucuresti"]
[null,null,null,null,null,null,null,null,null,null,null,null,null,null,null,null,null,null,null,"Strimbu Adrian","Bucuresti"]
[null,null,null,null,null,null,null,null,null,null,null,null,null,null,null,null,null,null,null,"Stroe Ionel","Bacau"]
[null,null,null,null,null,null,null,null,null,null,null,null,null,null,null,null,null,null,null,"Stroie Marian","Bucuresti"]
[null,null,null,null,null,null,null,null,null,null,null,null,null,null,null,null,null,null,null,"Strugariu Ciprian","Radauti"]
[null,null,null,null,null,null,null,null,null,null,null,null,null,null,null,null,null,null,null,"Stupinean Mircea","Calan"]
[null,null,null,null,null,null,null,null,null,null,null,null,null,null,null,null,null,null,null,"Sturz Daniel","Resita"]
[null,null,null,null,null,null,null,null,null,null,null,null,null,null,null,null,null,null,null,"Suba Dan","Cluj Napoca"]
[null,null,null,null,null,null,null,null,null,null,null,null,null,null,null,null,null,null,null,"Suci Sandor","Oradea"]
[null,null,null,null,null,null,null,null,null,null,null,null,null,null,null,null,null,null,null,"Sucilea Adrian","Cluj Napoca"]
[null,null,null,null,null,null,null,null,null,null,null,null,null,null,null,null,null,null,null,"Suciu Andrei","Borsec"]
[null,null,null,null,null,null,null,null,null,null,null,null,null,null,null,null,null,null,null,"Suciu Cristian","Cluj Napoca"]
[null,null,null,null,null,null,null,null,null,null,null,null,null,null,null,null,null,null,null,"Suciu Daniel","Alba Iulia"]
[null,null,null,null,null,null,null,null,null,null,null,null,null,null,null,null,null,null,null,"Suciu Dragos","Constanta"]
[null,null,null,null,null,null,null,null,null,null,null,null,null,null,null,null,null,null,null,"Suciu Gheorghe","Alba Iulia"]
[null,null,null,null,null,null,null,null,null,null,null,null,null,null,null,null,null,null,null,"Suciu Iacob","Blaj"]
[null,null,null,null,null,null,null,null,null,null,null,null,null,null,null,null,null,null,null,"Suciu Stefan","Baia Mare"]
[null,null,null,null,null,null,null,null,null,null,null,null,null,null,null,null,null,null,null,"Suciu Traian Ioan","Cluj Napoca"]
[null,null,null,null,null,null,null,null,null,null,null,null,null,null,null,null,null,null,null,"Suculiuc Ciprian","Vaslui"]
[null,null,null,null,null,null,null,null,null,null,null,null,null,null,null,null,null,null,null,"Sular Ilie Daniel","Batos"]
[null,null,null,null,null,null,null,null,null,null,null,null,null,null,null,null,null,null,null,"Suliman Florin","Lumina"]
[null,null,null,null,null,null,null,null,null,null,null,null,null,null,null,null,null,null,null,"Sultan Valentin","Craiova"]
[null,null,null,null,null,null,null,null,null,null,null,null,null,null,null,null,null,null,null,"Sumanaru Catalin","Iasi"]
[null,null,null,null,null,null,null,null,null,null,null,null,null,null,null,null,null,null,null,"Supciuc Apollinaria","Moldova-Balti"]
[null,null,null,null,null,null,null,null,null,null,null,null,null,null,null,null,null,null,null,"Suptirel Narcis","Agnita"]
[null,null,null,null,null,null,null,null,null,null,null,null,null,null,null,null,null,null,null,"Surdeanu Petrut Laurentiu","Bucuresti"]
[null,null,null,null,null,null,null,null,null,null,null,null,null,null,null,null,null,null,null,"Sursilov Constantin","Bucuresti"]
[null,null,null,null,null,null,null,null,null,null,null,null,null,null,null,null,null,null,null,"Susan Mircea","Alba Iulia"]
[null,null,null,null,null,null,null,null,null,null,null,null,null,null,null,null,null,null,null,"Susman Alexandru","Alba Iulia"]
[null,null,null,null,null,null,null,null,null,null,null,null,null,null,null,null,null,null,null,"Susman Dan","Alba Iulia"]
[null,null,null,null,null,null,null,null,null,null,null,null,null,null,null,null,null,null,null,"Susnea Catalin","Tecuci"]
[null,null,null,null,null,null,null,null,null,null,null,null,null,null,null,null,null,null,null,"Sutei Marian","Slobozia"]
[null,null,null,null,null,null,null,null,null,null,null,null,null,null,null,null,null,null,null,"Suvei Ioan","Bistrita"]
[null,null,null,null,null,null,null,null,null,null,null,null,null,null,null,null,null,null,null,"Sylvester Sandor","Sfantu Gheorghe"]
[null,null,null,null,null,null,null,null,null,null,null,null,null,null,null,null,null,null,null,"Symonenko Yaroslav","Odesa"]
[null,null,null,null,null,null,null,null,null,null,null,null,null,null,null,null,null,null,null,"Szabo Attila","Odorheiu Secuiesc"]
[null,null,null,null,null,null,null,null,null,null,null,null,null,null,null,null,null,null,null,"Szabo Luka Kazmer","Miercurea Ciuc"]
[null,null,null,null,null,null,null,null,null,null,null,null,null,null,null,null,null,null,null,"Szabo Ovidiu","Dej"]
[null,null,null,null,null,null,null,null,null,null,null,null,null,null,null,null,null,null,null,"Szabo Tamas","Miercurea Ciuc"]
[null,null,null,null,null,null,null,null,null,null,null,null,null,null,null,null,null,null,null,"Szabo Zoltan","Suseni"]
[null,null,null,null,null,null,null,null,null,null,null,null,null,null,null,null,null,null,null,"Szakacs Attila","Corunca"]
[null,null,null,null,null,null,null,null,null,null,null,null,null,null,null,null,null,null,null,"Szakacs Raul","Deva"]
[null,null,null,null,null,null,null,null,null,null,null,null,null,null,null,null,null,null,null,"Szakacs Sandor","Sfantu Gheorghe"]
[null,null,null,null,null,null,null,null,null,null,null,null,null,null,null,null,null,null,null,"Szalay Liviu","Oradea"]
[null,null,null,null,null,null,null,null,null,null,null,null,null,null,null,null,null,null,null,"Szalkai Zoran","Brasov"]
[null,null,null,null,null,null,null,null,null,null,null,null,null,null,null,null,null,null,null,"Szalos Pal Ionut","Timisoara"]
[null,null,null,null,null,null,null,null,null,null,null,null,null,null,null,null,null,null,null,"Szanto Lajos","Miercurea Ciuc"]
[null,null,null,null,null,null,null,null,null,null,null,null,null,null,null,null,null,null,null,"Szarvas Karoly","Satu Mare"]
[null,null,null,null,null,null,null,null,null,null,null,null,null,null,null,null,null,null,null,"Szasz Zoltan","Gheorgheni"]
[null,null,null,null,null,null,null,null,null,null,null,null,null,null,null,null,null,null,null,"Szavuly Attila","Sovata"]
[null,null,null,null,null,null,null,null,null,null,null,null,null,null,null,null,null,null,null,"Szekely Claudia","Targu Mures"]
[null,null,null,null,null,null,null,null,null,null,null,null,null,null,null,null,null,null,null,"Szekely Gheorghe","Blaj"]
[null,null,null,null,null,null,null,null,null,null,null,null,null,null,null,null,null,null,null,"Szekely Zoltan","Gheorgheni"]
[null,null,null,null,null,null,null,null,null,null,null,null,null,null,null,null,null,null,null,"Szekeres Zoltan","Timisoara"]
[null,null,null,null,null,null,null,null,null,null,null,null,null,null,null,null,null,null,null,"Szemciuk Istvan","Deva"]
[null,null,null,null,null,null,null,null,null,null,null,null,null,null,null,null,null,null,null,"Szentmiklosi Bela","Oradea"]
[null,null,null,null,null,null,null,null,null,null,null,null,null,null,null,null,null,null,null,"Szep Octavian","Nasaud"]
[null,null,null,null,null,null,null,null,null,null,null,null,null,null,null,null,null,null,null,"Szilagyi Attila","Targu Mures"]
[null,null,null,null,null,null,null,null,null,null,null,null,null,null,null,null,null,null,null,"Szilagyi Emmanuel","Arad"]
[null,null,null,null,null,null,null,null,null,null,null,null,null,null,null,null,null,null,null,"Szivery Adrian","Arad"]
[null,null,null,null,null,null,null,null,null,null,null,null,null,null,null,null,null,null,null,"Szivos Attila","Ungaria"]
[null,null,null,null,null,null,null,null,null,null,null,null,null,null,null,null,null,null,null,"Szocs Szilveszter","Borsec"]
[null,null,null,null,null,null,null,null,null,null,null,null,null,null,null,null,null,null,null,"Tabacaru Ciprian","Vaslui"]
[null,null,null,null,null,null,null,null,null,null,null,null,null,null,null,null,null,null,null,"Tabacaru Constantin","Piatra Neamt"]
[null,null,null,null,null,null,null,null,null,null,null,null,null,null,null,null,null,null,null,"Tabacila Lica","Tecuci"]
[null,null,null,null,null,null,null,null,null,null,null,null,null,null,null,null,null,null,null,"Tabacu Alexandra","Giarmata"]
[null,null,null,null,null,null,null,null,null,null,null,null,null,null,null,null,null,null,null,"Tache Dumitru Cosmin","Bucuresti"]
[null,null,null,null,null,null,null,null,null,null,null,null,null,null,null,null,null,null,null,"Tache Marian","Ploiesti"]
[null,null,null,null,null,null,null,null,null,null,null,null,null,null,null,null,null,null,null,"Takac Radmilo","Belgrad"]
[null,null,null,null,null,null,null,null,null,null,null,null,null,null,null,null,null,null,null,"Takacs Csaba","Baia Mare"]
[null,null,null,null,null,null,null,null,null,null,null,null,null,null,null,null,null,null,null,"Takacs Kalman Jr","Fantanele"]
[null,null,null,null,null,null,null,null,null,null,null,null,null,null,null,null,null,null,null,"Takahashi Yuki","Bucuresti"]
[null,null,null,null,null,null,null,null,null,null,null,null,null,null,null,null,null,null,null,"Tala Lenard","Micfalau"]
[null,null,null,null,null,null,null,null,null,null,null,null,null,null,null,null,null,null,null,"Tala Medard","Micfalau"]
[null,null,null,null,null,null,null,null,null,null,null,null,null,null,null,null,null,null,null,"Talaba Mihai","Tecuci"]
[null,null,null,null,null,null,null,null,null,null,null,null,null,null,null,null,null,null,null,"Talmaciu Florin","Sibiu"]
[null,null,null,null,null,null,null,null,null,null,null,null,null,null,null,null,null,null,null,"Talpa Gheorghe","Moldova-Drochia"]
[null,null,null,null,null,null,null,null,null,null,null,null,null,null,null,null,null,null,null,"Tamas Szilard","Miercurea Ciuc"]
[null,null,null,null,null,null,null,null,null,null,null,null,null,null,null,null,null,null,null,"Tamsa Titus","Resita"]
[null,null,null,null,null,null,null,null,null,null,null,null,null,null,null,null,null,null,null,"Tanasa Gabriel","Suceava"]
[null,null,null,null,null,null,null,null,null,null,null,null,null,null,null,null,null,null,null,"Tanase Adrian","Harsova"]
[null,null,null,null,null,null,null,null,null,null,null,null,null,null,null,null,null,null,null,"Tanase Constantin","Slatina"]
[null,null,null,null,null,null,null,null,null,null,null,null,null,null,null,null,null,null,null,"Tanase Marian","Drobeta Tr Severin"]
[null,null,null,null,null,null,null,null,null,null,null,null,null,null,null,null,null,null,null,"Tanase Valentin","Piatra Neamt"]
[null,null,null,null,null,null,null,null,null,null,null,null,null,null,null,null,null,null,null,"Tanasov Marius","Tulcea"]
[null,null,null,null,null,null,null,null,null,null,null,null,null,null,null,null,null,null,null,"Tanc Florin","Oradea"]
[null,null,null,null,null,null,null,null,null,null,null,null,null,null,null,null,null,null,null,"Tanki Mate","Oradea"]
[null,null,null,null,null,null,null,null,null,null,null,null,null,null,null,null,null,null,null,"Tanu Mihai","Tecuci"]
[null,null,null,null,null,null,null,null,null,null,null,null,null,null,null,null,null,null,null,"Tapu Gabriel","Cluj Napoca"]
[null,null,null,null,null,null,null,null,null,null,null,null,null,null,null,null,null,null,null,"Tapu Mihai","Buzau"]
[null,null,null,null,null,null,null,null,null,null,null,null,null,null,null,null,null,null,null,"Taran Cornel","Sarmas"]
[null,null,null,null,null,null,null,null,null,null,null,null,null,null,null,null,null,null,null,"Taranu Nicusor","Tulcea"]
[null,null,null,null,null,null,null,null,null,null,null,null,null,null,null,null,null,null,null,"Tarasov Alexei","Moldova-Chisinau"]
[null,null,null,null,null,null,null,null,null,null,null,null,null,null,null,null,null,null,null,"Tarlev Roman","Moldova-Comrat"]
[null,null,null,null,null,null,null,null,null,null,null,null,null,null,null,null,null,null,null,"Tarnavean Robert","Cluj Napoca"]
[null,null,null,null,null,null,null,null,null,null,null,null,null,null,null,null,null,null,null,"Tarnavean Sorin","Cluj Napoca"]
[null,null,null,null,null,null,null,null,null,null,null,null,null,null,null,null,null,null,null,"Tascianu Cristian","Oradea"]
[null,null,null,null,null,null,null,null,null,null,null,null,null,null,null,null,null,null,null,"Tatar Dorel","Calan"]
[null,null,null,null,null,null,null,null,null,null,null,null,null,null,null,null,null,null,null,"Tatar Iosua","Jimbolia"]
[null,null,null,null,null,null,null,null,null,null,null,null,null,null,null,null,null,null,null,"Tatar Mihai","Simleu Silvaniei"]
[null,null,null,null,null,null,null,null,null,null,null,null,null,null,null,null,null,null,null,"Tataroi Alexandru","Moldova-Cahul"]
[null,null,null,null,null,null,null,null,null,null,null,null,null,null,null,null,null,null,null,"Tataru Alexandru","Vaslui"]
[null,null,null,null,null,null,null,null,null,null,null,null,null,null,null,null,null,null,null,"Tataru Nicolae","Vaslui"]
[null,null,null,null,null,null,null,null,null,null,null,null,null,null,null,null,null,null,null,"Tataru Robert Stefan","Vaslui"]
[null,null,null,null,null,null,null,null,null,null,null,null,null,null,null,null,null,null,null,"Tataru Tiberiu","Targu Jiu"]
[null,null,null,null,null,null,null,null,null,null,null,null,null,null,null,null,null,null,null,"Tatarus Andrei","Bucuresti"]
[null,null,null,null,null,null,null,null,null,null,null,null,null,null,null,null,null,null,null,"Taucci Anastasia","Moldova-Avdarma"]
[null,null,null,null,null,null,null,null,null,null,null,null,null,null,null,null,null,null,null,"Taut Ciprian","Cluj Napoca"]
[null,null,null,null,null,null,null,null,null,null,null,null,null,null,null,null,null,null,null,"Tcaciuc Sebastian","Suceava"]
[null,null,null,null,null,null,null,null,null,null,null,null,null,null,null,null,null,null,null,"Teaca Gabriel","Rosiori de Vede"]
[null,null,null,null,null,null,null,null,null,null,null,null,null,null,null,null,null,null,null,"Teaca Gheorghe","Moldova-Drochia"]
[null,null,null,null,null,null,null,null,null,null,null,null,null,null,null,null,null,null,null,"Teaca Vladimir","Moldova-Balti"]
[null,null,null,null,null,null,null,null,null,null,null,null,null,null,null,null,null,null,null,"Tecsa Ioan","Stremt"]
[null,null,null,null,null,null,null,null,null,null,null,null,null,null,null,null,null,null,null,"Tedi Ioja","Calan"]
[null,null,null,null,null,null,null,null,null,null,null,null,null,null,null,null,null,null,null,"Tegzes Angela","Stejeris"]
[null,null,null,null,null,null,null,null,null,null,null,null,null,null,null,null,null,null,null,"Tegzes Robert","Stejeris"]
[null,null,null,null,null,null,null,null,null,null,null,null,null,null,null,null,null,null,null,"Teica Alexandru","Targu Jiu"]
[null,null,null,null,null,null,null,null,null,null,null,null,null,null,null,null,null,null,null,"Telecan Mircea Vasile","Apahida"]
[null,null,null,null,null,null,null,null,null,null,null,null,null,null,null,null,null,null,null,"Temure Mario","Sannicolau Mare"]
[null,null,null,null,null,null,null,null,null,null,null,null,null,null,null,null,null,null,null,"Tentea Robert","Slobozia"]
[null,null,null,null,null,null,null,null,null,null,null,null,null,null,null,null,null,null,null,"Teodorescu Andu","Curtea de Arges"]
[null,null,null,null,null,null,null,null,null,null,null,null,null,null,null,null,null,null,null,"Teodorescu Bogdan Stefan","Snagov"]
[null,null,null,null,null,null,null,null,null,null,null,null,null,null,null,null,null,null,null,"Teodorescu Cosmin","Bucuresti"]
[null,null,null,null,null,null,null,null,null,null,null,null,null,null,null,null,null,null,null,"Teodorescu Gabriel","Alexandria"]
[null,null,null,null,null,null,null,null,null,null,null,null,null,null,null,null,null,null,null,"Teodorescu Marian","Bucuresti"]
[null,null,null,null,null,null,null,null,null,null,null,null,null,null,null,null,null,null,null,"Teodorescu Mircea","Medias"]
[null,null,null,null,null,null,null,null,null,null,null,null,null,null,null,null,null,null,null,"Teodorescu Robert","Bucuresti"]
[null,null,null,null,null,null,null,null,null,null,null,null,null,null,null,null,null,null,null,"Teodorescu Sandica","Ramnicu Sarat"]
[null,null,null,null,null,null,null,null,null,null,null,null,null,null,null,null,null,null,null,"Teodoru Matei","Buzau"]
[null,null,null,null,null,null,null,null,null,null,null,null,null,null,null,null,null,null,null,"Teodoru Pavel","Buzau"]
[null,null,null,null,null,null,null,null,null,null,null,null,null,null,null,null,null,null,null,"Tepes Vlad","Bucuresti"]
[null,null,null,null,null,null,null,null,null,null,null,null,null,null,null,null,null,null,null,"Tere Sergiu","Cluj Napoca"]
[null,null,null,null,null,null,null,null,null,null,null,null,null,null,null,null,null,null,null,"Terentii Cristian","Bucuresti"]
[null,null,null,null,null,null,null,null,null,null,null,null,null,null,null,null,null,null,null,"Terhes George","Zalau"]
[null,null,null,null,null,null,null,null,null,null,null,null,null,null,null,null,null,null,null,"Teris Valeriu","Comanesti"]
[null,null,null,null,null,null,null,null,null,null,null,null,null,null,null,null,null,null,null,"Termure Alvaro","Dobric"]
[null,null,null,null,null,null,null,null,null,null,null,null,null,null,null,null,null,null,null,"Ternauciuc Mihai","Nadrag"]
[null,null,null,null,null,null,null,null,null,null,null,null,null,null,null,null,null,null,null,"Ternauciuc Octavian","Nadrag"]
[null,null,null,null,null,null,null,null,null,null,null,null,null,null,null,null,null,null,null,"Terteci Ilie Lucian","Ramnicu Valcea"]
[null,null,null,null,null,null,null,null,null,null,null,null,null,null,null,null,null,null,null,"Terzinov Dmitri","Moldova-Cazaclia"]
[null,null,null,null,null,null,null,null,null,null,null,null,null,null,null,null,null,null,null,"Thomas William Knobel","Bucuresti"]
[null,null,null,null,null,null,null,null,null,null,null,null,null,null,null,null,null,null,null,"Thouzard Adrian","Drobeta Tr Severin"]
[null,null,null,null,null,null,null,null,null,null,null,null,null,null,null,null,null,null,null,"Tibirna Andrei","Iasi"]
[null,null,null,null,null,null,null,null,null,null,null,null,null,null,null,null,null,null,null,"Tibirna Petru","Iasi"]
[null,null,null,null,null,null,null,null,null,null,null,null,null,null,null,null,null,null,null,"Tibre Florina","Cluj Napoca"]
[null,null,null,null,null,null,null,null,null,null,null,null,null,null,null,null,null,null,null,"Tibre Lucian","Cluj Napoca"]
[null,null,null,null,null,null,null,null,null,null,null,null,null,null,null,null,null,null,null,"Tibu Stefania","Scheia SV"]
[null,null,null,null,null,null,null,null,null,null,null,null,null,null,null,null,null,null,null,"Tic Ioan","Oradea"]
[null,null,null,null,null,null,null,null,null,null,null,null,null,null,null,null,null,null,null,"Ticala Sorin","Aiud"]
[null,null,null,null,null,null,null,null,null,null,null,null,null,null,null,null,null,null,null,"Ticala Vasile","Viseu"]
[null,null,null,null,null,null,null,null,null,null,null,null,null,null,null,null,null,null,null,"Ticleanu Loredana","Craiova"]
[null,null,null,null,null,null,null,null,null,null,null,null,null,null,null,null,null,null,null,"Ticlete Stefan Cosmin","Drobeta Tr Severin"]
[null,null,null,null,null,null,null,null,null,null,null,null,null,null,null,null,null,null,null,"Ticu Dorin","Bacau"]
[null,null,null,null,null,null,null,null,null,null,null,null,null,null,null,null,null,null,null,"Ticu Razvan","Bucuresti"]
[null,null,null,null,null,null,null,null,null,null,null,null,null,null,null,null,null,null,null,"Tigau Dan","Bucuresti"]
[null,null,null,null,null,null,null,null,null,null,null,null,null,null,null,null,null,null,null,"Tilica Gabriel","Targoviste"]
[null,null,null,null,null,null,null,null,null,null,null,null,null,null,null,null,null,null,null,"Timaru Ilie","Sibiu"]
[null,null,null,null,null,null,null,null,null,null,null,null,null,null,null,null,null,null,null,"Timis Sandu","Vizejdia"]
[null,null,null,null,null,null,null,null,null,null,null,null,null,null,null,null,null,null,null,"Timiser Alin","Cluj Napoca"]
[null,null,null,null,null,null,null,null,null,null,null,null,null,null,null,null,null,null,null,"Timnea Alex Cristian","Bucuresti"]
[null,null,null,null,null,null,null,null,null,null,null,null,null,null,null,null,null,null,null,"Timoc Bogdan","Cluj Napoca"]
[null,null,null,null,null,null,null,null,null,null,null,null,null,null,null,null,null,null,null,"Timofei Alberto","Tulcea"]
[null,null,null,null,null,null,null,null,null,null,null,null,null,null,null,null,null,null,null,"Timofte Razvan","Hunedoara"]
[null,null,null,null,null,null,null,null,null,null,null,null,null,null,null,null,null,null,null,"Tin Catalin","Bucuresti"]
[null,null,null,null,null,null,null,null,null,null,null,null,null,null,null,null,null,null,null,"Tincu Adrian","Tulcea"]
[null,null,null,null,null,null,null,null,null,null,null,null,null,null,null,null,null,null,null,"Tincu Adrian","Bucuresti"]
[null,null,null,null,null,null,null,null,null,null,null,null,null,null,null,null,null,null,null,"Tincu Catalin","Hunedoara"]
[null,null,null,null,null,null,null,null,null,null,null,null,null,null,null,null,null,null,null,"Tincu Laurentiu","Sibiu"]
[null,null,null,null,null,null,null,null,null,null,null,null,null,null,null,null,null,null,null,"Tini Alina Stefania","Constanta"]
[null,null,null,null,null,null,null,null,null,null,null,null,null,null,null,null,null,null,null,"Tintarcu Gabriel","Bucuresti"]
[null,null,null,null,null,null,null,null,null,null,null,null,null,null,null,null,null,null,null,"Tintas Adrian","Sighetu Marmatiei"]
[null,null,null,null,null,null,null,null,null,null,null,null,null,null,null,null,null,null,null,"Tiosea Nicolae","Bucuresti"]
[null,null,null,null,null,null,null,null,null,null,null,null,null,null,null,null,null,null,null,"Tipa Aurel Maxim","Solonet"]
[null,null,null,null,null,null,null,null,null,null,null,null,null,null,null,null,null,null,null,"Tipser Gabriel","Sighisoara"]
[null,null,null,null,null,null,null,null,null,null,null,null,null,null,null,null,null,null,null,"Tipu Vlad","Iasi"]
[null,null,null,null,null,null,null,null,null,null,null,null,null,null,null,null,null,null,null,"Tira Viorel","Bistrita"]
[null,null,null,null,null,null,null,null,null,null,null,null,null,null,null,null,null,null,null,"Tirc Stelian","Apahida"]
[null,null,null,null,null,null,null,null,null,null,null,null,null,null,null,null,null,null,null,"Tirdea Ionut","Tecuci"]
[null,null,null,null,null,null,null,null,null,null,null,null,null,null,null,null,null,null,null,"Tirizica Ioan","Zalau"]
[null,null,null,null,null,null,null,null,null,null,null,null,null,null,null,null,null,null,null,"Tirlea Gheorghe","Brasov"]
[null,null,null,null,null,null,null,null,null,null,null,null,null,null,null,null,null,null,null,"Tirnoveanu Robert","Cluj Napoca"]
[null,null,null,null,null,null,null,null,null,null,null,null,null,null,null,null,null,null,null,"Tirnoveanu Sorin","Cluj Napoca"]
[null,null,null,null,null,null,null,null,null,null,null,null,null,null,null,null,null,null,null,"Tiron Marian","Iasi"]
[null,null,null,null,null,null,null,null,null,null,null,null,null,null,null,null,null,null,null,"Tirulnic Evgheni","Bucuresti"]
[null,null,null,null,null,null,null,null,null,null,null,null,null,null,null,null,null,null,null,"Titiliuc Alesia","Dersca"]
[null,null,null,null,null,null,null,null,null,null,null,null,null,null,null,null,null,null,null,"Titiliuc Costel","Dersca"]
[null,null,null,null,null,null,null,null,null,null,null,null,null,null,null,null,null,null,null,"Titirig Corneliu","Gura Humorului"]
[null,null,null,null,null,null,null,null,null,null,null,null,null,null,null,null,null,null,null,"Toader Alexandru","Galati"]
[null,null,null,null,null,null,null,null,null,null,null,null,null,null,null,null,null,null,null,"Toader Cristian","Bucuresti"]
[null,null,null,null,null,null,null,null,null,null,null,null,null,null,null,null,null,null,null,"Toader Daniel Mihai","Alba Iulia"]
[null,null,null,null,null,null,null,null,null,null,null,null,null,null,null,null,null,null,null,"Toader George","Agnita"]
[null,null,null,null,null,null,null,null,null,null,null,null,null,null,null,null,null,null,null,"Toader Georgian","Bucuresti"]
[null,null,null,null,null,null,null,null,null,null,null,null,null,null,null,null,null,null,null,"Toader Nicolae","Tulcea"]
[null,null,null,null,null,null,null,null,null,null,null,null,null,null,null,null,null,null,null,"Toader Ovidiu","Balan"]
[null,null,null,null,null,null,null,null,null,null,null,null,null,null,null,null,null,null,null,"Toader Petru","Mogosoaia"]
[null,null,null,null,null,null,null,null,null,null,null,null,null,null,null,null,null,null,null,"Toader Valentin","Agnita"]
[null,null,null,null,null,null,null,null,null,null,null,null,null,null,null,null,null,null,null,"Toanchina Antonio Bogdan","Iasi BV"]
[null,null,null,null,null,null,null,null,null,null,null,null,null,null,null,null,null,null,null,"Tobol Arsenii","Moldova-Balti"]
[null,null,null,null,null,null,null,null,null,null,null,null,null,null,null,null,null,null,null,"Tobosaru Gheorghe","Brasov"]
[null,null,null,null,null,null,null,null,null,null,null,null,null,null,null,null,null,null,null,"Tobosaru Stefan","Brasov"]
[null,null,null,null,null,null,null,null,null,null,null,null,null,null,null,null,null,null,null,"Tocaciu Septimiu","Beclean"]
[null,null,null,null,null,null,null,null,null,null,null,null,null,null,null,null,null,null,null,"Todarcea Ioan","Sibiu"]
[null,null,null,null,null,null,null,null,null,null,null,null,null,null,null,null,null,null,null,"Todea Adrian","Apahida"]
[null,null,null,null,null,null,null,null,null,null,null,null,null,null,null,null,null,null,null,"Todea Alexandru","Cluj Napoca"]
[null,null,null,null,null,null,null,null,null,null,null,null,null,null,null,null,null,null,null,"Todea Ioan","Rasca"]
[null,null,null,null,null,null,null,null,null,null,null,null,null,null,null,null,null,null,null,"Todea Mircea","Cluj Napoca"]
[null,null,null,null,null,null,null,null,null,null,null,null,null,null,null,null,null,null,null,"Toderita Catalina","Bucuresti"]
[null,null,null,null,null,null,null,null,null,null,null,null,null,null,null,null,null,null,null,"Todi Dumitru","Slobozia"]
[null,null,null,null,null,null,null,null,null,null,null,null,null,null,null,null,null,null,null,"Todiras Ion","Moldova-Floresti"]
[null,null,null,null,null,null,null,null,null,null,null,null,null,null,null,null,null,null,null,"Todiras Stefan","Voinesti"]
[null,null,null,null,null,null,null,null,null,null,null,null,null,null,null,null,null,null,null,"Todireanu Valentin","Iasi"]
[null,null,null,null,null,null,null,null,null,null,null,null,null,null,null,null,null,null,null,"Todoca David","Stei"]
[null,null,null,null,null,null,null,null,null,null,null,null,null,null,null,null,null,null,null,"Todor Cristian","Oradea"]
[null,null,null,null,null,null,null,null,null,null,null,null,null,null,null,null,null,null,null,"Todor Csaba","Gheorgheni"]
[null,null,null,null,null,null,null,null,null,null,null,null,null,null,null,null,null,null,null,"Todoran Matei","Medias"]
[null,null,null,null,null,null,null,null,null,null,null,null,null,null,null,null,null,null,null,"Todorut Catalin","Arad"]
[null,null,null,null,null,null,null,null,null,null,null,null,null,null,null,null,null,null,null,"Todos Dumitru","Moldova-Cahul"]
[null,null,null,null,null,null,null,null,null,null,null,null,null,null,null,null,null,null,null,"Tofalvi Erzsebet","Odorheiu Secuiesc"]
[null,null,null,null,null,null,null,null,null,null,null,null,null,null,null,null,null,null,null,"Tofan Sebastian","Lipova"]
[null,null,null,null,null,null,null,null,null,null,null,null,null,null,null,null,null,null,null,"Tofeni Florin","Chichis"]
[null,null,null,null,null,null,null,null,null,null,null,null,null,null,null,null,null,null,null,"Tofeni Ovidiu","Cluj Napoca"]
[null,null,null,null,null,null,null,null,null,null,null,null,null,null,null,null,null,null,null,"Tokai Laszlo","Oradea"]
[null,null,null,null,null,null,null,null,null,null,null,null,null,null,null,null,null,null,null,"Toma Adrian","Sfantu Gheorghe"]
[null,null,null,null,null,null,null,null,null,null,null,null,null,null,null,null,null,null,null,"Toma Adrian","Bucuresti"]
[null,null,null,null,null,null,null,null,null,null,null,null,null,null,null,null,null,null,null,"Toma Alexandru","Bucuresti"]
[null,null,null,null,null,null,null,null,null,null,null,null,null,null,null,null,null,null,null,"Toma Andrei","Reghin"]
[null,null,null,null,null,null,null,null,null,null,null,null,null,null,null,null,null,null,null,"Toma Aniela","Targoviste"]
[null,null,null,null,null,null,null,null,null,null,null,null,null,null,null,null,null,null,null,"Toma Cristian","Oradea"]
[null,null,null,null,null,null,null,null,null,null,null,null,null,null,null,null,null,null,null,"Toma Cristian","Balotesti"]
[null,null,null,null,null,null,null,null,null,null,null,null,null,null,null,null,null,null,null,"Toma Cristian","Alexandria"]
[null,null,null,null,null,null,null,null,null,null,null,null,null,null,null,null,null,null,null,"Toma Dan","Sfantu Gheorghe"]
[null,null,null,null,null,null,null,null,null,null,null,null,null,null,null,null,null,null,null,"Toma David","Bucuresti"]
[null,null,null,null,null,null,null,null,null,null,null,null,null,null,null,null,null,null,null,"Toma Dumitru","Oradea"]
[null,null,null,null,null,null,null,null,null,null,null,null,null,null,null,null,null,null,null,"Toma Florin","Pitesti"]
[null,null,null,null,null,null,null,null,null,null,null,null,null,null,null,null,null,null,null,"Toma Florin Augustin","Slobozia"]
[null,null,null,null,null,null,null,null,null,null,null,null,null,null,null,null,null,null,null,"Toma Iulian","Braila"]
[null,null,null,null,null,null,null,null,null,null,null,null,null,null,null,null,null,null,null,"Toma Mihnea","Craiova"]
[null,null,null,null,null,null,null,null,null,null,null,null,null,null,null,null,null,null,null,"Toma Nicolai","Moldova-Chisinau"]
[null,null,null,null,null,null,null,null,null,null,null,null,null,null,null,null,null,null,null,"Toma Sebastian","Ramnicu Sarat"]
[null,null,null,null,null,null,null,null,null,null,null,null,null,null,null,null,null,null,null,"Toma Vlad","Harsova"]
[null,null,null,null,null,null,null,null,null,null,null,null,null,null,null,null,null,null,null,"Tomer Almong","Israel"]
[null,null,null,null,null,null,null,null,null,null,null,null,null,null,null,null,null,null,null,"Tomer Hadar","Sofia"]
[null,null,null,null,null,null,null,null,null,null,null,null,null,null,null,null,null,null,null,"Tomoiu Stefan","Hunedoara"]
[null,null,null,null,null,null,null,null,null,null,null,null,null,null,null,null,null,null,null,"Tomovic Uros","Belgrad"]
[null,null,null,null,null,null,null,null,null,null,null,null,null,null,null,null,null,null,null,"Toncean Claudiu","Reghin"]
[null,null,null,null,null,null,null,null,null,null,null,null,null,null,null,null,null,null,null,"Tonciu Costin","Branesti"]
[null,null,null,null,null,null,null,null,null,null,null,null,null,null,null,null,null,null,null,"Tonciu David","Bucuresti"]
[null,null,null,null,null,null,null,null,null,null,null,null,null,null,null,null,null,null,null,"Tonciu Mihai","Branesti"]
[null,null,null,null,null,null,null,null,null,null,null,null,null,null,null,null,null,null,null,"Tonu Pavel","Moldova-Balti"]
[null,null,null,null,null,null,null,null,null,null,null,null,null,null,null,null,null,null,null,"Toplician Mihai","Hunedoara"]
[null,null,null,null,null,null,null,null,null,null,null,null,null,null,null,null,null,null,null,"Topsaneanu Valentin","Chitila"]
[null,null,null,null,null,null,null,null,null,null,null,null,null,null,null,null,null,null,null,"Tordai Adrian Bogdan","Bucuresti"]
[null,null,null,null,null,null,null,null,null,null,null,null,null,null,null,null,null,null,null,"Toric Constantin","Bucuresti"]
[null,null,null,null,null,null,null,null,null,null,null,null,null,null,null,null,null,null,null,"Tose Cristian","Oradea"]
[null,null,null,null,null,null,null,null,null,null,null,null,null,null,null,null,null,null,null,"Tose Petre","Oradea"]
[null,null,null,null,null,null,null,null,null,null,null,null,null,null,null,null,null,null,null,"Tosu Alexandru","Floresti"]
[null,null,null,null,null,null,null,null,null,null,null,null,null,null,null,null,null,null,null,"Tosun Mihai Ciprian","Brasov"]
[null,null,null,null,null,null,null,null,null,null,null,null,null,null,null,null,null,null,null,"Toth Attila","Sfantu Gheorghe"]
[null,null,null,null,null,null,null,null,null,null,null,null,null,null,null,null,null,null,null,"Toth Geza","Sfantu Gheorghe"]
[null,null,null,null,null,null,null,null,null,null,null,null,null,null,null,null,null,null,null,"Toth Rudolph","Sighisoara"]
[null,null,null,null,null,null,null,null,null,null,null,null,null,null,null,null,null,null,null,"Toth Zoltan","Miercurea Ciuc"]
[null,null,null,null,null,null,null,null,null,null,null,null,null,null,null,null,null,null,null,"Totos Ludovic","Marghita"]
[null,null,null,null,null,null,null,null,null,null,null,null,null,null,null,null,null,null,null,"Totpal Marius","Busteni"]
[null,null,null,null,null,null,null,null,null,null,null,null,null,null,null,null,null,null,null,"Tournier Anthony","Franta"]
[null,null,null,null,null,null,null,null,null,null,null,null,null,null,null,null,null,null,null,"Tournier Frederic","Franta"]
[null,null,null,null,null,null,null,null,null,null,null,null,null,null,null,null,null,null,null,"Tovis Levente","Cluj Napoca"]
[null,null,null,null,null,null,null,null,null,null,null,null,null,null,null,null,null,null,null,"Traistaru Adrian","Campia Turzii"]
[null,null,null,null,null,null,null,null,null,null,null,null,null,null,null,null,null,null,null,"Trajicevski Nikola","Pancevo"]
[null,null,null,null,null,null,null,null,null,null,null,null,null,null,null,null,null,null,null,"Trandafir Catalin","Slobozia"]
[null,null,null,null,null,null,null,null,null,null,null,null,null,null,null,null,null,null,null,"Trandafir Mirel","Valea Lunga"]
[null,null,null,null,null,null,null,null,null,null,null,null,null,null,null,null,null,null,null,"Trandafir Radu Catalin","Giurgiu"]
[null,null,null,null,null,null,null,null,null,null,null,null,null,null,null,null,null,null,null,"Trandafir Raul","Bucuresti"]
[null,null,null,null,null,null,null,null,null,null,null,null,null,null,null,null,null,null,null,"Trandafir Vasile","Targu Mures"]
[null,null,null,null,null,null,null,null,null,null,null,null,null,null,null,null,null,null,null,"Traneci Andrei Valentin","Bucuresti"]
[null,null,null,null,null,null,null,null,null,null,null,null,null,null,null,null,null,null,null,"Trebel Robert","Bocsa"]
[null,null,null,null,null,null,null,null,null,null,null,null,null,null,null,null,null,null,null,"Tremurici Marian","Tulcea"]
[null,null,null,null,null,null,null,null,null,null,null,null,null,null,null,null,null,null,null,"Trif Costel","Sacalaseni"]
[null,null,null,null,null,null,null,null,null,null,null,null,null,null,null,null,null,null,null,"Trif David","Floresti"]
[null,null,null,null,null,null,null,null,null,null,null,null,null,null,null,null,null,null,null,"Trif Marius","Atintis"]
[null,null,null,null,null,null,null,null,null,null,null,null,null,null,null,null,null,null,null,"Trif Mihai","Cluj Napoca"]
[null,null,null,null,null,null,null,null,null,null,null,null,null,null,null,null,null,null,null,"Trifan David","Piatra Neamt"]
[null,null,null,null,null,null,null,null,null,null,null,null,null,null,null,null,null,null,null,"Trifan Tamara","Iasi"]
[null,null,null,null,null,null,null,null,null,null,null,null,null,null,null,null,null,null,null,"Triff Raul","Deva"]
[null,null,null,null,null,null,null,null,null,null,null,null,null,null,null,null,null,null,null,"Tripon Razvan","Arad"]
[null,null,null,null,null,null,null,null,null,null,null,null,null,null,null,null,null,null,null,"Trocan Nicolae","Mioveni"]
[null,null,null,null,null,null,null,null,null,null,null,null,null,null,null,null,null,null,null,"Trocaru Remus","Tulcea"]
[null,null,null,null,null,null,null,null,null,null,null,null,null,null,null,null,null,null,null,"Tronciu Gabriel","Roman"]
[null,null,null,null,null,null,null,null,null,null,null,null,null,null,null,null,null,null,null,"Trusca Claudiu","Drobeta Tr Severin"]
[null,null,null,null,null,null,null,null,null,null,null,null,null,null,null,null,null,null,null,"Trusculescu Anastasia","Drobeta Tr Severin"]
[null,null,null,null,null,null,null,null,null,null,null,null,null,null,null,null,null,null,null,"Trusculescu Iarina","Drobeta Tr Severin"]
[null,null,null,null,null,null,null,null,null,null,null,null,null,null,null,null,null,null,null,"Truta Ioan","Cluj Napoca"]
[null,null,null,null,null,null,null,null,null,null,null,null,null,null,null,null,null,null,null,"Tsubera Ion","Sighetu Marmatiei"]
[null,null,null,null,null,null,null,null,null,null,null,null,null,null,null,null,null,null,null,"Tuca Cristi","Slatina"]
[null,null,null,null,null,null,null,null,null,null,null,null,null,null,null,null,null,null,null,"Tucuina Dragos","Dumbravita"]
[null,null,null,null,null,null,null,null,null,null,null,null,null,null,null,null,null,null,null,"Tudor Aurel","Harsova"]
[null,null,null,null,null,null,null,null,null,null,null,null,null,null,null,null,null,null,null,"Tudor Casian","Timisoara"]
[null,null,null,null,null,null,null,null,null,null,null,null,null,null,null,null,null,null,null,"Tudor Cosmin","Buzau"]
[null,null,null,null,null,null,null,null,null,null,null,null,null,null,null,null,null,null,null,"Tudor Florian","Bucuresti"]
[null,null,null,null,null,null,null,null,null,null,null,null,null,null,null,null,null,null,null,"Tudor Marta","Gilau"]
[null,null,null,null,null,null,null,null,null,null,null,null,null,null,null,null,null,null,null,"Tudor Mihai Maximilian","Alexandria"]
[null,null,null,null,null,null,null,null,null,null,null,null,null,null,null,null,null,null,null,"Tudor Razvan","Botosani"]
[null,null,null,null,null,null,null,null,null,null,null,null,null,null,null,null,null,null,null,"Tudor Theodor","Roman"]
[null,null,null,null,null,null,null,null,null,null,null,null,null,null,null,null,null,null,null,"Tudor Valeriu","Ploiesti"]
[null,null,null,null,null,null,null,null,null,null,null,null,null,null,null,null,null,null,null,"Tudorache Alexandra","Targoviste"]
[null,null,null,null,null,null,null,null,null,null,null,null,null,null,null,null,null,null,null,"Tudorache Constantin","Targoviste"]
[null,null,null,null,null,null,null,null,null,null,null,null,null,null,null,null,null,null,null,"Tudoran Catalin","Timisoara"]
[null,null,null,null,null,null,null,null,null,null,null,null,null,null,null,null,null,null,null,"Tudorica Ionut","Bucuresti"]
[null,null,null,null,null,null,null,null,null,null,null,null,null,null,null,null,null,null,null,"Tudorut Dragos","Sibiu"]
[null,null,null,null,null,null,null,null,null,null,null,null,null,null,null,null,null,null,null,"Tudose Ilariu","Dragasani"]
[null,null,null,null,null,null,null,null,null,null,null,null,null,null,null,null,null,null,null,"Tudose Iulian","Galati"]
[null,null,null,null,null,null,null,null,null,null,null,null,null,null,null,null,null,null,null,"Tudose Laurentiu","Comanesti"]
[null,null,null,null,null,null,null,null,null,null,null,null,null,null,null,null,null,null,null,"Tudose Marius","Galati"]
[null,null,null,null,null,null,null,null,null,null,null,null,null,null,null,null,null,null,null,"Tudose Vlad","Bucuresti"]
[null,null,null,null,null,null,null,null,null,null,null,null,null,null,null,null,null,null,null,"Tudosi Petru","Suceava"]
[null,null,null,null,null,null,null,null,null,null,null,null,null,null,null,null,null,null,null,"Tudosie David","Ploiesti"]
[null,null,null,null,null,null,null,null,null,null,null,null,null,null,null,null,null,null,null,"Tudureanu Ioan","Navodari"]
[null,null,null,null,null,null,null,null,null,null,null,null,null,null,null,null,null,null,null,"Tufeanu Ionut","Tulcea"]
[null,null,null,null,null,null,null,null,null,null,null,null,null,null,null,null,null,null,null,"Tulburi Ion","Moldova-Balti"]
[null,null,null,null,null,null,null,null,null,null,null,null,null,null,null,null,null,null,null,"Tulei Marius","Iasi"]
[null,null,null,null,null,null,null,null,null,null,null,null,null,null,null,null,null,null,null,"Tulei Mihaela Evelina","Iasi"]
[null,null,null,null,null,null,null,null,null,null,null,null,null,null,null,null,null,null,null,"Tulei Stefan","Iasi"]
[null,null,null,null,null,null,null,null,null,null,null,null,null,null,null,null,null,null,null,"Tulpan George Laurentiu","Targu Jiu"]
[null,null,null,null,null,null,null,null,null,null,null,null,null,null,null,null,null,null,null,"Turbatu Rares","Fieni"]
[null,null,null,null,null,null,null,null,null,null,null,null,null,null,null,null,null,null,null,"Turburan Ion","Resita"]
[null,null,null,null,null,null,null,null,null,null,null,null,null,null,null,null,null,null,null,"Turcan Vitalie","Moldova-Balti"]
[null,null,null,null,null,null,null,null,null,null,null,null,null,null,null,null,null,null,null,"Turcanu Amalia","Dumbravita"]
[null,null,null,null,null,null,null,null,null,null,null,null,null,null,null,null,null,null,null,"Turcanu Eugen Dan","Iasi"]
[null,null,null,null,null,null,null,null,null,null,null,null,null,null,null,null,null,null,null,"Turcanu Gabriel","Harsova"]
[null,null,null,null,null,null,null,null,null,null,null,null,null,null,null,null,null,null,null,"Turcescu Stefan","Pitesti"]
[null,null,null,null,null,null,null,null,null,null,null,null,null,null,null,null,null,null,null,"Turcinschi Serghei","Moldova-Balti"]
[null,null,null,null,null,null,null,null,null,null,null,null,null,null,null,null,null,null,null,"Turcu Alexandru","Craiova"]
[null,null,null,null,null,null,null,null,null,null,null,null,null,null,null,null,null,null,null,"Turcu Nicusor","Iasi"]
[null,null,null,null,null,null,null,null,null,null,null,null,null,null,null,null,null,null,null,"TURCU Petru","Sibiu"]
[null,null,null,null,null,null,null,null,null,null,null,null,null,null,null,null,null,null,null,"Turcu Viorel","Piatra Neamt"]
[null,null,null,null,null,null,null,null,null,null,null,null,null,null,null,null,null,null,null,"Turcut Radu","Cluj Napoca"]
[null,null,null,null,null,null,null,null,null,null,null,null,null,null,null,null,null,null,null,"Turlanoiu Alexandru","Sibiu"]
[null,null,null,null,null,null,null,null,null,null,null,null,null,null,null,null,null,null,null,"Turtica Cristian","Bucuresti"]
[null,null,null,null,null,null,null,null,null,null,null,null,null,null,null,null,null,null,null,"Turtoi Costin","Tulcea"]
[null,null,null,null,null,null,null,null,null,null,null,null,null,null,null,null,null,null,null,"Tuta Stefan","Sibiu"]
[null,null,null,null,null,null,null,null,null,null,null,null,null,null,null,null,null,null,null,"Tutos Csaba","Oradea"]
[null,null,null,null,null,null,null,null,null,null,null,null,null,null,null,null,null,null,null,"Tutoveanu Razvan","Brasov"]
[null,null,null,null,null,null,null,null,null,null,null,null,null,null,null,null,null,null,null,"Tutuianu Radu","Timisoara"]
[null,null,null,null,null,null,null,null,null,null,null,null,null,null,null,null,null,null,null,"Ublodi Mellissa","Lombardia Italia"]
[null,null,null,null,null,null,null,null,null,null,null,null,null,null,null,null,null,null,null,"Udila Emanuel","Bucuresti"]
[null,null,null,null,null,null,null,null,null,null,null,null,null,null,null,null,null,null,null,"Udrea Valentin","Bucuresti"]
[null,null,null,null,null,null,null,null,null,null,null,null,null,null,null,null,null,null,null,"Udrescu Darius","Faget"]
[null,null,null,null,null,null,null,null,null,null,null,null,null,null,null,null,null,null,null,"Udrescu David","Faget"]
[null,null,null,null,null,null,null,null,null,null,null,null,null,null,null,null,null,null,null,"Ududec Mihai","Suceava"]
[null,null,null,null,null,null,null,null,null,null,null,null,null,null,null,null,null,null,null,"Udvari Zoltan","Delenii"]
[null,null,null,null,null,null,null,null,null,null,null,null,null,null,null,null,null,null,null,"Uglea Mihai","Cluj Napoca"]
[null,null,null,null,null,null,null,null,null,null,null,null,null,null,null,null,null,null,null,"Ulea Andrei","Moinesti"]
[null,null,null,null,null,null,null,null,null,null,null,null,null,null,null,null,null,null,null,"Ulman Tudor","Bucuresti"]
[null,null,null,null,null,null,null,null,null,null,null,null,null,null,null,null,null,null,null,"Unciuleac Alin","Iasi"]
[null,null,null,null,null,null,null,null,null,null,null,null,null,null,null,null,null,null,null,"Ungureanu Adrian","Piatra Neamt"]
[null,null,null,null,null,null,null,null,null,null,null,null,null,null,null,null,null,null,null,"Ungureanu Constantin","Suceava"]
[null,null,null,null,null,null,null,null,null,null,null,null,null,null,null,null,null,null,null,"Ungureanu Cristi","Botosani"]
[null,null,null,null,null,null,null,null,null,null,null,null,null,null,null,null,null,null,null,"Ungureanu Doru","Focsani"]
[null,null,null,null,null,null,null,null,null,null,null,null,null,null,null,null,null,null,null,"Ungureanu Gheorghita","Focsani"]
[null,null,null,null,null,null,null,null,null,null,null,null,null,null,null,null,null,null,null,"Ungureanu Petrica","Pascani"]
[null,null,null,null,null,null,null,null,null,null,null,null,null,null,null,null,null,null,null,"Ungvari Kriszta","Targu Mures"]
[null,null,null,null,null,null,null,null,null,null,null,null,null,null,null,null,null,null,null,"Ungvari Levente","Targu Mures"]
[null,null,null,null,null,null,null,null,null,null,null,null,null,null,null,null,null,null,null,"Untu Adrian","Iasi"]
[null,null,null,null,null,null,null,null,null,null,null,null,null,null,null,null,null,null,null,"Urcan Lucian","Timisoara"]
[null,null,null,null,null,null,null,null,null,null,null,null,null,null,null,null,null,null,null,"Urdes Florentina Ruxandra","Tulcea"]
[null,null,null,null,null,null,null,null,null,null,null,null,null,null,null,null,null,null,null,"Urs Lucian","Nasaud"]
[null,null,null,null,null,null,null,null,null,null,null,null,null,null,null,null,null,null,null,"Ursache Ciprian Jean","Focsani"]
[null,null,null,null,null,null,null,null,null,null,null,null,null,null,null,null,null,null,null,"Ursachi David","Bucuresti"]
[null,null,null,null,null,null,null,null,null,null,null,null,null,null,null,null,null,null,null,"Ursan Stefan","Manastireni"]
[null,null,null,null,null,null,null,null,null,null,null,null,null,null,null,null,null,null,null,"Ursescu Iuliu","Radauti"]
[null,null,null,null,null,null,null,null,null,null,null,null,null,null,null,null,null,null,null,"Ursu Ciprian","Calan"]
[null,null,null,null,null,null,null,null,null,null,null,null,null,null,null,null,null,null,null,"Ursu Magdalena","Moldova-Balti"]
[null,null,null,null,null,null,null,null,null,null,null,null,null,null,null,null,null,null,null,"Ursu Maria","Moldova-Balti"]
[null,null,null,null,null,null,null,null,null,null,null,null,null,null,null,null,null,null,null,"Ursu Silviu","Timisoara"]
[null,null,null,null,null,null,null,null,null,null,null,null,null,null,null,null,null,null,null,"Ursu Teodor","Bucuresti"]
[null,null,null,null,null,null,null,null,null,null,null,null,null,null,null,null,null,null,null,"Ursulean Vasile","Straja"]
[null,null,null,null,null,null,null,null,null,null,null,null,null,null,null,null,null,null,null,"Ursulescu Ioan","Bacau"]
[null,null,null,null,null,null,null,null,null,null,null,null,null,null,null,null,null,null,null,"Ursulescu Octavian","Curtea"]
[null,null,null,null,null,null,null,null,null,null,null,null,null,null,null,null,null,null,null,"Ursz Bombonel","Sibiu"]
[null,null,null,null,null,null,null,null,null,null,null,null,null,null,null,null,null,null,null,"Urus Kristof","Sfantu Gheorghe"]
[null,null,null,null,null,null,null,null,null,null,null,null,null,null,null,null,null,null,null,"Urzica Dragos","Botosani"]
[null,null,null,null,null,null,null,null,null,null,null,null,null,null,null,null,null,null,null,"Urzica Ioan","Toplita"]
[null,null,null,null,null,null,null,null,null,null,null,null,null,null,null,null,null,null,null,"Urzica Ionut","Piatra Neamt"]
[null,null,null,null,null,null,null,null,null,null,null,null,null,null,null,null,null,null,null,"Urzica Pavel","Piatra Neamt"]
[null,null,null,null,null,null,null,null,null,null,null,null,null,null,null,null,null,null,null,"Usatenco Igori","Ucraina"]
[null,null,null,null,null,null,null,null,null,null,null,null,null,null,null,null,null,null,null,"Usatenco Lev","Ucraina"]
[null,null,null,null,null,null,null,null,null,null,null,null,null,null,null,null,null,null,null,"Uscatu Adelina","Floresti"]
[null,null,null,null,null,null,null,null,null,null,null,null,null,null,null,null,null,null,null,"Uta David","Bucuresti"]
[null,null,null,null,null,null,null,null,null,null,null,null,null,null,null,null,null,null,null,"Uta Gheorghe","Bucuresti"]
[null,null,null,null,null,null,null,null,null,null,null,null,null,null,null,null,null,null,null,"Uzun Alexandr","Moldova-Cazaclia"]
[null,null,null,null,null,null,null,null,null,null,null,null,null,null,null,null,null,null,null,"Vacaru Liviu","Victoria"]
[null,null,null,null,null,null,null,null,null,null,null,null,null,null,null,null,null,null,null,"Vaculisteanu Ionut","Botosani"]
[null,null,null,null,null,null,null,null,null,null,null,null,null,null,null,null,null,null,null,"Vaduva Denis","Alexandria"]
[null,null,null,null,null,null,null,null,null,null,null,null,null,null,null,null,null,null,null,"Vaduva Filip","Bucuresti"]
[null,null,null,null,null,null,null,null,null,null,null,null,null,null,null,null,null,null,null,"Vagasi Zoltan","Brasov"]
[null,null,null,null,null,null,null,null,null,null,null,null,null,null,null,null,null,null,null,"Vaida Alin","Cluj Napoca"]
[null,null,null,null,null,null,null,null,null,null,null,null,null,null,null,null,null,null,null,"Vaida Sorin","Oradea"]
[null,null,null,null,null,null,null,null,null,null,null,null,null,null,null,null,null,null,null,"Vaireanu Danut Ionel","Bucuresti"]
[null,null,null,null,null,null,null,null,null,null,null,null,null,null,null,null,null,null,null,"Vajda Erno","Reghin"]
[null,null,null,null,null,null,null,null,null,null,null,null,null,null,null,null,null,null,null,"Vajda Levente","Odorheiu Secuiesc"]
[null,null,null,null,null,null,null,null,null,null,null,null,null,null,null,null,null,null,null,"Vajeu Ionut","Busteni"]
[null,null,null,null,null,null,null,null,null,null,null,null,null,null,null,null,null,null,null,"Vakarcs Dumitru","Alesd"]
[null,null,null,null,null,null,null,null,null,null,null,null,null,null,null,null,null,null,null,"Valastyan Josef","Secusigiu"]
[null,null,null,null,null,null,null,null,null,null,null,null,null,null,null,null,null,null,null,"Valcea Daniel","Pitesti"]
[null,null,null,null,null,null,null,null,null,null,null,null,null,null,null,null,null,null,null,"Valcea Vlad","Constanta"]
[null,null,null,null,null,null,null,null,null,null,null,null,null,null,null,null,null,null,null,"Valcica Paul Luca","Uricani"]
[null,null,null,null,null,null,null,null,null,null,null,null,null,null,null,null,null,null,null,"Valcica Raul Ginno","Uricani"]
[null,null,null,null,null,null,null,null,null,null,null,null,null,null,null,null,null,null,null,"Valcica Razvan Daniel","Uricani"]
[null,null,null,null,null,null,null,null,null,null,null,null,null,null,null,null,null,null,null,"Valcu Alin","Botosani"]
[null,null,null,null,null,null,null,null,null,null,null,null,null,null,null,null,null,null,null,"Vale Nelu","Zalau"]
[null,null,null,null,null,null,null,null,null,null,null,null,null,null,null,null,null,null,null,"Valea Valentin","Petrosani"]
[null,null,null,null,null,null,null,null,null,null,null,null,null,null,null,null,null,null,null,"Valeanu Viorel","Techirghiol"]
[null,null,null,null,null,null,null,null,null,null,null,null,null,null,null,null,null,null,null,"Valimareanu Eduard","Satu Mare"]
[null,null,null,null,null,null,null,null,null,null,null,null,null,null,null,null,null,null,null,"Vanci Ciprian","Zalau"]
[null,null,null,null,null,null,null,null,null,null,null,null,null,null,null,null,null,null,null,"Vancsa Zoltan","Miercurea Ciuc"]
[null,null,null,null,null,null,null,null,null,null,null,null,null,null,null,null,null,null,null,"Varachin Vitalie","Moldova-Cahul"]
[null,null,null,null,null,null,null,null,null,null,null,null,null,null,null,null,null,null,null,"Varadi Tudor Calin","Brad"]
[null,null,null,null,null,null,null,null,null,null,null,null,null,null,null,null,null,null,null,"Varbanescu Petre","Giurgiu"]
[null,null,null,null,null,null,null,null,null,null,null,null,null,null,null,null,null,null,null,"Varbanescu Radu","Bucuresti"]
[null,null,null,null,null,null,null,null,null,null,null,null,null,null,null,null,null,null,null,"Varga Alex","Gherla"]
[null,null,null,null,null,null,null,null,null,null,null,null,null,null,null,null,null,null,null,"Varga Bianca","Luna CJ"]
[null,null,null,null,null,null,null,null,null,null,null,null,null,null,null,null,null,null,null,"Varga Codrut","Luna CJ"]
[null,null,null,null,null,null,null,null,null,null,null,null,null,null,null,null,null,null,null,"Varga Cosmina","Ludus"]
[null,null,null,null,null,null,null,null,null,null,null,null,null,null,null,null,null,null,null,"Varga Florian","Gherla"]
[null,null,null,null,null,null,null,null,null,null,null,null,null,null,null,null,null,null,null,"Varga Florin","Cluj Napoca"]
[null,null,null,null,null,null,null,null,null,null,null,null,null,null,null,null,null,null,null,"Varga Mihai","Lugoj"]
[null,null,null,null,null,null,null,null,null,null,null,null,null,null,null,null,null,null,null,"Varga Petru","Bagaciu"]
[null,null,null,null,null,null,null,null,null,null,null,null,null,null,null,null,null,null,null,"Vargyas Karoly","Joseni"]
[null,null,null,null,null,null,null,null,null,null,null,null,null,null,null,null,null,null,null,"Varzaru Alexandru","Bucuresti"]
[null,null,null,null,null,null,null,null,null,null,null,null,null,null,null,null,null,null,null,"Vasi Daniel","Arad"]
[null,null,null,null,null,null,null,null,null,null,null,null,null,null,null,null,null,null,null,"Vasilache Rafael","Buhusi"]
[null,null,null,null,null,null,null,null,null,null,null,null,null,null,null,null,null,null,null,"Vasile Adrian Cristian","Bucuresti"]
[null,null,null,null,null,null,null,null,null,null,null,null,null,null,null,null,null,null,null,"Vasile Carolina","Campulung Muscel"]
[null,null,null,null,null,null,null,null,null,null,null,null,null,null,null,null,null,null,null,"Vasile Cristian","Brasov"]
[null,null,null,null,null,null,null,null,null,null,null,null,null,null,null,null,null,null,null,"Vasile Cristian","Bucuresti"]
[null,null,null,null,null,null,null,null,null,null,null,null,null,null,null,null,null,null,null,"Vasile Gelu Iulian","Bucuresti"]
[null,null,null,null,null,null,null,null,null,null,null,null,null,null,null,null,null,null,null,"Vasile Gica","Targoviste"]
[null,null,null,null,null,null,null,null,null,null,null,null,null,null,null,null,null,null,null,"Vasile Iancu","Navodari"]
[null,null,null,null,null,null,null,null,null,null,null,null,null,null,null,null,null,null,null,"Vasile Marius","Calarasi"]
[null,null,null,null,null,null,null,null,null,null,null,null,null,null,null,null,null,null,null,"Vasile Mihai","Bucuresti"]
[null,null,null,null,null,null,null,null,null,null,null,null,null,null,null,null,null,null,null,"Vasile Raducu","Jebel"]
[null,null,null,null,null,null,null,null,null,null,null,null,null,null,null,null,null,null,null,"Vasile Rares","Sibiu"]
[null,null,null,null,null,null,null,null,null,null,null,null,null,null,null,null,null,null,null,"Vasile Victor","Videle"]
[null,null,null,null,null,null,null,null,null,null,null,null,null,null,null,null,null,null,null,"Vasilescu Emil","Calarasi"]
[null,null,null,null,null,null,null,null,null,null,null,null,null,null,null,null,null,null,null,"Vasilescu Florin","Ploiesti"]
[null,null,null,null,null,null,null,null,null,null,null,null,null,null,null,null,null,null,null,"Vasilescu Remus","Curtea de Arges"]
[null,null,null,null,null,null,null,null,null,null,null,null,null,null,null,null,null,null,null,"Vasiliu Alin","Panciu"]
[null,null,null,null,null,null,null,null,null,null,null,null,null,null,null,null,null,null,null,"Vasiliu Bogdan","Panciu"]
[null,null,null,null,null,null,null,null,null,null,null,null,null,null,null,null,null,null,null,"Vasiliu Remus","Mioveni"]
[null,null,null,null,null,null,null,null,null,null,null,null,null,null,null,null,null,null,null,"Vasiljevic Jakov","Zajecar Serbia"]
[null,null,null,null,null,null,null,null,null,null,null,null,null,null,null,null,null,null,null,"Vasiloiu Mihai","Focsani"]
[null,null,null,null,null,null,null,null,null,null,null,null,null,null,null,null,null,null,null,"Vasiloiu Sebastian","Pitesti"]
[null,null,null,null,null,null,null,null,null,null,null,null,null,null,null,null,null,null,null,"Vasiloiu Stefan","Pitesti"]
[null,null,null,null,null,null,null,null,null,null,null,null,null,null,null,null,null,null,null,"Vasincu Octavian Laurentiu","Iasi"]
[null,null,null,null,null,null,null,null,null,null,null,null,null,null,null,null,null,null,null,"Vasiu Stefan","Alba Iulia"]
[null,null,null,null,null,null,null,null,null,null,null,null,null,null,null,null,null,null,null,"Vass Richard","Sovata"]
[null,null,null,null,null,null,null,null,null,null,null,null,null,null,null,null,null,null,null,"Vass Sandor","Beclean"]
[null,null,null,null,null,null,null,null,null,null,null,null,null,null,null,null,null,null,null,"Vaszi Benedek","Santimbru"]
[null,null,null,null,null,null,null,null,null,null,null,null,null,null,null,null,null,null,null,"Vaszi Bernard","Santimbru"]
[null,null,null,null,null,null,null,null,null,null,null,null,null,null,null,null,null,null,null,"Vaszi Denes","Miercurea Ciuc"]
[null,null,null,null,null,null,null,null,null,null,null,null,null,null,null,null,null,null,null,"Vataresen Cosmin","Siret"]
[null,null,null,null,null,null,null,null,null,null,null,null,null,null,null,null,null,null,null,"Vavura Narcis","Targu Jiu"]
[null,null,null,null,null,null,null,null,null,null,null,null,null,null,null,null,null,null,null,"Vdovicenco Valentin","Moldova-Chisinau"]
[null,null,null,null,null,null,null,null,null,null,null,null,null,null,null,null,null,null,null,"Vela Gabriel","Timisoara"]
[null,null,null,null,null,null,null,null,null,null,null,null,null,null,null,null,null,null,null,"Velcea George","Bucuresti"]
[null,null,null,null,null,null,null,null,null,null,null,null,null,null,null,null,null,null,null,"Velcea Rebeca Maria","Craiova"]
[null,null,null,null,null,null,null,null,null,null,null,null,null,null,null,null,null,null,null,"Velicescu Dragos","Pitesti"]
[null,null,null,null,null,null,null,null,null,null,null,null,null,null,null,null,null,null,null,"Velicu Damian Laurentiu","Bucuresti"]
[null,null,null,null,null,null,null,null,null,null,null,null,null,null,null,null,null,null,null,"Velisa Erhan Amet","Constanta"]
[null,null,null,null,null,null,null,null,null,null,null,null,null,null,null,null,null,null,null,"Venczel Antoniu","Giroc"]
[null,null,null,null,null,null,null,null,null,null,null,null,null,null,null,null,null,null,null,"Venter Liviu","Resita"]
[null,null,null,null,null,null,null,null,null,null,null,null,null,null,null,null,null,null,null,"Vera Esteban","Sibiu"]
[null,null,null,null,null,null,null,null,null,null,null,null,null,null,null,null,null,null,null,"Verciuc Alexandru","Suceava"]
[null,null,null,null,null,null,null,null,null,null,null,null,null,null,null,null,null,null,null,"Verciuc Florin","Suceava"]
[null,null,null,null,null,null,null,null,null,null,null,null,null,null,null,null,null,null,null,"Verdet Adrian","Timisoara"]
[null,null,null,null,null,null,null,null,null,null,null,null,null,null,null,null,null,null,null,"Veres Adrian","Timisoara"]
[null,null,null,null,null,null,null,null,null,null,null,null,null,null,null,null,null,null,null,"Veres Francisc","Oravita"]
[null,null,null,null,null,null,null,null,null,null,null,null,null,null,null,null,null,null,null,"Veres Iulian Cristian","Petrila"]
[null,null,null,null,null,null,null,null,null,null,null,null,null,null,null,null,null,null,null,"Veres Janos","Targu Mures"]
[null,null,null,null,null,null,null,null,null,null,null,null,null,null,null,null,null,null,null,"Veress Andras","Sovata"]
[null,null,null,null,null,null,null,null,null,null,null,null,null,null,null,null,null,null,null,"Veress Csaba","Sovata"]
[null,null,null,null,null,null,null,null,null,null,null,null,null,null,null,null,null,null,null,"Veris Dumitru","Brasov"]
[null,null,null,null,null,null,null,null,null,null,null,null,null,null,null,null,null,null,null,"Verman Stefan","Brasov"]
[null,null,null,null,null,null,null,null,null,null,null,null,null,null,null,null,null,null,null,"Verzea Stefania","Campulung Muscel"]
[null,null,null,null,null,null,null,null,null,null,null,null,null,null,null,null,null,null,null,"Vescan Adrian","Cluj Napoca"]
[null,null,null,null,null,null,null,null,null,null,null,null,null,null,null,null,null,null,null,"Vescan Lucian","Cluj Napoca"]
[null,null,null,null,null,null,null,null,null,null,null,null,null,null,null,null,null,null,null,"Vescan Radu","Cluj Napoca"]
[null,null,null,null,null,null,null,null,null,null,null,null,null,null,null,null,null,null,null,"Vestineanu Ionut","Slobozia"]
[null,null,null,null,null,null,null,null,null,null,null,null,null,null,null,null,null,null,null,"Vid Stefan","Zalau"]
[null,null,null,null,null,null,null,null,null,null,null,null,null,null,null,null,null,null,null,"Vidrut Ioan","Apahida"]
[null,null,null,null,null,null,null,null,null,null,null,null,null,null,null,null,null,null,null,"Vieriu Mirel","Focsani"]
[null,null,null,null,null,null,null,null,null,null,null,null,null,null,null,null,null,null,null,"Vieriu Teodora","Vatra Dornei"]
[null,null,null,null,null,null,null,null,null,null,null,null,null,null,null,null,null,null,null,"Vieriu Tudorel","Suceava"]
[null,null,null,null,null,null,null,null,null,null,null,null,null,null,null,null,null,null,null,"Vieru Costica","Botosani"]
[null,null,null,null,null,null,null,null,null,null,null,null,null,null,null,null,null,null,null,"Vig Andrei","Simleu Silvaniei"]
[null,null,null,null,null,null,null,null,null,null,null,null,null,null,null,null,null,null,null,"Vigh Marton","Cluj Napoca"]
[null,null,null,null,null,null,null,null,null,null,null,null,null,null,null,null,null,null,null,"Vigh Zsombor","Cluj Napoca"]
[null,null,null,null,null,null,null,null,null,null,null,null,null,null,null,null,null,null,null,"Vigu Cristian","Cluj Napoca"]
[null,null,null,null,null,null,null,null,null,null,null,null,null,null,null,null,null,null,null,"Vigu Emanuel","Cluj Napoca"]
[null,null,null,null,null,null,null,null,null,null,null,null,null,null,null,null,null,null,null,"Vijaica Florin","Drobeta Tr Severin"]
[null,null,null,null,null,null,null,null,null,null,null,null,null,null,null,null,null,null,null,"Vilcea Lucian","Brasov"]
[null,null,null,null,null,null,null,null,null,null,null,null,null,null,null,null,null,null,null,"Vilceanu Andrei","Giroc"]
[null,null,null,null,null,null,null,null,null,null,null,null,null,null,null,null,null,null,null,"Vilceanu Cosmin","Rovinari"]
[null,null,null,null,null,null,null,null,null,null,null,null,null,null,null,null,null,null,null,"Vilcica Antonio","Slatina"]
[null,null,null,null,null,null,null,null,null,null,null,null,null,null,null,null,null,null,null,"Vilcu Adrian","Iasi"]
[null,null,null,null,null,null,null,null,null,null,null,null,null,null,null,null,null,null,null,"Vilcu Dragos","Bucuresti"]
[null,null,null,null,null,null,null,null,null,null,null,null,null,null,null,null,null,null,null,"Vilcu Viorel","Tulcea"]
[null,null,null,null,null,null,null,null,null,null,null,null,null,null,null,null,null,null,null,"Vilculescu Vlad","Timisoara"]
[null,null,null,null,null,null,null,null,null,null,null,null,null,null,null,null,null,null,null,"Vinchici Denis","Lipova"]
[null,null,null,null,null,null,null,null,null,null,null,null,null,null,null,null,null,null,null,"Vintan Cosmin","Deva"]
[null,null,null,null,null,null,null,null,null,null,null,null,null,null,null,null,null,null,null,"Vintila Antonio","Videle"]
[null,null,null,null,null,null,null,null,null,null,null,null,null,null,null,null,null,null,null,"Vintila Cristian","Bucuresti"]
[null,null,null,null,null,null,null,null,null,null,null,null,null,null,null,null,null,null,null,"Vintila Marius","Sibiu"]
[null,null,null,null,null,null,null,null,null,null,null,null,null,null,null,null,null,null,null,"Vioreanu Cristian","Dumbraveni SB"]
[null,null,null,null,null,null,null,null,null,null,null,null,null,null,null,null,null,null,null,"Virlan Liviu","Timisoara"]
[null,null,null,null,null,null,null,null,null,null,null,null,null,null,null,null,null,null,null,"Virticosu Teodor","Pascani"]
[null,null,null,null,null,null,null,null,null,null,null,null,null,null,null,null,null,null,null,"Virtopeanu Daniel","Bucuresti"]
[null,null,null,null,null,null,null,null,null,null,null,null,null,null,null,null,null,null,null,"Virvorea Mihai","Sibiu"]
[null,null,null,null,null,null,null,null,null,null,null,null,null,null,null,null,null,null,null,"Visan Bogdan","Targoviste"]
[null,null,null,null,null,null,null,null,null,null,null,null,null,null,null,null,null,null,null,"Visan Daniel","Ploiesti"]
[null,null,null,null,null,null,null,null,null,null,null,null,null,null,null,null,null,null,null,"Visan Nicolae","Bucuresti"]
[null,null,null,null,null,null,null,null,null,null,null,null,null,null,null,null,null,null,null,"Visan Victor","Slobozia"]
[null,null,null,null,null,null,null,null,null,null,null,null,null,null,null,null,null,null,null,"Visan Viorel","Constanta"]
[null,null,null,null,null,null,null,null,null,null,null,null,null,null,null,null,null,null,null,"Viski Darius Andrei","Ludus"]
[null,null,null,null,null,null,null,null,null,null,null,null,null,null,null,null,null,null,null,"Visoiu Stefan Eduard","Buzau"]
[null,null,null,null,null,null,null,null,null,null,null,null,null,null,null,null,null,null,null,"Vita Zsolt","Gheorgheni"]
[null,null,null,null,null,null,null,null,null,null,null,null,null,null,null,null,null,null,null,"Vitan Andrei","Branesti"]
[null,null,null,null,null,null,null,null,null,null,null,null,null,null,null,null,null,null,null,"Vitan Victor","Giurgiu"]
[null,null,null,null,null,null,null,null,null,null,null,null,null,null,null,null,null,null,null,"Viziniuc Madalin","Bucuresti"]
[null,null,null,null,null,null,null,null,null,null,null,null,null,null,null,null,null,null,null,"Viziteu Robert","Suceava"]
[null,null,null,null,null,null,null,null,null,null,null,null,null,null,null,null,null,null,null,"Vizitiu David","Botosani"]
[null,null,null,null,null,null,null,null,null,null,null,null,null,null,null,null,null,null,null,"Vizoli Alexandru","Fagaras"]
[null,null,null,null,null,null,null,null,null,null,null,null,null,null,null,null,null,null,null,"Vlad Alexandru","Bucuresti"]
[null,null,null,null,null,null,null,null,null,null,null,null,null,null,null,null,null,null,null,"Vlad Enache","Bucuresti"]
[null,null,null,null,null,null,null,null,null,null,null,null,null,null,null,null,null,null,null,"Vlad Florin","Arad"]
[null,null,null,null,null,null,null,null,null,null,null,null,null,null,null,null,null,null,null,"Vladescu Adrian","Cluj Napoca"]
[null,null,null,null,null,null,null,null,null,null,null,null,null,null,null,null,null,null,null,"Vladescu Oana","Cluj Napoca"]
[null,null,null,null,null,null,null,null,null,null,null,null,null,null,null,null,null,null,null,"Vladianu Marian","Iasi"]
[null,null,null,null,null,null,null,null,null,null,null,null,null,null,null,null,null,null,null,"Vladoiu Gelu","Brasov"]
[null,null,null,null,null,null,null,null,null,null,null,null,null,null,null,null,null,null,null,"Vladu Daniel","Bucuresti"]
[null,null,null,null,null,null,null,null,null,null,null,null,null,null,null,null,null,null,null,"Vlaicu Daniel","Marghita"]
[null,null,null,null,null,null,null,null,null,null,null,null,null,null,null,null,null,null,null,"Vlaicu Ovidiu","Targu Mures"]
[null,null,null,null,null,null,null,null,null,null,null,null,null,null,null,null,null,null,null,"Vlaisan Georgica","Vicovu de Jos"]
[null,null,null,null,null,null,null,null,null,null,null,null,null,null,null,null,null,null,null,"Vlaisan Raluca","Vicovu de Jos"]
[null,null,null,null,null,null,null,null,null,null,null,null,null,null,null,null,null,null,null,"Vlaisan Vasile","Vicovu de Jos"]
[null,null,null,null,null,null,null,null,null,null,null,null,null,null,null,null,null,null,null,"Vlasceanu Valentin","Darmanesti"]
[null,null,null,null,null,null,null,null,null,null,null,null,null,null,null,null,null,null,null,"Vlase Adrian","Iasi"]
[null,null,null,null,null,null,null,null,null,null,null,null,null,null,null,null,null,null,null,"Vlase Nicolae","Slobozia"]
[null,null,null,null,null,null,null,null,null,null,null,null,null,null,null,null,null,null,null,"Vlasin Adrian","Viseu"]
[null,null,null,null,null,null,null,null,null,null,null,null,null,null,null,null,null,null,null,"Vlasin Marian","Viseu"]
[null,null,null,null,null,null,null,null,null,null,null,null,null,null,null,null,null,null,null,"Voica Dragos","Timisoara"]
[null,null,null,null,null,null,null,null,null,null,null,null,null,null,null,null,null,null,null,"Voicila Adrian","Ploiesti"]
[null,null,null,null,null,null,null,null,null,null,null,null,null,null,null,null,null,null,null,"Voicu Dan","Sibiu"]
[null,null,null,null,null,null,null,null,null,null,null,null,null,null,null,null,null,null,null,"Voicu Florin","Arad"]
[null,null,null,null,null,null,null,null,null,null,null,null,null,null,null,null,null,null,null,"Voicu Ion","Amarastii de Jos"]
[null,null,null,null,null,null,null,null,null,null,null,null,null,null,null,null,null,null,null,"Voicu Ionut","Ploiesti"]
[null,null,null,null,null,null,null,null,null,null,null,null,null,null,null,null,null,null,null,"Voicu Mihai","Ploiesti"]
[null,null,null,null,null,null,null,null,null,null,null,null,null,null,null,null,null,null,null,"Voicu Olivian","Bucuresti"]
[null,null,null,null,null,null,null,null,null,null,null,null,null,null,null,null,null,null,null,"Voicu Ovidiu","Strejnicu"]
[null,null,null,null,null,null,null,null,null,null,null,null,null,null,null,null,null,null,null,"Voin Doru","Bucuresti"]
[null,null,null,null,null,null,null,null,null,null,null,null,null,null,null,null,null,null,null,"Voinea Emil","Pitesti"]
[null,null,null,null,null,null,null,null,null,null,null,null,null,null,null,null,null,null,null,"Voinea Florin","Salciile"]
[null,null,null,null,null,null,null,null,null,null,null,null,null,null,null,null,null,null,null,"Voinea Ionut","Harsova"]
[null,null,null,null,null,null,null,null,null,null,null,null,null,null,null,null,null,null,null,"Voinescu Bianca","Lugoj"]
[null,null,null,null,null,null,null,null,null,null,null,null,null,null,null,null,null,null,null,"Voinescu Dan","Lugoj"]
[null,null,null,null,null,null,null,null,null,null,null,null,null,null,null,null,null,null,null,"Voinescu Ecaterina","Bucuresti"]
[null,null,null,null,null,null,null,null,null,null,null,null,null,null,null,null,null,null,null,"Voivod Mihai","Cluj Napoca"]
[null,null,null,null,null,null,null,null,null,null,null,null,null,null,null,null,null,null,null,"Volanin Rares","Sibiu"]
[null,null,null,null,null,null,null,null,null,null,null,null,null,null,null,null,null,null,null,"Volosciuc Tiberiu","Vatra Dornei"]
[null,null,null,null,null,null,null,null,null,null,null,null,null,null,null,null,null,null,null,"Volostiuc Catalin","Suceava"]
[null,null,null,null,null,null,null,null,null,null,null,null,null,null,null,null,null,null,null,"Volvovics Adrian","Oradea"]
[null,null,null,null,null,null,null,null,null,null,null,null,null,null,null,null,null,null,null,"Vonea Andrei","Tarnaveni"]
[null,null,null,null,null,null,null,null,null,null,null,null,null,null,null,null,null,null,null,"Vrabie Laurentiu","Bucuresti"]
[null,null,null,null,null,null,null,null,null,null,null,null,null,null,null,null,null,null,null,"Vrancea Markus","Sibiu"]
[null,null,null,null,null,null,null,null,null,null,null,null,null,null,null,null,null,null,null,"Vranceanu Marian","Harsova"]
[null,null,null,null,null,null,null,null,null,null,null,null,null,null,null,null,null,null,null,"Vrasti Ioan","Ploiesti"]
[null,null,null,null,null,null,null,null,null,null,null,null,null,null,null,null,null,null,null,"Vrasti Iulian","Ploiesti"]
[null,null,null,null,null,null,null,null,null,null,null,null,null,null,null,null,null,null,null,"Vrasti Timeea","Ploiesti"]
[null,null,null,null,null,null,null,null,null,null,null,null,null,null,null,null,null,null,null,"Vrinceanu Vladut","Caransebes"]
[null,null,null,null,null,null,null,null,null,null,null,null,null,null,null,null,null,null,null,"Vuca Adrian","Berzovia"]
[null,null,null,null,null,null,null,null,null,null,null,null,null,null,null,null,null,null,null,"Vujic Luka","Sabac"]
[null,null,null,null,null,null,null,null,null,null,null,null,null,null,null,null,null,null,null,"Vukovic Dimitrije","Kovin"]
[null,null,null,null,null,null,null,null,null,null,null,null,null,null,null,null,null,null,null,"Vukovic Nemanja","Varset"]
[null,null,null,null,null,null,null,null,null,null,null,null,null,null,null,null,null,null,null,"Vulpe Cristian","Navodari"]
[null,null,null,null,null,null,null,null,null,null,null,null,null,null,null,null,null,null,null,"Vulpescu Cristiana","Iasi"]
[null,null,null,null,null,null,null,null,null,null,null,null,null,null,null,null,null,null,null,"Vulpescu Emanuel","Caianu Mic"]
[null,null,null,null,null,null,null,null,null,null,null,null,null,null,null,null,null,null,null,"Vulpescu Radu","Iasi"]
[null,null,null,null,null,null,null,null,null,null,null,null,null,null,null,null,null,null,null,"Vulpoi Gabriel","Targoviste"]
[null,null,null,null,null,null,null,null,null,null,null,null,null,null,null,null,null,null,null,"Vurst Laszlo","Oradea"]
[null,null,null,null,null,null,null,null,null,null,null,null,null,null,null,null,null,null,null,"Vuta Bogdan","Curtea de Arges"]
[null,null,null,null,null,null,null,null,null,null,null,null,null,null,null,null,null,null,null,"Wagner Max","Arad"]
[null,null,null,null,null,null,null,null,null,null,null,null,null,null,null,null,null,null,null,"Wang Norman","Suceava"]
[null,null,null,null,null,null,null,null,null,null,null,null,null,null,null,null,null,null,null,"Weiss Simona","Cisnadie"]
[null,null,null,null,null,null,null,null,null,null,null,null,null,null,null,null,null,null,null,"Welker Ivan","Sfantu Gheorghe"]
[null,null,null,null,null,null,null,null,null,null,null,null,null,null,null,null,null,null,null,"Wengritsky Zsuzsanna","Joseni"]
[null,null,null,null,null,null,null,null,null,null,null,null,null,null,null,null,null,null,null,"Yali Zagori","Israel"]
[null,null,null,null,null,null,null,null,null,null,null,null,null,null,null,null,null,null,null,"Zadarojsni Remus","Oravita"]
[null,null,null,null,null,null,null,null,null,null,null,null,null,null,null,null,null,null,null,"Zaha Vasile","Satu Mare"]
[null,null,null,null,null,null,null,null,null,null,null,null,null,null,null,null,null,null,null,"Zaharia Bogdan","Brasov"]
[null,null,null,null,null,null,null,null,null,null,null,null,null,null,null,null,null,null,null,"Zaharia Ciprian","Piatra Neamt"]
[null,null,null,null,null,null,null,null,null,null,null,null,null,null,null,null,null,null,null,"Zaharia Danut","Braila"]
[null,null,null,null,null,null,null,null,null,null,null,null,null,null,null,null,null,null,null,"Zaharia Dorin","Suceava"]
[null,null,null,null,null,null,null,null,null,null,null,null,null,null,null,null,null,null,null,"Zaharia Iulian","Iasi"]
[null,null,null,null,null,null,null,null,null,null,null,null,null,null,null,null,null,null,null,"Zaharia Puiu","Bucuresti"]
[null,null,null,null,null,null,null,null,null,null,null,null,null,null,null,null,null,null,null,"Zaharia Titi","Fetesti"]
[null,null,null,null,null,null,null,null,null,null,null,null,null,null,null,null,null,null,null,"Zaharia Tudor","Suceava"]
[null,null,null,null,null,null,null,null,null,null,null,null,null,null,null,null,null,null,null,"Zaharii Narcis","Falticeni"]
[null,null,null,null,null,null,null,null,null,null,null,null,null,null,null,null,null,null,null,"Zainea George","Soimari"]
[null,null,null,null,null,null,null,null,null,null,null,null,null,null,null,null,null,null,null,"Zakarias Szabolcs","Odorheiu Secuiesc"]
[null,null,null,null,null,null,null,null,null,null,null,null,null,null,null,null,null,null,null,"Zamblau Arsenie","Floresti"]
[null,null,null,null,null,null,null,null,null,null,null,null,null,null,null,null,null,null,null,"Zamblau Ionut","Cluj Napoca"]
[null,null,null,null,null,null,null,null,null,null,null,null,null,null,null,null,null,null,null,"Zambor Marian Vlad","Reghin"]
[null,null,null,null,null,null,null,null,null,null,null,null,null,null,null,null,null,null,null,"Zamcu Ciprian","Suceava"]
[null,null,null,null,null,null,null,null,null,null,null,null,null,null,null,null,null,null,null,"Zamfir Gicu","Bucuresti"]
[null,null,null,null,null,null,null,null,null,null,null,null,null,null,null,null,null,null,null,"Zamfir Ioana","Panciu"]
[null,null,null,null,null,null,null,null,null,null,null,null,null,null,null,null,null,null,null,"Zamfir Ionel","Bucuresti"]
[null,null,null,null,null,null,null,null,null,null,null,null,null,null,null,null,null,null,null,"Zamfir Stefan","Urlati"]
[null,null,null,null,null,null,null,null,null,null,null,null,null,null,null,null,null,null,null,"Zamfirache Ioan","Botosani"]
[null,null,null,null,null,null,null,null,null,null,null,null,null,null,null,null,null,null,null,"Zamfiroaia Sorin","Falticeni"]
[null,null,null,null,null,null,null,null,null,null,null,null,null,null,null,null,null,null,null,"Zane Ionel","Constanta"]
[null,null,null,null,null,null,null,null,null,null,null,null,null,null,null,null,null,null,null,"Zaporojan Vladimir","Moldova-Straseni"]
[null,null,null,null,null,null,null,null,null,null,null,null,null,null,null,null,null,null,null,"Zara Dinu","Suceava"]
[null,null,null,null,null,null,null,null,null,null,null,null,null,null,null,null,null,null,null,"Zarinschi Catalin","Galati"]
[null,null,null,null,null,null,null,null,null,null,null,null,null,null,null,null,null,null,null,"Zavaczcki Adolf","Viseu"]
[null,null,null,null,null,null,null,null,null,null,null,null,null,null,null,null,null,null,null,"Zavricescu George","Curtea de Arges"]
[null,null,null,null,null,null,null,null,null,null,null,null,null,null,null,null,null,null,null,"Zbancu Leo","Deva"]
[null,null,null,null,null,null,null,null,null,null,null,null,null,null,null,null,null,null,null,"Zdravkovic Milos","Kovin"]
[null,null,null,null,null,null,null,null,null,null,null,null,null,null,null,null,null,null,null,"Zdravkovic Zoran","Kovin"]
[null,null,null,null,null,null,null,null,null,null,null,null,null,null,null,null,null,null,null,"Zdrenghea Mircea","Orastie"]
[null,null,null,null,null,null,null,null,null,null,null,null,null,null,null,null,null,null,null,"Zedler Csaba","Agnita"]
[null,null,null,null,null,null,null,null,null,null,null,null,null,null,null,null,null,null,null,"Zelariu Petru","Tarnaveni"]
[null,null,null,null,null,null,null,null,null,null,null,null,null,null,null,null,null,null,null,"Zevoian Cezar Stefan","Cluj Napoca"]
[null,null,null,null,null,null,null,null,null,null,null,null,null,null,null,null,null,null,null,"Zevoian Florin","Cluj Napoca"]
[null,null,null,null,null,null,null,null,null,null,null,null,null,null,null,null,null,null,null,"Zgardan Iustin","Moldova-Cahul"]
[null,null,null,null,null,null,null,null,null,null,null,null,null,null,null,null,null,null,null,"Zgardan Razvan","Moldova-Balti"]
[null,null,null,null,null,null,null,null,null,null,null,null,null,null,null,null,null,null,null,"Zhang Shengyong","China"]
[null,null,null,null,null,null,null,null,null,null,null,null,null,null,null,null,null,null,null,"Zidar Victor","Reghin"]
[null,null,null,null,null,null,null,null,null,null,null,null,null,null,null,null,null,null,null,"Zilahi Aba","Targu Mures"]
[null,null,null,null,null,null,null,null,null,null,null,null,null,null,null,null,null,null,null,"Zilahi Annamaria","Targu Mures"]
[null,null,null,null,null,null,null,null,null,null,null,null,null,null,null,null,null,null,null,"Zlata Alex","Focsani"]
[null,null,null,null,null,null,null,null,null,null,null,null,null,null,null,null,null,null,null,"Zolotaryk George","Suceava"]
[null,null,null,null,null,null,null,null,null,null,null,null,null,null,null,null,null,null,null,"Zorfie Daniel","Baru"]
[null,null,null,null,null,null,null,null,null,null,null,null,null,null,null,null,null,null,null,"Zorila Marcel","Moldova-Riscani"]
[null,null,null,null,null,null,null,null,null,null,null,null,null,null,null,null,null,null,null,"Zorila Victor","Craiova"]
[null,null,null,null,null,null,null,null,null,null,null,null,null,null,null,null,null,null,null,"Zorlentan Alexandru Andrei","Domnesti"]
[null,null,null,null,null,null,null,null,null,null,null,null,null,null,null,null,null,null,null,"Zsok Arcadie","Deva"]
[null,null,null,null,null,null,null,null,null,null,null,null,null,null,null,null,null,null,null,"Zsold Valentin","Medias"]
[null,null,null,null,null,null,null,null,null,null,null,null,null,null,null,null,null,null,null,"Zugravu Alexandru","Barlad"]
[null,null,null,null,null,null,null,null,null,null,null,null,null,null,null,null,null,null,null,"Zugravu Luca","Barlad"]
[null,null,null,null,null,null,null,null,null,null,null,null,null,null,null,null,null,null,null,"Zugravu Mircea","Barlad"]
[null,null,null,null,null,null,null,null,null,null,null,null,null,null,null,null,null,null,null,"Zugravu Vlad Stefan","Barlad"]

{"sheet":"www","index":5,"n_rows":86,"n_cols":34,"rows_kept":86,"cut":false,"hidden":false,"merged":[]}
["Poz","Nume_si_prenume","Localitate","Pct","MP","Cat",{"$f":"COUNTA(G2:G6021)","v":15},null,null,null,"Cls","EL","V S","V I","V G",null,null,null,null,"EL","V S","V I","0v EL",{"$f":"IF(Start!$D$8=1,\"G1\",\"\")","v":""},{"$f":"IF(Start!$D$8=1,\"L1\",\"\")","v":""},"V G",null,null,null,null,{"$f":"Start!$L$6","v":0},{"$f":"IFERROR(VLOOKUP(AE1,AE2:AF7,2,TRUE),4)","v":0},{"$f":"IFERROR(VLOOKUP(AE1,AE2:AG7,3,TRUE),4)","v":0},"fm"]
[null,null,null,null,null,null,null,null,null,null,null,null,null,null,null,null,null,null,{"$f":"IF($A2=\"\",\"\",IF(P2=\"\",S1,P2&IF(Q2=\"\",\"\",\" - \")&Q2))","v":""},{"$f":"IF($AH$2=1,$Y2,IFERROR(VLOOKUP($B2&\",\"&$A2,tEL,2,FALSE),\"\"))","v":""},{"$f":"IF($AH$2=1,\"\",IF(V_sup<>\"\",V_sup,IF(V_sup_ex<>\"\",0,\"\")))","v":""},{"$f":"IF($AH$2=1,$X2,V_inf)","v":""},{"$f":"IF(AND($AH$2>1,$T2<>\"\",$T2>v0),0,\"\")","v":""},{"$f":"IF($AH$2=1,v_1,\"\")","v":""},{"$f":"IF(AND(v_1L>0,v_1L<5),v_1L,\"\")","v":""},{"$f":"IF(AND(T2>8,W2=0),SUM(U2:V2),\"\")","v":""},{"$f":"V_sup","v":""},{"$f":"V_sup_ex","v":""},null,null,0,0,null,{"$f":"Start!$D$8","v":8}]
[null,null,null,null,null,null,null,null,null,null,null,null,null,null,null,null,null,null,null,null,null,null,null,null,null,null,null,null,null,null,1,1,4]
[null,null,null,null,null,null,null,null,null,null,null,null,null,null,null,null,null,null,null,null,null,null,null,null,null,null,null,null,null,null,9,2,8]
[null,null,null,null,null,null,null,null,null,null,null,null,null,null,null,null,null,null,null,null,null,null,null,null,null,null,null,null,null,null,17,3,16]
[null,null,null,null,null,null,null,null,null,null,null,null,null,null,null,null,null,null,null,null,null,null,null,null,null,null,null,null,null,null,33,4,32,{"$f":"Elim.!$H$7","v":0}]
[null,null,null,null,null,null,null,null,null,null,null,null,null,null,null,null,null,null,null,null,null,null,null,null,null,null,null,null,null,null,65]
[]
[]
[]
[{"$f":"Start!$A$1 & \" \" & Start!$C$1 & \" - \" & Start!$D$1","v":"turneu data - Elite"}]
[{"$f":"INT(ROW(A12)/25)+1","v":1}]
[{"$f":"\"Gr.inferioara nr. \"&A12","v":"Gr.inferioara nr. 1"},null,"Masa nr. ",null,null,null,null,null,null,null,null,null,null,null,"Clasament Partial"]
[null,"Nume si prenume","Localitate",1,2,3,4,5,6,7,"V","LOC","Cls",{"$f":"IF(SUM($K15:$K21)>0,$A12&\"  \",\"\")","v":""},"AVg","AVp","Vp","Poz","Vp","Avp","Avg","Loc"]
[1,null,null,null,null,null,null,null,null,null,{"$f":"scv(D15:J15)","v":""}]
[2,null,null,{"$f":"sg(E15)","v":""},null,null,null,null,null,null,{"$f":"scv(D16:J16)","v":""}]
[3,null,null,{"$f":"sg(F15)","v":""},{"$f":"sg(F16)","v":""},null,null,null,null,null,""]
[4,null,null,{"$f":"sg(G15)","v":""},{"$f":"sg(G16)","v":""},{"$f":"sg(G17)","v":""},null,null,null,null,""]
[5,null,null,{"$f":"sg(H15)","v":""},{"$f":"sg(H16)","v":""},{"$f":"sg(H17)","v":""},{"$f":"sg(H18)","v":""},null,null,null,""]
[6,null,null,{"$f":"sg(I15)","v":""},{"$f":"sg(I16)","v":""},{"$f":"sg(I17)","v":""},{"$f":"sg(I18)","v":""},{"$f":"sg(I19)","v":""},null,null,""]
[7,null,null,{"$f":"sg(J15)","v":""},{"$f":"sg(J16)","v":""},{"$f":"sg(J17)","v":""},{"$f":"sg(J18)","v":""},{"$f":"sg(J19)","v":""},{"$f":"sg(J20)","v":""},null,""]
[null,{"$f":"7-COUNTBLANK(B15:B21)","v":0}]
[null,{"$f":"\"Se califica primii: \" &jci","v":"Se califica primii: 4"}]
[null,{"$f":"IF(jxi>0,\"si cele mai bune \"& jxi&\" locuri \" & jci+1,\"\")","v":""}]
[]
[]
[]
[]
[]
[]
[]
[]
[]
[]
[]
[]
[]
[]
[]
[]
[{"$f":"Start!$A$1 & \" \" & Start!$C$1 & \" - \" & Start!$D$1","v":"turneu data - Elite"}]
[{"$f":"INT(ROW(A42)/25)+1","v":2}]
[{"$f":"\"Gr.superioara nr. \"&A42","v":"Gr.superioara nr. 2"},null,"Masa nr. ",null,null,null,null,null,null,null,null,null,null,null,"Clasament Partial"]
[null,"Nume si prenume","Localitate",1,2,3,4,"V","LOC","Cls",{"$f":"IF(SUM($H45:$H48)>0,$A42&\"  \",\"\")","v":""},null,null,"PctAv","AVg","AVp","Vp","Poz","Vp","Avp","Avg","Loc"]
[1,null,null,null,null,null,null,{"$f":"scv(D45:G45)","v":""}]
[2,null,null,{"$f":"sg(E45)","v":""},null,null,null,{"$f":"scv(D46:G46)","v":""}]
[3,null,null,{"$f":"sg(F45)","v":""},{"$f":"sg(F46)","v":""},null,null,""]
[4,null,null,{"$f":"sg(G45)","v":""},{"$f":"sg(G46)","v":""},{"$f":"sg(G47)","v":""},null,{"$f":"scv(D48:G48)","v":""}]
[null,{"$f":"4-COUNTBLANK(B45:B48)","v":0},{"$f":"\"Se califica primii \" &jcs & IF(jxs>0,\" si cele mai bune \"& jxs&\" locuri \" & jcs+1,\"\")","v":"Se califica primii 2"}]
[null,"Jucatori",null,"Set 1","Set 2","Set 3","Set 4","Set 5","Dif"]
["1--4",{"$f":"IFERROR(PROPER(VLOOKUP(LEFT(A51,1)+0,$A45:$B48,2,FALSE)) & \"  -  \" &PROPER(VLOOKUP(RIGHT(A51,1)+0,$A45:$B48,2,FALSE)),\"\")","v":"  -  "},null,null,null,null,null,null,null,null,null,null,null,null,{"$f":"scp(D51:H51)","v":""},{"$f":"scd(O51)","v":""}]
["2--3",{"$f":"IFERROR(PROPER(VLOOKUP(LEFT(A52,1)+0,$A45:$B48,2,FALSE)) & \"  -  \" &PROPER(VLOOKUP(RIGHT(A52,1)+0,$A45:$B48,2,FALSE)),\"\")","v":"  -  "},null,null,null,null,null,null,null,null,null,null,null,null,"",""]
["1--3",{"$f":"IFERROR(PROPER(VLOOKUP(LEFT(A53,1)+0,$A45:$B48,2,FALSE)) & \"  -  \" &PROPER(VLOOKUP(RIGHT(A53,1)+0,$A45:$B48,2,FALSE)),\"\")","v":"  -  "},null,null,null,null,null,null,null,null,null,null,null,null,"",""]
["2--4",{"$f":"IFERROR(PROPER(VLOOKUP(LEFT(A54,1)+0,$A45:$B48,2,FALSE)) & \"  -  \" &PROPER(VLOOKUP(RIGHT(A54,1)+0,$A45:$B48,2,FALSE)),\"\")","v":"  -  "},null,null,null,null,null,null,null,null,null,null,null,null,"",""]
["1--2",{"$f":"IFERROR(PROPER(VLOOKUP(LEFT(A55,1)+0,$A45:$B48,2,FALSE)) & \"  -  \" &PROPER(VLOOKUP(RIGHT(A55,1)+0,$A45:$B48,2,FALSE)),\"\")","v":"  -  "},null,null,null,null,null,null,null,null,null,null,null,null,"",""]
["3--4",{"$f":"IFERROR(PROPER(VLOOKUP(LEFT(A56,1)+0,$A45:$B48,2,FALSE)) & \"  -  \" &PROPER(VLOOKUP(RIGHT(A56,1)+0,$A45:$B48,2,FALSE)),\"\")","v":"  -  "},null,null,null,null,null,null,null,null,null,null,null,null,"",""]
[]
[]
[]
[]
[]
[]
[]
[]
[]
[]
[]
[]
[]
[]
[{"$f":"Start!$A$1 & \" \" & Start!$C$1 & \" - \" & Start!$D$1","v":"turneu data - Elite"}]
[{"$f":"INT(ROW(A72)/25)+1","v":3}]
[{"$f":"\"Gr.inferioara nr. \"&A72","v":"Gr.inferioara nr. 3"},null,"Masa nr. ",null,null,null,null,null,null,null,null,null,null,null,null,null,null,null,null,"Clasament Partial"]
[null,"Nume si prenume","Localitate",1,2,3,4,5,6,7,8,9,10,11,12,"V","LOC","Cls",{"$f":"IF(SUM($K75:$K81)>0,$A72&\"  \",\"\")","v":""},"AVg","AVp","Vp","Poz","Vp","Avp","Avg","Loc"]
[1,null,null,null,null,null,null,null,null,null,null,null,null,null,null,{"$f":"scv(D75:O75)","v":""}]
[2,null,null,{"$f":"sg(E75)","v":""},null,null,null,null,null,null,null,null,null,null,null,{"$f":"scv(D76:O76)","v":""}]
[3,null,null,{"$f":"sg(F75)","v":""},{"$f":"sg(F76)","v":""},null,null,null,null,null,null,null,null,null,null,""]
[4,null,null,{"$f":"sg(G75)","v":""},{"$f":"sg(G76)","v":""},{"$f":"sg(G77)","v":""},null,null,null,null,null,null,null,null,null,""]
[5,null,null,{"$f":"sg(H75)","v":""},{"$f":"sg(H76)","v":""},{"$f":"sg(H77)","v":""},{"$f":"sg(H78)","v":""},null,null,null,null,null,null,null,null,""]
[6,null,null,{"$f":"sg(I75)","v":""},{"$f":"sg(I76)","v":""},{"$f":"sg(I77)","v":""},{"$f":"sg(I78)","v":""},{"$f":"sg(I79)","v":""},null,null,null,null,null,null,null,""]
[7,null,null,{"$f":"sg(J75)","v":""},{"$f":"sg(J76)","v":""},{"$f":"sg(J77)","v":""},{"$f":"sg(J78)","v":""},{"$f":"sg(J79)","v":""},{"$f":"sg(J80)","v":""},null,null,null,null,null,null,""]
[8,null,null,{"$f":"sg(K75)","v":""},{"$f":"sg(K76)","v":""},{"$f":"sg(K77)","v":""},{"$f":"sg(K78)","v":""},{"$f":"sg(K79)","v":""},{"$f":"sg(K80)","v":""},{"$f":"sg(K81)","v":""},null,null,null,null,null,""]
[9,null,null,{"$f":"sg(L75)","v":""},{"$f":"sg(L76)","v":""},{"$f":"sg(L77)","v":""},{"$f":"sg(L78)","v":""},{"$f":"sg(L79)","v":""},{"$f":"sg(L80)","v":""},{"$f":"sg(L81)","v":""},{"$f":"sg(L82)","v":""},null,null,null,null,""]
[10,null,null,{"$f":"sg(M75)","v":""},{"$f":"sg(M76)","v":""},{"$f":"sg(M77)","v":""},{"$f":"sg(M78)","v":""},{"$f":"sg(M79)","v":""},{"$f":"sg(M80)","v":""},{"$f":"sg(M81)","v":""},{"$f":"sg(M82)","v":""},{"$f":"sg(M83)","v":""},null,null,null,""]
[11,null,null,{"$f":"sg(N75)","v":""},{"$f":"sg(N76)","v":""},{"$f":"sg(N77)","v":""},{"$f":"sg(N78)","v":""},{"$f":"sg(N79)","v":""},{"$f":"sg(N80)","v":""},{"$f":"sg(N81)","v":""},{"$f":"sg(N82)","v":""},{"$f":"sg(N83)","v":""},{"$f":"sg(N84)","v":""},null,null,""]
[12,null,null,{"$f":"sg(O75)","v":""},{"$f":"sg(O76)","v":""},{"$f":"sg(O77)","v":""},{"$f":"sg(O78)","v":""},{"$f":"sg(O79)","v":""},{"$f":"sg(O80)","v":""},{"$f":"sg(O81)","v":""},{"$f":"sg(O82)","v":""},{"$f":"sg(O83)","v":""},{"$f":"sg(O84)","v":""},{"$f":"sg(O85)","v":""},null,""]

{"sheet":"model","index":6,"n_rows":35,"n_cols":51,"rows_kept":35,"cut":false,"hidden":false,"merged":[[0,29,0,31],[0,2,0,7],[0,9,0,10],[0,12,0,14],[0,19,0,24],[0,26,0,27],[2,25,3,31],[3,3,3,7],[3,20,3,24],[4,2,4,7],[4,19,4,24],[4,25,4,26],[1,3,1,7],[1,20,1,24],[2,2,2,7],[2,8,3,14],[2,19,2,24],[6,2,6,7],[6,19,6,24],[8,3,8,14],[8,20,8,31],[5,0,5,7],[5,17,5,24],[5,25,5,26],[5,27,5,30],[5,11,5,13],[10,2,10,14],[10,19,10,31],[11,2,11,4],[11,5,11,6],[11,7,11,14],[11,19,11,21],[11,22,11,23],[11,24,11,31],[12,0,12,2],[12,3,12,14],[12,17,12,19],[12,20,12,31],[20,2,20,7],[20,9,20,10],[20,12,20,14],[20,19,20,24],[20,26,20,27],[20,29,20,31],[22,25,23,31],[23,3,23,7],[23,20,23,24],[24,2,24,7],[24,8,24,9],[24,19,24,24],[24,25,24,26],[21,3,21,7],[21,20,21,24],[22,2,22,7],[22,8,23,14],[22,19,22,24],[26,2,26,7],[26,19,26,24],[28,3,28,14],[28,20,28,31],[25,0,25,7],[25,8,25,9],[25,10,25,13],[25,17,25,24],[25,25,25,26],[25,27,25,30],[9,3,9,14],[9,20,9,31],[29,3,29,14],[29,20,29,31],[32,0,32,2],[32,3,32,14],[32,17,32,19],[32,20,32,31],[30,2,30,14],[30,19,30,31],[31,2,31,4],[31,5,31,6],[31,7,31,14],[31,19,31,21],[31,22,31,23],[31,24,31,31]]}
["Unitatea",null,"xxx",null,null,null,null,null,"Seria","XB",null,"Nr.",123001,null,null,null,null,"Unitatea",null,null,null,null,null,null,null,"Seria",null,null,"Nr.",null,null,null,null,null,null,null,"Taxa:","multiplu de 5 (maxim 100), zero sau gol"]
["Nr.ord.reg.com.:",null,null,123,null,null,null,null,null,null,null,null,null,null,null,null,null,"Nr.ord.reg.com.:",null,null,null,null,null,null,null,null,null,null,null,null,null,null,null,null,null,null,"Adulti",70,null,"De completat / verificat in sheetul Print inainte de generare",null,null,null,null,null,null,null,null,null,null,{"$f":"taxa(AL2)","v":"saptezecilei"}]
["C.I.F.:",null,123,null,null,null,null,null,"CHITANȚĂ",null,null,null,null,null,null,null,null,"C.I.F.:",null,null,null,null,null,null,null,"CHITANȚĂ",null,null,null,null,null,null,null,null,null,null,"Juniori",50,null,"Cat =  ...J"]
["Capital social:",null,null,"10 lei",null,null,null,null,null,null,null,null,null,null,null,null,null,"Capital social:",null,null,null,null,null,null,null,null,null,null,null,null,null,null,null,null,null,null,"Dizabilitati",0,null,"Cat =  ...D"]
["Sediul:",null,"Ploiesti",null,null,null,null,null,null,"Nr.",null,null,null,null,null,null,null,"Sediul:",null,null,null,null,null,null,null,"Nr.",null,null,null,null,null,null,null,null,null,null,"Organizatori",0,null,"Obs = org"]
[null,null,null,null,null,null,null,null,null,"Data",null,"21.10.2025",null,null,null,null,null,null,null,null,null,null,null,null,null,"Data",null,null,null,null,null,null,null,null,null,null,"Adresa","y",null,"y sau n … y - completeaza automat Localitatea si Judetul la Adresa"]
["Județul:",null,"PH",null,null,null,null,null,null,null,null,null,null,null,null,null,null,"Județul:",null,null,null,null,null,null,null,null,null,null,null,null,null,null,null,null,null,null,"Listare Zero","y",null,"n sau y … n - nu listeaza chitantele cu Zero lei"]
[null,null,null,null,null,null,null,null,null,null,null,null,null,null,null,null,null,null,null,null,null,null,null,null,null,null,null,null,null,null,null,null,null,null,null,null,"Se completeaza doar prima chitanta cu datele necesare apoi click pe Generare chitante"]
["Am primit de la ",null,null,null,null,null,null,null,null,null,null,null,null,null,null,null,null,"Am primit de la ",null,null,null,null,null,null,null,null,null,null,null,null,null,null,null,null,null,null,"Seria / Nr … numarul va fi incrementat automat"]
["CUI / CNP:",null,null,null,null,null,null,null,null,null,null,null,null,null,null,null,null,"CUI / CNP:",null,null,null,null,null,null,null,null,null,null,null,null,null,null,null,null,null,null,"Nr / Data … numarul poate fi numarul de ordine al jucatorului … se incrementeaza automat, daca nu se trece nu va aparea pe chitante"]
["Adresa ",null,null,null,null,null,null,null,null,null,null,null,null,null,null,null,null,"Adresa "]
["Suma de ",null,null,null,null,"adică",null,null,null,null,null,null,null,null,null,null,null,"Suma de ",null,null,null,null,"adică",null,null,null,null,null,null,null,null,null,null,null,null,null,"Chitantele sint generate cu jucatorii din tabelul Print"]
["reprezentând",null,null,"donatie turneu Amatur",null,null,null,null,null,null,null,null,null,null,null,null,null,"reprezentând",null,null,null,null,null,null,null,null,null,null,null,null,null,null,null,null,null,null,"La fiecare actualizare a Listei din pagina Inscrieri, pagina Chitante se sterge si trebuie regenerata "]
[]
[null,null,null,null,null,null,null,"Casier,",null,null,null,null,null,null,null,null,null,null,null,null,null,null,null,null,"Casier,"]
[]
[]
[]
[]
[]
["Unitatea",null,null,null,null,null,null,null,"Seria",null,null,"Nr.",null,null,null,null,null,"Unitatea",null,null,null,null,null,null,null,"Seria",null,null,"Nr."]
["Nr.ord.reg.com.:",null,null,null,null,null,null,null,null,null,null,null,null,null,null,null,null,"Nr.ord.reg.com.:"]
["C.I.F.:",null,null,null,null,null,null,null,"CHITANȚĂ",null,null,null,null,null,null,null,null,"C.I.F.:",null,null,null,null,null,null,null,"CHITANȚĂ"]
["Capital social:",null,null,null,null,null,null,null,null,null,null,null,null,null,null,null,null,"Capital social:"]
["Sediul:",null,null,null,null,null,null,null,"Nr.",null,null,null,null,null,null,null,null,"Sediul:",null,null,null,null,null,null,null,"Nr."]
[null,null,null,null,null,null,null,null,"Data",null,null,null,null,null,null,null,null,null,null,null,null,null,null,null,null,"Data"]
["Județul:",null,null,null,null,null,null,null,null,null,null,null,null,null,null,null,null,"Județul:"]
[]
["Am primit de la ",null,null,null,null,null,null,null,null,null,null,null,null,null,null,null,null,"Am primit de la "]
["CUI / CNP:",null,null,null,null,null,null,null,null,null,null,null,null,null,null,null,null,"CUI / CNP:"]
["Adresa ",null,null,null,null,null,null,null,null,null,null,null,null,null,null,null,null,"Adresa "]
["Suma de ",null,null,null,null,"adică",null,null,null,null,null,null,null,null,null,null,null,"Suma de ",null,null,null,null,"adică"]
["reprezentând",null,null,null,null,null,null,null,null,null,null,null,null,null,null,null,null,"reprezentând"]
[]
[null,null,null,null,null,null,null,"Casier,",null,null,null,null,null,null,null,null,null,null,null,null,null,null,null,null,"Casier,"]

{"sheet":"chitante","index":7,"n_rows":0,"n_cols":0,"rows_kept":0,"cut":false,"hidden":false,"merged":[]}

{"sheet":"Inscrieri","index":8,"n_rows":5595,"n_cols":26,"rows_kept":5595,"cut":false,"hidden":false,"merged":[]}
["Loc","Nume_si_prenume","Localitate","Pct","MP","Cat",{"$f":"COUNTA(G2:G6001)","v":0},null,null,null,null,null,{"$f":"COUNTA(N:N)","v":0},null,null,"x","x","x","x","x",{"$f":"COUNTA(V:V)","v":0},null,"A",null,0]
[221,"Neculai Alexandru","Videle",620.4,72.83,"EL",null,null,null,{"$f":"catp","v":1},null,null,null,null,null,null,null,null,null,null,null,null,null,null,null,"Se foloseste Formularul pentru inscrieri/retrageri sau se urmeaza instructiunile de mai jos pentru alte operatiuni:"]
[1,"Galos Alexandru","Bucuresti",1413.9,70.94,"EL",null,null,null,{"$f":"catp","v":1}]
[1111,"Ciupe Alin","Zalau",176.5,70.25,"EL",null,null,null,{"$f":"catp","v":1},null,null,null,null,null,null,null,null,null,null,null,null,null,null,null,"Adaugare inscriere:"]
[1967,"Rus Flavius","Bistrita",69.8,69.8,"EL",null,null,null,{"$f":"catp","v":1},null,null,null,null,null,null,null,null,null,null,null,null,null,null,null,"Se completeaza manual in coloanele 21-22 jucatorii (21-Nume Prenume, 22-Localitate), pot fi copiati din alt fisier"]
[1975,"Farcas Dan","Zalau",69.099999999999994,69.099999999999994,"EL",null,null,null,{"$f":"catp","v":1},null,null,null,null,null,null,null,null,null,null,null,null,null,null,null,"Click pe Plus."]
[216,"Postudor Andreea","Iasi",629.4,68.959999999999994,"ELF",null,null,null,{"$f":"catp","v":1},null,null,null,null,null,null,null,null,null,null,null,null,null,null,null,"Automat in coloana 7 se bifeaza cu \"1\" jucatorii din coloana 21."]
[37,"Cristanus Cristian","Timisoara",986.9,68.81,"EL",null,null,null,{"$f":"catp","v":1},null,null,null,null,null,null,null,null,null,null,null,null,null,null,null,"Daca exista jucatori noi acestia apar la sfarsitul clasamentului."]
[141,"Vitan Andrei","Branesti",716.8,68.5,"EL",null,null,null,{"$f":"catp","v":1},null,null,null,null,null,null,null,null,null,null,null,null,null,null,null,"Stergere inscriere:"]
[1985,"Gros Eduard","Lupeni",68,68,"E",null,null,null,{"$f":"catp","v":1},null,null,null,null,null,null,null,null,null,null,null,null,null,null,null,"Se selecteaza jucatorul in coloana 21."]
[531,"Pinzar Andrei","Medias",383.9,67.930000000000007,"EL",null,null,null,{"$f":"catp","v":1},null,null,null,null,null,null,null,null,null,null,null,null,null,null,null,"Click pe Minus, N (absent - penalizare 3p) sau r2 (retragere dupa termen - penalizare 2p)."]
[253,"Marchis Maximilian","Cluj Napoca",595.9,67.55,"E",null,null,null,{"$f":"catp","v":1},null,null,null,null,null,null,null,null,null,null,null,null,null,null,null,"Automat in coloana 21 se va sterge jucatorul selectat, iar in coloana 7 i se va sterge inscrierea."]
[769,"Tibirna Andrei","Iasi",273.10000000000002,67.349999999999994,"EL",null,null,null,{"$f":"catp","v":1},null,null,null,null,null,null,null,null,null,null,null,null,null,null,null,"Daca exista lista de asteptare, primul de pe lista va fi bifat automat."]
[281,"Fratila Robert","Filipestii de Targ",565.29999999999995,66.900000000000006,"EL",null,null,null,{"$f":"catp","v":1},null,null,null,null,null,null,null,null,null,null,null,null,null,null,null,"Inserare (de exemplu, in cazul in care, copiind de pe forum, ati uitat pe cineva)"]
[230,"Acatrinei Daniel","Iasi",615.9,66.88,"EL",null,null,null,{"$f":"catp","v":1},null,null,null,null,null,null,null,null,null,null,null,null,null,null,null,"Click in coloana 21 pe pozitia in care vrem sa inseram un jucator"]
[2,"Neagoe Costin","Bucuresti",1344.7,66.849999999999994,"E",null,null,null,{"$f":"catp","v":1},null,null,null,null,null,null,null,null,null,null,null,null,null,null,null,"Click pe Insert"]
[476,"Iana Remus","Timisoara",417.9,66.78,"EL",null,null,null,{"$f":"catp","v":1},null,null,null,null,null,null,null,null,null,null,null,null,null,null,null,"Automat se creeaza o pozitie goala, ultimul jucator din lista principala va fi trecut pe lista de asteptare, daca exista"]
[1355,"Fejer Konnert Andras","Sovata",133.4,66.7,"ELW",null,null,null,{"$f":"catp","v":1},null,null,null,null,null,null,null,null,null,null,null,null,null,null,null,"Se adauga un jucator pe pozitia goala cu Formularul de inscrieri."]
[688,"Moca Mara","Medias",299.39999999999998,66.430000000000007,"ELF",null,null,null,{"$f":"catp","v":1},null,null,null,null,null,null,null,null,null,null,null,null,null,null,null,"Inlocuire (de exemplu, in cazul in care ati gresit vreun nume sau a fost postat gresit pe forum)"]
[2006,"Corburean Ioan","Tarnaveni",66.3,66.3,"EL",null,null,null,{"$f":"catp","v":1},null,null,null,null,null,null,null,null,null,null,null,null,null,null,null,"Click in coloana 21 pe pozitia in care vrem sa inlocuim un jucator"]
[934,"Roman Iulian","Brasov",219.7,65.73,"ELW",null,null,null,{"$f":"catp","v":1},null,null,null,null,null,null,null,null,null,null,null,null,null,null,null,"Click pe Replace"]
[2013,"Olahut Rares","Baia Mare",65.599999999999994,65.599999999999994,"E",null,null,null,{"$f":"catp","v":1},null,null,null,null,null,null,null,null,null,null,null,null,null,null,null,"Jucatorul va fi sters si se creeaza o pozitie goala."]
[18,"Aga Alexandru","Botosani",1084.2,65.55,"EL",null,null,null,{"$f":"catp","v":1},null,null,null,null,null,null,null,null,null,null,null,null,null,null,null,"Se adauga un jucator nou pe locul eliberat cu Formularul de inscrieri."]
[17,"Kis Robert","Cluj Napoca",1103.5,65.33,"EL",null,null,null,{"$f":"catp","v":1}]
[52,"Gabudean Dorin","Cluj Napoca",932.1,65.23,"ELDW",null,null,null,{"$f":"catp","v":1},null,null,null,null,null,null,null,null,null,null,null,null,null,null,null,"Periodic se actioneaza butonul Lista pentru actualizarea listei …"]
[2023,"Mozes Gyula","Odorheiu Secuiesc",65.099999999999994,65.099999999999994,"EL",null,null,null,{"$f":"catp","v":1},null,null,null,null,null,null,null,null,null,null,null,null,null,null,null,"… iar apoi butonul Copy ... urmat de Paste pe forum (cu Ctrl Shift V) pentru postarea listei de inscrieri."]
[1080,"Iordan Mihai","Bucuresti",183.5,64.900000000000006,"EL",null,null,null,{"$f":"catp","v":1}]
[2024,"Schmidt Miroslav","Bulgaria",64.900000000000006,64.900000000000006,"E",null,null,null,{"$f":"catp","v":1},null,null,null,null,null,null,null,null,null,null,null,null,null,null,null,"In coloana 5 - MP - se poate modifica media unui jucator nou ... click pe Sort MP apoi, pentru reordonarea listei"]
[2292,"Postudor Bogdan","Iasi",48.6,64.7,"EL"]
[2293,"Caminschi Mihai","Constanta",48.6,64.7,"EL",null,null,null,{"$f":"catp","v":1},null,null,null,null,null,null,null,null,null,null,null,null,null,null,null,"In coloanele 23 si 24 se pot trece ceva informatii (wildcard, meniu etc) ... care vor aparea si pe listele de inscrieri"]
[3,"Badea Mihai","Targoviste",1292.5999999999999,64.33,"EL",null,null,null,{"$f":"catp","v":1}]
[9,"Pascu Rares","Targu Mures",1170.0999999999999,64.150000000000006,"E",null,null,null,{"$f":"catp","v":1}]
[509,"Boaca Valentin","Branesti",394.9,64.099999999999994,"E",null,null,null,{"$f":"catp","v":1}]
[2040,"Trajicevski Nikola","Pancevo",63.7,63.7,"E",null,null,null,{"$f":"catp","v":1}]
[421,"Sorescu Deian","Resita",456,63.4,"EL",null,null,null,{"$f":"catp","v":1}]
[11,"Moldovan Horvath Csaba","Targu Mures",1153.8,63.39,"ELW",null,null,null,{"$f":"catp","v":1}]
[341,"Ursu Teodor","Bucuresti",524.79999999999995,63,"EL",null,null,null,{"$f":"catp","v":1}]
[714,"Grunfeld Tomy","Israel",288.7,62.93,"E",null,null,null,{"$f":"catp","v":1}]
[2055,"Spiridonov Kiril","Bulgaria",62.9,62.9,"E",null,null,null,{"$f":"catp","v":1}]
[892,"Gergely Anton","Oradea",234.7,62.7,"E",null,null,null,{"$f":"catp","v":1}]
[21,"Toader Valentin","Agnita",1076.0999999999999,62.28,"EL",null,null,null,{"$f":"catp","v":1}]
[8,"Bodnar Cosmin","Vicovu de Sus",1194.9000000000001,62.24,"EL",null,null,null,{"$f":"catp","v":1}]
[794,"Alexandru Constantin","Bucuresti",265.89999999999998,62.13,"EL",null,null,null,{"$f":"catp","v":1}]
[4,"Aparaschive Paul","Botosani",1232.0999999999999,61.99,"EL",null,null,null,{"$f":"catp","v":1}]
[463,"Anca Octavian","Branesti",425.5,61.87,"EL",null,null,null,{"$f":"catp","v":1}]
[27,"Roman Bogdan","Arad",1045.0999999999999,61.86,"E",null,null,null,{"$f":"catp","v":1}]
[5,"Galban Calin","Viseu",1218,61.77,"EL",null,null,null,{"$f":"catp","v":1}]
[1428,"Gheorghe Dragos","Ploiesti",123.4,61.7,"E",null,null,null,{"$f":"catp","v":1}]
[14,"Baciu Gabriel","Tarnaveni",1118.3,61.64,"EL",null,null,null,{"$f":"catp","v":1}]
[261,"Bendescu Matei","Iasi",587.79999999999995,61.43,"ELJ",null,null,null,{"$f":"catp","v":1}]
[638,"Precup Iarina","Cluj Napoca",326.10000000000002,61.23,"ELF",null,null,null,{"$f":"catp","v":1}]
[13,"Petrescu Liviu","Pitesti",1127.0999999999999,61.2,"EW",null,null,null,{"$f":"catp","v":1}]
[7,"Sumanaru Catalin","Iasi",1203.0999999999999,61.13,"EL",null,null,null,{"$f":"catp","v":1}]
[2093,"Mul Stepan","Ucraina",60.9,60.9,"E",null,null,null,{"$f":"catp","v":1}]
[2099,"Cozma David","Moldova-Comrat",60.7,60.7,"E",null,null,null,{"$f":"catp","v":1}]
[943,"Mihai Andrei","Bucuresti",216.8,60.57,"E",null,null,null,{"$f":"catp","v":1}]
[948,"Marton Adam","Sfantu Gheorghe",215.4,60.53,"EL",null,null,null,{"$f":"catp","v":1}]
[1573,"Parus Lilian","Oradea",106.2,60.4,"E",null,null,null,{"$f":"catp","v":1}]
[339,"Retegan Cosmin","Ploiesti",526.1,60.19,"E",null,null,null,{"$f":"catp","v":1}]
[16,"Leric David","Lipova",1112.5,60.17,"EL",null,null,null,{"$f":"catp","v":1}]
[6,"Toma Adrian","Sfantu Gheorghe",1211.5,60.12,"EL",null,null,null,{"$f":"catp","v":1}]
[2103,"Dobrjinschi Oleg","Moldova-Chisinau",60,60,"E",null,null,null,{"$f":"catp","v":1}]
[150,"Jurje Alex Doru","Almasu Mare",708.3,59.92,"EL",null,null,null,{"$f":"catp","v":1}]
[2108,"Gradinaru Alin","Corabia",59.9,59.9,"E",null,null,null,{"$f":"catp","v":1}]
[86,"Bucur Andrei","Blaj",859.8,59.86,"EL",null,null,null,{"$f":"catp","v":1}]
[2111,"Ilic Marko","Nova Varos",59.7,59.7,"E",null,null,null,{"$f":"catp","v":1}]
[1593,"Pop Sorin","Bistrita",103.9,59.6,"E",null,null,null,{"$f":"catp","v":1}]
[1566,"Yali Zagori","Israel",107,59.5,"E",null,null,null,{"$f":"catp","v":1}]
[364,"Anatolii Zamkovyi","Baia Mare",495.6,59.38,"EL",null,null,null,{"$f":"catp","v":1}]
[30,"Anca Valentin","Ludus",1008.6,59.16,"E",null,null,null,{"$f":"catp","v":1}]
[99,"Orban Madalina","Siret",814.3,59.09,"ELF",null,null,null,{"$f":"catp","v":1}]
[109,"Mocean Dan","Cluj Napoca",784.3,59.03,"EL",null,null,null,{"$f":"catp","v":1}]
[435,"Moldovan Cristian","Bistrita",444.8,59.02,"E",null,null,null,{"$f":"catp","v":1}]
[2131,"Bectas Igor","Moldova-Hincesti",58.7,58.7,"E",null,null,null,{"$f":"catp","v":1}]
[951,"Mitrache Simion","Timisoara",214.9,58.63,"E",null,null,null,{"$f":"catp","v":1}]
[1752,"Mirea George","Bucuresti",87.8,58.5,"E",null,null,null,{"$f":"catp","v":1}]
[278,"Takacs Csaba","Baia Mare",567.6,58.48,"EL",null,null,null,{"$f":"catp","v":1}]
[35,"Sirbu Nicolae","Aiud",995.1,58.45,"EJ",null,null,null,{"$f":"catp","v":1}]
[43,"Albu Vlad","Iasi",974,58.43,"EL",null,null,null,{"$f":"catp","v":1}]
[204,"Albu Catalin","Pascani",638.1,58.36,"EL",null,null,null,{"$f":"catp","v":1}]
[516,"Mathe Mihai","Ludus",390,58.22,"E",null,null,null,{"$f":"catp","v":1}]
[2140,"Policiuc Alexandr","Moldova-Chisinau",58,58,"EL",null,null,null,{"$f":"catp","v":1}]
[10,"Dobrin Adrian","Targoviste",1169.0999999999999,57.62,"EL",null,null,null,{"$f":"catp","v":1}]
[25,"Gogu Gabriel","Cluj Napoca",1045.2,57.59,"EW",null,null,null,{"$f":"catp","v":1}]
[26,"Petrus Florin","Zalau",1045.2,57.57,"E",null,null,null,{"$f":"catp","v":1}]
[1368,"Simo Elias Mate","Miercurea Ciuc",132,57.5,"EL",null,null,null,{"$f":"catp","v":1}]
[2407,"Pribeagu Sebastian","Pitesti",43.2,57.5,"EL",null,null,null,{"$f":"catp","v":1}]
[622,"Corbu Darius","Valenii de Munte",336.8,57.45,"E",null,null,null,{"$f":"catp","v":1}]
[954,"Dumitru Rares","Pitesti",214.4,57.4,"E",null,null,null,{"$f":"catp","v":1}]
[309,"Cindea Cristian","Medias",542.79999999999995,57.24,"EL",null,null,null,{"$f":"catp","v":1}]
[554,"Bodeanu Mihai","Bucuresti",372.8,57.2,"E",null,null,null,{"$f":"catp","v":1}]
[28,"Mutrescu Eugen","Timisoara",1032.2,57.19,"EW",null,null,null,{"$f":"catp","v":1}]
[15,"Vilceanu Andrei","Giroc",1112.5999999999999,57.17,"E",null,null,null,{"$f":"catp","v":1}]
[36,"Morosan Alexandru","Horodnic de Sus",991.1,57.14,"ELJ",null,null,null,{"$f":"catp","v":1}]
[1512,"Burlacel Ionut","Bucuresti",114.1,57.05,"E",null,null,null,{"$f":"catp","v":1}]
[73,"Visan Daniel","Ploiesti",877.6,56.94,"EL",null,null,null,{"$f":"catp","v":1}]
[2156,"Rotari Leonard","Moldova-Chisinau",56.7,56.7,"E",null,null,null,{"$f":"catp","v":1}]
[12,"Verdet Adrian","Timisoara",1136.9000000000001,56.66,"EW",null,null,null,{"$f":"catp","v":1}]
[1195,"Ropotan Iulian","Bucuresti",158.6,56.65,"EW",null,null,null,{"$f":"catp","v":1}]
[1202,"Tamas Vivien","Miercurea Ciuc",157.80000000000001,56.65,"EF",null,null,null,{"$f":"catp","v":1}]
[1214,"Mandru Bogdan","Hunedoara",155.1,56.63,"EL",null,null,null,{"$f":"catp","v":1}]
[811,"Avram Victor","Arad",260.2,56.57,"E",null,null,null,{"$f":"catp","v":1}]
[48,"Bercea Alex","Drobeta Tr Severin",951.7,56.41,"E",null,null,null,{"$f":"catp","v":1}]
[442,"Curtea Lucas","Viseu",440.8,56.17,"EL",null,null,null,{"$f":"catp","v":1}]
[973,"Szanto Gyula","Marghita",210.9,56.17,"E",null,null,null,{"$f":"catp","v":1}]
[38,"Pavel Calin","Hunedoara",983.9,56.14,"EL",null,null,null,{"$f":"catp","v":1}]
[1648,"Piliponcic Vadim","Moldova-Chisinau",98.4,56.1,"E",null,null,null,{"$f":"catp","v":1}]
[2432,"Balmez Dorel","Oravita",42.1,56.1,"E",null,null,null,{"$f":"catp","v":1}]
[1344,"Luntraru Andrei","Iasi",136,56,"E",null,null,null,{"$f":"catp","v":1}]
[100,"Ionescu Mihai","Bucuresti",813.8,55.89,"EL",null,null,null,{"$f":"catp","v":1}]
[107,"Farkas Gabor","Targu Mures",793.2,55.84,"EDW",null,null,null,{"$f":"catp","v":1}]
[125,"Craiu Catalin","Videle",748.1,55.8,"E",null,null,null,{"$f":"catp","v":1}]
[853,"Stoica Kewin","Dumbraveni SB",246,55.7,"EJ",null,null,null,{"$f":"catp","v":1}]
[19,"Balan Mihai","Ploiesti",1083.5999999999999,55.58,"E",null,null,null,{"$f":"catp","v":1}]
[2172,"Csortan Szabolcs","Odorheiu Secuiesc",55.5,55.5,"E",null,null,null,{"$f":"catp","v":1}]
[81,"Teleki Zsolt","Cluj Napoca",861.8,55.31,"EL",null,null,null,{"$f":"catp","v":1}]
[1030,"Iacubenco Artemii","Moldova-Balti",195.3,55.2,"E",null,null,null,{"$f":"catp","v":1}]
[711,"Dinca Alexandru","Calarasi",291.10000000000002,55,"E",null,null,null,{"$f":"catp","v":1}]
[1215,"Ionescu Vlad","Buzau",154.9,55,"ELJ",null,null,null,{"$f":"catp","v":1}]
[29,"Baican Alexandru","Bucuresti",1020.2,54.99,"EL",null,null,null,{"$f":"catp","v":1}]
[1054,"Sima Vlad","Giurgiu",189.9,54.85,"E",null,null,null,{"$f":"catp","v":1}]
[1813,"Neag Ioan","Timisoara",82,54.65,"E",null,null,null,{"$f":"catp","v":1}]
[2187,"Grosu Robert","Galati",54.6,54.6,"E",null,null,null,{"$f":"catp","v":1}]
[1815,"Sora Sorin","Craiova",81.8,54.5,"E",null,null,null,{"$f":"catp","v":1}]
[402,"Ticala Vasile Jr","Viseu",467.1,54.39,"E",null,null,null,{"$f":"catp","v":1}]
[214,"Enciu Alexandru","Slobozia",629.6,54.3,"ELW",null,null,null,{"$f":"catp","v":1}]
[39,"Preda Codrin","Piatra Neamt",983.4,54.26,"EL",null,null,null,{"$f":"catp","v":1}]
[20,"Firu Marian","Vatra Dornei",1076.2,54.23,"E",null,null,null,{"$f":"catp","v":1}]
[804,"Hagatis Andrei","Vatra Dornei",263,53.85,"E",null,null,null,{"$f":"catp","v":1}]
[2471,"Muntean Alin","Tarnaveni",40.4,53.8,"EW",null,null,null,{"$f":"catp","v":1}]
[87,"Rus Traian","Cluj Napoca",851.8,53.76,"EW",null,null,null,{"$f":"catp","v":1}]
[361,"Buzatu Vasile","Buftea",501.2,53.7,"EW",null,null,null,{"$f":"catp","v":1}]
[23,"Borsan Petru","Cluj Napoca",1052.7,53.69,"EJ",null,null,null,{"$f":"catp","v":1}]
[40,"Popa Radu","Deva",980.8,53.66,"EW",null,null,null,{"$f":"catp","v":1}]
[367,"Rosioara Razvan","Alexandria",491.5,53.43,"E",null,null,null,{"$f":"catp","v":1}]
[487,"State Malin","Bucuresti",411.6,53.43,"EL",null,null,null,{"$f":"catp","v":1}]
[24,"Pantelimon Andi","Bucuresti",1050.3,53.4,"EL",null,null,null,{"$f":"catp","v":1}]
[816,"Ion Marius","Braila",258.89999999999998,53.38,"E",null,null,null,{"$f":"catp","v":1}]
[94,"Mosneagu Marius","Falticeni",831.2,53.37,"ELW",null,null,null,{"$f":"catp","v":1}]
[995,"Rakoczi Patrick","Baia Mare",205.4,53.35,"EL",null,null,null,{"$f":"catp","v":1}]
[54,"Moldovan Alexandru","Tarnaveni",912.4,53.34,"E",null,null,null,{"$f":"catp","v":1}]
[2203,"Tomer Almong","Israel",53.3,53.3,"E",null,null,null,{"$f":"catp","v":1}]
[55,"Szemciuk Istvan","Deva",911.6,53.17,"E",null,null,null,{"$f":"catp","v":1}]
[140,"Simion Boby","Cluj Napoca",717.4,53.13,"ED",null,null,null,{"$f":"catp","v":1}]
[859,"Szekeres Zoltan","Timisoara",245.6,53.03,"E",null,null,null,{"$f":"catp","v":1}]
[124,"Molnar Tihamer","Tarnaveni",750.5,52.98,"EL",null,null,null,{"$f":"catp","v":1}]
[76,"Maxim Valentin","Cluj Napoca",869.9,52.97,"EW",null,null,null,{"$f":"catp","v":1}]
[120,"Zbancu Leo","Deva",766,52.91,"EW",null,null,null,{"$f":"catp","v":1}]
[131,"Dinca Dorinel","Calarasi",733.2,52.9,"EW",null,null,null,{"$f":"catp","v":1}]
[960,"Bokor Zoltan Jr","Brasov",213.1,52.7,"EL",null,null,null,{"$f":"catp","v":1}]
[2211,"Maguran Daria","Arad",52.6,52.6,"EF",null,null,null,{"$f":"catp","v":1}]
[62,"Dranca David","Aiud",901.3,52.55,"EJ",null,null,null,{"$f":"catp","v":1}]
[22,"Borsan David","Cluj Napoca",1053.9000000000001,52.54,"E",null,null,null,{"$f":"catp","v":1}]
[583,"Tomer Hadar","Sofia",357.2,52.4,"E",null,null,null,{"$f":"catp","v":1}]
[2213,"Iovdi Vasile","Ucraina",52.4,52.4,"E",null,null,null,{"$f":"catp","v":1}]
[658,"Grosu Alexandru","Botosani",314.3,52.25,"E",null,null,null,{"$f":"catp","v":1}]
[1588,"Crimschi Denis","Moldova-Chisinau",104.5,52.25,"E",null,null,null,{"$f":"catp","v":1}]
[2218,"Henrik Spiehorst","Germania",52.2,52.2,"E",null,null,null,{"$f":"catp","v":1}]
[1210,"Ceausescu Rares","Pitesti",156.4,52.1,"EL",null,null,null,{"$f":"catp","v":1}]
[627,"Nitu Victor","Slobozia",333,51.94,"E",null,null,null,{"$f":"catp","v":1}]
[68,"Anca Ana Maria","Ludus",886.7,51.84,"EF",null,null,null,{"$f":"catp","v":1}]
[113,"Symonenko Yaroslav","Odesa",777.8,51.84,"E",null,null,null,{"$f":"catp","v":1}]
[894,"Giol Mihai","Braila",232.5,51.83,"E",null,null,null,{"$f":"catp","v":1}]
[1165,"Redkov Oleksandr","Ucraina",165,51.83,"E",null,null,null,{"$f":"catp","v":1}]
[1736,"Bolea Catalin","Bucuresti",89.4,51.6,"E",null,null,null,{"$f":"catp","v":1}]
[2514,"Iacubenco Arsenii","Moldova-Balti",38.700000000000003,51.5,"E",null,null,null,{"$f":"catp","v":1}]
[1743,"Hasna Cosmin","Straja",88.5,51.45,"E",null,null,null,{"$f":"catp","v":1}]
[75,"Cruceru Sergiu","Targu Jiu",876.1,51.37,"EW",null,null,null,{"$f":"catp","v":1}]
[32,"Toma Florin","Pitesti",1001.4,51.33,"EW",null,null,null,{"$f":"catp","v":1}]
[41,"Apian Florin","Bistrita",980.5,51.14,"EW",null,null,null,{"$f":"catp","v":1}]
[77,"Buhai Andrii","Stefanestii de Jos",866.3,51.06,"E",null,null,null,{"$f":"catp","v":1}]
[33,"Borcila Alexandru","Targu Neamt",998.3,50.79,"E",null,null,null,{"$f":"catp","v":1}]
[45,"Mican Nicolae","Dej",958.3,50.75,"E",null,null,null,{"$f":"catp","v":1}]
[1040,"Hotico Ciprian","Sighetu Marmatiei",192.4,50.75,"E",null,null,null,{"$f":"catp","v":1}]
[573,"Manea Mihaita","Tulcea",365.2,50.64,"EL",null,null,null,{"$f":"catp","v":1}]
[617,"Jozsa Zoltan","Odorheiu Secuiesc",338,50.62,"EL",null,null,null,{"$f":"catp","v":1}]
[98,"Badea Stefan","Targoviste",818.1,50.56,"E",null,null,null,{"$f":"catp","v":1}]
[727,"Capusa Bogdan","Bacau",283.89999999999998,50.4,"EL",null,null,null,{"$f":"catp","v":1}]
[34,"Muresan Robert","Surduc",995.2,50.39,"E",null,null,null,{"$f":"catp","v":1}]
[1098,"Dragomir Cristian","Bucuresti",179.5,50.33,"E",null,null,null,{"$f":"catp","v":1}]
[405,"Irimia Sorin Jr","Cluj Napoca",464.3,50.28,"E",null,null,null,{"$f":"catp","v":1}]
[53,"Savu Cristian","Oradea",928.7,50.27,"EW",null,null,null,{"$f":"catp","v":1}]
[1169,"Orosanu Alexandru","Pitesti",164,50.1,"E",null,null,null,{"$f":"catp","v":1}]
[795,"Roi Itzik","Israel",265.89999999999998,50.03,"E",null,null,null,{"$f":"catp","v":1}]
[1018,"Secu Valeriu","Bucuresti",198,50,"E",null,null,null,{"$f":"catp","v":1}]
[31,"Govoreanu Florin","Cisnadie",1005.7,49.9,"EW",null,null,null,{"$f":"catp","v":1}]
[1423,"Hutanu Alin","Brasov",124.2,49.9,"E",null,null,null,{"$f":"catp","v":1}]
[1048,"Hamza Catalin","Satu Mare",191.1,49.85,"EL",null,null,null,{"$f":"catp","v":1}]
[847,"Orza Catalin","Suceava",248.9,49.83,"EW",null,null,null,{"$f":"catp","v":1}]
[2537,"Rasid Aihan","Constanta",37.4,49.8,"E",null,null,null,{"$f":"catp","v":1}]
[1639,"Jobb Levente","Odorheiu Secuiesc",99.5,49.75,"EL",null,null,null,{"$f":"catp","v":1}]
[1061,"Sima Daniel","Mioveni",187.4,49.7,"E",null,null,null,{"$f":"catp","v":1}]
[338,"Colda Dorin","Lupeni",526.29999999999995,49.69,"EW",null,null,null,{"$f":"catp","v":1}]
[855,"Jimmy Lu","Bucuresti",245.8,49.65,"E",null,null,null,{"$f":"catp","v":1}]
[92,"Radu Cosmin","Ludus",837.8,49.64,"E",null,null,null,{"$f":"catp","v":1}]
[2545,"Urus Kristof","Sfantu Gheorghe",37.200000000000003,49.6,"EL",null,null,null,{"$f":"catp","v":1}]
[130,"Put Gabriel","Oravita",736.7,49.55,"EW",null,null,null,{"$f":"catp","v":1}]
[1769,"Dabija Razvan","Iasi",85.5,49.55,"E",null,null,null,{"$f":"catp","v":1}]
[571,"Dragomir Iuliu","Turnu Magurele",365.6,49.53,"E",null,null,null,{"$f":"catp","v":1}]
[283,"Rogoz Nicoleta","Bucuresti",561.6,49.52,"ELF",null,null,null,{"$f":"catp","v":1}]
[156,"Craciun Calin","Oradea",699.6,49.49,"E",null,null,null,{"$f":"catp","v":1}]
[295,"Megan Alexandra","Bucuresti",552.79999999999995,49.49,"ELF",null,null,null,{"$f":"catp","v":1}]
[718,"Cimponeriu Ianis","Lugoj",287.5,49.48,"E",null,null,null,{"$f":"catp","v":1}]
[56,"Sylvester Sandor","Sfantu Gheorghe",908.8,49.45,"EW",null,null,null,{"$f":"catp","v":1}]
[1642,"Eitan Duldner","Israel",98.9,49.45,"E",null,null,null,{"$f":"catp","v":1}]
[59,"Codau Vlad","Oradea",904,49.41,"E",null,null,null,{"$f":"catp","v":1}]
[61,"Fulop Oscar","Reghin",902.3,49.4,"E",null,null,null,{"$f":"catp","v":1}]
[2548,"Farkas Lorant","Miercurea Ciuc",37.1,49.4,"EW",null,null,null,{"$f":"catp","v":1}]
[1176,"Bondoc Alexandru","Brasov",162.69999999999999,49.3,"EL",null,null,null,{"$f":"catp","v":1}]
[540,"Szekely Karoly","Sangeorgiu de Mures",379.3,49.27,"E",null,null,null,{"$f":"catp","v":1}]
[51,"Fratea Aurel","Constanta",937.9,49.26,"EW",null,null,null,{"$f":"catp","v":1}]
[2276,"Postole Aurel","Buzau",49.2,49.2,"E",null,null,null,{"$f":"catp","v":1}]
[67,"Miclos Andrei","Sanmarghita",887.2,49.17,"E",null,null,null,{"$f":"catp","v":1}]
[162,"Costache Rosioru Cristian","Timisoara",694.8,49.14,"E",null,null,null,{"$f":"catp","v":1}]
[2559,"Stingaciu Alexandru","Vulcana Bai",36.9,49.1,"E",null,null,null,{"$f":"catp","v":1}]
[225,"Botezatu Onelus","Galati",619.79999999999995,49.09,"E",null,null,null,{"$f":"catp","v":1}]
[293,"Zamblau Ionut","Cluj Napoca",555.1,49.09,"EL",null,null,null,{"$f":"catp","v":1}]
[42,"Frunza Alexandru","Timisoara",974.9,49.03,"E",null,null,null,{"$f":"catp","v":1}]
[938,"Zgardan Razvan","Moldova-Balti",219.1,49,"E",null,null,null,{"$f":"catp","v":1}]
[1633,"Cojanu Ciprian","Bucuresti",100.2,48.95,"EL",null,null,null,{"$f":"catp","v":1}]
[1371,"Marta Marcel","Timisoara",131.69999999999999,48.85,"E",null,null,null,{"$f":"catp","v":1}]
[681,"Spatariu Daniel","Arad",302.5,48.82,"EW",null,null,null,{"$f":"catp","v":1}]
[834,"Evtei Vasile","Tulcea",252.9,48.78,"E",null,null,null,{"$f":"catp","v":1}]
[220,"Niculache Chirica","Tulcea",620.5,48.72,"E",null,null,null,{"$f":"catp","v":1}]
[44,"Damian Alin","Campia Turzii",959.5,48.67,"ELW",null,null,null,{"$f":"catp","v":1}]
[47,"Avram Nicolae","Nedelea",952.3,48.59,"E",null,null,null,{"$f":"catp","v":1}]
[50,"Gherasim Iulian","Tulcea",940.7,48.56,"E",null,null,null,{"$f":"catp","v":1}]
[171,"Ilie Octavian Marius","Brasov",684.3,48.56,"E",null,null,null,{"$f":"catp","v":1}]
[46,"Ciortescu Cristi","Popeni",954.8,48.51,"E",null,null,null,{"$f":"catp","v":1}]
[1043,"Onufrei Ciprian","Botosani",191.6,48.5,"E",null,null,null,{"$f":"catp","v":1}]
[344,"Faur Laurentiu","Calarasi",522.4,48.47,"E",null,null,null,{"$f":"catp","v":1}]
[760,"Welker Ivan","Sfantu Gheorghe",274.5,48.43,"E",null,null,null,{"$f":"catp","v":1}]
[2296,"Butnaru Andrei","Iasi",48.4,48.4,"E",null,null,null,{"$f":"catp","v":1}]
[2577,"Tepelea Ioana","Bucuresti",36.299999999999997,48.4,"EF",null,null,null,{"$f":"catp","v":1}]
[133,"Leorda Rares","Reghin",732.3,48.33,"E",null,null,null,{"$f":"catp","v":1}]
[95,"Balogh Attila","Oradea",824.2,48.32,"E",null,null,null,{"$f":"catp","v":1}]
[57,"Zamfir Ionel","Bucuresti",907.8,48.29,"EW",null,null,null,{"$f":"catp","v":1}]
[1304,"Opincaru Marius","Piatra Neamt",141.5,48.25,"E",null,null,null,{"$f":"catp","v":1}]
[1673,"Varbanescu Petre","Giurgiu",96.5,48.25,"ELW",null,null,null,{"$f":"catp","v":1}]
[226,"Mihalache Dario","Plopeni SV",619.79999999999995,48.21,"E",null,null,null,{"$f":"catp","v":1}]
[903,"Curut Gabriel","Timisoara",227.3,48.13,"E",null,null,null,{"$f":"catp","v":1}]
[320,"Petho Mihaly Jr","Racosu de Sus",536.5,48.08,"E",null,null,null,{"$f":"catp","v":1}]
[417,"Tailbot Francois","Oradea",458.3,48.02,"E",null,null,null,{"$f":"catp","v":1}]
[1468,"Dogaru Teodor","Bucuresti",118.7,47.97,"E",null,null,null,{"$f":"catp","v":1}]
[1149,"Rebrisorean Daniel","Cluj Napoca",168.8,47.95,"E",null,null,null,{"$f":"catp","v":1}]
[595,"Irsai Istvan","Targu Mures",349.7,47.92,"EW",null,null,null,{"$f":"catp","v":1}]
[49,"Moraru Ramona Cosmina","Drobeta Tr Severin",948.2,47.9,"ELF",null,null,null,{"$f":"catp","v":1}]
[883,"Pylypenko Vladyslav","Ucraina",236.5,47.9,"E",null,null,null,{"$f":"catp","v":1}]
[2307,"Petrovici Paul","Targu Ocna",47.9,47.9,"E",null,null,null,{"$f":"catp","v":1}]
[111,"Popescu Apreotesei Mihai","Straoane",778.8,47.86,"E",null,null,null,{"$f":"catp","v":1}]
[286,"Tatar Mihai","Simleu Silvaniei",558.5,47.86,"E",null,null,null,{"$f":"catp","v":1}]
[1249,"Macovei Liviu","Brasov",151.30000000000001,47.83,"E",null,null,null,{"$f":"catp","v":1}]
[514,"Pop Zoltan","Dej",391,47.82,"EW",null,null,null,{"$f":"catp","v":1}]
[2586,"Stefan Alexandru","Vaslui",35.9,47.8,"E",null,null,null,{"$f":"catp","v":1}]
[974,"Gyorfi Szabolcs","Gheorgheni",210.1,47.73,"E",null,null,null,{"$f":"catp","v":1}]
[1826,"Surdu Marcel","Iasi",80.900000000000006,47.6,"E",null,null,null,{"$f":"catp","v":1}]
[289,"Persa Florin","Sfantu Gheorghe",557.29999999999995,47.59,"E",null,null,null,{"$f":"catp","v":1}]
[66,"Parjol Rares","Cluj Napoca",889,47.55,"E",null,null,null,{"$f":"catp","v":1}]
[101,"Mitrea Silviu","Navodari",812.4,47.55,"EW",null,null,null,{"$f":"catp","v":1}]
[104,"Decsei Emma","Ludus",811,47.54,"ELF",null,null,null,{"$f":"catp","v":1}]
[1046,"Matsumoto Paul","Brasov",191.2,47.53,"E",null,null,null,{"$f":"catp","v":1}]
[440,"Ankar Wasim","Timisoara",441.2,47.5,"E",null,null,null,{"$f":"catp","v":1}]
[1817,"Kolumban David","Targu Mures",81.599999999999994,47.5,"E",null,null,null,{"$f":"catp","v":1}]
[1950,"Saceleanu Bogdan","Targu Jiu",71.3,47.5,"E",null,null,null,{"$f":"catp","v":1}]
[374,"Nistor Dorel","Bistrita",488.8,47.48,"EW",null,null,null,{"$f":"catp","v":1}]
[178,"Matei Marius","Galati",676,47.47,"E",null,null,null,{"$f":"catp","v":1}]
[713,"Baiburi Levent","Tulcea",289.8,47.45,"E",null,null,null,{"$f":"catp","v":1}]
[1800,"Stoica Laura","Bucuresti",83.3,47.45,"EF",null,null,null,{"$f":"catp","v":1}]
[732,"Corbu Mihai Cosmin","Pitesti",282.60000000000002,47.4,"E",null,null,null,{"$f":"catp","v":1}]
[1263,"Valcu Alin","Botosani",148.69999999999999,47.4,"E",null,null,null,{"$f":"catp","v":1}]
[337,"Palangean Iris","Giurgiu",526.4,47.39,"ELF",null,null,null,{"$f":"catp","v":1}]
[1553,"Chirea Laurentiu","Targu Jiu",108.2,47.35,"E",null,null,null,{"$f":"catp","v":1}]
[647,"Uglea Mihai","Cluj Napoca",321.10000000000002,47.25,"E",null,null,null,{"$f":"catp","v":1}]
[499,"Cilianu Vladut Gabriel","Bucuresti",401.8,47.12,"E",null,null,null,{"$f":"catp","v":1}]
[91,"Catana Claudiu","Bucuresti",840.6,47.11,"E",null,null,null,{"$f":"catp","v":1}]
[2321,"Petrovic Zeljko","Belgrad",47.1,47.1,"E",null,null,null,{"$f":"catp","v":1}]
[2322,"Resavac Predrag","Smederevo",47.1,47.1,"E",null,null,null,{"$f":"catp","v":1}]
[1387,"Nascu Serban","Cluj Napoca",129.69999999999999,47.07,"ELW",null,null,null,{"$f":"catp","v":1}]
[1381,"Maslennicov Anatolie","Moldova-Cahul",130.19999999999999,47.05,"E",null,null,null,{"$f":"catp","v":1}]
[1351,"Paul Cosmin Sebastian","Bucuresti",134.30000000000001,47,"E",null,null,null,{"$f":"catp","v":1}]
[1465,"Petcu Marius","Bucuresti",119.2,47,"E",null,null,null,{"$f":"catp","v":1}]
[928,"Cristache George","Bucuresti",221.1,46.98,"E",null,null,null,{"$f":"catp","v":1}]
[2323,"Stoica Patricia","Bucuresti",46.9,46.9,"EF",null,null,null,{"$f":"catp","v":1}]
[2324,"Berki Milan","Arad",46.9,46.9,"EJ",null,null,null,{"$f":"catp","v":1}]
[118,"Toma Iulian","Braila",769.4,46.85,"EW",null,null,null,{"$f":"catp","v":1}]
[340,"Bleoca Marius","Tarnaveni",525.9,46.85,"EL",null,null,null,{"$f":"catp","v":1}]
[906,"Stanciulescu Bogdan","Brasov",225.8,46.84,"E",null,null,null,{"$f":"catp","v":1}]
[88,"Dumitru Gheorghe","Bucuresti",850.5,46.83,"ED",null,null,null,{"$f":"catp","v":1}]
[1110,"Polocoser Cristian","Suceava",177,46.83,"EW",null,null,null,{"$f":"catp","v":1}]
[2601,"Aron Darie","Sibiu",35.1,46.8,"EW",null,null,null,{"$f":"catp","v":1}]
[1236,"Voicu Ionut","Ploiesti",152.9,46.73,"E",null,null,null,{"$f":"catp","v":1}]
[106,"Daneliuc Gabi","Selimbar",801.8,46.7,"EW",null,null,null,{"$f":"catp","v":1}]
[2336,"Mihailov Valentin","Moldova-Balti",46.5,46.5,"E",null,null,null,{"$f":"catp","v":1}]
[2337,"Brinza Dorin","Moldova-Balti",46.5,46.5,"E",null,null,null,{"$f":"catp","v":1}]
[80,"Tic Ioan","Oradea",862.1,46.47,"E",null,null,null,{"$f":"catp","v":1}]
[1041,"Petric Sorin","Satu Mare",192,46.45,"E",null,null,null,{"$f":"catp","v":1}]
[252,"Ghizdavescu Adrian","Navodari",596.20000000000005,46.43,"E",null,null,null,{"$f":"catp","v":1}]
[664,"Tsubera Ion","Sighetu Marmatiei",311,46.42,"E",null,null,null,{"$f":"catp","v":1}]
[1854,"Stoica Maxim","Moldova-Cahul",78.5,46.3,"E",null,null,null,{"$f":"catp","v":1}]
[134,"Constantin Teodor","Bucuresti",732,46.28,"EL",null,null,null,{"$f":"catp","v":1}]
[544,"Andone Claudiu","Cugir",378.4,46.28,"EW",null,null,null,{"$f":"catp","v":1}]
[63,"Grubacichi Marius","Timisoara",899.2,46.23,"E",null,null,null,{"$f":"catp","v":1}]
[2343,"Marinescu Razvan","Cluj Napoca",46.2,46.2,"E",null,null,null,{"$f":"catp","v":1}]
[60,"Laszlo Levente","Miercurea Ciuc",903.1,46.18,"EW",null,null,null,{"$f":"catp","v":1}]
[441,"Tira Viorel","Bistrita",441.2,46.16,"EW",null,null,null,{"$f":"catp","v":1}]
[71,"Gotca Adrian","Iasi",879.2,46.13,"E",null,null,null,{"$f":"catp","v":1}]
[147,"Butura Vasile","Alba Iulia",710.7,46.05,"E",null,null,null,{"$f":"catp","v":1}]
[276,"Capus Giani","Galati",569.20000000000005,46,"EL",null,null,null,{"$f":"catp","v":1}]
[710,"Taranu Nicusor","Tulcea",291.2,45.95,"ELW",null,null,null,{"$f":"catp","v":1}]
[1155,"Todarcea Ioan","Sibiu",166.7,45.95,"E",null,null,null,{"$f":"catp","v":1}]
[1175,"Pascu Razvan","Magureni",162.80000000000001,45.88,"E",null,null,null,{"$f":"catp","v":1}]
[90,"Kaposta Victor","Arad",841.1,45.81,"E",null,null,null,{"$f":"catp","v":1}]
[1846,"Neculcea Alexandru","Moreni",79.400000000000006,45.8,"E",null,null,null,{"$f":"catp","v":1}]
[169,"Jurescu Sorin","Timisoara",689.3,45.79,"EW",null,null,null,{"$f":"catp","v":1}]
[270,"Benyi Crinel","Tarnaveni",576.70000000000005,45.75,"E",null,null,null,{"$f":"catp","v":1}]
[955,"Filip Gabriel","Bucuresti",214.3,45.73,"E",null,null,null,{"$f":"catp","v":1}]
[2350,"Balazs Lorant","Sfantu Gheorghe",45.7,45.7,"E",null,null,null,{"$f":"catp","v":1}]
[151,"Nastasa Sergiu","Iasi",707.3,45.64,"E",null,null,null,{"$f":"catp","v":1}]
[572,"Iliuta Marius Iustin","Videle",365.3,45.62,"E",null,null,null,{"$f":"catp","v":1}]
[619,"Vasiliu Remus","Mioveni",337.7,45.6,"E",null,null,null,{"$f":"catp","v":1}]
[770,"Kiss Janos","Miercurea Ciuc",272.60000000000002,45.6,"EL",null,null,null,{"$f":"catp","v":1}]
[1426,"Caminschi Vlad","Moldova-Cahul",123.6,45.57,"E",null,null,null,{"$f":"catp","v":1}]
[662,"Picioroga Lucian","Galati",312,45.55,"E",null,null,null,{"$f":"catp","v":1}]
[1719,"Saftoiu Tudor","Bucuresti",91.1,45.55,"ELJ",null,null,null,{"$f":"catp","v":1}]
[1843,"Chirila Robert","Bucuresti",79.599999999999994,45.55,"E",null,null,null,{"$f":"catp","v":1}]
[2619,"Sautiut Elias","Oradea",34.200000000000003,45.5,"E",null,null,null,{"$f":"catp","v":1}]
[58,"Istrate Cristian","Bucuresti",905.4,45.49,"EW",null,null,null,{"$f":"catp","v":1}]
[65,"Albescu Constantin Ionut","Bucuresti",893.4,45.46,"E",null,null,null,{"$f":"catp","v":1}]
[114,"Polotca Stefan","Sangeorgiu de Padure",775.8,45.43,"EW",null,null,null,{"$f":"catp","v":1}]
[362,"Paduret Andrei","Bacau",498.7,45.34,"E",null,null,null,{"$f":"catp","v":1}]
[447,"Petrescu Claudiu","Putna",437.4,45.33,"E",null,null,null,{"$f":"catp","v":1}]
[798,"Dezso Lorand","Dej",265.2,45.3,"E",null,null,null,{"$f":"catp","v":1}]
[2358,"Koteles Antonio","Cluj Napoca",45.3,45.3,"E",null,null,null,{"$f":"catp","v":1}]
[941,"Arabagiu Marius","Bucuresti",217.3,45.28,"E",null,null,null,{"$f":"catp","v":1}]
[990,"Zarinschi Catalin","Galati",206.8,45.28,"E",null,null,null,{"$f":"catp","v":1}]
[97,"Ghiorghiu Dragos","Iasi",819.4,45.25,"E",null,null,null,{"$f":"catp","v":1}]
[215,"Naghi Vlad","Hunedoara",629.5,45.24,"E",null,null,null,{"$f":"catp","v":1}]
[624,"Kovacs Istvan","Miercurea Ciuc",335.1,45.24,"E",null,null,null,{"$f":"catp","v":1}]
[494,"Cazac Victor","Moldova-Briceni",405.3,45.23,"E",null,null,null,{"$f":"catp","v":1}]
[319,"Nicolae Sorinel","Targoviste",536.6,45.22,"E",null,null,null,{"$f":"catp","v":1}]
[2626,"Ilie Alexandru","Craiova",33.9,45.2,"E",null,null,null,{"$f":"catp","v":1}]
[245,"Trocaru Remus","Tulcea",602.6,45.18,"EW",null,null,null,{"$f":"catp","v":1}]
[349,"Sandu Andrei","Sibiu",520.5,45.15,"E",null,null,null,{"$f":"catp","v":1}]
[893,"Seres Szabolcs","Crasna",234.5,45.15,"E",null,null,null,{"$f":"catp","v":1}]
[596,"Dracea Gabriel","Sinaia",349.3,45.08,"E",null,null,null,{"$f":"catp","v":1}]
[483,"Totpal Marius","Busteni",414.2,45.07,"E",null,null,null,{"$f":"catp","v":1}]
[176,"Goleanu Remus","Marginea",677.3,45.04,"E",null,null,null,{"$f":"catp","v":1}]
[358,"Daroti Florin","Lipova",505.9,45.02,"E",null,null,null,{"$f":"catp","v":1}]
[82,"Badaluta Marian","Vatra Dornei",861.3,45.01,"EW",null,null,null,{"$f":"catp","v":1}]
[2362,"Costache Claudiu","Calarasi",45,45,"E",null,null,null,{"$f":"catp","v":1}]
[2363,"Rus Mihai","Bistrita",45,45,"E",null,null,null,{"$f":"catp","v":1}]
[2364,"Fonariuc Denis","Iasi",45,45,"EL",null,null,null,{"$f":"catp","v":1}]
[72,"Tamas Szilard","Miercurea Ciuc",878.4,44.96,"E",null,null,null,{"$f":"catp","v":1}]
[370,"Zamfiroaia Sorin","Falticeni",490.6,44.95,"EW",null,null,null,{"$f":"catp","v":1}]
[1859,"Badea Marian","Buftea",78,44.95,"E",null,null,null,{"$f":"catp","v":1}]
[301,"Postelnicu Mihai","Sibiu",547.79999999999995,44.93,"EW",null,null,null,{"$f":"catp","v":1}]
[533,"Sorin Inu Moise","Stei",383.3,44.82,"E",null,null,null,{"$f":"catp","v":1}]
[2370,"Cojocaru Stefan","Suceava",44.8,44.8,"E",null,null,null,{"$f":"catp","v":1}]
[69,"Oprea Bogdan Andrei","Cluj Napoca",883.5,44.79,"EL",null,null,null,{"$f":"catp","v":1}]
[693,"Simulescu Adrian","Focsani",297.5,44.78,"EW",null,null,null,{"$f":"catp","v":1}]
[122,"Bejan Alexandru","Tecuci",761.3,44.74,"E",null,null,null,{"$f":"catp","v":1}]
[199,"Spoiala Cristinel","Focsani",647.29999999999995,44.7,"EW",null,null,null,{"$f":"catp","v":1}]
[2371,"Boka Norbert","Arad",44.7,44.7,"E",null,null,null,{"$f":"catp","v":1}]
[297,"Vuca Adrian","Berzovia",550,44.67,"E",null,null,null,{"$f":"catp","v":1}]
[502,"Marola Mihai","Bacau",399.7,44.66,"E",null,null,null,{"$f":"catp","v":1}]
[841,"Sencu Victor","Targoviste",251.6,44.65,"EW",null,null,null,{"$f":"catp","v":1}]
[85,"Vasilescu Remus","Curtea de Arges",860.5,44.63,"E",null,null,null,{"$f":"catp","v":1}]
[416,"Geamanu Robert","Drobeta Tr Severin",458.4,44.62,"E",null,null,null,{"$f":"catp","v":1}]
[768,"Radu Costica","Galati",273.39999999999998,44.6,"EW",null,null,null,{"$f":"catp","v":1}]
[70,"Stancescu Sebastian","Ploiesti",879.9,44.57,"E",null,null,null,{"$f":"catp","v":1}]
[1739,"Cudalbu Ciprian","Ploiesti",89.1,44.55,"EL",null,null,null,{"$f":"catp","v":1}]
[450,"Boteanu Nicu","Bucuresti",436.2,44.53,"E",null,null,null,{"$f":"catp","v":1}]
[128,"Dirlea Ioan","Aiud",739.7,44.52,"EDW",null,null,null,{"$f":"catp","v":1}]
[229,"Popovici Ciprian","Hunedoara",617.4,44.52,"E",null,null,null,{"$f":"catp","v":1}]
[661,"Candea Ana Nasta","Bucuresti",312.60000000000002,44.5,"ELF",null,null,null,{"$f":"catp","v":1}]
[2641,"Bondila Adrian","Targoviste",33.4,44.5,"E",null,null,null,{"$f":"catp","v":1}]
[83,"Vaida Sorin","Oradea",861,44.46,"EW",null,null,null,{"$f":"catp","v":1}]
[1874,"Radu Aurel","Bucuresti",76.8,44.45,"E",null,null,null,{"$f":"catp","v":1}]
[432,"Plamada Lucian","Pojorata",447.6,44.44,"E",null,null,null,{"$f":"catp","v":1}]
[64,"Gheorghe Nicolae","Calarasi",894.3,44.4,"EW",null,null,null,{"$f":"catp","v":1}]
[1145,"Tudosi Petru","Suceava",170.3,44.4,"E",null,null,null,{"$f":"catp","v":1}]
[119,"Botanel Eduard","Rovinari",767.2,44.35,"E",null,null,null,{"$f":"catp","v":1}]
[312,"Munteanu Sebastian","Bacau",541.9,44.34,"E",null,null,null,{"$f":"catp","v":1}]
[546,"Halasz Peter","Oradea",375.6,44.33,"E",null,null,null,{"$f":"catp","v":1}]
[712,"Simoc Paul","Stei",291,44.3,"E",null,null,null,{"$f":"catp","v":1}]
[2379,"Rajovic Zoran","Pancevo",44.3,44.3,"E",null,null,null,{"$f":"catp","v":1}]
[2380,"Fomin Alexandru","Moldova-Tiraspol",44.3,44.3,"E",null,null,null,{"$f":"catp","v":1}]
[971,"Zidar Victor","Reghin",211,44.28,"EW",null,null,null,{"$f":"catp","v":1}]
[871,"Kincses Jozsef","Praid",240.6,44.2,"E",null,null,null,{"$f":"catp","v":1}]
[1377,"Pal Zoltan","Miercurea Ciuc",130.69999999999999,44.2,"E",null,null,null,{"$f":"catp","v":1}]
[206,"Mihalache Remus","Plopeni SV",637,44.18,"E",null,null,null,{"$f":"catp","v":1}]
[74,"Jinga Vlad","Bucuresti",876.4,44.15,"E",null,null,null,{"$f":"catp","v":1}]
[1415,"Nicoara Ovidiu","Curtea de Arges",124.7,44.1,"E",null,null,null,{"$f":"catp","v":1}]
[2384,"Gaftea Maria","Iasi",44.1,44.1,"EF",null,null,null,{"$f":"catp","v":1}]
[2646,"Anghel Alexandru","Iasi",33.1,44.1,"EL",null,null,null,{"$f":"catp","v":1}]
[78,"Lazaroiu Adrian","Lucieni",864.8,44.06,"EW",null,null,null,{"$f":"catp","v":1}]
[381,"Lesnic Bogdan","Moldova-Briceni",485.4,44.03,"E",null,null,null,{"$f":"catp","v":1}]
[1868,"Hegedus Aaron","Brasov",77.2,44,"EJ",null,null,null,{"$f":"catp","v":1}]
[2387,"Horvath Tibor","Oradea",44,44,"E",null,null,null,{"$f":"catp","v":1}]
[2388,"Purcarea Radu","Constanta",44,44,"E",null,null,null,{"$f":"catp","v":1}]
[2389,"Toma Nicolai","Moldova-Chisinau",44,44,"E",null,null,null,{"$f":"catp","v":1}]
[2390,"Goga Ana","Moldova-Chisinau",44,44,"EF",null,null,null,{"$f":"catp","v":1}]
[2391,"Bulat Petru","Moldova-Chisinau",44,44,"E",null,null,null,{"$f":"catp","v":1}]
[1559,"Bularda Iulian","Barlad",107.8,43.95,"ELW",null,null,null,{"$f":"catp","v":1}]
[1750,"Zakarias Szabolcs","Odorheiu Secuiesc",87.9,43.95,"EL",null,null,null,{"$f":"catp","v":1}]
[290,"Aherghelegitei Mihai","Dumbraveni SB",556.9,43.94,"EL",null,null,null,{"$f":"catp","v":1}]
[2650,"Popescu Ionut","Bucuresti",33,43.9,"E",null,null,null,{"$f":"catp","v":1}]
[102,"Georgescu Constantin","Orastie",812.4,43.86,"EW",null,null,null,{"$f":"catp","v":1}]
[110,"Gheorghita Vasile","Buzau",779.2,43.86,"E",null,null,null,{"$f":"catp","v":1}]
[690,"Acatrinei Lucian","Bucuresti",298.60000000000002,43.8,"E",null,null,null,{"$f":"catp","v":1}]
[1319,"Tiron Marian","Iasi",138.9,43.8,"E",null,null,null,{"$f":"catp","v":1}]
[314,"Popescu Eugen","Bucuresti",540.9,43.71,"EW",null,null,null,{"$f":"catp","v":1}]
[2665,"Grimaldi Alesio","Italia",32.799999999999997,43.7,"E",null,null,null,{"$f":"catp","v":1}]
[353,"Buruiana Petru","Piatra Neamt",519.4,43.68,"E",null,null,null,{"$f":"catp","v":1}]
[139,"Muresan Florin","Deva",720.4,43.67,"E",null,null,null,{"$f":"catp","v":1}]
[79,"Hancig Mircea","Dumbravita",864.3,43.66,"E",null,null,null,{"$f":"catp","v":1}]
[115,"Vigu Emanuel","Cluj Napoca",775.6,43.63,"ELJ",null,null,null,{"$f":"catp","v":1}]
[2400,"Vujic Luka","Sabac",43.6,43.6,"E",null,null,null,{"$f":"catp","v":1}]
[153,"Birtalan Bence","Sovata",702.4,43.52,"E",null,null,null,{"$f":"catp","v":1}]
[608,"Miron Mihai","Cluj Napoca",343,43.46,"ED",null,null,null,{"$f":"catp","v":1}]
[686,"Iordache Vlad","Bucuresti",299.8,43.46,"E",null,null,null,{"$f":"catp","v":1}]
[105,"Tanc Florin","Oradea",810.4,43.44,"E",null,null,null,{"$f":"catp","v":1}]
[103,"Cozma Catalin","Falticeni",811.9,43.39,"EW",null,null,null,{"$f":"catp","v":1}]
[108,"Migea Cornel","Sibiu",789.7,43.37,"EW",null,null,null,{"$f":"catp","v":1}]
[415,"Popescu Alex","Bucuresti",458.5,43.37,"E",null,null,null,{"$f":"catp","v":1}]
[1243,"Bobeico Igor","Moldova",152,43.37,"E",null,null,null,{"$f":"catp","v":1}]
[1299,"Coiov Nicolae","Arad",142.19999999999999,43.37,"E",null,null,null,{"$f":"catp","v":1}]
[177,"Burghelea Florin","Piatra Neamt",676.4,43.34,"EW",null,null,null,{"$f":"catp","v":1}]
[182,"Mosneagu Maia","Falticeni",671.5,43.34,"EF",null,null,null,{"$f":"catp","v":1}]
[2403,"Tincu Laurentiu","Sibiu",43.3,43.3,"E",null,null,null,{"$f":"catp","v":1}]
[298,"Nicula Florin","Constanta",549.1,43.26,"EW",null,null,null,{"$f":"catp","v":1}]
[1254,"Balanean David","Zalau",150.5,43.23,"E",null,null,null,{"$f":"catp","v":1}]
[2408,"Anghel Bogdan","Buzau",43.2,43.2,"EL",null,null,null,{"$f":"catp","v":1}]
[2409,"Oprea Emanuel","Bucuresti",43.2,43.2,"E",null,null,null,{"$f":"catp","v":1}]
[84,"Tofeni Ovidiu","Cluj Napoca",860.7,43.18,"EL",null,null,null,{"$f":"catp","v":1}]
[742,"Baran Virgil","Bucuresti",280,43.18,"E",null,null,null,{"$f":"catp","v":1}]
[1540,"Ionascu Gabriel","Bucuresti",109.8,43.13,"E",null,null,null,{"$f":"catp","v":1}]
[93,"Orban Marius","Lugoj",834.3,43.11,"EW",null,null,null,{"$f":"catp","v":1}]
[2029,"Pascal Igor","Moldova",64.7,43.1,"E",null,null,null,{"$f":"catp","v":1}]
[1369,"Triff Raul","Deva",132,43.07,"E",null,null,null,{"$f":"catp","v":1}]
[631,"Teodorescu Sandica","Ramnicu Sarat",329.7,43,"ELF",null,null,null,{"$f":"catp","v":1}]
[649,"Dangulea Tudor","Dumbraveni SB",319.5,42.93,"E",null,null,null,{"$f":"catp","v":1}]
[126,"Morosanu Vasile","Suceava",748,42.91,"EW",null,null,null,{"$f":"catp","v":1}]
[844,"Ferenczy Zita","Cluj Napoca",250.9,42.9,"ELF",null,null,null,{"$f":"catp","v":1}]
[975,"Runceanu David","Pitesti",210.1,42.9,"E",null,null,null,{"$f":"catp","v":1}]
[996,"Hoancea Eugen","Deva",205.3,42.85,"EW",null,null,null,{"$f":"catp","v":1}]
[89,"Bunea Adrian","Ploiesti",843.1,42.83,"E",null,null,null,{"$f":"catp","v":1}]
[2691,"Grigoriu Vlad","Suceava",32.1,42.8,"E",null,null,null,{"$f":"catp","v":1}]
[135,"Ciuca Dan","Pitesti",729.8,42.77,"E",null,null,null,{"$f":"catp","v":1}]
[334,"Ciucioiu Dorin","Timisoara",528.29999999999995,42.76,"E",null,null,null,{"$f":"catp","v":1}]
[888,"Balauca Cornel","Botosani",235.4,42.72,"E",null,null,null,{"$f":"catp","v":1}]
[388,"Pancrat Cristian","Brasov",479.7,42.66,"E",null,null,null,{"$f":"catp","v":1}]
[698,"Mardale Radu","Galati",294.7,42.62,"E",null,null,null,{"$f":"catp","v":1}]
[1577,"Florescu Bogdan","Bucuresti",105.9,42.6,"EL",null,null,null,{"$f":"catp","v":1}]
[1902,"Biro Attila","Miercurea Ciuc",74.599999999999994,42.6,"E",null,null,null,{"$f":"catp","v":1}]
[218,"Rojnita Sebastian","Bacau",621.1,42.57,"EW",null,null,null,{"$f":"catp","v":1}]
[781,"Curtea Daniel","Viseu",269.2,42.55,"EL",null,null,null,{"$f":"catp","v":1}]
[956,"Vizoli Alexandru","Fagaras",214.3,42.55,"E",null,null,null,{"$f":"catp","v":1}]
[1775,"Incze Levente","Miercurea Ciuc",85,42.5,"E",null,null,null,{"$f":"catp","v":1}]
[1038,"Florescu Eleodor","Deva",193.2,42.48,"E",null,null,null,{"$f":"catp","v":1}]
[346,"Ardelean Raul","Lipova",521,42.46,"E",null,null,null,{"$f":"catp","v":1}]
[986,"Dumitru Stefan","Buzau",207.5,42.43,"E",null,null,null,{"$f":"catp","v":1}]
[1201,"Craciun David Mihai","Bucuresti",158.1,42.43,"E",null,null,null,{"$f":"catp","v":1}]
[434,"Mihalescu Dinu","Timisoara",446.3,42.38,"EW",null,null,null,{"$f":"catp","v":1}]
[584,"Poenariu Darius","Arad",356.8,42.36,"E",null,null,null,{"$f":"catp","v":1}]
[1782,"Calenciuc Dumitru","Radauti",84.7,42.35,"E",null,null,null,{"$f":"catp","v":1}]
[257,"Stoica Mihai","Hateg",590.70000000000005,42.33,"E",null,null,null,{"$f":"catp","v":1}]
[1178,"Bulgari Serghei","Moldova-Briceni",162.5,42.3,"E",null,null,null,{"$f":"catp","v":1}]
[1197,"Kiraly Florin","Satu Mare",158.5,42.3,"E",null,null,null,{"$f":"catp","v":1}]
[2426,"Batog George","Buzau",42.3,42.3,"E",null,null,null,{"$f":"catp","v":1}]
[2427,"Beka Kristijan","Lokve",42.3,42.3,"E",null,null,null,{"$f":"catp","v":1}]
[2428,"Nuca Ion","Moldova-Chisinau",42.3,42.3,"E",null,null,null,{"$f":"catp","v":1}]
[161,"Traneci Andrei Valentin","Bucuresti",695.4,42.28,"E",null,null,null,{"$f":"catp","v":1}]
[310,"Ghilan Romeo","Targu Neamt",542.29999999999995,42.25,"E",null,null,null,{"$f":"catp","v":1}]
[2429,"Shon Eiikhenbaum","Israel",42.2,42.2,"E",null,null,null,{"$f":"catp","v":1}]
[268,"Carpaci Alexandru","Ludus",577.9,42.16,"EW",null,null,null,{"$f":"catp","v":1}]
[914,"Andrei Radu Alexandru","Iasi",223.6,42.13,"E",null,null,null,{"$f":"catp","v":1}]
[796,"Bardas Mark","Dumbraveni SB",265.5,42.06,"ELJ",null,null,null,{"$f":"catp","v":1}]
[741,"Buga Adrian","Cluj Napoca",280.2,42.04,"E",null,null,null,{"$f":"catp","v":1}]
[518,"Bardas Patrick","Dumbraveni SB",388.2,42.03,"E",null,null,null,{"$f":"catp","v":1}]
[863,"Prodan Alexandru","Tarnaveni",242.6,42,"E",null,null,null,{"$f":"catp","v":1}]
[2437,"Hogas Flaviu Alexandru","Barlad",42,42,"E",null,null,null,{"$f":"catp","v":1}]
[96,"Anchidin Cosmin","Lugoj",821.6,41.95,"E",null,null,null,{"$f":"catp","v":1}]
[598,"Alexandru Vasile","Iasi",348.7,41.95,"E",null,null,null,{"$f":"catp","v":1}]
[1204,"Bora Nicolae","Alba Iulia",157.5,41.95,"E",null,null,null,{"$f":"catp","v":1}]
[1420,"Puiu Dragos","Ploiesti",124.3,41.95,"E",null,null,null,{"$f":"catp","v":1}]
[803,"Marcu Rares","Iasi",263.10000000000002,41.93,"E",null,null,null,{"$f":"catp","v":1}]
[194,"Ursulescu Ioan","Bacau",654.29999999999995,41.9,"EW",null,null,null,{"$f":"catp","v":1}]
[1325,"Mandru Ionel","Calarasi",138.1,41.8,"E",null,null,null,{"$f":"catp","v":1}]
[2440,"Maor Atias","Israel",41.8,41.8,"E",null,null,null,{"$f":"catp","v":1}]
[321,"Manta Viorel","Baicoi",534.20000000000005,41.78,"EW",null,null,null,{"$f":"catp","v":1}]
[1585,"Panea Ovidiu","Bucuresti",105,41.77,"E",null,null,null,{"$f":"catp","v":1}]
[876,"Sobetkii Arcadii","Bucuresti",239.1,41.75,"E",null,null,null,{"$f":"catp","v":1}]
[246,"Sorescu Mircea","Paulesti",601.70000000000005,41.72,"EW",null,null,null,{"$f":"catp","v":1}]
[735,"Carpovici Boris","Falticeni",282.2,41.7,"EW",null,null,null,{"$f":"catp","v":1}]
[980,"Buruiana Mihai","Marasesti",209.1,41.7,"EW",null,null,null,{"$f":"catp","v":1}]
[1899,"Ron Amran Azulay","Israel",74.7,41.7,"E",null,null,null,{"$f":"catp","v":1}]
[2062,"Crisanov Aurel","Timisoara",62.6,41.7,"E",null,null,null,{"$f":"catp","v":1}]
[2443,"Grigorenco Daria","Constanta",41.7,41.7,"ELF",null,null,null,{"$f":"catp","v":1}]
[2444,"Fuad Lior Sholmo","Israel",41.7,41.7,"E",null,null,null,{"$f":"catp","v":1}]
[501,"Dimitriu Vasile","Bacau",400,41.68,"E",null,null,null,{"$f":"catp","v":1}]
[567,"Morosan Marian","Suceava",368.2,41.63,"E",null,null,null,{"$f":"catp","v":1}]
[1349,"Olaru Costin","Bucuresti",134.69999999999999,41.6,"E",null,null,null,{"$f":"catp","v":1}]
[2721,"Mitoi Alin","Bals",31.2,41.6,"E",null,null,null,{"$f":"catp","v":1}]
[586,"Toma David","Bucuresti",355.7,41.58,"E",null,null,null,{"$f":"catp","v":1}]
[1278,"Baiu Costel","Iasi",146.69999999999999,41.53,"E",null,null,null,{"$f":"catp","v":1}]
[1026,"Beschiu Daniel","Sibiu",196.5,41.5,"E",null,null,null,{"$f":"catp","v":1}]
[1926,"Galiu Mihai","Brasov",73.2,41.45,"EW",null,null,null,{"$f":"catp","v":1}]
[461,"Bucur Mario","Bucuresti",427.5,41.44,"E",null,null,null,{"$f":"catp","v":1}]
[1273,"Durac Viorel","Constanta",147.1,41.43,"EW",null,null,null,{"$f":"catp","v":1}]
[1508,"Nicik Ilia","Moldova-Balti",114.6,41.43,"E",null,null,null,{"$f":"catp","v":1}]
[799,"Boznea Daniel","Deva",265,41.33,"E",null,null,null,{"$f":"catp","v":1}]
[1934,"Gecse Alpar","Chibed",72.8,41.3,"E",null,null,null,{"$f":"catp","v":1}]
[2451,"Zaha Vasile","Satu Mare",41.3,41.3,"EW",null,null,null,{"$f":"catp","v":1}]
[371,"Gheorghe Nicu","Drobeta Tr Severin",490.1,41.29,"EW",null,null,null,{"$f":"catp","v":1}]
[1282,"Vilcu Adrian","Iasi",145.4,41.27,"E",null,null,null,{"$f":"catp","v":1}]
[590,"Scutaru Iulian","Bucuresti",353.7,41.22,"E",null,null,null,{"$f":"catp","v":1}]
[1494,"Parnica Leonid","Moinesti",115.4,41.2,"EW",null,null,null,{"$f":"catp","v":1}]
[2452,"Vasile Marius","Calarasi",41.2,41.2,"E",null,null,null,{"$f":"catp","v":1}]
[2453,"Popescu Mihai Sorin","Straja",41.2,41.2,"E",null,null,null,{"$f":"catp","v":1}]
[212,"Sovea Sorin","Suceava",632.4,41.18,"E",null,null,null,{"$f":"catp","v":1}]
[1497,"Finaru Razvan","Bucuresti",115.3,41.15,"E",null,null,null,{"$f":"catp","v":1}]
[676,"Mirt Alexandru","Pascani",304.7,41.12,"E",null,null,null,{"$f":"catp","v":1}]
[999,"Martinas Marius","Iasi",204.3,41.1,"E",null,null,null,{"$f":"catp","v":1}]
[2733,"Macovei Bogdan","Suceava",30.9,41.1,"E",null,null,null,{"$f":"catp","v":1}]
[778,"Vlaisan Georgica","Vicovu de Jos",269.39999999999998,41.08,"E",null,null,null,{"$f":"catp","v":1}]
[812,"Radu Liviu","Bucov",260.10000000000002,41.08,"E",null,null,null,{"$f":"catp","v":1}]
[1218,"Croitoru Gabriel","Craiova",154.80000000000001,41.07,"E",null,null,null,{"$f":"catp","v":1}]
[145,"Bilt Catalin","Suceava",714.4,41.06,"E",null,null,null,{"$f":"catp","v":1}]
[757,"Holban Dumitru","Buzau",275.3,41.06,"E",null,null,null,{"$f":"catp","v":1}]
[244,"Tamsa Titus","Resita",602.70000000000005,41.04,"E",null,null,null,{"$f":"catp","v":1}]
[671,"Dascalu Mihnea Stefan","Suceava",306,41.02,"E",null,null,null,{"$f":"catp","v":1}]
[1814,"Cebotari Alexandru","Iasi",82,41,"E",null,null,null,{"$f":"catp","v":1}]
[117,"Marin Puiu","Amarastii de Sus",774.1,40.99,"EW",null,null,null,{"$f":"catp","v":1}]
[456,"Baiu Lacramioara","Iasi",433.3,40.950000000000003,"EF",null,null,null,{"$f":"catp","v":1}]
[1174,"Boroleanu Robert","Bucuresti",163.1,40.93,"ELD",null,null,null,{"$f":"catp","v":1}]
[1629,"Ciobotaru Gigi","Iasi",100.6,40.9,"EW",null,null,null,{"$f":"catp","v":1}]
[2458,"Cionoiu Cristian","Bucuresti",40.9,40.9,"EW",null,null,null,{"$f":"catp","v":1}]
[2459,"Gelei Kristof","Odorheiu Secuiesc",40.9,40.9,"E",null,null,null,{"$f":"catp","v":1}]
[2737,"Istrate Cristian","Timisoara",30.7,40.9,"E",null,null,null,{"$f":"catp","v":1}]
[752,"Pizlaru Ionel","Focsani",276.5,40.880000000000003,"E",null,null,null,{"$f":"catp","v":1}]
[383,"Stroe Ionel","Bacau",484.8,40.85,"E",null,null,null,{"$f":"catp","v":1}]
[1505,"Axinte Bogdan","Iasi",114.7,40.85,"EL",null,null,null,{"$f":"catp","v":1}]
[1373,"Caranda Alexandru","Bucuresti",131.4,40.799999999999997,"E",null,null,null,{"$f":"catp","v":1}]
[1527,"Tipu Vlad","Iasi",112.2,40.770000000000003,"E",null,null,null,{"$f":"catp","v":1}]
[1622,"Pascal Raul","Targoviste",101.4,40.770000000000003,"EW",null,null,null,{"$f":"catp","v":1}]
[112,"Zavricescu George","Curtea de Arges",778.8,40.75,"EW",null,null,null,{"$f":"catp","v":1}]
[930,"Croitoru Daniel","Craiova",220.9,40.75,"E",null,null,null,{"$f":"catp","v":1}]
[1819,"Mocanu Luca","Filipestii de Targ",81.5,40.75,"E",null,null,null,{"$f":"catp","v":1}]
[641,"Liahu Doru","Botosani",324.39999999999998,40.700000000000003,"E",null,null,null,{"$f":"catp","v":1}]
[2466,"Preuss Adrian","Cluj Napoca",40.700000000000003,40.700000000000003,"E",null,null,null,{"$f":"catp","v":1}]
[1225,"Crainic Adrian","Orastie",154.1,40.65,"E",null,null,null,{"$f":"catp","v":1}]
[474,"Todireanu Valentin","Iasi",419.3,40.6,"E",null,null,null,{"$f":"catp","v":1}]
[1436,"Avram Antonio","Pitesti",122.7,40.6,"E",null,null,null,{"$f":"catp","v":1}]
[2469,"Mihai Gabriel","Galati",40.6,40.6,"E",null,null,null,{"$f":"catp","v":1}]
[138,"Alexandru Marius","Bucuresti",728.5,40.590000000000003,"E",null,null,null,{"$f":"catp","v":1}]
[223,"Petculescu Giani","Ploiesti",620.29999999999995,40.520000000000003,"E",null,null,null,{"$f":"catp","v":1}]
[2746,"Bruchiu Doru","Ploiesti",30.4,40.5,"EW",null,null,null,{"$f":"catp","v":1}]
[1089,"Pastrama Tudor","Constanta",181.8,40.47,"E",null,null,null,{"$f":"catp","v":1}]
[1289,"Pal Albert","Satu Mare",144.1,40.47,"E",null,null,null,{"$f":"catp","v":1}]
[189,"Maxim Andrei","Iasi",663.9,40.42,"E",null,null,null,{"$f":"catp","v":1}]
[2472,"Soare Valentin","Valenii de Munte",40.4,40.4,"EW",null,null,null,{"$f":"catp","v":1}]
[288,"Toplician Mihai","Hunedoara",557.6,40.31,"E",null,null,null,{"$f":"catp","v":1}]
[2473,"Tataru Tiberiu","Targu Jiu",40.299999999999997,40.299999999999997,"E",null,null,null,{"$f":"catp","v":1}]
[2474,"Sindirinschi Victor","Moldova-Cahul",40.299999999999997,40.299999999999997,"E",null,null,null,{"$f":"catp","v":1}]
[2475,"Iavorschii Alexandr","Moldova-Chisinau",40.299999999999997,40.299999999999997,"E",null,null,null,{"$f":"catp","v":1}]
[116,"Sursilov Constantin","Bucuresti",774.7,40.18,"E",null,null,null,{"$f":"catp","v":1}]
[1935,"Ene Dragos","Ploiesti",72.7,40.1,"E",null,null,null,{"$f":"catp","v":1}]
[2102,"Tascianu Cristian","Oradea",60.2,40.1,"E",null,null,null,{"$f":"catp","v":1}]
[327,"Balan Ionel","Calarasi",532.20000000000005,40.090000000000003,"E",null,null,null,{"$f":"catp","v":1}]
[190,"Marginean Catalin","Aiud",662.6,40.08,"E",null,null,null,{"$f":"catp","v":1}]
[1837,"Cazacu Valentin","Pitesti",80.099999999999994,40.049999999999997,"E",null,null,null,{"$f":"catp","v":1}]
[2754,"Kravchenko Daniel Mark","Israel",30,40,"E",null,null,null,{"$f":"catp","v":1}]
[460,"Popet Doru","Timisoara",429.4,39.86,"EW",null,null,null,{"$f":"catp","v":1}]
[1333,"Postelnicu Ciprian","Tecuci",137.30000000000001,39.85,"E",null,null,null,{"$f":"catp","v":1}]
[1288,"Minica Rares","Giurgiu",144.19999999999999,39.799999999999997,"E",null,null,null,{"$f":"catp","v":1}]
[1156,"Metairie Benjamin","Cluj Napoca",166.5,39.78,"E",null,null,null,{"$f":"catp","v":1}]
[1302,"Stanila Eugen","Faurei",142.1,39.770000000000003,"E",null,null,null,{"$f":"catp","v":1}]
[197,"Barca George","Pitesti",651.20000000000005,39.72,"E",null,null,null,{"$f":"catp","v":1}]
[1971,"Mihalache Catalin","Bucuresti",69.5,39.700000000000003,"E",null,null,null,{"$f":"catp","v":1}]
[500,"Maxim Alexandru","Oradea",400.9,39.65,"E",null,null,null,{"$f":"catp","v":1}]
[534,"Radu Daniel","Bucuresti",382.9,39.65,"E",null,null,null,{"$f":"catp","v":1}]
[2119,"Olaru Dragos","Bucuresti",59.5,39.65,"E",null,null,null,{"$f":"catp","v":1}]
[925,"Axinte Tiberius","Iasi",221.7,39.549999999999997,"E",null,null,null,{"$f":"catp","v":1}]
[1543,"Ciuca Sorin","Iasi",109.3,39.549999999999997,"E",null,null,null,{"$f":"catp","v":1}]
[1850,"Grapina Florin","Roman",79.099999999999994,39.549999999999997,"E",null,null,null,{"$f":"catp","v":1}]
[2122,"Popa Cristian Gabriel","Craiova",59.4,39.549999999999997,"E",null,null,null,{"$f":"catp","v":1}]
[345,"Rausche Valentin","Tulcea",522,39.54,"E",null,null,null,{"$f":"catp","v":1}]
[931,"Pandele Ionel","Giurgiu",220.5,39.5,"EW",null,null,null,{"$f":"catp","v":1}]
[2209,"Dragos Matei","Brasov",52.7,39.5,"E",null,null,null,{"$f":"catp","v":1}]
[2489,"Mal Calin","Baia Mare",39.5,39.5,"E",null,null,null,{"$f":"catp","v":1}]
[2765,"Stefan Patrick","Brasov",29.7,39.5,"E",null,null,null,{"$f":"catp","v":1}]
[2766,"Purendea Olimpia","Bucuresti",29.7,39.5,"EF",null,null,null,{"$f":"catp","v":1}]
[2767,"Uta Gheorghe","Bucuresti",29.7,39.5,"E",null,null,null,{"$f":"catp","v":1}]
[372,"Butoi Aurel","Caracal",490.1,39.479999999999997,"E",null,null,null,{"$f":"catp","v":1}]
[1042,"Ionescu Mihai","Targoviste",191.8,39.44,"E",null,null,null,{"$f":"catp","v":1}]
[444,"Acsinte Oana","Bucuresti",438.8,39.43,"EF",null,null,null,{"$f":"catp","v":1}]
[1105,"Beganu Mihai","Buzau",178.1,39.4,"E",null,null,null,{"$f":"catp","v":1}]
[1180,"Ionita Valentin","Galati",162.19999999999999,39.4,"E",null,null,null,{"$f":"catp","v":1}]
[1492,"Vitan Victor","Giurgiu",115.7,39.4,"E",null,null,null,{"$f":"catp","v":1}]
[1509,"Minza Alexandru","Bucuresti",114.5,39.4,"E",null,null,null,{"$f":"catp","v":1}]
[2492,"Gargalic Marina","Moldova-Avdarma",39.4,39.4,"EF",null,null,null,{"$f":"catp","v":1}]
[403,"Braniste George","Bacau",465.4,39.35,"E",null,null,null,{"$f":"catp","v":1}]
[926,"Croitoru Alin","Brasov",221.4,39.33,"E",null,null,null,{"$f":"catp","v":1}]
[2494,"Natishansky Hamou Lavi","Israel",39.299999999999997,39.299999999999997,"E",null,null,null,{"$f":"catp","v":1}]
[628,"Gorum Adrian","Topoloveni",331.2,39.28,"EW",null,null,null,{"$f":"catp","v":1}]
[155,"Bej Sergiu","Arad",701.3,39.26,"E",null,null,null,{"$f":"catp","v":1}]
[1322,"Pavunev Dan","Bucuresti",138.4,39.25,"E",null,null,null,{"$f":"catp","v":1}]
[1219,"Vasile Gelu Iulian","Bucuresti",154.80000000000001,39.229999999999997,"EW",null,null,null,{"$f":"catp","v":1}]
[2499,"Gadzinscaia Maria","Ucraina-Okny",39.200000000000003,39.200000000000003,"EF",null,null,null,{"$f":"catp","v":1}]
[2500,"Arcusa Dmitrii","Ucraina-Umani",39.200000000000003,39.200000000000003,"E",null,null,null,{"$f":"catp","v":1}]
[430,"Weiss Simona","Cisnadie",449.2,39.18,"EF",null,null,null,{"$f":"catp","v":1}]
[242,"Leolea Andrei","Constanta",604.6,39.17,"EW",null,null,null,{"$f":"catp","v":1}]
[379,"Drinceanu Lilian","Oravita",486,39.17,"E",null,null,null,{"$f":"catp","v":1}]
[137,"Papacu Bejoli","Bucuresti",729.3,39.159999999999997,"EW",null,null,null,{"$f":"catp","v":1}]
[921,"Morariu Mircea","Iasi",222.6,39.159999999999997,"E",null,null,null,{"$f":"catp","v":1}]
[677,"Dehelean Alexandru","Dumbravita",304.2,39.15,"EL",null,null,null,{"$f":"catp","v":1}]
[1295,"Teodoru Matei","Buzau",142.6,39.15,"E",null,null,null,{"$f":"catp","v":1}]
[2502,"Munteanu Simona","Arad",39.1,39.1,"EF",null,null,null,{"$f":"catp","v":1}]
[2503,"Simic Milovan","Belgrad",39.1,39.1,"E",null,null,null,{"$f":"catp","v":1}]
[2504,"Takac Radmilo","Belgrad",39.1,39.1,"E",null,null,null,{"$f":"catp","v":1}]
[2778,"Fota Alexandra","Drobeta Tr Severin",29.4,39.1,"ELF",null,null,null,{"$f":"catp","v":1}]
[164,"Demian Daniel","Arad",692.2,39.08,"E",null,null,null,{"$f":"catp","v":1}]
[422,"Davydov Valerii","Ucraina-Kiev",455.4,39.08,"E",null,null,null,{"$f":"catp","v":1}]
[1546,"Badescu Andrei","Bucuresti",109.1,39.07,"EJ",null,null,null,{"$f":"catp","v":1}]
[900,"Totos Ludovic","Marghita",228.3,38.979999999999997,"E",null,null,null,{"$f":"catp","v":1}]
[1323,"Pop Claudiu","Arad",138.4,38.950000000000003,"E",null,null,null,{"$f":"catp","v":1}]
[1341,"Tudor Theodor","Roman",136.19999999999999,38.9,"E",null,null,null,{"$f":"catp","v":1}]
[2510,"Saar Halamish","Israel",38.9,38.9,"E",null,null,null,{"$f":"catp","v":1}]
[602,"Crisan Alexandru","Cluj Napoca",345.2,38.78,"EL",null,null,null,{"$f":"catp","v":1}]
[1551,"Balla Peter","Toplita",108.5,38.75,"E",null,null,null,{"$f":"catp","v":1}]
[744,"Cretu Ionut","Bucuresti",279.10000000000002,38.72,"E",null,null,null,{"$f":"catp","v":1}]
[149,"Palencsar Nicolae","Satu Mare",708.8,38.69,"EW",null,null,null,{"$f":"catp","v":1}]
[555,"Georgiu Dragos","Vatra Dornei",372.6,38.68,"E",null,null,null,{"$f":"catp","v":1}]
[1124,"Iordan Marc Gabriel","Bucuresti",174.5,38.67,"E",null,null,null,{"$f":"catp","v":1}]
[994,"Luca Octavian","Tulcea",205.9,38.65,"E",null,null,null,{"$f":"catp","v":1}]
[1544,"Usatenco Igori","Ucraina",109.3,38.65,"E",null,null,null,{"$f":"catp","v":1}]
[163,"Kriszta Arpad Lorand","Sanpaul",692.5,38.630000000000003,"E",null,null,null,{"$f":"catp","v":1}]
[1212,"Simion Cristi","Targu Jiu",156,38.6,"E",null,null,null,{"$f":"catp","v":1}]
[1461,"Sarca Ovidiu","Marghita",119.5,38.6,"E",null,null,null,{"$f":"catp","v":1}]
[1266,"Parvu Nicolae","Resita",148.30000000000001,38.57,"E",null,null,null,{"$f":"catp","v":1}]
[336,"Negrean Ioan","Sibiu",526.9,38.56,"E",null,null,null,{"$f":"catp","v":1}]
[720,"Ivan Sorin Ioan","Targoviste",287.39999999999998,38.549999999999997,"E",null,null,null,{"$f":"catp","v":1}]
[1072,"Tigau Dan","Bucuresti",185.1,38.53,"EW",null,null,null,{"$f":"catp","v":1}]
[1006,"Tipser Gabriel","Sighisoara",202.1,38.5,"EW",null,null,null,{"$f":"catp","v":1}]
[1870,"Draganescu Viorel","Ploiesti",77,38.5,"E",null,null,null,{"$f":"catp","v":1}]
[1953,"Iancu Sorin","Sibiu",71.099999999999994,38.5,"E",null,null,null,{"$f":"catp","v":1}]
[1982,"Coroiu Andrei","Roman",68.2,38.5,"E",null,null,null,{"$f":"catp","v":1}]
[2517,"Toader George","Agnita",38.5,38.5,"E",null,null,null,{"$f":"catp","v":1}]
[2518,"Radu Doru","Targu Mures",38.5,38.5,"E",null,null,null,{"$f":"catp","v":1}]
[2519,"Covalschi Romeo","Iasi",38.5,38.5,"E",null,null,null,{"$f":"catp","v":1}]
[2520,"Ni Alena","Moldova-Chisinau",38.5,38.5,"EF",null,null,null,{"$f":"catp","v":1}]
[2521,"Casapciuc Stanislav","Moldova-Chisinau",38.5,38.5,"E",null,null,null,{"$f":"catp","v":1}]
[2522,"Marenco Anton","Moldova-Chisinau",38.5,38.5,"E",null,null,null,{"$f":"catp","v":1}]
[1520,"Mircea Ingrid","Giurgiu",113,38.450000000000003,"EF",null,null,null,{"$f":"catp","v":1}]
[1873,"Borosoiu Laurentiu","Sinaia",76.900000000000006,38.450000000000003,"E",null,null,null,{"$f":"catp","v":1}]
[1250,"Singeorzan Corneliu","Bistrita",151.1,38.43,"E",null,null,null,{"$f":"catp","v":1}]
[1241,"Costin Bogdan","Iasi",152.5,38.4,"E",null,null,null,{"$f":"catp","v":1}]
[809,"Cherhat Dumitru","Cluj Napoca",261.10000000000002,38.32,"E",null,null,null,{"$f":"catp","v":1}]
[469,"Ojog Petrisor","Bacau",422,38.14,"EW",null,null,null,{"$f":"catp","v":1}]
[351,"Marin Albert","Bucuresti",520,38.119999999999997,"EJ",null,null,null,{"$f":"catp","v":1}]
[159,"Alexandru David Gabriel","Bucuresti",696.6,38.11,"E",null,null,null,{"$f":"catp","v":1}]
[1129,"Toader Nicolae","Tulcea",173.2,38.1,"E",null,null,null,{"$f":"catp","v":1}]
[2527,"Moise Mihai","Alexandria",38.1,38.1,"EW",null,null,null,{"$f":"catp","v":1}]
[1998,"Oprea Adrian","Lugoj",66.8,38.049999999999997,"E",null,null,null,{"$f":"catp","v":1}]
[121,"Mitar Marius Tiberiu","Sannicolau Mare",761.4,38,"EW",null,null,null,{"$f":"catp","v":1}]
[129,"Bubulac Cristi","Piatra Neamt",738.8,38,"E",null,null,null,{"$f":"catp","v":1}]
[136,"Sterczer Sandor","Sanzieni",729.8,38,"E",null,null,null,{"$f":"catp","v":1}]
[148,"Botosneanu Ionut","Videle",710.3,38,"E",null,null,null,{"$f":"catp","v":1}]
[154,"Botanel Grigore","Rovinari",702.2,38,"E",null,null,null,{"$f":"catp","v":1}]
[167,"Alecu Ianis","Rosiori de Vede",689.8,38,"E",null,null,null,{"$f":"catp","v":1}]
[172,"Motoroi Costin","Bucuresti",681.8,38,"EW",null,null,null,{"$f":"catp","v":1}]
[192,"Petrut Patrick","Aiud",656.8,38,"E",null,null,null,{"$f":"catp","v":1}]
[224,"Paulette Briana","Blaj",619.9,38,"EFJ",null,null,null,{"$f":"catp","v":1}]
[296,"Georgescu Costin","Bucuresti",551.6,38,"E",null,null,null,{"$f":"catp","v":1}]
[303,"Fotia Iulian","Bacau",547,38,"E",null,null,null,{"$f":"catp","v":1}]
[305,"Constantin Cristina","Bucuresti",546,38,"ELF",null,null,null,{"$f":"catp","v":1}]
[342,"Taut Stefan","Cluj Napoca",523.1,38,"EJ",null,null,null,{"$f":"catp","v":1}]
[373,"Necsoiu Georgiana","Videle",489.6,38,"ELF",null,null,null,{"$f":"catp","v":1}]
[380,"Dimache Maria","Brasov",485.8,38,"ELF",null,null,null,{"$f":"catp","v":1}]
[385,"Vlaisan Vasile","Vicovu de Jos",484,38,"E",null,null,null,{"$f":"catp","v":1}]
[412,"Mita Augustin","Dorohoi",460.5,38,"EW",null,null,null,{"$f":"catp","v":1}]
[420,"Samoila Ion","Babadag",456.3,38,"E",null,null,null,{"$f":"catp","v":1}]
[427,"Pacurar Teodor","Gherla",450.6,38,"E",null,null,null,{"$f":"catp","v":1}]
[490,"Simon Bence","Targu Mures",409.7,38,"EL",null,null,null,{"$f":"catp","v":1}]
[545,"Marin Catalin","Fenes",377.5,38,"EL",null,null,null,{"$f":"catp","v":1}]
[1312,"Marchis Alexandra","Cluj Napoca",140.30000000000001,38,"ELF",null,null,null,{"$f":"catp","v":1}]
[1382,"Teodorescu Maria","Ramnicu Sarat",130.19999999999999,38,"ELF",null,null,null,{"$f":"catp","v":1}]
[1763,"Bolgarov David George","Bucuresti",86.4,38,"EL",null,null,null,{"$f":"catp","v":1}]
[1883,"Gagiu David","Targoviste",75.900000000000006,38,"EL",null,null,null,{"$f":"catp","v":1}]
[2003,"Bogdan Raul","Deva",66.5,38,"EL",null,null,null,{"$f":"catp","v":1}]
[2085,"Budiu Ioana","Medias",61.2,38,"ELF",null,null,null,{"$f":"catp","v":1}]
[2229,"Barbu Sara","Constanta",51.4,38,"ELF",null,null,null,{"$f":"catp","v":1}]
[2397,"David Zoltan","Floresti",43.8,38,"EL",null,null,null,{"$f":"catp","v":1}]
[2815,"Handra Mark","Targu Secuiesc",28.5,38,"E",null,null,null,{"$f":"catp","v":1}]
[2833,"Cucerzan Sonia","Medias",28,38,"ELF",null,null,null,{"$f":"catp","v":1}]
[2891,"Trusculescu Anastasia","Drobeta Tr Severin",26.4,38,"ELF",null,null,null,{"$f":"catp","v":1}]
[3113,"Canea Kocsis Abigel","Targu Secuiesc",20.9,38,"EL",null,null,null,{"$f":"catp","v":1}]
[3138,"Sardeni Teodora","Moinesti",20.3,38,"ELF",null,null,null,{"$f":"catp","v":1}]
[3191,"Murariu Miruna","Moinesti",19.2,38,"ELF",null,null,null,{"$f":"catp","v":1}]
[3295,"Birloncea Mara","Medias",17.5,38,"ELF",null,null,null,{"$f":"catp","v":1}]
[3328,"Comsa Patricia","Medias",17,38,"ELF",null,null,null,{"$f":"catp","v":1}]
[3408,"Bejan Boglarka","Targu Secuiesc",15.4,38,"ELF",null,null,null,{"$f":"catp","v":1}]
[909,"Motorga Dorin","Targu Mures",224.9,37.93,"OW",null,null,null,{"$f":"catp","v":2}]
[1442,"Liuba Alin","Oravita",122.2,37.9,"O",null,null,null,{"$f":"catp","v":2}]
[1594,"Delev Andreea","Moldova-Balti",103.9,37.869999999999997,"OF",null,null,null,{"$f":"catp","v":2}]
[160,"Balazs Imre Florin","Apahida",695.7,37.85,"O",null,null,null,{"$f":"catp","v":2}]
[784,"Dicu Vlad","Vaslui",268.10000000000002,37.85,"O",null,null,null,{"$f":"catp","v":2}]
[1889,"Cristea Daniel","Bistrita",75.7,37.85,"O",null,null,null,{"$f":"catp","v":2}]
[1109,"Pasoveanu Silvian","Bucuresti",177.3,37.799999999999997,"O",null,null,null,{"$f":"catp","v":2}]
[1458,"Ido Moshe","Israel",119.9,37.799999999999997,"O",null,null,null,{"$f":"catp","v":2}]
[2225,"Lucaci Adrian","Bucuresti",51.9,37.799999999999997,"O",null,null,null,{"$f":"catp","v":2}]
[694,"Nicolaiciuc Ovidiu Sebastian","Iasi",296,37.78,"O",null,null,null,{"$f":"catp","v":2}]
[1067,"Bartha Dezso","Sovata",186.5,37.78,"O",null,null,null,{"$f":"catp","v":2}]
[166,"Panaitescu Stefan","Izvoarele",691.2,37.75,"OW",null,null,null,{"$f":"catp","v":2}]
[942,"Baca Stefan","Bucuresti",217,37.729999999999997,"O",null,null,null,{"$f":"catp","v":2}]
[976,"Bothazan Florin","Dej",210,37.700000000000003,"OD",null,null,null,{"$f":"catp","v":2}]
[1125,"Boca Timotei","Salcea",174.1,37.700000000000003,"O",null,null,null,{"$f":"catp","v":2}]
[1186,"Mladinoi Ion","Iasi",161.4,37.700000000000003,"O",null,null,null,{"$f":"catp","v":2}]
[127,"Vaszi Denes","Miercurea Ciuc",746.9,37.67,"OD",null,null,null,{"$f":"catp","v":2}]
[1008,"Lacatis Ghita","Maderat",201.6,37.65,"O",null,null,null,{"$f":"catp","v":2}]
[2158,"Nemaciuc Ovidiu","Suceava",56.5,37.65,"O",null,null,null,{"$f":"catp","v":2}]
[251,"Botez Radu","Targu Mures",598,37.58,"OW",null,null,null,{"$f":"catp","v":2}]
[174,"Rusu Bogdan","Aiud",678.7,37.57,"O",null,null,null,{"$f":"catp","v":2}]
[1511,"Todor Cristian","Oradea",114.3,37.57,"OW",null,null,null,{"$f":"catp","v":2}]
[222,"Toth Attila","Sfantu Gheorghe",620.4,37.56,"O",null,null,null,{"$f":"catp","v":2}]
[1150,"Ivan Adriana","Buzau",168,37.5,"OF",null,null,null,{"$f":"catp","v":2}]
[1895,"Vescan Radu","Cluj Napoca",75,37.5,"O",null,null,null,{"$f":"catp","v":2}]
[123,"Orban Alexandru","Lugoj",754.6,37.49,"O",null,null,null,{"$f":"catp","v":2}]
[409,"Sucilea Victor","Cluj Napoca",462.2,37.479999999999997,"OLJ",null,null,null,{"$f":"catp","v":2}]
[2002,"Sultana Denis","Mioveni",66.599999999999994,37.450000000000003,"O",null,null,null,{"$f":"catp","v":2}]
[669,"Constantin Gabriela","Bucuresti",306.39999999999998,37.43,"OFD",null,null,null,{"$f":"catp","v":2}]
[196,"Gherman Vlad","Timisoara",651.29999999999995,37.409999999999997,"O",null,null,null,{"$f":"catp","v":2}]
[1992,"Preoteasa Bogdan","Craiova",67.099999999999994,37.4,"O",null,null,null,{"$f":"catp","v":2}]
[2165,"Kalman Csaba","Timisoara",56.1,37.4,"O",null,null,null,{"$f":"catp","v":2}]
[2538,"Taucci Anastasia","Moldova-Avdarma",37.4,37.4,"OF",null,null,null,{"$f":"catp","v":2}]
[2831,"Lupu Darius","Bucuresti",28.1,37.4,"O",null,null,null,{"$f":"catp","v":2}]
[1230,"Anton Cristian","Tulcea",153.5,37.369999999999997,"O",null,null,null,{"$f":"catp","v":2}]
[269,"Stanciu Dumitru","Simeria",577.9,37.35,"O",null,null,null,{"$f":"catp","v":2}]
[1187,"Mihaila Nicolae","Breaza",161.30000000000001,37.35,"OW",null,null,null,{"$f":"catp","v":2}]
[232,"Jichici Svetozar","Timisoara",613.9,37.32,"OW",null,null,null,{"$f":"catp","v":2}]
[1601,"Morar Alin","Alba Iulia",103,37.299999999999997,"O",null,null,null,{"$f":"catp","v":2}]
[2834,"Thouzard Adrian","Drobeta Tr Severin",28,37.299999999999997,"O",null,null,null,{"$f":"catp","v":2}]
[2546,"Oliva Ioan David","Bulgaria",37.200000000000003,37.200000000000003,"O",null,null,null,{"$f":"catp","v":2}]
[1908,"Aden Erduan","Constanta",74.3,37.15,"O",null,null,null,{"$f":"catp","v":2}]
[1157,"Boata Edgar","Arad",166.5,37.130000000000003,"O",null,null,null,{"$f":"catp","v":2}]
[1604,"Ignatescu Bogdan Ionut","Iasi",102.6,37.130000000000003,"O",null,null,null,{"$f":"catp","v":2}]
[1207,"Buciu Cristina","Bucuresti",157,37.1,"OF",null,null,null,{"$f":"catp","v":2}]
[144,"Peta Octavian","Cluj Napoca",715.4,37.090000000000003,"OW",null,null,null,{"$f":"catp","v":2}]
[1019,"Kovacs Eduard","Balan",198,37.03,"O",null,null,null,{"$f":"catp","v":2}]
[791,"Lup Silviu","Oradea",266.7,37,"O",null,null,null,{"$f":"catp","v":2}]
[2553,"Badescu Stefan","Campulung Muscel",37,37,"O",null,null,null,{"$f":"catp","v":2}]
[2554,"Maximenco Ivan","Moldova-Chisinau",37,37,"O",null,null,null,{"$f":"catp","v":2}]
[880,"Iordache Eugen","Braila",237.9,36.979999999999997,"O",null,null,null,{"$f":"catp","v":2}]
[398,"Cozma Gheorghe","Bistrita",472.8,36.96,"O",null,null,null,{"$f":"catp","v":2}]
[1916,"Todi Dumitru","Slobozia",73.900000000000006,36.950000000000003,"O",null,null,null,{"$f":"catp","v":2}]
[2021,"Fritea Raul","Marghita",65.2,36.950000000000003,"O",null,null,null,{"$f":"catp","v":2}]
[152,"Vera Esteban","Sibiu",702.5,36.92,"O",null,null,null,{"$f":"catp","v":2}]
[755,"Moise Vasile","Bucuresti",276.10000000000002,36.9,"OW",null,null,null,{"$f":"catp","v":2}]
[2245,"Vilculescu Vlad","Timisoara",50.7,36.9,"O",null,null,null,{"$f":"catp","v":2}]
[2560,"Paun Daniel","Bucuresti",36.9,36.9,"O",null,null,null,{"$f":"catp","v":2}]
[191,"Bara Radu","Floresti",659.5,36.89,"O",null,null,null,{"$f":"catp","v":2}]
[913,"Bruma Ovidiu","Bucuresti",223.7,36.880000000000003,"O",null,null,null,{"$f":"catp","v":2}]
[581,"Sirbu David Alexandru","Targoviste",359.3,36.85,"O",null,null,null,{"$f":"catp","v":2}]
[672,"Gaspar Cecilia","Targu Mures",305.8,36.85,"OF",null,null,null,{"$f":"catp","v":2}]
[989,"Bujoi Emanuel","Braila",207,36.840000000000003,"O",null,null,null,{"$f":"catp","v":2}]
[949,"Alexandrescu Marius","Voluntari",215.3,36.799999999999997,"O",null,null,null,{"$f":"catp","v":2}]
[132,"Popovici Robert Gheorghe","Petrosani",733,36.78,"O",null,null,null,{"$f":"catp","v":2}]
[2567,"Miculescu Alexandru","Iasi",36.700000000000003,36.700000000000003,"O",null,null,null,{"$f":"catp","v":2}]
[1014,"Handlery Viktor","Oradea",199.5,36.630000000000003,"O",null,null,null,{"$f":"catp","v":2}]
[1308,"Lescinscaia Inna","Moldova-Balti",140.9,36.630000000000003,"OF",null,null,null,{"$f":"catp","v":2}]
[1350,"Gritto Daniel","Medias",134.5,36.630000000000003,"O",null,null,null,{"$f":"catp","v":2}]
[142,"Dusan Marcel","Arad",716.4,36.619999999999997,"OW",null,null,null,{"$f":"catp","v":2}]
[653,"Gatea Marius","Piatra Neamt",316.89999999999998,36.619999999999997,"OW",null,null,null,{"$f":"catp","v":2}]
[1927,"Deac Octavian","Dumbraveni SB",73.2,36.6,"O",null,null,null,{"$f":"catp","v":2}]
[384,"Ceuca Gavrila","Satu Mare",484.8,36.57,"O",null,null,null,{"$f":"catp","v":2}]
[623,"Muresan Iulian","Victoria",336.3,36.57,"O",null,null,null,{"$f":"catp","v":2}]
[663,"Cojocaru Alexandru","Arad",311.10000000000002,36.56,"O",null,null,null,{"$f":"catp","v":2}]
[1615,"Lisnic Nicolae","Moldova-Singerei",102,36.549999999999997,"O",null,null,null,{"$f":"catp","v":2}]
[308,"Nistor Alexandru","Sighetu Marmatiei",544.5,36.520000000000003,"O",null,null,null,{"$f":"catp","v":2}]
[504,"Ursulean Vasile","Straja",399.4,36.5,"OW",null,null,null,{"$f":"catp","v":2}]
[2570,"Manoiu Claudiu","Fieni",36.5,36.5,"O",null,null,null,{"$f":"catp","v":2}]
[2571,"Iosip Radu Gabriel","Barlad",36.5,36.5,"O",null,null,null,{"$f":"catp","v":2}]
[1545,"Ciocirlan Mircea","Tulcea",109.3,36.47,"O",null,null,null,{"$f":"catp","v":2}]
[1248,"Ionescu Ioana","Bucuresti",151.5,36.450000000000003,"OFJ",null,null,null,{"$f":"catp","v":2}]
[1359,"Budes Alin","Timisoara",132.9,36.4,"O",null,null,null,{"$f":"catp","v":2}]
[2858,"Zamfir Gicu","Bucuresti",27.3,36.4,"O",null,null,null,{"$f":"catp","v":2}]
[168,"Sirbu Lucian","Drobeta Tr Severin",689.7,36.369999999999997,"O",null,null,null,{"$f":"catp","v":2}]
[275,"Marian Bogdan","Ploiesti",570,36.369999999999997,"OW",null,null,null,{"$f":"catp","v":2}]
[454,"Negrea Olimpiu","Otelu Rosu",434.5,36.36,"O",null,null,null,{"$f":"catp","v":2}]
[703,"Toth Geza","Sfantu Gheorghe",293.10000000000002,36.35,"OW",null,null,null,{"$f":"catp","v":2}]
[659,"Ivan Ioan","Medias",312.89999999999998,36.299999999999997,"OW",null,null,null,{"$f":"catp","v":2}]
[2189,"Manea Adrian","Timisoara",54.5,36.299999999999997,"O",null,null,null,{"$f":"catp","v":2}]
[282,"Roca Claudiu","Satu Mare",561.79999999999995,36.26,"O",null,null,null,{"$f":"catp","v":2}]
[532,"Dabacan Dorin","Tarnaveni",383.4,36.200000000000003,"O",null,null,null,{"$f":"catp","v":2}]
[2579,"Critina Alexandra","Ucraina-Kiev",36.200000000000003,36.200000000000003,"OF",null,null,null,{"$f":"catp","v":2}]
[2862,"Toma Dumitru","Oradea",27.2,36.200000000000003,"O",null,null,null,{"$f":"catp","v":2}]
[263,"Saucan Victor","Giroc",585.20000000000005,36.19,"O",null,null,null,{"$f":"catp","v":2}]
[240,"Marcu Ciprian","Targu Mures",605.20000000000005,36.18,"O",null,null,null,{"$f":"catp","v":2}]
[453,"Marginean Mihai","Luna CJ",435.6,36.18,"O",null,null,null,{"$f":"catp","v":2}]
[1342,"Vladoiu Gelu","Brasov",136.1,36.17,"OW",null,null,null,{"$f":"catp","v":2}]
[260,"Moroldi Gabriel","Targu Mures",588.29999999999995,36.159999999999997,"O",null,null,null,{"$f":"catp","v":2}]
[1196,"Dumbrava Doru","Bucuresti",158.6,36.130000000000003,"OW",null,null,null,{"$f":"catp","v":2}]
[1729,"Pristavu Bogdan Constantin","Iasi",90,36.1,"O",null,null,null,{"$f":"catp","v":2}]
[2582,"But Victor","Moldova-Comrat",36.1,36.1,"O",null,null,null,{"$f":"catp","v":2}]
[359,"Croitoru Alexandru","Iasi",504.9,36.04,"O",null,null,null,{"$f":"catp","v":2}]
[1003,"Cardas Andrei","Dumbravita",203.5,36.04,"O",null,null,null,{"$f":"catp","v":2}]
[969,"Silivestru Nicu","Tulcea",211.1,36.03,"O",null,null,null,{"$f":"catp","v":2}]
[330,"Szanto Lajos","Miercurea Ciuc",531.4,36.020000000000003,"O",null,null,null,{"$f":"catp","v":2}]
[2584,"Herghelegiu Rodica","Galati",36,36,"OF",null,null,null,{"$f":"catp","v":2}]
[2585,"Radulescu Marian","Bucuresti",36,36,"O",null,null,null,{"$f":"catp","v":2}]
[2872,"Varadi Tudor Calin","Brad",27,36,"O",null,null,null,{"$f":"catp","v":2}]
[238,"Puscas Darius","Gherla",607.5,35.99,"O",null,null,null,{"$f":"catp","v":2}]
[1162,"Denes Ferenc","Praid",165.9,35.97,"OW",null,null,null,{"$f":"catp","v":2}]
[291,"Nistor Iosif","Miercurea Ciuc",556.5,35.94,"ODW",null,null,null,{"$f":"catp","v":2}]
[323,"Pralea Marius Dan","Botosani",532.9,35.92,"OW",null,null,null,{"$f":"catp","v":2}]
[868,"Padurariu Costel","Brasov",241.3,35.86,"O",null,null,null,{"$f":"catp","v":2}]
[1946,"Ianculovici Svetozar","Bucuresti",71.7,35.85,"O",null,null,null,{"$f":"catp","v":2}]
[143,"Ciobanu Daniel","Blaj",715.7,35.840000000000003,"OW",null,null,null,{"$f":"catp","v":2}]
[1028,"Cazacu Florin","Vatra Dornei",195.9,35.83,"O",null,null,null,{"$f":"catp","v":2}]
[392,"Somarlie Valentin","Giurgiu",476.6,35.81,"O",null,null,null,{"$f":"catp","v":2}]
[556,"Trebel Robert","Bocsa",372.6,35.81,"O",null,null,null,{"$f":"catp","v":2}]
[1257,"Budescu Marian","Galati",149.9,35.78,"O",null,null,null,{"$f":"catp","v":2}]
[195,"Campean Adrian","Bucuresti",653.6,35.770000000000003,"OW",null,null,null,{"$f":"catp","v":2}]
[445,"Trandafir Vasile","Targu Mures",438.5,35.770000000000003,"O",null,null,null,{"$f":"catp","v":2}]
[1264,"Nicolae Ionut","Ploiesti",148.69999999999999,35.75,"O",null,null,null,{"$f":"catp","v":2}]
[294,"Dascalasu Viorel","Bucuresti",553.20000000000005,35.74,"OW",null,null,null,{"$f":"catp","v":2}]
[1233,"Popescu Andrei","Constanta",153.19999999999999,35.729999999999997,"O",null,null,null,{"$f":"catp","v":2}]
[377,"Manole Dan","Braila",488,35.68,"O",null,null,null,{"$f":"catp","v":2}]
[455,"Codreanu Laurentiu","Buzau",433.4,35.630000000000003,"O",null,null,null,{"$f":"catp","v":2}]
[254,"Brulea Petre","Paulesti",594,35.619999999999997,"OW",null,null,null,{"$f":"catp","v":2}]
[2883,"Roman Ovidiu","Maieru",26.7,35.6,"O",null,null,null,{"$f":"catp","v":2}]
[807,"Cioboiu Dan","Craiova",261.3,35.58,"O",null,null,null,{"$f":"catp","v":2}]
[1432,"Hariuc Costica","Vaslui",123.1,35.57,"O",null,null,null,{"$f":"catp","v":2}]
[1239,"Benderschi Alexandru","Moldova-Briceni",152.6,35.549999999999997,"O",null,null,null,{"$f":"catp","v":2}]
[183,"Oniga Constantin","Iasi",671.4,35.54,"O",null,null,null,{"$f":"catp","v":2}]
[146,"Darmaz Ion","Targoviste",712.2,35.520000000000003,"OW",null,null,null,{"$f":"catp","v":2}]
[272,"Veres Francisc","Oravita",574.29999999999995,35.51,"O",null,null,null,{"$f":"catp","v":2}]
[203,"Gaborean Bogdan","Cluj Napoca",639,35.5,"O",null,null,null,{"$f":"catp","v":2}]
[2071,"Pop Ioan Florin","Lugoj",61.7,35.5,"O",null,null,null,{"$f":"catp","v":2}]
[266,"Baicu Claudiu","Bucuresti",581.9,35.479999999999997,"O",null,null,null,{"$f":"catp","v":2}]
[1128,"Vasiloiu Mihai","Focsani",173.3,35.47,"OW",null,null,null,{"$f":"catp","v":2}]
[158,"Marin Florin Cornel","Targu Mures",697.6,35.44,"O",null,null,null,{"$f":"catp","v":2}]
[808,"Turcu Viorel","Piatra Neamt",261.2,35.369999999999997,"OW",null,null,null,{"$f":"catp","v":2}]
[205,"Lita Gabriel","Bucuresti",637.20000000000005,35.33,"O",null,null,null,{"$f":"catp","v":2}]
[306,"Turburan Ion","Resita",546,35.31,"OW",null,null,null,{"$f":"catp","v":2}]
[1039,"Sas Tibor","Oradea",192.9,35.299999999999997,"O",null,null,null,{"$f":"catp","v":2}]
[1537,"Corocaescu Cristian","Suceava",110.2,35.299999999999997,"O",null,null,null,{"$f":"catp","v":2}]
[313,"Acriva Marian","Mizil",541.70000000000005,35.29,"OW",null,null,null,{"$f":"catp","v":2}]
[436,"Ciobanu Gabriel","Cluj Napoca",444.7,35.29,"OW",null,null,null,{"$f":"catp","v":2}]
[187,"Visan Bogdan","Targoviste",666.1,35.25,"OW",null,null,null,{"$f":"catp","v":2}]
[1959,"Dobrin David","Alexandria",70.5,35.25,"O",null,null,null,{"$f":"catp","v":2}]
[2069,"Stoica Iuri","Moldova-Cahul",61.9,35.25,"O",null,null,null,{"$f":"catp","v":2}]
[709,"Rosca Niculai","Galanesti",292,35.200000000000003,"OW",null,null,null,{"$f":"catp","v":2}]
[443,"Baisan Paul","Roman",439.9,35.17,"OW",null,null,null,{"$f":"catp","v":2}]
[302,"Mihalcea Stefan Tiberiu","Snagov",547.79999999999995,35.14,"O",null,null,null,{"$f":"catp","v":2}]
[1587,"Osman Metin","Tulcea",104.7,35.1,"OW",null,null,null,{"$f":"catp","v":2}]
[467,"Patrascu Dorin","Pitesti",423.3,35.090000000000003,"OW",null,null,null,{"$f":"catp","v":2}]
[363,"Mahu Bogdan","Pascani",497.7,35.08,"O",null,null,null,{"$f":"catp","v":2}]
[258,"Degianschi Obrad","Resita",590.4,35.07,"O",null,null,null,{"$f":"catp","v":2}]
[2054,"Achirei Paul","Simeria",63.1,35.049999999999997,"O",null,null,null,{"$f":"catp","v":2}]
[207,"Husa Gelu","Zalau",636.6,35.01,"ODW",null,null,null,{"$f":"catp","v":2}]
[316,"Plaiasu Ion","Plopeni",540,35.01,"OW",null,null,null,{"$f":"catp","v":2}]
[491,"Tuca Cristi","Slatina",409.4,35.01,"O",null,null,null,{"$f":"catp","v":2}]
[375,"Ivan Valentin","Campina",488.8,34.979999999999997,"OW",null,null,null,{"$f":"catp","v":2}]
[1685,"Patapi Alexandru","Moldova-Balti",95.2,34.97,"O",null,null,null,{"$f":"catp","v":2}]
[285,"Bica Alexandru","Alesd",558.70000000000005,34.96,"O",null,null,null,{"$f":"catp","v":2}]
[170,"Birtalan Laszlo","Oradea",686.9,34.92,"OW",null,null,null,{"$f":"catp","v":2}]
[1949,"Zaharia Iulian","Iasi",71.400000000000006,34.9,"O",null,null,null,{"$f":"catp","v":2}]
[407,"Bucur Dan","Cisnadie",462.6,34.89,"OW",null,null,null,{"$f":"catp","v":2}]
[832,"Serban Bogdan","Bucuresti",253.3,34.840000000000003,"OW",null,null,null,{"$f":"catp","v":2}]
[175,"Nicu Constantin","Iasi",678.1,34.81,"OW",null,null,null,{"$f":"catp","v":2}]
[2219,"Saitan Claudiu","Bucuresti",52.2,34.799999999999997,"O",null,null,null,{"$f":"catp","v":2}]
[507,"Tovis Levente","Cluj Napoca",397.4,34.78,"O",null,null,null,{"$f":"catp","v":2}]
[1086,"Catricicau Adrian","Baia Mare",182.7,34.78,"O",null,null,null,{"$f":"catp","v":2}]
[209,"Neamt Doru","Arad",633.20000000000005,34.729999999999997,"OW",null,null,null,{"$f":"catp","v":2}]
[953,"Dragotescu Iulian Darius","Deva",214.6,34.729999999999997,"O",null,null,null,{"$f":"catp","v":2}]
[393,"Firican Andrei","Deva",476.4,34.700000000000003,"O",null,null,null,{"$f":"catp","v":2}]
[787,"Comanoiu Andrei","Bucuresti",267.10000000000002,34.700000000000003,"O",null,null,null,{"$f":"catp","v":2}]
[1810,"Serban Leonard","Bucuresti",82.3,34.700000000000003,"O",null,null,null,{"$f":"catp","v":2}]
[2088,"Turcescu Stefan","Pitesti",61.1,34.700000000000003,"O",null,null,null,{"$f":"catp","v":2}]
[2222,"Popa Ionut","Moreni",52.1,34.700000000000003,"O",null,null,null,{"$f":"catp","v":2}]
[202,"Androne Daniel","Petrila",642.1,34.69,"O",null,null,null,{"$f":"catp","v":2}]
[173,"Kiss Attila","Crasna",679,34.65,"O",null,null,null,{"$f":"catp","v":2}]
[227,"Orban Adrian","Apahida",618.1,34.57,"O",null,null,null,{"$f":"catp","v":2}]
[1772,"Noragiu Paul","Targoviste",85.2,34.57,"O",null,null,null,{"$f":"catp","v":2}]
[292,"Dumitrescu Cornel","Bucuresti",555.4,34.56,"OW",null,null,null,{"$f":"catp","v":2}]
[352,"Cozma Ioan","Buhusi",520,34.54,"O",null,null,null,{"$f":"catp","v":2}]
[512,"Bodea Flaviu","Simleu Silvaniei",392.8,34.53,"O",null,null,null,{"$f":"catp","v":2}]
[391,"Serban Adi Iulian","Ramnicu Sarat",476.7,34.51,"O",null,null,null,{"$f":"catp","v":2}]
[477,"Soimusan Tudor","Cluj Napoca",417.9,34.5,"O",null,null,null,{"$f":"catp","v":2}]
[2902,"Bote Tudor","Dej",25.9,34.5,"O",null,null,null,{"$f":"catp","v":2}]
[157,"Ursulescu Octavian","Curtea",698.4,34.49,"O",null,null,null,{"$f":"catp","v":2}]
[256,"Grumeza Lucian","Bucuresti",592.4,34.450000000000003,"OW",null,null,null,{"$f":"catp","v":2}]
[186,"Bozosan Petre","Sibiu",667.8,34.43,"OW",null,null,null,{"$f":"catp","v":2}]
[470,"Iachimov Gheorghe","Moldova-Briceni",420.9,34.43,"O",null,null,null,{"$f":"catp","v":2}]
[1538,"Vieriu Teodora","Vatra Dornei",110,34.4,"OF",null,null,null,{"$f":"catp","v":2}]
[1678,"Panait Genu","Teisani",96.2,34.4,"O",null,null,null,{"$f":"catp","v":2}]
[2614,"Ilic Marko","Belgrad",34.4,34.4,"O",null,null,null,{"$f":"catp","v":2}]
[2615,"Racic Pera","Zrenjanin",34.4,34.4,"O",null,null,null,{"$f":"catp","v":2}]
[213,"Mihu Florin","Mioveni",629.79999999999995,34.39,"OW",null,null,null,{"$f":"catp","v":2}]
[591,"Mirza Sorin","Arad",353,34.36,"O",null,null,null,{"$f":"catp","v":2}]
[968,"Avadanoaei Petuel","Bucuresti",211.2,34.36,"O",null,null,null,{"$f":"catp","v":2}]
[419,"Tanasa Gabriel","Suceava",457.4,34.35,"OW",null,null,null,{"$f":"catp","v":2}]
[343,"Berbecar Alin","Zalau",523,34.299999999999997,"O",null,null,null,{"$f":"catp","v":2}]
[2617,"Rauh Andrei","Moldova",34.299999999999997,34.299999999999997,"O",null,null,null,{"$f":"catp","v":2}]
[376,"Ionita Nicu","Focsani",488.1,34.25,"O",null,null,null,{"$f":"catp","v":2}]
[1476,"Marinescu Marius","Craiova",118.2,34.229999999999997,"O",null,null,null,{"$f":"catp","v":2}]
[208,"Enache Ciprian","Ploiesti",636.29999999999995,34.22,"O",null,null,null,{"$f":"catp","v":2}]
[184,"Corneanu Sorin","Botosani",670.9,34.21,"OW",null,null,null,{"$f":"catp","v":2}]
[233,"Racean Claudiu","Sibiu",613.79999999999995,34.21,"O",null,null,null,{"$f":"catp","v":2}]
[180,"Bratescu Adrian","Targoviste",673.9,34.17,"ODW",null,null,null,{"$f":"catp","v":2}]
[471,"Csulak Jozsef","Sfantu Gheorghe",420.1,34.130000000000003,"O",null,null,null,{"$f":"catp","v":2}]
[179,"Burcea Daniel","Bucuresti",674.9,34.11,"O",null,null,null,{"$f":"catp","v":2}]
[328,"Socaci Sorin","Panciu",531.70000000000005,34.1,"OW",null,null,null,{"$f":"catp","v":2}]
[1139,"Cocolos Alexandru","Bucuresti",172,34.1,"O",null,null,null,{"$f":"catp","v":2}]
[165,"Trocan Nicolae","Mioveni",692.2,34.090000000000003,"OW",null,null,null,{"$f":"catp","v":2}]
[299,"Biciin Mitica","Faurei",548.5,34.08,"OW",null,null,null,{"$f":"catp","v":2}]
[1984,"Groza Florin","Cluj Napoca",68.099999999999994,34.049999999999997,"OW",null,null,null,{"$f":"catp","v":2}]
[279,"Loghin Florin","Brasov",567.29999999999995,34.020000000000003,"O",null,null,null,{"$f":"catp","v":2}]
[2624,"Ciurca Sorin","Tarnaveni",34,34,"O",null,null,null,{"$f":"catp","v":2}]
[2913,"Nicolae Paul","Bucuresti",25.5,34,"O",null,null,null,{"$f":"catp","v":2}]
[193,"Banu Dan","Ploiesti",655.29999999999995,33.97,"O",null,null,null,{"$f":"catp","v":2}]
[231,"Sandu Adrian","Calarasi",614.9,33.96,"O",null,null,null,{"$f":"catp","v":2}]
[185,"Roventa Dan","Bucuresti",669.4,33.950000000000003,"O",null,null,null,{"$f":"catp","v":2}]
[2130,"Hegedus Simon","Brasov",58.9,33.950000000000003,"OJ",null,null,null,{"$f":"catp","v":2}]
[329,"Petho Mihaly","Racosu de Sus",531.6,33.909999999999997,"O",null,null,null,{"$f":"catp","v":2}]
[348,"Bajko Attila","Sfantu Gheorghe",520.6,33.9,"OW",null,null,null,{"$f":"catp","v":2}]
[2914,"Lakatos Zsolt","Miercurea Ciuc",25.5,33.9,"OW",null,null,null,{"$f":"catp","v":2}]
[262,"Munteanu Octavian","Tecuci",586.1,33.869999999999997,"OW",null,null,null,{"$f":"catp","v":2}]
[1101,"Deak Valentin","Sebis",178.9,33.869999999999997,"OW",null,null,null,{"$f":"catp","v":2}]
[211,"Dumitrache Gabriel","Giurgiu",632.6,33.85,"O",null,null,null,{"$f":"catp","v":2}]
[318,"Man Cristina","Targu Mures",537.70000000000005,33.85,"OF",null,null,null,{"$f":"catp","v":2}]
[239,"Andrei Iordan","Tulcea",606.6,33.82,"OW",null,null,null,{"$f":"catp","v":2}]
[201,"Damian Gelu","Comanesti",643.5,33.81,"O",null,null,null,{"$f":"catp","v":2}]
[1115,"Sabadas Dinu","Oradea",175.5,33.799999999999997,"O",null,null,null,{"$f":"catp","v":2}]
[2000,"Maerean Claudiu","Bistrita",66.7,33.799999999999997,"O",null,null,null,{"$f":"catp","v":2}]
[2629,"Baceanu Constantin","Buzau",33.799999999999997,33.799999999999997,"O",null,null,null,{"$f":"catp","v":2}]
[287,"Vasile Gica","Targoviste",558.1,33.770000000000003,"OD",null,null,null,{"$f":"catp","v":2}]
[357,"Lungoci Mihai","Craiova",508.8,33.74,"O",null,null,null,{"$f":"catp","v":2}]
[1182,"Cobeanu Marius","Breaza",162.1,33.729999999999997,"O",null,null,null,{"$f":"catp","v":2}]
[2925,"Medve Mihai","Reghin",25.3,33.700000000000003,"O",null,null,null,{"$f":"catp","v":2}]
[801,"Lovasz Vilmos","Gheorgheni",263.8,33.67,"O",null,null,null,{"$f":"catp","v":2}]
[274,"Roman David","Arad",570.79999999999995,33.630000000000003,"OJ",null,null,null,{"$f":"catp","v":2}]
[1306,"Filipovici Florin","Giroc",141.30000000000001,33.630000000000003,"O",null,null,null,{"$f":"catp","v":2}]
[331,"Botoc Ovidiu","Paulesti",530.79999999999995,33.619999999999997,"O",null,null,null,{"$f":"catp","v":2}]
[1016,"Docan Cristian","Bucuresti",198.8,33.549999999999997,"O",null,null,null,{"$f":"catp","v":2}]
[198,"Enache Puiu Adrian","Ploiesti",649.4,33.53,"O",null,null,null,{"$f":"catp","v":2}]
[188,"Bondrea Attila","Gheorgheni",665.1,33.520000000000003,"O",null,null,null,{"$f":"catp","v":2}]
[1411,"Portase Daria","Galati",125.1,33.5,"OF",null,null,null,{"$f":"catp","v":2}]
[1693,"Paius Daniel","Suceava",94,33.5,"O",null,null,null,{"$f":"catp","v":2}]
[2639,"Arcusa Andrei","Ucraina-Umani",33.5,33.5,"O",null,null,null,{"$f":"catp","v":2}]
[2640,"Radu Gheorghe","Moldova-Straseni",33.5,33.5,"O",null,null,null,{"$f":"catp","v":2}]
[234,"Csaky Tiberiu","Resita",611.29999999999995,33.49,"OW",null,null,null,{"$f":"catp","v":2}]
[721,"Gagiu Remus","Pitesti",287.3,33.49,"O",null,null,null,{"$f":"catp","v":2}]
[1706,"Badea Ionel","Oltenita",92.6,33.47,"O",null,null,null,{"$f":"catp","v":2}]
[899,"Puiu Andrei","Botosani",229.3,33.46,"O",null,null,null,{"$f":"catp","v":2}]
[1029,"Canea Kocsis Andras","Targu Secuiesc",195.5,33.450000000000003,"O",null,null,null,{"$f":"catp","v":2}]
[1463,"Marian Florin","Reghin",119.3,33.450000000000003,"OW",null,null,null,{"$f":"catp","v":2}]
[410,"Birtalan Levente","Sovata",462,33.43,"O",null,null,null,{"$f":"catp","v":2}]
[395,"Ignuta Sebastian","Voiteg",475.7,33.409999999999997,"OW",null,null,null,{"$f":"catp","v":2}]
[1999,"Vasilescu Emil","Calarasi",66.8,33.4,"O",null,null,null,{"$f":"catp","v":2}]
[181,"Santa Robert","Miercurea Ciuc",671.9,33.36,"ODW",null,null,null,{"$f":"catp","v":2}]
[249,"Szalay Liviu","Oradea",600.79999999999995,33.35,"OW",null,null,null,{"$f":"catp","v":2}]
[247,"Gaciu Gabriel","Gherla",601.70000000000005,33.340000000000003,"O",null,null,null,{"$f":"catp","v":2}]
[564,"Gogu Ionut","Roman",370.3,33.340000000000003,"O",null,null,null,{"$f":"catp","v":2}]
[2644,"Colcer Nicolae","Toplita",33.299999999999997,33.299999999999997,"OW",null,null,null,{"$f":"catp","v":2}]
[1495,"Dramba Daniel Dumitru","Bucuresti",115.4,33.25,"O",null,null,null,{"$f":"catp","v":2}]
[1466,"Hodis Marian","Bucuresti",119,33.200000000000003,"O",null,null,null,{"$f":"catp","v":2}]
[2005,"Capbatut Petru","Moldova-Chisinau",66.400000000000006,33.200000000000003,"O",null,null,null,{"$f":"catp","v":2}]
[2116,"Tincu Catalin","Hunedoara",59.6,33.200000000000003,"O",null,null,null,{"$f":"catp","v":2}]
[241,"Balan Viorel","Bistrita",605.20000000000005,33.14,"O",null,null,null,{"$f":"catp","v":2}]
[236,"Jupanschi Adrian","Hunedoara",608.20000000000005,33.11,"O",null,null,null,{"$f":"catp","v":2}]
[2272,"Hruban Andrei","Dej",49.7,33.1,"O",null,null,null,{"$f":"catp","v":2}]
[2929,"Lazar Catalin","Brasov",24.9,33.1,"O",null,null,null,{"$f":"catp","v":2}]
[1137,"Cuna Gheorghe","Buzau",172.3,33.07,"O",null,null,null,{"$f":"catp","v":2}]
[497,"Chirica Alexandru","Bucuresti",403.6,33.049999999999997,"OW",null,null,null,{"$f":"catp","v":2}]
[1686,"Costea Dominic","Medias",95.2,33.049999999999997,"O",null,null,null,{"$f":"catp","v":2}]
[1052,"Stancu Tiberiu","Deva",190.2,33,"OW",null,null,null,{"$f":"catp","v":2}]
[1643,"Dragan Petru Ioan","Iasi",98.9,33,"O",null,null,null,{"$f":"catp","v":2}]
[2651,"Ilies Ioan","Radauti",33,33,"O",null,null,null,{"$f":"catp","v":2}]
[2652,"Kerestesi Janos","Satu Mare",33,33,"O",null,null,null,{"$f":"catp","v":2}]
[2653,"Vintan Cosmin","Deva",33,33,"O",null,null,null,{"$f":"catp","v":2}]
[2654,"Musat Catalin","Alexandria",33,33,"O",null,null,null,{"$f":"catp","v":2}]
[2655,"Maxim Vasile Gabriel","Bacau",33,33,"O",null,null,null,{"$f":"catp","v":2}]
[2656,"Petrus Florin","Alba Iulia",33,33,"O",null,null,null,{"$f":"catp","v":2}]
[2657,"Curinnoi Andrei","Moldova-Balti",33,33,"O",null,null,null,{"$f":"catp","v":2}]
[2658,"Bugarcic Ivan","Belgrad",33,33,"O",null,null,null,{"$f":"catp","v":2}]
[2659,"Creciun Radu","Moldova-Larga",33,33,"O",null,null,null,{"$f":"catp","v":2}]
[2660,"Pavlovic Vasilije","Sabac",33,33,"O",null,null,null,{"$f":"catp","v":2}]
[2661,"Buruian Paul","Zalau",33,33,"O",null,null,null,{"$f":"catp","v":2}]
[2936,"Stoica Dragos","Bucuresti",24.8,33,"O",null,null,null,{"$f":"catp","v":2}]
[2937,"Babonea Claudiu","Iasi",24.8,33,"O",null,null,null,{"$f":"catp","v":2}]
[2938,"Bielinsckyi Victor","Stefanestii de Jos",24.8,33,"O",null,null,null,{"$f":"catp","v":2}]
[2939,"Kreis Sabin Alexandru","Brasov",24.8,33,"O",null,null,null,{"$f":"catp","v":2}]
[2940,"Epstein Shachar","Israel",24.8,33,"O",null,null,null,{"$f":"catp","v":2}]
[200,"Fancsali Kalman","Miercurea Ciuc",647.20000000000005,32.99,"OW",null,null,null,{"$f":"catp","v":2}]
[355,"Minca Liviu","Videle",510.9,32.950000000000003,"O",null,null,null,{"$f":"catp","v":2}]
[1753,"Lascu Marius","Timisoara",87.8,32.950000000000003,"O",null,null,null,{"$f":"catp","v":2}]
[751,"Malacopol Tatiana","Bucuresti",276.8,32.869999999999997,"OF",null,null,null,{"$f":"catp","v":2}]
[866,"Bozga Dan","Arad",241.6,32.869999999999997,"O",null,null,null,{"$f":"catp","v":2}]
[607,"Timaru Ilie","Sibiu",343.3,32.86,"O",null,null,null,{"$f":"catp","v":2}]
[1191,"Gagea Marian","Botosani",159.4,32.85,"O",null,null,null,{"$f":"catp","v":2}]
[1717,"Filip Dan","Comanesti",91.4,32.799999999999997,"OW",null,null,null,{"$f":"catp","v":2}]
[2951,"Digolean Alexandru","Moldova-Larga",24.6,32.799999999999997,"O",null,null,null,{"$f":"catp","v":2}]
[482,"Voin Doru","Bucuresti",416.6,32.74,"OW",null,null,null,{"$f":"catp","v":2}]
[964,"Csibi Arpad","Ditrau",212.5,32.74,"O",null,null,null,{"$f":"catp","v":2}]
[645,"Matei Mircea","Targoviste",322.60000000000002,32.700000000000003,"OW",null,null,null,{"$f":"catp","v":2}]
[1485,"Florea Ionut","Vatra Dornei",117.1,32.700000000000003,"O",null,null,null,{"$f":"catp","v":2}]
[1932,"Negrila Cristian","Caracal",73,32.700000000000003,"O",null,null,null,{"$f":"catp","v":2}]
[2952,"Chis Mihai","Techirghiol",24.6,32.700000000000003,"O",null,null,null,{"$f":"catp","v":2}]
[1222,"Schiopulescu Ion","Lugoj",154.4,32.68,"O",null,null,null,{"$f":"catp","v":2}]
[248,"Kis Istvan","Brasov",601.29999999999995,32.65,"OW",null,null,null,{"$f":"catp","v":2}]
[307,"Gered Ferenc","Miercurea Ciuc",545.5,32.65,"O",null,null,null,{"$f":"catp","v":2}]
[2018,"Majai Lehel","Sovata",65.3,32.65,"O",null,null,null,{"$f":"catp","v":2}]
[324,"Solyom Sandor","Cluj Napoca",532.9,32.64,"O",null,null,null,{"$f":"catp","v":2}]
[1443,"Rusu Andreea","Bucuresti",122.2,32.6,"OF",null,null,null,{"$f":"catp","v":2}]
[2285,"Badea Daniel","Targoviste",48.9,32.6,"O",null,null,null,{"$f":"catp","v":2}]
[2670,"Aiben Robert","Tasnad",32.6,32.6,"O",null,null,null,{"$f":"catp","v":2}]
[210,"Janosi Attila","Targu Mures",632.9,32.590000000000003,"OW",null,null,null,{"$f":"catp","v":2}]
[907,"Cheta Victor","Zalau",225.1,32.58,"O",null,null,null,{"$f":"catp","v":2}]
[1657,"Ciobanu Adrian","Pitesti",97.6,32.57,"O",null,null,null,{"$f":"catp","v":2}]
[228,"Kromek Iulian","Cugir",618,32.549999999999997,"OW",null,null,null,{"$f":"catp","v":2}]
[2286,"Fazakas Gergely","Miercurea Ciuc",48.9,32.549999999999997,"O",null,null,null,{"$f":"catp","v":2}]
[1827,"Ilie Octavel","Braila",80.900000000000006,32.53,"O",null,null,null,{"$f":"catp","v":2}]
[438,"Gaitan Tiberiu","Braila",442.9,32.5,"OW",null,null,null,{"$f":"catp","v":2}]
[1258,"Vlase Nicolae","Slobozia",149.80000000000001,32.5,"O",null,null,null,{"$f":"catp","v":2}]
[1438,"Marin Robert","Pitesti",122.5,32.5,"O",null,null,null,{"$f":"catp","v":2}]
[1521,"Rosu Adrian","Timisoara",112.9,32.5,"O",null,null,null,{"$f":"catp","v":2}]
[2166,"Mateescu Florin","Hunedoara",56.1,32.5,"O",null,null,null,{"$f":"catp","v":2}]
[2671,"Peiu Cosmin","Babadag",32.5,32.5,"OW",null,null,null,{"$f":"catp","v":2}]
[1623,"Barbalata Lorin","Suceava",101.1,32.47,"O",null,null,null,{"$f":"catp","v":2}]
[431,"Fekete Istvan","Arad",447.8,32.43,"OW",null,null,null,{"$f":"catp","v":2}]
[700,"Carata Catalin","Tulcea",294,32.4,"OW",null,null,null,{"$f":"catp","v":2}]
[1825,"Postole Luca","Buzau",81,32.4,"O",null,null,null,{"$f":"catp","v":2}]
[2027,"Suvei Ioan","Bistrita",64.8,32.4,"O",null,null,null,{"$f":"catp","v":2}]
[919,"Constantin Daniel","Filipestii de Targ",222.9,32.380000000000003,"O",null,null,null,{"$f":"catp","v":2}]
[505,"Burian Alexandru","Cluj Napoca",398.4,32.369999999999997,"O",null,null,null,{"$f":"catp","v":2}]
[1259,"Iordache Marian","Craiova",149.6,32.33,"O",null,null,null,{"$f":"catp","v":2}]
[271,"Lupchian Alin","Suceava",575.6,32.299999999999997,"O",null,null,null,{"$f":"catp","v":2}]
[1206,"Merai Janos","Oradea",157.30000000000001,32.299999999999997,"O",null,null,null,{"$f":"catp","v":2}]
[2032,"Roy Akelay","Israel",64.599999999999994,32.299999999999997,"O",null,null,null,{"$f":"catp","v":2}]
[2677,"Bria Vitalie","Bucuresti",32.299999999999997,32.299999999999997,"O",null,null,null,{"$f":"catp","v":2}]
[821,"Balog Mihai","Timisoara",257.10000000000002,32.26,"O",null,null,null,{"$f":"catp","v":2}]
[1357,"Popa Alexandru Iulian","Buzau",133.1,32.25,"O",null,null,null,{"$f":"catp","v":2}]
[311,"Dena Corneliu","Giurgiu",542,32.24,"OW",null,null,null,{"$f":"catp","v":2}]
[1094,"Camarasiu Tiberiu","Cluj Napoca",180.4,32.229999999999997,"O",null,null,null,{"$f":"catp","v":2}]
[937,"Dontu Ionut","Calarasi",219.3,32.200000000000003,"O",null,null,null,{"$f":"catp","v":2}]
[1447,"Maftei Catalin Doru","Asau",121.6,32.200000000000003,"OW",null,null,null,{"$f":"catp","v":2}]
[2680,"Manitiu Florin","Sibiu",32.200000000000003,32.200000000000003,"O",null,null,null,{"$f":"catp","v":2}]
[2681,"Cojocaru Didi","Ramnicu Valcea",32.200000000000003,32.200000000000003,"O",null,null,null,{"$f":"catp","v":2}]
[2682,"Ciobanu Adrian","Brasov",32.200000000000003,32.200000000000003,"O",null,null,null,{"$f":"catp","v":2}]
[2683,"Mortasifu Ionut","Arad",32.200000000000003,32.200000000000003,"O",null,null,null,{"$f":"catp","v":2}]
[2684,"Jovanovic Milorad","Nis",32.200000000000003,32.200000000000003,"O",null,null,null,{"$f":"catp","v":2}]
[2685,"Panic Dejan","Ram",32.200000000000003,32.200000000000003,"O",null,null,null,{"$f":"catp","v":2}]
[2686,"Stankovic Stefan","Ram",32.200000000000003,32.200000000000003,"O",null,null,null,{"$f":"catp","v":2}]
[2687,"Silobod Marko","Belgrad",32.200000000000003,32.200000000000003,"O",null,null,null,{"$f":"catp","v":2}]
[2688,"Bubanja Dragan","Belgrad",32.200000000000003,32.200000000000003,"O",null,null,null,{"$f":"catp","v":2}]
[777,"Manea Dorinel","Tecuci",269.5,32.18,"O",null,null,null,{"$f":"catp","v":2}]
[1011,"Radu Razvan","Bucuresti",200.8,32.18,"O",null,null,null,{"$f":"catp","v":2}]
[1123,"Veris Dumitru","Brasov",174.7,32.18,"O",null,null,null,{"$f":"catp","v":2}]
[1630,"Marin Bogdan","Iasi",100.4,32.17,"O",null,null,null,{"$f":"catp","v":2}]
[886,"Nechifor Constantin","Navodari",236.2,32.15,"O",null,null,null,{"$f":"catp","v":2}]
[905,"Mihaila Robert","Breaza",226.3,32.14,"O",null,null,null,{"$f":"catp","v":2}]
[1326,"Comsa Dan","Sibiu",138,32.130000000000003,"OW",null,null,null,{"$f":"catp","v":2}]
[1491,"Morariu Marius","Sibiu",115.8,32.1,"OW",null,null,null,{"$f":"catp","v":2}]
[2692,"Vladescu Adrian","Cluj Napoca",32.1,32.1,"O",null,null,null,{"$f":"catp","v":2}]
[668,"Valcea Daniel","Pitesti",308.10000000000002,32.090000000000003,"O",null,null,null,{"$f":"catp","v":2}]
[326,"Draganescu Stefan","Pascani",532.4,32.08,"O",null,null,null,{"$f":"catp","v":2}]
[217,"Erdely Andras","Targu Mures",628.9,32.020000000000003,"OW",null,null,null,{"$f":"catp","v":2}]
[2698,"Gaidarli Bogdan","Moldova-Chisinau",32,32,"O",null,null,null,{"$f":"catp","v":2}]
[786,"Horotan Catalin","Baia Mare",267.60000000000002,31.99,"OW",null,null,null,{"$f":"catp","v":2}]
[897,"Coroi Cristian","Piatra Neamt",231.5,31.96,"O",null,null,null,{"$f":"catp","v":2}]
[243,"Fulop Attila","Aiud",603.9,31.95,"OW",null,null,null,{"$f":"catp","v":2}]
[1718,"Chirtoaca Sergiu","Ploiesti",91.3,31.95,"O",null,null,null,{"$f":"catp","v":2}]
[267,"Nitu Serban","Ploiesti",578.20000000000005,31.93,"OW",null,null,null,{"$f":"catp","v":2}]
[527,"Beches Andrei","Sibiu",385.4,31.9,"O",null,null,null,{"$f":"catp","v":2}]
[746,"Ticu Dorin","Bacau",278.2,31.9,"OW",null,null,null,{"$f":"catp","v":2}]
[1085,"Hamzescu Adrian Rosu","Craiova",182.8,31.9,"O",null,null,null,{"$f":"catp","v":2}]
[2700,"Alboiu Robert","Botosani",31.9,31.9,"O",null,null,null,{"$f":"catp","v":2}]
[2701,"Vasiljevic Jakov","Zajecar Serbia",31.9,31.9,"O",null,null,null,{"$f":"catp","v":2}]
[2973,"Pirvu Matei","Bucuresti",24,31.9,"O",null,null,null,{"$f":"catp","v":2}]
[219,"Magercu Alexandru","Bucuresti",620.79999999999995,31.87,"O",null,null,null,{"$f":"catp","v":2}]
[1327,"Stefurac Marius","Ploiesti",137.9,31.85,"O",null,null,null,{"$f":"catp","v":2}]
[1940,"Tabacaru Constantin","Piatra Neamt",72.400000000000006,31.85,"O",null,null,null,{"$f":"catp","v":2}]
[2161,"Birtalan Robert","Oradea",56.4,31.85,"O",null,null,null,{"$f":"catp","v":2}]
[1754,"Dumitru Traian","Bucuresti",87.5,31.83,"OW",null,null,null,{"$f":"catp","v":2}]
[1247,"Lazar Vasile","Pufesti",151.69999999999999,31.77,"OW",null,null,null,{"$f":"catp","v":2}]
[378,"Curelea Andrei","Bucuresti",487.8,31.73,"O",null,null,null,{"$f":"catp","v":2}]
[1530,"Covalciuc Bogdan","Iasi",111.6,31.73,"O",null,null,null,{"$f":"catp","v":2}]
[1650,"Tabacila Lica","Tecuci",98.3,31.7,"O",null,null,null,{"$f":"catp","v":2}]
[2045,"Stanciu Stelian","Calarasi",63.4,31.7,"OW",null,null,null,{"$f":"catp","v":2}]
[2312,"Palaghianu Mattia","Salcea",47.6,31.7,"O",null,null,null,{"$f":"catp","v":2}]
[2705,"Rada Florin","Pitesti",31.7,31.7,"O",null,null,null,{"$f":"catp","v":2}]
[2706,"Busuioc Stelian","Bucuresti",31.7,31.7,"O",null,null,null,{"$f":"catp","v":2}]
[2983,"Murariu Ciprian","Bucuresti",23.8,31.7,"O",null,null,null,{"$f":"catp","v":2}]
[1242,"Popa Florin","Medias",152.1,31.67,"O",null,null,null,{"$f":"catp","v":2}]
[1077,"Blaga Mircea","Simleu Silvaniei",183.9,31.65,"OW",null,null,null,{"$f":"catp","v":2}]
[2048,"Husar Toader","Sapanta",63.3,31.65,"O",null,null,null,{"$f":"catp","v":2}]
[413,"Volanin Rares","Sibiu",459.9,31.63,"O",null,null,null,{"$f":"catp","v":2}]
[2708,"Moraru Dumitru","Moldova-Cahul",31.6,31.6,"O",null,null,null,{"$f":"catp","v":2}]
[1683,"Volvovics Adrian","Oradea",95.6,31.57,"O",null,null,null,{"$f":"catp","v":2}]
[1049,"Cecan Vasile","Timisoara",190.9,31.54,"O",null,null,null,{"$f":"catp","v":2}]
[1550,"Munteanu Silviu","Suceava",108.8,31.53,"OW",null,null,null,{"$f":"catp","v":2}]
[2713,"Ailioaie Ionut","Comanesti",31.5,31.5,"O",null,null,null,{"$f":"catp","v":2}]
[2714,"Anghel George","Targoviste",31.5,31.5,"O",null,null,null,{"$f":"catp","v":2}]
[462,"Popa Gelu","Focsani",425.6,31.47,"O",null,null,null,{"$f":"catp","v":2}]
[896,"Botea Fabian","Hunedoara",231.8,31.46,"O",null,null,null,{"$f":"catp","v":2}]
[679,"Nistor Florin","Comanesti",303.5,31.44,"O",null,null,null,{"$f":"catp","v":2}]
[731,"Aparaschivei Bogdan","Iasi",282.8,31.43,"O",null,null,null,{"$f":"catp","v":2}]
[987,"Murgu Ioan","Oravita",207.5,31.43,"O",null,null,null,{"$f":"catp","v":2}]
[2715,"Knecht Barnabas","Carei",31.4,31.4,"O",null,null,null,{"$f":"catp","v":2}]
[558,"Boboc Viorel","Slobozia",371.6,31.33,"OW",null,null,null,{"$f":"catp","v":2}]
[365,"Baltatu Marius","Pitesti",494.9,31.32,"OW",null,null,null,{"$f":"catp","v":2}]
[433,"Dascalu Cristian","Bucuresti",447.5,31.31,"O",null,null,null,{"$f":"catp","v":2}]
[878,"Guluta Florin","Bucuresti",238,31.3,"O",null,null,null,{"$f":"catp","v":2}]
[1181,"Negulescu Ioan","Ramnicu Valcea",162.19999999999999,31.3,"O",null,null,null,{"$f":"catp","v":2}]
[840,"Cavasdan Doru","Oradea",251.9,31.27,"O",null,null,null,{"$f":"catp","v":2}]
[1004,"Plamada Iulian","Putna",203.2,31.26,"O",null,null,null,{"$f":"catp","v":2}]
[1097,"Decean Darian","Sibiu",179.7,31.25,"O",null,null,null,{"$f":"catp","v":2}]
[1216,"Olah Remus","Arad",154.9,31.25,"OW",null,null,null,{"$f":"catp","v":2}]
[1226,"Busuioc Robert","Radauti",154.1,31.23,"O",null,null,null,{"$f":"catp","v":2}]
[911,"Tocaciu Septimiu","Beclean",224.3,31.2,"O",null,null,null,{"$f":"catp","v":2}]
[1766,"Aldea Eduard","Buzau",86.2,31.2,"O",null,null,null,{"$f":"catp","v":2}]
[1807,"Cotca Dacian","Oradea",82.5,31.2,"OW",null,null,null,{"$f":"catp","v":2}]
[2326,"Bulz Ovidiu","Arad",46.8,31.2,"O",null,null,null,{"$f":"catp","v":2}]
[2722,"Tanasescu Florin","Buftea",31.2,31.2,"O",null,null,null,{"$f":"catp","v":2}]
[389,"Crisan Cristian","Oradea",477.7,31.18,"O",null,null,null,{"$f":"catp","v":2}]
[1298,"Ciublea Vichente","Oravita",142.4,31.18,"O",null,null,null,{"$f":"catp","v":2}]
[1393,"Dumbrava Daniel","Focsani",128.4,31.17,"OW",null,null,null,{"$f":"catp","v":2}]
[873,"Iancu Marius","Brasov",240.4,31.16,"O",null,null,null,{"$f":"catp","v":2}]
[2327,"Istrate Ghiorghita","Suceava",46.8,31.15,"O",null,null,null,{"$f":"catp","v":2}]
[300,"Dragomir Marian","Slatina Timis",548.20000000000005,31.14,"O",null,null,null,{"$f":"catp","v":2}]
[1173,"Popescu Remus","Ramnicu Valcea",163.19999999999999,31.13,"OW",null,null,null,{"$f":"catp","v":2}]
[1245,"Dimitriu Gheorghe","Husi",151.80000000000001,31.13,"O",null,null,null,{"$f":"catp","v":2}]
[332,"Ungureanu Gheorghita","Focsani",529.5,31.12,"O",null,null,null,{"$f":"catp","v":2}]
[394,"Stanescu Tiberiu","Slatina",476.1,31.12,"O",null,null,null,{"$f":"catp","v":2}]
[2077,"Bucsoiu Vlad","Brasov",61.5,31.1,"O",null,null,null,{"$f":"catp","v":2}]
[2725,"Dumitras Cosmin","Barlad",31.1,31.1,"O",null,null,null,{"$f":"catp","v":2}]
[3005,"Alexandrescu Mario","Bucuresti",23.4,31.1,"O",null,null,null,{"$f":"catp","v":2}]
[606,"Heja Zoltan","Ditrau",343.5,31.09,"OW",null,null,null,{"$f":"catp","v":2}]
[962,"Birtalan Casian","Dumbraveni SB",212.6,31.08,"OJ",null,null,null,{"$f":"catp","v":2}]
[758,"Sandu Petru Adrian","Buhusi",275.2,31.07,"O",null,null,null,{"$f":"catp","v":2}]
[792,"Ionita Alexandru","Ploiesti",266.60000000000002,31.06,"O",null,null,null,{"$f":"catp","v":2}]
[1401,"Croitoru Adrian Nicolae","Brasov",127.4,31.05,"O",null,null,null,{"$f":"catp","v":2}]
[2067,"Craciunica Gabriel","Calarasi",62.1,31.05,"OW",null,null,null,{"$f":"catp","v":2}]
[366,"Szakacs Sandor","Sfantu Gheorghe",492.2,31.02,"O",null,null,null,{"$f":"catp","v":2}]
[354,"Stoica Mihai","Mihaesti",512.79999999999995,31.01,"ODW",null,null,null,{"$f":"catp","v":2}]
[2177,"State Orlando","Bucuresti",55.1,31,"O",null,null,null,{"$f":"catp","v":2}]
[2729,"Szabo Tamas","Miercurea Ciuc",31,31,"O",null,null,null,{"$f":"catp","v":2}]
[237,"Cotet Nicolae","Braila",607.9,30.99,"OW",null,null,null,{"$f":"catp","v":2}]
[426,"Gorbe David","Satu Mare",450.8,30.99,"O",null,null,null,{"$f":"catp","v":2}]
[315,"Pelaghie Ioan","Targu Mures",540.70000000000005,30.98,"O",null,null,null,{"$f":"catp","v":2}]
[898,"Bordas Zsolt","Santionlunca",230.5,30.98,"O",null,null,null,{"$f":"catp","v":2}]
[599,"Manea Alexandru","Comarnic",347.6,30.96,"O",null,null,null,{"$f":"catp","v":2}]
[1133,"Bogyo Imre","Sfantu Gheorghe",172.8,30.93,"O",null,null,null,{"$f":"catp","v":2}]
[835,"Petersi Nuri","Varset",252.9,30.92,"O",null,null,null,{"$f":"catp","v":2}]
[1924,"Nicolae Alyn","Bucuresti",73.400000000000006,30.9,"O",null,null,null,{"$f":"catp","v":2}]
[2159,"Lica George","Eforie",56.5,30.9,"OW",null,null,null,{"$f":"catp","v":2}]
[3010,"Bucsan Romeo","Pitesti",23.2,30.9,"OW",null,null,null,{"$f":"catp","v":2}]
[255,"Baciu Stefan","Mioveni",592.79999999999995,30.89,"OW",null,null,null,{"$f":"catp","v":2}]
[963,"Biber Adrian","Iasi",212.6,30.88,"O",null,null,null,{"$f":"catp","v":2}]
[1581,"Pop Gabriel","Oradea",105.5,30.87,"O",null,null,null,{"$f":"catp","v":2}]
[1751,"Sargu David","Moldova-Balti",87.9,30.87,"O",null,null,null,{"$f":"catp","v":2}]
[273,"Ciubotaru Dan","Piatra Neamt",573.29999999999995,30.86,"O",null,null,null,{"$f":"catp","v":2}]
[1188,"Pomirleanu Radu","Iasi",160.4,30.85,"O",null,null,null,{"$f":"catp","v":2}]
[1135,"Acu Paul","Bucuresti",172.5,30.83,"O",null,null,null,{"$f":"catp","v":2}]
[1332,"Sarbu Dan","Ploiesti",137.4,30.83,"OW",null,null,null,{"$f":"catp","v":2}]
[1554,"Pelcea Alexandru","Bucuresti",108.2,30.8,"O",null,null,null,{"$f":"catp","v":2}]
[2735,"Rece Marius","Constanta",30.8,30.8,"O",null,null,null,{"$f":"catp","v":2}]
[548,"Lovin Eusebiu","Comanesti",375,30.78,"OW",null,null,null,{"$f":"catp","v":2}]
[578,"Costeant Tiberiu","Margina",361,30.77,"O",null,null,null,{"$f":"catp","v":2}]
[1789,"Radu Adrian","Ploiesti",84,30.77,"O",null,null,null,{"$f":"catp","v":2}]
[1234,"Mihaiuc Beniamin","Radauti",153.19999999999999,30.75,"O",null,null,null,{"$f":"catp","v":2}]
[1425,"Uta David","Bucuresti",123.8,30.75,"O",null,null,null,{"$f":"catp","v":2}]
[1580,"Zelariu Petru","Tarnaveni",105.6,30.75,"OW",null,null,null,{"$f":"catp","v":2}]
[728,"Buzila Adrian","Botosani",283.89999999999998,30.72,"OW",null,null,null,{"$f":"catp","v":2}]
[1069,"Sass Imre","Miercurea Ciuc",186.2,30.72,"O",null,null,null,{"$f":"catp","v":2}]
[317,"Dumitrescu Dan","Piatra Neamt",539.9,30.71,"OW",null,null,null,{"$f":"catp","v":2}]
[675,"Rosu Gabriel","Comanesti",304.8,30.71,"O",null,null,null,{"$f":"catp","v":2}]
[611,"Schimbeschi Marian","Tulcea",341.3,30.7,"O",null,null,null,{"$f":"catp","v":2}]
[800,"Pruna Petre Adelin","Ramnicu Valcea",264.39999999999998,30.7,"O",null,null,null,{"$f":"catp","v":2}]
[1189,"Stancu Marian","Constanta",160.19999999999999,30.68,"O",null,null,null,{"$f":"catp","v":2}]
[2081,"Musat Irina","Targoviste",61.3,30.65,"OF",null,null,null,{"$f":"catp","v":2}]
[399,"Birtalan Hunor","Sovata",470.6,30.63,"O",null,null,null,{"$f":"catp","v":2}]
[944,"Repede Calin","Cluj Napoca",216.7,30.6,"OW",null,null,null,{"$f":"catp","v":2}]
[535,"Vioreanu Cristian","Dumbraveni SB",382.5,30.58,"O",null,null,null,{"$f":"catp","v":2}]
[515,"Valcica Raul Ginno","Uricani",391,30.56,"O",null,null,null,{"$f":"catp","v":2}]
[347,"Bivolaru Stelian","Targoviste",520.9,30.55,"OW",null,null,null,{"$f":"catp","v":2}]
[1797,"Munteanu Ion","Comanesti",83.5,30.55,"OW",null,null,null,{"$f":"catp","v":2}]
[277,"Farcas Raul","Targu Mures",568.4,30.51,"O",null,null,null,{"$f":"catp","v":2}]
[1060,"Breaza Theodor","Drobeta Tr Severin",188.1,30.5,"O",null,null,null,{"$f":"catp","v":2}]
[1528,"Duca Marius","Sibiu",112.2,30.5,"O",null,null,null,{"$f":"catp","v":2}]
[1591,"Minzat Mircea","Saliste",104.1,30.5,"O",null,null,null,{"$f":"catp","v":2}]
[1839,"Paun Maria","Giurgiu",80,30.5,"OF",null,null,null,{"$f":"catp","v":2}]
[2208,"Iosif Patriciu","Zalau",52.8,30.5,"O",null,null,null,{"$f":"catp","v":2}]
[2744,"Urzica Ioan","Toplita",30.5,30.5,"O",null,null,null,{"$f":"catp","v":2}]
[2745,"Burucenco Vadim","Moldova-Chisinau",30.5,30.5,"O",null,null,null,{"$f":"catp","v":2}]
[264,"Dumitru George","Targoviste",584.6,30.49,"O",null,null,null,{"$f":"catp","v":2}]
[2094,"Neagu Alexandru","Targoviste",60.9,30.45,"O",null,null,null,{"$f":"catp","v":2}]
[250,"Ciubotaru Leo","Iasi",598.4,30.42,"OW",null,null,null,{"$f":"catp","v":2}]
[924,"Panczel Jozsef","Cluj Napoca",222,30.42,"O",null,null,null,{"$f":"catp","v":2}]
[1776,"Moldovan Laszlo","Praid",85,30.4,"O",null,null,null,{"$f":"catp","v":2}]
[2096,"Rasnoveanu Daniel","Slobozia",60.8,30.4,"O",null,null,null,{"$f":"catp","v":2}]
[541,"Thomas William Knobel","Bucuresti",379.3,30.38,"OJ",null,null,null,{"$f":"catp","v":2}]
[465,"Konti Florin","Apahida",424.5,30.37,"O",null,null,null,{"$f":"catp","v":2}]
[771,"Bostinaru Filip","Curtea de Arges",271.5,30.37,"O",null,null,null,{"$f":"catp","v":2}]
[1009,"Mates Flavius","Arad",201.1,30.35,"O",null,null,null,{"$f":"catp","v":2}]
[680,"Foris Dana","Baia Mare",303.2,30.32,"OF",null,null,null,{"$f":"catp","v":2}]
[891,"Ursache Ciprian Jean","Focsani",235.2,30.32,"O",null,null,null,{"$f":"catp","v":2}]
[235,"Lorincz Zoltan","Miercurea Ciuc",610,30.31,"O",null,null,null,{"$f":"catp","v":2}]
[1570,"Garabet Dan","Iasi",106.5,30.3,"O",null,null,null,{"$f":"catp","v":2}]
[3027,"Firica Lucian","Constanta",22.8,30.3,"O",null,null,null,{"$f":"catp","v":2}]
[368,"Boariu Timofte Danut","Borsec",490.8,30.26,"OW",null,null,null,{"$f":"catp","v":2}]
[1844,"Dordea Lucian","Medias",79.5,30.25,"OW",null,null,null,{"$f":"catp","v":2}]
[810,"Lupu Mihai","Bucuresti",260.39999999999998,30.2,"OW",null,null,null,{"$f":"catp","v":2}]
[1679,"Munteanu Constantin","Resita",96.1,30.2,"O",null,null,null,{"$f":"catp","v":2}]
[793,"Tical Nicusor","Otopeni",266.60000000000002,30.19,"O",null,null,null,{"$f":"catp","v":2}]
[1472,"Enculescu Mihaita","Dobroesti",118.5,30.17,"OW",null,null,null,{"$f":"catp","v":2}]
[750,"Ifrosa Petru","Cluj Napoca",277.39999999999998,30.16,"OD",null,null,null,{"$f":"catp","v":2}]
[1328,"Dani Leo","Arad",137.80000000000001,30.13,"OD",null,null,null,{"$f":"catp","v":2}]
[1136,"Tiboaca Daniel","Galati",172.4,30.1,"O",null,null,null,{"$f":"catp","v":2}]
[1194,"Mocanu Lucian","Roman",158.9,30.1,"O",null,null,null,{"$f":"catp","v":2}]
[2749,"Toma Cristian","Oradea",30.1,30.1,"O",null,null,null,{"$f":"catp","v":2}]
[582,"Panait Adrian","Braila",357.6,30.06,"OW",null,null,null,{"$f":"catp","v":2}]
[335,"Furdui Maria","Simeria",528,30.05,"OF",null,null,null,{"$f":"catp","v":2}]
[1578,"Dragomir Mitica","Sibiu",105.9,30.03,"OW",null,null,null,{"$f":"catp","v":2}]
[1584,"Ispas Victor","Turnu Magurele",105.1,30.03,"OW",null,null,null,{"$f":"catp","v":2}]
[1613,"Barbu Tiberiu","Deva",102.1,30,"O",null,null,null,{"$f":"catp","v":2}]
[2235,"Munteanu Bogdan","Vaslui",51.2,30,"O",null,null,null,{"$f":"catp","v":2}]
[2755,"Petrascu Damian","Moldova-Chisinau",30,30,"O",null,null,null,{"$f":"catp","v":2}]
[396,"Stinga Ovidiu","Tecuci",473.9,29.97,"O",null,null,null,{"$f":"catp","v":2}]
[1793,"Coroliuc Maria","Moldova-Balti",83.7,29.97,"OF",null,null,null,{"$f":"catp","v":2}]
[1158,"Sava Petru","Cluj Napoca",166.5,29.95,"O",null,null,null,{"$f":"catp","v":2}]
[1740,"Morosan Ionel","Granicesti",89.1,29.95,"O",null,null,null,{"$f":"catp","v":2}]
[382,"Vieru Costica","Botosani",485.2,29.93,"OW",null,null,null,{"$f":"catp","v":2}]
[1698,"Strugar Ioan","Deda",93.5,29.93,"O",null,null,null,{"$f":"catp","v":2}]
[1448,"Marcus Mihai","Zalau",121.4,29.9,"O",null,null,null,{"$f":"catp","v":2}]
[1922,"Plamada Aurelian","Botosani",73.5,29.9,"O",null,null,null,{"$f":"catp","v":2}]
[2759,"Hociung Ciprian","Iasi",29.9,29.9,"O",null,null,null,{"$f":"catp","v":2}]
[2760,"Graur Robert","Lombardia Italia",29.9,29.9,"O",null,null,null,{"$f":"catp","v":2}]
[2761,"Buzzoni Matilde","Lombardia Italia",29.9,29.9,"OF",null,null,null,{"$f":"catp","v":2}]
[2762,"Cattaneo Nicolo","Lombardia Italia",29.9,29.9,"O",null,null,null,{"$f":"catp","v":2}]
[3038,"Udrea Valentin","Bucuresti",22.5,29.9,"O",null,null,null,{"$f":"catp","v":2}]
[304,"Ternauciuc Adrian","Nadrag",546.29999999999995,29.88,"O",null,null,null,{"$f":"catp","v":2}]
[503,"Stefan Narcis","Botosani",399.5,29.86,"OW",null,null,null,{"$f":"catp","v":2}]
[333,"Florea Mihai","Ludus",529,29.81,"O",null,null,null,{"$f":"catp","v":2}]
[493,"Chivaran Alin","Timisoara",405.4,29.81,"O",null,null,null,{"$f":"catp","v":2}]
[1574,"Voicu Ovidiu","Strejnicu",106.2,29.8,"O",null,null,null,{"$f":"catp","v":2}]
[957,"Serban Liviu","Onesti",213.7,29.76,"O",null,null,null,{"$f":"catp","v":2}]
[1027,"Danalache Daniel","Navodari",196,29.76,"O",null,null,null,{"$f":"catp","v":2}]
[259,"Danci Lili","Iasi",589.9,29.74,"OF",null,null,null,{"$f":"catp","v":2}]
[513,"Aron Valentin","Fenes",391.5,29.74,"O",null,null,null,{"$f":"catp","v":2}]
[1324,"Venter Liviu","Resita",138.4,29.73,"OW",null,null,null,{"$f":"catp","v":2}]
[2768,"Firanescu David","Dumbraveni SB",29.7,29.7,"O",null,null,null,{"$f":"catp","v":2}]
[1906,"Nagy Istvan","Micfalau",74.400000000000006,29.67,"O",null,null,null,{"$f":"catp","v":2}]
[369,"Gherghel Petru","Gheraesti",490.7,29.66,"O",null,null,null,{"$f":"catp","v":2}]
[1993,"Baltateanu Cezar","Brasov",67,29.6,"O",null,null,null,{"$f":"catp","v":2}]
[2132,"Sabau Liviu","Oradea",58.7,29.6,"O",null,null,null,{"$f":"catp","v":2}]
[2771,"Bilt Cristian","Suceava",29.6,29.6,"O",null,null,null,{"$f":"catp","v":2}]
[2772,"Rugina Adrian","Botosani",29.6,29.6,"O",null,null,null,{"$f":"catp","v":2}]
[1031,"Popescu Radu","Arad",195.1,29.58,"O",null,null,null,{"$f":"catp","v":2}]
[423,"Filipics Zoli","Timisoara",454.1,29.55,"O",null,null,null,{"$f":"catp","v":2}]
[1024,"Ardelean Alex","Ineu",197,29.53,"O",null,null,null,{"$f":"catp","v":2}]
[945,"Paduraru Mihnea","Brasov",216.7,29.52,"O",null,null,null,{"$f":"catp","v":2}]
[614,"Georgescu Florin","Bucuresti",339.1,29.5,"OW",null,null,null,{"$f":"catp","v":2}]
[901,"Mermezan Sergiu","Timisoara",228.1,29.5,"O",null,null,null,{"$f":"catp","v":2}]
[1831,"Trandafir Radu Catalin","Giurgiu",80.5,29.5,"O",null,null,null,{"$f":"catp","v":2}]
[2775,"Makszin Dacian","Cluj Napoca",29.5,29.5,"OD",null,null,null,{"$f":"catp","v":2}]
[2776,"Ion Radu","Slobozia",29.5,29.5,"O",null,null,null,{"$f":"catp","v":2}]
[418,"Bivolaru Marius","Ploiesti",457.9,29.49,"O",null,null,null,{"$f":"catp","v":2}]
[448,"Diaconescu Lucian","Targoviste",436.8,29.48,"O",null,null,null,{"$f":"catp","v":2}]
[528,"Vieriu Tudorel","Suceava",385,29.46,"O",null,null,null,{"$f":"catp","v":2}]
[488,"Crasnoscec Alexandr","Moldova-Vulcanesti",410.7,29.45,"OW",null,null,null,{"$f":"catp","v":2}]
[390,"Grusca Narcis","Gura Humorului",477.2,29.41,"OW",null,null,null,{"$f":"catp","v":2}]
[1047,"Hortolomei Andrei","Husi",191.2,29.4,"O",null,null,null,{"$f":"catp","v":2}]
[424,"Colesniuc Romeo","Botosani",453.9,29.39,"OW",null,null,null,{"$f":"catp","v":2}]
[401,"Orban Mark","Sovata",467.2,29.35,"O",null,null,null,{"$f":"catp","v":2}]
[1358,"Vajeu Ionut","Busteni",133.1,29.33,"O",null,null,null,{"$f":"catp","v":2}]
[984,"Pascaru Tudor Andrei","Iasi",208.1,29.28,"O",null,null,null,{"$f":"catp","v":2}]
[828,"Paunescu David","Bucuresti",253.8,29.27,"O",null,null,null,{"$f":"catp","v":2}]
[561,"Dumitriu Vitalie","Moldova-Larga",370.7,29.26,"O",null,null,null,{"$f":"catp","v":2}]
[1865,"Sorescu Gabriel","Pitesti",77.5,29.25,"O",null,null,null,{"$f":"catp","v":2}]
[848,"Szakacs Attila","Corunca",248.9,29.24,"O",null,null,null,{"$f":"catp","v":2}]
[736,"Sava Harold","Bucuresti",282.2,29.23,"O",null,null,null,{"$f":"catp","v":2}]
[1235,"Iordachi Adrian","Adjud",153.1,29.23,"OW",null,null,null,{"$f":"catp","v":2}]
[1610,"Onute Marius","Zalau",102.2,29.2,"O",null,null,null,{"$f":"catp","v":2}]
[2783,"Zgardan Iustin","Moldova-Cahul",29.2,29.2,"O",null,null,null,{"$f":"catp","v":2}]
[2784,"Pislaru Valeriu","Moldova-Chisinau",29.2,29.2,"O",null,null,null,{"$f":"catp","v":2}]
[265,"Balaban Daniel","Bucuresti",583.4,29.18,"O",null,null,null,{"$f":"catp","v":2}]
[1193,"Dragomir Dan","Bucuresti",159,29.18,"O",null,null,null,{"$f":"catp","v":2}]
[1548,"Cont Cosmin","Gherla",108.9,29.17,"OW",null,null,null,{"$f":"catp","v":2}]
[633,"Aldea Andrei","Roman",329,29.16,"O",null,null,null,{"$f":"catp","v":2}]
[651,"Vasile Victor","Videle",317.89999999999998,29.15,"O",null,null,null,{"$f":"catp","v":2}]
[2135,"Simon Razvan","Arad",58.3,29.15,"O",null,null,null,{"$f":"catp","v":2}]
[2289,"Kovacs Emma","Cluj Napoca",48.8,29.15,"OF",null,null,null,{"$f":"catp","v":2}]
[877,"Ion Catalin","Alexandria",238.9,29.11,"O",null,null,null,{"$f":"catp","v":2}]
[1015,"Cristea Alexandru Costin","Bucuresti",198.9,29.1,"O",null,null,null,{"$f":"catp","v":2}]
[1498,"Bondar Leontin","Oradea",115.2,29.1,"O",null,null,null,{"$f":"catp","v":2}]
[577,"Bozga Stefan","Beclean",361.2,29.06,"O",null,null,null,{"$f":"catp","v":2}]
[1078,"Chivu Cornel","Craiova",183.9,29.05,"O",null,null,null,{"$f":"catp","v":2}]
[563,"Curelea Petre","Lehliu Gara",370.5,29.03,"O",null,null,null,{"$f":"catp","v":2}]
[997,"Herteg Dorinel","Arad",204.6,29,"O",null,null,null,{"$f":"catp","v":2}]
[2789,"Pisceanschi Vladimir","Moldova-Chisinau",29,29,"O",null,null,null,{"$f":"catp","v":2}]
[2790,"Pertascu Damian","Moldova-Chisinau",29,29,"O",null,null,null,{"$f":"catp","v":2}]
[2791,"Petrova Tatiana","Moldova-Chisinau",29,29,"OF",null,null,null,{"$f":"catp","v":2}]
[3068,"Dragut Tudor","Moinesti",21.8,29,"OLJ",null,null,null,{"$f":"catp","v":2}]
[1471,"Saric Leonid","Moldova-Balti",118.6,28.93,"O",null,null,null,{"$f":"catp","v":2}]
[1651,"Voinea Emil","Pitesti",98.3,28.93,"OW",null,null,null,{"$f":"catp","v":2}]
[737,"Vasiliu Bogdan","Panciu",282.10000000000002,28.91,"O",null,null,null,{"$f":"catp","v":2}]
[553,"Tirdea Ionut","Tecuci",373,28.9,"O",null,null,null,{"$f":"catp","v":2}]
[670,"Sabau Gheorghe","Tarnaveni",306.3,28.9,"OW",null,null,null,{"$f":"catp","v":2}]
[2798,"Manzat Dan","Cluj Napoca",28.9,28.9,"OW",null,null,null,{"$f":"catp","v":2}]
[2799,"Sosoaca Diana","Ramnicu Valcea",28.9,28.9,"OF",null,null,null,{"$f":"catp","v":2}]
[2800,"Lucian Peter","Sighetu Marmatiei",28.9,28.9,"O",null,null,null,{"$f":"catp","v":2}]
[2143,"Nedescu Adrian","Ramnicu Valcea",57.7,28.85,"O",null,null,null,{"$f":"catp","v":2}]
[820,"Constantin Eduard","Bucuresti",257.3,28.83,"O",null,null,null,{"$f":"catp","v":2}]
[1830,"Podar Horatiu","Turda",80.599999999999994,28.83,"O",null,null,null,{"$f":"catp","v":2}]
[449,"Piper Petru","Luna CJ",436.6,28.8,"ODW",null,null,null,{"$f":"catp","v":2}]
[1279,"Petrea Bogdan Andrei","Caransebes",146.30000000000001,28.8,"O",null,null,null,{"$f":"catp","v":2}]
[1773,"Niculescu Daniel","Pitesti",85.2,28.8,"OW",null,null,null,{"$f":"catp","v":2}]
[1936,"Hodis Tudor","Bucuresti",72.599999999999994,28.8,"OJ",null,null,null,{"$f":"catp","v":2}]
[2410,"Lungu Mihai","Iasi",43.2,28.8,"O",null,null,null,{"$f":"catp","v":2}]
[2805,"Majeru Adrian","Radauti",28.8,28.8,"O",null,null,null,{"$f":"catp","v":2}]
[2806,"Pusceddu Celestino","Italia",28.8,28.8,"O",null,null,null,{"$f":"catp","v":2}]
[952,"Visan Victor","Slobozia",214.7,28.78,"O",null,null,null,{"$f":"catp","v":2}]
[1542,"Alexanovici Bogdan","Brasov",109.5,28.77,"O",null,null,null,{"$f":"catp","v":2}]
[406,"Bran Florin","Tulcea",462.9,28.76,"O",null,null,null,{"$f":"catp","v":2}]
[685,"Kadar Josif","Oradea",300.7,28.76,"O",null,null,null,{"$f":"catp","v":2}]
[1032,"Belgun Ionut","Timisoara",194.9,28.76,"O",null,null,null,{"$f":"catp","v":2}]
[2015,"Tutos Csaba","Oradea",65.5,28.75,"O",null,null,null,{"$f":"catp","v":2}]
[408,"Paius Vlad","Hunedoara",462.3,28.73,"O",null,null,null,{"$f":"catp","v":2}]
[748,"Vrinceanu Vladut","Caransebes",277.60000000000002,28.72,"O",null,null,null,{"$f":"catp","v":2}]
[946,"Muresan Dorel","Cluj Napoca",215.8,28.72,"OD",null,null,null,{"$f":"catp","v":2}]
[783,"Stolearenco Igor","Galati",268.39999999999998,28.7,"O",null,null,null,{"$f":"catp","v":2}]
[2808,"Patru Alin","Curtea de Arges",28.7,28.7,"O",null,null,null,{"$f":"catp","v":2}]
[2809,"Miron Andrei","Campina",28.7,28.7,"O",null,null,null,{"$f":"catp","v":2}]
[2810,"Stoean Mircea","Bacau",28.7,28.7,"O",null,null,null,{"$f":"catp","v":2}]
[322,"Popescu Theo","Bucuresti",533.20000000000005,28.67,"O",null,null,null,{"$f":"catp","v":2}]
[280,"Popovici Sandu","Sibiu",566.6,28.66,"O",null,null,null,{"$f":"catp","v":2}]
[1749,"Rosca Adela","Galanesti",88.2,28.6,"OF",null,null,null,{"$f":"catp","v":2}]
[2365,"Dobrin Dragos","Alexandria",45,28.6,"O",null,null,null,{"$f":"catp","v":2}]
[2811,"Orac Teodor","Slobozia",28.6,28.6,"OW",null,null,null,{"$f":"catp","v":2}]
[2812,"Ivan Catalin","Fagaras",28.6,28.6,"O",null,null,null,{"$f":"catp","v":2}]
[3078,"Stan Constantin","Caragiale DB",21.5,28.6,"O",null,null,null,{"$f":"catp","v":2}]
[325,"Lajos Mozes","Odorheiu Secuiesc",532.5,28.59,"OW",null,null,null,{"$f":"catp","v":2}]
[1260,"Ivan Adrian","Tulcea",149.1,28.58,"OW",null,null,null,{"$f":"catp","v":2}]
[1449,"Breje Marin","Zalau",121.3,28.58,"O",null,null,null,{"$f":"catp","v":2}]
[360,"Plesoianu Stefan","Constanta",504.7,28.56,"OW",null,null,null,{"$f":"catp","v":2}]
[486,"Galca Andrei","Bucuresti",412.5,28.55,"O",null,null,null,{"$f":"catp","v":2}]
[2282,"Maftei Robert","Brasov",49,28.55,"O",null,null,null,{"$f":"catp","v":2}]
[884,"Oancea Marian","Bacau",236.5,28.54,"O",null,null,null,{"$f":"catp","v":2}]
[1481,"Galanton Yanis","Suceava",117.4,28.53,"O",null,null,null,{"$f":"catp","v":2}]
[2816,"Dica Danut","Caracal",28.5,28.5,"O",null,null,null,{"$f":"catp","v":2}]
[2817,"Gorneanu Andrei","Bucuresti",28.5,28.5,"O",null,null,null,{"$f":"catp","v":2}]
[2818,"Marandici Vasile","Bucuresti",28.5,28.5,"O",null,null,null,{"$f":"catp","v":2}]
[1183,"Soficaru George","Brasov",161.9,28.48,"O",null,null,null,{"$f":"catp","v":2}]
[468,"Hutanu Adrian","Slobozia",422.2,28.45,"OW",null,null,null,{"$f":"catp","v":2}]
[1372,"Barac Marius","Sibiu",131.6,28.45,"OW",null,null,null,{"$f":"catp","v":2}]
[1036,"Gal Farkas Arpad","Miercurea Ciuc",193.9,28.42,"O",null,null,null,{"$f":"catp","v":2}]
[843,"Curpas Ioan","Oradea",251.1,28.4,"OW",null,null,null,{"$f":"catp","v":2}]
[1579,"Chirila Laurentiu","Braila",105.7,28.4,"O",null,null,null,{"$f":"catp","v":2}]
[1611,"Campean Eugen","Dej",102.2,28.37,"O",null,null,null,{"$f":"catp","v":2}]
[1645,"Ochian Andrei","Botosani",98.8,28.33,"O",null,null,null,{"$f":"catp","v":2}]
[1552,"Kanashyn Serhii","Cluj Napoca",108.4,28.3,"O",null,null,null,{"$f":"catp","v":2}]
[2273,"Tudose Iulian","Galati",49.7,28.3,"O",null,null,null,{"$f":"catp","v":2}]
[3088,"Vaduva Filip","Bucuresti",21.3,28.3,"O",null,null,null,{"$f":"catp","v":2}]
[1095,"Demeter Attila","Campia Turzii",180.1,28.28,"O",null,null,null,{"$f":"catp","v":2}]
[1253,"Brisc Nelu","Timisoara",150.6,28.28,"O",null,null,null,{"$f":"catp","v":2}]
[1689,"Bina Eduard","Dumbraveni SB",94.7,28.27,"O",null,null,null,{"$f":"catp","v":2}]
[1845,"Staicu Sorin","Dor Marunt",79.5,28.27,"O",null,null,null,{"$f":"catp","v":2}]
[1412,"Vasile Adrian Cristian","Bucuresti",125,28.25,"O",null,null,null,{"$f":"catp","v":2}]
[2257,"Serban Rares","Mangalia",50.2,28.25,"O",null,null,null,{"$f":"catp","v":2}]
[2423,"Boureanu Ionel","Iasi",42.4,28.25,"O",null,null,null,{"$f":"catp","v":2}]
[2123,"Moise Bianca","Ploiesti",59.3,28.2,"OF",null,null,null,{"$f":"catp","v":2}]
[2411,"Putnik Tiberiu","Varset",43.2,28.2,"O",null,null,null,{"$f":"catp","v":2}]
[2597,"Minca Gabriel","Videle",35.299999999999997,28.2,"O",null,null,null,{"$f":"catp","v":2}]
[2828,"Tanu Mihai","Tecuci",28.2,28.2,"O",null,null,null,{"$f":"catp","v":2}]
[3097,"Ciolca Eduard Gabriel","Bucuresti",21.2,28.2,"O",null,null,null,{"$f":"catp","v":2}]
[655,"Morosan Sara","Horodnic de Sus",316.2,28.17,"OF",null,null,null,{"$f":"catp","v":2}]
[1261,"Bacosca Catalin","Sabaoani",149.1,28.17,"O",null,null,null,{"$f":"catp","v":2}]
[1801,"Danila Alexandru","Cugir",83.1,28.15,"O",null,null,null,{"$f":"catp","v":2}]
[284,"Kelemen Miklos","Miercurea Ciuc",560.5,28.12,"O",null,null,null,{"$f":"catp","v":2}]
[1707,"Simo Jozsef Tibor","Miercurea Ciuc",92.5,28.1,"O",null,null,null,{"$f":"catp","v":2}]
[3102,"Ilie Gheorghe Eugen","Timisoara",21.1,28.1,"O",null,null,null,{"$f":"catp","v":2}]
[587,"Vass Sandor","Beclean",355.3,28.08,"OW",null,null,null,{"$f":"catp","v":2}]
[762,"Buliga Cornel","Galati",274.10000000000002,28.08,"O",null,null,null,{"$f":"catp","v":2}]
[1010,"Cirstea Toni","Targu Jiu",200.9,28.08,"O",null,null,null,{"$f":"catp","v":2}]
[704,"Kovacs Lehel","Zabala",293,28.05,"O",null,null,null,{"$f":"catp","v":2}]
[1154,"Serban Mihai","Selimbar",167.2,28.05,"O",null,null,null,{"$f":"catp","v":2}]
[1081,"Ferenczi Robert","Suseni",183.4,28,"O",null,null,null,{"$f":"catp","v":2}]
[1938,"Iliuta Adrian","Sannicolau Mare",72.5,28,"O",null,null,null,{"$f":"catp","v":2}]
[2835,"Preda Mark","Slatina",28,28,"O",null,null,null,{"$f":"catp","v":2}]
[2836,"Gorobet Uliana","Ucraina-Kiev",28,28,"OF",null,null,null,{"$f":"catp","v":2}]
[2837,"Cojocaru Dorin","Moldova-Chisinau",28,28,"O",null,null,null,{"$f":"catp","v":2}]
[3105,"Ivanov Sorin","Piatra Neamt",21,28,"O",null,null,null,{"$f":"catp","v":2}]
[3106,"Topsaneanu Valentin","Chitila",21,28,"O",null,null,null,{"$f":"catp","v":2}]
[2167,"Dinescu Mihai","Curtea de Arges",55.9,27.95,"O",null,null,null,{"$f":"catp","v":2}]
[1900,"Barbu Alexandru","Bucuresti",74.7,27.85,"O",null,null,null,{"$f":"catp","v":2}]
[1976,"Popescu Sorin","Ploiesti",68.900000000000006,27.85,"O",null,null,null,{"$f":"catp","v":2}]
[2294,"Iorgoiu Constantin","Drajna de Jos",48.5,27.85,"O",null,null,null,{"$f":"catp","v":2}]
[923,"Moldovan Andrei","Oradea",222.1,27.83,"O",null,null,null,{"$f":"catp","v":2}]
[1021,"Gereb Istvan Attila","Miercurea Ciuc",197.9,27.83,"O",null,null,null,{"$f":"catp","v":2}]
[1661,"Ianos Valentin","Suceava",97.3,27.83,"O",null,null,null,{"$f":"catp","v":2}]
[1583,"Vilcica Antonio","Slatina",105.2,27.8,"O",null,null,null,{"$f":"catp","v":2}]
[2304,"Preda Ionut","Cluj Napoca",48.1,27.8,"O",null,null,null,{"$f":"catp","v":2}]
[3114,"Beltechi Razvan","Victoria",20.9,27.8,"O",null,null,null,{"$f":"catp","v":2}]
[3115,"Balazs Boglarka","Targu Secuiesc",20.9,27.8,"OF",null,null,null,{"$f":"catp","v":2}]
[1121,"Popa Paul","Sibiu",175.1,27.78,"OW",null,null,null,{"$f":"catp","v":2}]
[1102,"Barbuta Ioan","Dej",178.6,27.72,"OW",null,null,null,{"$f":"catp","v":2}]
[2842,"Orosz Attila","Miercurea Ciuc",27.7,27.7,"O",null,null,null,{"$f":"catp","v":2}]
[2843,"Ciobanu Marius","Iasi",27.7,27.7,"O",null,null,null,{"$f":"catp","v":2}]
[2844,"Marcu Vasile","Vatra Dornei",27.7,27.7,"OW",null,null,null,{"$f":"catp","v":2}]
[2845,"Iliescu Lucian","Toplita",27.7,27.7,"O",null,null,null,{"$f":"catp","v":2}]
[2846,"Bobos Marius","Apahida",27.7,27.7,"O",null,null,null,{"$f":"catp","v":2}]
[2847,"Soki Viktor Patrick","Arad",27.7,27.7,"O",null,null,null,{"$f":"catp","v":2}]
[350,"Sabau Claudiu","Bistrita",520.29999999999995,27.68,"O",null,null,null,{"$f":"catp","v":2}]
[881,"Baltatu Eduard Laurentiu","Bucuresti",237.8,27.68,"O",null,null,null,{"$f":"catp","v":2}]
[386,"Radu Constantin","Sibiu",483.7,27.67,"OW",null,null,null,{"$f":"catp","v":2}]
[636,"Boros Mihaly","Crasna",327,27.67,"O",null,null,null,{"$f":"catp","v":2}]
[475,"Nicola Marian","Constanta",419.3,27.66,"O",null,null,null,{"$f":"catp","v":2}]
[521,"Leon Victor","Galati",386.7,27.66,"OJ",null,null,null,{"$f":"catp","v":2}]
[958,"Bucovszki Alexandru","Sighetu Marmatiei",213.5,27.65,"O",null,null,null,{"$f":"catp","v":2}]
[833,"Iobagiu Ionut","Bistrita",253.2,27.64,"O",null,null,null,{"$f":"catp","v":2}]
[959,"Chibulcutean Ioan","Tarnaveni",213.2,27.63,"OW",null,null,null,{"$f":"catp","v":2}]
[446,"Marinescu Nelu","Targoviste",438.3,27.61,"O",null,null,null,{"$f":"catp","v":2}]
[525,"Busuioc Andrei","Panciu",385.7,27.6,"O",null,null,null,{"$f":"catp","v":2}]
[2850,"Novitchi Daniel","Moldova-Cahul",27.6,27.6,"O",null,null,null,{"$f":"catp","v":2}]
[2851,"Nebesnai Mihail","Moldova-Chisinau",27.6,27.6,"O",null,null,null,{"$f":"catp","v":2}]
[3119,"Munteanu Petrisor","Iasi",20.7,27.6,"O",null,null,null,{"$f":"catp","v":2}]
[585,"Bairam Marcel","Harsova",355.8,27.58,"O",null,null,null,{"$f":"catp","v":2}]
[1607,"Subtirelu Marius","Onesti",102.5,27.5,"O",null,null,null,{"$f":"catp","v":2}]
[2179,"Teaca Vladimir","Moldova-Balti",55,27.5,"O",null,null,null,{"$f":"catp","v":2}]
[753,"Bardas Ioan","Dumbraveni SB",276.3,27.45,"O",null,null,null,{"$f":"catp","v":2}]
[850,"Neculai Valentin","Focsani",246.9,27.43,"O",null,null,null,{"$f":"catp","v":2}]
[1798,"Vale Nelu","Zalau",83.4,27.43,"O",null,null,null,{"$f":"catp","v":2}]
[656,"Bodeanu Dan","Bucuresti",316.2,27.41,"OW",null,null,null,{"$f":"catp","v":2}]
[3126,"Avasilcai Marcel","Arad",20.6,27.4,"O",null,null,null,{"$f":"catp","v":2}]
[2186,"Cristea Virgil","Cugir",54.7,27.35,"O",null,null,null,{"$f":"catp","v":2}]
[981,"Starcz Adrian","Lupeni",208.6,27.34,"O",null,null,null,{"$f":"catp","v":2}]
[1890,"Banceanu Radu","Hunedoara",75.400000000000006,27.33,"O",null,null,null,{"$f":"catp","v":2}]
[836,"Velicescu Dragos","Pitesti",252.9,27.3,"O",null,null,null,{"$f":"catp","v":2}]
[2859,"Bodin Ion","Tecuci",27.3,27.3,"OW",null,null,null,{"$f":"catp","v":2}]
[1627,"Irimia Silviu Marius","Cernavoda",100.8,27.27,"O",null,null,null,{"$f":"catp","v":2}]
[1923,"Clesiu Florin","Deva",73.5,27.25,"O",null,null,null,{"$f":"catp","v":2}]
[2305,"Goia Alina","Cluj Napoca",48.1,27.25,"OF",null,null,null,{"$f":"catp","v":2}]
[618,"Dumitru Florin","Slobozia",338,27.24,"O",null,null,null,{"$f":"catp","v":2}]
[725,"Coste Rafael","Lupeni",285.2,27.24,"O",null,null,null,{"$f":"catp","v":2}]
[1079,"Negru Marius","Deva",183.7,27.2,"O",null,null,null,{"$f":"catp","v":2}]
[2863,"Casim Igor","Moldova-Avdarma",27.2,27.2,"O",null,null,null,{"$f":"catp","v":2}]
[2864,"Mirciu Serghei","Moldova-Chisinau",27.2,27.2,"O",null,null,null,{"$f":"catp","v":2}]
[2865,"Damoc George","Pildesti",27.2,27.2,"O",null,null,null,{"$f":"catp","v":2}]
[2866,"Todiras Ion","Moldova-Floresti",27.2,27.2,"O",null,null,null,{"$f":"catp","v":2}]
[779,"Rusu Anatol","Moldova-Briceni",269.3,27.19,"OW",null,null,null,{"$f":"catp","v":2}]
[966,"Stepanov Petre","Tulcea",211.8,27.16,"O",null,null,null,{"$f":"catp","v":2}]
[575,"Cernat Cristian","Iasi",364,27.15,"O",null,null,null,{"$f":"catp","v":2}]
[1058,"Anghel Patrick","Voluntari",188.7,27.13,"O",null,null,null,{"$f":"catp","v":2}]
[1384,"Jurj Sorin","Calan",130.1,27.13,"O",null,null,null,{"$f":"catp","v":2}]
[2345,"Chetronie Liviu","Tecuci",46.1,27.1,"OW",null,null,null,{"$f":"catp","v":2}]
[2870,"Lozov Dima","Moldova-Avdarma",27.1,27.1,"O",null,null,null,{"$f":"catp","v":2}]
[519,"Milna Sorin","Ludus",388.2,27.09,"O",null,null,null,{"$f":"catp","v":2}]
[437,"Cuciureanu Daniel","Ploiesti",444.3,27.07,"O",null,null,null,{"$f":"catp","v":2}]
[1336,"Donisan Costel","Pascani",137,27.07,"OW",null,null,null,{"$f":"catp","v":2}]
[1473,"Voinescu Ecaterina","Bucuresti",118.5,27.07,"OF",null,null,null,{"$f":"catp","v":2}]
[1878,"Stoicescu Radu","Buzau",76,27.07,"O",null,null,null,{"$f":"catp","v":2}]
[356,"Vulpescu Radu","Iasi",509.9,27.03,"O",null,null,null,{"$f":"catp","v":2}]
[940,"Urcan Lucian","Timisoara",218.8,27.03,"O",null,null,null,{"$f":"catp","v":2}]
[1640,"Pogorevici Mircea","Gura Humorului",99.5,27.03,"O",null,null,null,{"$f":"catp","v":2}]
[1768,"Chivu Octav","Bucuresti",85.9,27.03,"O",null,null,null,{"$f":"catp","v":2}]
[1879,"Moca Vasile","Bucuresti",76,27,"O",null,null,null,{"$f":"catp","v":2}]
[3139,"Muresan Ovidiu","Caransebes",20.3,27,"O",null,null,null,{"$f":"catp","v":2}]
[970,"Carabas Cosmin","Timisoara",211.1,26.98,"O",null,null,null,{"$f":"catp","v":2}]
[1931,"Ghiurutan Razvan","Bucuresti",73.099999999999994,26.97,"O",null,null,null,{"$f":"catp","v":2}]
[1397,"Mihalache Andrei","Buzau",127.9,26.95,"O",null,null,null,{"$f":"catp","v":2}]
[695,"Ardeleanu Bogdan","Resita",295.60000000000002,26.91,"O",null,null,null,{"$f":"catp","v":2}]
[917,"Bal Adrian","Gherla",223.4,26.9,"O",null,null,null,{"$f":"catp","v":2}]
[2404,"Vescan Adrian","Cluj Napoca",43.3,26.9,"O",null,null,null,{"$f":"catp","v":2}]
[3144,"Glavan Niculae","Constanta",20.2,26.9,"O",null,null,null,{"$f":"catp","v":2}]
[1130,"Petrov Dan","Dobroesti",173.2,26.88,"OW",null,null,null,{"$f":"catp","v":2}]
[1147,"Duman Andrei","Calarasi",169.4,26.88,"O",null,null,null,{"$f":"catp","v":2}]
[1184,"Moca Alexandru","Ludus",161.9,26.86,"O",null,null,null,{"$f":"catp","v":2}]
[729,"Popa Alin","Drobeta Tr Severin",283.3,26.85,"O",null,null,null,{"$f":"catp","v":2}]
[1185,"Tegher Tiberiu","Apahida",161.80000000000001,26.85,"O",null,null,null,{"$f":"catp","v":2}]
[1402,"Nicolae Daniel","Bucuresti",127.3,26.85,"O",null,null,null,{"$f":"catp","v":2}]
[1943,"Stoica Polina","Moldova-Cahul",71.900000000000006,26.83,"OF",null,null,null,{"$f":"catp","v":2}]
[1994,"Bustiuc Razvan","Iasi",67,26.8,"O",null,null,null,{"$f":"catp","v":2}]
[2880,"Serhiy Zabolotnyy","Cluj Napoca",26.8,26.8,"O",null,null,null,{"$f":"catp","v":2}]
[616,"Morosan Ionel","Radauti",338.7,26.75,"O",null,null,null,{"$f":"catp","v":2}]
[967,"Faur Claudiu","Timisoara",211.7,26.75,"O",null,null,null,{"$f":"catp","v":2}]
[1533,"Florea Cristian","Constanta",110.9,26.75,"O",null,null,null,{"$f":"catp","v":2}]
[660,"Toma Dan","Sfantu Gheorghe",312.89999999999998,26.71,"O",null,null,null,{"$f":"catp","v":2}]
[498,"Cobzaru Radu","Deva",403,26.69,"OW",null,null,null,{"$f":"catp","v":2}]
[387,"Seniuc Radu","Arad",481.7,26.66,"O",null,null,null,{"$f":"catp","v":2}]
[570,"Raduly Ovidiu","Fantanele",366,26.65,"O",null,null,null,{"$f":"catp","v":2}]
[2319,"Ciripan Camelia","Bucuresti",47.2,26.65,"OFD",null,null,null,{"$f":"catp","v":2}]
[1160,"Vasilescu Florin","Ploiesti",166.4,26.63,"O",null,null,null,{"$f":"catp","v":2}]
[1379,"Maximciuc Felix","Baia Mare",130.30000000000001,26.63,"O",null,null,null,{"$f":"catp","v":2}]
[1833,"Salavastru Petru","Botosani",80.400000000000006,26.63,"OW",null,null,null,{"$f":"catp","v":2}]
[1300,"Rastoaca Victor","Bucuresti",142.19999999999999,26.6,"O",null,null,null,{"$f":"catp","v":2}]
[1928,"Ciocau Viorel","Bucuresti",73.2,26.6,"O",null,null,null,{"$f":"catp","v":2}]
[3151,"Vijaica Florin","Drobeta Tr Severin",20,26.6,"O",null,null,null,{"$f":"catp","v":2}]
[3152,"Patrascuta Tiberiu","Drobeta Tr Severin",20,26.6,"O",null,null,null,{"$f":"catp","v":2}]
[529,"Diaconescu Cristian","Floresti",385,26.53,"O",null,null,null,{"$f":"catp","v":2}]
[826,"Cioca Raul","Agnita",254.8,26.5,"O",null,null,null,{"$f":"catp","v":2}]
[1020,"Barbulescu Dan","Sibiu",198,26.44,"OW",null,null,null,{"$f":"catp","v":2}]
[489,"Muntean Atila","Hunedoara",410.6,26.42,"O",null,null,null,{"$f":"catp","v":2}]
[3161,"Gora Madalin","Radauti",19.8,26.4,"O",null,null,null,{"$f":"catp","v":2}]
[1092,"Bujenita Mihai","Galati",181.1,26.36,"O",null,null,null,{"$f":"catp","v":2}]
[912,"Pirvanescu Daniel","Bucuresti",223.8,26.35,"O",null,null,null,{"$f":"catp","v":2}]
[1276,"Sava Andrei","Iasi",146.80000000000001,26.33,"O",null,null,null,{"$f":"catp","v":2}]
[1394,"Bartha Istvan Zsolt","Aita Mare",128.4,26.3,"OW",null,null,null,{"$f":"catp","v":2}]
[1917,"Hodis Andrei","Gherla",73.900000000000006,26.3,"O",null,null,null,{"$f":"catp","v":2}]
[557,"Matei Catalin","Sibiu",372.3,26.25,"O",null,null,null,{"$f":"catp","v":2}]
[1168,"Mihut Doru","Dej",164.6,26.25,"O",null,null,null,{"$f":"catp","v":2}]
[539,"Gisca Catalin","Bucuresti",380.4,26.23,"O",null,null,null,{"$f":"catp","v":2}]
[837,"Veres Janos","Targu Mures",252.9,26.2,"OW",null,null,null,{"$f":"catp","v":2}]
[802,"Dehelean Octavian","Timisoara",263.3,26.16,"O",null,null,null,{"$f":"catp","v":2}]
[2007,"Mititelu Daniel","Botosani",66.2,26.13,"O",null,null,null,{"$f":"catp","v":2}]
[3169,"Poenar Alin","Resita",19.600000000000001,26.1,"O",null,null,null,{"$f":"catp","v":2}]
[1886,"Huruba Cristian","Targu Mures",75.8,26.07,"O",null,null,null,{"$f":"catp","v":2}]
[1307,"Marchitan Marius","Brasov",141.30000000000001,26.02,"O",null,null,null,{"$f":"catp","v":2}]
[1179,"Lazar Cristian","Cluj Napoca",162.5,25.98,"O",null,null,null,{"$f":"catp","v":2}]
[1352,"Stancalie Doru","Craiova",134.19999999999999,25.95,"O",null,null,null,{"$f":"catp","v":2}]
[745,"Angi Zoltan","Gheorgheni",278.5,25.93,"O",null,null,null,{"$f":"catp","v":2}]
[2008,"Dumitriu Florin","Iasi",66.2,25.9,"O",null,null,null,{"$f":"catp","v":2}]
[2228,"Pop Ioan","Baia Mare",51.7,25.85,"O",null,null,null,{"$f":"catp","v":2}]
[1385,"Golai Gheorghe","Piatra Neamt",130.1,25.8,"OW",null,null,null,{"$f":"catp","v":2}]
[3179,"Dilan Pavel","Iasi",19.399999999999999,25.8,"O",null,null,null,{"$f":"catp","v":2}]
[530,"Farcas Marius","Hunedoara",384.2,25.75,"O",null,null,null,{"$f":"catp","v":2}]
[1419,"Munteanu Ion","Brasov",124.4,25.75,"O",null,null,null,{"$f":"catp","v":2}]
[665,"Catana Gabriel","Bucuresti",311,25.73,"O",null,null,null,{"$f":"catp","v":2}]
[565,"Giuseppe Brancati","Bucuresti",369.4,25.71,"O",null,null,null,{"$f":"catp","v":2}]
[2907,"Magura Larian","Constanta",25.7,25.7,"O",null,null,null,{"$f":"catp","v":2}]
[1501,"Aresan David","Bistrita",114.9,25.67,"OD",null,null,null,{"$f":"catp","v":2}]
[1684,"Bleoca Lucas","Tarnaveni",95.5,25.65,"O",null,null,null,{"$f":"catp","v":2}]
[1605,"Jicarean David","Lipova",102.6,25.63,"O",null,null,null,{"$f":"catp","v":2}]
[902,"Ionita Daniel","Berceni",227.8,25.62,"O",null,null,null,{"$f":"catp","v":2}]
[1910,"Tintas Adrian","Sighetu Marmatiei",74.099999999999994,25.6,"O",null,null,null,{"$f":"catp","v":2}]
[2236,"Aprodu Mircea","Bacau",51.2,25.6,"O",null,null,null,{"$f":"catp","v":2}]
[885,"Padurariu Ciprian","Roman",236.4,25.57,"OW",null,null,null,{"$f":"catp","v":2}]
[2375,"Marian Calin","Reghin",44.5,25.55,"O",null,null,null,{"$f":"catp","v":2}]
[2385,"Anghele Cristinel","Galati",44.1,25.5,"OW",null,null,null,{"$f":"catp","v":2}]
[3192,"Deto Cornel","Cluj Napoca",19.2,25.5,"O",null,null,null,{"$f":"catp","v":2}]
[472,"Pohrib Danut","Matca",420.1,25.48,"O",null,null,null,{"$f":"catp","v":2}]
[1427,"Vonea Andrei","Tarnaveni",123.5,25.47,"O",null,null,null,{"$f":"catp","v":2}]
[1223,"Suptirel Narcis","Agnita",154.19999999999999,25.45,"O",null,null,null,{"$f":"catp","v":2}]
[2242,"Borsci Ruslan","Moldova-Drochia",50.9,25.45,"O",null,null,null,{"$f":"catp","v":2}]
[691,"Robu Mihai","Mogosesti",298.3,25.44,"OW",null,null,null,{"$f":"catp","v":2}]
[870,"Andrei Gheorghe","Petrosani",240.8,25.43,"OW",null,null,null,{"$f":"catp","v":2}]
[2279,"Nagy Eduard","Deva",49.1,25.4,"O",null,null,null,{"$f":"catp","v":2}]
[2923,"Stancu Maricel","Focsani",25.4,25.4,"O",null,null,null,{"$f":"catp","v":2}]
[3196,"Pal Abel","Sfantu Gheorghe",19.100000000000001,25.4,"O",null,null,null,{"$f":"catp","v":2}]
[759,"Oniga Paul","Blaj",275,25.38,"O",null,null,null,{"$f":"catp","v":2}]
[1293,"Filep Attila","Gherla",142.80000000000001,25.38,"O",null,null,null,{"$f":"catp","v":2}]
[1602,"Popa Nicolae","Cergau Mare",102.7,25.38,"O",null,null,null,{"$f":"catp","v":2}]
[524,"Dobinda Dinu","Arad",385.8,25.37,"O",null,null,null,{"$f":"catp","v":2}]
[481,"Pamfilie Horatiu","Ludus",417.1,25.36,"O",null,null,null,{"$f":"catp","v":2}]
[2246,"Ispas Emil","Alba Iulia",50.7,25.35,"O",null,null,null,{"$f":"catp","v":2}]
[2247,"Ghet Ionut","Gheraesti",50.7,25.35,"O",null,null,null,{"$f":"catp","v":2}]
[2249,"Fulop Tamas","Miercurea Ciuc",50.6,25.3,"O",null,null,null,{"$f":"catp","v":2}]
[1474,"Stanciu Constantin","Timisoara",118.4,25.28,"O",null,null,null,{"$f":"catp","v":2}]
[1624,"Marin Adrian","Cateasca",101.1,25.27,"O",null,null,null,{"$f":"catp","v":2}]
[1646,"Tianu Calin","Bucuresti",98.6,25.27,"O",null,null,null,{"$f":"catp","v":2}]
[626,"Lupu Cristian","Botosani",333.7,25.23,"O",null,null,null,{"$f":"catp","v":2}]
[1118,"Bistreanu Armand","Bucuresti",175.3,25.23,"O",null,null,null,{"$f":"catp","v":2}]
[667,"Lungu Mihai","Targoviste",308.39999999999998,25.2,"OW",null,null,null,{"$f":"catp","v":2}]
[2381,"Clej Alexandru","Arad",44.2,25.2,"O",null,null,null,{"$f":"catp","v":2}]
[3229,"Sorescu Velimir","Resita",18.899999999999999,25.2,"O",null,null,null,{"$f":"catp","v":2}]
[3230,"Furtuna Adrian","Brasov",18.899999999999999,25.2,"O",null,null,null,{"$f":"catp","v":2}]
[2352,"Szakacs Raul","Deva",45.6,25.15,"O",null,null,null,{"$f":"catp","v":2}]
[856,"Borodi Claudiu","Dobric",245.8,25.13,"O",null,null,null,{"$f":"catp","v":2}]
[1221,"Neculaes Francisc","Halaucesti",154.6,25.13,"O",null,null,null,{"$f":"catp","v":2}]
[1712,"Cristoiu Cozmin","Bucuresti",92,25.1,"O",null,null,null,{"$f":"catp","v":2}]
[652,"Ianovici Florin","Brasov",317.3,25.06,"OW",null,null,null,{"$f":"catp","v":2}]
[2261,"Ivanco Arteom","Moldova-Cahul",50.1,25.05,"O",null,null,null,{"$f":"catp","v":2}]
[814,"Domokos Andras","Targu Mures",259.8,25.03,"O",null,null,null,{"$f":"catp","v":2}]
[439,"Furtuna Traian","Brasov",441.3,25.02,"O",null,null,null,{"$f":"catp","v":2}]
[1045,"Radu Ciprian","Brasov",191.3,25.02,"O",null,null,null,{"$f":"catp","v":2}]
[3234,"Sandu Ionut","Moinesti",18.8,25,"O",null,null,null,{"$f":"catp","v":2}]
[1318,"Zaharia Puiu","Bucuresti",139.1,24.98,"O",null,null,null,{"$f":"catp","v":2}]
[1951,"Tini Alina Stefania","Constanta",71.3,24.97,"OF",null,null,null,{"$f":"catp","v":2}]
[2049,"Toader Georgian","Bucuresti",63.3,24.97,"O",null,null,null,{"$f":"catp","v":2}]
[882,"Juganaru Valentin","Bucuresti",237.8,24.96,"O",null,null,null,{"$f":"catp","v":2}]
[1363,"Milos Cristian","Alexandria",132.5,24.95,"O",null,null,null,{"$f":"catp","v":2}]
[2043,"Borisov David","Moldova-Drochia",63.5,24.95,"O",null,null,null,{"$f":"catp","v":2}]
[1666,"Marcu Nicolae","Bucuresti",97.2,24.93,"O",null,null,null,{"$f":"catp","v":2}]
[1973,"Grigore Dumitru Valentin","Ramnicu Sarat",69.400000000000006,24.93,"O",null,null,null,{"$f":"catp","v":2}]
[428,"Cumpaniciu Alin","Barlad",450,24.9,"O",null,null,null,{"$f":"catp","v":2}]
[1784,"Nemeth Alesia","Dumbravita",84.5,24.9,"OF",null,null,null,{"$f":"catp","v":2}]
[1823,"Hoffman Zoltan","Baia Mare",81.099999999999994,24.9,"O",null,null,null,{"$f":"catp","v":2}]
[2930,"Melintii Victoria","Moldova-Avdarma",24.9,24.9,"OF",null,null,null,{"$f":"catp","v":2}]
[2931,"Casim Alina","Moldova-Avdarma",24.9,24.9,"OF",null,null,null,{"$f":"catp","v":2}]
[2932,"Tarlev Roman","Moldova-Comrat",24.9,24.9,"O",null,null,null,{"$f":"catp","v":2}]
[2933,"Greceanu Alexandru","Macin",24.9,24.9,"O",null,null,null,{"$f":"catp","v":2}]
[2030,"Visoiu Stefan Eduard","Buzau",64.7,24.85,"O",null,null,null,{"$f":"catp","v":2}]
[2231,"Farkas Gabor","Miercurea Ciuc",51.3,24.85,"O",null,null,null,{"$f":"catp","v":2}]
[552,"Rosu Ioan","Sibiu",373.4,24.82,"O",null,null,null,{"$f":"catp","v":2}]
[2382,"Duta Ion","Craiova",44.2,24.8,"O",null,null,null,{"$f":"catp","v":2}]
[2941,"Calin Alexandru","Focsani",24.8,24.8,"O",null,null,null,{"$f":"catp","v":2}]
[839,"Ileanu Bogdan","Targu Jiu",252.3,24.7,"O",null,null,null,{"$f":"catp","v":2}]
[1758,"Ivascu Gavrila","Viseu",86.8,24.7,"O",null,null,null,{"$f":"catp","v":2}]
[2368,"Ionel Ovidiu","Bistrita",44.9,24.7,"O",null,null,null,{"$f":"catp","v":2}]
[2549,"Miko Istvan","Targu Mures",37.1,24.7,"OW",null,null,null,{"$f":"catp","v":2}]
[2945,"Szabo Szilard","Odorheiu Secuiesc",24.7,24.7,"O",null,null,null,{"$f":"catp","v":2}]
[2946,"Iovdi Gheorghe","Ucraina",24.7,24.7,"O",null,null,null,{"$f":"catp","v":2}]
[3248,"Vakarcs Dumitru","Alesd",18.600000000000001,24.7,"O",null,null,null,{"$f":"catp","v":2}]
[1340,"Sarcani Andrei","Targu Mures",136.5,24.67,"OW",null,null,null,{"$f":"catp","v":2}]
[1738,"Nicolae Darius","Bucuresti",89.3,24.67,"O",null,null,null,{"$f":"catp","v":2}]
[547,"Popa Robert","Targoviste",375.6,24.65,"O",null,null,null,{"$f":"catp","v":2}]
[620,"Todea Alexandru","Cluj Napoca",336.9,24.65,"O",null,null,null,{"$f":"catp","v":2}]
[2555,"Macari Ion","Iasi",37,24.65,"O",null,null,null,{"$f":"catp","v":2}]
[1977,"Naghiu Ioan","Zalau",68.7,24.63,"O",null,null,null,{"$f":"catp","v":2}]
[977,"Chifor Vlad","Targu Mures",210,24.61,"O",null,null,null,{"$f":"catp","v":2}]
[1568,"Kovacs Zsolt Peter","Gheorgheni",106.7,24.6,"O",null,null,null,{"$f":"catp","v":2}]
[1668,"Balanescu Boby","Ploiesti",97.1,24.6,"O",null,null,null,{"$f":"catp","v":2}]
[2025,"Arteni Sergiu","Bucuresti",64.900000000000006,24.6,"O",null,null,null,{"$f":"catp","v":2}]
[822,"Orban Levente","Sovata",256.39999999999998,24.59,"O",null,null,null,{"$f":"catp","v":2}]
[1626,"Morar Bogdan","Dumbraveni SB",101,24.57,"OJ",null,null,null,{"$f":"catp","v":2}]
[517,"Dimache Marian","Braila",388.3,24.56,"OW",null,null,null,{"$f":"catp","v":2}]
[726,"Anhelov Mihail","Moldova-Cahul",285,24.55,"O",null,null,null,{"$f":"catp","v":2}]
[2561,"Palaghianu David","Salcea",36.9,24.55,"O"]
[397,"Podean Ion","Foeni",473.5,24.54,"O",null,null,null,{"$f":"catp","v":2}]
[1988,"Teodoru Pavel","Buzau",67.5,24.53,"O",null,null,null,{"$f":"catp","v":2}]
[543,"Orban Koppany","Sovata",378.5,24.5,"O",null,null,null,{"$f":"catp","v":2}]
[2441,"Gheorghies Ovidiu","Iasi",41.8,24.5,"O",null,null,null,{"$f":"catp","v":2}]
[3253,"Mocanu Georgian","Filipestii de Targ",18.399999999999999,24.5,"O",null,null,null,{"$f":"catp","v":2}]
[1479,"Stanciu Olimpiu","Chitila",117.6,24.48,"O",null,null,null,{"$f":"catp","v":2}]
[1469,"Varga Florin","Cluj Napoca",118.7,24.4,"O",null,null,null,{"$f":"catp","v":2}]
[1861,"Haran Alexandru","Sibiu",77.599999999999994,24.4,"O",null,null,null,{"$f":"catp","v":2}]
[2133,"Gurau Florin Catalin","Urlati",58.5,24.4,"O",null,null,null,{"$f":"catp","v":2}]
[2366,"Ciorasteanu Ionut","Brasov",45,24.4,"O",null,null,null,{"$f":"catp","v":2}]
[2401,"Mitrofan Petrica","Brasov",43.4,24.4,"OW",null,null,null,{"$f":"catp","v":2}]
[2569,"Mihai Alex","Botosani",36.6,24.4,"O",null,null,null,{"$f":"catp","v":2}]
[2960,"Farcau Petre","Tasnad",24.4,24.4,"O",null,null,null,{"$f":"catp","v":2}]
[2961,"Roman Zhyla","Ucraina",24.4,24.4,"O",null,null,null,{"$f":"catp","v":2}]
[3259,"Modoran Marian","Bucuresti",18.3,24.4,"O",null,null,null,{"$f":"catp","v":2}]
[1022,"Petho Katalin","Racosu de Sus",197.5,24.36,"OF",null,null,null,{"$f":"catp","v":2}]
[1549,"Culda Andrei","Oradea",108.9,24.33,"O",null,null,null,{"$f":"catp","v":2}]
[719,"Parlog Florin","Bucuresti",287.5,24.32,"O",null,null,null,{"$f":"catp","v":2}]
[1416,"Nagy Robert","Odorheiu Secuiesc",124.7,24.3,"O",null,null,null,{"$f":"catp","v":2}]
[2239,"Enache Leo","Ramnicu Valcea",51,24.3,"O",null,null,null,{"$f":"catp","v":2}]
[908,"David Marian","Braila",225,24.29,"O",null,null,null,{"$f":"catp","v":2}]
[642,"Cernat Gheorghe","Bucuresti",324.39999999999998,24.28,"O",null,null,null,{"$f":"catp","v":2}]
[1444,"Banea Radu","Sibiu",122.2,24.25,"O",null,null,null,{"$f":"catp","v":2}]
[1829,"Ungureanu Doru","Focsani",80.7,24.25,"O",null,null,null,{"$f":"catp","v":2}]
[2433,"Stir Andrei","Baicoi",42.1,24.25,"O",null,null,null,{"$f":"catp","v":2}]
[550,"Ciuverca Adrian","Satu Mare",373.7,24.21,"O",null,null,null,{"$f":"catp","v":2}]
[1292,"Zedler Csaba","Agnita",142.9,24.2,"OW",null,null,null,{"$f":"catp","v":2}]
[2297,"Szabo Attila","Odorheiu Secuiesc",48.4,24.2,"O",null,null,null,{"$f":"catp","v":2}]
[2412,"Serban Marin","Tulcea",43.2,24.2,"OW",null,null,null,{"$f":"catp","v":2}]
[2966,"Ambrus Arnold","Lazarea",24.2,24.2,"O",null,null,null,{"$f":"catp","v":2}]
[2967,"Masgras Iulian","Tecuci",24.2,24.2,"O",null,null,null,{"$f":"catp","v":2}]
[2968,"Olahut Mirel","Baia Mare",24.2,24.2,"O",null,null,null,{"$f":"catp","v":2}]
[1280,"Hulea Calin","Alesd",146.30000000000001,24.18,"O",null,null,null,{"$f":"catp","v":2}]
[1852,"Sultan Valentin","Craiova",78.7,24.17,"O",null,null,null,{"$f":"catp","v":2}]
[1366,"Ilie Andreea","Voluntari",132.19999999999999,24.14,"OF",null,null,null,{"$f":"catp","v":2}]
[2082,"Imecs Attila","Miercurea Ciuc",61.3,24.13,"OW",null,null,null,{"$f":"catp","v":2}]
[3265,"Balanean Andrei","Sibiu",18.100000000000001,24.1,"O",null,null,null,{"$f":"catp","v":2}]
[2306,"Damian Mircea","Bistrita",48.1,24.05,"O",null,null,null,{"$f":"catp","v":2}]
[634,"Stinga Ion","Ploiesti",328.2,24.04,"O",null,null,null,{"$f":"catp","v":2}]
[708,"Moanta Andrei","Bucuresti",292.10000000000002,24.04,"O",null,null,null,{"$f":"catp","v":2}]
[473,"Stanciu Viorel","Ploiesti",419.7,24.02,"O",null,null,null,{"$f":"catp","v":2}]
[404,"Dinu Adrian","Darmanesti",465.1,24,"O",null,null,null,{"$f":"catp","v":2}]
[520,"Zamcu Ciprian","Suceava",388.2,24,"O",null,null,null,{"$f":"catp","v":2}]
[597,"Matei Alexandru","Iasi",349.3,24,"O",null,null,null,{"$f":"catp","v":2}]
[613,"Coman Florin","Bucuresti",340,24,"O",null,null,null,{"$f":"catp","v":2}]
[687,"Tudor Aurel","Harsova",299.5,24,"O",null,null,null,{"$f":"catp","v":2}]
[789,"Galea Robert","Arad",266.89999999999998,24,"O",null,null,null,{"$f":"catp","v":2}]
[1025,"Lungu Lucian","Onesti",196.8,24,"O",null,null,null,{"$f":"catp","v":2}]
[1856,"Lupse Sorin","Baia Mare",78.099999999999994,24,"O",null,null,null,{"$f":"catp","v":2}]
[2302,"Pop Dan","Targu Mures",48.2,24,"O",null,null,null,{"$f":"catp","v":2}]
[2974,"Tarasov Alexei","Moldova-Chisinau",24,24,"O",null,null,null,{"$f":"catp","v":2}]
[2975,"Iavorscaia Anastasia","Moldova-Chisinau",24,24,"OF",null,null,null,{"$f":"catp","v":2}]
[3269,"Ermler Celin","Resita",18,24,"O",null,null,null,{"$f":"catp","v":2}]
[845,"Szivery Adrian","Arad",249.8,23.99,"A",null,null,null,{"$f":"catp","v":3}]
[429,"Vaculisteanu Ionut","Botosani",449.8,23.96,"A",null,null,null,{"$f":"catp","v":3}]
[574,"Tilica Gabriel","Targoviste",364.9,23.95,"A",null,null,null,{"$f":"catp","v":3}]
[1972,"Mirisan Dorin","Baia Mare",69.5,23.95,"A",null,null,null,{"$f":"catp","v":3}]
[2308,"Chiriac Petru","Roman",47.9,23.95,"A",null,null,null,{"$f":"catp","v":3}]
[576,"Dan Radu","Zalau",364,23.93,"A",null,null,null,{"$f":"catp","v":3}]
[1455,"Coroiu Dan","Roman",120.2,23.93,"A",null,null,null,{"$f":"catp","v":3}]
[2126,"Muntean Ioan","Miercurea Ciuc",59.2,23.93,"A",null,null,null,{"$f":"catp","v":3}]
[485,"Borcsi Jozsef","Timisoara",412.7,23.91,"A",null,null,null,{"$f":"catp","v":3}]
[1641,"Usatenco Lev","Ucraina",99.5,23.9,"A",null,null,null,{"$f":"catp","v":3}]
[3270,"Coste Stelian","Cehu Silvaniei",18,23.9,"A",null,null,null,{"$f":"catp","v":3}]
[526,"Alexandrescu Robert","Bucuresti",385.7,23.89,"A",null,null,null,{"$f":"catp","v":3}]
[1596,"Balaj Roland","Arad",103.7,23.85,"A",null,null,null,{"$f":"catp","v":3}]
[2589,"Kiss Vasile","Timisoara",35.799999999999997,23.85,"A",null,null,null,{"$f":"catp","v":3}]
[2590,"Gado Ramses","Oradea",35.799999999999997,23.85,"A",null,null,null,{"$f":"catp","v":3}]
[411,"Rus Teofil","Jibou",461.6,23.82,"A",null,null,null,{"$f":"catp","v":3}]
[915,"Caraus Sorin","Deva",223.5,23.81,"A",null,null,null,{"$f":"catp","v":3}]
[2164,"Mitu Claudiu","Bucuresti",56.2,23.8,"A",null,null,null,{"$f":"catp","v":3}]
[2984,"Miron Liviu","Campina",23.8,23.8,"AW",null,null,null,{"$f":"catp","v":3}]
[1612,"Nagy Iosif","Arad",102.2,23.78,"AW",null,null,null,{"$f":"catp","v":3}]
[559,"Tonciu Costin","Branesti",371.4,23.76,"A",null,null,null,{"$f":"catp","v":3}]
[451,"Pauca Cosmin","Botosani",435.7,23.75,"A",null,null,null,{"$f":"catp","v":3}]
[2414,"Petrariu Sorin","Brasov",42.9,23.75,"A",null,null,null,{"$f":"catp","v":3}]
[400,"Joldes Adrian","Bistrita",468.1,23.74,"AW",null,null,null,{"$f":"catp","v":3}]
[1001,"Petcu Sorin","Sibiu",204.1,23.74,"A",null,null,null,{"$f":"catp","v":3}]
[414,"Ciocan Ion","Bucuresti",459.9,23.71,"A",null,null,null,{"$f":"catp","v":3}]
[425,"Huza Noris","Targu Mures",451,23.71,"A",null,null,null,{"$f":"catp","v":3}]
[643,"Curaciuc Claudiu","Resita",323.39999999999998,23.71,"A",null,null,null,{"$f":"catp","v":3}]
[457,"Cosau Toader","Targu Neamt",430.4,23.7,"A",null,null,null,{"$f":"catp","v":3}]
[2316,"Ticala Vasile","Viseu",47.4,23.7,"A",null,null,null,{"$f":"catp","v":3}]
[2666,"Fat Nicu","Sighetu Marmatiei",32.799999999999997,23.7,"A"]
[458,"Coclea Ionel","Braila",430.3,23.68,"AW",null,null,null,{"$f":"catp","v":3}]
[1429,"Vancsa Zoltan","Miercurea Ciuc",123.3,23.65,"A",null,null,null,{"$f":"catp","v":3}]
[2447,"Tanase Horia","Bucuresti",41.4,23.65,"A",null,null,null,{"$f":"catp","v":3}]
[492,"Botea Mihai","Braila",405.8,23.61,"A",null,null,null,{"$f":"catp","v":3}]
[536,"Tobosaru Gheorghe","Brasov",382.5,23.6,"AW",null,null,null,{"$f":"catp","v":3}]
[1699,"Metes Doru","Cluj Napoca",93.4,23.6,"A",null,null,null,{"$f":"catp","v":3}]
[1891,"Buzas Erika","Baia Mare",75.400000000000006,23.6,"AF",null,null,null,{"$f":"catp","v":3}]
[2994,"Dragu Fanel","Slobozia",23.6,23.6,"A"]
[2995,"Spasic Dejan","Belgrad",23.6,23.6,"A",null,null,null,{"$f":"catp","v":3}]
[2996,"Pavlovic Igor","Belgrad",23.6,23.6,"A",null,null,null,{"$f":"catp","v":3}]
[2997,"Cristian Minu","Onesti",23.6,23.6,"A",null,null,null,{"$f":"catp","v":3}]
[523,"Pop Danut","Dej",386.2,23.57,"AW",null,null,null,{"$f":"catp","v":3}]
[560,"Florea Bogdan","Caracal",371.4,23.55,"A",null,null,null,{"$f":"catp","v":3}]
[2275,"Oprea Bogdan","Videle",49.5,23.55,"A",null,null,null,{"$f":"catp","v":3}]
[1227,"Vaida Alin","Cluj Napoca",154.1,23.52,"A",null,null,null,{"$f":"catp","v":3}]
[1421,"Bordas Laszlo","Santionlunca",124.3,23.48,"A",null,null,null,{"$f":"catp","v":3}]
[605,"Cristofor Razvan","Moinesti",343.8,23.4,"AW",null,null,null,{"$f":"catp","v":3}]
[2477,"Olaru Aurel","Medias",40.200000000000003,23.4,"A",null,null,null,{"$f":"catp","v":3}]
[1291,"Neiconi Sabin","Hateg",143.6,23.36,"AW",null,null,null,{"$f":"catp","v":3}]
[2333,"Diaconu Dan","Hunedoara",46.7,23.35,"A",null,null,null,{"$f":"catp","v":3}]
[2334,"Marin Marian","Bucuresti",46.6,23.3,"A",null,null,null,{"$f":"catp","v":3}]
[3006,"Ublodi Mellissa","Lombardia Italia",23.3,23.3,"AF",null,null,null,{"$f":"catp","v":3}]
[3007,"Maroccoli Gaia","Lombardia Italia",23.3,23.3,"AF",null,null,null,{"$f":"catp","v":3}]
[1074,"Cocea Felix","Bucuresti",184.5,23.27,"AJ",null,null,null,{"$f":"catp","v":3}]
[813,"Cheregi Nelu","Oradea",260.10000000000002,23.26,"A",null,null,null,{"$f":"catp","v":3}]
[1450,"Predus Florin Catalin","Dabuleni",121.3,23.25,"A",null,null,null,{"$f":"catp","v":3}]
[2463,"Sivu Leonard","Bucuresti",40.799999999999997,23.25,"A",null,null,null,{"$f":"catp","v":3}]
[2482,"Unciuleac Alin","Iasi",39.9,23.25,"A",null,null,null,{"$f":"catp","v":3}]
[867,"Sava Andrei","Cluj Napoca",241.5,23.24,"A",null,null,null,{"$f":"catp","v":3}]
[1649,"Bordeianu Marius","Bucuresti",98.4,23.23,"A",null,null,null,{"$f":"catp","v":3}]
[2050,"Vita Zsolt","Gheorgheni",63.3,23.2,"A",null,null,null,{"$f":"catp","v":3}]
[2070,"Paladuta Victor","Timisoara",61.9,23.2,"A",null,null,null,{"$f":"catp","v":3}]
[2353,"Vasiloiu Sebastian","Pitesti",45.6,23.2,"A",null,null,null,{"$f":"catp","v":3}]
[3011,"Ursz Bombonel","Sibiu",23.2,23.2,"A",null,null,null,{"$f":"catp","v":3}]
[3301,"Matei Razvan","Bucuresti",17.399999999999999,23.2,"AW",null,null,null,{"$f":"catp","v":3}]
[1770,"Labutin Dmitrii","Moldova-Balti",85.3,23.17,"A",null,null,null,{"$f":"catp","v":3}]
[763,"Oancea Vasile","Buzau",273.89999999999998,23.16,"A",null,null,null,{"$f":"catp","v":3}]
[1208,"Maran Petru","Sighetu Marmatiei",157,23.1,"AW",null,null,null,{"$f":"catp","v":3}]
[2610,"Sandu Mihai","Braila",34.700000000000003,23.1,"A",null,null,null,{"$f":"catp","v":3}]
[3015,"Banu Florentin","Timisoara",23.1,23.1,"AW",null,null,null,{"$f":"catp","v":3}]
[466,"Pascalau Cristian","Huedin",423.5,23.09,"A",null,null,null,{"$f":"catp","v":3}]
[827,"Kesmarki Laszlo","Tarnaveni",254.3,23.07,"A",null,null,null,{"$f":"catp","v":3}]
[537,"Pasca Lucian","Targu Mures",381.7,23.06,"A",null,null,null,{"$f":"catp","v":3}]
[3020,"Bradusca Cornel","Targu Jiu",23,23,"AW",null,null,null,{"$f":"catp","v":3}]
[3021,"Nenestean Raul","Iasi",23,23,"A",null,null,null,{"$f":"catp","v":3}]
[3308,"Balauca Daniel","Constanta",17.3,23,"A",null,null,null,{"$f":"catp","v":3}]
[3309,"Pisica Ionel","Slobozia",17.3,23,"A",null,null,null,{"$f":"catp","v":3}]
[568,"Milos Adrian","Bocsa",368,22.98,"A",null,null,null,{"$f":"catp","v":3}]
[592,"Munteanu Corneliu","Vaslui",351.9,22.91,"A",null,null,null,{"$f":"catp","v":3}]
[701,"Spaller Tiberiu","Nasaud",293.60000000000002,22.9,"AW",null,null,null,{"$f":"catp","v":3}]
[1064,"Lungu Cristian","Oradea",186.8,22.9,"A",null,null,null,{"$f":"catp","v":3}]
[3315,"Popescu Daniel","Iasi",17.2,22.9,"A",null,null,null,{"$f":"catp","v":3}]
[1735,"Biro Attila","Targu Mures",89.6,22.85,"A",null,null,null,{"$f":"catp","v":3}]
[1903,"Mandrescu Catalin","Buhusi",74.5,22.85,"A",null,null,null,{"$f":"catp","v":3}]
[452,"Maftei Ticu","Iasi",435.7,22.83,"A",null,null,null,{"$f":"catp","v":3}]
[1453,"Sandu Eugen","Husi",120.9,22.83,"A",null,null,null,{"$f":"catp","v":3}]
[542,"Coltau Aurica","Salonta",378.9,22.82,"AF",null,null,null,{"$f":"catp","v":3}]
[601,"Calasnicov Stanislav","Moldova-Cahul",345.5,22.82,"A",null,null,null,{"$f":"catp","v":3}]
[2464,"Valcica Paul Luca","Uricani",40.799999999999997,22.8,"A",null,null,null,{"$f":"catp","v":3}]
[2620,"Sfrenti Cosmin","Drobeta Tr Severin",34.200000000000003,22.8,"A",null,null,null,{"$f":"catp","v":3}]
[895,"Seiche Lucian","Oravita",232.5,22.76,"A",null,null,null,{"$f":"catp","v":3}]
[2448,"Ianos Vlad","Bucuresti",41.4,22.75,"A",null,null,null,{"$f":"catp","v":3}]
[1608,"Filea Adonis","Sibiu",102.5,22.73,"AW",null,null,null,{"$f":"catp","v":3}]
[1755,"Serbanovici Milen","Braila",87.4,22.73,"A",null,null,null,{"$f":"catp","v":3}]
[2154,"Harabagiu Tomaso","Galati",56.8,22.7,"A",null,null,null,{"$f":"catp","v":3}]
[1534,"Roatis Gheorghe","Oradea",110.9,22.68,"A",null,null,null,{"$f":"catp","v":3}]
[2359,"Dumbrava Gabriel","Bucuresti",45.3,22.65,"A",null,null,null,{"$f":"catp","v":3}]
[1104,"Daraba Gabriel","Botosani",178.2,22.64,"A",null,null,null,{"$f":"catp","v":3}]
[829,"Milos Gianni","Alexandria",253.7,22.63,"AW",null,null,null,{"$f":"catp","v":3}]
[2454,"Hollo Istvan","Danesti",41.2,22.6,"A",null,null,null,{"$f":"catp","v":3}]
[3032,"Florea Marin","Filipestii de Targ",22.6,22.6,"A",null,null,null,{"$f":"catp","v":3}]
[3033,"Bricico Valeri","Moldova-Chisinau",22.6,22.6,"A",null,null,null,{"$f":"catp","v":3}]
[478,"Marian Ioan","Alba Iulia",417.6,22.59,"AW",null,null,null,{"$f":"catp","v":3}]
[646,"Garaz Mircea","Bistrita",321.39999999999998,22.59,"ADW",null,null,null,{"$f":"catp","v":3}]
[872,"Moldovan Aurel","Timisoara",240.5,22.59,"A",null,null,null,{"$f":"catp","v":3}]
[1619,"Cristea Alin Mihai","Bucuresti",101.7,22.58,"A",null,null,null,{"$f":"catp","v":3}]
[610,"Avramescu Bogdan","Bucuresti",341.5,22.57,"A",null,null,null,{"$f":"catp","v":3}]
[1167,"Terente Catalin","Piatra Neamt",164.7,22.56,"AW",null,null,null,{"$f":"catp","v":3}]
[459,"Ene Florin","Ploiesti",429.9,22.54,"A",null,null,null,{"$f":"catp","v":3}]
[1477,"Nechita Tudor","Cluj Napoca",118.2,22.5,"AJ",null,null,null,{"$f":"catp","v":3}]
[1836,"Mihaila Gabriel","Radauti",80.2,22.5,"A",null,null,null,{"$f":"catp","v":3}]
[1871,"Hango Carmen","Bucuresti",77,22.5,"AF",null,null,null,{"$f":"catp","v":3}]
[635,"Mateut Vasile","Zalau",327.7,22.48,"A",null,null,null,{"$f":"catp","v":3}]
[1518,"Porumb Alexandru","Sibiu",113.2,22.48,"A",null,null,null,{"$f":"catp","v":3}]
[549,"Csiszer Tibor","Sighisoara",373.8,22.45,"A",null,null,null,{"$f":"catp","v":3}]
[1519,"Rogin Florin","Piatra Neamt",113.1,22.45,"A",null,null,null,{"$f":"catp","v":3}]
[551,"Dumitrache Ovidiu","Petrosani",373.7,22.43,"A",null,null,null,{"$f":"catp","v":3}]
[580,"Dina Alexandru","Bucuresti",360.3,22.41,"A",null,null,null,{"$f":"catp","v":3}]
[2063,"Carnu Eugen","Bacau",62.5,22.4,"AW",null,null,null,{"$f":"catp","v":3}]
[699,"Milos Andrei","Bocsa",294.2,22.39,"A",null,null,null,{"$f":"catp","v":3}]
[983,"Baran Virgil Sr","Bucuresti",208.3,22.34,"A",null,null,null,{"$f":"catp","v":3}]
[3338,"Onofrei Ionut","Iasi",16.8,22.3,"A",null,null,null,{"$f":"catp","v":3}]
[666,"Taut Ciprian","Cluj Napoca",309.3,22.28,"A",null,null,null,{"$f":"catp","v":3}]
[1305,"Grigorean Costel","Marginea",141.4,22.26,"A",null,null,null,{"$f":"catp","v":3}]
[961,"Kantor Imre Zoltan","Reghin",212.8,22.25,"AW",null,null,null,{"$f":"catp","v":3}]
[1337,"Moldovan Flavia","Tarnaveni",137,22.25,"AF",null,null,null,{"$f":"catp","v":3}]
[1569,"Bogdan Marian","Caransebes",106.7,22.25,"A",null,null,null,{"$f":"catp","v":3}]
[3053,"Botezan Vlad","Ludus",22.2,22.2,"A",null,null,null,{"$f":"catp","v":3}]
[3054,"Leteanu Marius","Bacau",22.2,22.2,"A",null,null,null,{"$f":"catp","v":3}]
[3055,"Radulescu Eugeniu","Turda",22.2,22.2,"A",null,null,null,{"$f":"catp","v":3}]
[506,"Ababei Razvan","Iasi",397.6,22.17,"A",null,null,null,{"$f":"catp","v":3}]
[1163,"Popa Mircea","Brasov",165.7,22.15,"AW",null,null,null,{"$f":"catp","v":3}]
[2174,"Burlacu Diana","Buzau",55.4,22.15,"AF",null,null,null,{"$f":"catp","v":3}]
[1523,"Bozga Viorel","Dobric",112.7,22.13,"A",null,null,null,{"$f":"catp","v":3}]
[1451,"Babes Razvan","Brasov",121,22.1,"A",null,null,null,{"$f":"catp","v":3}]
[2487,"Tudorache Constantin","Targoviste",39.6,22.1,"A",null,null,null,{"$f":"catp","v":3}]
[2716,"Florea Madalin","Bucuresti",31.4,22.1,"A",null,null,null,{"$f":"catp","v":3}]
[3058,"Chiscan Bogdan","Arad",22.1,22.1,"A",null,null,null,{"$f":"catp","v":3}]
[3349,"Babus Liviu","Ploiesti",16.600000000000001,22.1,"AW",null,null,null,{"$f":"catp","v":3}]
[674,"Toader Ovidiu","Balan",304.89999999999998,22.08,"A",null,null,null,{"$f":"catp","v":3}]
[1725,"Manu Nicolae","Resita",90.2,22.08,"A",null,null,null,{"$f":"catp","v":3}]
[988,"Pop Alexandru","Bucuresti",207.4,22.07,"A",null,null,null,{"$f":"catp","v":3}]
[1514,"Simandi Cosmin","Alba Iulia",114,22.07,"A",null,null,null,{"$f":"catp","v":3}]
[761,"Petre Catalin","Bucuresti",274.5,22.06,"A",null,null,null,{"$f":"catp","v":3}]
[1290,"Ambrus Zoltan","Miercurea Ciuc",144,22.03,"A",null,null,null,{"$f":"catp","v":3}]
[1555,"Bodea Vasile","Panciu",108.2,22.03,"AW",null,null,null,{"$f":"catp","v":3}]
[716,"Stoica Sandel","Focsani",288.3,22.02,"A",null,null,null,{"$f":"catp","v":3}]
[1220,"Stoica Liviu Gabriel","Slobozia",154.69999999999999,22.02,"A",null,null,null,{"$f":"catp","v":3}]
[696,"Besliu Alexandru","Suceava",295.10000000000002,22.01,"A",null,null,null,{"$f":"catp","v":3}]
[1141,"Borbeiu Raul","Baia Mare",171.1,21.98,"A",null,null,null,{"$f":"catp","v":3}]
[1209,"Olteanu Gabriel","Vaslui",156.9,21.98,"A",null,null,null,{"$f":"catp","v":3}]
[496,"Baican Cristian","Cluj Napoca",403.8,21.97,"A",null,null,null,{"$f":"catp","v":3}]
[1284,"Suciu Iacob","Blaj",145.1,21.95,"A",null,null,null,{"$f":"catp","v":3}]
[1119,"Melinte Gabriel","Iasi",175.3,21.94,"A",null,null,null,{"$f":"catp","v":3}]
[1670,"Ivascu Cosmin","Viseu",97,21.93,"A",null,null,null,{"$f":"catp","v":3}]
[1862,"Majeru Gabriel","Radauti",77.599999999999994,21.93,"AW",null,null,null,{"$f":"catp","v":3}]
[609,"Cserei Stefan","Apahida",342.1,21.91,"A",null,null,null,{"$f":"catp","v":3}]
[2127,"Savciuc Alexandru","Moldova-Balti",59.2,21.9,"A",null,null,null,{"$f":"catp","v":3}]
[3064,"Kupas Erno","Sarmasag",21.9,21.9,"A",null,null,null,{"$f":"catp","v":3}]
[3065,"Valimareanu Eduard","Satu Mare",21.9,21.9,"A",null,null,null,{"$f":"catp","v":3}]
[3357,"Covaci Paul","Cehu Silvaniei",16.5,21.9,"A",null,null,null,{"$f":"catp","v":3}]
[689,"Colceru Paul","Comanesti",299.39999999999998,21.82,"A",null,null,null,{"$f":"catp","v":3}]
[612,"Man Ionut","Dej",341.1,21.81,"A",null,null,null,{"$f":"catp","v":3}]
[874,"Ciobanu David Florin","Gura Humorului",240.4,21.81,"A",null,null,null,{"$f":"catp","v":3}]
[3069,"Pop Cornel","Zalau",21.8,21.8,"A",null,null,null,{"$f":"catp","v":3}]
[615,"Calasnicov Matvei","Moldova-Cahul",338.9,21.79,"AJ",null,null,null,{"$f":"catp","v":3}]
[1575,"Ciobescu Gabriel Radu","Targu Jiu",106,21.76,"A",null,null,null,{"$f":"catp","v":3}]
[683,"Balasoiu Liviu","Novaci",301.8,21.73,"A",null,null,null,{"$f":"catp","v":3}]
[2104,"Stoinea Iulian","Bucuresti",60,21.73,"A",null,null,null,{"$f":"catp","v":3}]
[2092,"Neagu Ioan Adrian","Slatina Timis",61,21.7,"A",null,null,null,{"$f":"catp","v":3}]
[2528,"Pacuraru Cristian","Suceava",38.1,21.7,"A",null,null,null,{"$f":"catp","v":3}]
[3075,"Nagy Lorincz","Carei",21.7,21.7,"AW",null,null,null,{"$f":"catp","v":3}]
[3366,"Chiriac Nastase","Galati",16.3,21.7,"A",null,null,null,{"$f":"catp","v":3}]
[637,"Gipsy King","Hunedoara",326.5,21.68,"AW",null,null,null,{"$f":"catp","v":3}]
[765,"Matei Alin","Arad",273.7,21.67,"A",null,null,null,{"$f":"catp","v":3}]
[2012,"Keresztes Attila","Micfalau",65.7,21.67,"A",null,null,null,{"$f":"catp","v":3}]
[479,"Caranfilian Migo","Bucuresti",417.2,21.66,"AW",null,null,null,{"$f":"catp","v":3}]
[2328,"Tokai Laszlo","Oradea",46.8,21.65,"A",null,null,null,{"$f":"catp","v":3}]
[566,"Dobinda Alexandru","Arad",368.8,21.63,"AW",null,null,null,{"$f":"catp","v":3}]
[1893,"Havris Marius","Botosani",75.2,21.63,"A",null,null,null,{"$f":"catp","v":3}]
[2128,"Blaga Radu","Zalau",59.2,21.63,"A",null,null,null,{"$f":"catp","v":3}]
[3076,"Teris Valeriu","Comanesti",21.6,21.6,"A",null,null,null,{"$f":"catp","v":3}]
[3077,"Arnaut Alexandr","Moldova-Avdarma",21.6,21.6,"A",null,null,null,{"$f":"catp","v":3}]
[1346,"Solovastru Gabriel","Gura Humorului",135.69999999999999,21.58,"A",null,null,null,{"$f":"catp","v":3}]
[740,"Badiu Gavril","Rasca",281,21.55,"A",null,null,null,{"$f":"catp","v":3}]
[797,"Tedi Ioja","Calan",265.39999999999998,21.55,"A",null,null,null,{"$f":"catp","v":3}]
[830,"Preda Nicolae","Curtea de Arges",253.7,21.54,"A",null,null,null,{"$f":"catp","v":3}]
[464,"Tofeni Florin","Chichis",425,21.52,"A",null,null,null,{"$f":"catp","v":3}]
[889,"Gavriliuc Daniel","Botosani",235.4,21.51,"A",null,null,null,{"$f":"catp","v":3}]
[3079,"Stamate Eduard","Tecuci",21.5,21.5,"A",null,null,null,{"$f":"catp","v":3}]
[3080,"Susnea Catalin","Tecuci",21.5,21.5,"A",null,null,null,{"$f":"catp","v":3}]
[3081,"Gaman Catalin","Moinesti",21.5,21.5,"A",null,null,null,{"$f":"catp","v":3}]
[1964,"Solomon David","Cluj Napoca",70.2,21.43,"A",null,null,null,{"$f":"catp","v":3}]
[724,"Georgescu Robert Stefan","Bucuresti",286.2,21.4,"A",null,null,null,{"$f":"catp","v":3}]
[1637,"Cojocaru Andru","Targoviste",99.7,21.4,"A",null,null,null,{"$f":"catp","v":3}]
[3083,"Galan Andreea","Vatra Dornei",21.4,21.4,"ALFJ",null,null,null,{"$f":"catp","v":3}]
[3084,"Danila Florin","Cugir",21.4,21.4,"A",null,null,null,{"$f":"catp","v":3}]
[1730,"Virlan Liviu","Timisoara",89.9,21.37,"A",null,null,null,{"$f":"catp","v":3}]
[1303,"Stoian Sorin","Curtea de Arges",141.9,21.36,"A",null,null,null,{"$f":"catp","v":3}]
[2112,"Anastasiu Mircea","Bucuresti",59.7,21.35,"A",null,null,null,{"$f":"catp","v":3}]
[1981,"Silaghi Matei","Dumbravita",68.3,21.33,"A",null,null,null,{"$f":"catp","v":3}]
[1440,"Wengritsky Zsuzsanna","Joseni",122.3,21.32,"AF",null,null,null,{"$f":"catp","v":3}]
[484,"Dorcu Emanuel","Tamaseni",413.4,21.3,"A",null,null,null,{"$f":"catp","v":3}]
[2422,"Antal Martin","Tarcaia",42.6,21.3,"A",null,null,null,{"$f":"catp","v":3}]
[480,"Antochi Iulian","Tamaseni",417.2,21.29,"A",null,null,null,{"$f":"catp","v":3}]
[849,"Covaci Vasile","Sighisoara",247.3,21.29,"A",null,null,null,{"$f":"catp","v":3}]
[1321,"Mihaila Mihai","Radauti",138.80000000000001,21.28,"A",null,null,null,{"$f":"catp","v":3}]
[1255,"Anghel Valentin","Voluntari",150.5,21.26,"A",null,null,null,{"$f":"catp","v":3}]
[764,"Baluta Silviu","Bucuresti",273.89999999999998,21.25,"AW",null,null,null,{"$f":"catp","v":3}]
[1597,"Mihai Ion","Bucuresti",103.5,21.25,"A",null,null,null,{"$f":"catp","v":3}]
[1983,"Neicu Gheorghe","Bucuresti",68.2,21.25,"A",null,null,null,{"$f":"catp","v":3}]
[2702,"Lascau Ramon","Constanta",31.9,21.25,"A",null,null,null,{"$f":"catp","v":3}]
[1151,"Cibotariu Bogdan","Piatra Neamt",167.8,21.23,"A",null,null,null,{"$f":"catp","v":3}]
[2200,"Veres Adrian","Timisoara",53.6,21.23,"A",null,null,null,{"$f":"catp","v":3}]
[933,"Oanta Daniel","Baia Mare",219.8,21.2,"AD",null,null,null,{"$f":"catp","v":3}]
[1658,"Levinta Iurie","Moldova-Leova",97.5,21.2,"A",null,null,null,{"$f":"catp","v":3}]
[2506,"Rusanovschi Andrei","Moldova-Edinet",39,21.2,"A",null,null,null,{"$f":"catp","v":3}]
[2636,"Sutoris Cornel","Medias",33.6,21.2,"AW",null,null,null,{"$f":"catp","v":3}]
[3098,"Munteanu Corneliu","Harlau",21.2,21.2,"A",null,null,null,{"$f":"catp","v":3}]
[3381,"Lupascu Constantin","Iasi",15.9,21.2,"A",null,null,null,{"$f":"catp","v":3}]
[625,"Vidrut Ioan","Apahida",334.1,21.17,"AW",null,null,null,{"$f":"catp","v":3}]
[593,"Lucic Corneliu","Suceava",351.8,21.15,"ADW",null,null,null,{"$f":"catp","v":3}]
[1100,"Cojocaru Ion","Ploiesti",179.1,21.13,"A",null,null,null,{"$f":"catp","v":3}]
[1232,"Kraider Helmuth","Resita",153.30000000000001,21.13,"A",null,null,null,{"$f":"catp","v":3}]
[1478,"Andras Nicolae","Oradea",117.9,21.13,"A",null,null,null,{"$f":"catp","v":3}]
[2216,"Fedot Valentin","Tulcea",52.3,21.13,"A",null,null,null,{"$f":"catp","v":3}]
[3382,"Vilcu Dragos","Bucuresti",15.9,21.1,"A",null,null,null,{"$f":"catp","v":3}]
[1979,"Vladianu Marian","Iasi",68.599999999999994,21.05,"A",null,null,null,{"$f":"catp","v":3}]
[2434,"Muresan Carmen","Zalau",42.1,21.05,"AF",null,null,null,{"$f":"catp","v":3}]
[2709,"Vig Andrei","Simleu Silvaniei",31.6,21.05,"A",null,null,null,{"$f":"catp","v":3}]
[1969,"Effler Stefan","Arad",69.599999999999994,21.03,"A",null,null,null,{"$f":"catp","v":3}]
[1529,"Moisuc Catalin","Fratautii Noi",111.7,21,"A",null,null,null,{"$f":"catp","v":3}]
[2564,"Rus Andrei","Brasov",36.799999999999997,21,"A",null,null,null,{"$f":"catp","v":3}]
[3107,"Congiu Luigi","Italia",21,21,"A",null,null,null,{"$f":"catp","v":3}]
[3387,"Mocanu David","Bucuresti",15.8,21,"A",null,null,null,{"$f":"catp","v":3}]
[985,"Cocan Mircea","Bucuresti",207.8,20.97,"A",null,null,null,{"$f":"catp","v":3}]
[1091,"Petrache Radu","Blaj",181.3,20.96,"A",null,null,null,{"$f":"catp","v":3}]
[1713,"Szilagyi Attila","Targu Mures",91.9,20.95,"A",null,null,null,{"$f":"catp","v":3}]
[2438,"Amarinei Sorin","Galati",41.9,20.95,"AW",null,null,null,{"$f":"catp","v":3}]
[588,"Ionescu Cristian","Ulmi",354.6,20.94,"A",null,null,null,{"$f":"catp","v":3}]
[739,"Darosi Alin","Bistrita",281.10000000000002,20.9,"A",null,null,null,{"$f":"catp","v":3}]
[1954,"Tertea Andrei","Moldova-Balti",71.099999999999994,20.9,"A",null,null,null,{"$f":"catp","v":3}]
[2083,"Andrei Ionut","Pitesti",61.3,20.9,"A",null,null,null,{"$f":"catp","v":3}]
[562,"Sabau Radu","Cluj Napoca",370.6,20.89,"AW",null,null,null,{"$f":"catp","v":3}]
[684,"Popescu Florian Catalin","Bucuresti",301,20.88,"A",null,null,null,{"$f":"catp","v":3}]
[1330,"Ivascu Ioan","Viseu",137.69999999999999,20.88,"A",null,null,null,{"$f":"catp","v":3}]
[788,"Loghin Sergiu","Pascani",267.10000000000002,20.87,"A",null,null,null,{"$f":"catp","v":3}]
[1732,"Rognean Rafael Alex","Oravita",89.8,20.87,"A",null,null,null,{"$f":"catp","v":3}]
[1430,"Toader Daniel Mihai","Alba Iulia",123.2,20.85,"A",null,null,null,{"$f":"catp","v":3}]
[733,"Maresi Cristian","Targu Jiu",282.60000000000002,20.81,"A",null,null,null,{"$f":"catp","v":3}]
[865,"Buie Laurentiu","Arad",241.7,20.81,"A",null,null,null,{"$f":"catp","v":3}]
[1153,"Varga Florian","Gherla",167.4,20.8,"A",null,null,null,{"$f":"catp","v":3}]
[2074,"Fulop Laszlo","Targu Mures",61.6,20.8,"A",null,null,null,{"$f":"catp","v":3}]
[1360,"Fritz Costel","Slobozia",132.80000000000001,20.78,"A",null,null,null,{"$f":"catp","v":3}]
[1621,"Balaban Adrian","Bucuresti",101.5,20.78,"A",null,null,null,{"$f":"catp","v":3}]
[495,"Manoila Adrian","Iasi",404.9,20.75,"A",null,null,null,{"$f":"catp","v":3}]
[815,"Onofrei Petru","Gherla",259.7,20.73,"AW",null,null,null,{"$f":"catp","v":3}]
[2034,"Tebeica Ionut","Bucuresti",64.400000000000006,20.73,"A",null,null,null,{"$f":"catp","v":3}]
[650,"Gihan Sefcati","Popesti Leordeni",318.10000000000002,20.72,"A",null,null,null,{"$f":"catp","v":3}]
[2335,"Kreitler Zoltan","Arad",46.6,20.7,"A",null,null,null,{"$f":"catp","v":3}]
[2299,"Boian Vlad","Bucuresti",48.3,20.65,"A",null,null,null,{"$f":"catp","v":3}]
[1405,"Codreanu George","Tecuci",126,20.63,"A",null,null,null,{"$f":"catp","v":3}]
[569,"Voicila Adrian","Ploiesti",366.4,20.61,"AW",null,null,null,{"$f":"catp","v":3}]
[993,"Vasiliu Alin","Panciu",206,20.6,"A",null,null,null,{"$f":"catp","v":3}]
[1364,"Petrache Claudiu","Branesti",132.5,20.58,"A",null,null,null,{"$f":"catp","v":3}]
[852,"Sofian Corneliu","Suceava",246.3,20.57,"AW",null,null,null,{"$f":"catp","v":3}]
[589,"Lazar Mihai","Alexandria",354.2,20.55,"A",null,null,null,{"$f":"catp","v":3}]
[1309,"Rosoga Ana","Constanta",140.69999999999999,20.55,"AF",null,null,null,{"$f":"catp","v":3}]
[1887,"Ficleanu Gabriel","Giurgiu",75.8,20.55,"AW",null,null,null,{"$f":"catp","v":3}]
[2457,"Cornea Marian","Constanta",41,20.5,"A",null,null,null,{"$f":"catp","v":3}]
[3129,"Andoni Grigore","Moldova-Straseni",20.5,20.5,"A",null,null,null,{"$f":"catp","v":3}]
[3409,"Csiszar Zsolt","Targu Secuiesc",15.4,20.5,"AF",null,null,null,{"$f":"catp","v":3}]
[1697,"Ciobanu Cosmin","Cristian SB",93.6,20.47,"A",null,null,null,{"$f":"catp","v":3}]
[621,"Ghete Alexandru","Timisoara",336.9,20.46,"A",null,null,null,{"$f":"catp","v":3}]
[1409,"Kristof Daniel","Oradea",125.4,20.46,"A",null,null,null,{"$f":"catp","v":3}]
[1563,"Neagu Mircea","Iasi",107.3,20.45,"A",null,null,null,{"$f":"catp","v":3}]
[1694,"Kiss David","Miercurea Ciuc",94,20.45,"A",null,null,null,{"$f":"catp","v":3}]
[1790,"Rusu Lucian","Suceava",84,20.45,"AW",null,null,null,{"$f":"catp","v":3}]
[1301,"Morosan Mihai","Granicesti",142.19999999999999,20.440000000000001,"A",null,null,null,{"$f":"catp","v":3}]
[1271,"Avram Alexandru","Dumbraveni SB",147.5,20.43,"AJ",null,null,null,{"$f":"catp","v":3}]
[1506,"Sabau Catalin","Oradea",114.7,20.43,"A",null,null,null,{"$f":"catp","v":3}]
[1745,"Nagy Attila","Suseni",88.3,20.43,"A",null,null,null,{"$f":"catp","v":3}]
[600,"Dumitru Cosmin","Bucuresti",347.2,20.41,"A",null,null,null,{"$f":"catp","v":3}]
[722,"Ilie Aurelian","Botosani",286.7,20.399999999999999,"A",null,null,null,{"$f":"catp","v":3}]
[2151,"Suliman Florin","Lumina",57.1,20.399999999999999,"A",null,null,null,{"$f":"catp","v":3}]
[2465,"Negrea Petrut","Comanesti",40.799999999999997,20.399999999999999,"A",null,null,null,{"$f":"catp","v":3}]
[3133,"Markovic Veljko","Varset",20.399999999999999,20.399999999999999,"A",null,null,null,{"$f":"catp","v":3}]
[3134,"Milentijevic Isidora","Vlajkovac",20.399999999999999,20.399999999999999,"AF",null,null,null,{"$f":"catp","v":3}]
[1582,"Galca Cristian","Iasi",105.3,20.38,"A",null,null,null,{"$f":"catp","v":3}]
[1296,"Avram Iancu","Petrosani",142.5,20.36,"A",null,null,null,{"$f":"catp","v":3}]
[1944,"Mihaila George","Bucuresti",71.900000000000006,20.350000000000001,"A",null,null,null,{"$f":"catp","v":3}]
[1192,"Lazar Dumitru","Mizil",159.4,20.32,"AW",null,null,null,{"$f":"catp","v":3}]
[824,"Ilea Dorin","Oradea",255.9,20.309999999999999,"A",null,null,null,{"$f":"catp","v":3}]
[632,"Blidariu Alin","Bucovat",329.3,20.28,"A",null,null,null,{"$f":"catp","v":3}]
[1489,"Covataru Loredan","Brasov",115.9,20.28,"A",null,null,null,{"$f":"catp","v":3}]
[887,"Vaireanu Danut Ionel","Bucuresti",235.6,20.260000000000002,"AW",null,null,null,{"$f":"catp","v":3}]
[1408,"Balici Aurel","Radauti",125.7,20.239999999999998,"A",null,null,null,{"$f":"catp","v":3}]
[1392,"Talmaciu Florin","Sibiu",128.69999999999999,20.2,"A",null,null,null,{"$f":"catp","v":3}]
[2268,"Constantin Mihaela","Bucuresti",49.9,20.2,"AF",null,null,null,{"$f":"catp","v":3}]
[3145,"Clontea Mircea","Victoria",20.2,20.2,"A",null,null,null,{"$f":"catp","v":3}]
[640,"Husarciuc Marc","Suceava",325.39999999999998,20.149999999999999,"AJ",null,null,null,{"$f":"catp","v":3}]
[682,"Popa Andrei Mihai","Ploiesti",302.5,20.149999999999999,"A",null,null,null,{"$f":"catp","v":3}]
[2574,"Contiu Mircea","Brasov",36.4,20.149999999999999,"A",null,null,null,{"$f":"catp","v":3}]
[1297,"Iacobut Catalin","Bacau",142.5,20.14,"A",null,null,null,{"$f":"catp","v":3}]
[1933,"Vrasti Iulian","Ploiesti",73,20.13,"A",null,null,null,{"$f":"catp","v":3}]
[511,"Gavril Claudiu","Bucuresti",392.9,20.11,"A",null,null,null,{"$f":"catp","v":3}]
[910,"Ciocani Rafael","Sannicolau Mare",224.7,20.100000000000001,"A",null,null,null,{"$f":"catp","v":3}]
[2583,"Onofrei Andrei","Medgidia",36.1,20.100000000000001,"A",null,null,null,{"$f":"catp","v":3}]
[522,"Comsa Aurel","Nedelea",386.3,20.059999999999999,"A",null,null,null,{"$f":"catp","v":3}]
[1513,"Boicu Eduard","Vaslui",114.1,20.05,"A",null,null,null,{"$f":"catp","v":3}]
[1947,"Bendris Nicu","Targu Mures",71.7,20.05,"A",null,null,null,{"$f":"catp","v":3}]
[2750,"Palfi Zsolt","Oradea",30.1,20.05,"A",null,null,null,{"$f":"catp","v":3}]
[2751,"Robu Sergiu","Iasi",30.1,20.05,"A",null,null,null,{"$f":"catp","v":3}]
[2053,"Ilie Florian","Voluntari",63.2,20.03,"A",null,null,null,{"$f":"catp","v":3}]
[630,"Dumitrescu Marius","Timisoara",330,20.02,"A",null,null,null,{"$f":"catp","v":3}]
[1229,"Enescu Robert","Vulcana Bai",153.69999999999999,20,"A",null,null,null,{"$f":"catp","v":3}]
[1796,"Apostol Stefan Leonard","Alexandria",83.6,20,"A",null,null,null,{"$f":"catp","v":3}]
[2598,"Costea Stefan","Tarnaveni",35.299999999999997,20,"A",null,null,null,{"$f":"catp","v":3}]
[1459,"Meggyes Andras","Sovata",119.9,19.98,"A",null,null,null,{"$f":"catp","v":3}]
[1832,"Vieriu Mirel","Focsani",80.5,19.97,"A",null,null,null,{"$f":"catp","v":3}]
[510,"Susman Dan","Alba Iulia",393.7,19.96,"A",null,null,null,{"$f":"catp","v":3}]
[1065,"Benko Jozsef","Reghin",186.8,19.940000000000001,"A",null,null,null,{"$f":"catp","v":3}]
[747,"Botas Constantin","Sannicolau Mare",277.89999999999998,19.920000000000002,"A",null,null,null,{"$f":"catp","v":3}]
[1499,"Coaja Matei","Bucuresti",115.2,19.899999999999999,"AJ",null,null,null,{"$f":"catp","v":3}]
[1710,"Nichifor Ianis","Bucuresti",92.2,19.899999999999999,"A",null,null,null,{"$f":"catp","v":3}]
[3158,"Mihaila Romeo","Iasi",19.899999999999999,19.899999999999999,"A",null,null,null,{"$f":"catp","v":3}]
[890,"Lungu Adrian","Nasaud",235.3,19.86,"A",null,null,null,{"$f":"catp","v":3}]
[678,"Peiciu Vasile","Tulcea",304.2,19.850000000000001,"A",null,null,null,{"$f":"catp","v":3}]
[1659,"Gorasciuc Marius","Hurjuieni",97.5,19.850000000000001,"A",null,null,null,{"$f":"catp","v":3}]
[1406,"Dragan Marius","Hunedoara",126,19.829999999999998,"A",null,null,null,{"$f":"catp","v":3}]
[1857,"Chirca Alexandru","Mioveni",78.099999999999994,19.829999999999998,"A",null,null,null,{"$f":"catp","v":3}]
[508,"Stoicescu Gheorghe","Iedera",396.8,19.82,"A",null,null,null,{"$f":"catp","v":3}]
[851,"Grecu Cornel","Bistrita",246.6,19.809999999999999,"AW",null,null,null,{"$f":"catp","v":3}]
[1272,"Popoi Ionut","Moinesti",147.30000000000001,19.78,"A",null,null,null,{"$f":"catp","v":3}]
[2490,"Dascalu Cosmin Stefan","Cluj Napoca",39.5,19.75,"A",null,null,null,{"$f":"catp","v":3}]
[2616,"Simiganovschi Codrut","Toplita",34.4,19.75,"A",null,null,null,{"$f":"catp","v":3}]
[654,"Dospinescu George","Sibiu",316.89999999999998,19.7,"AW",null,null,null,{"$f":"catp","v":3}]
[2196,"Man Stefan","Medias",54,19.7,"A",null,null,null,{"$f":"catp","v":3}]
[3165,"Cecan Leonid","Moldova-Drochia",19.7,19.7,"A",null,null,null,{"$f":"catp","v":3}]
[1564,"Vlaicu Daniel","Marghita",107.2,19.68,"A",null,null,null,{"$f":"catp","v":3}]
[1013,"Darosi Robert","Bistrita",199.6,19.63,"A",null,null,null,{"$f":"catp","v":3}]
[706,"Cili Denis","Ludus",292.89999999999998,19.62,"A",null,null,null,{"$f":"catp","v":3}]
[1378,"Blaj Cristian","Slatina Timis",130.5,19.600000000000001,"A",null,null,null,{"$f":"catp","v":3}]
[2036,"Bradean Toma","Arad",64.2,19.600000000000001,"A",null,null,null,{"$f":"catp","v":3}]
[3170,"Boaca Danut","Buzau",19.600000000000001,19.600000000000001,"AW",null,null,null,{"$f":"catp","v":3}]
[3171,"Dumitru Anca Elena","Buzau",19.600000000000001,19.600000000000001,"AF",null,null,null,{"$f":"catp","v":3}]
[998,"Suciu Florin","Sibiu",204.4,19.59,"A",null,null,null,{"$f":"catp","v":3}]
[823,"Borbil Octavian","Sibiu",256.10000000000002,19.579999999999998,"A",null,null,null,{"$f":"catp","v":3}]
[604,"Rakosi Istvan","Zalau",344.5,19.559999999999999,"A",null,null,null,{"$f":"catp","v":3}]
[2277,"Becleanu Octavian","Bucuresti",49.2,19.55,"A",null,null,null,{"$f":"catp","v":3}]
[2621,"Rusti Catalin","Suceava",34.200000000000003,19.55,"AW",null,null,null,{"$f":"catp","v":3}]
[697,"Gheozdan Daniel","Bucuresti",294.8,19.52,"A",null,null,null,{"$f":"catp","v":3}]
[707,"Huszar Sabin Robert","Ocna Mures",292.7,19.52,"A",null,null,null,{"$f":"catp","v":3}]
[1313,"Teodorescu Marian","Bucuresti",140.30000000000001,19.5,"A",null,null,null,{"$f":"catp","v":3}]
[1675,"Antal Kevin Martin","Tarcaia",96.4,19.5,"A",null,null,null,{"$f":"catp","v":3}]
[1778,"Popescu Razvan","Dumbravita",84.9,19.5,"A",null,null,null,{"$f":"catp","v":3}]
[3174,"Vlad Florin","Arad",19.5,19.5,"AW",null,null,null,{"$f":"catp","v":3}]
[3175,"Centea Razvan","Zalau",19.5,19.5,"A",null,null,null,{"$f":"catp","v":3}]
[3457,"Rusu Mihai","Floresti",14.7,19.5,"A",null,null,null,{"$f":"catp","v":3}]
[1937,"Rochian Andrei","Giroc",72.599999999999994,19.47,"A",null,null,null,{"$f":"catp","v":3}]
[1715,"Adam Florin","Targoviste",91.5,19.46,"AW",null,null,null,{"$f":"catp","v":3}]
[2056,"Vlasceanu Valentin","Darmanesti",62.9,19.45,"A",null,null,null,{"$f":"catp","v":3}]
[2511,"Badea Catalin","Dumbravita",38.9,19.45,"A",null,null,null,{"$f":"catp","v":3}]
[1460,"Drugas Laurentiu Florin","Bucuresti",119.8,19.440000000000001,"A",null,null,null,{"$f":"catp","v":3}]
[1071,"Cojocaru Stefan","Targu Jiu",185.2,19.41,"A",null,null,null,{"$f":"catp","v":3}]
[1083,"Dumitrescu Robert Nicolae","Bucuresti",183,19.41,"A",null,null,null,{"$f":"catp","v":3}]
[1122,"Sandu Marcel","Sighisoara",175.1,19.41,"A",null,null,null,{"$f":"catp","v":3}]
[819,"Voinea Ionut","Harsova",258,19.399999999999999,"A",null,null,null,{"$f":"catp","v":3}]
[2647,"Chiron Adrian","Bucuresti",33.1,19.399999999999999,"A",null,null,null,{"$f":"catp","v":3}]
[2703,"Balasa Andrei","Bucuresti",31.8,19.399999999999999,"A",null,null,null,{"$f":"catp","v":3}]
[2962,"Cazac Iulia","Moldova-Briceni",24.4,19.399999999999999,"AF",null,null,null,{"$f":"catp","v":3}]
[3180,"Pascaru Mihai","Barlad",19.399999999999999,19.399999999999999,"A",null,null,null,{"$f":"catp","v":3}]
[3181,"Pirvu Marian","Caracal",19.399999999999999,19.399999999999999,"A",null,null,null,{"$f":"catp","v":3}]
[3182,"Bartic Stefan","Mogosesti",19.399999999999999,19.399999999999999,"A",null,null,null,{"$f":"catp","v":3}]
[3183,"Romanova Daria","Ucraina-Umani",19.399999999999999,19.399999999999999,"AF",null,null,null,{"$f":"catp","v":3}]
[1159,"Stefan Frosin","Vaslui",166.5,19.39,"A",null,null,null,{"$f":"catp","v":3}]
[838,"Caramidaru Daniel","Constanta",252.6,19.34,"AW",null,null,null,{"$f":"catp","v":3}]
[2072,"Patapi Alexandru Sr","Moldova-Edinet",61.7,19.3,"A",null,null,null,{"$f":"catp","v":3}]
[2625,"Tala Medard","Micfalau",34,19.3,"A",null,null,null,{"$f":"catp","v":3}]
[3185,"Dobrincu Vlad","Iasi",19.3,19.3,"A",null,null,null,{"$f":"catp","v":3}]
[3186,"Draghita Marius","Cugir",19.3,19.3,"A",null,null,null,{"$f":"catp","v":3}]
[3187,"Barau Cristi","Odobesti",19.3,19.3,"A",null,null,null,{"$f":"catp","v":3}]
[2253,"Florescu Ionut","Craiova",50.3,19.25,"A",null,null,null,{"$f":"catp","v":3}]
[1486,"Bartos Csongor","Miercurea Ciuc",116.6,19.23,"A",null,null,null,{"$f":"catp","v":3}]
[2042,"Fulop Nimrod","Cristuru Secuiesc",63.6,19.23,"ALJ",null,null,null,{"$f":"catp","v":3}]
[538,"Dinu Gheorghe","Bucuresti",381.1,19.21,"AW",null,null,null,{"$f":"catp","v":3}]
[3193,"Cadar Ioan","Cluj Napoca",19.2,19.2,"AW",null,null,null,{"$f":"catp","v":3}]
[3194,"Christova Raia","Bulgaria",19.2,19.2,"AF",null,null,null,{"$f":"catp","v":3}]
[3195,"Todoran Matei","Medias",19.2,19.2,"A",null,null,null,{"$f":"catp","v":3}]
[3470,"Ionescu Mihail","Belgia",14.4,19.2,"A",null,null,null,{"$f":"catp","v":3}]
[1120,"Oprean Andrei","Brad",175.2,19.190000000000001,"AW",null,null,null,{"$f":"catp","v":3}]
[1211,"Hudyma Ihor","Odesa",156.4,19.170000000000002,"A",null,null,null,{"$f":"catp","v":3}]
[579,"Fusca Georgian","Targoviste",360.7,19.12,"A",null,null,null,{"$f":"catp","v":3}]
[2526,"Melnic Filip","Moldova-Chisinau",38.200000000000003,19.100000000000001,"A",null,null,null,{"$f":"catp","v":3}]
[3197,"Burlacu Eduard","Ramnicu Sarat",19.100000000000001,19.100000000000001,"A",null,null,null,{"$f":"catp","v":3}]
[1146,"Man Florin","Dej",169.8,19.059999999999999,"A",null,null,null,{"$f":"catp","v":3}]
[1598,"Lupescu Nicolae","Reghin",103.5,19.05,"A",null,null,null,{"$f":"catp","v":3}]
[1399,"Selaru Romeo","Alba Iulia",127.7,19.03,"AW",null,null,null,{"$f":"catp","v":3}]
[1898,"Ion Radu Bogdan","Bucuresti",74.8,19.03,"A",null,null,null,{"$f":"catp","v":3}]
[805,"Ionescu Andrei","Bucuresti",262.10000000000002,19.02,"A",null,null,null,{"$f":"catp","v":3}]
[2530,"Vuta Bogdan","Curtea de Arges",38,19,"A",null,null,null,{"$f":"catp","v":3}]
[2645,"Bratu Antonia","Buzau",33.299999999999997,19,"AF",null,null,null,{"$f":"catp","v":3}]
[2819,"Iniceru George","Targu Frumos",28.5,19,"A",null,null,null,{"$f":"catp","v":3}]
[2942,"Glogogeanu Nicolae","Craiova",24.8,19,"A",null,null,null,{"$f":"catp","v":3}]
[2976,"Imparatel Alexandru","Moldova-Chisinau",24,19,"A",null,null,null,{"$f":"catp","v":3}]
[3199,"Cretu Marian","Craiova",19,19,"A",null,null,null,{"$f":"catp","v":3}]
[3200,"Chirita Cristian","Curtea de Arges",19,19,"A",null,null,null,{"$f":"catp","v":3}]
[3201,"Brabete Danut","Deva",19,19,"A",null,null,null,{"$f":"catp","v":3}]
[3202,"Aihan Velula","Constanta",19,19,"A",null,null,null,{"$f":"catp","v":3}]
[3203,"Dragoste Dorin","Cluj Napoca",19,19,"A",null,null,null,{"$f":"catp","v":3}]
[3204,"Baicu Cristian","Bucuresti",19,19,"A",null,null,null,{"$f":"catp","v":3}]
[3205,"Klepp Lucas","Lipova",19,19,"A",null,null,null,{"$f":"catp","v":3}]
[3206,"Alexe Dan","Bucuresti",19,19,"A",null,null,null,{"$f":"catp","v":3}]
[3207,"Dragomir Marius","Targu Mures",19,19,"A",null,null,null,{"$f":"catp","v":3}]
[3208,"Serban Dumitru","Tulcea",19,19,"A",null,null,null,{"$f":"catp","v":3}]
[3209,"Balasa Flavius","Bucuresti",19,19,"A",null,null,null,{"$f":"catp","v":3}]
[3210,"Colinicenco Denis","Moldova-Basarabeasca",19,19,"A",null,null,null,{"$f":"catp","v":3}]
[3211,"Crippa Beatrice","Lombardia Italia",19,19,"AF",null,null,null,{"$f":"catp","v":3}]
[3212,"Bratu Gabriel","Italia",19,19,"A",null,null,null,{"$f":"catp","v":3}]
[3213,"Simion Catalin Cristian","Corabia",19,19,"A",null,null,null,{"$f":"catp","v":3}]
[3214,"Turcanu Eugen Dan","Iasi",19,19,"A",null,null,null,{"$f":"catp","v":3}]
[3215,"Galatanu Silviu","Cluj Napoca",19,19,"A",null,null,null,{"$f":"catp","v":3}]
[3216,"Jandrlic Andrija","Belgrad",19,19,"A",null,null,null,{"$f":"catp","v":3}]
[3217,"Berinde Paul","Satu Mare",19,19,"A",null,null,null,{"$f":"catp","v":3}]
[3218,"Berinde Raul","Satu Mare",19,19,"A",null,null,null,{"$f":"catp","v":3}]
[3219,"Raicov Cornel","Dumbravita",19,19,"A",null,null,null,{"$f":"catp","v":3}]
[3220,"Andrei Nicholas Stefan","Targoviste",19,19,"A",null,null,null,{"$f":"catp","v":3}]
[3221,"Cardas Rares","Cluj Napoca",19,19,"A",null,null,null,{"$f":"catp","v":3}]
[3222,"Onigas Ionica","Bistrita",19,19,"A",null,null,null,{"$f":"catp","v":3}]
[3223,"Aleksey Sergienko","Bucuresti",19,19,"A",null,null,null,{"$f":"catp","v":3}]
[3476,"Bratu Andrei","Brasov",14.3,19,"A",null,null,null,{"$f":"catp","v":3}]
[3477,"Peiov Petru","Timisoara",14.3,19,"AW",null,null,null,{"$f":"catp","v":3}]
[3478,"Fratila Tiberiu","Bucuresti",14.3,19,"A",null,null,null,{"$f":"catp","v":3}]
[3479,"Gazsi Adam","Marghita",14.3,19,"A",null,null,null,{"$f":"catp","v":3}]
[3480,"Sivu Cosmin","Bucuresti",14.3,19,"A",null,null,null,{"$f":"catp","v":3}]
[3481,"Hauptkorn Martin","Germania",14.3,19,"A",null,null,null,{"$f":"catp","v":3}]
[3482,"Zaharia Bogdan","Brasov",14.3,19,"A",null,null,null,{"$f":"catp","v":3}]
[3483,"Magdo Mihaly","Brasov",14.3,19,"A",null,null,null,{"$f":"catp","v":3}]
[3484,"Butiu Cristian","Bistrita",14.3,19,"A",null,null,null,{"$f":"catp","v":3}]
[3485,"Balea Alexe Marian Iulian","Podenii Vechi",14.3,19,"A",null,null,null,{"$f":"catp","v":3}]
[3486,"Gaidei Antoniu Mihai","Cluj Napoca",14.3,19,"A",null,null,null,{"$f":"catp","v":3}]
[3487,"Iancu Razvan","Arad",14.3,19,"A",null,null,null,{"$f":"catp","v":3}]
[3488,"Pataki Janos","Satu Mare",14.3,19,"A",null,null,null,{"$f":"catp","v":3}]
[3489,"Kanya Csaba","Miercurea Ciuc",14.3,19,"A",null,null,null,{"$f":"catp","v":3}]
[1075,"Halasz Lorant","Satu Mare",184.4,18.98,"A",null,null,null,{"$f":"catp","v":3}]
[1662,"Alimareanu Raul","Dumbravita",97.3,18.95,"A",null,null,null,{"$f":"catp","v":3}]
[644,"Verman Stefan","Brasov",322.7,18.940000000000001,"A",null,null,null,{"$f":"catp","v":3}]
[1044,"Albu Gheorghe","Galati",191.5,18.940000000000001,"A",null,null,null,{"$f":"catp","v":3}]
[1076,"Socaci Valentin","Lugoj",184,18.940000000000001,"A",null,null,null,{"$f":"catp","v":3}]
[1383,"Fagas Alberto","Arad",130.19999999999999,18.93,"A",null,null,null,{"$f":"catp","v":3}]
[869,"Illes Akos","Gheorgheni",241,18.920000000000002,"A",null,null,null,{"$f":"catp","v":3}]
[743,"Corabian Daniel","Cluj Napoca",279.7,18.899999999999999,"A",null,null,null,{"$f":"catp","v":3}]
[1002,"Belba Caius","Baile Herculane",203.9,18.899999999999999,"A",null,null,null,{"$f":"catp","v":3}]
[1703,"Badescu Tudor","Cluj Napoca",93.1,18.899999999999999,"A",null,null,null,{"$f":"catp","v":3}]
[2313,"Andreescu Liviu","Urlati",47.5,18.899999999999999,"A",null,null,null,{"$f":"catp","v":3}]
[2533,"Simon Gheorghe","Roman",37.799999999999997,18.899999999999999,"A",null,null,null,{"$f":"catp","v":3}]
[3231,"Balasescu Ionut","Campina",18.899999999999999,18.899999999999999,"A",null,null,null,{"$f":"catp","v":3}]
[3232,"Dinic Jovica","Zajecar Serbia",18.899999999999999,18.899999999999999,"A",null,null,null,{"$f":"catp","v":3}]
[1847,"Antal Laszlo","Miercurea Ciuc",79.3,18.88,"A",null,null,null,{"$f":"catp","v":3}]
[1414,"Scutaru Marius","Cernavoda",124.8,18.86,"A",null,null,null,{"$f":"catp","v":3}]
[817,"Tatar Dorel","Calan",258.89999999999998,18.84,"AW",null,null,null,{"$f":"catp","v":3}]
[1053,"Tirlea Gheorghe","Brasov",190.1,18.829999999999998,"A",null,null,null,{"$f":"catp","v":3}]
[1375,"Hajducsi Zoltan","Campenita",131.30000000000001,18.829999999999998,"A",null,null,null,{"$f":"catp","v":3}]
[1380,"Szabo Ovidiu","Dej",130.30000000000001,18.82,"A",null,null,null,{"$f":"catp","v":3}]
[790,"Andrei Bogdan Ion","Targoviste",266.8,18.8,"A",null,null,null,{"$f":"catp","v":3}]
[1316,"Hanganu George","Brasov",139.80000000000001,18.8,"A",null,null,null,{"$f":"catp","v":3}]
[3235,"Aprodu Lucian","Bacau",18.8,18.8,"AW",null,null,null,{"$f":"catp","v":3}]
[3236,"Farago Mihaly","Odorheiu Secuiesc",18.8,18.8,"A",null,null,null,{"$f":"catp","v":3}]
[3237,"Glisic Boris","Smederevo",18.8,18.8,"A",null,null,null,{"$f":"catp","v":3}]
[3238,"Catrinescu Florin","Ploiesti",18.8,18.8,"A",null,null,null,{"$f":"catp","v":3}]
[864,"Tabacaru Jenica","Focsani",242.3,18.78,"A",null,null,null,{"$f":"catp","v":3}]
[1880,"Preda Leo","Targoviste",76,18.78,"A",null,null,null,{"$f":"catp","v":3}]
[1490,"Tatar Iosua","Jimbolia",115.9,18.760000000000002,"A",null,null,null,{"$f":"catp","v":3}]
[1198,"Hodivoianu Marius","Bucuresti",158.5,18.75,"AW",null,null,null,{"$f":"catp","v":3}]
[2667,"Vajda Erno","Reghin",32.799999999999997,18.75,"AW",null,null,null,{"$f":"catp","v":3}]
[1589,"Mocanu Adrian","Targoviste",104.3,18.73,"A",null,null,null,{"$f":"catp","v":3}]
[1338,"Andries Ionut Alexandru","Iasi",136.9,18.7,"A",null,null,null,{"$f":"catp","v":3}]
[3243,"Acquistapace Santiago","Lombardia Italia",18.7,18.7,"A",null,null,null,{"$f":"catp","v":3}]
[3244,"Escribano Giulia","Lombardia Italia",18.7,18.7,"AF",null,null,null,{"$f":"catp","v":3}]
[3245,"Ponzi Giacomo","Lombardia Italia",18.7,18.7,"A",null,null,null,{"$f":"catp","v":3}]
[1320,"Moisuc Alexandru","Radauti",138.9,18.68,"A",null,null,null,{"$f":"catp","v":3}]
[629,"Andrea Simion","Cluj Napoca",330.3,18.63,"AF",null,null,null,{"$f":"catp","v":3}]
[2075,"Zdrenghea Mircea","Orastie",61.6,18.600000000000001,"A",null,null,null,{"$f":"catp","v":3}]
[3505,"Burcea Daniel","Lugoj",14,18.600000000000001,"A",null,null,null,{"$f":"catp","v":3}]
[2057,"Nica Alexandru","Iasi",62.9,18.579999999999998,"A",null,null,null,{"$f":"catp","v":3}]
[2348,"Pinzaru Gabriel","Botosani",45.9,18.57,"A",null,null,null,{"$f":"catp","v":3}]
[1635,"Polen Costin","Comarnic",100.1,18.55,"A",null,null,null,{"$f":"catp","v":3}]
[916,"Ipate Virgil","Bucuresti",223.5,18.54,"A",null,null,null,{"$f":"catp","v":3}]
[1502,"Bobarnac Gheorghe","Bacau",114.8,18.54,"A",null,null,null,{"$f":"catp","v":3}]
[2283,"Manescu Alexandru","Slatina",49,18.5,"A",null,null,null,{"$f":"catp","v":3}]
[2556,"Nastaca Catalin","Falticeni",37,18.5,"A",null,null,null,{"$f":"catp","v":3}]
[3249,"Stoli Nicu","Tulcea",18.5,18.5,"A",null,null,null,{"$f":"catp","v":3}]
[3250,"Casim Milena","Moldova-Avdarma",18.5,18.5,"AF",null,null,null,{"$f":"catp","v":3}]
[1595,"Socaci Silviu","Lugoj",103.9,18.48,"A",null,null,null,{"$f":"catp","v":3}]
[2097,"Lebada Doru","Arad",60.8,18.47,"A",null,null,null,{"$f":"catp","v":3}]
[1404,"Barladeanu Emil","Constanta",126.1,18.46,"A",null,null,null,{"$f":"catp","v":3}]
[1007,"Todor Csaba","Gheorgheni",202.1,18.45,"AD",null,null,null,{"$f":"catp","v":3}]
[1112,"Mutu Mario","Deva",176.5,18.45,"A",null,null,null,{"$f":"catp","v":3}]
[2562,"Popa Vlad","Piatra Neamt",36.9,18.45,"A",null,null,null,{"$f":"catp","v":3}]
[1099,"Nyaradi Attila","Sighisoara",179.2,18.43,"A",null,null,null,{"$f":"catp","v":3}]
[1663,"Tudor Mihai Maximilian","Alexandria",97.3,18.43,"A",null,null,null,{"$f":"catp","v":3}]
[1726,"Nadoleanu Pavel","Tulcea",90.2,18.43,"A",null,null,null,{"$f":"catp","v":3}]
[861,"Balasa Mihai","Sibiu",245.1,18.420000000000002,"A",null,null,null,{"$f":"catp","v":3}]
[1434,"Mincu Marian","Tulcea",123,18.420000000000002,"A",null,null,null,{"$f":"catp","v":3}]
[2693,"Visan Nicolae","Bucuresti",32.1,18.399999999999999,"A",null,null,null,{"$f":"catp","v":3}]
[3254,"Manea Dan","Constanta",18.399999999999999,18.399999999999999,"A",null,null,null,{"$f":"catp","v":3}]
[3516,"Pandelescu Eduard","Bucuresti",13.8,18.399999999999999,"A",null,null,null,{"$f":"catp","v":3}]
[1948,"Coltau Ana","Salonta",71.599999999999994,18.38,"AF",null,null,null,{"$f":"catp","v":3}]
[825,"Hoca Bogdan","Lunca Muresului",255.7,18.37,"A",null,null,null,{"$f":"catp","v":3}]
[1760,"Radovan Radu","Sannicolau Mare",86.6,18.350000000000001,"A",null,null,null,{"$f":"catp","v":3}]
[1851,"Stirbu Daniel","Braila",79,18.350000000000001,"A",null,null,null,{"$f":"catp","v":3}]
[2202,"Tudor Valeriu","Ploiesti",53.5,18.350000000000001,"A",null,null,null,{"$f":"catp","v":3}]
[657,"Nedelcu Daniel","Timisoara",316,18.309999999999999,"A",null,null,null,{"$f":"catp","v":3}]
[1103,"Popa Liviu","Bucuresti",178.3,18.309999999999999,"A",null,null,null,{"$f":"catp","v":3}]
[3260,"State Copnstantin","Targu Neamt",18.3,18.3,"A",null,null,null,{"$f":"catp","v":3}]
[692,"Hanu Viorel","Moreni",298,18.29,"A",null,null,null,{"$f":"catp","v":3}]
[1877,"Rastau Iustinian","Timisoara",76.3,18.28,"A",null,null,null,{"$f":"catp","v":3}]
[767,"Bobu Stefan Minodor","Targu Neamt",273.5,18.25,"A",null,null,null,{"$f":"catp","v":3}]
[1407,"Moldovan Nicu","Orastie",125.9,18.25,"A",null,null,null,{"$f":"catp","v":3}]
[2011,"Bradu Dan","Iasi",66,18.23,"A",null,null,null,{"$f":"catp","v":3}]
[2251,"Dumitrescu Catalin","Otopeni",50.5,18.23,"A",null,null,null,{"$f":"catp","v":3}]
[1525,"Pavel Bianca","Iasi",112.6,18.22,"AF",null,null,null,{"$f":"catp","v":3}]
[1957,"Nistoroiu Alexandru","Bucuresti",70.8,18.2,"A",null,null,null,{"$f":"catp","v":3}]
[2153,"Popescu Dan","Craiova",56.9,18.2,"A",null,null,null,{"$f":"catp","v":3}]
[2265,"Marandici Adrian","Brasov",50,18.2,"AW",null,null,null,{"$f":"catp","v":3}]
[2575,"Nutu Catalin","Targu Neamt",36.4,18.2,"A",null,null,null,{"$f":"catp","v":3}]
[3523,"Batrinu Valentin","Bucuresti",13.7,18.2,"A",null,null,null,{"$f":"catp","v":3}]
[730,"Zara Dinu","Suceava",283.3,18.16,"A",null,null,null,{"$f":"catp","v":3}]
[594,"Pop Daniel Ghe","Cluj Napoca",351.2,18.149999999999999,"AW",null,null,null,{"$f":"catp","v":3}]
[1704,"Anastasiu Constantin","Comanesti",93.1,18.13,"AW",null,null,null,{"$f":"catp","v":3}]
[979,"Dodu Costica","Focsani",209.4,18.100000000000001,"AW",null,null,null,{"$f":"catp","v":3}]
[1647,"Bratosin Lica","Faurei",98.6,18.100000000000001,"A",null,null,null,{"$f":"catp","v":3}]
[2580,"Alupoaie Dumitru","Iasi",36.200000000000003,18.100000000000001,"A",null,null,null,{"$f":"catp","v":3}]
[3266,"Vulpoi Gabriel","Targoviste",18.100000000000001,18.100000000000001,"A",null,null,null,{"$f":"catp","v":3}]
[3527,"Kardos Andras","Miercurea Ciuc",13.6,18.100000000000001,"A",null,null,null,{"$f":"catp","v":3}]
[3528,"Rusu Paul Iulian","Bilca",13.6,18.100000000000001,"A",null,null,null,{"$f":"catp","v":3}]
[2230,"Chironda Nica","Moldova-Balti",51.4,18.07,"AF",null,null,null,{"$f":"catp","v":3}]
[1240,"Damse Daniel","Oradea",152.6,18.059999999999999,"A",null,null,null,{"$f":"catp","v":3}]
[1000,"Vasiu Stefan","Alba Iulia",204.2,18.05,"A",null,null,null,{"$f":"catp","v":3}]
[2871,"Zadarojsni Remus","Oravita",27.1,18.05,"A",null,null,null,{"$f":"catp","v":3}]
[756,"Arimia Constantin","Azuga",275.5,18.04,"A",null,null,null,{"$f":"catp","v":3}]
[775,"Tegzes Robert","Stejeris",270.39999999999998,18.03,"A",null,null,null,{"$f":"catp","v":3}]
[773,"Stavarache Florentin","Pascani",270.89999999999998,18.010000000000002,"A",null,null,null,{"$f":"catp","v":3}]
[1557,"Chirila Ovidiu","Hunedoara",107.9,18,"A",null,null,null,{"$f":"catp","v":3}]
[3532,"Gimbuta Catalin","Bistrita",13.5,18,"A",null,null,null,{"$f":"catp","v":3}]
[3533,"Beican Razvan","Bistrita",13.5,18,"A",null,null,null,{"$f":"catp","v":3}]
[3534,"Garaz Razvan","Bistrita",13.5,18,"A",null,null,null,{"$f":"catp","v":3}]
[754,"Franculescu Marius","Sinaia",276.3,17.93,"A",null,null,null,{"$f":"catp","v":3}]
[782,"Fogarasi David","Baciu",269.10000000000002,17.91,"AJ",null,null,null,{"$f":"catp","v":3}]
[1395,"Ciobanu Emilian","Moldova-Cahul",128,17.899999999999999,"A",null,null,null,{"$f":"catp","v":3}]
[2717,"Moldovan Alin","Bistrita",31.4,17.899999999999999,"A",null,null,null,{"$f":"catp","v":3}]
[2876,"Peter Laszlo","Ciumani",26.9,17.899999999999999,"A",null,null,null,{"$f":"catp","v":3}]
[785,"Puisoru Victor","Bucuresti",267.7,17.88,"A",null,null,null,{"$f":"catp","v":3}]
[1199,"Ocu Ioan","Botosani",158.4,17.88,"A",null,null,null,{"$f":"catp","v":3}]
[1572,"Popescu Horia","Sinaia",106.3,17.88,"A",null,null,null,{"$f":"catp","v":3}]
[879,"Marin Marcel","Fenes",238,17.850000000000001,"A",null,null,null,{"$f":"catp","v":3}]
[2065,"Rusea Gheorghe","Breaza",62.2,17.829999999999998,"A",null,null,null,{"$f":"catp","v":3}]
[2190,"Cioloca Stefan","Reghin",54.5,17.829999999999998,"A",null,null,null,{"$f":"catp","v":3}]
[2320,"Bucurenciu Mihai","Fagaras",47.2,17.829999999999998,"A",null,null,null,{"$f":"catp","v":3}]
[1565,"Stoiciuc Codrin","Botosani",107.1,17.8,"A",null,null,null,{"$f":"catp","v":3}]
[3275,"Ionita Marian","Bucuresti",17.8,17.8,"A",null,null,null,{"$f":"catp","v":3}]
[3276,"Dima Paul","Giroc",17.8,17.8,"A",null,null,null,{"$f":"catp","v":3}]
[3277,"Sandor Attila","Odorheiu Secuiesc",17.8,17.8,"A",null,null,null,{"$f":"catp","v":3}]
[1547,"Enache Adrian","Tulcea",109.1,17.78,"A",null,null,null,{"$f":"catp","v":3}]
[1531,"Dirlau Ionut","Bacau",111.2,17.760000000000002,"A",null,null,null,{"$f":"catp","v":3}]
[2694,"Burtea Teodor Daniel","Galati",32.1,17.75,"A",null,null,null,{"$f":"catp","v":3}]
[1803,"Cocotan Vasile","Oltenita",83,17.7,"A",null,null,null,{"$f":"catp","v":3}]
[1863,"Silaghi Marc","Dumbravita",77.599999999999994,17.7,"A",null,null,null,{"$f":"catp","v":3}]
[3279,"Ticala Sorin","Aiud",17.7,17.7,"A",null,null,null,{"$f":"catp","v":3}]
[3280,"Andreica Daniel","Viseu",17.7,17.7,"A",null,null,null,{"$f":"catp","v":3}]
[705,"Suciu Andrei","Borsec",293,17.690000000000001,"AW",null,null,null,{"$f":"catp","v":3}]
[939,"Maladoi George","Tulcea",218.9,17.68,"A",null,null,null,{"$f":"catp","v":3}]
[2141,"Pop Ioan","Giroc",57.8,17.670000000000002,"A",null,null,null,{"$f":"catp","v":3}]
[2287,"Daineanu Paul","Constanta",48.9,17.670000000000002,"A",null,null,null,{"$f":"catp","v":3}]
[1294,"Negulescu Cristi","Sinaia",142.80000000000001,17.649999999999999,"A",null,null,null,{"$f":"catp","v":3}]
[2476,"Nicolaev Valerii","Moldova-Cazaclia",40.299999999999997,17.649999999999999,"A",null,null,null,{"$f":"catp","v":3}]
[2887,"Haidau Alin","Cluj Napoca",26.5,17.649999999999999,"A",null,null,null,{"$f":"catp","v":3}]
[1057,"Tin Catalin","Bucuresti",188.8,17.63,"A",null,null,null,{"$f":"catp","v":3}]
[774,"Moldoveanu Sorin Florian","Hunedoara",270.5,17.61,"A",null,null,null,{"$f":"catp","v":3}]
[1059,"Marin Doru","Iasi",188.3,17.600000000000001,"A",null,null,null,{"$f":"catp","v":3}]
[1962,"Miculita Ovidiu","Lipova",70.3,17.600000000000001,"A",null,null,null,{"$f":"catp","v":3}]
[2064,"Mitranus Ciprian","Turnu Magurele",62.3,17.600000000000001,"A",null,null,null,{"$f":"catp","v":3}]
[2266,"Stan George Catalin","Navodari",50,17.600000000000001,"A",null,null,null,{"$f":"catp","v":3}]
[3286,"Munteanu Constantin","Ramnicu Sarat",17.600000000000001,17.600000000000001,"AW",null,null,null,{"$f":"catp","v":3}]
[3287,"Savicic Lena","Belgrad",17.600000000000001,17.600000000000001,"A",null,null,null,{"$f":"catp","v":3}]
[3288,"Mrvica Ivan","Belgrad",17.600000000000001,17.600000000000001,"A",null,null,null,{"$f":"catp","v":3}]
[3289,"Popovic Sanja","Belgrad",17.600000000000001,17.600000000000001,"A",null,null,null,{"$f":"catp","v":3}]
[3290,"Cuic Biljana","Belgrad",17.600000000000001,17.600000000000001,"A",null,null,null,{"$f":"catp","v":3}]
[2076,"Chivu Radu","Bucuresti",61.6,17.579999999999998,"A",null,null,null,{"$f":"catp","v":3}]
[2204,"Rusu Tudor","Suceava",53.3,17.57,"A",null,null,null,{"$f":"catp","v":3}]
[603,"Kovacs Dorel","Remetea Mare",344.7,17.559999999999999,"A",null,null,null,{"$f":"catp","v":3}]
[639,"Matei Dumitru","Deva",325.5,17.55,"AW",null,null,null,{"$f":"catp","v":3}]
[862,"Marcu Cristian","Alba Iulia",244.8,17.55,"A",null,null,null,{"$f":"catp","v":3}]
[1132,"Grigore Mihai Alexandru","Bucuresti",173,17.55,"A",null,null,null,{"$f":"catp","v":3}]
[2602,"Ciobanu Sabin","Pascani",35.1,17.55,"A",null,null,null,{"$f":"catp","v":3}]
[2892,"Kovari Odon","Targu Mures",26.4,17.55,"A",null,null,null,{"$f":"catp","v":3}]
[2893,"Stoiciu Aurel","Resita",26.4,17.55,"A",null,null,null,{"$f":"catp","v":3}]
[717,"Padurean Mircea","Resita",288,17.52,"AW",null,null,null,{"$f":"catp","v":3}]
[1396,"Cercega Dani","Timisoara",128,17.52,"A",null,null,null,{"$f":"catp","v":3}]
[831,"Hradszki Sebastian","Sannicolau Mare",253.6,17.5,"A",null,null,null,{"$f":"catp","v":3}]
[2603,"Korodi Csaba","Aita Mare",35,17.5,"A",null,null,null,{"$f":"catp","v":3}]
[2622,"Serbanescu Bogdan","Bucuresti",34.1,17.5,"A",null,null,null,{"$f":"catp","v":3}]
[2854,"Erdei Romeo","Tasnad",27.5,17.5,"A",null,null,null,{"$f":"catp","v":3}]
[3296,"Busuioc Marian","Bucuresti",17.5,17.5,"A",null,null,null,{"$f":"catp","v":3}]
[3297,"Craiovan Victor","Resita",17.5,17.5,"A",null,null,null,{"$f":"catp","v":3}]
[3298,"Spataru Gheorghe","Moldova-Chisinau",17.5,17.5,"A",null,null,null,{"$f":"catp","v":3}]
[2138,"Dumitru Vasile Ionut","Slobozia",58.1,17.48,"A",null,null,null,{"$f":"catp","v":3}]
[702,"Spulber Bogdan Andrei","Bacau",293.3,17.47,"A",null,null,null,{"$f":"catp","v":3}]
[738,"Stanciu Mugur","Videle",281.5,17.47,"A",null,null,null,{"$f":"catp","v":3}]
[972,"Moraru Marius","Bucuresti",211,17.440000000000001,"A",null,null,null,{"$f":"catp","v":3}]
[1644,"Galatean Mircea","Bistrita",98.9,17.43,"A",null,null,null,{"$f":"catp","v":3}]
[1980,"Olaru Cristian","Targoviste",68.400000000000006,17.43,"A",null,null,null,{"$f":"catp","v":3}]
[2262,"Calciu Vasile","Craiova",50.1,17.43,"A",null,null,null,{"$f":"catp","v":3}]
[2303,"Serban Marian","Orastie",48.2,17.399999999999999,"A",null,null,null,{"$f":"catp","v":3}]
[2318,"Duca Bebe","Curtea de Arges",47.3,17.399999999999999,"A",null,null,null,{"$f":"catp","v":3}]
[2608,"Titirig Corneliu","Gura Humorului",34.799999999999997,17.399999999999999,"A",null,null,null,{"$f":"catp","v":3}]
[3302,"Simon Dani","Arad",17.399999999999999,17.399999999999999,"A",null,null,null,{"$f":"catp","v":3}]
[3303,"Gindu Claudiu","Roman",17.399999999999999,17.399999999999999,"A",null,null,null,{"$f":"catp","v":3}]
[3304,"Matei Nicu","Alexandria",17.399999999999999,17.399999999999999,"A",null,null,null,{"$f":"catp","v":3}]
[780,"Ulea Andrei","Moinesti",269.3,17.39,"A",null,null,null,{"$f":"catp","v":3}]
[1756,"Mandru Aurel","Sarmas",87.4,17.350000000000001,"A",null,null,null,{"$f":"catp","v":3}]
[2089,"Ionica Marius","Comanesti",61.1,17.350000000000001,"A",null,null,null,{"$f":"catp","v":3}]
[1200,"Pop Virgil","Cluj Napoca",158.19999999999999,17.34,"A",null,null,null,{"$f":"catp","v":3}]
[2147,"Kondort Arpad","Agnita",57.4,17.329999999999998,"A",null,null,null,{"$f":"catp","v":3}]
[1493,"Luca Eugen","Aiud",115.6,17.32,"A",null,null,null,{"$f":"catp","v":3}]
[920,"Peptea Ionut","Ghirdoveni",222.8,17.309999999999999,"A",null,null,null,{"$f":"catp","v":3}]
[1171,"Toric Constantin","Bucuresti",163.80000000000001,17.309999999999999,"A",null,null,null,{"$f":"catp","v":3}]
[860,"Bolozan Laurentiu","Braila",245.3,17.3,"AW",null,null,null,{"$f":"catp","v":3}]
[1714,"Rusu Lucian","Iasi",91.7,17.3,"A",null,null,null,{"$f":"catp","v":3}]
[3310,"Duca George","Curtea de Arges",17.3,17.3,"A",null,null,null,{"$f":"catp","v":3}]
[3311,"Crisan Beniamin","Sighetu Marmatiei",17.3,17.3,"A",null,null,null,{"$f":"catp","v":3}]
[1374,"Miu Maria","Bucuresti",131.4,17.28,"AF",null,null,null,{"$f":"catp","v":3}]
[1881,"Brateanu Liviu","Bacau",76,17.27,"AW",null,null,null,{"$f":"catp","v":3}]
[2420,"Gherman Sorin","Hida",42.7,17.27,"A",null,null,null,{"$f":"catp","v":3}]
[1217,"Baragan Vladimir","Moldova-Cahul",154.9,17.260000000000002,"A",null,null,null,{"$f":"catp","v":3}]
[1727,"Baidoc Sergiu","Zalau",90.2,17.25,"A",null,null,null,{"$f":"catp","v":3}]
[2206,"TURCU Petru","Sibiu",53.2,17.25,"A",null,null,null,{"$f":"catp","v":3}]
[982,"Marcu Florin Radu","Manasturu Romanesc",208.5,17.239999999999998,"A",null,null,null,{"$f":"catp","v":3}]
[1267,"Alb Sorin","Alba Iulia",148,17.239999999999998,"A",null,null,null,{"$f":"catp","v":3}]
[1144,"Jerebetchi Dumitru","Moldova-Cahul",170.9,17.21,"A",null,null,null,{"$f":"catp","v":3}]
[1390,"Geanta Tony","Braila",129,17.2,"A",null,null,null,{"$f":"catp","v":3}]
[3316,"Gavrilei Constantin","Pascani",17.2,17.2,"A",null,null,null,{"$f":"catp","v":3}]
[3317,"Pasconi Anton","Mintia",17.2,17.2,"A",null,null,null,{"$f":"catp","v":3}]
[3318,"Bakos Miklos","Zrenjanin",17.2,17.2,"A",null,null,null,{"$f":"catp","v":3}]
[3561,"Madescu Adrian","Drobeta Tr Severin",12.9,17.2,"A",null,null,null,{"$f":"catp","v":3}]
[3562,"Trusculescu Iarina","Drobeta Tr Severin",12.9,17.2,"ALFJ",null,null,null,{"$f":"catp","v":3}]
[3563,"Tatarus Andrei","Bucuresti",12.9,17.2,"A",null,null,null,{"$f":"catp","v":3}]
[3564,"Lungu Doru","Drobeta Tr Severin",12.9,17.2,"A",null,null,null,{"$f":"catp","v":3}]
[1708,"Flutur Ghita","Granicesti",92.4,17.18,"A",null,null,null,{"$f":"catp","v":3}]
[936,"Tose Cristian","Oradea",219.5,17.149999999999999,"A",null,null,null,{"$f":"catp","v":3}]
[1690,"Szarvas Karoly","Satu Mare",94.5,17.149999999999999,"A",null,null,null,{"$f":"catp","v":3}]
[1820,"Zugravu Mircea","Barlad",81.5,17.149999999999999,"A",null,null,null,{"$f":"catp","v":3}]
[1731,"Narcis Radu","Dej",89.9,17.13,"A",null,null,null,{"$f":"catp","v":3}]
[2058,"Mironescu Adrian","Botosani",62.8,17.13,"A",null,null,null,{"$f":"catp","v":3}]
[1246,"Simon Ioan","Giroc",151.80000000000001,17.100000000000001,"A",null,null,null,{"$f":"catp","v":3}]
[1970,"Simon Alexandru","Roman",69.599999999999994,17.100000000000001,"A",null,null,null,{"$f":"catp","v":3}]
[2456,"Pascu Marian","Bucuresti",41.1,17.100000000000001,"A",null,null,null,{"$f":"catp","v":3}]
[2782,"Stoica Florin","Bucuresti",29.3,17.100000000000001,"A",null,null,null,{"$f":"catp","v":3}]
[3059,"Axinte Claudiu","Suceava",22.1,17.100000000000001,"A",null,null,null,{"$f":"catp","v":3}]
[3323,"Muresan Iulian","Surduc",17.100000000000001,17.100000000000001,"A",null,null,null,{"$f":"catp","v":3}]
[3324,"Florida Alin Emil","Videle",17.100000000000001,17.100000000000001,"A",null,null,null,{"$f":"catp","v":3}]
[3325,"Iliev Constantin","Bulgaria",17.100000000000001,17.100000000000001,"A",null,null,null,{"$f":"catp","v":3}]
[3565,"Popescu Carol","Timisoara",12.9,17.100000000000001,"A",null,null,null,{"$f":"catp","v":3}]
[3566,"Ilinca Gabriel","Drobeta Tr Severin",12.9,17.100000000000001,"A",null,null,null,{"$f":"catp","v":3}]
[846,"Macuc Adrian","Bucuresti",249.3,17.059999999999999,"A",null,null,null,{"$f":"catp","v":3}]
[1723,"Elekes Tibor","Sebes",90.7,17.05,"A",null,null,null,{"$f":"catp","v":3}]
[1674,"Mezei Mihai","Sarmas",96.5,17.03,"A",null,null,null,{"$f":"catp","v":3}]
[1277,"Grecu Gheorghe","Bistrita",146.80000000000001,17.010000000000002,"AW",null,null,null,{"$f":"catp","v":3}]
[1177,"Craciun Dragos","Filipestii de Targ",162.6,17,"A",null,null,null,{"$f":"catp","v":3}]
[1894,"Gelei Nimrod","Odorheiu Secuiesc",75.2,17,"A",null,null,null,{"$f":"catp","v":3}]
[3329,"Zaporojan Vladimir","Moldova-Straseni",17,17,"A",null,null,null,{"$f":"catp","v":3}]
[854,"Geodescu Cosmin","Cluj Napoca",246,16.98,"A",null,null,null,{"$f":"catp","v":3}]
[875,"Constantin Valentin","Ploiesti",240.1,16.97,"A",null,null,null,{"$f":"catp","v":3}]
[2197,"Preda Razvan","Feleacu",54,16.97,"A",null,null,null,{"$f":"catp","v":3}]
[818,"Zaharia Ciprian","Piatra Neamt",258.60000000000002,16.96,"A",null,null,null,{"$f":"catp","v":3}]
[734,"Trandafir Mirel","Valea Lunga",282.39999999999998,16.940000000000001,"A",null,null,null,{"$f":"catp","v":3}]
[673,"Marginean Cornel","Cluj Napoca",305.60000000000002,16.93,"AW",null,null,null,{"$f":"catp","v":3}]
[1370,"Lepadatu Gheorghe","Pascani",131.80000000000001,16.899999999999999,"A",null,null,null,{"$f":"catp","v":3}]
[2145,"Moldovan Doru","Dej",57.5,16.899999999999999,"A",null,null,null,{"$f":"catp","v":3}]
[2495,"Serban Andrei","Bucuresti",39.299999999999997,16.899999999999999,"A",null,null,null,{"$f":"catp","v":3}]
[3334,"Hui Horatiu","Cluj Napoca",16.899999999999999,16.899999999999999,"A",null,null,null,{"$f":"catp","v":3}]
[3335,"Rotari Mihai","Moldova-Chisinau",16.899999999999999,16.899999999999999,"A",null,null,null,{"$f":"catp","v":3}]
[3584,"Costea Lucas","Targu Mures",12.7,16.899999999999999,"A",null,null,null,{"$f":"catp","v":3}]
[2188,"Holostenco Andrei","Iasi",54.6,16.87,"A",null,null,null,{"$f":"catp","v":3}]
[927,"Ailioaie Gheorghe","Comanesti",221.4,16.86,"AW",null,null,null,{"$f":"catp","v":3}]
[857,"Ogrutan Marius","Cluj Napoca",245.7,16.850000000000001,"A",null,null,null,{"$f":"catp","v":3}]
[1116,"Rusu Discultu Ion","Iasi",175.5,16.850000000000001,"A",null,null,null,{"$f":"catp","v":3}]
[1652,"Diaconescu Dragos","Craiova",98.3,16.850000000000001,"A",null,null,null,{"$f":"catp","v":3}]
[2633,"Marin Adrian","Bucuresti",33.700000000000003,16.850000000000001,"AW",null,null,null,{"$f":"catp","v":3}]
[2926,"Kovacs Levente","Oradea",25.3,16.850000000000001,"A",null,null,null,{"$f":"catp","v":3}]
[3070,"Bokor Zsolt","Sovata",21.8,16.8,"A",null,null,null,{"$f":"catp","v":3}]
[3071,"Soldan Gica","Cajvana",21.8,16.8,"A",null,null,null,{"$f":"catp","v":3}]
[3339,"Ursescu Iuliu","Radauti",16.8,16.8,"AW",null,null,null,{"$f":"catp","v":3}]
[3340,"Sandescu Florin","Bucuresti",16.8,16.8,"A",null,null,null,{"$f":"catp","v":3}]
[3341,"Piperea Florin","Campina",16.8,16.8,"A",null,null,null,{"$f":"catp","v":3}]
[3342,"Vukovic Nemanja","Varset",16.8,16.8,"A",null,null,null,{"$f":"catp","v":3}]
[1386,"Samoila Georgel","Bucuresti",129.80000000000001,16.79,"A",null,null,null,{"$f":"catp","v":3}]
[1742,"Melicut Sarmis","Hunedoara",88.6,16.75,"A",null,null,null,{"$f":"catp","v":3}]
[1805,"Mihalcea Iulian","Galati",82.7,16.75,"A",null,null,null,{"$f":"catp","v":3}]
[1822,"Nicusan Razvan","Targu Mures",81.3,16.75,"A",null,null,null,{"$f":"catp","v":3}]
[2109,"Dinca Mircea Iulian","Rosiori de Vede",59.9,16.75,"A",null,null,null,{"$f":"catp","v":3}]
[806,"Man Sebastian","Cluj Napoca",261.5,16.739999999999998,"AW",null,null,null,{"$f":"catp","v":3}]
[929,"Mesaros Horea Cristin","Ludus",221.1,16.739999999999998,"A",null,null,null,{"$f":"catp","v":3}]
[1711,"Gunzilovici Stanislav","Moldova-Cahul",92.1,16.73,"A",null,null,null,{"$f":"catp","v":3}]
[1487,"Huica Petre","Bucuresti",116.3,16.7,"A",null,null,null,{"$f":"catp","v":3}]
[1317,"Kovacs Lajos","Odorheiu Secuiesc",139.4,16.670000000000002,"A",null,null,null,{"$f":"catp","v":3}]
[842,"Virticosu Teodor","Pascani",251.2,16.66,"A",null,null,null,{"$f":"catp","v":3}]
[1911,"Burdalescu Bogdan","Bucuresti",74.099999999999994,16.63,"A",null,null,null,{"$f":"catp","v":3}]
[1088,"Darie Gabriel","Comanesti",182.4,16.61,"A",null,null,null,{"$f":"catp","v":3}]
[1418,"Popa Mihai Claudiu","Bucuresti",124.5,16.600000000000001,"A",null,null,null,{"$f":"catp","v":3}]
[2480,"Moldovan Stefania","Tarnaveni",40,16.600000000000001,"AF",null,null,null,{"$f":"catp","v":3}]
[3350,"Ghidiu Valer","Sighisoara",16.600000000000001,16.600000000000001,"A",null,null,null,{"$f":"catp","v":3}]
[3351,"Ban Attila","Odorheiu Secuiesc",16.600000000000001,16.600000000000001,"A",null,null,null,{"$f":"catp","v":3}]
[3352,"Sipos Bence","Cristuru Secuiesc",16.600000000000001,16.600000000000001,"A",null,null,null,{"$f":"catp","v":3}]
[3594,"Vid Stefan","Zalau",12.5,16.600000000000001,"A",null,null,null,{"$f":"catp","v":3}]
[776,"Savina Dan","Piatra Neamt",270,16.59,"A",null,null,null,{"$f":"catp","v":3}]
[749,"Stancu Octavian","Tulcea",277.60000000000002,16.579999999999998,"A",null,null,null,{"$f":"catp","v":3}]
[1056,"Balasoiu Maria","Novaci",188.9,16.579999999999998,"AF",null,null,null,{"$f":"catp","v":3}]
[1858,"Zugravu Luca","Barlad",78.099999999999994,16.579999999999998,"A",null,null,null,{"$f":"catp","v":3}]
[2378,"Profiroiu Dorel","Sfantu Gheorghe",44.4,16.57,"A",null,null,null,{"$f":"catp","v":3}]
[2813,"Puia Darius","Stremt",28.6,16.55,"A",null,null,null,{"$f":"catp","v":3}]
[1005,"Ceavdar Andrei","Moldova-Cahul",202.3,16.510000000000002,"A",null,null,null,{"$f":"catp","v":3}]
[1335,"Mihali Fabian","Timisoara",137.1,16.510000000000002,"A",null,null,null,{"$f":"catp","v":3}]
[950,"Giurgiu Andrei","Sibiu",215.2,16.5,"A",null,null,null,{"$f":"catp","v":3}]
[3358,"Szekely Zoltan","Gheorgheni",16.5,16.5,"A",null,null,null,{"$f":"catp","v":3}]
[1929,"Bartha David","Sovata",73.2,16.48,"A",null,null,null,{"$f":"catp","v":3}]
[991,"Halasz Levente","Cluj Napoca",206.7,16.47,"A",null,null,null,{"$f":"catp","v":3}]
[1995,"Cojocaru Adrian","Suceava",67,16.43,"AW",null,null,null,{"$f":"catp","v":3}]
[2263,"Gheorghitoiu Andrei","Brasov",50.1,16.43,"A",null,null,null,{"$f":"catp","v":3}]
[1127,"Ionescu Traian","Galati",173.6,16.41,"AW",null,null,null,{"$f":"catp","v":3}]
[1691,"Stoian Nicolae","Braila",94.3,16.399999999999999,"A",null,null,null,{"$f":"catp","v":3}]
[3359,"Raducan Florian","Calarasi",16.399999999999999,16.399999999999999,"A",null,null,null,{"$f":"catp","v":3}]
[3360,"Pop Raul","Zalau",16.399999999999999,16.399999999999999,"A",null,null,null,{"$f":"catp","v":3}]
[648,"Badescu Lucian","Oradea",320.8,16.39,"A",null,null,null,{"$f":"catp","v":3}]
[1811,"Gonta Viorel","Tecuci",82.3,16.37,"A",null,null,null,{"$f":"catp","v":3}]
[1746,"Gutulescu Marian","Drobeta Tr Severin",88.3,16.350000000000001,"A",null,null,null,{"$f":"catp","v":3}]
[1875,"Pop Victor","Bucuresti",76.8,16.350000000000001,"A",null,null,null,{"$f":"catp","v":3}]
[2338,"Voicu Olivian","Bucuresti",46.5,16.350000000000001,"A",null,null,null,{"$f":"catp","v":3}]
[1073,"Gita Dan","Sfantu Gheorghe",185.1,16.34,"A",null,null,null,{"$f":"catp","v":3}]
[1446,"Toader Alexandru","Galati",121.7,16.329999999999998,"A",null,null,null,{"$f":"catp","v":3}]
[1864,"Biciin Alexandru","Faurei",77.599999999999994,16.329999999999998,"A",null,null,null,{"$f":"catp","v":3}]
[2136,"Martoiu Gabriel","Targu Jiu",58.2,16.329999999999998,"A",null,null,null,{"$f":"catp","v":3}]
[2269,"Pribeagu Bianca","Pitesti",49.8,16.329999999999998,"AF",null,null,null,{"$f":"catp","v":3}]
[858,"Stoica Florin Cristian","Bucuresti",245.7,16.32,"A",null,null,null,{"$f":"catp","v":3}]
[1114,"Vajda Levente","Odorheiu Secuiesc",175.6,16.309999999999999,"A",null,null,null,{"$f":"catp","v":3}]
[2311,"Bacotiu Ciprian","Cluj Napoca",47.7,16.3,"AW",null,null,null,{"$f":"catp","v":3}]
[3135,"Teodorescu Andu","Curtea de Arges",20.399999999999999,16.3,"A",null,null,null,{"$f":"catp","v":3}]
[3367,"Sandu Danut","Cluj Napoca",16.3,16.3,"A",null,null,null,{"$f":"catp","v":3}]
[3368,"Doloscan Liviu","Moldova-Chisinau",16.3,16.3,"A",null,null,null,{"$f":"catp","v":3}]
[992,"Moraru Constantin","Bucuresti",206.6,16.29,"AW",null,null,null,{"$f":"catp","v":3}]
[1353,"Untu Adrian","Iasi",134.19999999999999,16.28,"A",null,null,null,{"$f":"catp","v":3}]
[2031,"Bruma Daniel","Bacau",64.7,16.27,"A",null,null,null,{"$f":"catp","v":3}]
[2491,"Csurulya Gyula","Miercurea Ciuc",39.5,16.27,"A",null,null,null,{"$f":"catp","v":3}]
[723,"Marias Laurentiu","Ploiesti",286.39999999999998,16.260000000000002,"A",null,null,null,{"$f":"catp","v":3}]
[1062,"Dalalau Dora","Targu Mures",187.4,16.25,"AF",null,null,null,{"$f":"catp","v":3}]
[1433,"Nita Alin","Bucuresti",123.1,16.25,"A",null,null,null,{"$f":"catp","v":3}]
[2223,"Danila Anton","Campulung Mold",52.1,16.23,"A",null,null,null,{"$f":"catp","v":3}]
[2455,"Jaouir Khaled","Bucuresti",41.2,16.23,"AW",null,null,null,{"$f":"catp","v":3}]
[3370,"Pietraru Dorian","Victoria",16.2,16.2,"AW",null,null,null,{"$f":"catp","v":3}]
[3371,"Geiger Norbert","Baia Mare",16.2,16.2,"A",null,null,null,{"$f":"catp","v":3}]
[3604,"Marin Catalin","Targoviste",12.2,16.2,"A",null,null,null,{"$f":"catp","v":3}]
[1361,"Hirsescu Cosmin","Bucuresti",132.80000000000001,16.18,"A",null,null,null,{"$f":"catp","v":3}]
[2142,"Balanean Daniel","Zalau",57.8,16.18,"A",null,null,null,{"$f":"catp","v":3}]
[2678,"Pap Sandor","Cristuru Secuiesc",32.299999999999997,16.149999999999999,"A",null,null,null,{"$f":"catp","v":3}]
[1170,"Iojiban Gheorghe","Balan",164,16.14,"A",null,null,null,{"$f":"catp","v":3}]
[1709,"Constantin Adrian","Craiova",92.4,16.13,"A",null,null,null,{"$f":"catp","v":3}]
[1802,"Constantin Filip","Sinaia",83.1,16.13,"A",null,null,null,{"$f":"catp","v":3}]
[2394,"Serban Mircea","Brasov",43.9,16.100000000000001,"AW",null,null,null,{"$f":"catp","v":3}]
[2442,"Boteanu Alexandru","Constanta",41.8,16.100000000000001,"A",null,null,null,{"$f":"catp","v":3}]
[2969,"Nedelcu Florin","Bucuresti",24.2,16.100000000000001,"A",null,null,null,{"$f":"catp","v":3}]
[3375,"Croitoru Doru","Vaslui",16.100000000000001,16.100000000000001,"A",null,null,null,{"$f":"catp","v":3}]
[1142,"Stanciu Constantin","Brasov",171.1,16.09,"AW",null,null,null,{"$f":"catp","v":3}]
[2290,"Sacadat Marcel","Ludus",48.8,16.07,"A",null,null,null,{"$f":"catp","v":3}]
[1268,"Gavre Augustin","Hateg",147.9,16.059999999999999,"A",null,null,null,{"$f":"catp","v":3}]
[1628,"Prigoana Cristian","Cluj Napoca",100.8,16.05,"A",null,null,null,{"$f":"catp","v":3}]
[1050,"Moldovean Valer","Calan",190.6,16.03,"A",null,null,null,{"$f":"catp","v":3}]
[2004,"Comsa George Alexandru","Tulcea",66.5,16.03,"A",null,null,null,{"$f":"catp","v":3}]
[2117,"Vintila Marius","Sibiu",59.6,16.03,"A",null,null,null,{"$f":"catp","v":3}]
[1023,"Baicu Andrei","Sinaia",197.3,16.010000000000002,"A",null,null,null,{"$f":"catp","v":3}]
[1068,"Popa Cosmin","Lipova",186.4,16,"A",null,null,null,{"$f":"catp","v":3}]
[2720,"Cotoara Toader","Suceava",31.3,16,"A",null,null,null,{"$f":"catp","v":3}]
[3376,"Tincu Adrian","Tulcea",16,16,"A",null,null,null,{"$f":"catp","v":3}]
[1989,"Gologan Sorin Gabriel","Faurei",67.5,15.97,"A",null,null,null,{"$f":"catp","v":3}]
[1134,"Constantin Alexandru","Bucuresti",172.7,15.95,"A",null,null,null,{"$f":"catp","v":3}]
[2146,"Capriceana Alexandru","Timisoara",57.5,15.93,"A",null,null,null,{"$f":"catp","v":3}]
[2280,"Manolache Florin","Ploiesti",49.1,15.93,"A",null,null,null,{"$f":"catp","v":3}]
[2418,"Mihaila George","Vulcana Pandele",42.8,15.93,"A",null,null,null,{"$f":"catp","v":3}]
[2704,"Dobre Elisei","Jimbolia",31.8,15.9,"A",null,null,null,{"$f":"catp","v":3}]
[2979,"Paiu Razvan","Brasov",23.9,15.9,"A",null,null,null,{"$f":"catp","v":3}]
[3089,"Rifat Bislimi","Alibunar",21.3,15.9,"A",null,null,null,{"$f":"catp","v":3}]
[3383,"Mihaila Alin Constantin","Iasi",15.9,15.9,"A",null,null,null,{"$f":"catp","v":3}]
[3613,"Bagneanu Raisa","Campulung Muscel",12,15.9,"AF",null,null,null,{"$f":"catp","v":3}]
[1930,"Joghiu Ovidiu","Focsani",73.2,15.88,"A",null,null,null,{"$f":"catp","v":3}]
[947,"Gog Vasile","Salciua",215.8,15.87,"A",null,null,null,{"$f":"catp","v":3}]
[1599,"Cruceru Ion","Ramnicu Sarat",103.4,15.86,"A",null,null,null,{"$f":"catp","v":3}]
[2168,"Duceac Catalin","Botosani",55.9,15.85,"A",null,null,null,{"$f":"catp","v":3}]
[2814,"Bondor Adrian","Bacau",28.6,15.85,"A",null,null,null,{"$f":"catp","v":3}]
[2985,"Barau Adrian","Bucuresti",23.8,15.85,"A",null,null,null,{"$f":"catp","v":3}]
[1556,"Dumitrascu Cristi","Brasov",108,15.84,"A",null,null,null,{"$f":"catp","v":3}]
[1339,"Roghina Cosmin","Sibiu",136.69999999999999,15.81,"A",null,null,null,{"$f":"catp","v":3}]
[1244,"Faur Lucian","Jimbolia",151.9,15.8,"AW",null,null,null,{"$f":"catp","v":3}]
[3388,"Ciky Cornel","Fagaras",15.8,15.8,"AW",null,null,null,{"$f":"catp","v":3}]
[3389,"Lolea Toma","Fagaras",15.8,15.8,"A",null,null,null,{"$f":"catp","v":3}]
[3390,"Medvediuc Lucian","Siret",15.8,15.8,"A",null,null,null,{"$f":"catp","v":3}]
[3391,"Klepp Mario","Lipova",15.8,15.8,"A",null,null,null,{"$f":"catp","v":3}]
[1034,"Gherasim Rares","Tulcea",194.4,15.79,"A",null,null,null,{"$f":"catp","v":3}]
[1632,"Baricz Dezso","Joseni",100.3,15.78,"A",null,null,null,{"$f":"catp","v":3}]
[1849,"Zolotaryk George","Suceava",79.2,15.78,"A",null,null,null,{"$f":"catp","v":3}]
[2180,"Calin Anisoara","Bucuresti",54.9,15.78,"AF",null,null,null,{"$f":"catp","v":3}]
[2120,"Mavrodin Cristian","Oltenita",59.5,15.77,"A",null,null,null,{"$f":"catp","v":3}]
[1592,"Paul Alin Sabin","Sandra",104.1,15.75,"A",null,null,null,{"$f":"catp","v":3}]
[1824,"Ternauciuc Mihai","Nadrag",81.099999999999994,15.75,"A",null,null,null,{"$f":"catp","v":3}]
[2258,"Tirc Stelian","Apahida",50.2,15.75,"A",null,null,null,{"$f":"catp","v":3}]
[2990,"Bartha Lorant","Micfalau",23.7,15.75,"A",null,null,null,{"$f":"catp","v":3}]
[1445,"Bostan Culita","Moinesti",122.2,15.7,"A",null,null,null,{"$f":"catp","v":3}]
[1765,"Dragu Raul","Focsani",86.3,15.7,"A",null,null,null,{"$f":"catp","v":3}]
[2252,"Mihet Alexandru","Arad",50.5,15.7,"A",null,null,null,{"$f":"catp","v":3}]
[2344,"Faltisca Eugen","Viseu",46.2,15.7,"AW",null,null,null,{"$f":"catp","v":3}]
[2605,"Popescu Andrei","Curtea de Arges",34.9,15.7,"A",null,null,null,{"$f":"catp","v":3}]
[3395,"Androne Luca","Bucuresti",15.7,15.7,"A",null,null,null,{"$f":"catp","v":3}]
[3396,"Boroica Maria","Bucuresti",15.7,15.7,"AF",null,null,null,{"$f":"catp","v":3}]
[2157,"Terentii Cristian","Bucuresti",56.6,15.67,"A",null,null,null,{"$f":"catp","v":3}]
[965,"Muresan Marian","Dej",212.4,15.63,"A",null,null,null,{"$f":"catp","v":3}]
[2339,"Tirizica Ioan","Zalau",46.5,15.63,"A",null,null,null,{"$f":"catp","v":3}]
[2413,"Graur Robert","Focsani",43,15.6,"A",null,null,null,{"$f":"catp","v":3}]
[2824,"Oproi Eugen","Sannicolau Mare",28.4,15.6,"A",null,null,null,{"$f":"catp","v":3}]
[3400,"Maftei Leonard","Buhusi",15.6,15.6,"A",null,null,null,{"$f":"catp","v":3}]
[3635,"Robciuc Doru","Suceava",11.7,15.6,"A",null,null,null,{"$f":"catp","v":3}]
[766,"Cristescu Cristian","Bucuresti",273.7,15.55,"AW",null,null,null,{"$f":"catp","v":3}]
[1676,"Mihalcea David","Galati",96.3,15.55,"A",null,null,null,{"$f":"catp","v":3}]
[2372,"Virvorea Mihai","Sibiu",44.7,15.55,"A",null,null,null,{"$f":"catp","v":3}]
[2541,"Luca Ioan","Bucuresti",37.299999999999997,15.55,"A",null,null,null,{"$f":"catp","v":3}]
[2550,"Soare Sorin","Slobozia",37.1,15.55,"A",null,null,null,{"$f":"catp","v":3}]
[2672,"Vasiloiu Stefan","Pitesti",32.5,15.55,"A",null,null,null,{"$f":"catp","v":3}]
[1625,"Petrut Andrei","Chisoda",101.1,15.53,"A",null,null,null,{"$f":"catp","v":3}]
[1664,"Mag Jozsef","Odorheiu Secuiesc",97.3,15.52,"A",null,null,null,{"$f":"catp","v":3}]
[1561,"Pislaru George Eduard","Iasi",107.5,15.5,"A",null,null,null,{"$f":"catp","v":3}]
[3404,"Plesca Serghe","Moldova-Ialoveni",15.5,15.5,"A",null,null,null,{"$f":"catp","v":3}]
[3636,"Voicu Ion","Amarastii de Jos",11.7,15.5,"A",null,null,null,{"$f":"catp","v":3}]
[904,"Petrescu Alin","Hateg",226.6,15.47,"A",null,null,null,{"$f":"catp","v":3}]
[2244,"Picu Patric","Dumbravita",50.8,15.47,"A",null,null,null,{"$f":"catp","v":3}]
[1345,"Langa Timotei","Dumbraveni SV",135.80000000000001,15.4,"A",null,null,null,{"$f":"catp","v":3}]
[2037,"Raduly Marius","Sfantu Gheorghe",64.099999999999994,15.4,"A",null,null,null,{"$f":"catp","v":3}]
[2170,"Rica Marius","Giroc",55.7,15.4,"A",null,null,null,{"$f":"catp","v":3}]
[2424,"Csaki Zsolt","Tomesti",42.4,15.4,"A",null,null,null,{"$f":"catp","v":3}]
[3410,"Botezatu Nicusor","Focsani",15.4,15.4,"A",null,null,null,{"$f":"catp","v":3}]
[3411,"Czimbalmos Gyula","Lazarea",15.4,15.4,"A",null,null,null,{"$f":"catp","v":3}]
[3412,"Gheorghiev Traian","Bulgaria",15.4,15.4,"A",null,null,null,{"$f":"catp","v":3}]
[3413,"Delca Marius","Alexandria",15.4,15.4,"A",null,null,null,{"$f":"catp","v":3}]
[1536,"Stefan Adrian","Bucuresti",110.3,15.38,"A",null,null,null,{"$f":"catp","v":3}]
[2386,"Suciu Sergiu","Turda",44.1,15.37,"AW",null,null,null,{"$f":"catp","v":3}]
[1087,"Toma Adrian","Bucuresti",182.6,15.36,"A",null,null,null,{"$f":"catp","v":3}]
[2820,"Cucereavaia Natalia","Moldova-Balti",28.5,15.35,"AF",null,null,null,{"$f":"catp","v":3}]
[1106,"Vrancea Markus","Sibiu",178,15.31,"A",null,null,null,{"$f":"catp","v":3}]
[2373,"Staicu Vasile","Cernavoda",44.6,15.3,"A",null,null,null,{"$f":"catp","v":3}]
[2740,"Botian Radu","Sibiu",30.6,15.3,"A",null,null,null,{"$f":"catp","v":3}]
[3022,"Bildea Nicola Daniel","Ramnicu Valcea",23,15.3,"A",null,null,null,{"$f":"catp","v":3}]
[3418,"Selaru Victoras","Adjud",15.3,15.3,"A",null,null,null,{"$f":"catp","v":3}]
[3419,"Ciobanu Mihail","Moldova-Balti",15.3,15.3,"A",null,null,null,{"$f":"catp","v":3}]
[1274,"Craciunas Bogdan","Bucuresti",147,15.29,"A",null,null,null,{"$f":"catp","v":3}]
[2376,"Simion Dan","Resita",44.5,15.27,"A",null,null,null,{"$f":"catp","v":3}]
[1884,"Demsa Daniel","Brasov",75.900000000000006,15.26,"A",null,null,null,{"$f":"catp","v":3}]
[1391,"Toma Cristian","Balotesti",129,15.25,"A",null,null,null,{"$f":"catp","v":3}]
[2496,"Ciutre Ioan","Zalau",39.299999999999997,15.25,"A",null,null,null,{"$f":"catp","v":3}]
[2606,"Urdes Florentina Ruxandra","Tulcea",34.9,15.25,"AF",null,null,null,{"$f":"catp","v":3}]
[715,"Gheorghe Ion","Bucuresti",288.5,15.23,"AW",null,null,null,{"$f":"catp","v":3}]
[2425,"Petrache Codrut Costin","Ploiesti",42.4,15.23,"A",null,null,null,{"$f":"catp","v":3}]
[1695,"Alamorean Viorel","Blaj",94,15.2,"A",null,null,null,{"$f":"catp","v":3}]
[2881,"Baciu Adrian","Pascani",26.8,15.2,"A",null,null,null,{"$f":"catp","v":3}]
[3146,"Manoliu Cristian","Bucuresti",20.2,15.2,"A",null,null,null,{"$f":"catp","v":3}]
[3425,"Dulca Raul","Dumbravita",15.2,15.2,"A",null,null,null,{"$f":"catp","v":3}]
[3426,"Alui Ion Vasile","Targu Neamt",15.2,15.2,"A",null,null,null,{"$f":"catp","v":3}]
[932,"Stefan Sorin","Brasov",220.4,15.18,"A",null,null,null,{"$f":"catp","v":3}]
[978,"Aluculesa Radu","Botosani",209.7,15.18,"AD",null,null,null,{"$f":"catp","v":3}]
[1138,"Laza Gabriel","Piatra Neamt",172.3,15.18,"A",null,null,null,{"$f":"catp","v":3}]
[1620,"Patraru Dragos","Ploiesti",101.7,15.18,"A",null,null,null,{"$f":"catp","v":3}]
[2232,"Tudor Razvan","Botosani",51.3,15.18,"A",null,null,null,{"$f":"catp","v":3}]
[1347,"Popa Catalin","Roman",135.30000000000001,15.16,"A",null,null,null,{"$f":"catp","v":3}]
[2599,"Mihu Dorel","Medias",35.299999999999997,15.15,"A",null,null,null,{"$f":"catp","v":3}]
[2419,"Dolis Narcis","Comanesti",42.8,15.13,"AW",null,null,null,{"$f":"catp","v":3}]
[1912,"Banuta Dumitru","Ploiesti",74.099999999999994,15.1,"A",null,null,null,{"$f":"catp","v":3}]
[2415,"Cocos Claudiu","Calan",42.9,15.1,"A",null,null,null,{"$f":"catp","v":3}]
[3434,"Bodnari Mircea","Gura Humorului",15.1,15.1,"A",null,null,null,{"$f":"catp","v":3}]
[3435,"Tudose Marius","Galati",15.1,15.1,"A",null,null,null,{"$f":"catp","v":3}]
[3436,"Lepadatu Gheorghe","Priboieni",15.1,15.1,"A",null,null,null,{"$f":"catp","v":3}]
[3437,"Socolov Serghei","Moldova-Chisinau",15.1,15.1,"A",null,null,null,{"$f":"catp","v":3}]
[3653,"Tudose Vlad","Bucuresti",11.4,15.1,"A",null,null,null,{"$f":"catp","v":3}]
[1702,"Lungu Tudorel","Tecuci",93.2,15.08,"A",null,null,null,{"$f":"catp","v":3}]
[1792,"Parasca Dumitru","Radauti",83.9,15.08,"A",null,null,null,{"$f":"catp","v":3}]
[1794,"Pascu Constantin","Slatina",83.7,15.08,"A",null,null,null,{"$f":"catp","v":3}]
[1213,"Calinescu Mircea","Ploiesti",155.6,15.05,"A",null,null,null,{"$f":"catp","v":3}]
[1812,"Nedelcu Marian","Sinaia",82.3,15.05,"A",null,null,null,{"$f":"catp","v":3}]
[2022,"Paval Mihai","Iasi",65.2,15.05,"A",null,null,null,{"$f":"catp","v":3}]
[2752,"Ionita Mihai","Lipanesti",30.1,15.05,"A",null,null,null,{"$f":"catp","v":3}]
[1722,"Luntraru Mihai","Iasi",90.8,15.03,"A",null,null,null,{"$f":"catp","v":3}]
[1834,"Galfi Levente","Cluj Napoca",80.400000000000006,15.03,"AW",null,null,null,{"$f":"catp","v":3}]
[2118,"Paven Andrei","Bistra",59.6,15.03,"A",null,null,null,{"$f":"catp","v":3}]
[1524,"Ionescu Cristi","Ploiesti",112.7,15.02,"A",null,null,null,{"$f":"catp","v":3}]
[1033,"Lozneanu Mihai","Iasi",194.9,15,"A",null,null,null,{"$f":"catp","v":3}]
[1603,"Pavliuc Daria","Moldova-Briceni",102.7,15,"AF",null,null,null,{"$f":"catp","v":3}]
[2888,"Vasile Raducu","Jebel",26.5,15,"A",null,null,null,{"$f":"catp","v":3}]
[2903,"Achim Paul","Arad",25.8,15,"A",null,null,null,{"$f":"catp","v":3}]
[3440,"Ciucalau Sergiu","Galati",15,15,"A",null,null,null,{"$f":"catp","v":3}]
[3659,"Imre David","Cluj Napoca",11.3,15,"A",null,null,null,{"$f":"catp","v":3}]
[1107,"Zamfirache Ioan","Botosani",177.9,14.98,"AW",null,null,null,{"$f":"catp","v":3}]
[1310,"Bujoreanu Neculai","Falticeni",140.4,14.98,"AW",null,null,null,{"$f":"catp","v":3}]
[2073,"Secu Alexandru","Sibiu",61.7,14.97,"A",null,null,null,{"$f":"catp","v":3}]
[1231,"Vasi Daniel","Arad",153.4,14.96,"A",null,null,null,{"$f":"catp","v":3}]
[1777,"Boureanu Constantin","Iasi",85,14.96,"A",null,null,null,{"$f":"catp","v":3}]
[2591,"Moise Catalin","Slobozia",35.799999999999997,14.9,"A",null,null,null,{"$f":"catp","v":3}]
[3446,"Revnic Robert","Cluj Napoca",14.9,14.9,"A",null,null,null,{"$f":"catp","v":3}]
[3447,"Putineanu Andrei","Alexandria",14.9,14.9,"A",null,null,null,{"$f":"catp","v":3}]
[3666,"Buboi Bogdan","Zalau",11.2,14.9,"A",null,null,null,{"$f":"catp","v":3}]
[2210,"Bucse Stefan","Sibiu",52.7,14.87,"A",null,null,null,{"$f":"catp","v":3}]
[2769,"Mindru Marin","Sarmas",29.7,14.85,"A",null,null,null,{"$f":"catp","v":3}]
[2770,"Talpa Gheorghe","Moldova-Drochia",29.7,14.85,"A",null,null,null,{"$f":"catp","v":3}]
[1017,"Hutina Adrian","Targu Mures",198.5,14.83,"A",null,null,null,{"$f":"catp","v":3}]
[2507,"Ivan Alexandru","Galati",39,14.83,"A",null,null,null,{"$f":"catp","v":3}]
[1716,"Surdeanu Petrut Laurentiu","Bucuresti",91.5,14.8,"A",null,null,null,{"$f":"catp","v":3}]
[2259,"Tucuina Dragos","Dumbravita",50.2,14.8,"A",null,null,null,{"$f":"catp","v":3}]
[3453,"Molnar Arnold","Targu Secuiesc",14.8,14.8,"A",null,null,null,{"$f":"catp","v":3}]
[3454,"Curcin Vladimir","Parta",14.8,14.8,"A",null,null,null,{"$f":"catp","v":3}]
[3455,"Petkovic Momcilo","Kovin",14.8,14.8,"A",null,null,null,{"$f":"catp","v":3}]
[1806,"Popescu Ionut Bogdan","Ploiesti",82.7,14.78,"A",null,null,null,{"$f":"catp","v":3}]
[1808,"Ionita Adrian","Iasi",82.4,14.76,"A",null,null,null,{"$f":"catp","v":3}]
[2777,"Balanean Florin","Cisnadie",29.5,14.75,"A",null,null,null,{"$f":"catp","v":3}]
[1400,"Timofei Alberto","Tulcea",127.5,14.74,"A",null,null,null,{"$f":"catp","v":3}]
[1968,"Bara Titus","Oradea",69.8,14.73,"A",null,null,null,{"$f":"catp","v":3}]
[1526,"Sturz Daniel","Resita",112.3,14.7,"A",null,null,null,{"$f":"catp","v":3}]
[2361,"Leseanu Mihaita","Alexandria",45.2,14.7,"A",null,null,null,{"$f":"catp","v":3}]
[2832,"Florea Stelian","Bucuresti",28.1,14.7,"A",null,null,null,{"$f":"catp","v":3}]
[3458,"Moldovan Darian","Nasaud",14.7,14.7,"A",null,null,null,{"$f":"catp","v":3}]
[3459,"Andjelkovic Aleksandar","Stara Palanka",14.7,14.7,"A",null,null,null,{"$f":"catp","v":3}]
[3460,"Zdravkovic Milos","Kovin",14.7,14.7,"A",null,null,null,{"$f":"catp","v":3}]
[3673,"Borca Liviu","Targu Mures",11.1,14.7,"A",null,null,null,{"$f":"catp","v":3}]
[1475,"Danila Eugeniu","Bucuresti",118.4,14.67,"AW",null,null,null,{"$f":"catp","v":3}]
[1084,"Moldovan Alexandru Radu","Cluj Napoca",183,14.65,"A",null,null,null,{"$f":"catp","v":3}]
[1117,"Onet Nicolae","Sighisoara",175.5,14.65,"A",null,null,null,{"$f":"catp","v":3}]
[1131,"Caraman Vitalie","Moldova-Cahul",173.2,14.65,"A",null,null,null,{"$f":"catp","v":3}]
[1966,"Glavan Radu","Timisoara",70.099999999999994,14.63,"A",null,null,null,{"$f":"catp","v":3}]
[1617,"Badea Cristian","Calarasi",101.9,14.6,"A",null,null,null,{"$f":"catp","v":3}]
[2785,"Soldan Asael","Cajvana",29.2,14.6,"A",null,null,null,{"$f":"catp","v":3}]
[3677,"Stan Tiberiu Dan","Iasi",11,14.6,"A",null,null,null,{"$f":"catp","v":3}]
[1986,"Avram Bogdan","Iasi",67.900000000000006,14.58,"A",null,null,null,{"$f":"catp","v":3}]
[2460,"Ivan Adrian","Zurbaua",40.9,14.57,"A",null,null,null,{"$f":"catp","v":3}]
[1759,"Sirbu Ion","Bucuresti",86.8,14.56,"AD",null,null,null,{"$f":"catp","v":3}]
[1987,"Oltean Raul","Baia Mare",67.599999999999994,14.55,"A",null,null,null,{"$f":"catp","v":3}]
[2915,"Bompa Cosmin","Reghin",25.5,14.55,"A",null,null,null,{"$f":"catp","v":3}]
[918,"Iacob Augustin","Piatra Neamt",223.2,14.54,"A",null,null,null,{"$f":"catp","v":3}]
[1503,"Csefko Tibi","Giroc",114.8,14.54,"A",null,null,null,{"$f":"catp","v":3}]
[2792,"Silivestru Sebastian","Tarnaveni",29,14.5,"A",null,null,null,{"$f":"catp","v":3}]
[3466,"Iakab Ovidiu","Aiud",14.5,14.5,"A",null,null,null,{"$f":"catp","v":3}]
[3685,"Dinu Ion","Bals",10.9,14.5,"A",null,null,null,{"$f":"catp","v":3}]
[3686,"Hojda Catalin","Moisei",10.9,14.5,"A",null,null,null,{"$f":"catp","v":3}]
[1462,"Porojan Florin","Bucuresti",119.5,14.47,"A",null,null,null,{"$f":"catp","v":3}]
[2291,"Buta Raul","Petrosani",48.7,14.47,"A",null,null,null,{"$f":"catp","v":3}]
[1190,"Illes Kalman","Targu Mures",159.80000000000001,14.46,"A",null,null,null,{"$f":"catp","v":3}]
[1876,"Moasa Gabriel","Bucuresti",76.5,14.45,"A",null,null,null,{"$f":"catp","v":3}]
[2254,"Brodetchi Andrei","Sibiu",50.3,14.45,"A",null,null,null,{"$f":"catp","v":3}]
[1571,"Radu Dragos","Targoviste",106.4,14.44,"AW",null,null,null,{"$f":"catp","v":3}]
[1828,"Prahoveanu Nicolae","Constanta",80.900000000000006,14.4,"A",null,null,null,{"$f":"catp","v":3}]
[2807,"Matasa Eduard","Sibiu",28.8,14.4,"A",null,null,null,{"$f":"catp","v":3}]
[3271,"Patru Gabriel","Popesti Leordeni",18,14.4,"A",null,null,null,{"$f":"catp","v":3}]
[3471,"Drumen Evelina","Vatra Dornei",14.4,14.4,"AF",null,null,null,{"$f":"catp","v":3}]
[3472,"Fuleki Zoltan","Uriu",14.4,14.4,"A",null,null,null,{"$f":"catp","v":3}]
[3696,"Maxim Costel","Moinesti",10.8,14.4,"A",null,null,null,{"$f":"catp","v":3}]
[2309,"Bordusanu Mona Maria","Constanta",47.9,14.37,"AF",null,null,null,{"$f":"catp","v":3}]
[1747,"Boca Radu Stefan","Bucuresti",88.3,14.35,"A",null,null,null,{"$f":"catp","v":3}]
[1909,"Timiser Alin","Cluj Napoca",74.3,14.35,"A",null,null,null,{"$f":"catp","v":3}]
[2634,"Gavrilescu Petru Albert","Vaslui",33.700000000000003,14.35,"A",null,null,null,{"$f":"catp","v":3}]
[1343,"Fratila Dan","Ocna Sibiului",136.1,14.34,"A",null,null,null,{"$f":"catp","v":3}]
[1737,"Balint Doru","Alesd",89.4,14.33,"A",null,null,null,{"$f":"catp","v":3}]
[1636,"Gheorghita Robert","Cisnadie",99.8,14.3,"A",null,null,null,{"$f":"catp","v":3}]
[2954,"Enache Ionel Gabriel","Oniceni",24.5,14.3,"A",null,null,null,{"$f":"catp","v":3}]
[3188,"Boicu Tatiana","Moldova-Sadaclia",19.3,14.3,"AF",null,null,null,{"$f":"catp","v":3}]
[3490,"Bartos Vlad","Cluj Napoca",14.3,14.3,"A",null,null,null,{"$f":"catp","v":3}]
[3491,"Stegaru Nicolae","Tulcea",14.3,14.3,"A",null,null,null,{"$f":"catp","v":3}]
[3492,"Costea Claudiu","Negresti Oas",14.3,14.3,"A",null,null,null,{"$f":"catp","v":3}]
[3493,"Borovscaia Ungurean Anastasia","Moldova-Chisinau",14.3,14.3,"AF",null,null,null,{"$f":"catp","v":3}]
[1096,"Timis Sandu","Vizejdia",179.9,14.29,"A",null,null,null,{"$f":"catp","v":3}]
[1960,"Odajiu Alexandru","Moldova-Briceni",70.5,14.27,"A",null,null,null,{"$f":"catp","v":3}]
[1974,"Dragomanu Florin","Comanesti",69.2,14.27,"A",null,null,null,{"$f":"catp","v":3}]
[1821,"Pavel Nicolae","Braila",81.400000000000006,14.24,"A",null,null,null,{"$f":"catp","v":3}]
[1055,"Radu Lucian","Bucuresti",189.7,14.23,"A",null,null,null,{"$f":"catp","v":3}]
[1783,"Trifan Tamara","Iasi",84.6,14.2,"AF",null,null,null,{"$f":"catp","v":3}]
[2214,"Bucurel Ion","Comanesti",52.4,14.2,"A",null,null,null,{"$f":"catp","v":3}]
[2226,"Osman Levent","Constanta",51.9,14.2,"A",null,null,null,{"$f":"catp","v":3}]
[2534,"Vurst Laszlo","Oradea",37.799999999999997,14.2,"A",null,null,null,{"$f":"catp","v":3}]
[3495,"Magura Casian","Constanta",14.2,14.2,"A",null,null,null,{"$f":"catp","v":3}]
[3701,"Stan Andrei","Bucuresti",10.7,14.2,"A",null,null,null,{"$f":"catp","v":3}]
[3702,"Toma Sebastian","Ramnicu Sarat",10.7,14.2,"A",null,null,null,{"$f":"catp","v":3}]
[3703,"Nistor Costel","Galati",10.7,14.2,"A",null,null,null,{"$f":"catp","v":3}]
[1682,"Mania Gabriel","Paunesti",95.7,14.18,"A",null,null,null,{"$f":"catp","v":3}]
[2478,"Enache Doru","Cobadin",40.1,14.17,"A",null,null,null,{"$f":"catp","v":3}]
[2825,"Istrate Adrian","Bistrita",28.3,14.15,"AW",null,null,null,{"$f":"catp","v":3}]
[2927,"Ariciu George","Cocorastii Mislii",25.3,14.15,"A",null,null,null,{"$f":"catp","v":3}]
[1500,"Ciobanu Anton","Tuzla",115,14.13,"A",null,null,null,{"$f":"catp","v":3}]
[2152,"Iacob Gabriel","Iasi",57,14.13,"AW",null,null,null,{"$f":"catp","v":3}]
[1269,"Batista Lucian","Sibiu",147.6,14.12,"A",null,null,null,{"$f":"catp","v":3}]
[1389,"Vigh Marton","Cluj Napoca",129.1,14.11,"A",null,null,null,{"$f":"catp","v":3}]
[1090,"Movileanu Neculae","Brasov",181.6,14.1,"A",null,null,null,{"$f":"catp","v":3}]
[3281,"Valcea Vlad","Constanta",17.7,14.1,"A",null,null,null,{"$f":"catp","v":3}]
[3500,"Busnatu Radu Andrei","Bucuresti",14.1,14.1,"A",null,null,null,{"$f":"catp","v":3}]
[3501,"Popa Alin Andrei","Bacau",14.1,14.1,"A",null,null,null,{"$f":"catp","v":3}]
[3502,"Mitache Bira","Constanta",14.1,14.1,"A",null,null,null,{"$f":"catp","v":3}]
[1631,"Susanu Ion","Moldova-Cahul",100.4,14.08,"A",null,null,null,{"$f":"catp","v":3}]
[1417,"Corodeanu Mihai","Tecuci",124.6,14.06,"A",null,null,null,{"$f":"catp","v":3}]
[1700,"Hidisan Ioan Lucian","Campia Turzii",93.4,14.06,"A",null,null,null,{"$f":"catp","v":3}]
[1252,"Boldor Serban","Cluj Napoca",150.9,14.05,"A",null,null,null,{"$f":"catp","v":3}]
[1818,"Petrescu Dragos","Bucuresti",81.599999999999994,14.05,"A",null,null,null,{"$f":"catp","v":3}]
[3042,"Popa Constantin","Moldova",22.4,14.05,"A",null,null,null,{"$f":"catp","v":3}]
[1467,"Neagoie Adrian","Timisoara",118.9,14.04,"A",null,null,null,{"$f":"catp","v":3}]
[1140,"Paul Horatiu","Alba Iulia",171.8,14.02,"A",null,null,null,{"$f":"catp","v":3}]
[1728,"Feraru Stefan","Buzau",90.2,14.02,"A",null,null,null,{"$f":"catp","v":3}]
[1063,"Benca Lucian","Balan",187.2,14.01,"A",null,null,null,{"$f":"catp","v":3}]
[1687,"Dabucean Matei","Hateg",95.1,14,"A",null,null,null,{"$f":"catp","v":3}]
[2392,"Leurzeanu George","Bucuresti",44,14,"A",null,null,null,{"$f":"catp","v":3}]
[3506,"Tutoveanu Razvan","Brasov",14,14,"AW",null,null,null,{"$f":"catp","v":3}]
[3507,"Craciun Mihaita","Brasov",14,14,"A",null,null,null,{"$f":"catp","v":3}]
[3508,"Oprea Tiberiu","Brasov",14,14,"A",null,null,null,{"$f":"catp","v":3}]
[3714,"Graure Lucian","Resita",10.5,14,"A",null,null,null,{"$f":"catp","v":3}]
[3715,"Nguyen Thien","Bucuresti",10.5,14,"A",null,null,null,{"$f":"catp","v":3}]
[1961,"Dari Valeriu","Moldova-Cahul",70.400000000000006,13.97,"A",null,null,null,{"$f":"catp","v":3}]
[2600,"Adeaconitei Gigel","Adjud",35.200000000000003,13.95,"A",null,null,null,{"$f":"catp","v":3}]
[2838,"Hategan Vlad","Cluj Napoca",27.9,13.95,"A",null,null,null,{"$f":"catp","v":3}]
[1331,"Sala Eduard","Vizejdia",137.6,13.9,"A",null,null,null,{"$f":"catp","v":3}]
[2839,"Ungureanu Petrica","Pascani",27.8,13.9,"A",null,null,null,{"$f":"catp","v":3}]
[3514,"Ionescu Dragut","Curtea de Arges",13.9,13.9,"A",null,null,null,{"$f":"catp","v":3}]
[1667,"Nisulescu Constantin","Bucuresti",97.2,13.86,"A",null,null,null,{"$f":"catp","v":3}]
[2609,"Arhip George","Botosani",34.799999999999997,13.85,"A",null,null,null,{"$f":"catp","v":3}]
[1435,"Cheseli Rares","Bucuresti",123,13.84,"A",null,null,null,{"$f":"catp","v":3}]
[1872,"Dumitru Ovidiu","Buzau",77,13.82,"A",null,null,null,{"$f":"catp","v":3}]
[1287,"Asmarandei Petru","Constanta",144.30000000000001,13.8,"AW",null,null,null,{"$f":"catp","v":3}]
[2150,"Bugarin Fabian","Lugoj",57.3,13.8,"A",null,null,null,{"$f":"catp","v":3}]
[2535,"Tronciu Gabriel","Roman",37.700000000000003,13.8,"A",null,null,null,{"$f":"catp","v":3}]
[2943,"Gorbatiuc Alexandr","Ucraina-Odessa",24.8,13.8,"A",null,null,null,{"$f":"catp","v":3}]
[2980,"Radu Mihaela","Targoviste",23.9,13.8,"AF",null,null,null,{"$f":"catp","v":3}]
[3517,"Martin Sergiu","Buhusi",13.8,13.8,"A",null,null,null,{"$f":"catp","v":3}]
[3518,"Bantush Mihaela","Moldova-Cahul",13.8,13.8,"AF",null,null,null,{"$f":"catp","v":3}]
[3519,"Srbulj Branislav","Pancevo",13.8,13.8,"A",null,null,null,{"$f":"catp","v":3}]
[3723,"Codin Mihai","Bucuresti",10.4,13.8,"A",null,null,null,{"$f":"catp","v":3}]
[1669,"Pentescu Adrian","Constanta",97.1,13.78,"A",null,null,null,{"$f":"catp","v":3}]
[1093,"Rus Partenie","Santimbru AB",181,13.75,"A",null,null,null,{"$f":"catp","v":3}]
[1990,"Dragomir Mircea","Medias",67.5,13.75,"A",null,null,null,{"$f":"catp","v":3}]
[2970,"Truta Ioan","Cluj Napoca",24.2,13.75,"A",null,null,null,{"$f":"catp","v":3}]
[2531,"Sipos Claudiu","Gherla",37.9,13.73,"A",null,null,null,{"$f":"catp","v":3}]
[1148,"Birtalan Attila","Crasna",169.2,13.71,"A",null,null,null,{"$f":"catp","v":3}]
[1265,"Spancioc Ciprian","Cluj Napoca",148.69999999999999,13.71,"A",null,null,null,{"$f":"catp","v":3}]
[2557,"Hidisan Cornel","Campia Turzii",37,13.7,"A",null,null,null,{"$f":"catp","v":3}]
[2947,"Tulpan George Laurentiu","Targu Jiu",24.7,13.7,"A",null,null,null,{"$f":"catp","v":3}]
[3001,"Vladu Daniel","Bucuresti",23.5,13.7,"A",null,null,null,{"$f":"catp","v":3}]
[3524,"Migliaccio Antonello","Italia",13.7,13.7,"A",null,null,null,{"$f":"catp","v":3}]
[2551,"Georgescu Cristian","Pitesti",37.1,13.67,"A",null,null,null,{"$f":"catp","v":3}]
[1991,"Herban Cosmin","Hunedoara",67.5,13.65,"A",null,null,null,{"$f":"catp","v":3}]
[2648,"Belea Laurentiu","Galati",33.1,13.65,"A",null,null,null,{"$f":"catp","v":3}]
[2860,"Todos Dumitru","Moldova-Cahul",27.3,13.65,"A",null,null,null,{"$f":"catp","v":3}]
[2867,"Todea Adrian","Apahida",27.2,13.6,"A",null,null,null,{"$f":"catp","v":3}]
[3529,"Iordanov Ivailo","Bulgaria",13.6,13.6,"A",null,null,null,{"$f":"catp","v":3}]
[3733,"Rujan Paul Adrian","Braila",10.199999999999999,13.6,"AW",null,null,null,{"$f":"catp","v":3}]
[3734,"Oleinic Denis","Moldova-Edinet",10.199999999999999,13.6,"A",null,null,null,{"$f":"catp","v":3}]
[3735,"Cisco Eldar","Moldova-Balti",10.199999999999999,13.6,"A",null,null,null,{"$f":"catp","v":3}]
[2191,"Mincu Theodor","Craiova",54.3,13.55,"A",null,null,null,{"$f":"catp","v":3}]
[2955,"Avram Ionut","Galati",24.5,13.55,"A",null,null,null,{"$f":"catp","v":3}]
[1705,"Iordache Catalin","Comanesti",93.1,13.54,"AW",null,null,null,{"$f":"catp","v":3}]
[2098,"Mihalache Daniel","Buzau",60.8,13.53,"A",null,null,null,{"$f":"catp","v":3}]
[772,"Hosu Andrei","Resita",271,13.51,"A",null,null,null,{"$f":"catp","v":3}]
[1840,"Marica Dan","Brasov",80,13.5,"A",null,null,null,{"$f":"catp","v":3}]
[2173,"Tataru Nicolae","Vaslui",55.5,13.5,"A",null,null,null,{"$f":"catp","v":3}]
[2298,"Bacanu Paulian","Brasov",48.4,13.5,"A",null,null,null,{"$f":"catp","v":3}]
[2314,"Dosoftei Traian","Mangalia",47.5,13.5,"A",null,null,null,{"$f":"catp","v":3}]
[3336,"Benedek Oszkar Bela","Brasov",16.899999999999999,13.5,"A",null,null,null,{"$f":"catp","v":3}]
[3535,"Burduja Vladimir","Moldova-Chisinau",13.5,13.5,"A",null,null,null,{"$f":"catp","v":3}]
[3536,"Malcoci Mihai","Moldova-Chisinau",13.5,13.5,"A",null,null,null,{"$f":"catp","v":3}]
[3736,"Gogorita Octavian","Navodari",10.199999999999999,13.5,"A",null,null,null,{"$f":"catp","v":3}]
[1600,"Neagoe Catalin","Timisoara",103.4,13.48,"AW",null,null,null,{"$f":"catp","v":3}]
[1785,"Nicusor Dan","Bucuresti",84.3,13.46,"A",null,null,null,{"$f":"catp","v":3}]
[1285,"Hogea Cristi","Piatra Neamt",144.5,13.4,"A",null,null,null,{"$f":"catp","v":3}]
[2395,"Pop Emanuel","Alesd",43.9,13.4,"A",null,null,null,{"$f":"catp","v":3}]
[2882,"Sandul Victoria","Moldova-Chisinau",26.8,13.4,"AF",null,null,null,{"$f":"catp","v":3}]
[2977,"Linoiu Alexandru","Constanta",24,13.4,"A",null,null,null,{"$f":"catp","v":3}]
[3543,"Susan Mircea","Alba Iulia",13.4,13.4,"A",null,null,null,{"$f":"catp","v":3}]
[3544,"Popescu Cristi","Slatina",13.4,13.4,"A",null,null,null,{"$f":"catp","v":3}]
[1841,"Aparaschivei Marcel","Botosani",79.7,13.38,"AW",null,null,null,{"$f":"catp","v":3}]
[1952,"Rus Alexandru","Targu Mures",71.3,13.35,"A",null,null,null,{"$f":"catp","v":3}]
[2956,"Staricov Alexandru","Moldova-Balti",24.5,13.35,"A",null,null,null,{"$f":"catp","v":3}]
[1616,"Varga Petru","Bagaciu",102,13.3,"A",null,null,null,{"$f":"catp","v":3}]
[1978,"Driha Catalin","Timisoara",68.7,13.3,"A",null,null,null,{"$f":"catp","v":3}]
[2201,"Hirlea Luca","Suceava",53.6,13.3,"A",null,null,null,{"$f":"catp","v":3}]
[3748,"Ioan Filip","Bucuresti",10,13.3,"A",null,null,null,{"$f":"catp","v":3}]
[3749,"Munteanu Dragos","Bucuresti",10,13.3,"A",null,null,null,{"$f":"catp","v":3}]
[1329,"Dumitru Paul","Bucuresti",137.80000000000001,13.29,"A",null,null,null,{"$f":"catp","v":3}]
[2572,"Geanta Mihai","Slobozia",36.5,13.25,"A",null,null,null,{"$f":"catp","v":3}]
[1275,"Muresan Adrian","Brasov",146.9,13.23,"A",null,null,null,{"$f":"catp","v":3}]
[1126,"Pican Ion","Slatina",174,13.22,"A",null,null,null,{"$f":"catp","v":3}]
[1012,"Buica Elisei","Hateg",200.3,13.2,"A",null,null,null,{"$f":"catp","v":3}]
[1665,"Huzoni Viorel","Jibou",97.3,13.2,"A",null,null,null,{"$f":"catp","v":3}]
[2356,"Lopadean Daria","Aiud",45.4,13.2,"AF",null,null,null,{"$f":"catp","v":3}]
[3261,"Baetu Constantin","Targu Neamt",18.2,13.2,"A",null,null,null,{"$f":"catp","v":3}]
[3764,"David Stefan","Ploiesti",9.9,13.2,"AW",null,null,null,{"$f":"catp","v":3}]
[1035,"Sarlea Tiberiu","Blaj",194.3,13.17,"A",null,null,null,{"$f":"catp","v":3}]
[1464,"Tere Sergiu","Cluj Napoca",119.3,13.16,"A",null,null,null,{"$f":"catp","v":3}]
[2090,"Pocriser Stefan","Oradea",61.1,13.15,"A",null,null,null,{"$f":"catp","v":3}]
[2329,"Babalean Sebastian","Galanesti",46.8,13.15,"A",null,null,null,{"$f":"catp","v":3}]
[2779,"Denes Andrei","Varsolt",29.4,13.15,"A",null,null,null,{"$f":"catp","v":3}]
[1996,"Dascal Tiberiu","Cluj Napoca",66.900000000000006,13.12,"A",null,null,null,{"$f":"catp","v":3}]
[1066,"Batir Alexandru","Bucuresti",186.7,13.11,"A",null,null,null,{"$f":"catp","v":3}]
[2529,"Pauna Bogdan","Craiova",38.1,13.1,"A",null,null,null,{"$f":"catp","v":3}]
[3149,"Bucur Alin Adrian","Targu Mures",20.100000000000001,13.1,"A",null,null,null,{"$f":"catp","v":3}]
[3555,"Cravcenco Evghenii","Ucraina-Odessa",13.1,13.1,"A",null,null,null,{"$f":"catp","v":3}]
[1452,"Duman Iulian","Halaucesti",121,13.08,"AW",null,null,null,{"$f":"catp","v":3}]
[1398,"Popa Mihai","Sibiu",127.9,13,"AW",null,null,null,{"$f":"catp","v":3}]
[2730,"Homana Marius","Stremt",31,13,"A",null,null,null,{"$f":"catp","v":3}]
[2826,"Rusu Adrian","Aiud",28.3,13,"A",null,null,null,{"$f":"catp","v":3}]
[3559,"Lazar Emil","Ocna Mures",13,13,"A",null,null,null,{"$f":"catp","v":3}]
[2014,"Babes Robin","Brasov",65.599999999999994,12.98,"A",null,null,null,{"$f":"catp","v":3}]
[1558,"Criste Mihai Marius","Cluj Napoca",107.9,12.97,"A",null,null,null,{"$f":"catp","v":3}]
[2515,"Dumitrana Catalin","Bucuresti",38.6,12.97,"A",null,null,null,{"$f":"catp","v":3}]
[1113,"Gheorghe Mihai","Bucuresti",176.1,12.95,"A",null,null,null,{"$f":"catp","v":3}]
[1764,"Jurgiu Marian","Botosani",86.4,12.92,"AW",null,null,null,{"$f":"catp","v":3}]
[1787,"Muresan Aris","Gherla",84.2,12.9,"A",null,null,null,{"$f":"catp","v":3}]
[2675,"Markos Hunor","Targu Mures",32.4,12.9,"A",null,null,null,{"$f":"catp","v":3}]
[3567,"Ifrosa Ciprian","Cluj Napoca",12.9,12.9,"A",null,null,null,{"$f":"catp","v":3}]
[3568,"Catuna Bogdan","Cluj Napoca",12.9,12.9,"A",null,null,null,{"$f":"catp","v":3}]
[3569,"Pavlov Valentin","Moldova-Cahul",12.9,12.9,"A",null,null,null,{"$f":"catp","v":3}]
[3570,"Budean Daniel","Gherla",12.9,12.9,"A",null,null,null,{"$f":"catp","v":3}]
[3775,"Verzea Stefania","Campulung Muscel",9.6999999999999993,12.9,"AF",null,null,null,{"$f":"catp","v":3}]
[1262,"Padurean Calin","Resita",148.9,12.89,"A",null,null,null,{"$f":"catp","v":3}]
[2066,"Varga Mihai","Lugoj",62.2,12.88,"A",null,null,null,{"$f":"catp","v":3}]
[2786,"Leon Dumitru","Moldova-Cahul",29.2,12.85,"A",null,null,null,{"$f":"catp","v":3}]
[1108,"Gaman Alin","Marginenii de Jos",177.8,12.83,"A",null,null,null,{"$f":"catp","v":3}]
[1904,"Velicu Damian Laurentiu","Bucuresti",74.5,12.83,"A",null,null,null,{"$f":"catp","v":3}]
[2041,"Gavriluta Danut","Vadu Moldovei",63.7,12.83,"A",null,null,null,{"$f":"catp","v":3}]
[2718,"Popescu Andrei","Bucuresti",31.4,12.83,"A",null,null,null,{"$f":"catp","v":3}]
[2019,"Borbeiu Ciprian","Baia Mare",65.3,12.8,"A",null,null,null,{"$f":"catp","v":3}]
[2911,"Vestineanu Ionut","Slobozia",25.6,12.8,"A",null,null,null,{"$f":"catp","v":3}]
[3577,"Moisa Costel","Tecuci",12.8,12.8,"A",null,null,null,{"$f":"catp","v":3}]
[3578,"Apostu Laurentiu","Focsani",12.8,12.8,"A",null,null,null,{"$f":"catp","v":3}]
[3579,"Bobeica Eduard","Focsani",12.8,12.8,"A",null,null,null,{"$f":"catp","v":3}]
[1918,"Serban Florin","Fratautii Noi",73.8,12.78,"A",null,null,null,{"$f":"catp","v":3}]
[2155,"Avramia Dan","Oniceni",56.8,12.78,"A",null,null,null,{"$f":"catp","v":3}]
[2710,"Apostol Ionut","Cluj Napoca",31.6,12.75,"A",null,null,null,{"$f":"catp","v":3}]
[2916,"Constantin Cristian","Curtea de Arges",25.5,12.75,"A",null,null,null,{"$f":"catp","v":3}]
[2917,"Delibaltov Piotr","Moldova-Cantemir",25.5,12.75,"A",null,null,null,{"$f":"catp","v":3}]
[2918,"Dragomir Silviu Nicu","Focsani",25.5,12.75,"A",null,null,null,{"$f":"catp","v":3}]
[1799,"Balint Andrei","Reghin",83.4,12.73,"A",null,null,null,{"$f":"catp","v":3}]
[1051,"Maksymov Oleksandr","Ucraina",190.3,12.72,"A",null,null,null,{"$f":"catp","v":3}]
[1955,"Mehedintu Octavian","Bucuresti",71.099999999999994,12.7,"A",null,null,null,{"$f":"catp","v":3}]
[2595,"Podoreanu Laurentiu","Bucuresti",35.4,12.7,"A",null,null,null,{"$f":"catp","v":3}]
[3585,"Florea Lucian","Vaslui",12.7,12.7,"AW",null,null,null,{"$f":"catp","v":3}]
[2039,"Sentes Norbert","Timisoara",63.9,12.68,"A",null,null,null,{"$f":"catp","v":3}]
[2199,"Alexandrescu Eduard","Bucuresti",53.8,12.68,"A",null,null,null,{"$f":"catp","v":3}]
[1439,"Burghelea Liviu","Bucuresti",122.5,12.63,"A",null,null,null,{"$f":"catp","v":3}]
[2793,"Alexe Razvan","Bucuresti",29,12.6,"A",null,null,null,{"$f":"catp","v":3}]
[3589,"Cucurigu Paul","Vatra Dornei",12.6,12.6,"A",null,null,null,{"$f":"catp","v":3}]
[3590,"Cornea Valeriu","Fagaras",12.6,12.6,"A",null,null,null,{"$f":"catp","v":3}]
[3784,"Suciu Dragos","Constanta",9.5,12.6,"A"]
[3785,"Miron Viorel","Iasi",9.5,12.6,"A",null,null,null,{"$f":"catp","v":3}]
[2611,"Stefanescu Serban","Harsova",34.700000000000003,12.55,"A",null,null,null,{"$f":"catp","v":3}]
[1256,"Orosan Vasile","Ludus",150.5,12.52,"A",null,null,null,{"$f":"catp","v":3}]
[1634,"Jarebe Massimo","Iasi",100.2,12.51,"A",null,null,null,{"$f":"catp","v":3}]
[2220,"Porumb Cristian","Sibiu",52.2,12.5,"A",null,null,null,{"$f":"catp","v":3}]
[2630,"Dobrean Ruben","Faget",33.799999999999997,12.47,"A",null,null,null,{"$f":"catp","v":3}]
[2523,"Dumitrascu Eduard","Bucuresti",38.5,12.43,"A",null,null,null,{"$f":"catp","v":3}]
[935,"Anoiu Alexandru","Hunedoara",219.6,12.41,"A",null,null,null,{"$f":"catp","v":3}]
[1762,"Bratu Aurel","Constanta",86.5,12.4,"AW",null,null,null,{"$f":"catp","v":3}]
[3072,"Socaciu Dan Catalin","Floresti",21.8,12.4,"A",null,null,null,{"$f":"catp","v":3}]
[3800,"Mitran Mihail","Slatina",9.3000000000000007,12.4,"A",null,null,null,{"$f":"catp","v":3}]
[1638,"Calin Stefan Daniel","Urlati",99.7,12.37,"A",null,null,null,{"$f":"catp","v":3}]
[2330,"Lienerth Lukas","Sibiu",46.8,12.37,"A",null,null,null,{"$f":"catp","v":3}]
[2587,"Ciornuleta Denis Stefan","Focsani",35.9,12.37,"A",null,null,null,{"$f":"catp","v":3}]
[922,"Popescu Petre","Bucuresti",222.6,12.34,"A",null,null,null,{"$f":"catp","v":3}]
[1956,"Nicut Valentin","Curtea de Arges",70.900000000000006,12.33,"A",null,null,null,{"$f":"catp","v":3}]
[2148,"Babos Ioan","Sarmasag",57.4,12.33,"A",null,null,null,{"$f":"catp","v":3}]
[2051,"Filipoiu Bogdan","Ramnicu Valcea",63.3,12.3,"A",null,null,null,{"$f":"catp","v":3}]
[2588,"Gaia Mihai","Iasi",35.9,12.3,"A",null,null,null,{"$f":"catp","v":3}]
[3414,"Coroiu Matei","Brasov",15.4,12.3,"A",null,null,null,{"$f":"catp","v":3}]
[3601,"Ceacusta Daria","Moldova-Avdarma",12.3,12.3,"AF",null,null,null,{"$f":"catp","v":3}]
[1203,"Radulescu Dan","Bucuresti",157.69999999999999,12.27,"A",null,null,null,{"$f":"catp","v":3}]
[1270,"Suciu Daniel","Alba Iulia",147.6,12.26,"AW",null,null,null,{"$f":"catp","v":3}]
[2821,"Moraru Vladut","Brasov",28.5,12.25,"A",null,null,null,{"$f":"catp","v":3}]
[2139,"Angheloni Adrian","Nadrag",58.1,12.23,"A",null,null,null,{"$f":"catp","v":3}]
[1510,"Nitu Gheorghe","Craiova",114.4,12.2,"A",null,null,null,{"$f":"catp","v":3}]
[1860,"Sava Ionut","Bacau",77.900000000000006,12.2,"A",null,null,null,{"$f":"catp","v":3}]
[2497,"Rusti Andrei","Bucuresti",39.299999999999997,12.2,"A",null,null,null,{"$f":"catp","v":3}]
[2780,"Arama Gicu","Braila",29.4,12.2,"AW",null,null,null,{"$f":"catp","v":3}]
[2787,"Chira Angel","Baia Mare",29.2,12.2,"AW",null,null,null,{"$f":"catp","v":3}]
[3120,"Stupinean Mircea","Calan",20.7,12.2,"A",null,null,null,{"$f":"catp","v":3}]
[3420,"Szalkai Zoran","Brasov",15.3,12.2,"A",null,null,null,{"$f":"catp","v":3}]
[3605,"Craciun Roberto","Videle",12.2,12.2,"A",null,null,null,{"$f":"catp","v":3}]
[1037,"Ploscar Claudiu","Cluj Napoca",193.8,12.14,"A",null,null,null,{"$f":"catp","v":3}]
[2669,"Florea Iulian","Bucuresti",32.700000000000003,12.13,"A",null,null,null,{"$f":"catp","v":3}]
[3262,"Fecioru Cristi","Craiova",18.2,12.1,"A",null,null,null,{"$f":"catp","v":3}]
[3610,"Roman Doru","Medias",12.1,12.1,"A",null,null,null,{"$f":"catp","v":3}]
[2044,"Mihoc Cristian Stefan","Iasi",63.5,12.06,"A",null,null,null,{"$f":"catp","v":3}]
[2773,"Caradjov Stepan","Moldova-Leova",29.6,12.05,"A",null,null,null,{"$f":"catp","v":3}]
[3267,"Tudorica Ionut","Bucuresti",18.100000000000001,12.05,"A",null,null,null,{"$f":"catp","v":3}]
[1164,"Lumezeanu Cristian","Bucuresti",165.2,12.02,"A",null,null,null,{"$f":"catp","v":3}]
[1965,"Baldan Ioana","Cluj Napoca",70.2,12.02,"AFD",null,null,null,{"$f":"catp","v":3}]
[2355,"Paduraru Giani","Vaslui",45.5,12,"A",null,null,null,{"$f":"catp","v":3}]
[2794,"Anton Calin","Sibiu",29,12,"AW",null,null,null,{"$f":"catp","v":3}]
[3614,"Trandafir Catalin","Slobozia",12,12,"A",null,null,null,{"$f":"catp","v":3}]
[3615,"Plesca Leonard","Halaucesti",12,12,"A",null,null,null,{"$f":"catp","v":3}]
[1152,"Ion Robert","Bucuresti",167.7,11.97,"A",null,null,null,{"$f":"catp","v":3}]
[2508,"Ciurlica Mugurel","Pascani",39,11.95,"A",null,null,null,{"$f":"catp","v":3}]
[2485,"Barjac Raul","Prodanesti",39.700000000000003,11.93,"A",null,null,null,{"$f":"catp","v":3}]
[1896,"Teodorescu Robert","Bucuresti",74.900000000000006,11.92,"A",null,null,null,{"$f":"catp","v":3}]
[1437,"Vavura Narcis","Targu Jiu",122.7,11.9,"A",null,null,null,{"$f":"catp","v":3}]
[2801,"Bayusz Zoltan","Arad",28.9,11.9,"A",null,null,null,{"$f":"catp","v":3}]
[2919,"Moldovan Matei","Cluj Napoca",25.5,11.9,"A",null,null,null,{"$f":"catp","v":3}]
[3039,"Volostiuc Catalin","Suceava",22.5,11.9,"A",null,null,null,{"$f":"catp","v":3}]
[3586,"Voicu Mihai","Ploiesti",12.7,11.9,"A",null,null,null,{"$f":"catp","v":3}]
[3625,"Bors Grigore","Moldova-Chisinau",11.9,11.9,"A",null,null,null,{"$f":"catp","v":3}]
[3626,"Plescaci Vitalie","Moldova-Chisinau",11.9,11.9,"A",null,null,null,{"$f":"catp","v":3}]
[3627,"Duplii Alexandru","Moldova-Chisinau",11.9,11.9,"A",null,null,null,{"$f":"catp","v":3}]
[2354,"Khashan Salem","Bucuresti",45.6,11.85,"A",null,null,null,{"$f":"catp","v":3}]
[2635,"Miclea Bogdan","Cluj Napoca",33.700000000000003,11.85,"A",null,null,null,{"$f":"catp","v":3}]
[2756,"Bretan Natalia","Satu Mare",30,11.85,"AF",null,null,null,{"$f":"catp","v":3}]
[2908,"Popa Bogdan","Bucuresti",25.7,11.85,"A",null,null,null,{"$f":"catp","v":3}]
[2998,"Serban Mihai","Bucuresti",23.6,11.8,"A",null,null,null,{"$f":"catp","v":3}]
[3343,"Vlasin Marian","Viseu",16.8,11.8,"A",null,null,null,{"$f":"catp","v":3}]
[3837,"Daianu Ion","Timisoara",8.9,11.8,"A",null,null,null,{"$f":"catp","v":3}]
[2802,"Zamblau Arsenie","Floresti",28.9,11.75,"AJ",null,null,null,{"$f":"catp","v":3}]
[2723,"Forton Nicusor","Arad",31.2,11.7,"A",null,null,null,{"$f":"catp","v":3}]
[3291,"Aurica Gabriel","Tecuci",17.600000000000001,11.7,"A",null,null,null,{"$f":"catp","v":3}]
[3292,"Pal Szilard","Miercurea Ciuc",17.600000000000001,11.7,"A",null,null,null,{"$f":"catp","v":3}]
[3637,"Bisoc Razvan","Sabaoani",11.7,11.7,"AD",null,null,null,{"$f":"catp","v":3}]
[3638,"Druga Ioana","Constanta",11.7,11.7,"AF",null,null,null,{"$f":"catp","v":3}]
[3841,"Radu Gabriel","Bocsa",8.8000000000000007,11.7,"A",null,null,null,{"$f":"catp","v":3}]
[1286,"Lazar Adrian","Bucuresti",144.5,11.69,"A",null,null,null,{"$f":"catp","v":3}]
[1786,"Borta Alexandru","Iasi",84.3,11.67,"A",null,null,null,{"$f":"catp","v":3}]
[2100,"Foris Csaba","Bistrita",60.6,11.67,"A",null,null,null,{"$f":"catp","v":3}]
[2028,"Talos Cristian","Malut",64.8,11.65,"A",null,null,null,{"$f":"catp","v":3}]
[2774,"Grozavu Alexandru","Rovinari",29.6,11.65,"A",null,null,null,{"$f":"catp","v":3}]
[2160,"Cozma Dan","Dej",56.5,11.63,"A",null,null,null,{"$f":"catp","v":3}]
[2281,"Cozma Stefan","Apahida",49.1,11.63,"A",null,null,null,{"$f":"catp","v":3}]
[1920,"Pavelescu Alexandra","Bucuresti",73.7,11.6,"AF",null,null,null,{"$f":"catp","v":3}]
[2110,"Gales Ioan","Suceava",59.9,11.6,"A",null,null,null,{"$f":"catp","v":3}]
[2829,"Mitrica Gheorghe","Gostavatu",28.2,11.6,"A",null,null,null,{"$f":"catp","v":3}]
[3012,"Glavan Alexandru","Targoviste",23.2,11.6,"A",null,null,null,{"$f":"catp","v":3}]
[3848,"Iorga Gheorghe","Iasi",8.6999999999999993,11.6,"A",null,null,null,{"$f":"catp","v":3}]
[3849,"Neagu Dorin Damian","Iasi",8.6999999999999993,11.6,"A",null,null,null,{"$f":"catp","v":3}]
[3850,"Evghenii Dubrovin","Moldova-Balti",8.6999999999999993,11.6,"A",null,null,null,{"$f":"catp","v":3}]
[1354,"Varachin Vitalie","Moldova-Cahul",133.80000000000001,11.59,"A",null,null,null,{"$f":"catp","v":3}]
[3016,"Cupse Alexandru","Baia Mare",23.1,11.55,"A",null,null,null,{"$f":"catp","v":3}]
[3050,"Sabin Alexandru","Bucuresti",22.3,11.55,"A",null,null,null,{"$f":"catp","v":3}]
[3023,"Visan Viorel","Constanta",23,11.5,"A",null,null,null,{"$f":"catp","v":3}]
[3056,"Denes Ludovic","Varsolt",22.2,11.5,"A",null,null,null,{"$f":"catp","v":3}]
[3312,"Sterie Bogdan","Bucuresti",17.3,11.5,"A",null,null,null,{"$f":"catp","v":3}]
[3646,"Mihaila Radu","Timisoara",11.5,11.5,"A",null,null,null,{"$f":"catp","v":3}]
[3647,"Niculescu Horia","Bucuresti",11.5,11.5,"A",null,null,null,{"$f":"catp","v":3}]
[3648,"Petre Adrian","Bals",11.5,11.5,"A",null,null,null,{"$f":"catp","v":3}]
[3649,"Goroian Vladislav","Moldova-Leova",11.5,11.5,"A",null,null,null,{"$f":"catp","v":3}]
[3851,"Barbos Florin","Bistrita",8.6999999999999993,11.5,"AW",null,null,null,{"$f":"catp","v":3}]
[3852,"Vasile Iancu","Navodari",8.6999999999999993,11.5,"A",null,null,null,{"$f":"catp","v":3}]
[3853,"Ceontea Horatiu","Batos",8.6999999999999993,11.5,"A",null,null,null,{"$f":"catp","v":3}]
[2461,"Talaba Mihai","Tecuci",40.9,11.47,"A",null,null,null,{"$f":"catp","v":3}]
[2795,"Petruse Adrian","Zalau",29,11.47,"A",null,null,null,{"$f":"catp","v":3}]
[1457,"Gavriliuc Sorin","Botosani",120,11.46,"A",null,null,null,{"$f":"catp","v":3}]
[3184,"Tala Lenard","Micfalau",19.399999999999999,11.45,"A",null,null,null,{"$f":"catp","v":3}]
[1835,"Bischin Gabriel","Cisnadie",80.400000000000006,11.42,"A",null,null,null,{"$f":"catp","v":3}]
[2594,"Cotet George","Pascani",35.6,11.4,"A",null,null,null,{"$f":"catp","v":3}]
[2738,"Malene Petru","Fagaras",30.7,11.4,"A",null,null,null,{"$f":"catp","v":3}]
[2948,"Moisa Radu Ioan","Bacau",24.7,11.4,"A",null,null,null,{"$f":"catp","v":3}]
[2978,"Biro Attila","Reghin",24,11.4,"A",null,null,null,{"$f":"catp","v":3}]
[3654,"Gusan Boris","Turda",11.4,11.4,"AW",null,null,null,{"$f":"catp","v":3}]
[3655,"Golban Nicolae","Alba Iulia",11.4,11.4,"AW",null,null,null,{"$f":"catp","v":3}]
[1251,"Ostrovanu Cosmin","Suceava",151.1,11.36,"A",null,1,null,{"$f":"catp","v":3}]
[2176,"Baltaga Florin","Deva",55.3,11.35,"A",null,null,null,{"$f":"catp","v":3}]
[3140,"Turcinschi Serghei","Moldova-Balti",20.3,11.35,"A",null,null,null,{"$f":"catp","v":3}]
[1656,"Albu Cristian","Iasi",97.8,11.34,"A",null,null,null,{"$f":"catp","v":3}]
[1228,"Hoca Daniel","Lunca Muresului",154,11.32,"A",null,null,null,{"$f":"catp","v":3}]
[2912,"Kondort Dan","Sibiu",25.6,11.3,"A",null,null,null,{"$f":"catp","v":3}]
[3660,"Greonjanc Marinel","Vlajkovac",11.3,11.3,"A",null,null,null,{"$f":"catp","v":3}]
[3661,"Teaca Gheorghe","Moldova-Drochia",11.3,11.3,"A",null,null,null,{"$f":"catp","v":3}]
[3662,"Aksic Radovan","Belgrad",11.3,11.3,"A",null,null,null,{"$f":"catp","v":3}]
[1774,"Loghin Claudiu","Iasi",85.1,11.28,"A",null,null,null,{"$f":"catp","v":3}]
[2726,"Dobos Robert","Iasi",31.1,11.27,"A",null,null,null,{"$f":"catp","v":3}]
[2855,"Cuntan Ioan","Saliste",27.5,11.25,"A",null,null,null,{"$f":"catp","v":3}]
[1507,"Banda Mircea","Timisoara",114.7,11.23,"A",null,null,null,{"$f":"catp","v":3}]
[2105,"Iordan Adrian","Bucuresti",60,11.22,"A",null,null,null,{"$f":"catp","v":3}]
[1166,"Csiki Ioan","Targu Mures",164.9,11.21,"AW",null,null,null,{"$f":"catp","v":3}]
[1070,"Ivanoschi Simion","Timisoara",185.6,11.2,"AW",null,null,null,{"$f":"catp","v":3}]
[2637,"Bacain Marian","Calarasi",33.6,11.2,"A",null,null,null,{"$f":"catp","v":3}]
[3043,"Opran Gavril","Bucuresti",22.4,11.2,"A",null,null,null,{"$f":"catp","v":3}]
[3044,"Sandru Aurel","Calarasi",22.4,11.2,"A",null,null,null,{"$f":"catp","v":3}]
[3045,"Munteanu Elisei","Moldova-Cahul",22.4,11.2,"A",null,null,null,{"$f":"catp","v":3}]
[3344,"Neagu Mihai","Iasi",16.8,11.2,"A",null,null,null,{"$f":"catp","v":3}]
[3667,"Barbu Cristian","Maneciu",11.2,11.2,"A",null,null,null,{"$f":"catp","v":3}]
[3668,"Ionita Cristian","Ploiesti",11.2,11.2,"A",null,null,null,{"$f":"catp","v":3}]
[3669,"Iepure Teodor Calin","Aiud",11.2,11.2,"A",null,null,null,{"$f":"catp","v":3}]
[3670,"Haidarli Ion","Moldova-Straseni",11.2,11.2,"A",null,null,null,{"$f":"catp","v":3}]
[1741,"Soceanu Bogdan","Bucuresti",89,11.18,"A",null,null,null,{"$f":"catp","v":3}]
[2542,"Anica Andrei","Buzau",37.299999999999997,11.17,"A",null,null,null,{"$f":"catp","v":3}]
[3051,"Zsold Valentin","Medias",22.3,11.15,"A",null,null,null,{"$f":"catp","v":3}]
[2398,"Boteanu Mihai Claudiu","Slobozia",43.7,11.13,"A",null,null,null,{"$f":"catp","v":3}]
[3239,"Bufetov Ilia","Moldova-Balti",18.8,11.1,"A",null,null,null,{"$f":"catp","v":3}]
[3674,"Mihai Alexandru","Braila",11.1,11.1,"A",null,null,null,{"$f":"catp","v":3}]
[1334,"Murvai Bela","Delenii",137.30000000000001,11.09,"A",null,null,null,{"$f":"catp","v":3}]
[1314,"Ionas Maria","Sibiu",140.30000000000001,11.08,"AF",null,null,null,{"$f":"catp","v":3}]
[2078,"Mutiu Cristian","Sighetu Marmatiei",61.5,11.05,"A",null,null,null,{"$f":"catp","v":3}]
[2695,"Mitroi Florin","Bucuresti",32.1,11.05,"A",null,null,null,{"$f":"catp","v":3}]
[3060,"Cercel Ionut","Buzau",22.1,11.05,"A",null,null,null,{"$f":"catp","v":3}]
[3108,"Perte Calin","Oradea",21,11.05,"A",null,null,null,{"$f":"catp","v":3}]
[3136,"Sebestyen Tiberiu","Deva",20.399999999999999,11.05,"A",null,null,null,{"$f":"catp","v":3}]
[2124,"Pop Daniel","Suceava",59.3,11.03,"A",null,null,null,{"$f":"catp","v":3}]
[2175,"Barabasi Balazs","Campenita",55.4,11.03,"A",null,null,null,{"$f":"catp","v":3}]
[3147,"Bogdan Sergiu","Ilfov",20.2,11,"A",null,null,null,{"$f":"catp","v":3}]
[3678,"Dubrovin Evghenii","Moldova-Balti",11,11,"A",null,null,null,{"$f":"catp","v":3}]
[3883,"Chivu Adrian","Slobozia",8.3000000000000007,11,"A",null,null,null,{"$f":"catp","v":3}]
[2445,"Stanescu Romeo","Hunedoara",41.6,10.97,"A",null,null,null,{"$f":"catp","v":3}]
[2035,"Hontaru Dan","Galati",64.400000000000006,10.95,"A",null,null,null,{"$f":"catp","v":3}]
[1795,"Agache Sorin","Navodari",83.7,10.92,"AW",null,null,null,{"$f":"catp","v":3}]
[1532,"Cojocariu Vasile","Comanesti",111.2,10.91,"A",null,null,null,{"$f":"catp","v":3}]
[2764,"Balasa Adrian","Alexandria",29.8,10.9,"A",null,null,null,{"$f":"catp","v":3}]
[2796,"Manta Radu","Bucuresti",29,10.9,"A",null,null,null,{"$f":"catp","v":3}]
[3687,"Buzzoni Amelia","Lombardia Italia",10.9,10.9,"AF",null,null,null,{"$f":"catp","v":3}]
[1403,"Adamosi Klaudia","Targu Mures",126.5,10.88,"AF",null,null,null,{"$f":"catp","v":3}]
[2543,"Balcu Laurentiu","Bocsa",37.299999999999997,10.83,"A",null,null,null,{"$f":"catp","v":3}]
[2741,"Ursu Silviu","Timisoara",30.6,10.83,"A",null,null,null,{"$f":"catp","v":3}]
[2781,"Cretan Titi","Straja",29.4,10.8,"A",null,null,null,{"$f":"catp","v":3}]
[3372,"Marinescu Dan","Ramnicu Valcea",16.2,10.8,"A",null,null,null,{"$f":"catp","v":3}]
[3895,"Onofrei Dan","Oradea",8.1,10.8,"AW",null,null,null,{"$f":"catp","v":3}]
[3896,"Ion Sandu","Bucuresti",8.1,10.8,"A",null,null,null,{"$f":"catp","v":3}]
[1143,"Aparaschive Iulian","Botosani",171,10.79,"A",null,null,null,{"$f":"catp","v":3}]
[1653,"Garciu Iulian","Bucuresti",98.3,10.79,"A",null,null,null,{"$f":"catp","v":3}]
[3897,"Ganja Ciprian","Giroc",8.1,10.7,"A",null,null,null,{"$f":"catp","v":3}]
[1680,"Fagaras Daniel","Arad",96.1,10.69,"A",null,null,null,{"$f":"catp","v":3}]
[2300,"Suci Sandor","Oradea",48.3,10.68,"A",null,null,null,{"$f":"catp","v":3}]
[1362,"Popa Gheorghe","Medias",132.6,10.67,"A",null,null,null,{"$f":"catp","v":3}]
[1838,"Nichifor Dorin","Bucuresti",80.099999999999994,10.67,"A",null,null,null,{"$f":"catp","v":3}]
[2046,"Soarice Danut","Faurei",63.4,10.66,"A",null,null,null,{"$f":"catp","v":3}]
[1410,"Udvari Zoltan","Delenii",125.2,10.65,"A",null,null,null,{"$f":"catp","v":3}]
[1885,"Cusmir Raul","Oradea",75.900000000000006,10.65,"A",null,null,null,{"$f":"catp","v":3}]
[2889,"Samoila Catalin","Tulcea",26.5,10.63,"A",null,null,null,{"$f":"catp","v":3}]
[2596,"Nagy Arpad","Suseni",35.4,10.6,"A",null,null,null,{"$f":"catp","v":3}]
[3153,"Sandu Adrian","Sfantu Gheorghe",20,10.6,"A",null,null,null,{"$f":"catp","v":3}]
[3384,"Dragota Bogdan","Bucuresti",15.9,10.6,"A",null,null,null,{"$f":"catp","v":3}]
[3639,"Buzoianu Eduard","Oltenita",11.7,10.6,"A",null,null,null,{"$f":"catp","v":3}]
[3707,"Palaina Nicolae","Curtea de Arges",10.6,10.6,"A",null,null,null,{"$f":"catp","v":3}]
[3708,"Hegyi Augustin","Cluj Napoca",10.6,10.6,"A",null,null,null,{"$f":"catp","v":3}]
[3902,"Gemene Petru","Suceava",8,10.6,"A",null,null,null,{"$f":"catp","v":3}]
[1791,"Faur Noam","Otelu Rosu",84,10.58,"A",null,null,null,{"$f":"catp","v":3}]
[2607,"Blaga Mircea","Oradea",34.9,10.57,"A",null,null,null,{"$f":"catp","v":3}]
[3103,"Oana Ion Petru","Cernavoda",21.1,10.55,"A",null,null,null,{"$f":"catp","v":3}]
[3104,"Bud Ilie","Cavnic",21.1,10.55,"A",null,null,null,{"$f":"catp","v":3}]
[1541,"Souca Liviu","Bucuresti",109.8,10.53,"A",null,null,null,{"$f":"catp","v":3}]
[2501,"Cardas Alexandru","Dumbravita",39.200000000000003,10.53,"A",null,null,null,{"$f":"catp","v":3}]
[2101,"Vulpescu Emanuel","Caianu Mic",60.6,10.5,"A",null,null,null,{"$f":"catp","v":3}]
[2627,"Sibotean Calin","Sibot",33.9,10.5,"A",null,null,null,{"$f":"catp","v":3}]
[3109,"Bostan Ionut","Braila",21,10.5,"A",null,null,null,{"$f":"catp","v":3}]
[3919,"Ilina Daniel","Campulung Muscel",7.9,10.5,"A",null,null,null,{"$f":"catp","v":3}]
[1311,"Giurgiu Alexandru","Sibiu",140.4,10.45,"A",null,null,null,{"$f":"catp","v":3}]
[1941,"Ilie Alexandra","Voluntari",72.400000000000006,10.42,"AF",null,null,null,{"$f":"catp","v":3}]
[1733,"Titiliuc Alesia","Dersca",89.8,10.41,"AF",null,null,null,{"$f":"catp","v":3}]
[1283,"Ciobanu Edi","Lugoj",145.30000000000001,10.4,"A",null,null,null,{"$f":"catp","v":3}]
[1866,"Bratu Florentin","Bucuresti",77.5,10.4,"A",null,null,null,{"$f":"catp","v":3}]
[2727,"Vilcea Lucian","Brasov",31.1,10.4,"A",null,null,null,{"$f":"catp","v":3}]
[3117,"Banaru Mihai","Videle",20.8,10.4,"A",null,null,null,{"$f":"catp","v":3}]
[3299,"Ciorca Ovidiu","Corusu CJ",17.5,10.4,"A",null,null,null,{"$f":"catp","v":3}]
[3724,"Voicu Dan","Sibiu",10.4,10.4,"A",null,null,null,{"$f":"catp","v":3}]
[1688,"Luca Ioan","Piatra Neamt",94.9,10.39,"A",null,null,null,{"$f":"catp","v":3}]
[2467,"Gurita Ionut","Tulcea",40.700000000000003,10.38,"A",null,null,null,{"$f":"catp","v":3}]
[1376,"Ganea Darius","Timisoara",130.80000000000001,10.36,"A",null,null,null,{"$f":"catp","v":3}]
[2129,"Charbel Farah","Sibiu",59.1,10.35,"A",null,null,null,{"$f":"catp","v":3}]
[2198,"Duka Peter","Marghita",53.9,10.35,"A",null,null,null,{"$f":"catp","v":3}]
[3121,"Voinescu Bianca","Lugoj",20.7,10.35,"AF",null,null,null,{"$f":"catp","v":3}]
[3122,"Covali Anatol","Moldova-Cantemir",20.7,10.35,"A",null,null,null,{"$f":"catp","v":3}]
[1945,"Blaga Alexandru","Iasi",71.900000000000006,10.32,"A",null,null,null,{"$f":"catp","v":3}]
[1422,"Durlan Andrei","Iasi",124.3,10.31,"A",null,null,null,{"$f":"catp","v":3}]
[2317,"Apatachioae Augustin","Paunesti",47.4,10.3,"A",null,null,null,{"$f":"catp","v":3}]
[2592,"Velcea George","Bucuresti",35.799999999999997,10.3,"A",null,null,null,{"$f":"catp","v":3}]
[3346,"Ifrosa Rebeca","Cluj Napoca",16.7,10.3,"AF",null,null,null,{"$f":"catp","v":3}]
[3421,"Ciufudean Lucian","Cluj Napoca",15.3,10.3,"A",null,null,null,{"$f":"catp","v":3}]
[3728,"Ispan Stefan","Teius",10.3,10.3,"A",null,null,null,{"$f":"catp","v":3}]
[3729,"Ianev Ivan","Moldova-Ceadir-Lunga",10.3,10.3,"A",null,null,null,{"$f":"catp","v":3}]
[1671,"Gonzales Levi","Deva",97,10.28,"A",null,null,null,{"$f":"catp","v":3}]
[2221,"Vargyas Karoly","Joseni",52.2,10.28,"A",null,null,null,{"$f":"catp","v":3}]
[2848,"Sandor Arpad","Sovata",27.7,10.25,"A",null,null,null,{"$f":"catp","v":3}]
[2920,"Ciorba Arnold","Cehalut",25.5,10.25,"A",null,null,null,{"$f":"catp","v":3}]
[3427,"Popescu George","Bucuresti",15.2,10.199999999999999,"AW",null,null,null,{"$f":"catp","v":3}]
[3737,"Matei Daniel","Targoviste",10.199999999999999,10.199999999999999,"A",null,null,null,{"$f":"catp","v":3}]
[3738,"Buhaianu Bogdan","Bacau",10.199999999999999,10.199999999999999,"A",null,null,null,{"$f":"catp","v":3}]
[3739,"Gaspar Janos","Cristuru Secuiesc",10.199999999999999,10.199999999999999,"A",null,null,null,{"$f":"catp","v":3}]
[3740,"Kovacs Istvan","Cristuru Secuiesc",10.199999999999999,10.199999999999999,"A",null,null,null,{"$f":"catp","v":3}]
[3741,"Huruiala Andrei","Ramnicu Valcea",10.199999999999999,10.199999999999999,"A",null,null,null,{"$f":"catp","v":3}]
[3936,"Bardocz Ferenc","Ditrau",7.7,10.199999999999999,"A",null,null,null,{"$f":"catp","v":3}]
[3937,"Taran Cornel","Sarmas",7.7,10.199999999999999,"A",null,null,null,{"$f":"catp","v":3}]
[3938,"Simon Ecaterina","Sfantu Gheorghe",7.7,10.199999999999999,"AF",null,null,null,{"$f":"catp","v":3}]
[1720,"Verciuc Florin","Suceava",91.1,10.16,"A",null,null,null,{"$f":"catp","v":3}]
[1424,"Bruzan Cosmin","Calan",123.9,10.15,"A",null,null,null,{"$f":"catp","v":3}]
[2192,"Raduta Viorel","Bacau",54.2,10.15,"A",null,null,null,{"$f":"catp","v":3}]
[2288,"Lates Dorin","Sighisoara",48.9,10.130000000000001,"A",null,null,null,{"$f":"catp","v":3}]
[2689,"Ivan Marius","Buzau",32.200000000000003,10.1,"A",null,null,null,{"$f":"catp","v":3}]
[2856,"Wagner Max","Arad",27.5,10.1,"A",null,null,null,{"$f":"catp","v":3}]
[1367,"Plaias Krisztian","Targu Mures",132.1,10.07,"A",null,null,null,{"$f":"catp","v":3}]
[1677,"Pascu Ioan","Targu Mures",96.3,10.06,"A",null,null,null,{"$f":"catp","v":3}]
[2981,"Popoiu Ion","Motaieni",23.9,10.050000000000001,"A",null,null,null,{"$f":"catp","v":3}]
[3025,"Mocanu Radu","Tecuci",22.9,10.050000000000001,"A",null,null,null,{"$f":"catp","v":3}]
[1161,"Nicoara Doru","Arad",166.3,10.029999999999999,"A",null,null,null,{"$f":"catp","v":3}]
[1535,"Drulea Petru","Jimbolia",110.4,10.029999999999999,"A",null,null,null,{"$f":"catp","v":3}]
[2493,"Bogdan Tiberiu","Alexandria",39.4,10.029999999999999,"A",null,null,null,{"$f":"catp","v":3}]
[1488,"Bunduchi Mircea Andrei","Solont",116,10.01,"A",null,null,null,{"$f":"catp","v":3}]
[1365,"Dumitrascu Alin","Buzau",132.5,10,"A",null,null,null,{"$f":"catp","v":3}]
[1655,"Burian Ovidiu","Cluj Napoca",97.9,10,"A",null,null,null,{"$f":"catp","v":3}]
[1907,"Flueraru Gilbert","Iasi",74.400000000000006,10,"A",null,null,null,{"$f":"catp","v":3}]
[2182,"Pena Marian","Bucuresti",54.8,10,"A",null,null,null,{"$f":"catp","v":3}]
[2405,"Budihala Raul","Hunedoara",43.3,10,"A",null,null,null,{"$f":"catp","v":3}]
[2909,"Stoica Armando","Dumbravita",25.7,10,"A",null,null,null,{"$f":"catp","v":3}]
[3750,"Vacaru Liviu","Victoria",10,10,"A",null,null,null,{"$f":"catp","v":3}]
[3751,"Pica Horia","Fagaras",10,10,"A",null,null,null,{"$f":"catp","v":3}]
[3752,"Cantemir Constantin Mihai","Fagaras",10,10,"A",null,null,null,{"$f":"catp","v":3}]
[3753,"Roman Lionel","Vlajkovac",10,10,"A",null,null,null,{"$f":"catp","v":3}]
[3754,"Bjelanovic Milojko","Nova Varos",10,10,"A",null,null,null,{"$f":"catp","v":3}]
[3755,"Omeliciuc Anastasia","Ucraina-Umani",10,10,"AF",null,null,null,{"$f":"catp","v":3}]
[3943,"Vlase Adrian","Iasi",7.5,10,"A",null,null,null,{"$f":"catp","v":3}]
[3944,"Antonya Csaba","Brasov",7.5,10,"A",null,null,null,{"$f":"catp","v":3}]
[3945,"Negritu Miruna","Campulung Muscel",7.5,10,"AF",null,null,null,{"$f":"catp","v":3}]
[2544,"Asteleanu Lucian","Cluj Napoca",37.299999999999997,9.9700000000000006,"H",null,null,null,{"$f":"catp","v":4}]
[2604,"Galateanu Sorin","Suceava",35,9.9,"H",null,null,null,{"$f":"catp","v":4}]
[3448,"Jimborean Dorinel","Apahida",14.9,9.9,"H",null,null,null,{"$f":"catp","v":4}]
[1958,"Bege Laszlo","Joseni",70.599999999999994,9.8699999999999992,"H",null,null,null,{"$f":"catp","v":4}]
[2788,"Coman Gabriel","Bucuresti",29.1,9.8699999999999992,"H",null,null,null,{"$f":"catp","v":4}]
[2435,"Sirbu Moise","Baile Herculane",42.1,9.85,"H",null,null,null,{"$f":"catp","v":4}]
[2516,"Ilie Sebastian","Bucuresti",38.6,9.85,"H",null,null,null,{"$f":"catp","v":4}]
[2581,"Soran Gabriel","Zalau",36.200000000000003,9.85,"H",null,null,null,{"$f":"catp","v":4}]
[3166,"Costin Casian","Baia Mare",19.7,9.85,"H",null,null,null,{"$f":"catp","v":4}]
[3337,"Cecan Ghenadie","Moldova-Falesti",16.899999999999999,9.85,"H",null,null,null,{"$f":"catp","v":4}]
[2026,"Dolete David","Bucuresti",64.900000000000006,9.83,"H",null,null,null,{"$f":"catp","v":4}]
[2113,"Barascu Andrei","Suceava",59.7,9.8000000000000007,"H",null,null,null,{"$f":"catp","v":4}]
[2416,"Petrov Marius","Lovrin",42.9,9.8000000000000007,"H",null,null,null,{"$f":"catp","v":4}]
[3768,"Dezso Attila","Dej",9.8000000000000007,9.8000000000000007,"HW",null,null,null,{"$f":"catp","v":4}]
[3769,"Sandu Gheorghe","Nasaud",9.8000000000000007,9.8000000000000007,"H",null,null,null,{"$f":"catp","v":4}]
[3770,"Mitrica Alexandru Iulian","Halaucesti",9.8000000000000007,9.8000000000000007,"H",null,null,null,{"$f":"catp","v":4}]
[1082,"Androne Cristian","Braila",183.3,9.7899999999999991,"H",null,null,null,{"$f":"catp","v":4}]
[3057,"Horeanu Lucian Adrian","Botosani",22.2,9.75,"H",null,null,null,{"$f":"catp","v":4}]
[3176,"Carare Cristinel","Vaslui",19.5,9.75,"H",null,null,null,{"$f":"catp","v":4}]
[1238,"Alexandru Petrisor","Craiova",152.69999999999999,9.73,"H",null,null,null,{"$f":"catp","v":4}]
[1205,"Simion Luana","Cluj Napoca",157.4,9.7200000000000006,"HF",null,null,null,{"$f":"catp","v":4}]
[2171,"Morun Marian","Braila",55.6,9.7200000000000006,"H",null,null,null,{"$f":"catp","v":4}]
[2301,"Oniga Florin","Alba Iulia",48.3,9.6999999999999993,"H",null,null,null,{"$f":"catp","v":4}]
[3345,"Oniga Viviana","Alba Iulia",16.8,9.6999999999999993,"HF",null,null,null,{"$f":"catp","v":4}]
[3776,"Sucilea Adrian","Cluj Napoca",9.6999999999999993,9.6999999999999993,"H",null,null,null,{"$f":"catp","v":4}]
[3973,"Stoica Nicolae","Hunedoara",7.3,9.6999999999999993,"H",null,null,null,{"$f":"catp","v":4}]
[1816,"Harabagiu Tudor","Botosani",81.7,9.69,"H",null,null,null,{"$f":"catp","v":4}]
[2904,"Davidoiu Gabriela","Cluj Napoca",25.8,9.67,"HF",null,null,null,{"$f":"catp","v":4}]
[1237,"Heresanu Mihai","Ludus",152.9,9.65,"H",null,null,null,{"$f":"catp","v":4}]
[2573,"Filat Maria","Bucuresti",36.5,9.65,"HF",null,null,null,{"$f":"catp","v":4}]
[1654,"Stefanescu Eugen","Bucuresti",98,9.6300000000000008,"H",null,null,null,{"$f":"catp","v":4}]
[2696,"Pantea Erik","Cluj Napoca",32.1,9.6300000000000008,"H",null,null,null,{"$f":"catp","v":4}]
[2991,"Dragomir Mihai","Armenis",23.7,9.6300000000000008,"H",null,null,null,{"$f":"catp","v":4}]
[1692,"Ivanov Alexandru","Cluj Napoca",94.3,9.6,"H",null,null,null,{"$f":"catp","v":4}]
[2803,"Herghelegiu Silviu","Bucuresti",28.9,9.6,"H",null,null,null,{"$f":"catp","v":4}]
[3979,"Toth Zoltan","Miercurea Ciuc",7.2,9.6,"H",null,null,null,{"$f":"catp","v":4}]
[3980,"Novac Brani","Drobeta Tr Severin",7.2,9.6,"H",null,null,null,{"$f":"catp","v":4}]
[3981,"Calea George","Drobeta Tr Severin",7.2,9.6,"H",null,null,null,{"$f":"catp","v":4}]
[2193,"Ilie Razvan","Ploiesti",54.2,9.5299999999999994,"H",null,null,null,{"$f":"catp","v":4}]
[2992,"Tibirna Petru","Iasi",23.7,9.5299999999999994,"H",null,null,null,{"$f":"catp","v":4}]
[1172,"Bordeianu Marcel","Bucuresti",163.5,9.51,"H",null,null,null,{"$f":"catp","v":4}]
[3224,"Brinza Vitalie","Moldova-Balti",19,9.5,"H",null,null,null,{"$f":"catp","v":4}]
[1413,"Puiac Elvis","Apahida",125,9.49,"H",null,null,null,{"$f":"catp","v":4}]
[1609,"Tanase Valentin","Piatra Neamt",102.3,9.48,"H",null,null,null,{"$f":"catp","v":4}]
[1576,"Grancea Rares","Sibiu",106,9.4700000000000006,"H",null,null,null,{"$f":"catp","v":4}]
[1515,"Damian Sebastian","Paulesti",113.7,9.4499999999999993,"H",null,null,null,{"$f":"catp","v":4}]
[3008,"Ivan Robert","Galati",23.3,9.43,"H",null,null,null,{"$f":"catp","v":4}]
[1315,"Gurzun Mihai","Cristesti",140.1,9.42,"H",null,null,null,{"$f":"catp","v":4}]
[1681,"Stanciu Teodor","Sighisoara",95.9,9.41,"H",null,null,null,{"$f":"catp","v":4}]
[2699,"Neagu Nicolae Valentin","Alexandria",32,9.4,"H",null,null,null,{"$f":"catp","v":4}]
[2747,"Rusu Andrei","Strejnicu",30.2,9.4,"H",null,null,null,{"$f":"catp","v":4}]
[3793,"Ionita Stefan","Macin",9.4,9.4,"H",null,null,null,{"$f":"catp","v":4}]
[1356,"Leon Cristi","Galati",133.4,9.3800000000000008,"H",null,null,null,{"$f":"catp","v":4}]
[3503,"Nierges Athanasie","Cluj Napoca",14.1,9.35,"H",null,null,null,{"$f":"catp","v":4}]
[1869,"Kis Jancsi","Cluj Napoca",77.2,9.34,"H",null,null,null,{"$f":"catp","v":4}]
[2628,"Preda Filip","Bucuresti",33.9,9.33,"H",null,null,null,{"$f":"catp","v":4}]
[2663,"Dodon Sebastian","Dej",32.9,9.33,"H",null,null,null,{"$f":"catp","v":4}]
[1454,"Creta Petru","Luna CJ",120.3,9.3000000000000007,"HW",null,null,null,{"$f":"catp","v":4}]
[3405,"Munteanu Ionut","Slobozia",15.5,9.3000000000000007,"H",null,null,null,{"$f":"catp","v":4}]
[2638,"Edves Vasile","Alba Iulia",33.6,9.2799999999999994,"H",null,null,null,{"$f":"catp","v":4}]
[2664,"Steau Dan","Santimbru AB",32.9,9.2799999999999994,"HW",null,null,null,{"$f":"catp","v":4}]
[1606,"Sandu Dragos","Nasaud",102.6,9.26,"H",null,null,null,{"$f":"catp","v":4}]
[2822,"Mantoiu Daniel","Pucioasa",28.5,9.25,"H",null,null,null,{"$f":"catp","v":4}]
[1761,"Mihalcea Ionica","Ramnicu Sarat",86.6,9.24,"H",null,null,null,{"$f":"catp","v":4}]
[1779,"Macovei Costel","Iasi",84.8,9.24,"H",null,null,null,{"$f":"catp","v":4}]
[2017,"Niculescu Marcel","Arad",65.400000000000006,9.23,"H",null,null,null,{"$f":"catp","v":4}]
[2240,"Mateut Ariana","Zalau",51,9.23,"HF",null,null,null,{"$f":"catp","v":4}]
[2207,"Derbac Ioan","Caransebes",52.9,9.1999999999999993,"H",null,null,null,{"$f":"catp","v":4}]
[2690,"Chelan Catalin","Giroc",32.200000000000003,9.1999999999999993,"H",null,null,null,{"$f":"catp","v":4}]
[3255,"Vlasin Adrian","Viseu",18.399999999999999,9.1999999999999993,"H",null,null,null,{"$f":"catp","v":4}]
[3496,"Zlata Alex","Focsani",14.2,9.1999999999999993,"H",null,null,null,{"$f":"catp","v":4}]
[3520,"Micula Bogdan","Saliste de Vascau",13.8,9.1999999999999993,"H",null,null,null,{"$f":"catp","v":4}]
[3807,"Lazar Ionel","Pufesti",9.1999999999999993,9.1999999999999993,"H",null,null,null,{"$f":"catp","v":4}]
[3808,"Constantin Rares","Focsani",9.1999999999999993,9.1999999999999993,"H",null,null,null,{"$f":"catp","v":4}]
[3809,"Bumbu Florin","Focsani",9.1999999999999993,9.1999999999999993,"H",null,null,null,{"$f":"catp","v":4}]
[3810,"Staicu Adrian","Chiajna",9.1999999999999993,9.1999999999999993,"H",null,null,null,{"$f":"catp","v":4}]
[1431,"Husarciuc Beniamin","Suceava",123.2,9.19,"H",null,null,null,{"$f":"catp","v":4}]
[1767,"Fleser Marian","Blaj",86.1,9.1300000000000008,"H",null,null,null,{"$f":"catp","v":4}]
[2060,"Rauh Victor","Moldova-Balti",62.7,9.1199999999999992,"HW",null,null,null,{"$f":"catp","v":4}]
[2346,"Crisan Alexandru","Oradea",46.1,9.1,"H",null,null,null,{"$f":"catp","v":4}]
[3073,"Macelaru Eugen","Bucuresti",21.8,9.1,"H",null,null,null,{"$f":"catp","v":4}]
[2430,"Vlaisan Raluca","Vicovu de Jos",42.2,9.08,"HF",null,null,null,{"$f":"catp","v":4}]
[2009,"Jarebe Vasile","Iasi",66.2,9.07,"H",null,null,null,{"$f":"catp","v":4}]
[1567,"Vilceanu Cosmin","Rovinari",106.8,9.0399999999999991,"H",null,null,null,{"$f":"catp","v":4}]
[1842,"Neacsu Cristian","Bucuresti",79.7,9.0399999999999991,"H",null,null,null,{"$f":"catp","v":4}]
[3816,"Cuckovic Djuro","Novi Sad",9,9,"H",null,null,null,{"$f":"catp","v":4}]
[3817,"Nastic Branko","Ilandza",9,9,"H",null,null,null,{"$f":"catp","v":4}]
[3818,"Dogaru Iurie","Moldova-Cahul",9,9,"H",null,null,null,{"$f":"catp","v":4}]
[3819,"Bungeanu Bogdan","Vaslui",9,9,"H",null,null,null,{"$f":"catp","v":4}]
[3820,"Dumitru Florin","Barlad",9,9,"H",null,null,null,{"$f":"catp","v":4}]
[3821,"Grozavu Daniel","Barlad",9,9,"H",null,null,null,{"$f":"catp","v":4}]
[3822,"Mocreac Ilarion","Moldova-Chisinau",9,9,"H",null,null,null,{"$f":"catp","v":4}]
[3823,"Buravtov Maxim","Ucraina-Odessa",9,9,"H",null,null,null,{"$f":"catp","v":4}]
[4010,"Amarandei Petronel","Vaslui",6.8,9,"H",null,null,null,{"$f":"catp","v":4}]
[1724,"Bunea Aurel","Salciua",90.4,8.98,"H",null,null,null,{"$f":"catp","v":4}]
[1882,"Radulescu Bogdan","Iedera",76,8.98,"H",null,null,null,{"$f":"catp","v":4}]
[3009,"Barlea Radu","Oradea",23.3,8.9700000000000006,"H",null,null,null,{"$f":"catp","v":4}]
[3537,"Mosneagu Mihnea","Falticeni",13.5,8.9499999999999993,"H",null,null,null,{"$f":"catp","v":4}]
[2563,"Cozma Adrian","Targu Neamt",36.9,8.9,"H"]
[3838,"Amariei Lucian","Piatra Neamt",8.9,8.9,"H",null,null,null,{"$f":"catp","v":4}]
[2149,"Bota Sergiu","Cluj Napoca",57.4,8.8800000000000008,"H",null,null,null,{"$f":"catp","v":4}]
[2237,"Andrei Cozmin Stefanut","Buzau",51.2,8.8800000000000008,"H",null,null,null,{"$f":"catp","v":4}]
[2340,"Georgescu Marius","Sibiu",46.5,8.8800000000000008,"H",null,null,null,{"$f":"catp","v":4}]
[1921,"Baidoc Marius","Zalau",73.599999999999994,8.85,"H",null,null,null,{"$f":"catp","v":4}]
[3268,"Pasaila Marius George","Timisoara",18.100000000000001,8.85,"H",null,null,null,{"$f":"catp","v":4}]
[1963,"Kovacs Iosif","Arad",70.3,8.84,"H",null,null,null,{"$f":"catp","v":4}]
[2347,"Vrasti Ioan","Ploiesti",46,8.83,"HJ",null,null,null,{"$f":"catp","v":4}]
[2483,"Venczel Antoniu","Giroc",39.9,8.83,"H",null,null,null,{"$f":"catp","v":4}]
[2383,"Fagaras Cristian","Arad",44.2,8.8000000000000007,"H",null,null,null,{"$f":"catp","v":4}]
[3842,"Craciun Rafael","Videle",8.8000000000000007,8.8000000000000007,"H",null,null,null,{"$f":"catp","v":4}]
[1480,"Petre Gabriel","Bucuresti",117.5,8.7899999999999991,"H",null,null,null,{"$f":"catp","v":4}]
[2524,"Viziniuc Madalin","Bucuresti",38.5,8.7799999999999994,"H",null,null,null,{"$f":"catp","v":4}]
[2763,"Nitoiu Constantin Raul","Brasov",29.9,8.77,"H",null,null,null,{"$f":"catp","v":4}]
[2999,"Takahashi Yuki","Bucuresti",23.6,8.77,"H",null,null,null,{"$f":"catp","v":4}]
[1734,"Andrei Marian","Barlad",89.7,8.73,"H",null,null,null,{"$f":"catp","v":4}]
[2512,"Iliescu Ion","Bucuresti",38.9,8.6999999999999993,"H",null,null,null,{"$f":"catp","v":4}]
[3066,"Portik Erno","Hodosa",21.9,8.6999999999999993,"H",null,null,null,{"$f":"catp","v":4}]
[4017,"Toncean Claudiu","Reghin",6.6,8.6999999999999993,"H",null,null,null,{"$f":"catp","v":4}]
[4018,"Galateanu Silviu","Cluj Napoca",6.6,8.6999999999999993,"H",null,null,null,{"$f":"catp","v":4}]
[1388,"Lupean Dumitru","Alba Iulia",129.30000000000001,8.68,"H",null,null,null,{"$f":"catp","v":4}]
[1586,"Hostiuc Mitica","Botosani",105,8.67,"H",null,null,null,{"$f":"catp","v":4}]
[1701,"Bognean Adrian","Delenii",93.3,8.67,"H",null,null,null,{"$f":"catp","v":4}]
[2481,"Isopescu Vasile","Timisoara",40,8.65,"H",null,null,null,{"$f":"catp","v":4}]
[3040,"Hajducsi Elemer","Campenita",22.5,8.6,"H",null,null,null,{"$f":"catp","v":4}]
[3860,"Marin Alexandru","Cateasca",8.6,8.6,"H",null,null,null,{"$f":"catp","v":4}]
[2676,"Pastiu Sorin","Cugir",32.4,8.5299999999999994,"H",null,null,null,{"$f":"catp","v":4}]
[1618,"Floroiu Robert Bogdan","Brasov",101.8,8.5,"H",null,null,null,{"$f":"catp","v":4}]
[2224,"Nazare Mircea","Iasi",52,8.5,"H",null,null,null,{"$f":"catp","v":4}]
[3509,"Corduneanu Flavius","Iasi",14,8.5,"H",null,null,null,{"$f":"catp","v":4}]
[3538,"Szilagyi Bencze","Dumbravita",13.5,8.5,"H",null,null,null,{"$f":"catp","v":4}]
[3580,"Martescu Dan","Novaci",12.8,8.5,"H",null,null,null,{"$f":"catp","v":4}]
[1281,"Soare Aurel","Targoviste",146.30000000000001,8.48,"H",null,null,null,{"$f":"catp","v":4}]
[1496,"Dumitru Cristian","Bucuresti",115.4,8.48,"H",null,null,null,{"$f":"catp","v":4}]
[3141,"Nagea Horia","Craiova",20.3,8.4700000000000006,"H",null,null,null,{"$f":"catp","v":4}]
[1788,"Luca Ioan","Sibiu",84.1,8.44,"HW",null,null,null,{"$f":"catp","v":4}]
[2137,"Budeanu Dan","Sannicolau Mare",58.2,8.44,"H",null,null,null,{"$f":"catp","v":4}]
[1804,"Horvath Mircea","Orastie",82.9,8.43,"H",null,null,null,{"$f":"catp","v":4}]
[2488,"Iancu Stefan","Hateg",39.6,8.43,"H",null,null,null,{"$f":"catp","v":4}]
[3116,"Mihaiuc Matei","Radauti",20.9,8.4,"H",null,null,null,{"$f":"catp","v":4}]
[4045,"Cioata Marian","Constanta",6.3,8.4,"H",null,null,null,{"$f":"catp","v":4}]
[1224,"Moise Viorel","Braila",154.19999999999999,8.3699999999999992,"HW",null,null,null,{"$f":"catp","v":4}]
[2038,"Maftei Danut","Buzau",64,8.35,"H",null,null,null,{"$f":"catp","v":4}]
[2369,"Dobrica Marius","Videle",44.9,8.35,"H",null,null,null,{"$f":"catp","v":4}]
[3347,"Padureanu Costi","Craiova",16.7,8.35,"HW",null,null,null,{"$f":"catp","v":4}]
[2436,"Toma Florin Augustin","Slobozia",42.1,8.33,"H",null,null,null,{"$f":"catp","v":4}]
[2402,"Simion Mircea","Targu Jiu",43.4,8.32,"H",null,null,null,{"$f":"catp","v":4}]
[3353,"Sabo Otto","Berveni",16.600000000000001,8.3000000000000007,"H",null,null,null,{"$f":"catp","v":4}]
[3595,"Miron Stefan","Resita",12.5,8.3000000000000007,"H",null,null,null,{"$f":"catp","v":4}]
[3884,"Boicu Gabriel","Vatra Dornei",8.3000000000000007,8.3000000000000007,"H",null,null,null,{"$f":"catp","v":4}]
[3885,"Caruntu Constantin","Bucuresti",8.3000000000000007,8.3000000000000007,"H",null,null,null,{"$f":"catp","v":4}]
[4046,"Scirlet Sterian","Jaristea",6.3,8.3000000000000007,"H",null,null,null,{"$f":"catp","v":4}]
[3082,"Coroi Sergiu","Moldova-Leova",21.5,8.25,"H",null,null,null,{"$f":"catp","v":4}]
[3473,"Tincu Adrian","Bucuresti",14.4,8.25,"H",null,null,null,{"$f":"catp","v":4}]
[1590,"Neculaiu Vasile","Braila",104.2,8.2200000000000006,"H",null,null,null,{"$f":"catp","v":4}]
[2178,"Lefter Lucian","Timisoara",55.1,8.1999999999999993,"H",null,null,null,{"$f":"catp","v":4}]
[3154,"Cerciu Marius","Timisoara",20,8.1999999999999993,"H",null,null,null,{"$f":"catp","v":4}]
[3887,"Terzinov Dmitri","Moldova-Cazaclia",8.1999999999999993,8.1999999999999993,"H",null,null,null,{"$f":"catp","v":4}]
[4056,"Kolumban Levente","Targu Mures",6.2,8.1999999999999993,"H",null,null,null,{"$f":"catp","v":4}]
[4057,"Buruian Ovidiu","Cluj Napoca",6.2,8.1999999999999993,"H",null,null,null,{"$f":"catp","v":4}]
[4058,"Cosoiu Traian Stefan","Bucuresti",6.2,8.1999999999999993,"H",null,null,null,{"$f":"catp","v":4}]
[4059,"Rastasan Mark","Targu Mures",6.2,8.1999999999999993,"H",null,null,null,{"$f":"catp","v":4}]
[1867,"Mihai Laurentiu","Bucuresti",77.400000000000006,8.18,"H",null,null,null,{"$f":"catp","v":4}]
[2873,"Petra Ioan","Balan",27,8.17,"H",null,null,null,{"$f":"catp","v":4}]
[2047,"Batin Ianis","Arad",63.4,8.16,"H",null,null,null,{"$f":"catp","v":4}]
[3052,"Leaua Fabian","Ramnicu Sarat",22.3,8.15,"H",null,null,null,{"$f":"catp","v":4}]
[2539,"Moldovan Radu","Alba Iulia",37.4,8.1300000000000008,"H",null,null,null,{"$f":"catp","v":4}]
[3028,"Medesan Gheorghe","Bagaciu",22.8,8.1,"H",null,null,null,{"$f":"catp","v":4}]
[3898,"Popescu Florin","Bucuresti",8.1,8.1,"H",null,null,null,{"$f":"catp","v":4}]
[3899,"Jujonescu Paul","Nadrag",8.1,8.1,"H",null,null,null,{"$f":"catp","v":4}]
[3900,"Muraru Marian Ionel","Roman",8.1,8.1,"H",null,null,null,{"$f":"catp","v":4}]
[1483,"Tobosaru Stefan","Brasov",117.3,8.09,"H",null,null,null,{"$f":"catp","v":4}]
[2679,"Borcea Daniel","Bucuresti",32.299999999999997,8.08,"H",null,null,null,{"$f":"catp","v":4}]
[2001,"Popa Bogdan","Sibiu",66.7,8.07,"H",null,null,null,{"$f":"catp","v":4}]
[1441,"Sabau Mircea","Tarnaveni",122.3,8.06,"H",null,null,null,{"$f":"catp","v":4}]
[3545,"Mija Gheorghe","Fagaras",13.4,8.0500000000000007,"H",null,null,null,{"$f":"catp","v":4}]
[1696,"Cristea Calin","Cluj Napoca",93.9,8.0399999999999991,"H",null,null,null,{"$f":"catp","v":4}]
[2114,"Csokany Gheorghe","Sannicolau Mare",59.7,8.0299999999999994,"H",null,null,null,{"$f":"catp","v":4}]
[2852,"Savin Medeea","Plopeni SV",27.6,8.0299999999999994,"HF",null,null,null,{"$f":"catp","v":4}]
[3377,"Comsa Viorel","Blaj",16,8,"H",null,null,null,{"$f":"catp","v":4}]
[3756,"Ferenczi Sandor","Targu Mures",10,8,"H",null,null,null,{"$f":"catp","v":4}]
[1456,"Luca Irinel","Calan",120.2,7.98,"H",null,null,null,{"$f":"catp","v":4}]
[1482,"Stanamirescu Ianis","Hateg",117.4,7.98,"H",null,null,null,{"$f":"catp","v":4}]
[1560,"Scripet Ovidiu","Bistrita",107.8,7.98,"H",null,null,null,{"$f":"catp","v":4}]
[2315,"Tataru Alexandru","Vaslui",47.5,7.98,"H",null,null,null,{"$f":"catp","v":4}]
[2341,"Doroftei Kevyn","Arad",46.3,7.98,"H",null,null,null,{"$f":"catp","v":4}]
[3240,"Iordan Eduard","Bucuresti",18.8,7.97,"H",null,null,null,{"$f":"catp","v":4}]
[2498,"Oranceanu Andrei","Cluj Napoca",39.299999999999997,7.95,"H",null,null,null,{"$f":"catp","v":4}]
[3385,"Craciun Laurentiu","Moreni",15.9,7.95,"H",null,null,null,{"$f":"catp","v":4}]
[3415,"Ceausescu Rebeca","Pitesti",15.4,7.95,"HF",null,null,null,{"$f":"catp","v":4}]
[3616,"Hotnog Tudor","Suceava",12,7.95,"H",null,null,null,{"$f":"catp","v":4}]
[1348,"Radulescu Marius","Iasi",134.9,7.93,"H",null,null,null,{"$f":"catp","v":4}]
[2325,"Heja Zsolt","Ditrau",46.9,7.9,"H",null,null,null,{"$f":"catp","v":4}]
[3354,"Sofran Daniel","Cluj Napoca",16.600000000000001,7.9,"H",null,null,null,{"$f":"catp","v":4}]
[3920,"Crisan Casian","Agnita",7.9,7.9,"H",null,null,null,{"$f":"catp","v":4}]
[3921,"Mihaila Maia","Vulcana Pandele",7.9,7.9,"HF",null,null,null,{"$f":"catp","v":4}]
[3922,"Stavarache Andrei","Iasi",7.9,7.9,"H",null,null,null,{"$f":"catp","v":4}]
[3923,"Tepes Vlad","Bucuresti",7.9,7.9,"H",null,null,null,{"$f":"catp","v":4}]
[4076,"Crihana Ciprian","Bucuresti",6,7.9,"H",null,null,null,{"$f":"catp","v":4}]
[3397,"Ciobanu Marian","Buzau",15.7,7.85,"H",null,null,null,{"$f":"catp","v":4}]
[3556,"Toma Mihnea","Craiova",13.1,7.85,"H",null,null,null,{"$f":"catp","v":4}]
[1470,"Simulescu Dumitru","Craiova",118.7,7.84,"HW",null,null,null,{"$f":"catp","v":4}]
[1780,"Aizner Imre","Ludus",84.8,7.84,"H",null,null,null,{"$f":"catp","v":4}]
[3401,"Volosciuc Tiberiu","Vatra Dornei",15.6,7.8,"HDW",null,null,null,{"$f":"catp","v":4}]
[3560,"Kertesz Csaba","Uriu",13,7.8,"H",null,null,null,{"$f":"catp","v":4}]
[3931,"Calin Dragos","Focsani",7.8,7.8,"H",null,null,null,{"$f":"catp","v":4}]
[4093,"Nica Vladimir","Branesti DB",5.9,7.8,"H",null,null,null,{"$f":"catp","v":4}]
[2181,"Dumitras Victor","Giroc",54.9,7.78,"H",null,null,null,{"$f":"catp","v":4}]
[2470,"Gota Adrian","Santimbru AB",40.5,7.75,"H",null,null,null,{"$f":"catp","v":4}]
[3406,"Neagu Mihai","Navodari",15.5,7.75,"H",null,null,null,{"$f":"catp","v":4}]
[1897,"Micu Catalin","Valenii de Munte",74.900000000000006,7.73,"H",null,null,null,{"$f":"catp","v":4}]
[2068,"Badila Sebastian","Bucuresti",62.1,7.73,"H",null,null,null,{"$f":"catp","v":4}]
[2233,"Matveev Victor Nicolae","Bucuresti",51.3,7.72,"H",null,null,null,{"$f":"catp","v":4}]
[1913,"Lacatusu Aurelian","Iasi",74.099999999999994,7.7,"H",null,null,null,{"$f":"catp","v":4}]
[2894,"Grecu Radu","Iasi",26.4,7.7,"H",null,null,null,{"$f":"catp","v":4}]
[2949,"Mirauta Mihai","Moinesti",24.7,7.7,"H",null,null,null,{"$f":"catp","v":4}]
[3939,"Cretu Marius Bogdan","Focsani",7.7,7.7,"H",null,null,null,{"$f":"catp","v":4}]
[1522,"Grigore Madalin","Cocorastii Mislii",112.8,7.68,"H",null,null,null,{"$f":"catp","v":4}]
[2898,"Ciortan Catalin","Cluj Napoca",26.1,7.63,"H",null,null,null,{"$f":"catp","v":4}]
[2877,"Szalos Pal Ionut","Timisoara",26.9,7.6,"H",null,null,null,{"$f":"catp","v":4}]
[3099,"Popa Florin","Oradea",21.2,7.6,"H",null,null,null,{"$f":"catp","v":4}]
[4108,"Buhaianu Ionut","Siret",5.7,7.6,"H",null,null,null,{"$f":"catp","v":4}]
[3656,"Scripei Iulian","Botosani",11.4,7.55,"H",null,null,null,{"$f":"catp","v":4}]
[2084,"Danescu Emil Dan","Ploiesti",61.3,7.53,"H",null,null,null,{"$f":"catp","v":4}]
[1516,"Dobai Sandor","Targu Mures",113.6,7.51,"H",null,null,null,{"$f":"catp","v":4}]
[2406,"Trif Marius","Atintis",43.3,7.5,"H",null,null,null,{"$f":"catp","v":4}]
[3441,"Cvetkovic Zoran","Smederevo",15,7.5,"H",null,null,null,{"$f":"catp","v":4}]
[3521,"Sopin Oleksiy","Brasov",13.8,7.5,"H",null,null,null,{"$f":"catp","v":4}]
[3946,"Ivan Daniel","Galati",7.5,7.5,"H",null,null,null,{"$f":"catp","v":4}]
[3947,"Szabo Zoltan","Suseni",7.5,7.5,"H",null,null,null,{"$f":"catp","v":4}]
[2086,"Dragomir Nicolae","Armenis",61.2,7.49,"H",null,null,null,{"$f":"catp","v":4}]
[2087,"Bujuleg Petre","Breaza",61.2,7.47,"H",null,null,null,{"$f":"catp","v":4}]
[3159,"Ciurca Ovidiu","Targu Mures",19.899999999999999,7.45,"HW",null,null,null,{"$f":"catp","v":4}]
[3172,"Burca Virgil","Sinaia",19.600000000000001,7.45,"H",null,null,null,{"$f":"catp","v":4}]
[3449,"Sutei Marian","Slobozia",14.9,7.45,"H",null,null,null,{"$f":"catp","v":4}]
[2238,"Laczko Csongor","Joseni",51.1,7.44,"H",null,null,null,{"$f":"catp","v":4}]
[3127,"Macai Catalin","Stei",20.6,7.43,"H",null,null,null,{"$f":"catp","v":4}]
[2731,"Farcas Sonia","Zalau",31,7.4,"HF",null,null,null,{"$f":"catp","v":4}]
[2901,"Zorila Marcel","Moldova-Riscani",26,7.4,"H",null,null,null,{"$f":"catp","v":4}]
[3162,"Balhuc Rares","Halaucesti",19.8,7.4,"H",null,null,null,{"$f":"catp","v":4}]
[3960,"Cojocaru Cristian","Targu Jiu",7.4,7.4,"H",null,null,null,{"$f":"catp","v":4}]
[3961,"Bizo Virgil","Brad",7.4,7.4,"H",null,null,null,{"$f":"catp","v":4}]
[3962,"Filip Alin","Medias",7.4,7.4,"H",null,null,null,{"$f":"catp","v":4}]
[3963,"Hurubean Cristi","Medias",7.4,7.4,"H",null,null,null,{"$f":"catp","v":4}]
[2052,"Chirita Daniel","Bucuresti",63.3,7.37,"H",null,null,null,{"$f":"catp","v":4}]
[2462,"Nicusan Claudiu","Sibiu",40.9,7.35,"H",null,null,null,{"$f":"catp","v":4}]
[3557,"Dragan Andrei","Bucuresti",13.1,7.35,"H",null,null,null,{"$f":"catp","v":4}]
[1997,"Bistreanu Sorin","Bucuresti",66.900000000000006,7.33,"H",null,null,null,{"$f":"catp","v":4}]
[2194,"Busega Iulian","Bucuresti",54.2,7.33,"H",null,null,null,{"$f":"catp","v":4}]
[2267,"Istrate Gogu","Lehliu Gara",50,7.32,"H",null,null,null,{"$f":"catp","v":4}]
[3100,"Curutiu Corin","Dumbraveni SB",21.2,7.3,"HJ",null,null,null,{"$f":"catp","v":4}]
[3256,"Bolota Marius","Sibiu",18.399999999999999,7.3,"H",null,null,null,{"$f":"catp","v":4}]
[3801,"Irimia Viorel","Comanesti",9.3000000000000007,7.3,"H",null,null,null,{"$f":"catp","v":4}]
[3974,"Peric Jovica","Bela Crkva",7.3,7.3,"H",null,null,null,{"$f":"catp","v":4}]
[3975,"Vukovic Dimitrije","Kovin",7.3,7.3,"H",null,null,null,{"$f":"catp","v":4}]
[4126,"Stanci Cristian","Petrosani",5.5,7.3,"H",null,null,null,{"$f":"catp","v":4}]
[3090,"Tulburi Ion","Moldova-Balti",21.3,7.27,"H",null,null,null,{"$f":"catp","v":4}]
[1517,"Drapac Gheorghe","Brasov",113.3,7.26,"HD",null,null,null,{"$f":"catp","v":4}]
[3330,"Borza Sergiu","Moldova-Leova",17,7.25,"H",null,null,null,{"$f":"catp","v":4}]
[3606,"Bejan Nicolae","Iasi",12.2,7.25,"H",null,null,null,{"$f":"catp","v":4}]
[3688,"Serban Iulian","Bucuresti",10.9,7.25,"H",null,null,null,{"$f":"catp","v":4}]
[2431,"Ioja Danut","Calan",42.2,7.24,"H",null,null,null,{"$f":"catp","v":4}]
[2748,"Delibaltov Gennadii","Moldova-Cazaclia",30.2,7.23,"H",null,null,null,{"$f":"catp","v":4}]
[3982,"Portik Carol","Targu Mures",7.2,7.2,"H",null,null,null,{"$f":"catp","v":4}]
[2957,"Borodi Alin","Cluj Napoca",24.5,7.17,"H",null,null,null,{"$f":"catp","v":4}]
[3142,"Matei Victor","Urlati",20.3,7.17,"H",null,null,null,{"$f":"catp","v":4}]
[2284,"Dongolo Zsolt","Targu Mures",49,7.13,"H",null,null,null,{"$f":"catp","v":4}]
[2449,"Croitoru Carli","Craiova",41.4,7.13,"H",null,null,null,{"$f":"catp","v":4}]
[2593,"Haralambescu Andrei","Bucuresti",35.700000000000003,7.13,"H",null,null,null,{"$f":"catp","v":4}]
[2742,"Batar Adrian","Bucuresti",30.6,7.13,"H",null,null,null,{"$f":"catp","v":4}]
[3282,"Balan Florin","Brasov",17.7,7.13,"H",null,null,null,{"$f":"catp","v":4}]
[2115,"Oprea Ramona","Brasov",59.7,7.11,"HF",null,null,null,{"$f":"catp","v":4}]
[2450,"Stoica Mihai","Brasov",41.4,7.1,"H",null,null,null,{"$f":"catp","v":4}]
[2728,"Kuti Oszkar","Delenii",31.1,7.1,"H",null,null,null,{"$f":"catp","v":4}]
[2884,"Gurau Dan","Urlati",26.7,7.1,"H",null,null,null,{"$f":"catp","v":4}]
[3293,"Cojocea Florin","Cluj Napoca",17.600000000000001,7.1,"H",null,null,null,{"$f":"catp","v":4}]
[3984,"Puiu Viorel","Moldova-Balti",7.1,7.1,"H",null,null,null,{"$f":"catp","v":4}]
[3985,"Burca Albertin","Roman",7.1,7.1,"H",null,null,null,{"$f":"catp","v":4}]
[4146,"Genig Oreste Constantin","Giroc",5.4,7.1,"H",null,null,null,{"$f":"catp","v":4}]
[2547,"Puskas Alexandru","Bucuresti",37.200000000000003,7.06,"H",null,null,null,{"$f":"catp","v":4}]
[3013,"Iasinschi Daniel","Suceava",23.2,7.05,"H",null,null,null,{"$f":"catp","v":4}]
[2840,"Suciu Cristian","Cluj Napoca",27.8,7.03,"H",null,null,null,{"$f":"catp","v":4}]
[3110,"Dudun Ghenadi","Moldova-Taraclia",21,7,"H",null,null,null,{"$f":"catp","v":4}]
[3510,"Dumitrascu Marius","Buzau",14,7,"H",null,null,null,{"$f":"catp","v":4}]
[3716,"Chereches Sergiu","Tulcea",10.5,7,"H",null,null,null,{"$f":"catp","v":4}]
[3992,"Ferenczi Laszlo","Sighisoara",7,7,"H",null,null,null,{"$f":"catp","v":4}]
[3993,"Stoean Filip","Calarasi",7,7,"H",null,null,null,{"$f":"catp","v":4}]
[3994,"Pop Nicolae","Voluntari",7,7,"H",null,null,null,{"$f":"catp","v":4}]
[3995,"Todoca David","Stei",7,7,"H",null,null,null,{"$f":"catp","v":4}]
[4157,"Mistodinis Robert","Bucuresti",5.3,7,"H",null,null,null,{"$f":"catp","v":4}]
[4158,"Carp Marius","Bucuresti",5.3,7,"H",null,null,null,{"$f":"catp","v":4}]
[4159,"Maris Andrei","Piatra Neamt",5.3,7,"H",null,null,null,{"$f":"catp","v":4}]
[1504,"Burtumac Alin","Balotesti",114.8,6.97,"HW",null,null,null,{"$f":"catp","v":4}]
[3717,"Abuziloae Bogdan","Floresti",10.5,6.95,"H",null,null,null,{"$f":"catp","v":4}]
[1855,"Gota Florin","Santimbru AB",78.400000000000006,6.93,"HW",null,null,null,{"$f":"catp","v":4}]
[3643,"Toader Petru","Mogosoaia",11.6,6.9,"HW",null,null,null,{"$f":"catp","v":4}]
[4007,"Decuseara Adrian","Medias",6.9,6.9,"H",null,null,null,{"$f":"catp","v":4}]
[2331,"Baitan Adrian","Suceava",46.8,6.88,"H",null,null,null,{"$f":"catp","v":4}]
[2613,"Coaja Constantin","Bucuresti",34.5,6.88,"H",null,null,null,{"$f":"catp","v":4}]
[1781,"Cracana Ionut","Targu Neamt",84.8,6.86,"H",null,null,null,{"$f":"catp","v":4}]
[2631,"Ghita Eric","Sibiu",33.799999999999997,6.85,"H",null,null,null,{"$f":"catp","v":4}]
[3373,"Motica Alexandru","Cicarlau",16.2,6.85,"H",null,null,null,{"$f":"catp","v":4}]
[1484,"Doru Vasile","Snagov",117.2,6.83,"H",null,null,null,{"$f":"catp","v":4}]
[3091,"Barla Catalin","Videle",21.3,6.8,"H",null,null,null,{"$f":"catp","v":4}]
[3313,"Ghita Marius","Ploiesti",17.3,6.8,"H",null,null,null,{"$f":"catp","v":4}]
[4011,"Nemeti Gavril","Baia Mare",6.8,6.8,"H",null,null,null,{"$f":"catp","v":4}]
[4178,"Marian Ovidiu","Reghin",5.0999999999999996,6.8,"H",null,null,null,{"$f":"catp","v":4}]
[1562,"Serban Lucian Gabriel","Bucuresti",107.5,6.79,"H",null,null,null,{"$f":"catp","v":4}]
[2079,"Diaconu Daniel","Timisoara",61.4,6.79,"H",null,null,null,{"$f":"catp","v":4}]
[1614,"Avadanei Maria","Cluj Napoca",102.1,6.77,"HF",null,null,null,{"$f":"catp","v":4}]
[2861,"Lupascu Ciprian","Cluj Napoca",27.3,6.77,"H",null,null,null,{"$f":"catp","v":4}]
[3331,"Hanta George Cosmin","Bucuresti",17,6.75,"H",null,null,null,{"$f":"catp","v":4}]
[3361,"Bondoc Alesia","Brasov",16.399999999999999,6.75,"HF",null,null,null,{"$f":"catp","v":4}]
[3539,"Covasa Gloria","Pascani",13.5,6.75,"HF",null,null,null,{"$f":"catp","v":4}]
[2899,"Vlad Alexandru","Bucuresti",26.1,6.73,"H",null,null,null,{"$f":"catp","v":4}]
[3246,"Pop Patrik","Oradea",18.7,6.73,"H",null,null,null,{"$f":"catp","v":4}]
[1853,"Matei Razvan","Sibiu",78.599999999999994,6.72,"H",null,null,null,{"$f":"catp","v":4}]
[2944,"Vigu Cristian","Cluj Napoca",24.8,6.7,"H",null,null,null,{"$f":"catp","v":4}]
[3046,"Guita Robert","Cluj Napoca",22.4,6.7,"H",null,null,null,{"$f":"catp","v":4}]
[3362,"Nicolae Sorin","Targoviste",16.399999999999999,6.7,"H",null,null,null,{"$f":"catp","v":4}]
[4015,"Stamate Eduard","Bucuresti",6.7,6.7,"H",null,null,null,{"$f":"catp","v":4}]
[4179,"Zilahi Annamaria","Targu Mures",5.0999999999999996,6.7,"H",null,null,null,{"$f":"catp","v":4}]
[1888,"Michis Razvan","Baia Mare",75.8,6.68,"H",null,null,null,{"$f":"catp","v":4}]
[2351,"Biraut Emil","Cluj Napoca",45.7,6.68,"H",null,null,null,{"$f":"catp","v":4}]
[2360,"Lazar Viorel","Botosani",45.3,6.68,"H",null,null,null,{"$f":"catp","v":4}]
[2016,"Suciu Gheorghe","Alba Iulia",65.5,6.67,"H",null,null,null,{"$f":"catp","v":4}]
[2910,"Tomoiu Stefan","Hunedoara",25.7,6.67,"H",null,null,null,{"$f":"catp","v":4}]
[1672,"Vescan Lucian","Cluj Napoca",96.9,6.66,"H",null,null,null,{"$f":"catp","v":4}]
[3326,"Cecan Miroslav","Moldova-Glodeni",17.100000000000001,6.65,"H",null,null,null,{"$f":"catp","v":4}]
[3546,"Ciobanu Mihail","Moldova-Vulcanesti",13.3,6.65,"H",null,null,null,{"$f":"catp","v":4}]
[3640,"Soare Andrei","Bucuresti",11.7,6.65,"H",null,null,null,{"$f":"catp","v":4}]
[1919,"Ilie Victor","Medias",73.8,6.62,"H",null,null,null,{"$f":"catp","v":4}]
[2349,"Paval Tudor","Iasi",45.9,6.62,"H",null,null,null,{"$f":"catp","v":4}]
[2719,"Valea Valentin","Petrosani",31.4,6.6,"H",null,null,null,{"$f":"catp","v":4}]
[3137,"Opris Andrei","Zalau",20.399999999999999,6.6,"H",null,null,null,{"$f":"catp","v":4}]
[4019,"Luca Ionut","Sibiu",6.6,6.6,"H",null,null,null,{"$f":"catp","v":4}]
[4020,"Udrescu Darius","Faget",6.6,6.6,"H",null,null,null,{"$f":"catp","v":4}]
[4021,"Cimpan Ioan","Satu Mare AR",6.6,6.6,"H",null,null,null,{"$f":"catp","v":4}]
[4182,"Craja Gina Alexandra","Bucuresti",5,6.6,"HF",null,null,null,{"$f":"catp","v":4}]
[4183,"Nica Sebastian","Bucuresti",5,6.6,"H",null,null,null,{"$f":"catp","v":4}]
[1748,"Ispas Cristian","Sebes",88.3,6.58,"H",null,null,null,{"$f":"catp","v":4}]
[2513,"Filipescu Radu","Bucuresti",38.799999999999997,6.58,"H",null,null,null,{"$f":"catp","v":4}]
[2255,"Virtopeanu Daniel","Bucuresti",50.3,6.57,"H",null,null,null,{"$f":"catp","v":4}]
[1848,"Ciocan Eduard","Campia Turzii",79.3,6.56,"H",null,null,null,{"$f":"catp","v":4}]
[3558,"Burz Adrian Gheorghe","Fagaras",13.1,6.55,"H",null,null,null,{"$f":"catp","v":4}]
[3617,"Costache Dragos Valentin","Vadeni",12,6.55,"H",null,null,null,{"$f":"catp","v":4}]
[3029,"Bostan Nicolae","Moldova-Cahul",22.8,6.53,"H",null,null,null,{"$f":"catp","v":4}]
[3864,"Tonu Pavel","Moldova-Balti",8.5,6.5,"H",null,null,null,{"$f":"catp","v":4}]
[4272,"Tordai Adrian Bogdan","Bucuresti",4.9000000000000004,6.5,"H",null,null,null,{"$f":"catp","v":4}]
[2632,"Dzitac Stefan","Bucuresti",33.799999999999997,6.48,"H",null,null,null,{"$f":"catp","v":4}]
[2106,"Morariu Ioan","Saliste",60,6.45,"H",null,null,null,{"$f":"catp","v":4}]
[3571,"Balanescu Gheorghe","Slobozia",12.9,6.45,"H",null,null,null,{"$f":"catp","v":4}]
[3572,"Lupea Radu","Brasov",12.9,6.45,"H",null,null,null,{"$f":"catp","v":4}]
[3777,"Toma Aniela","Targoviste",9.6999999999999993,6.45,"HF",null,null,null,{"$f":"catp","v":4}]
[2270,"Marinescu Stefan","Bucuresti",49.8,6.44,"H",null,null,null,{"$f":"catp","v":4}]
[2853,"Ilas George","Oradea",27.6,6.43,"H",null,null,null,{"$f":"catp","v":4}]
[2921,"Constantinovici Ciprian","Liteni",25.5,6.43,"H",null,null,null,{"$f":"catp","v":4}]
[3017,"Cojocaru Nicusor","Brasov",23.1,6.43,"HDW",null,null,null,{"$f":"catp","v":4}]
[3067,"Ontoiu Catalin","Pitesti",21.9,6.43,"HW",null,null,null,{"$f":"catp","v":4}]
[2227,"Stegariu Vladut","Iasi",51.8,6.42,"H",null,null,null,{"$f":"catp","v":4}]
[2743,"Mate Gellert Gergo","Micfalau",30.6,6.4,"H",null,null,null,{"$f":"catp","v":4}]
[3143,"Gilea Adrian","Barlad",20.3,6.4,"H",null,null,null,{"$f":"catp","v":4}]
[3877,"Mladin Stelian","Calan",8.4,6.4,"H",null,null,null,{"$f":"catp","v":4}]
[4039,"Albu Iulian","Comanesti",6.4,6.4,"HW",null,null,null,{"$f":"catp","v":4}]
[4040,"Goldis Marinel","Arad",6.4,6.4,"H",null,null,null,{"$f":"catp","v":4}]
[4041,"Petrovici Momcilo","Kovin",6.4,6.4,"H",null,null,null,{"$f":"catp","v":4}]
[4276,"Micula George","Oradea",4.8,6.4,"H",null,null,null,{"$f":"catp","v":4}]
[4277,"Nagy Norbert","Oradea",4.8,6.4,"H",null,null,null,{"$f":"catp","v":4}]
[2059,"Voica Dragos","Timisoara",62.8,6.39,"H",null,null,null,{"$f":"catp","v":4}]
[3300,"Csiki Alexandru","Tarnaveni",17.5,6.35,"H",null,null,null,{"$f":"catp","v":4}]
[3398,"Ivan Alin","Vaslui",15.7,6.35,"H",null,null,null,{"$f":"catp","v":4}]
[3464,"Calota Cristian","Tulcea",14.6,6.35,"H",null,null,null,{"$f":"catp","v":4}]
[3742,"Andreas Zoske","Bucuresti",10.199999999999999,6.35,"H",null,null,null,{"$f":"catp","v":4}]
[1744,"Popa Cristian Vasile","Cluj Napoca",88.5,6.33,"H",null,null,null,{"$f":"catp","v":4}]
[2662,"Mos Cristian","Tampa",33,6.33,"H",null,null,null,{"$f":"catp","v":4}]
[2890,"Ogrinji Nicu","Iasi",26.5,6.33,"H",null,null,null,{"$f":"catp","v":4}]
[3378,"Botnaru Alex","Oradea",16,6.33,"H",null,null,null,{"$f":"catp","v":4}]
[3428,"Pavel Catalin","Iasi",15.2,6.3,"H",null,null,null,{"$f":"catp","v":4}]
[3591,"Morar Ovidiu","Tarnaveni",12.6,6.3,"H",null,null,null,{"$f":"catp","v":4}]
[3592,"Bolos Viorel","Hateg",12.6,6.3,"HW",null,null,null,{"$f":"catp","v":4}]
[3593,"Forna Andrei","Apahida",12.6,6.3,"H",null,null,null,{"$f":"catp","v":4}]
[3786,"Feodorov Gabriel","Tulcea",9.5,6.3,"H",null,null,null,{"$f":"catp","v":4}]
[3787,"Fiodorov Egor","Moldova-Cahul",9.5,6.3,"H",null,null,null,{"$f":"catp","v":4}]
[4047,"Pop Ioan","Bistrita",6.3,6.3,"HW",null,null,null,{"$f":"catp","v":4}]
[4048,"Grama Aurel","Bistrita",6.3,6.3,"H",null,null,null,{"$f":"catp","v":4}]
[4049,"Lepadatu Robert","Priboieni",6.3,6.3,"H",null,null,null,{"$f":"catp","v":4}]
[4050,"Alexoi Marius","Calan",6.3,6.3,"H",null,null,null,{"$f":"catp","v":4}]
[4278,"Verciuc Alexandru","Suceava",4.8,6.3,"H",null,null,null,{"$f":"catp","v":4}]
[2886,"Labo Antonia","Zalau",26.6,6.28,"HF",null,null,null,{"$f":"catp","v":4}]
[2205,"Trif Mihai","Cluj Napoca",53.3,6.27,"HJ",null,null,null,{"$f":"catp","v":4}]
[3241,"Sarov Daniel","Bucuresti",18.8,6.27,"H",null,null,null,{"$f":"catp","v":4}]
[3416,"Griga Cristian","Oradea",15.4,6.27,"H",null,null,null,{"$f":"catp","v":4}]
[1925,"Mohonea Angel","Braila",73.3,6.25,"H",null,null,null,{"$f":"catp","v":4}]
[2711,"Nastase Cosmin","Ramnicu Sarat",31.6,6.25,"H",null,null,null,{"$f":"catp","v":4}]
[3596,"Cocerva Nica","Moldova-Balti",12.5,6.25,"H",null,null,null,{"$f":"catp","v":4}]
[3671,"Luca Nicolae","Teleorman",11.2,6.25,"H",null,null,null,{"$f":"catp","v":4}]
[3725,"Bejinariu Valentin","Iasi",10.4,6.25,"H",null,null,null,{"$f":"catp","v":4}]
[3314,"Pirlea Dorin","Hunedoara",17.3,6.23,"H",null,null,null,{"$f":"catp","v":4}]
[3085,"Petrache Stefan","Blaj",21.4,6.2,"H",null,null,null,{"$f":"catp","v":4}]
[4060,"Boboc Eva","Vatra Dornei",6.2,6.2,"HF",null,null,null,{"$f":"catp","v":4}]
[4061,"Bostiog Cristian","Vicovu de Jos",6.2,6.2,"H",null,null,null,{"$f":"catp","v":4}]
[4062,"Nistor Alexandru","Suceava",6.2,6.2,"H",null,null,null,{"$f":"catp","v":4}]
[4063,"Corduneanu Daniel","Suceava",6.2,6.2,"H",null,null,null,{"$f":"catp","v":4}]
[4064,"Ionescu Darius Andrei","Calarasi",6.2,6.2,"H",null,null,null,{"$f":"catp","v":4}]
[4065,"Milakovic Mile","Belgrad",6.2,6.2,"H",null,null,null,{"$f":"catp","v":4}]
[4288,"Havrisciuc Andrei","Patrauti",4.7,6.2,"H",null,null,null,{"$f":"catp","v":4}]
[2540,"Ghica Marius","Craiova",37.4,6.18,"H",null,null,null,{"$f":"catp","v":4}]
[2928,"Badea Alexandru","Bucuresti",25.2,6.18,"H",null,null,null,{"$f":"catp","v":4}]
[1539,"Ambrus Alexandru","Deva",110,6.15,"H",null,null,null,{"$f":"catp","v":4}]
[3092,"Ionescu Gabriel","Fetesti",21.3,6.15,"H",null,null,null,{"$f":"catp","v":4}]
[3422,"Dodan Alin Iulian","Filipestii de Padure",15.3,6.15,"H",null,null,null,{"$f":"catp","v":4}]
[3602,"Cebuc Emma","Dumbravita",12.3,6.15,"HF",null,null,null,{"$f":"catp","v":4}]
[3663,"Stoinescu Raul","Arad",11.3,6.15,"H",null,null,null,{"$f":"catp","v":4}]
[3093,"Nichitean Narcis","Cluj Napoca",21.3,6.13,"H",null,null,null,{"$f":"catp","v":4}]
[2732,"Baltes Ovidiu","Ocna Sibiului",31,6.1,"H",null,null,null,{"$f":"catp","v":4}]
[3511,"Dinicescu Ion","Pitesti",14,6.1,"HW",null,null,null,{"$f":"catp","v":4}]
[3878,"Paunescu David Stefan","Bucuresti",8.4,6.1,"H",null,null,null,{"$f":"catp","v":4}]
[4069,"Dobrean Efraim","Faget",6.1,6.1,"H",null,null,null,{"$f":"catp","v":4}]
[4296,"Gorgonetu Alexandru","Bucuresti",4.5999999999999996,6.1,"H",null,null,null,{"$f":"catp","v":4}]
[4297,"Chivu Valentin","Bucuresti",4.5999999999999996,6.1,"H",null,null,null,{"$f":"catp","v":4}]
[2874,"Dobre Ionel","Bucuresti",27,6.08,"H",null,null,null,{"$f":"catp","v":4}]
[3061,"Catana Vasile","Bacau",22.1,6.07,"HW",null,null,null,{"$f":"catp","v":4}]
[3332,"Grajdianu Constantin","Oniceni",17,6.07,"H",null,null,null,{"$f":"catp","v":4}]
[3709,"Nicula Daniel","Petru Rares",10.6,6.05,"H",null,null,null,{"$f":"catp","v":4}]
[2421,"Marcu David","Iasi",42.7,6.04,"H",null,null,null,{"$f":"catp","v":4}]
[1660,"Veres Iulian Cristian","Petrila",97.5,6.01,"H",null,null,null,{"$f":"catp","v":4}]
[2010,"Ianc Adrian","Floresti",66.099999999999994,6.01,"H",null,null,null,{"$f":"catp","v":4}]
[2107,"Szekely Gheorghe","Blaj",60,6.01,"HW",null,null,null,{"$f":"catp","v":4}]
[2963,"Dinescu Alin","Bucuresti",24.4,6,"H",null,null,null,{"$f":"catp","v":4}]
[3130,"Gergely Istvan","Ditrau",20.5,6,"H",null,null,null,{"$f":"catp","v":4}]
[3618,"Iordache Valentin","Iasi",12,6,"H",null,null,null,{"$f":"catp","v":4}]
[3704,"Uscatu Adelina","Floresti",10.7,6,"HF",null,null,null,{"$f":"catp","v":4}]
[3778,"Dumitru Denis","Navodari",9.6999999999999993,6,"H",null,null,null,{"$f":"catp","v":4}]
[3824,"Florea Marian","Targoviste",9,6,"HW",null,null,null,{"$f":"catp","v":4}]
[3825,"Miculit Alberto","Lipova",9,6,"H",null,null,null,{"$f":"catp","v":4}]
[4077,"Cofari Eugen","Sovata",6,6,"H",null,null,null,{"$f":"catp","v":4}]
[4078,"Furdui Anatol","Moldova-Balti",6,6,"H",null,null,null,{"$f":"catp","v":4}]
[4079,"Stratiev Ivan","Moldova-Cazaclia",6,6,"H",null,null,null,{"$f":"catp","v":4}]
[4080,"Zugravu Vlad Stefan","Barlad",6,6,"H",null,null,null,{"$f":"catp","v":4}]
[4081,"Pislariu Vlad","Dej",6,6,"H",null,null,null,{"$f":"catp","v":4}]
[4302,"Krempels Peter","Bucuresti",4.5,6,"H",null,null,null,{"$f":"catp","v":4}]
[2484,"Budeanu Cristian","Suceava",39.9,5.98,"H",null,null,null,{"$f":"catp","v":4}]
[2033,"Sava Sinel","Focsani",64.5,5.97,"H",null,null,null,{"$f":"catp","v":4}]
[2310,"Bistreanu Petru","Bucuresti",47.9,5.95,"H",null,null,null,{"$f":"catp","v":4}]
[2649,"Musat Alin","Cluj Napoca",33.1,5.95,"H",null,null,null,{"$f":"catp","v":4}]
[3826,"Modoran Cosmin","Bucuresti",9,5.95,"H",null,null,null,{"$f":"catp","v":4}]
[1809,"Alexandru Anghel","Bucuresti",82.4,5.9,"H",null,null,null,{"$f":"catp","v":4}]
[4094,"Stefanescu Tiberiu","Aiud",5.9,5.9,"H",null,null,null,{"$f":"catp","v":4}]
[4095,"Tofan Sebastian","Lipova",5.9,5.9,"H",null,null,null,{"$f":"catp","v":4}]
[4303,"Socaci Marian","Braila",4.5,5.9,"H",null,null,null,{"$f":"catp","v":4}]
[2121,"Stancu Gheorghe","Brazi",59.5,5.89,"H",null,null,null,{"$f":"catp","v":4}]
[2986,"Teodorescu Mircea","Medias",23.8,5.87,"H",null,null,null,{"$f":"catp","v":4}]
[3429,"Cserei Gabor","Sovata",15.2,5.87,"H",null,null,null,{"$f":"catp","v":4}]
[1905,"Susman Alexandru","Alba Iulia",74.5,5.86,"H",null,null,null,{"$f":"catp","v":4}]
[3497,"Patrascu Marius","Piatra Neamt",14.2,5.85,"H",null,null,null,{"$f":"catp","v":4}]
[3843,"Lupinca Daniel","Resita",8.8000000000000007,5.85,"H",null,null,null,{"$f":"catp","v":4}]
[1771,"Spaller Teodora","Nasaud",85.3,5.81,"HF",null,null,null,{"$f":"catp","v":4}]
[3644,"Rosca Andrei","Vicovu de Jos",11.6,5.8,"H",null,null,null,{"$f":"catp","v":4}]
[3697,"Pintilie Cristi","Vaslui",10.8,5.8,"H",null,null,null,{"$f":"catp","v":4}]
[3854,"Szabo Luka Kazmer","Miercurea Ciuc",8.6999999999999993,5.8,"H",null,null,null,{"$f":"catp","v":4}]
[4100,"Tabacaru Ciprian","Vaslui",5.8,5.8,"H",null,null,null,{"$f":"catp","v":4}]
[4101,"Munteanu Vasile","Moldova-Cahul",5.8,5.8,"H",null,null,null,{"$f":"catp","v":4}]
[4102,"Bulihar Cristian","Vaslui",5.8,5.8,"H",null,null,null,{"$f":"catp","v":4}]
[4103,"Bailescu Stefan","Craiova",5.8,5.8,"H",null,null,null,{"$f":"catp","v":4}]
[4330,"Incze Geza","Targu Mures",4.4000000000000004,5.8,"H",null,null,null,{"$f":"catp","v":4}]
[1757,"Nuta Petru","Sibiu",87.1,5.79,"H",null,null,null,{"$f":"catp","v":4}]
[2183,"Timoc Bogdan","Cluj Napoca",54.8,5.77,"H",null,null,null,{"$f":"catp","v":4}]
[3034,"Paun Carmen","Alexandria",22.6,5.77,"HF",null,null,null,{"$f":"catp","v":4}]
[3131,"Calonfirescu Sever","Manastireni",20.5,5.77,"H",null,null,null,{"$f":"catp","v":4}]
[3392,"Iosca George","Bucuresti",15.8,5.77,"H",null,null,null,{"$f":"catp","v":4}]
[1721,"Gheorghe Catalin","Ploiesti",91.1,5.75,"H",null,null,null,{"$f":"catp","v":4}]
[3530,"Neagu Viorel","Medias",13.6,5.75,"H",null,null,null,{"$f":"catp","v":4}]
[3710,"Halasz Botond","Ciba",10.6,5.75,"H",null,null,null,{"$f":"catp","v":4}]
[2184,"Popa Dan Teodor","Tecuci",54.8,5.74,"H",null,null,null,{"$f":"catp","v":4}]
[2934,"Arnautu Constantin Cristian","Suceava",24.9,5.73,"H",null,null,null,{"$f":"catp","v":4}]
[2536,"Ivanov Alexandru","Moldova-Cahul",37.6,5.72,"H",null,null,null,{"$f":"catp","v":4}]
[3374,"Homana Ioan","Stremt",16.2,5.7,"H",null,null,null,{"$f":"catp","v":4}]
[3379,"Tudosie David","Ploiesti",16,5.7,"H",null,null,null,{"$f":"catp","v":4}]
[3450,"Sechel Vasile","Viseu",14.9,5.7,"H",null,null,null,{"$f":"catp","v":4}]
[3465,"Dinu Mihai","Craiova",14.6,5.7,"H",null,null,null,{"$f":"catp","v":4}]
[3657,"Muresan Viorel Florin","Baia Mare",11.4,5.7,"H",null,null,null,{"$f":"catp","v":4}]
[3664,"Maftei Ioana","Constanta",11.3,5.7,"HF",null,null,null,{"$f":"catp","v":4}]
[4109,"Acsinte Andrei","Roman",5.7,5.7,"H",null,null,null,{"$f":"catp","v":4}]
[4110,"Badulescu Daniel Catalin","Urlati",5.7,5.7,"H",null,null,null,{"$f":"catp","v":4}]
[4338,"Oprea Adrian","Bucuresti",4.3,5.7,"H",null,null,null,{"$f":"catp","v":4}]
[3430,"Larion Alexandru","Suceava",15.2,5.67,"H",null,null,null,{"$f":"catp","v":4}]
[3865,"Szentmiklosi Bela","Oradea",8.5,5.65,"H",null,null,null,{"$f":"catp","v":4}]
[1901,"Span Maria","Sibiu",74.7,5.64,"HF",null,null,null,{"$f":"catp","v":4}]
[3047,"Bozga Luisa","Dobric",22.4,5.63,"HF",null,null,null,{"$f":"catp","v":4}]
[3094,"Iotu Mihaita Sorin","Alexandria",21.3,5.63,"HD",null,null,null,{"$f":"catp","v":4}]
[3150,"Trifan David","Piatra Neamt",20.100000000000001,5.63,"H",null,null,null,{"$f":"catp","v":4}]
[1892,"Rosa Vasile","Salciua",75.400000000000006,5.6,"HD",null,null,null,{"$f":"catp","v":4}]
[2367,"Ticu Razvan","Bucuresti",45,5.6,"H",null,null,null,{"$f":"catp","v":4}]
[2399,"David Sergiu Danut","Bucuresti",43.7,5.6,"H",null,null,null,{"$f":"catp","v":4}]
[2576,"Croitoru Marian Ciprian","Brasov",36.4,5.6,"H",null,null,null,{"$f":"catp","v":4}]
[3095,"Delev Paula","Moldova-Balti",21.3,5.6,"HF",null,null,null,{"$f":"catp","v":4}]
[3132,"Puskas Attila","Sovata",20.5,5.6,"H",null,null,null,{"$f":"catp","v":4}]
[4117,"Simon Andras Zsolt","Sighisoara",5.6,5.6,"H",null,null,null,{"$f":"catp","v":4}]
[4340,"Golea Dragos","Suceava",4.2,5.6,"H",null,null,null,{"$f":"catp","v":4}]
[4341,"Doxan Adrian","Resita",4.2,5.6,"H",null,null,null,{"$f":"catp","v":4}]
[4342,"Pentiuc Marcel","Suceava",4.2,5.6,"H",null,null,null,{"$f":"catp","v":4}]
[2212,"Iancu Laurentiu","Constanta",52.6,5.58,"H",null,null,null,{"$f":"catp","v":4}]
[2565,"Radovan Dusan","Timisoara",36.799999999999997,5.58,"H",null,null,null,{"$f":"catp","v":4}]
[2673,"Duagi Ervin","Galati",32.5,5.58,"H",null,null,null,{"$f":"catp","v":4}]
[3041,"Koncsag Csaba","Joseni",22.5,5.58,"H",null,null,null,{"$f":"catp","v":4}]
[2342,"Karmazsin Daniel","Bucuresti",46.3,5.57,"H",null,null,null,{"$f":"catp","v":4}]
[3467,"Stroe Florin","Brasov",14.5,5.57,"H",null,null,null,{"$f":"catp","v":4}]
[3451,"Crisan Ovidiu","Sibiu",14.9,5.55,"H",null,null,null,{"$f":"catp","v":4}]
[1914,"Voivod Mihai","Cluj Napoca",74.099999999999994,5.53,"HD",null,null,null,{"$f":"catp","v":4}]
[3101,"Tanasov Marius","Tulcea",21.2,5.53,"H",null,null,null,{"$f":"catp","v":4}]
[2753,"Acatrinei Ciprian","Iasi",30.1,5.5,"H",null,null,null,{"$f":"catp","v":4}]
[3225,"Munteanu Dragos","Tulcea",19,5.5,"H",null,null,null,{"$f":"catp","v":4}]
[3679,"Ciuntu Marcel","Moldova-Drochia",11,5.5,"H",null,null,null,{"$f":"catp","v":4}]
[4127,"Nastase Laurentiu","Arad",5.5,5.5,"H",null,null,null,{"$f":"catp","v":4}]
[4128,"Cretu Ionut","Bacau",5.5,5.5,"H",null,null,null,{"$f":"catp","v":4}]
[4129,"Muha Mateo","Galati",5.5,5.5,"H",null,null,null,{"$f":"catp","v":4}]
[4130,"Chiosa Stanislav","Moldova-Chisinau",5.5,5.5,"H",null,null,null,{"$f":"catp","v":4}]
[4131,"Porojniuc Artiom","Moldova-Chisinau",5.5,5.5,"H",null,null,null,{"$f":"catp","v":4}]
[4132,"Mocan Veaceslav","Moldova-Causeni",5.5,5.5,"H",null,null,null,{"$f":"catp","v":4}]
[4133,"Turcan Vitalie","Moldova-Balti",5.5,5.5,"H",null,null,null,{"$f":"catp","v":4}]
[4343,"Drimbau Calin","Marghita",4.2,5.5,"H",null,null,null,{"$f":"catp","v":4}]
[4344,"Dragutoiu Petre","Bucuresti",4.2,5.5,"H",null,null,null,{"$f":"catp","v":4}]
[2612,"Papadopol Alexandru","Brasov",34.700000000000003,5.46,"H",null,null,null,{"$f":"catp","v":4}]
[2274,"Raduly Eduard","Sfantu Gheorghe",49.7,5.45,"H",null,null,null,{"$f":"catp","v":4}]
[3048,"Lengenfelder Johan","Giroc",22.4,5.45,"H",null,null,null,{"$f":"catp","v":4}]
[3689,"Calauz Horatiu","Baia Mare",10.9,5.45,"H",null,null,null,{"$f":"catp","v":4}]
[3779,"Teodorescu Cosmin","Bucuresti",9.6999999999999993,5.45,"H",null,null,null,{"$f":"catp","v":4}]
[3888,"Murariu Ionut","Iasi",8.1999999999999993,5.45,"H",null,null,null,{"$f":"catp","v":4}]
[2020,"Ghidibaca Adrian","Bacau",65.3,5.44,"H",null,null,null,{"$f":"catp","v":4}]
[2374,"Lungu Sorin","Bucuresti",44.6,5.44,"H",null,null,null,{"$f":"catp","v":4}]
[2878,"Nemeti Zoltan","Oradea",26.9,5.43,"H",null,null,null,{"$f":"catp","v":4}]
[2905,"Paun Viorel Dan","Sag",25.8,5.43,"H",null,null,null,{"$f":"catp","v":4}]
[3573,"Munteanu Andrei","Piatra Neamt",12.9,5.43,"H",null,null,null,{"$f":"catp","v":4}]
[2091,"Barbu Dorin","Constanta",61.1,5.41,"H",null,null,null,{"$f":"catp","v":4}]
[1915,"Ciorlip Sorin","Hunedoara",74,5.4,"H",null,null,null,{"$f":"catp","v":4}]
[3278,"Bregar Dan","Alba Iulia",17.8,5.4,"HW",null,null,null,{"$f":"catp","v":4}]
[3901,"Iftode Ioan","Suceava",8.1,5.4,"H",null,null,null,{"$f":"catp","v":4}]
[4147,"Dulgheru Gheorghe","Buzau",5.4,5.4,"H",null,null,null,{"$f":"catp","v":4}]
[4148,"Varzaru Alexandru","Bucuresti",5.4,5.4,"H",null,null,null,{"$f":"catp","v":4}]
[4149,"Soare Nicolae","Bucuresti",5.4,5.4,"H",null,null,null,{"$f":"catp","v":4}]
[4349,"Rusu Ovidiu","Cluj Napoca",4.0999999999999996,5.4,"H",null,null,null,{"$f":"catp","v":4}]
[4350,"Alstani Mariana","Drobeta Tr Severin",4.0999999999999996,5.4,"HF",null,null,null,{"$f":"catp","v":4}]
[4351,"Sava Sergiu","Cluj Napoca",4.0999999999999996,5.4,"H",null,null,null,{"$f":"catp","v":4}]
[4352,"Dogaru Mihai","Drobeta Tr Severin",4.0999999999999996,5.4,"H",null,null,null,{"$f":"catp","v":4}]
[4353,"Colcer Ioan","Galautas",4.0999999999999996,5.4,"H",null,null,null,{"$f":"catp","v":4}]
[4354,"Benedek Elemer","Gheorgheni",4.0999999999999996,5.4,"H",null,null,null,{"$f":"catp","v":4}]
[3348,"Danu Ion","Moldova-Balti",16.7,5.37,"H",null,null,null,{"$f":"catp","v":4}]
[3461,"Moldovan Cristian","Alba Iulia",14.7,5.37,"H",null,null,null,{"$f":"catp","v":4}]
[2264,"Sas Gabriel","Timisoara",50.1,5.36,"H",null,null,null,{"$f":"catp","v":4}]
[2185,"Manea Eduard","Cluj Napoca",54.8,5.35,"H",null,null,null,{"$f":"catp","v":4}]
[2841,"Andrei Maria","Ludus",27.8,5.35,"HF",null,null,null,{"$f":"catp","v":4}]
[2707,"Pascu Gabriel","Braila",31.7,5.33,"HW",null,null,null,{"$f":"catp","v":4}]
[3062,"Rusu Paul","Cluj Napoca",22,5.33,"H",null,null,null,{"$f":"catp","v":4}]
[3177,"Cozma Mihai","Targu Neamt",19.5,5.33,"H",null,null,null,{"$f":"catp","v":4}]
[3380,"Eftene Roberto","Oltenita",16,5.33,"H",null,null,null,{"$f":"catp","v":4}]
[3442,"Craciunel Rares Andrei","Giroc",15,5.33,"H",null,null,null,{"$f":"catp","v":4}]
[2357,"Ursan Stefan","Manastireni",45.4,5.3,"H",null,null,null,{"$f":"catp","v":4}]
[3587,"Matica Mihai","Oradea",12.7,5.3,"H",null,null,null,{"$f":"catp","v":4}]
[3711,"Cozma Denis","Hateg",10.6,5.3,"H",null,null,null,{"$f":"catp","v":4}]
[3812,"Bot Ioan","Uriu",9.1,5.3,"H",null,null,null,{"$f":"catp","v":4}]
[3903,"Terteci Ilie Lucian","Ramnicu Valcea",8,5.3,"H",null,null,null,{"$f":"catp","v":4}]
[4160,"Soldan Ionatan","Cajvana",5.3,5.3,"H",null,null,null,{"$f":"catp","v":4}]
[4161,"Streche Andrei","Bucuresti",5.3,5.3,"H",null,null,null,{"$f":"catp","v":4}]
[4162,"Bejenariu Costel","Siret",5.3,5.3,"H",null,null,null,{"$f":"catp","v":4}]
[2868,"Loghin Dumitru","Pascani",27.2,5.28,"H",null,null,null,{"$f":"catp","v":4}]
[2875,"Luca Iulian","Bucuresti",27,5.28,"H",null,null,null,{"$f":"catp","v":4}]
[2987,"Dumitras Cristian","Giroc",23.8,5.28,"H",null,null,null,{"$f":"catp","v":4}]
[2712,"Buraciuc Raluca","Nasaud",31.6,5.25,"HF",null,null,null,{"$f":"catp","v":4}]
[3718,"Caramilia Igor","Moldova-Vulcanesti",10.5,5.25,"H",null,null,null,{"$f":"catp","v":4}]
[3794,"Ciocanel Stefan","Botosani",9.4,5.25,"H",null,null,null,{"$f":"catp","v":4}]
[3002,"Petric David","Timisoara",23.5,5.2,"H",null,null,null,{"$f":"catp","v":4}]
[3198,"Ciolan Dumitru","Brasov",19.100000000000001,5.2,"H",null,null,null,{"$f":"catp","v":4}]
[3726,"Muresan Vasile","Orasu Nou",10.4,5.2,"H",null,null,null,{"$f":"catp","v":4}]
[3839,"Damian Vasile","Nasaud",8.9,5.2,"H",null,null,null,{"$f":"catp","v":4}]
[3932,"Clisic Iosif","Sannicolau Mare",7.8,5.2,"H",null,null,null,{"$f":"catp","v":4}]
[4170,"Macarescu Sebastian","Suceava",5.2,5.2,"H",null,null,null,{"$f":"catp","v":4}]
[4171,"Delca Maria","Alexandria",5.2,5.2,"HF",null,null,null,{"$f":"catp","v":4}]
[4172,"Bostinaru Paul","Curtea de Arges",5.2,5.2,"H",null,null,null,{"$f":"catp","v":4}]
[4173,"Tomovic Uros","Belgrad",5.2,5.2,"H",null,null,null,{"$f":"catp","v":4}]
[4412,"Scheuleac Silviu","Suceava",3.9,5.2,"H",null,null,null,{"$f":"catp","v":4}]
[4413,"Feldiorean Alessandra","Sfantu Gheorghe",3.9,5.2,"HF",null,null,null,{"$f":"catp","v":4}]
[3189,"Craus Marian","Bucuresti",19.3,5.17,"H",null,null,null,{"$f":"catp","v":4}]
[3319,"Riclea George Eusebiu","Barlad",17.2,5.17,"H",null,null,null,{"$f":"catp","v":4}]
[2396,"Tudor Casian","Timisoara",43.9,5.16,"H",null,null,null,{"$f":"catp","v":4}]
[2724,"Vilcu Viorel","Tulcea",31.2,5.16,"H",null,null,null,{"$f":"catp","v":4}]
[2295,"Hanes Onisie","Medias",48.5,5.15,"H",null,null,null,{"$f":"catp","v":4}]
[3111,"Juganaru Gabriel","Buzau",21,5.15,"H",null,null,null,{"$f":"catp","v":4}]
[3155,"Cercel Marian","Buzau",20,5.15,"H",null,null,null,{"$f":"catp","v":4}]
[3574,"Garbacea Ionut","Slobozia",12.9,5.15,"H",null,null,null,{"$f":"catp","v":4}]
[3730,"Peter Stefan","Arad",10.3,5.15,"H",null,null,null,{"$f":"catp","v":4}]
[3855,"Partene Andrei","Iasi",8.6999999999999993,5.15,"H",null,null,null,{"$f":"catp","v":4}]
[2439,"Tutuianu Radu","Timisoara",41.9,5.13,"H",null,null,null,{"$f":"catp","v":4}]
[2924,"Barabasi Botond","Campenita",25.4,5.0999999999999996,"H",null,null,null,{"$f":"catp","v":4}]
[3743,"Cozma Flavian","Targu Neamt",10.199999999999999,5.0999999999999996,"H",null,null,null,{"$f":"catp","v":4}]
[3986,"Campean Traian","Apahida",7.1,5.0999999999999996,"H",null,null,null,{"$f":"catp","v":4}]
[4180,"Lucaciu Andrei","Suceava",5.0999999999999996,5.0999999999999996,"H",null,null,null,{"$f":"catp","v":4}]
[4181,"Scutelnicu Tudor","Iasi",5.0999999999999996,5.0999999999999996,"H",null,null,null,{"$f":"catp","v":4}]
[4414,"Stoica Adrian","Bucuresti",3.9,5.0999999999999996,"H",null,null,null,{"$f":"catp","v":4}]
[4415,"Marinescu Bogdan","Bucuresti",3.9,5.0999999999999996,"H",null,null,null,{"$f":"catp","v":4}]
[3074,"Caracuda Andrei","Sibiu",21.8,5.07,"H",null,null,null,{"$f":"catp","v":4}]
[2144,"Costea Mircea","Alba Iulia",57.7,5.0599999999999996,"H",null,null,null,{"$f":"catp","v":4}]
[3745,"Leseanu Mihnea Gabriel","Alexandria",10.1,5.05,"H",null,null,null,{"$f":"catp","v":4}]
[3746,"Marian Mario","Slobozia",10.1,5.05,"H",null,null,null,{"$f":"catp","v":4}]
[3941,"Radu Gabriel","Ploiesti",7.6,5.05,"H",null,null,null,{"$f":"catp","v":4}]
[2736,"Bentea Alexandru","Targu Mures",30.8,5.03,"H",null,null,null,{"$f":"catp","v":4}]
[2906,"Fernando Barbossa","Cluj Napoca",25.8,5,"H",null,null,null,{"$f":"catp","v":4}]
[3156,"Filip Cristi","Comanesti",20,5,"HW",null,null,null,{"$f":"catp","v":4}]
[3251,"Jupiala Mihai","Brasov",18.5,5,"H",null,null,null,{"$f":"catp","v":4}]
[3283,"Dragomir Ioan","Cristian SB",17.7,5,"HW",null,null,null,{"$f":"catp","v":4}]
[3540,"Obis Akos","Berveni",13.5,5,"H",null,null,null,{"$f":"catp","v":4}]
[3619,"Brandusa Marius","Sighisoara",12,5,"H",null,null,null,{"$f":"catp","v":4}]
[3757,"Rosianu Nicolae","Sibiu",10,5,"HW",null,null,null,{"$f":"catp","v":4}]
[3758,"Balhuc Marian Andrei","Halaucesti",10,5,"H",null,null,null,{"$f":"catp","v":4}]
[3759,"Chiru Cristian","Galati",10,5,"H",null,null,null,{"$f":"catp","v":4}]
[3802,"Popa Virgil","Beius",9.3000000000000007,5,"H",null,null,null,{"$f":"catp","v":4}]
[3844,"Salvan Horatiu","Cluj Napoca",8.8000000000000007,5,"H",null,null,null,{"$f":"catp","v":4}]
[3856,"Oltean Tudor","Zalau",8.6999999999999993,5,"H",null,null,null,{"$f":"catp","v":4}]
[3996,"Gheorghita Iulius Cezar","Ciprian Porumbescu",7,5,"H",null,null,null,{"$f":"catp","v":4}]
[3997,"Ontiu Mircea","Tautii Magheraus",7,5,"H",null,null,null,{"$f":"catp","v":4}]
[4051,"Magdo Julia","Brasov",6.3,5,"HF",null,null,null,{"$f":"catp","v":4}]
[4052,"Marcu Aurel","Manastireni",6.3,5,"H",null,null,null,{"$f":"catp","v":4}]
[4053,"Imreh Gyorgy","Sfantu Gheorghe",6.3,5,"H",null,null,null,{"$f":"catp","v":4}]
[4184,"Pop Mihai","Dej",5,5,"H",null,null,null,{"$f":"catp","v":4}]
[4185,"Vela Gabriel","Timisoara",5,5,"H",null,null,null,{"$f":"catp","v":4}]
[4186,"Ciurdar Andrei","Arad",5,5,"H",null,null,null,{"$f":"catp","v":4}]
[4187,"Avram Marian","Alexandria",5,5,"H",null,null,null,{"$f":"catp","v":4}]
[4188,"Takats Nandor","Arad",5,5,"H",null,null,null,{"$f":"catp","v":4}]
[4189,"Restea Lucian","Fagaras",5,5,"H",null,null,null,{"$f":"catp","v":4}]
[4190,"Simionese Ovidiu","Granicesti",5,5,"H",null,null,null,{"$f":"catp","v":4}]
[4191,"Cristea Andrei Cosmin","Aiud",5,5,"H",null,null,null,{"$f":"catp","v":4}]
[4192,"Harmanescu Petrus","Falticeni",5,5,"H",null,null,null,{"$f":"catp","v":4}]
[4193,"Buciuman Ionut","Oradea",5,5,"H",null,null,null,{"$f":"catp","v":4}]
[4194,"Sirbu Vlad","Aiud",5,5,"H",null,null,null,{"$f":"catp","v":4}]
[4195,"Buraciuc Cornel","Nasaud",5,5,"H",null,null,null,{"$f":"catp","v":4}]
[4196,"Mesterca Mihai","Roman",5,5,"H",null,null,null,{"$f":"catp","v":4}]
[4197,"Musat Aurel","Bucuresti",5,5,"H",null,null,null,{"$f":"catp","v":4}]
[4198,"Irimia Tudorel","Onesti",5,5,"H",null,null,null,{"$f":"catp","v":4}]
[4199,"Dimitrov Claudiu Marian","Suceava",5,5,"H",null,null,null,{"$f":"catp","v":4}]
[4200,"Kulisic Slavoljub","Novi Sad",5,5,"H",null,null,null,{"$f":"catp","v":4}]
[4201,"Aldea Sandrino","Comanesti",5,5,"H",null,null,null,{"$f":"catp","v":4}]
[4202,"Korodi Krisztian","Aita Mare",5,5,"H",null,null,null,{"$f":"catp","v":4}]
[4203,"Korodi Daniel","Aita Mare",5,5,"H",null,null,null,{"$f":"catp","v":4}]
[4204,"Kadar Levente","Odorheiu Secuiesc",5,5,"H",null,null,null,{"$f":"catp","v":4}]
[4205,"Florescu George","Bucuresti",5,5,"H",null,null,null,{"$f":"catp","v":4}]
[4206,"Bora Paul","Cluj Napoca",5,5,"H",null,null,null,{"$f":"catp","v":4}]
[4207,"Pasztor Gyorgy","Sovata",5,5,"H",null,null,null,{"$f":"catp","v":4}]
[4208,"Rajda Vladimir","Varset",5,5,"H",null,null,null,{"$f":"catp","v":4}]
[4209,"Sfera Mihai","Lokve",5,5,"H",null,null,null,{"$f":"catp","v":4}]
[4210,"Miron Cristi","Onesti",5,5,"H",null,null,null,{"$f":"catp","v":4}]
[4211,"Hanuleac Tamas","Joseni",5,5,"H",null,null,null,{"$f":"catp","v":4}]
[4212,"Matei Alexandru","Focsani",5,5,"H",null,null,null,{"$f":"catp","v":4}]
[4213,"Olaru Mara","Floresti",5,5,"HF",null,null,null,{"$f":"catp","v":4}]
[4214,"Culda Florin","Oradea",5,5,"H",null,null,null,{"$f":"catp","v":4}]
[4215,"Orga Adrian","Ludus",5,5,"H",null,null,null,{"$f":"catp","v":4}]
[4216,"Stanciu Alexander","Vatra Dornei",5,5,"H",null,null,null,{"$f":"catp","v":4}]
[4217,"Cuiumju Victor","Moldova-Vulcanesti",5,5,"H",null,null,null,{"$f":"catp","v":4}]
[4218,"Uzun Alexandr","Moldova-Cazaclia",5,5,"H",null,null,null,{"$f":"catp","v":4}]
[4219,"Oravecz Csaba","Tomesti",5,5,"H",null,null,null,{"$f":"catp","v":4}]
[4220,"Bzovii Elena","Moldova-Cahul",5,5,"HF",null,null,null,{"$f":"catp","v":4}]
[4221,"Neamtu Marius","Campia Turzii",5,5,"H",null,null,null,{"$f":"catp","v":4}]
[4222,"Lucky Cristina","Comanesti",5,5,"HF",null,null,null,{"$f":"catp","v":4}]
[4223,"Mamaliga Robert","Tulcea",5,5,"H",null,null,null,{"$f":"catp","v":4}]
[4224,"Vintila Antonio","Videle",5,5,"H",null,null,null,{"$f":"catp","v":4}]
[4225,"Gherman Constantin","Curtea de Arges",5,5,"H",null,null,null,{"$f":"catp","v":4}]
[4226,"Roman Nesterov","Moldova-Drochia",5,5,"H",null,null,null,{"$f":"catp","v":4}]
[4227,"Pall Roland","Tarnaveni",5,5,"H",null,null,null,{"$f":"catp","v":4}]
[4228,"Buzzoni Clara","Lombardia Italia",5,5,"HF",null,null,null,{"$f":"catp","v":4}]
[4229,"Pausian Claudiu","Cluj Napoca",5,5,"H",null,null,null,{"$f":"catp","v":4}]
[4230,"Papuc David","Bucuresti",5,5,"H",null,null,null,{"$f":"catp","v":4}]
[4231,"Ionescu Dumitru","Bucuresti",5,5,"H",null,null,null,{"$f":"catp","v":4}]
[4232,"Murgu Horia","Ciprian Porumbescu",5,5,"H",null,null,null,{"$f":"catp","v":4}]
[4233,"Krais Sabin","Brasov",5,5,"H",null,null,null,{"$f":"catp","v":4}]
[4234,"Sarai Alexandru","Baia Mare",5,5,"H",null,null,null,{"$f":"catp","v":4}]
[4235,"Ruje Marcel","Baia Sprie",5,5,"H",null,null,null,{"$f":"catp","v":4}]
[4236,"Trif Costel","Sacalaseni",5,5,"H",null,null,null,{"$f":"catp","v":4}]
[4237,"Tudorache Alexandra","Targoviste",5,5,"HF",null,null,null,{"$f":"catp","v":4}]
[4238,"Dan Cosmin","Ucraina",5,5,"H",null,null,null,{"$f":"catp","v":4}]
[4239,"Velcea Rebeca Maria","Craiova",5,5,"HF",null,null,null,{"$f":"catp","v":4}]
[4240,"Anton Alexandru Catalin","Halaucesti",5,5,"H",null,null,null,{"$f":"catp","v":4}]
[4241,"Simbirov Eugen","Moldova-Chisinau",5,5,"H",null,null,null,{"$f":"catp","v":4}]
[4242,"Derenciuc Ion","Moldova-Telenesti",5,5,"H",null,null,null,{"$f":"catp","v":4}]
[4243,"Malic Vasile","Moldova-Anenii Noi",5,5,"H",null,null,null,{"$f":"catp","v":4}]
[4244,"Plescov Leonid","Moldova-Chisinau",5,5,"H",null,null,null,{"$f":"catp","v":4}]
[4245,"Paduret Nina","Moldova-Chisinau",5,5,"HF",null,null,null,{"$f":"catp","v":4}]
[4246,"Cara Dmitrii","Moldova-Chisinau",5,5,"H",null,null,null,{"$f":"catp","v":4}]
[4247,"Tataran David","Manastirea Humorului",5,5,"H",null,null,null,{"$f":"catp","v":4}]
[4248,"Pop Dan","Baia Mare",5,5,"H",null,null,null,{"$f":"catp","v":4}]
[4249,"Damaschin Cristina","Moldova-Cahul",5,5,"HF",null,null,null,{"$f":"catp","v":4}]
[4250,"Pocotila Dumitru","Moldova-Cahul",5,5,"H",null,null,null,{"$f":"catp","v":4}]
[4251,"Login Liviu","Moldova-Cahul",5,5,"H",null,null,null,{"$f":"catp","v":4}]
[4252,"Pana Marcel","Vaslui",5,5,"H",null,null,null,{"$f":"catp","v":4}]
[4253,"Suculiuc Ciprian","Vaslui",5,5,"H",null,null,null,{"$f":"catp","v":4}]
[4254,"Costrut Emil","Oradea",5,5,"H",null,null,null,{"$f":"catp","v":4}]
[4255,"Fanea Sorin","Oradea",5,5,"H",null,null,null,{"$f":"catp","v":4}]
[4430,"Tiosea Nicolae","Bucuresti",3.8,5,"H",null,null,null,{"$f":"catp","v":4}]
[4431,"Gritto Geza","Medias",3.8,5,"H",null,null,null,{"$f":"catp","v":4}]
[4432,"Smit Aurel","Craiova",3.8,5,"H",null,null,null,{"$f":"catp","v":4}]
[4433,"Cristea Ovidiu","Bucuresti",3.8,5,"H",null,null,null,{"$f":"catp","v":4}]
[4434,"Tudor Florian","Bucuresti",3.8,5,"H",null,null,null,{"$f":"catp","v":4}]
[4435,"Lupu Vasile","Cluj Napoca",3.8,5,"H",null,null,null,{"$f":"catp","v":4}]
[4436,"Bira Mitache","Constanta",3.8,5,"H",null,null,null,{"$f":"catp","v":4}]
[4437,"Adam Cristian","Navodari",3.8,5,"H",null,null,null,{"$f":"catp","v":4}]
[4438,"Zamfir Stefan","Urlati",3.8,5,"H",null,null,null,{"$f":"catp","v":4}]
[4439,"Padure Andrei","Agnita",3.8,5,"H",null,null,null,{"$f":"catp","v":4}]
[4440,"Contiu Flaviu","Floresti",3.8,5,"H",null,null,null,{"$f":"catp","v":4}]
[4441,"Ionescu Dan","Iasi",3.8,5,"H",null,null,null,{"$f":"catp","v":4}]
[4442,"Bokor Albert","Campulung Muscel",3.8,5,"H",null,null,null,{"$f":"catp","v":4}]
[4443,"Vasile Carolina","Campulung Muscel",3.8,5,"HF",null,null,null,{"$f":"catp","v":4}]
[4444,"Tintarcu Gabriel","Bucuresti",3.8,5,"H",null,null,null,{"$f":"catp","v":4}]
[4445,"Furdui Damian","Moldova-Balti",3.8,5,"H",null,null,null,{"$f":"catp","v":4}]
[4446,"Pop Nicu","Zalau",3.8,5,"H",null,null,null,{"$f":"catp","v":4}]
[4447,"Tudor Marta","Gilau",3.8,5,"H",null,null,null,{"$f":"catp","v":4}]
[4448,"Baies Ioan","Floresti",3.8,5,"H",null,null,null,{"$f":"catp","v":4}]
[4449,"Gherghinoiu Cosmin","Bucuresti",3.8,5,"H",null,null,null,{"$f":"catp","v":4}]
[4450,"Burlacu Ioan Liviu","Iasi",3.8,5,"H",null,null,null,{"$f":"catp","v":4}]
[4451,"Scarlat Adam","Iasi",3.8,5,"H",null,null,null,{"$f":"catp","v":4}]
[4452,"Tournier Anthony","Franta",3.8,5,"H",null,null,null,{"$f":"catp","v":4}]
[4453,"Tournier Frederic","Franta",3.8,5,"H",null,null,null,{"$f":"catp","v":4}]
[4454,"Otoiu Constantin","Alba Iulia",3.8,5,"H",null,null,null,{"$f":"catp","v":4}]
[4455,"Mesca Luca","Buzau",3.8,5,"H",null,null,null,{"$f":"catp","v":4}]
[4456,"Tosun Mihai Ciprian","Brasov",3.8,5,"H",null,null,null,{"$f":"catp","v":4}]
[4457,"Cocu Daniel","Brasov",3.8,5,"H",null,null,null,{"$f":"catp","v":4}]
[3257,"Barberiu Constantin","Brasov",18.399999999999999,4.97,"H",null,null,null,{"$f":"catp","v":4}]
[2734,"Tarnavean Robert","Cluj Napoca",30.9,4.96,"H",null,null,null,{"$f":"catp","v":4}]
[2241,"Mares Ionel","Blaj",51,4.95,"H",null,null,null,{"$f":"catp","v":4}]
[3284,"Pop Alexia","Lugoj",17.7,4.95,"HF",null,null,null,{"$f":"catp","v":4}]
[3765,"Marcu Paul","Sibiu",9.9,4.95,"H",null,null,null,{"$f":"catp","v":4}]
[3845,"Ploia Tudor","Sibiu",8.8000000000000007,4.95,"H",null,null,null,{"$f":"catp","v":4}]
[3866,"Ghica Nicolae","Gornet Cricov",8.5,4.95,"H",null,null,null,{"$f":"catp","v":4}]
[3948,"Bokor Zoltan Sr","Brasov",7.5,4.95,"H",null,null,null,{"$f":"catp","v":4}]
[3112,"Nistor Alin","Bucuresti",21,4.93,"H",null,null,null,{"$f":"catp","v":4}]
[3294,"Fulop Lehel","Sovata",17.600000000000001,4.93,"H",null,null,null,{"$f":"catp","v":4}]
[3167,"Chindea Emilian","Targu Neamt",19.7,4.9000000000000004,"H",null,null,null,{"$f":"catp","v":4}]
[3305,"Sandu Adrian Stefan","Slatina",17.399999999999999,4.9000000000000004,"H",null,null,null,{"$f":"catp","v":4}]
[3603,"Iacos Rares","Baia Mare",12.3,4.9000000000000004,"H",null,null,null,{"$f":"catp","v":4}]
[3630,"Ivascu Stefan","Viseu",11.8,4.9000000000000004,"H",null,null,null,{"$f":"catp","v":4}]
[3781,"Urzica Dragos","Botosani",9.6,4.9000000000000004,"H",null,null,null,{"$f":"catp","v":4}]
[3861,"Popov Iurie","Moldova-Balti",8.6,4.9000000000000004,"H",null,null,null,{"$f":"catp","v":4}]
[4273,"Centea Daniel","Dej",4.9000000000000004,4.9000000000000004,"H",null,null,null,{"$f":"catp","v":4}]
[4469,"Birsan Marius","Brasov",3.7,4.9000000000000004,"H",null,null,null,{"$f":"catp","v":4}]
[2757,"Mateut David","Zalau",30,4.88,"H",null,null,null,{"$f":"catp","v":4}]
[3168,"Mihalca Claudiu","Cluj Napoca",19.7,4.87,"H",null,null,null,{"$f":"catp","v":4}]
[3258,"Barboiu Adrian","Curtea de Arges",18.399999999999999,4.87,"H",null,null,null,{"$f":"catp","v":4}]
[2964,"Toader Cristian","Bucuresti",24.4,4.8600000000000003,"H",null,null,null,{"$f":"catp","v":4}]
[3263,"Cimpanu Mihai","Roman",18.2,4.8499999999999996,"H",null,null,null,{"$f":"catp","v":4}]
[3588,"Bozga Priscilla","Beclean",12.7,4.8499999999999996,"HF",null,null,null,{"$f":"catp","v":4}]
[3641,"Barbu Cristian","Slobozia",11.7,4.8499999999999996,"H",null,null,null,{"$f":"catp","v":4}]
[3680,"Balanescu Alexandru","Brasov",11,4.8499999999999996,"H",null,null,null,{"$f":"catp","v":4}]
[2393,"Tudose Ilariu","Dragasani",44,4.83,"H",null,null,null,{"$f":"catp","v":4}]
[2578,"Todea Mircea","Cluj Napoca",36.299999999999997,4.83,"H",null,null,null,{"$f":"catp","v":4}]
[3547,"Zevoian Florin","Cluj Napoca",13.3,4.83,"H",null,null,null,{"$f":"catp","v":4}]
[3620,"Barjac Octavian","Prodanesti",12,4.83,"H",null,null,null,{"$f":"catp","v":4}]
[2260,"Bzovii Teodora","Moldova-Cahul",50.2,4.8099999999999996,"HF",null,null,null,{"$f":"catp","v":4}]
[2061,"Ispas Marius","Sebes",62.7,4.8,"H",null,null,null,{"$f":"catp","v":4}]
[3782,"Saulean David","Beclean",9.6,4.8,"H",null,null,null,{"$f":"catp","v":4}]
[3867,"Havas Peter","Targu Mures",8.5,4.8,"H",null,null,null,{"$f":"catp","v":4}]
[4279,"Miko Magdalena","Fagaras",4.8,4.8,"HF",null,null,null,{"$f":"catp","v":4}]
[4280,"Ankar Mohamed","Timisoara",4.8,4.8,"H",null,null,null,{"$f":"catp","v":4}]
[4281,"Andras Zoltan","Miercurea Ciuc",4.8,4.8,"H",null,null,null,{"$f":"catp","v":4}]
[4282,"Fedorciuc Elias","Viseu",4.8,4.8,"H",null,null,null,{"$f":"catp","v":4}]
[4283,"Muresan Alexandru","Apahida",4.8,4.8,"H",null,null,null,{"$f":"catp","v":4}]
[4284,"Lucineti Gabriel","Sighetu Marmatiei",4.8,4.8,"H",null,null,null,{"$f":"catp","v":4}]
[4285,"Chiricuta Sebastian","Corusu CJ",4.8,4.8,"H",null,null,null,{"$f":"catp","v":4}]
[4286,"Mitran Gabriel","Craiova",4.8,4.8,"H",null,null,null,{"$f":"catp","v":4}]
[4482,"Oleinic Cosmin","Moldova-Edinet",3.6,4.8,"H",null,null,null,{"$f":"catp","v":4}]
[4483,"Ichim Cristian","Bucuresti",3.6,4.8,"H",null,null,null,{"$f":"catp","v":4}]
[4484,"Iordachioaea Filip","Pitesti",3.6,4.8,"H",null,null,null,{"$f":"catp","v":4}]
[4485,"Olaru Mara","Cluj Napoca",3.6,4.8,"HF",null,null,null,{"$f":"catp","v":4}]
[4486,"Dragotel Alexandru","Bucuresti",3.6,4.8,"H",null,null,null,{"$f":"catp","v":4}]
[2509,"Ursu Ciprian","Calan",39,4.78,"H",null,null,null,{"$f":"catp","v":4}]
[2885,"Drumen Dumitru","Vatra Dornei",26.7,4.78,"H",null,null,null,{"$f":"catp","v":4}]
[3369,"Popovici Daniel","Arad",16.3,4.7699999999999996,"H",null,null,null,{"$f":"catp","v":4}]
[3417,"Masnita Miruna","Viseu",15.4,4.7699999999999996,"HF",null,null,null,{"$f":"catp","v":4}]
[2823,"Siclovan Gabriel","Arad",28.5,4.76,"H",null,null,null,{"$f":"catp","v":4}]
[3049,"Cozma Maria","Dej",22.4,4.75,"HF",null,null,null,{"$f":"catp","v":4}]
[3541,"Foris Andrei","Baia Mare",13.5,4.75,"H",null,null,null,{"$f":"catp","v":4}]
[2195,"Faladau Ovidiu","Aiud",54.2,4.7300000000000004,"H",null,null,null,{"$f":"catp","v":4}]
[3030,"Ilie Marius Viorel","Brasov",22.7,4.7300000000000004,"H",null,null,null,{"$f":"catp","v":4}]
[3363,"Olteanu Valentin Mihai","Buzau",16.399999999999999,4.7300000000000004,"H",null,null,null,{"$f":"catp","v":4}]
[3575,"Pop George","Sibiu",12.9,4.7300000000000004,"H",null,null,null,{"$f":"catp","v":4}]
[2215,"Ivanov Petru","Piatra Neamt",52.4,4.7,"H",null,null,null,{"$f":"catp","v":4}]
[2900,"Armene Ionel","Barlad",26.1,4.7,"H",null,null,null,{"$f":"catp","v":4}]
[3272,"Cata Teodor","Baia Mare",17.899999999999999,4.7,"H",null,null,null,{"$f":"catp","v":4}]
[3611,"Fuciu Alexandru","Sighetu Marmatiei",12.1,4.7,"H",null,null,null,{"$f":"catp","v":4}]
[3628,"Crihan Tudor","Bucuresti",11.9,4.7,"H",null,null,null,{"$f":"catp","v":4}]
[3795,"Cosmineanu Lucian","Baicoi",9.4,4.7,"H",null,null,null,{"$f":"catp","v":4}]
[3987,"Vagasi Zoltan","Brasov",7.1,4.7,"H",null,null,null,{"$f":"catp","v":4}]
[4289,"Vasile Cristian","Brasov",4.7,4.7,"H",null,null,null,{"$f":"catp","v":4}]
[4290,"Bobe Ionel","Faurei",4.7,4.7,"H",null,null,null,{"$f":"catp","v":4}]
[4291,"Veress Csaba","Sovata",4.7,4.7,"H",null,null,null,{"$f":"catp","v":4}]
[4292,"Capalnas Vasile","Bistrita",4.7,4.7,"H",null,null,null,{"$f":"catp","v":4}]
[2162,"Zorfie Daniel","Baru",56.3,4.68,"H",null,null,null,{"$f":"catp","v":4}]
[2479,"Comanoiu Claudiu","Bucuresti",40.1,4.68,"H",null,null,null,{"$f":"catp","v":4}]
[2552,"Simon Robert","Cluj Napoca",37.1,4.67,"H",null,null,null,{"$f":"catp","v":4}]
[3581,"Ristica Alexandru","Craiova",12.8,4.67,"H",null,null,null,{"$f":"catp","v":4}]
[1939,"Varbanescu Radu","Bucuresti",72.5,4.66,"H",null,null,null,{"$f":"catp","v":4}]
[2642,"Acu Rares","Bucuresti",33.4,4.66,"H",null,null,null,{"$f":"catp","v":4}]
[2827,"Hobinca Cezar","Iasi",28.3,4.6500000000000004,"H",null,null,null,{"$f":"catp","v":4}]
[3582,"Matei Artur","Orasu Nou",12.8,4.6500000000000004,"H",null,null,null,{"$f":"catp","v":4}]
[3803,"Zane Ionel","Constanta",9.3000000000000007,4.6500000000000004,"H",null,null,null,{"$f":"catp","v":4}]
[3804,"Szocs Szilveszter","Borsec",9.3000000000000007,4.6500000000000004,"H",null,null,null,{"$f":"catp","v":4}]
[2095,"Ene Daniel","Ploiesti",60.9,4.63,"H",null,null,null,{"$f":"catp","v":4}]
[3407,"Caciandone Stere","Constanta",15.5,4.63,"H",null,null,null,{"$f":"catp","v":4}]
[2163,"Mosoi Alexandru","Bucuresti",56.3,4.5999999999999996,"H",null,null,null,{"$f":"catp","v":4}]
[2922,"Micoara Andrei","Lipova",25.5,4.5999999999999996,"H",null,null,null,{"$f":"catp","v":4}]
[3031,"Borla Nicolae","Cluj Napoca",22.7,4.5999999999999996,"H",null,null,null,{"$f":"catp","v":4}]
[3631,"Iacob Virgil","Targu Bujor",11.8,4.5999999999999996,"H",null,null,null,{"$f":"catp","v":4}]
[4022,"Dumitrache Daniel","Sinaia",6.6,4.5999999999999996,"H",null,null,null,{"$f":"catp","v":4}]
[4298,"Filimon Alexandru","Aiud",4.5999999999999996,4.5999999999999996,"H",null,null,null,{"$f":"catp","v":4}]
[4299,"Obradovic Vojimir","Kovin",4.5999999999999996,4.5999999999999996,"H",null,null,null,{"$f":"catp","v":4}]
[4300,"Zdravkovic Zoran","Kovin",4.5999999999999996,4.5999999999999996,"H",null,null,null,{"$f":"catp","v":4}]
[4493,"Ratiu Adrian","Oradea",3.5,4.5999999999999996,"H",null,null,null,{"$f":"catp","v":4}]
[3014,"Andrei Vasile Ilie","Ludus",23.2,4.58,"H",null,null,null,{"$f":"catp","v":4}]
[3393,"Muresan Nicolaie","Cluj Napoca",15.8,4.58,"H",null,null,null,{"$f":"catp","v":4}]
[3443,"Ciucu Catalin","Medias",15,4.57,"H",null,null,null,{"$f":"catp","v":4}]
[3402,"Popescu Tiberiu","Ploiesti",15.6,4.55,"H",null,null,null,{"$f":"catp","v":4}]
[3452,"Condrea Nicolae","Alba Iulia",14.9,4.55,"H",null,null,null,{"$f":"catp","v":4}]
[3904,"Ploia Marius","Sibiu",8,4.55,"H",null,null,null,{"$f":"catp","v":4}]
[3386,"Marcu Mario","Bucovat",15.9,4.53,"H",null,null,null,{"$f":"catp","v":4}]
[2234,"Batin Marius","Arad",51.3,4.5,"H",null,null,null,{"$f":"catp","v":4}]
[2697,"Cucu Ioan Emanuel","Brasov",32.1,4.5,"H",null,null,null,{"$f":"catp","v":4}]
[2958,"Tofalvi Erzsebet","Odorheiu Secuiesc",24.5,4.5,"HF",null,null,null,{"$f":"catp","v":4}]
[3827,"Pestritu Stefan","Calarasi",9,4.5,"H",null,null,null,{"$f":"catp","v":4}]
[3828,"Kadar Csaba","Satu Mare",9,4.5,"H",null,null,null,{"$f":"catp","v":4}]
[3829,"Furdui Iulian","Moldova-Balti",9,4.5,"H",null,null,null,{"$f":"catp","v":4}]
[3905,"Ungvari Kriszta","Targu Mures",8,4.5,"H",null,null,null,{"$f":"catp","v":4}]
[4012,"Niculae Liviu","Bucuresti",6.8,4.5,"H",null,null,null,{"$f":"catp","v":4}]
[4025,"Cocis Radu","Lunca Muresului",6.5,4.5,"H",null,null,null,{"$f":"catp","v":4}]
[4304,"Padurean Cornel","Blaj",4.5,4.5,"H",null,null,null,{"$f":"catp","v":4}]
[4305,"Cojocaru Ioan","Comanesti",4.5,4.5,"H",null,null,null,{"$f":"catp","v":4}]
[4306,"Moian Calin","Sighisoara",4.5,4.5,"H",null,null,null,{"$f":"catp","v":4}]
[4307,"Cilan Nicusor","Arad",4.5,4.5,"H",null,null,null,{"$f":"catp","v":4}]
[4308,"Mihut Cornel","Baia Sprie",4.5,4.5,"H",null,null,null,{"$f":"catp","v":4}]
[4309,"Dumitru Luci","Baia Mare",4.5,4.5,"H",null,null,null,{"$f":"catp","v":4}]
[4310,"Suciu Stefan","Baia Mare",4.5,4.5,"H",null,null,null,{"$f":"catp","v":4}]
[4311,"Chilaru Mihai","Moldova-Drochia",4.5,4.5,"H",null,null,null,{"$f":"catp","v":4}]
[4312,"Coval Valerian","Moldova-Chisinau",4.5,4.5,"H",null,null,null,{"$f":"catp","v":4}]
[4313,"Soltan Dumitru","Moldova-Drochia",4.5,4.5,"H",null,null,null,{"$f":"catp","v":4}]
[4314,"Hancu Maricel","Vaslui",4.5,4.5,"H",null,null,null,{"$f":"catp","v":4}]
[4547,"Ogutai Ibadula","Constanta",3.4,4.5,"H",null,null,null,{"$f":"catp","v":4}]
[4548,"Dascalu Octavian","Suceava",3.4,4.5,"H",null,null,null,{"$f":"catp","v":4}]
[4549,"Popa Gheorghe","Brasov",3.4,4.5,"H",null,null,null,{"$f":"catp","v":4}]
[4550,"Antoci Robert","Iasi",3.4,4.5,"H",null,null,null,{"$f":"catp","v":4}]
[3403,"Teaca Gabriel","Rosiori de Vede",15.6,4.4800000000000004,"H",null,null,null,{"$f":"catp","v":4}]
[3607,"Vlad Enache","Bucuresti",12.2,4.47,"H",null,null,null,{"$f":"catp","v":4}]
[1942,"Niculescu Marin","Bucuresti",72.3,4.46,"HW",null,null,null,{"$f":"catp","v":4}]
[2739,"Ilea Daria","Aiud",30.7,4.46,"HF",null,null,null,{"$f":"catp","v":4}]
[3576,"Eftimie Gabriel","Slobozia",12.9,4.45,"H",null,null,null,{"$f":"catp","v":4}]
[3840,"Morariu Catalin","Alba Iulia",8.9,4.45,"H",null,null,null,{"$f":"catp","v":4}]
[2332,"Calalb Tudor","Lipova",46.8,4.43,"H",null,null,null,{"$f":"catp","v":4}]
[3233,"Burnar Ioan","Viseu",18.899999999999999,4.43,"H",null,null,null,{"$f":"catp","v":4}]
[3632,"Mosnegutu Laurentiu","Dorohoi",11.8,4.43,"H",null,null,null,{"$f":"catp","v":4}]
[3788,"Macarie Ovidiu","Turda",9.5,4.4000000000000004,"H",null,null,null,{"$f":"catp","v":4}]
[4331,"Carnu Mirel","Buzau",4.4000000000000004,4.4000000000000004,"H",null,null,null,{"$f":"catp","v":4}]
[4332,"Dancila Tudor","Sibiu",4.4000000000000004,4.4000000000000004,"H",null,null,null,{"$f":"catp","v":4}]
[4333,"Blaga Daria","Cluj Napoca",4.4000000000000004,4.4000000000000004,"HF",null,null,null,{"$f":"catp","v":4}]
[4334,"Simon Andrei","Popesti Leordeni",4.4000000000000004,4.4000000000000004,"H",null,null,null,{"$f":"catp","v":4}]
[4335,"Mihalache Dan","Bucuresti",4.4000000000000004,4.4000000000000004,"H",null,null,null,{"$f":"catp","v":4}]
[4558,"Strugariu Ciprian","Radauti",3.3,4.4000000000000004,"H",null,null,null,{"$f":"catp","v":4}]
[4559,"Deabluc Samuel","Dumbraveni SV",3.3,4.4000000000000004,"H",null,null,null,{"$f":"catp","v":4}]
[4560,"Petric Paul","Cluj Napoca",3.3,4.4000000000000004,"H",null,null,null,{"$f":"catp","v":4}]
[4561,"Onofreiciuc Dranca Gheorghe","Radauti",3.3,4.4000000000000004,"H",null,null,null,{"$f":"catp","v":4}]
[4562,"Lapusan Radu","Floresti",3.3,4.4000000000000004,"H",null,null,null,{"$f":"catp","v":4}]
[4563,"Trif David","Floresti",3.3,4.4000000000000004,"H",null,null,null,{"$f":"catp","v":4}]
[4564,"Vanci Ciprian","Zalau",3.3,4.4000000000000004,"H",null,null,null,{"$f":"catp","v":4}]
[4565,"Luta Silviu Vasilica","Radauti",3.3,4.4000000000000004,"H",null,null,null,{"$f":"catp","v":4}]
[2278,"Seica Gheorghe","Oradea",49.2,4.38,"H",null,null,null,{"$f":"catp","v":4}]
[2566,"Avramescu Claudiu","Bucuresti",36.799999999999997,4.38,"H",null,null,null,{"$f":"catp","v":4}]
[3163,"Socaci Razvan","Arad",19.8,4.37,"H",null,null,null,{"$f":"catp","v":4}]
[3690,"Mosneagu Mario","Partestii de Jos",10.9,4.37,"H",null,null,null,{"$f":"catp","v":4}]
[2830,"Moroldi Antonio","Targu Mures",28.2,4.3600000000000003,"H",null,null,null,{"$f":"catp","v":4}]
[2797,"Onet Denis","Utvin",29,4.3499999999999996,"H",null,null,null,{"$f":"catp","v":4}]
[2857,"Radovan Goran","Timisoara",27.5,4.3499999999999996,"H",null,null,null,{"$f":"catp","v":4}]
[3949,"Barbus David","Luna de Sus",7.5,4.3499999999999996,"H",null,null,null,{"$f":"catp","v":4}]
[4023,"Nierges Pavel","Cluj Napoca",6.6,4.3499999999999996,"H",null,null,null,{"$f":"catp","v":4}]
[3024,"Broatec Mihai","Targu Mures",23,4.33,"H",null,null,null,{"$f":"catp","v":4}]
[3086,"Rotaru Ionut","Bacau",21.4,4.33,"H",null,null,null,{"$f":"catp","v":4}]
[3247,"Dumitrescu Sorin","Brasov",18.7,4.33,"H",null,null,null,{"$f":"catp","v":4}]
[3306,"Kovacs Attila","Covasna",17.399999999999999,4.33,"H",null,null,null,{"$f":"catp","v":4}]
[3160,"Neica Sorin","Brasov",19.899999999999999,4.3,"H",null,null,null,{"$f":"catp","v":4}]
[3691,"Alexandru Matei","Cluj Napoca",10.9,4.3,"H",null,null,null,{"$f":"catp","v":4}]
[3712,"Dragomanu Ana Maria","Comanesti",10.6,4.3,"HF",null,null,null,{"$f":"catp","v":4}]
[3862,"Alexandrescu Ionica","Piatra Neamt",8.6,4.3,"H",null,null,null,{"$f":"catp","v":4}]
[3863,"Hartopeanu Constantin","Arad",8.6,4.3,"H",null,null,null,{"$f":"catp","v":4}]
[3950,"Laslau Catalin","Suceava",7.5,4.3,"H",null,null,null,{"$f":"catp","v":4}]
[4339,"Buzdea Stefanel","Iasi",4.3,4.3,"H",null,null,null,{"$f":"catp","v":4}]
[4566,"Pirvu Dan","Bucuresti",3.3,4.3,"H",null,null,null,{"$f":"catp","v":4}]
[4567,"Nitu Alin","Zalau",3.3,4.3,"H",null,null,null,{"$f":"catp","v":4}]
[2505,"Rosu Nicolae","Sibiu",39.1,4.28,"H",null,null,null,{"$f":"catp","v":4}]
[3320,"Toderita Catalina","Bucuresti",17.2,4.28,"HF",null,null,null,{"$f":"catp","v":4}]
[3692,"Naghiu Raluca","Cluj Napoca",10.9,4.2699999999999996,"HF",null,null,null,{"$f":"catp","v":4}]
[2256,"Longauer Tiberiu","Brasov",50.3,4.26,"H",null,null,null,{"$f":"catp","v":4}]
[2080,"Kantor Imre","Reghin",61.4,4.25,"H",null,null,null,{"$f":"catp","v":4}]
[3321,"Piesciuc Darius","Siret",17.2,4.25,"H",null,null,null,{"$f":"catp","v":4}]
[3719,"Zaharia Titi","Fetesti",10.5,4.25,"H",null,null,null,{"$f":"catp","v":4}]
[3868,"Prelipceanu Ciprian","Iasi",8.5,4.25,"H",null,null,null,{"$f":"catp","v":4}]
[3869,"Ciocan Leonard Teodor","Vaslui",8.5,4.25,"H",null,null,null,{"$f":"catp","v":4}]
[3964,"Pascariu Cosmin","Suceava",7.4,4.25,"H",null,null,null,{"$f":"catp","v":4}]
[3965,"Iordache Mihai Liviu","Targoviste",7.4,4.25,"H",null,null,null,{"$f":"catp","v":4}]
[3976,"Todiras Stefan","Voinesti",7.3,4.25,"H",null,null,null,{"$f":"catp","v":4}]
[4042,"Belba Mihai","Baile Herculane",6.4,4.25,"H",null,null,null,{"$f":"catp","v":4}]
[2804,"Tatu Bogdan","Sanpetru",28.9,4.24,"H",null,null,null,{"$f":"catp","v":4}]
[2271,"Andrei Alin","Nasaud",49.8,4.2300000000000004,"H",null,null,null,{"$f":"catp","v":4}]
[3173,"Popovici Mircea","Caracal",19.600000000000001,4.2300000000000004,"H",null,null,null,{"$f":"catp","v":4}]
[3178,"Urzica Pavel","Piatra Neamt",19.5,4.2300000000000004,"H",null,null,null,{"$f":"catp","v":4}]
[3035,"Potoroaca Dragos","Valea Lupului",22.6,4.2,"H",null,null,null,{"$f":"catp","v":4}]
[3456,"Patraucean Alex","Vicovu de Sus",14.8,4.2,"H",null,null,null,{"$f":"catp","v":4}]
[3525,"Acasandrei Cosmin","Mangalia",13.7,4.2,"H",null,null,null,{"$f":"catp","v":4}]
[3879,"Marcu Dan Florin","Sibiu",8.4,4.2,"H",null,null,null,{"$f":"catp","v":4}]
[3444,"Boicu Victor","Vatra Dornei",15,4.18,"H",null,null,null,{"$f":"catp","v":4}]
[3438,"Bialis Nina","Dumbravita",15.1,4.17,"HF",null,null,null,{"$f":"catp","v":4}]
[3548,"Rusu Matei","Constanta",13.3,4.17,"H",null,null,null,{"$f":"catp","v":4}]
[3550,"Crisan Dana","Oradea",13.2,4.17,"HF",null,null,null,{"$f":"catp","v":4}]
[3727,"Ternauciuc Octavian","Nadrag",10.4,4.17,"H",null,null,null,{"$f":"catp","v":4}]
[3423,"Prisacaru Razvan","Iasi",15.3,4.1500000000000004,"H",null,null,null,{"$f":"catp","v":4}]
[3747,"Grecu Adelin","Bucuresti",10.1,4.1500000000000004,"H",null,null,null,{"$f":"catp","v":4}]
[3951,"Buleandra Radu","Craiova",7.5,4.1500000000000004,"H",null,null,null,{"$f":"catp","v":4}]
[3988,"Salmanov Serghei","Moldova-Balti",7.1,4.1500000000000004,"H",null,null,null,{"$f":"catp","v":4}]
[2248,"Stavarache Cornel","Targoviste",50.7,4.13,"H",null,null,null,{"$f":"catp","v":4}]
[3498,"Muntean Mihai","Vicovu de Jos",14.2,4.13,"H",null,null,null,{"$f":"catp","v":4}]
[3096,"Tudoran Catalin","Timisoara",21.3,4.12,"H",null,null,null,{"$f":"catp","v":4}]
[3399,"Moldovan Alexandru","Nasaud",15.7,4.0999999999999996,"H",null,null,null,{"$f":"catp","v":4}]
[3499,"Pralea David Constantin","Alba Iulia",14.2,4.0999999999999996,"H",null,null,null,{"$f":"catp","v":4}]
[3608,"Ionescu Daniel","Bucuresti",12.2,4.0999999999999996,"H",null,null,null,{"$f":"catp","v":4}]
[3609,"Gliga Lavinia","Reghin",12.2,4.0999999999999996,"HF",null,null,null,{"$f":"catp","v":4}]
[3889,"Mircea Florin","Harsova",8.1999999999999993,4.0999999999999996,"H",null,null,null,{"$f":"catp","v":4}]
[3966,"Busuioc Gabriel Razvan","Urleta",7.4,4.0999999999999996,"H",null,null,null,{"$f":"catp","v":4}]
[4066,"Lazar Tiberiu","Galati",6.2,4.0999999999999996,"H",null,null,null,{"$f":"catp","v":4}]
[4070,"Neagu Costin","Targoviste",6.1,4.0999999999999996,"H",null,null,null,{"$f":"catp","v":4}]
[4071,"Marin Costel","Cateasca",6.1,4.0999999999999996,"H",null,null,null,{"$f":"catp","v":4}]
[4072,"Malama Robert","Slobozia",6.1,4.0999999999999996,"H",null,null,null,{"$f":"catp","v":4}]
[4355,"Dobai Istvan","Cluj Napoca",4.0999999999999996,4.0999999999999996,"H",null,null,null,{"$f":"catp","v":4}]
[4356,"Stoica Ion","Slobozia",4.0999999999999996,4.0999999999999996,"H",null,null,null,{"$f":"catp","v":4}]
[4357,"Berbecanu Andrei","Videle",4.0999999999999996,4.0999999999999996,"H",null,null,null,{"$f":"catp","v":4}]
[4358,"Stoica Pedro","Cluj Napoca",4.0999999999999996,4.0999999999999996,"H",null,null,null,{"$f":"catp","v":4}]
[4583,"Tose Petre","Oradea",3.1,4.0999999999999996,"H",null,null,null,{"$f":"catp","v":4}]
[4584,"Alexandrescu Vlad Andrei","Bucuresti",3.1,4.0999999999999996,"H",null,null,null,{"$f":"catp","v":4}]
[2217,"Mesaros Ovidiu","Valenii de Munte",52.3,4.09,"H",null,null,null,{"$f":"catp","v":4}]
[3026,"Pojoni Oliver","Orastie",22.9,4.08,"H",null,null,null,{"$f":"catp","v":4}]
[3650,"Filip Gabriel","Cluj Napoca",11.5,4.07,"H",null,null,null,{"$f":"catp","v":4}]
[2935,"Radulescu Catalin","Ploiesti",24.9,4.0599999999999996,"HD",null,null,null,{"$f":"catp","v":4}]
[3000,"Sasarman Iacob","Bistrita",23.6,4.0599999999999996,"H",null,null,null,{"$f":"catp","v":4}]
[3157,"Baciu Alexandru","Giarmata",20,4.05,"H",null,null,null,{"$f":"catp","v":4}]
[2377,"Barna Florin","Aiud",44.5,4.04,"H",null,null,null,{"$f":"catp","v":4}]
[3018,"Szalisznyo Luca","Lugoj",23.1,4,"H",null,null,null,{"$f":"catp","v":4}]
[3906,"Pal Marius","Halaucesti",8,4,"H",null,null,null,{"$f":"catp","v":4}]
[3907,"Lupse Cezara","Baia Mare",8,4,"HF",null,null,null,{"$f":"catp","v":4}]
[3908,"Barlianu Liviu","Vaslui",8,4,"H",null,null,null,{"$f":"catp","v":4}]
[3967,"Crisan Alex","Gherla",7.4,4,"H",null,null,null,{"$f":"catp","v":4}]
[4082,"Lucas Ionut","Botosani",6,4,"H",null,null,null,{"$f":"catp","v":4}]
[4361,"Sopoian Emil","Baia Mare",4,4,"H",null,null,null,{"$f":"catp","v":4}]
[4362,"Paraschiv Mihai","Targu Neamt",4,4,"H",null,null,null,{"$f":"catp","v":4}]
[4363,"Dumitru George","Slobozia",4,4,"H",null,null,null,{"$f":"catp","v":4}]
[4364,"Cofari Alex Daniel","Sovata",4,4,"H",null,null,null,{"$f":"catp","v":4}]
[4365,"Nemet Istvan Levente","Delenii",4,4,"H",null,null,null,{"$f":"catp","v":4}]
[4366,"Cili Denisa","Ludus",4,4,"HF",null,null,null,{"$f":"catp","v":4}]
[4367,"Pacurar Marius","Ludus",4,4,"H",null,null,null,{"$f":"catp","v":4}]
[4368,"Calaroi Daniel","Barlad",4,4,"H",null,null,null,{"$f":"catp","v":4}]
[4369,"Romanu Vlad","Resita",4,4,"H",null,null,null,{"$f":"catp","v":4}]
[4370,"Nicula Silviu","Curtea de Arges",4,4,"H",null,null,null,{"$f":"catp","v":4}]
[4371,"Gheorghiev Bojidar","Bulgaria",4,4,"H",null,null,null,{"$f":"catp","v":4}]
[4372,"Apostol Costel","Targu Neamt",4,4,"H",null,null,null,{"$f":"catp","v":4}]
[4373,"Demian Ioan","Baia Mare",4,4,"H",null,null,null,{"$f":"catp","v":4}]
[4374,"Lipotean Cristian","Gherla",4,4,"H",null,null,null,{"$f":"catp","v":4}]
[4375,"Enea Remus","Vaslui",4,4,"H",null,null,null,{"$f":"catp","v":4}]
[4588,"Moncea Emilian","Suceava",3,4,"H",null,null,null,{"$f":"catp","v":4}]
[4589,"Lehel Csiki","Brasov",3,4,"H",null,null,null,{"$f":"catp","v":4}]
[4590,"Popa Bogdan","Navodari",3,4,"H",null,null,null,{"$f":"catp","v":4}]
[4591,"Timofte Razvan","Hunedoara",3,4,"H",null,null,null,{"$f":"catp","v":4}]
[4592,"Cadar Alexandru","Dudestii Noi",3,4,"H",null,null,null,{"$f":"catp","v":4}]
[4593,"Merticariu Timotei","Timisoara",3,4,"H",null,null,null,{"$f":"catp","v":4}]
[3019,"Domnescu Mirela","Iasi",23.1,3.98,"HF",null,null,null,{"$f":"catp","v":4}]
[2993,"Valcica Razvan Daniel","Uricani",23.7,3.97,"H",null,null,null,{"$f":"catp","v":4}]
[2243,"Damian Toma","Comanesti",50.9,3.96,"H",null,null,null,{"$f":"catp","v":4}]
[3474,"Grosu Gheorghita","Targu Neamt",14.4,3.95,"H",null,null,null,{"$f":"catp","v":4}]
[3693,"Leonard Iulian","Arad",10.9,3.95,"H",null,null,null,{"$f":"catp","v":4}]
[3890,"Vintila Cristian","Bucuresti",8.1999999999999993,3.95,"H",null,null,null,{"$f":"catp","v":4}]
[3924,"Popa Mihail","Bucuresti",7.9,3.95,"H",null,null,null,{"$f":"catp","v":4}]
[3925,"Feraru Claudiu","Lugoj",7.9,3.95,"H",null,null,null,{"$f":"catp","v":4}]
[3952,"Sirb Ovidiu Cosmin","Timisoara",7.5,3.95,"H",null,null,null,{"$f":"catp","v":4}]
[3983,"Blaj Cristian","Navodari",7.2,3.95,"H",null,null,null,{"$f":"catp","v":4}]
[3665,"Dragan Razvan","Alexandria",11.3,3.93,"H",null,null,null,{"$f":"catp","v":4}]
[2125,"Grigore Mihai","Bucuresti",59.3,3.92,"H",null,null,null,{"$f":"catp","v":4}]
[2953,"Balan Alexandru","Ploiesti",24.6,3.92,"H",null,null,null,{"$f":"catp","v":4}]
[2950,"Popescu Alex","Hateg",24.7,3.9,"H",null,null,null,{"$f":"catp","v":4}]
[3672,"Ungureanu Adrian","Piatra Neamt",11.2,3.9,"H",null,null,null,{"$f":"catp","v":4}]
[3783,"Stanescu Maria","Iasi",9.6,3.9,"HF",null,null,null,{"$f":"catp","v":4}]
[4024,"Cojanu Ioan","Bucuresti",6.6,3.9,"H",null,null,null,{"$f":"catp","v":4}]
[4096,"Cioanca Aurelian","Iasi",5.9,3.9,"H",null,null,null,{"$f":"catp","v":4}]
[4416,"Udila Emanuel","Bucuresti",3.9,3.9,"H",null,null,null,{"$f":"catp","v":4}]
[4417,"Apostu Marius","Galati",3.9,3.9,"H",null,null,null,{"$f":"catp","v":4}]
[4418,"Vasile Rares","Sibiu",3.9,3.9,"H",null,null,null,{"$f":"catp","v":4}]
[4419,"Hopirtean Remus","Alba Iulia",3.9,3.9,"H",null,null,null,{"$f":"catp","v":4}]
[4420,"Stanescu Alexandru","Ploiesti",3.9,3.9,"H",null,null,null,{"$f":"catp","v":4}]
[4421,"Marius Ene","Bucuresti",3.9,3.9,"H",null,null,null,{"$f":"catp","v":4}]
[4422,"Szollosi Geza","Zalau",3.9,3.9,"H",null,null,null,{"$f":"catp","v":4}]
[4594,"Irimia Marian","Ploiesti",3,3.9,"H",null,null,null,{"$f":"catp","v":4}]
[4595,"Rudy Vrany","Targu Jiu",3,3.9,"H",null,null,null,{"$f":"catp","v":4}]
[4596,"Ene Stefan","Craiova",3,3.9,"H",null,null,null,{"$f":"catp","v":4}]
[4597,"Prejneanu Sorin Dumitru","Motru",3,3.9,"H",null,null,null,{"$f":"catp","v":4}]
[4598,"Stoe Sorin","Craiova",3,3.9,"H",null,null,null,{"$f":"catp","v":4}]
[2558,"Gavrila Fanica","Braila",37,3.89,"H",null,null,null,{"$f":"catp","v":4}]
[3327,"Mihailescu Andrei","Bucuresti",17.100000000000001,3.88,"H",null,null,null,{"$f":"catp","v":4}]
[3285,"Tanase Constantin","Slatina",17.7,3.87,"H",null,null,null,{"$f":"catp","v":4}]
[3598,"Coroama Mircea","Suceava",12.4,3.87,"H",null,null,null,{"$f":"catp","v":4}]
[3645,"Kelemen Ingo","Timisoara",11.6,3.87,"H",null,null,null,{"$f":"catp","v":4}]
[2417,"Florean Luca","Lunca Muresului",42.9,3.85,"H",null,null,null,{"$f":"catp","v":4}]
[3226,"Burga Ionut","Bucuresti",19,3.85,"H",null,null,null,{"$f":"catp","v":4}]
[3273,"Viziteu Robert","Suceava",17.899999999999999,3.85,"H",null,null,null,{"$f":"catp","v":4}]
[3633,"Bora Robert","Constanta",11.8,3.85,"H",null,null,null,{"$f":"catp","v":4}]
[3063,"Lobont Adelin","Arad",22,3.83,"H",null,null,null,{"$f":"catp","v":4}]
[3118,"Janosi Levente","Ciumani",20.8,3.83,"H",null,null,null,{"$f":"catp","v":4}]
[3242,"Scrobota Ioan","Alba Iulia",18.8,3.83,"H",null,null,null,{"$f":"catp","v":4}]
[3551,"Daniel Hunor","Gheorgheni",13.2,3.83,"H",null,null,null,{"$f":"catp","v":4}]
[3698,"Pruna Cristian","Ploiesti",10.8,3.83,"H",null,null,null,{"$f":"catp","v":4}]
[2568,"Balasoiu Mihai","Novaci",36.700000000000003,3.8,"H",null,null,null,{"$f":"catp","v":4}]
[3003,"Stan Florin Cristian","Bucuresti",23.5,3.8,"H",null,null,null,{"$f":"catp","v":4}]
[3264,"Hajducsi Zoltan Jr","Campenita",18.2,3.8,"H",null,null,null,{"$f":"catp","v":4}]
[3531,"Deac Isabela","Dumbravita",13.6,3.8,"HF",null,null,null,{"$f":"catp","v":4}]
[3552,"Moise Valentin","Ploiesti",13.2,3.8,"H",null,null,null,{"$f":"catp","v":4}]
[3731,"Flesariu Mihai","Agnita",10.3,3.8,"H",null,null,null,{"$f":"catp","v":4}]
[3942,"Stoian Sebastian","Slobozia",7.6,3.8,"H",null,null,null,{"$f":"catp","v":4}]
[4111,"Moldovan Claudiu","Dej",5.7,3.8,"H",null,null,null,{"$f":"catp","v":4}]
[4458,"Roman Andrei","Bucuresti",3.8,3.8,"H",null,null,null,{"$f":"catp","v":4}]
[4459,"Petrov Daniel","Lovrin",3.8,3.8,"H",null,null,null,{"$f":"catp","v":4}]
[4460,"Abdi Shenol","Bucuresti",3.8,3.8,"H",null,null,null,{"$f":"catp","v":4}]
[4461,"Paul Marian","Gherla",3.8,3.8,"H",null,null,null,{"$f":"catp","v":4}]
[4462,"Brotea Aurel","Bucuresti",3.8,3.8,"H",null,null,null,{"$f":"catp","v":4}]
[4649,"Rizea Doru","Bucuresti",2.9,3.8,"H",null,null,null,{"$f":"catp","v":4}]
[4650,"Otel Daniel","Craiova",2.9,3.8,"H",null,null,null,{"$f":"catp","v":4}]
[2468,"Turbatu Rares","Fieni",40.700000000000003,3.78,"H",null,null,null,{"$f":"catp","v":4}]
[2623,"Petrut Luminita","Targu Mures",34.1,3.77,"HF",null,null,null,{"$f":"catp","v":4}]
[2668,"Dan Bogdan","Orastie",32.799999999999997,3.77,"H",null,null,null,{"$f":"catp","v":4}]
[3796,"Ene Florin","Craiova",9.4,3.77,"H",null,null,null,{"$f":"catp","v":4}]
[3797,"Popovici Ervin","Craiova",9.4,3.77,"H",null,null,null,{"$f":"catp","v":4}]
[2971,"Baldan Eric","Cluj Napoca",24.1,3.76,"HD",null,null,null,{"$f":"catp","v":4}]
[3789,"Cristescu Denis","Dumbraveni SB",9.5,3.75,"H",null,null,null,{"$f":"catp","v":4}]
[3790,"Jude Andrei","Arad",9.5,3.75,"H",null,null,null,{"$f":"catp","v":4}]
[3953,"Bohotineanu Stefan","Vaslui",7.5,3.75,"H",null,null,null,{"$f":"catp","v":4}]
[3954,"Heghedus Dumitru","Cicarlau",7.5,3.75,"H",null,null,null,{"$f":"catp","v":4}]
[4008,"Palade Iulian Horatiu","Galati",6.9,3.75,"H",null,null,null,{"$f":"catp","v":4}]
[4112,"Terhes George","Zalau",5.7,3.75,"H",null,null,null,{"$f":"catp","v":4}]
[2959,"Cucu Gabriela","Brasov",24.5,3.74,"HF",null,null,null,{"$f":"catp","v":4}]
[2849,"Tarnavean Sorin","Cluj Napoca",27.7,3.72,"H",null,null,null,{"$f":"catp","v":4}]
[2532,"Turcut Radu","Cluj Napoca",37.9,3.71,"H",null,null,null,{"$f":"catp","v":4}]
[2972,"Andrei Lucian","Nasaud",24.1,3.7,"H",null,null,null,{"$f":"catp","v":4}]
[3322,"Toth Rudolph","Sighisoara",17.2,3.7,"H",null,null,null,{"$f":"catp","v":4}]
[3968,"Dinu Vladimir","Bucuresti",7.4,3.7,"H",null,null,null,{"$f":"catp","v":4}]
[3969,"Cirstea David","Bucuresti",7.4,3.7,"H",null,null,null,{"$f":"catp","v":4}]
[3970,"Timnea Alex Cristian","Bucuresti",7.4,3.7,"H",null,null,null,{"$f":"catp","v":4}]
[4118,"Bajko Daniel","Sarmas",5.6,3.7,"H",null,null,null,{"$f":"catp","v":4}]
[4119,"Polint Istvan","Oradea",5.6,3.7,"H",null,null,null,{"$f":"catp","v":4}]
[4120,"Tataroi Alexandru","Moldova-Cahul",5.6,3.7,"H",null,null,null,{"$f":"catp","v":4}]
[4121,"Semenescu Andrei","Targu Jiu",5.6,3.7,"H",null,null,null,{"$f":"catp","v":4}]
[4470,"Georgescu Alexandru","Izvoarele",3.7,3.7,"H",null,null,null,{"$f":"catp","v":4}]
[4471,"Lazar Alin","Breaza",3.7,3.7,"H",null,null,null,{"$f":"catp","v":4}]
[4472,"Tudor Cosmin","Buzau",3.7,3.7,"H",null,null,null,{"$f":"catp","v":4}]
[4473,"Duta David","Curtea de Arges",3.7,3.7,"H",null,null,null,{"$f":"catp","v":4}]
[4474,"Melniciuc Elena","Vatra Dornei",3.7,3.7,"HF",null,null,null,{"$f":"catp","v":4}]
[4475,"Ghinea Dragos","Moinesti",3.7,3.7,"H",null,null,null,{"$f":"catp","v":4}]
[4476,"Ionescu Sebastian","Buzau",3.7,3.7,"H",null,null,null,{"$f":"catp","v":4}]
[4477,"Girboni Adrian Iacob","Timisoara",3.7,3.7,"H",null,null,null,{"$f":"catp","v":4}]
[4478,"Enculescu Lucian","Bucuresti",3.7,3.7,"H",null,null,null,{"$f":"catp","v":4}]
[4479,"Magherca Alexandru","Vatra Dornei",3.7,3.7,"H",null,null,null,{"$f":"catp","v":4}]
[4480,"Gherghita Ilaria","Moldova-Briceni",3.7,3.7,"HF",null,null,null,{"$f":"catp","v":4}]
[4481,"Ionita Ion","Brazi",3.7,3.7,"H",null,null,null,{"$f":"catp","v":4}]
[4652,"Gherghel Valer","Alba Iulia",2.8,3.7,"H",null,null,null,{"$f":"catp","v":4}]
[4653,"Filip Maia","Cluj Napoca",2.8,3.7,"HF",null,null,null,{"$f":"catp","v":4}]
[4654,"Pop Ciprian","Arad",2.8,3.7,"H",null,null,null,{"$f":"catp","v":4}]
[4655,"Bardi Cristian","Aiud",2.8,3.7,"H",null,null,null,{"$f":"catp","v":4}]
[2988,"Mateut Carla","Zalau",23.8,3.68,"HF",null,null,null,{"$f":"catp","v":4}]
[3629,"Paunescu Viorel Evelin","Targu Jiu",11.9,3.67,"H",null,null,null,{"$f":"catp","v":4}]
[2169,"Andrei Cornel","Nasaud",55.9,3.65,"H",null,null,null,{"$f":"catp","v":4}]
[3805,"Tabacu Alexandra","Giarmata",9.3000000000000007,3.65,"HF",null,null,null,{"$f":"catp","v":4}]
[3880,"Muresan Ana Maria","Cluj Napoca",8.4,3.65,"HF",null,null,null,{"$f":"catp","v":4}]
[4134,"Andrei Florin","Timisoara",5.5,3.65,"H",null,null,null,{"$f":"catp","v":4}]
[3431,"Mate David","Timisoara",15.2,3.63,"H",null,null,null,{"$f":"catp","v":4}]
[3780,"Cotos Maria","Straja",9.6999999999999993,3.63,"HF",null,null,null,{"$f":"catp","v":4}]
[3004,"Bunduchi Mihnea","Solont",23.5,3.6,"H",null,null,null,{"$f":"catp","v":4}]
[3432,"Mihalachi Luca","Mogosesti",15.2,3.6,"H",null,null,null,{"$f":"catp","v":4}]
[3439,"Ion Ion","Ploiesti",15.1,3.6,"H",null,null,null,{"$f":"catp","v":4}]
[3468,"Nasui Dan","Cluj Napoca",14.5,3.6,"H",null,null,null,{"$f":"catp","v":4}]
[3798,"Chirieac Adrian","Voinesti",9.4,3.6,"H",null,null,null,{"$f":"catp","v":4}]
[4054,"Stanca Florin","Rosiori de Vede",6.3,3.6,"H",null,null,null,{"$f":"catp","v":4}]
[4122,"Voinea Florin","Salciile",5.6,3.6,"H",null,null,null,{"$f":"catp","v":4}]
[4123,"Martiniuc Cosmin","Viseu",5.6,3.6,"H",null,null,null,{"$f":"catp","v":4}]
[4124,"Petrici Sergiu","Calan",5.6,3.6,"H",null,null,null,{"$f":"catp","v":4}]
[4125,"Simendroni Florin","Otelu Rosu",5.6,3.6,"H",null,null,null,{"$f":"catp","v":4}]
[4487,"Busuioc Bogdan","Panciu",3.6,3.6,"H",null,null,null,{"$f":"catp","v":4}]
[4488,"Grigor Fabian","Viseu",3.6,3.6,"H",null,null,null,{"$f":"catp","v":4}]
[4489,"Hupca Ricardo","Straoane",3.6,3.6,"H",null,null,null,{"$f":"catp","v":4}]
[4490,"Marcu Alexandru","Sebes",3.6,3.6,"H",null,null,null,{"$f":"catp","v":4}]
[4491,"Bunea Andrei","Bucuresti",3.6,3.6,"H",null,null,null,{"$f":"catp","v":4}]
[4492,"Paloti Dobre","Cluj Napoca",3.6,3.6,"H",null,null,null,{"$f":"catp","v":4}]
[4658,"Litra Valerica","Rovinari",2.7,3.6,"H",null,null,null,{"$f":"catp","v":4}]
[2965,"Stanescu Silviu","Baia Mare",24.4,3.58,"H",null,null,null,{"$f":"catp","v":4}]
[3597,"Balan Andrei Tiberiu","Timisoara",12.5,3.57,"H",null,null,null,{"$f":"catp","v":4}]
[3744,"Suciu Traian Ioan","Cluj Napoca",10.199999999999999,3.57,"H",null,null,null,{"$f":"catp","v":4}]
[2134,"Tegzes Angela","Stejeris",58.4,3.55,"HF",null,null,null,{"$f":"catp","v":4}]
[3771,"Popov Alexandr","Moldova-Balti",9.8000000000000007,3.53,"H",null,null,null,{"$f":"catp","v":4}]
[3445,"Bordea Diana","Calan",15,3.5,"HF",null,null,null,{"$f":"catp","v":4}]
[3760,"Bej Ioan","Arad",10,3.5,"H",null,null,null,{"$f":"catp","v":4}]
[3830,"Ambros Alin","Botosani",9,3.5,"H",null,null,null,{"$f":"catp","v":4}]
[3831,"Tudose Laurentiu","Comanesti",9,3.5,"H",null,null,null,{"$f":"catp","v":4}]
[3870,"Istrati Tudor","Moldova-Drochia",8.5,3.5,"H",null,null,null,{"$f":"catp","v":4}]
[3998,"Moldovan Iulian","Slobozia",7,3.5,"H",null,null,null,{"$f":"catp","v":4}]
[4026,"Itcus Marian","Sucevita",6.5,3.5,"H",null,null,null,{"$f":"catp","v":4}]
[4027,"Patulea Mirel","Bucuresti",6.5,3.5,"H",null,null,null,{"$f":"catp","v":4}]
[4028,"Szilagyi Emmanuel","Arad",6.5,3.5,"H",null,null,null,{"$f":"catp","v":4}]
[4067,"Avronova Eva","Moldova-Balti",6.2,3.5,"HF",null,null,null,{"$f":"catp","v":4}]
[4135,"Tobol Arsenii","Moldova-Balti",5.5,3.5,"H",null,null,null,{"$f":"catp","v":4}]
[4136,"Fudulu Sorin Gigi","Alexandria",5.5,3.5,"H",null,null,null,{"$f":"catp","v":4}]
[4137,"Zaharia Dorin","Suceava",5.5,3.5,"H",null,null,null,{"$f":"catp","v":4}]
[4138,"Horinceanu Sandu","Viseu",5.5,3.5,"H",null,null,null,{"$f":"catp","v":4}]
[4163,"Anghel Nicu","Braila",5.3,3.5,"H",null,null,null,{"$f":"catp","v":4}]
[4164,"Balan Cristian","Tecuci",5.3,3.5,"H",null,null,null,{"$f":"catp","v":4}]
[4165,"Mocanu Costel","Valea Lupului",5.3,3.5,"H",null,null,null,{"$f":"catp","v":4}]
[4166,"Damoc Francisc Teodor","Valea Lupului",5.3,3.5,"H",null,null,null,{"$f":"catp","v":4}]
[4494,"Oprea Ionut","Constanta",3.5,3.5,"H",null,null,null,{"$f":"catp","v":4}]
[4495,"Majeri Adrian","Bistrita",3.5,3.5,"H",null,null,null,{"$f":"catp","v":4}]
[4496,"Bocos Eugen","Gherla",3.5,3.5,"H",null,null,null,{"$f":"catp","v":4}]
[4497,"Voicu Florin","Arad",3.5,3.5,"HW",null,null,null,{"$f":"catp","v":4}]
[4498,"Herciu Iustin","Comanesti",3.5,3.5,"H",null,null,null,{"$f":"catp","v":4}]
[4499,"Tibre Florina","Cluj Napoca",3.5,3.5,"HF",null,null,null,{"$f":"catp","v":4}]
[4500,"Grigoras Dinu","Pascani",3.5,3.5,"H",null,null,null,{"$f":"catp","v":4}]
[4501,"Bran Miruna","Buhusi",3.5,3.5,"HF",null,null,null,{"$f":"catp","v":4}]
[4502,"Lazar Bogdan","Nasaud",3.5,3.5,"H",null,null,null,{"$f":"catp","v":4}]
[4503,"Szep Carolina","Nasaud",3.5,3.5,"HF",null,null,null,{"$f":"catp","v":4}]
[4504,"Maxim Gabriel","Vaslui",3.5,3.5,"H",null,null,null,{"$f":"catp","v":4}]
[4505,"Bohotineanu Florin","Vaslui",3.5,3.5,"H",null,null,null,{"$f":"catp","v":4}]
[4506,"Coman Denis","Cluj Napoca",3.5,3.5,"H",null,null,null,{"$f":"catp","v":4}]
[4507,"Astefanoaie David","Pascani",3.5,3.5,"H",null,null,null,{"$f":"catp","v":4}]
[4508,"Comanescu Marian","Branceni",3.5,3.5,"H",null,null,null,{"$f":"catp","v":4}]
[4509,"Neagu Dumitru","Branceni",3.5,3.5,"H",null,null,null,{"$f":"catp","v":4}]
[4510,"Saric Artiom","Moldova-Balti",3.5,3.5,"H",null,null,null,{"$f":"catp","v":4}]
[4511,"Paran Alex","Hateg",3.5,3.5,"H",null,null,null,{"$f":"catp","v":4}]
[4512,"Bucalaete Andrei","Alimpesti GJ",3.5,3.5,"H",null,null,null,{"$f":"catp","v":4}]
[4513,"Bruma Ion","Harsova",3.5,3.5,"H",null,null,null,{"$f":"catp","v":4}]
[4514,"Nedu Ionut Alexandru","Calarasi",3.5,3.5,"H",null,null,null,{"$f":"catp","v":4}]
[4515,"Dughi Cristi","Arad",3.5,3.5,"H",null,null,null,{"$f":"catp","v":4}]
[4516,"Oniga Alin","Arad",3.5,3.5,"H",null,null,null,{"$f":"catp","v":4}]
[4517,"Szabo Zoltan","Baia Sprie",3.5,3.5,"H",null,null,null,{"$f":"catp","v":4}]
[4518,"Imreh Zsolt","Ciba",3.5,3.5,"H",null,null,null,{"$f":"catp","v":4}]
[4519,"Sicarov Darko","Varset",3.5,3.5,"H",null,null,null,{"$f":"catp","v":4}]
[4520,"Logvinov Vadim","Moldova-Chisinau",3.5,3.5,"H",null,null,null,{"$f":"catp","v":4}]
[4521,"Rau Gabriel","Moldova-Chisinau",3.5,3.5,"H",null,null,null,{"$f":"catp","v":4}]
[4522,"Robu Ion","Moldova-Chisinau",3.5,3.5,"H",null,null,null,{"$f":"catp","v":4}]
[4523,"David Mihail","Fagaras",3.5,3.5,"H",null,null,null,{"$f":"catp","v":4}]
[4524,"Cojocaru Vitalie","Moldova-Chisinau",3.5,3.5,"H",null,null,null,{"$f":"catp","v":4}]
[4525,"Butugan Ioan Adrian","Iasi",3.5,3.5,"H",null,null,null,{"$f":"catp","v":4}]
[4526,"Udrescu David","Faget",3.5,3.5,"H",null,null,null,{"$f":"catp","v":4}]
[4527,"Lopotenco Silviu","Bucuresti",3.5,3.5,"H",null,null,null,{"$f":"catp","v":4}]
[4528,"Niculita Darie Titus","Bucuresti",3.5,3.5,"H",null,null,null,{"$f":"catp","v":4}]
[4659,"Tudureanu Ioan","Navodari",2.7,3.5,"H",null,null,null,{"$f":"catp","v":4}]
[4660,"Mihailov Serghei","Moldova-Balti",2.7,3.5,"H",null,null,null,{"$f":"catp","v":4}]
[4661,"Moldovan Tudor","Cluj Napoca",2.7,3.5,"H",null,null,null,{"$f":"catp","v":4}]
[4662,"Popa Adrian","Hunedoara",2.7,3.5,"H",null,null,null,{"$f":"catp","v":4}]
[4663,"Paris Ianis Nicolas","Navodari",2.7,3.5,"H",null,null,null,{"$f":"catp","v":4}]
[4664,"Sterpu Gabriel","Navodari",2.7,3.5,"H",null,null,null,{"$f":"catp","v":4}]
[4665,"Gules Florin","Brasov",2.7,3.5,"H",null,null,null,{"$f":"catp","v":4}]
[4666,"Bojica Alexandru","Giroc",2.7,3.5,"H",null,null,null,{"$f":"catp","v":4}]
[4667,"Braescu Valentin","Timisoara",2.7,3.5,"H",null,null,null,{"$f":"catp","v":4}]
[4668,"Zevoian Cezar Stefan","Cluj Napoca",2.7,3.5,"H",null,null,null,{"$f":"catp","v":4}]
[4669,"Nistor Cristian","Rasca",2.7,3.5,"H",null,null,null,{"$f":"catp","v":4}]
[4670,"Moisa Lucian","Popricani",2.7,3.5,"H",null,null,null,{"$f":"catp","v":4}]
[4671,"Gaman Dragos","Moinesti",2.7,3.5,"H",null,null,null,{"$f":"catp","v":4}]
[4672,"Poptamas Paula","Targu Mures",2.7,3.5,"HF",null,null,null,{"$f":"catp","v":4}]
[3128,"Berei Adalbert","Satu Mare",20.6,3.48,"H",null,null,null,{"$f":"catp","v":4}]
[3871,"Martin Ovidiu","Mosnita Veche",8.5,3.47,"H",null,null,null,{"$f":"catp","v":4}]
[2250,"Dutan Ionut Marius","Bucuresti",50.6,3.45,"H",null,null,null,{"$f":"catp","v":4}]
[3891,"Saca Sorin","Zalau",8.1999999999999993,3.45,"H",null,null,null,{"$f":"catp","v":4}]
[3651,"Vrasti Timeea","Ploiesti",11.5,3.43,"HF",null,null,null,{"$f":"catp","v":4}]
[3675,"Alexandru Mihai","Bucuresti",11.1,3.43,"H",null,null,null,{"$f":"catp","v":4}]
[3772,"Deca Mario Constantin","Buzau",9.8000000000000007,3.43,"H",null,null,null,{"$f":"catp","v":4}]
[3813,"Maranceac Victoria","Moldova-Balti",9.1,3.43,"HF",null,null,null,{"$f":"catp","v":4}]
[3832,"Hutan Cosmin","Salcea",9,3.43,"H",null,null,null,{"$f":"catp","v":4}]
[3833,"Pop Tudor","Zalau",9,3.43,"H",null,null,null,{"$f":"catp","v":4}]
[2879,"Ilie Radu","Iasi",26.9,3.42,"H",null,null,null,{"$f":"catp","v":4}]
[2618,"Maer Ciprian","Sebes",34.299999999999997,3.41,"H",null,null,null,{"$f":"catp","v":4}]
[3307,"Maki Cristina","Targu Mures",17.399999999999999,3.4,"HF",null,null,null,{"$f":"catp","v":4}]
[3333,"Lienerth Markus","Sibiu",17,3.4,"H",null,null,null,{"$f":"catp","v":4}]
[3364,"Parvan Dumitru","Deva",16.399999999999999,3.4,"H",null,null,null,{"$f":"catp","v":4}]
[3494,"Dicu Mircea","Sebes",14.3,3.4,"H",null,null,null,{"$f":"catp","v":4}]
[3621,"Bolovaneanu Vlad","Targoviste",12,3.4,"H",null,null,null,{"$f":"catp","v":4}]
[3846,"Takacs Kalman","Fantanele",8.8000000000000007,3.4,"H",null,null,null,{"$f":"catp","v":4}]
[4013,"Muntean Tamas","Sovata",6.8,3.4,"H",null,null,null,{"$f":"catp","v":4}]
[4014,"Scarlat Razvan","Bucuresti",6.8,3.4,"H",null,null,null,{"$f":"catp","v":4}]
[4551,"Curutiu Traian","Dumbraveni SB",3.4,3.4,"H",null,null,null,{"$f":"catp","v":4}]
[4552,"Frincu Iustin","Ploiesti",3.4,3.4,"H",null,null,null,{"$f":"catp","v":4}]
[4553,"Petrisor Mihai Marinel","Sibiu",3.4,3.4,"H",null,null,null,{"$f":"catp","v":4}]
[4554,"MIHLIUC Andra","Sibiu",3.4,3.4,"HF",null,null,null,{"$f":"catp","v":4}]
[4555,"Sandu Andreea","Bucuresti",3.4,3.4,"HF",null,null,null,{"$f":"catp","v":4}]
[4556,"Roi Denis","Otelu Rosu",3.4,3.4,"H",null,null,null,{"$f":"catp","v":4}]
[4677,"Pavel Florin","Bucuresti",2.6,3.4,"H",null,null,null,{"$f":"catp","v":4}]
[2643,"Mato Petru","Timisoara",33.4,3.37,"H",null,null,null,{"$f":"catp","v":4}]
[3274,"Muhammad Shehzad","Sibiu",17.899999999999999,3.37,"H",null,null,null,{"$f":"catp","v":4}]
[3676,"Farcas Cristi","Medias",11.1,3.37,"H",null,null,null,{"$f":"catp","v":4}]
[4083,"Preda Ion","Targoviste",6,3.35,"H",null,null,null,{"$f":"catp","v":4}]
[3190,"Lazarescu Adina","Iasi",19.3,3.33,"HF",null,null,null,{"$f":"catp","v":4}]
[3791,"Albot Nicolae","Moldova-Balti",9.5,3.33,"H",null,null,null,{"$f":"catp","v":4}]
[3847,"Tibu Stefania","Scheia SV",8.8000000000000007,3.33,"HF",null,null,null,{"$f":"catp","v":4}]
[2982,"Nitescu Maria Tereza","Jucu",23.9,3.32,"HF",null,null,null,{"$f":"catp","v":4}]
[2525,"Traistaru Adrian","Campia Turzii",38.299999999999997,3.31,"H",null,null,null,{"$f":"catp","v":4}]
[3355,"Burechita Marian","Vaslui",16.600000000000001,3.3,"H",null,null,null,{"$f":"catp","v":4}]
[3732,"Rusu Andrei Cristian","Constanta",10.3,3.3,"H",null,null,null,{"$f":"catp","v":4}]
[3806,"Soficaru Flavius","Brasov",9.3000000000000007,3.3,"H",null,null,null,{"$f":"catp","v":4}]
[3814,"Orosz Silviu","Dumbraveni SB",9.1,3.3,"HJ",null,null,null,{"$f":"catp","v":4}]
[3989,"Popescu Tudor","Bucuresti",7.1,3.3,"H",null,null,null,{"$f":"catp","v":4}]
[4029,"Domokos Jozsef","Targu Mures",6.5,3.3,"H",null,null,null,{"$f":"catp","v":4}]
[4073,"Onofreiciuc Dranca Bogdan","Radauti",6.1,3.3,"H",null,null,null,{"$f":"catp","v":4}]
[4167,"Stanciu Mario Andrei","Fieni",5.3,3.3,"H",null,null,null,{"$f":"catp","v":4}]
[4168,"Bosbiciu Stefan","Nasaud",5.3,3.3,"H",null,null,null,{"$f":"catp","v":4}]
[4256,"Onica Elisa","Brasov",5,3.3,"HF",null,null,null,{"$f":"catp","v":4}]
[4257,"Costea Andrei Ionatan","Craiova",5,3.3,"H",null,null,null,{"$f":"catp","v":4}]
[4568,"Rus Nicolae","Oradea",3.3,3.3,"H",null,null,null,{"$f":"catp","v":4}]
[4569,"Voinescu Dan","Lugoj",3.3,3.3,"H",null,null,null,{"$f":"catp","v":4}]
[4570,"Iftime Costel","Arad",3.3,3.3,"H",null,null,null,{"$f":"catp","v":4}]
[4571,"Herlo Ioan","Arad",3.3,3.3,"H",null,null,null,{"$f":"catp","v":4}]
[4572,"Lupu Rares","Navodari",3.3,3.3,"H",null,null,null,{"$f":"catp","v":4}]
[4573,"Dicu Bogdan","Voinesti DB",3.3,3.3,"H",null,null,null,{"$f":"catp","v":4}]
[4574,"Haschi Aron","Miercurea Ciuc",3.3,3.3,"H",null,null,null,{"$f":"catp","v":4}]
[3549,"Pascariu Andrei Razvan","Iasi",13.3,3.28,"H",null,null,null,{"$f":"catp","v":4}]
[3766,"Constantinescu Gabriel","Bucuresti",9.9,3.27,"H",null,null,null,{"$f":"catp","v":4}]
[3811,"Filip Patric","Cluj Napoca",9.1999999999999993,3.27,"H",null,null,null,{"$f":"catp","v":4}]
[2896,"Popovici Andrei","Bucuresti",26.2,3.26,"H",null,null,null,{"$f":"catp","v":4}]
[3622,"Boga Mihai","Viseu",12,3.25,"H",null,null,null,{"$f":"catp","v":4}]
[3815,"Oprita Miruna","Nasaud",9.1,3.25,"HF",null,null,null,{"$f":"catp","v":4}]
[3971,"Oana Alexandru","Barlad",7.4,3.25,"H",null,null,null,{"$f":"catp","v":4}]
[4030,"Richea Adela","Sibiu",6.5,3.25,"HF",null,null,null,{"$f":"catp","v":4}]
[4031,"Coroliuc Victoria","Moldova-Balti",6.5,3.25,"HF",null,null,null,{"$f":"catp","v":4}]
[4104,"Lungu Tatiana","Moldova-Balti",5.8,3.25,"HF",null,null,null,{"$f":"catp","v":4}]
[4113,"Crasnojon Alexandra","Moldova-Balti",5.7,3.25,"HF",null,null,null,{"$f":"catp","v":4}]
[4114,"Vataresen Cosmin","Siret",5.7,3.25,"H",null,null,null,{"$f":"catp","v":4}]
[4115,"Bulcu Daniel","Bistrita",5.7,3.25,"H",null,null,null,{"$f":"catp","v":4}]
[4139,"Alexa Vicol","Zvoristea",5.5,3.25,"H",null,null,null,{"$f":"catp","v":4}]
[2446,"Dutu Constantin","Galati",41.5,3.23,"H",null,null,null,{"$f":"catp","v":4}]
[2758,"Selejan Cristian","Timisoara",30,3.23,"H",null,null,null,{"$f":"catp","v":4}]
[3087,"Stoica Liviu Andrei","Slobozia",21.4,3.23,"H",null,null,null,{"$f":"catp","v":4}]
[3504,"Simon Csongor","Targu Mures",14.1,3.23,"H",null,null,null,{"$f":"catp","v":4}]
[3658,"Brasoveanu Razvan","Iasi",11.4,3.23,"H",null,null,null,{"$f":"catp","v":4}]
[3123,"Borsan Adrian","Cluj Napoca",20.7,3.2,"H",null,null,null,{"$f":"catp","v":4}]
[3933,"Chihaia Ianis","Iasi",7.8,3.2,"H",null,null,null,{"$f":"catp","v":4}]
[4575,"Pasconi Carmen","Mintia",3.2,3.2,"HF",null,null,null,{"$f":"catp","v":4}]
[4576,"Silaghi Adrian","Deva",3.2,3.2,"H",null,null,null,{"$f":"catp","v":4}]
[4577,"Andrei David","Barlad",3.2,3.2,"H",null,null,null,{"$f":"catp","v":4}]
[4578,"Risteiu Paul","Alba Iulia",3.2,3.2,"H",null,null,null,{"$f":"catp","v":4}]
[4579,"Schnepp Michael","Brasov",3.2,3.2,"H",null,null,null,{"$f":"catp","v":4}]
[4580,"Kim Chung Jin","Brasov",3.2,3.2,"H",null,null,null,{"$f":"catp","v":4}]
[4581,"Imbrisca Alexandra Madalina","Iasi",3.2,3.2,"HF",null,null,null,{"$f":"catp","v":4}]
[4582,"Prisecaru David","Roman",3.2,3.2,"H",null,null,null,{"$f":"catp","v":4}]
[4763,"Honciu Bogdan","Bucuresti",2.4,3.2,"H",null,null,null,{"$f":"catp","v":4}]
[3462,"Morosanu Dan","Iasi",14.7,3.18,"H",null,null,null,{"$f":"catp","v":4}]
[2869,"Tibre Lucian","Cluj Napoca",27.2,3.17,"H",null,null,null,{"$f":"catp","v":4}]
[3433,"Zaharia Tudor","Suceava",15.2,3.17,"H",null,null,null,{"$f":"catp","v":4}]
[3681,"Milica Marian","Tulcea",11,3.17,"H",null,null,null,{"$f":"catp","v":4}]
[3857,"Staicu Ovidiu","Targoviste",8.6999999999999993,3.17,"H",null,null,null,{"$f":"catp","v":4}]
[3515,"Biro Carol","Timisoara",13.9,3.15,"H",null,null,null,{"$f":"catp","v":4}]
[3892,"Solomon Milan","Cluj Napoca",8.1999999999999993,3.15,"H",null,null,null,{"$f":"catp","v":4}]
[3909,"Moldoveanu Rares","Bucuresti",8,3.15,"H",null,null,null,{"$f":"catp","v":4}]
[4055,"Boamfa Marius Andrei","Fagaras",6.3,3.15,"H",null,null,null,{"$f":"catp","v":4}]
[3522,"Iosca Sandu","Bucuresti",13.8,3.13,"H",null,null,null,{"$f":"catp","v":4}]
[3682,"Nicolescu Alexandru","Brasov",11,3.13,"H",null,null,null,{"$f":"catp","v":4}]
[3694,"Albu Stefan","Iasi",10.9,3.13,"H",null,null,null,{"$f":"catp","v":4}]
[3886,"Macovei Viorel","Suceava",8.3000000000000007,3.13,"H",null,null,null,{"$f":"catp","v":4}]
[3858,"Doghi Ciprian","Apahida",8.6999999999999993,3.1,"H",null,null,null,{"$f":"catp","v":4}]
[3893,"Zamfir Ioana","Panciu",8.1999999999999993,3.1,"HF",null,null,null,{"$f":"catp","v":4}]
[3940,"Boboescu Gheorghe","Anina",7.7,3.1,"H",null,null,null,{"$f":"catp","v":4}]
[4068,"Pop Sergiu","Zalau",6.2,3.1,"H",null,null,null,{"$f":"catp","v":4}]
[4293,"Frent Ovidiu","Resita",4.7,3.1,"H",null,null,null,{"$f":"catp","v":4}]
[4585,"Popa Romica","Pascani",3.1,3.1,"H",null,null,null,{"$f":"catp","v":4}]
[4586,"Gavrilei Adelina","Pascani",3.1,3.1,"HF",null,null,null,{"$f":"catp","v":4}]
[4587,"Ciurdea Danut","Mogoseni",3.1,3.1,"H",null,null,null,{"$f":"catp","v":4}]
[4764,"Georgescu Nicolas","Bucuresti",2.4,3.1,"H",null,null,null,{"$f":"catp","v":4}]
[4765,"Duhan Regina Elena","Bucuresti",2.4,3.1,"HF",null,null,null,{"$f":"catp","v":4}]
[4766,"Stancescu Leonard","Fieni",2.4,3.1,"H",null,null,null,{"$f":"catp","v":4}]
[4767,"Ghita Adrian Codrut","Timisoara",2.4,3.1,"H",null,null,null,{"$f":"catp","v":4}]
[2895,"Bradina Daniel","Calan",26.3,3.05,"H",null,null,null,{"$f":"catp","v":4}]
[3553,"Juganaru Mario","Buzau",13.2,3.05,"H",null,null,null,{"$f":"catp","v":4}]
[4074,"Lomnasan Alexandru","Sibiu",6.1,3.05,"H",null,null,null,{"$f":"catp","v":4}]
[4301,"Morut Sebastian","Oradea",4.5999999999999996,3.05,"H",null,null,null,{"$f":"catp","v":4}]
[2989,"Heresanu Dumitru","Sibiu",23.8,3.04,"H",null,null,null,{"$f":"catp","v":4}]
[3599,"Kiss Annabella","Miercurea Ciuc",12.4,3.03,"HF",null,null,null,{"$f":"catp","v":4}]
[3872,"Michilea Razvan","Manastireni",8.5,3.03,"H",null,null,null,{"$f":"catp","v":4}]
[3036,"Borbeiu Paul","Baia Mare",22.6,3.02,"H",null,null,null,{"$f":"catp","v":4}]
[2674,"Mati Vasile","Snagov",32.5,3,"HJ",null,null,null,{"$f":"catp","v":4}]
[3720,"Cozma Florina","Baia Mare",10.5,3,"HF",null,null,null,{"$f":"catp","v":4}]
[3773,"Buzila Marcel","Cluj Napoca",9.8000000000000007,3,"H",null,null,null,{"$f":"catp","v":4}]
[3873,"Badiu Patricia","Floresti",8.5,3,"HF",null,null,null,{"$f":"catp","v":4}]
[3910,"Calinoiu Matei","Sibiu",8,3,"H",null,null,null,{"$f":"catp","v":4}]
[3934,"Coica Laurentia","Iasi",7.8,3,"HF",null,null,null,{"$f":"catp","v":4}]
[4084,"Constantin Alessia","Lugoj",6,3,"HF",null,null,null,{"$f":"catp","v":4}]
[4085,"Crutian Alexei","Moldova-Balti",6,3,"H",null,null,null,{"$f":"catp","v":4}]
[4086,"Sava Dumitru","Fetesti",6,3,"H",null,null,null,{"$f":"catp","v":4}]
[4087,"Cozma Eduard","Targu Neamt",6,3,"H",null,null,null,{"$f":"catp","v":4}]
[4088,"Piper Catalin","Targu Mures",6,3,"H",null,null,null,{"$f":"catp","v":4}]
[4150,"Popa Alin","Fagaras",5.4,3,"H",null,null,null,{"$f":"catp","v":4}]
[4151,"Gusea Adrian","Craiova",5.4,3,"H",null,null,null,{"$f":"catp","v":4}]
[4174,"Mocanu Alexandru","Suceava",5.2,3,"H",null,null,null,{"$f":"catp","v":4}]
[4175,"Grigorean Stefan","Suceava",5.2,3,"H",null,null,null,{"$f":"catp","v":4}]
[4258,"Dan Tudor","Reghin",5,3,"H",null,null,null,{"$f":"catp","v":4}]
[4259,"Sabau Sorin","Cluj Napoca",5,3,"H",null,null,null,{"$f":"catp","v":4}]
[4599,"Dan Alexandru","Alexandria",3,3,"H",null,null,null,{"$f":"catp","v":4}]
[4600,"Pich Ioan","Viseu",3,3,"H",null,null,null,{"$f":"catp","v":4}]
[4601,"Stan Constantin","Slobozia",3,3,"H",null,null,null,{"$f":"catp","v":4}]
[4602,"Ancuta Eduard","Botosani",3,3,"H",null,null,null,{"$f":"catp","v":4}]
[4603,"Monciu Florin","Greci",3,3,"H",null,null,null,{"$f":"catp","v":4}]
[4604,"Ardeleanu Marcel","Focsani",3,3,"H",null,null,null,{"$f":"catp","v":4}]
[4605,"Stoica Lucian Andrei","Barlad",3,3,"H",null,null,null,{"$f":"catp","v":4}]
[4606,"Gheorghescu Marian","Ramnicu Valcea",3,3,"H",null,null,null,{"$f":"catp","v":4}]
[4607,"Flocea Codrin","Vatra Dornei",3,3,"H",null,null,null,{"$f":"catp","v":4}]
[4608,"Covaci Eduardo","Arad",3,3,"H",null,null,null,{"$f":"catp","v":4}]
[4609,"Furdui Lia","Moldova-Balti",3,3,"HF",null,null,null,{"$f":"catp","v":4}]
[4610,"Milos Stefan","Alexandria",3,3,"H",null,null,null,{"$f":"catp","v":4}]
[4611,"Stoica Rares","Ludus",3,3,"H",null,null,null,{"$f":"catp","v":4}]
[4612,"Chesche Mihai","Harsova",3,3,"H",null,null,null,{"$f":"catp","v":4}]
[4613,"Rugina Ionut Mihai","Ciobanu",3,3,"H",null,null,null,{"$f":"catp","v":4}]
[4614,"Vranceanu Marian","Harsova",3,3,"H",null,null,null,{"$f":"catp","v":4}]
[4615,"Buzdea Stefan","Iasi",3,3,"H",null,null,null,{"$f":"catp","v":4}]
[4616,"Rotaru Vlad","Barlad",3,3,"H",null,null,null,{"$f":"catp","v":4}]
[4617,"Petru Razvan","Barlad",3,3,"H",null,null,null,{"$f":"catp","v":4}]
[4618,"Dogaru Radu","Harsova",3,3,"H",null,null,null,{"$f":"catp","v":4}]
[4619,"Rugina Ionut","Harsova",3,3,"H",null,null,null,{"$f":"catp","v":4}]
[4620,"Morcan Andrei","Sighetu Marmatiei",3,3,"H",null,null,null,{"$f":"catp","v":4}]
[4621,"Ursu Maria","Moldova-Balti",3,3,"HF",null,null,null,{"$f":"catp","v":4}]
[4622,"Dimoiu Cezar","Bucuresti",3,3,"H",null,null,null,{"$f":"catp","v":4}]
[4623,"Apetrei Patrick","Vatra Dornei",3,3,"H",null,null,null,{"$f":"catp","v":4}]
[4624,"Nani Mihai","Moldova-Chisinau",3,3,"H",null,null,null,{"$f":"catp","v":4}]
[4625,"Nani Stanislav","Moldova-Chisinau",3,3,"H",null,null,null,{"$f":"catp","v":4}]
[4626,"Demianciuc Nichita","Moldova-Chisinau",3,3,"HF",null,null,null,{"$f":"catp","v":4}]
[4627,"Stan Calin","Stremt",3,3,"H",null,null,null,{"$f":"catp","v":4}]
[4628,"Kolotylo Nick","Suceava",3,3,"H",null,null,null,{"$f":"catp","v":4}]
[4629,"Cresca Alexandru Dumitru","Siret",3,3,"H",null,null,null,{"$f":"catp","v":4}]
[4630,"Teodorescu Gabriel","Alexandria",3,3,"H",null,null,null,{"$f":"catp","v":4}]
[4631,"Alesteu Cristina","Alexandria",3,3,"HF",null,null,null,{"$f":"catp","v":4}]
[4632,"Dobrean Mateo","Faget",3,3,"H",null,null,null,{"$f":"catp","v":4}]
[4633,"Tarta Raul","Gherla",3,3,"H",null,null,null,{"$f":"catp","v":4}]
[4634,"Prisecaru Florin Eduard","Vaslui",3,3,"H",null,null,null,{"$f":"catp","v":4}]
[4768,"Sauciuc Florin","Suceava",2.2999999999999998,3,"H",null,null,null,{"$f":"catp","v":4}]
[4769,"Naciu Florin","Botosani",2.2999999999999998,3,"H",null,null,null,{"$f":"catp","v":4}]
[4770,"Blindu Gabriel","Suceava",2.2999999999999998,3,"H",null,null,null,{"$f":"catp","v":4}]
[4771,"Baltariu Remus","Suceava",2.2999999999999998,3,"H",null,null,null,{"$f":"catp","v":4}]
[4772,"Poraico Xenia","Moldova-Balti",2.2999999999999998,3,"HF",null,null,null,{"$f":"catp","v":4}]
[4773,"Simionov Sebastian","Navodari",2.2999999999999998,3,"H",null,null,null,{"$f":"catp","v":4}]
[4774,"Cuzmin Gabriel","Navodari",2.2999999999999998,3,"H",null,null,null,{"$f":"catp","v":4}]
[4775,"Cravcenco Dmitrii","Ucraina-Kiev",2.2999999999999998,3,"H",null,null,null,{"$f":"catp","v":4}]
[4776,"Symeonidis Alex","Brasov",2.2999999999999998,3,"H",null,null,null,{"$f":"catp","v":4}]
[4777,"Muresan Nelu","Stei",2.2999999999999998,3,"H",null,null,null,{"$f":"catp","v":4}]
[4778,"Grigore Bogdan","Ramnicu Valcea",2.2999999999999998,3,"H",null,null,null,{"$f":"catp","v":4}]
[4779,"Stanca Sophia","Navodari",2.2999999999999998,3,"HF",null,null,null,{"$f":"catp","v":4}]
[4780,"Vulpe Cristian","Navodari",2.2999999999999998,3,"H",null,null,null,{"$f":"catp","v":4}]
[4781,"Dostatean Danut","Sibiu",2.2999999999999998,3,"H",null,null,null,{"$f":"catp","v":4}]
[4782,"Ghenadie Dumitru","Cluj Napoca",2.2999999999999998,3,"H",null,null,null,{"$f":"catp","v":4}]
[4783,"Bischin Cristian","Cristian SB",2.2999999999999998,3,"H",null,null,null,{"$f":"catp","v":4}]
[4784,"Pasculet Ioana","Cluj Napoca",2.2999999999999998,3,"HF",null,null,null,{"$f":"catp","v":4}]
[4785,"Ionescu Theodor","Bucuresti",2.2999999999999998,3,"H",null,null,null,{"$f":"catp","v":4}]
[4786,"Apetrei Damian","Suceava",2.2999999999999998,3,"H",null,null,null,{"$f":"catp","v":4}]
[4787,"Miron Carla","Sfantu Gheorghe",2.2999999999999998,3,"HF",null,null,null,{"$f":"catp","v":4}]
[4788,"Ciubotaru Ioana","Moinesti",2.2999999999999998,3,"HF",null,null,null,{"$f":"catp","v":4}]
[4789,"Vaszi Benedek","Santimbru",2.2999999999999998,3,"H",null,null,null,{"$f":"catp","v":4}]
[4790,"Orban Zsolt","Miercurea Ciuc",2.2999999999999998,3,"H",null,null,null,{"$f":"catp","v":4}]
[4791,"Franciuc Robert Catalin","Suceava",2.2999999999999998,3,"H",null,null,null,{"$f":"catp","v":4}]
[3424,"Vasile Mihai","Bucuresti",15.3,2.95,"H",null,null,null,{"$f":"catp","v":4}]
[4097,"Varga Codrut","Luna CJ",5.9,2.95,"H",null,null,null,{"$f":"catp","v":4}]
[4098,"Tirnoveanu Robert","Cluj Napoca",5.9,2.95,"H",null,null,null,{"$f":"catp","v":4}]
[4152,"Brinza Paul","Iasi",5.4,2.95,"H",null,null,null,{"$f":"catp","v":4}]
[4153,"Iordan Cosmin","Bucuresti",5.4,2.95,"H",null,null,null,{"$f":"catp","v":4}]
[4260,"Anghel Andrei","Bucuresti",5,2.95,"H",null,null,null,{"$f":"catp","v":4}]
[3164,"Baldan Andrei","Cluj Napoca",19.8,2.9,"HD",null,null,null,{"$f":"catp","v":4}]
[4651,"Kercsedi Laurentiu","Tarnaveni",2.9,2.9,"H",null,null,null,{"$f":"catp","v":4}]
[4792,"Predut Andrei","Cluj Napoca",2.2000000000000002,2.9,"H",null,null,null,{"$f":"catp","v":4}]
[3526,"Bodroghi Aaron","Lipova",13.7,2.88,"H",null,null,null,{"$f":"catp","v":4}]
[3148,"Borodi Levi","Dobric",20.2,2.87,"H",null,null,null,{"$f":"catp","v":4}]
[3612,"Dobre Matei","Targoviste",12.1,2.87,"H",null,null,null,{"$f":"catp","v":4}]
[3037,"Cocea Radu","Bucuresti",22.6,2.85,"H",null,null,null,{"$f":"catp","v":4}]
[4116,"Leonte Toader","Solont",5.7,2.85,"H",null,null,null,{"$f":"catp","v":4}]
[4176,"Musat Filip","Lipanesti",5.2,2.85,"H",null,null,null,{"$f":"catp","v":4}]
[3911,"Iacubovici Radu","Radauti",8,2.83,"H",null,null,null,{"$f":"catp","v":4}]
[3977,"Muresan Alexandra","Cluj Napoca",7.3,2.83,"HF",null,null,null,{"$f":"catp","v":4}]
[4009,"Iavorenciuc Matei","Suceava",6.9,2.83,"H",null,null,null,{"$f":"catp","v":4}]
[3463,"Ilie Mihai Serban","Sibiu",14.7,2.8,"H",null,null,null,{"$f":"catp","v":4}]
[3834,"Ulman Tudor","Bucuresti",9,2.8,"H",null,null,null,{"$f":"catp","v":4}]
[4274,"Lincan Alexandru","Bucuresti",4.9000000000000004,2.8,"H",null,null,null,{"$f":"catp","v":4}]
[4345,"Irlweg Sebastian","Caransebes",4.2,2.8,"H",null,null,null,{"$f":"catp","v":4}]
[4656,"Szasz Zoltan","Gheorgheni",2.8,2.8,"H",null,null,null,{"$f":"catp","v":4}]
[4657,"Simon Barna","Targu Mures",2.8,2.8,"H",null,null,null,{"$f":"catp","v":4}]
[4793,"Ghile Ioan","Oradea",2.1,2.8,"H",null,null,null,{"$f":"catp","v":4}]
[4794,"Pnacsek Alex","Lunca Muresului",2.1,2.8,"H",null,null,null,{"$f":"catp","v":4}]
[4795,"Calomfirescu Vlad","Bucuresti",2.1,2.8,"H",null,null,null,{"$f":"catp","v":4}]
[4796,"Groza Darius","Targu Mures",2.1,2.8,"H",null,null,null,{"$f":"catp","v":4}]
[4797,"Constantin Franko Nicholas","Chiajna",2.1,2.8,"H",null,null,null,{"$f":"catp","v":4}]
[3124,"Spulber Oana Raluca","Bacau",20.7,2.78,"HF",null,null,null,{"$f":"catp","v":4}]
[3394,"Frisan Andrei","Nasaud",15.8,2.77,"H",null,null,null,{"$f":"catp","v":4}]
[3475,"Stanescu Victor","Baia Mare",14.4,2.75,"H",null,null,null,{"$f":"catp","v":4}]
[3623,"Luca Rares","Vadu Moldovei",12,2.75,"H",null,null,null,{"$f":"catp","v":4}]
[3642,"Deak Sandor","Cluj Napoca",11.7,2.75,"H",null,null,null,{"$f":"catp","v":4}]
[3721,"Drulea Radu Vlad","Jimbolia",10.5,2.75,"H",null,null,null,{"$f":"catp","v":4}]
[3761,"Rezus Oana","Sibiu",10,2.75,"HF",null,null,null,{"$f":"catp","v":4}]
[3955,"Bura Ionut Virgil","Cluj Napoca",7.5,2.75,"H",null,null,null,{"$f":"catp","v":4}]
[4140,"Iaru Robert","Curtea de Arges",5.5,2.75,"H",null,null,null,{"$f":"catp","v":4}]
[4287,"Ifrim Dragos","Navodari",4.8,2.75,"H",null,null,null,{"$f":"catp","v":4}]
[4294,"Stir Bogdan","Telega",4.7,2.75,"H",null,null,null,{"$f":"catp","v":4}]
[4346,"Kiss Istvan","Varsolt",4.2,2.75,"H",null,null,null,{"$f":"catp","v":4}]
[4347,"Pascu Alin","Drobeta Tr Severin",4.2,2.75,"H",null,null,null,{"$f":"catp","v":4}]
[4348,"Fartusnic Florin","Botosani",4.2,2.75,"H",null,null,null,{"$f":"catp","v":4}]
[3792,"Puscovici Matei","Sibiu",9.5,2.73,"H",null,null,null,{"$f":"catp","v":4}]
[4016,"Marcoci Andrei","Brasov",6.7,2.73,"H",null,null,null,{"$f":"catp","v":4}]
[3881,"Pavaliceanu David","Botosani",8.4,2.7,"H",null,null,null,{"$f":"catp","v":4}]
[3972,"Bucse Natalia","Sibiu",7.4,2.7,"HF",null,null,null,{"$f":"catp","v":4}]
[3990,"Contes Vasile","Timisoara",7.1,2.7,"H",null,null,null,{"$f":"catp","v":4}]
[4154,"Pamfilie Cristi","Ludus",5.4,2.7,"H",null,null,null,{"$f":"catp","v":4}]
[4673,"Mocan Marius","Cluj Napoca",2.7,2.7,"H",null,null,null,{"$f":"catp","v":4}]
[4674,"Turlanoiu Alexandru","Sibiu",2.7,2.7,"H",null,null,null,{"$f":"catp","v":4}]
[4675,"Balanuca Teo","Comanesti",2.7,2.7,"H",null,null,null,{"$f":"catp","v":4}]
[4676,"Cosulianu Cristi","Pascani",2.7,2.7,"H",null,null,null,{"$f":"catp","v":4}]
[3999,"Boitos Rodica","Oradea",7,2.67,"HF",null,null,null,{"$f":"catp","v":4}]
[3356,"Florean Renata","Lunca Muresului",16.600000000000001,2.66,"HF",null,null,null,{"$f":"catp","v":4}]
[3926,"Milos Alexandru","Alexandria",7.9,2.6,"H",null,null,null,{"$f":"catp","v":4}]
[4678,"Ionas Radu","Sibiu",2.6,2.6,"H",null,null,null,{"$f":"catp","v":4}]
[4679,"Oprica Robert","Cristian SB",2.6,2.6,"H",null,null,null,{"$f":"catp","v":4}]
[4680,"Oprica Stefan","Sibiu",2.6,2.6,"H",null,null,null,{"$f":"catp","v":4}]
[4681,"Tirnoveanu Sorin","Cluj Napoca",2.6,2.6,"H",null,null,null,{"$f":"catp","v":4}]
[4682,"Herta Gheorghe","Hateg",2.6,2.6,"H",null,null,null,{"$f":"catp","v":4}]
[4683,"Frunza George","Slobozia",2.6,2.6,"H",null,null,null,{"$f":"catp","v":4}]
[4798,"Toma Cristian","Alexandria",2,2.6,"H",null,null,null,{"$f":"catp","v":4}]
[4799,"Ambros Lucian","Botosani",2,2.6,"H",null,null,null,{"$f":"catp","v":4}]
[3554,"Boldor Cosmin","Cluj Napoca",13.2,2.5499999999999998,"H",null,null,null,{"$f":"catp","v":4}]
[3991,"Dancu Luminita","Medias",7.1,2.5499999999999998,"HF",null,null,null,{"$f":"catp","v":4}]
[2897,"Tudorut Dragos","Sibiu",26.2,2.5299999999999998,"H",null,null,null,{"$f":"catp","v":4}]
[3252,"Stoica Ayana Maria","Slobozia",18.5,2.5,"HF",null,null,null,{"$f":"catp","v":4}]
[3683,"Illyes Elemer","Ditrau",11,2.5,"H",null,null,null,{"$f":"catp","v":4}]
[3705,"Ionescu Daniel","Campina",10.7,2.5,"H",null,null,null,{"$f":"catp","v":4}]
[3874,"Tataru Robert Stefan","Vaslui",8.5,2.5,"H",null,null,null,{"$f":"catp","v":4}]
[3927,"Ignat Liviu","Botosani",7.9,2.5,"H",null,null,null,{"$f":"catp","v":4}]
[4000,"Jurchita Paul Ionut","Mosnita Veche",7,2.5,"H",null,null,null,{"$f":"catp","v":4}]
[4032,"Bercea Darius Marian","Iasi",6.5,2.5,"H",null,null,null,{"$f":"catp","v":4}]
[4043,"Posteuca Lucian","Botosani",6.4,2.5,"H",null,null,null,{"$f":"catp","v":4}]
[4105,"Gurzun Constantin","Miroslava",5.8,2.5,"H",null,null,null,{"$f":"catp","v":4}]
[4169,"Stefan Mihai","Craiova",5.3,2.5,"H",null,null,null,{"$f":"catp","v":4}]
[4261,"Bugariu Teodora","Lugoj",5,2.5,"HF",null,null,null,{"$f":"catp","v":4}]
[4262,"Szekely Attila","Arad",5,2.5,"H",null,null,null,{"$f":"catp","v":4}]
[4263,"Piscoran Alexander","Baia Mare",5,2.5,"H",null,null,null,{"$f":"catp","v":4}]
[4264,"Savonea Adrian","Alba Iulia",5,2.5,"H",null,null,null,{"$f":"catp","v":4}]
[4265,"Garabet Mihnea","Iasi",5,2.5,"H",null,null,null,{"$f":"catp","v":4}]
[4315,"Stan Stefan","Mangalia",4.5,2.5,"H",null,null,null,{"$f":"catp","v":4}]
[4316,"Petrache Lucian","Bucuresti",4.5,2.5,"H",null,null,null,{"$f":"catp","v":4}]
[4317,"Dunca Andrei","Viseu",4.5,2.5,"H",null,null,null,{"$f":"catp","v":4}]
[4318,"Draganescu Denis","Pascani",4.5,2.5,"H",null,null,null,{"$f":"catp","v":4}]
[4319,"Pop Sorin","Viseu",4.5,2.5,"H",null,null,null,{"$f":"catp","v":4}]
[4320,"Cotruta Razvan","Vaslui",4.5,2.5,"H",null,null,null,{"$f":"catp","v":4}]
[4321,"Tuta Stefan","Sibiu",4.5,2.5,"H",null,null,null,{"$f":"catp","v":4}]
[4322,"Tache Marian","Ploiesti",4.5,2.5,"H",null,null,null,{"$f":"catp","v":4}]
[4336,"Lucan Alex","Tisauti",4.4000000000000004,2.5,"H",null,null,null,{"$f":"catp","v":4}]
[4337,"Ifrim Alexandru","Navodari",4.4000000000000004,2.5,"H",null,null,null,{"$f":"catp","v":4}]
[4463,"Banu Codrin","Brasov",3.8,2.5,"H",null,null,null,{"$f":"catp","v":4}]
[4464,"Turcu Alexandru","Craiova",3.8,2.5,"H",null,null,null,{"$f":"catp","v":4}]
[4465,"Iavorenciuc Cristian","Suceava",3.8,2.5,"H",null,null,null,{"$f":"catp","v":4}]
[4466,"Palaviceanu David","Botosani",3.8,2.5,"H",null,null,null,{"$f":"catp","v":4}]
[4467,"Babolea Ionut","Pascani",3.8,2.5,"H",null,null,null,{"$f":"catp","v":4}]
[4468,"Dumitrov Paula Andreea","Valea Lupului",3.8,2.5,"HF",null,null,null,{"$f":"catp","v":4}]
[4684,"Postolache Valeriu","Pufesti",2.5,2.5,"H",null,null,null,{"$f":"catp","v":4}]
[4685,"Enache Adrian","Ploiesti",2.5,2.5,"H",null,null,null,{"$f":"catp","v":4}]
[4686,"Fodor Attila","Vanatori",2.5,2.5,"H",null,null,null,{"$f":"catp","v":4}]
[4687,"Ciulei Adrian","Movila",2.5,2.5,"HW",null,null,null,{"$f":"catp","v":4}]
[4688,"Pirvu Cristian","Mangalia",2.5,2.5,"H",null,null,null,{"$f":"catp","v":4}]
[4689,"Hriban Stefan","Viseu",2.5,2.5,"H",null,null,null,{"$f":"catp","v":4}]
[4690,"Ciurdea Gheorghe","Mogosesti",2.5,2.5,"H",null,null,null,{"$f":"catp","v":4}]
[4691,"Nistor Mirela","Cisnadie",2.5,2.5,"HF",null,null,null,{"$f":"catp","v":4}]
[4692,"Iordache Vera","Craiova",2.5,2.5,"HF",null,null,null,{"$f":"catp","v":4}]
[4693,"Muntean Aurel","Medias",2.5,2.5,"H",null,null,null,{"$f":"catp","v":4}]
[4694,"Cudalbu Constantin","Ploiesti",2.5,2.5,"H",null,null,null,{"$f":"catp","v":4}]
[4695,"Szavuly Attila","Sovata",2.5,2.5,"H",null,null,null,{"$f":"catp","v":4}]
[4696,"Tcaciuc Sebastian","Suceava",2.5,2.5,"H",null,null,null,{"$f":"catp","v":4}]
[4697,"Dragomir Iulian","Targoviste",2.5,2.5,"H",null,null,null,{"$f":"catp","v":4}]
[4698,"Turtoi Costin","Tulcea",2.5,2.5,"H",null,null,null,{"$f":"catp","v":4}]
[4699,"Bradu Georgel","Barlad",2.5,2.5,"H",null,null,null,{"$f":"catp","v":4}]
[4700,"Turtica Cristian","Bucuresti",2.5,2.5,"H",null,null,null,{"$f":"catp","v":4}]
[4701,"Cuznetova Polina","Moldova-Comrat",2.5,2.5,"HF",null,null,null,{"$f":"catp","v":4}]
[4702,"Nedealcova Daria","Moldova-Avdarma",2.5,2.5,"HF",null,null,null,{"$f":"catp","v":4}]
[4703,"Popa Alexandru Arthur","Arad",2.5,2.5,"H",null,null,null,{"$f":"catp","v":4}]
[4704,"Necula Florin","Straoane",2.5,2.5,"H",null,null,null,{"$f":"catp","v":4}]
[4705,"Butnaru Damian","Mogosesti",2.5,2.5,"H",null,null,null,{"$f":"catp","v":4}]
[4706,"Petcu Nicolas","Buhusi",2.5,2.5,"H",null,null,null,{"$f":"catp","v":4}]
[4707,"Ionescu Dragos","Buhusi",2.5,2.5,"H",null,null,null,{"$f":"catp","v":4}]
[4708,"Bejenariu Andrei","Arghira",2.5,2.5,"H",null,null,null,{"$f":"catp","v":4}]
[4709,"Bizau Robin","Chisoda",2.5,2.5,"H",null,null,null,{"$f":"catp","v":4}]
[4710,"Zugravu Alexandru","Barlad",2.5,2.5,"H",null,null,null,{"$f":"catp","v":4}]
[4711,"Stoian Gabriel","Alexandria",2.5,2.5,"H",null,null,null,{"$f":"catp","v":4}]
[4712,"Gegea Dimitrie","Straoane",2.5,2.5,"H",null,null,null,{"$f":"catp","v":4}]
[4713,"Osipov Dmitrii","Moldova-Comrat",2.5,2.5,"H",null,null,null,{"$f":"catp","v":4}]
[4714,"Malama Felix","Slobozia",2.5,2.5,"H",null,null,null,{"$f":"catp","v":4}]
[4715,"Anton Cristian","Constanta",2.5,2.5,"H",null,null,null,{"$f":"catp","v":4}]
[4716,"Varga Cosmina","Ludus",2.5,2.5,"HF",null,null,null,{"$f":"catp","v":4}]
[4717,"Kercedi Laur","Tarnaveni",2.5,2.5,"H",null,null,null,{"$f":"catp","v":4}]
[4718,"Ciurdea Ionut","Mogoseni",2.5,2.5,"H",null,null,null,{"$f":"catp","v":4}]
[4719,"Sarandi Ion","Moldova-Avdarma",2.5,2.5,"H",null,null,null,{"$f":"catp","v":4}]
[4720,"Sava Mihai Andrei","Malaiesti",2.5,2.5,"H",null,null,null,{"$f":"catp","v":4}]
[4721,"Toma Alexandru","Bucuresti",2.5,2.5,"H",null,null,null,{"$f":"catp","v":4}]
[4722,"Coman Mihaita","Harsova",2.5,2.5,"H",null,null,null,{"$f":"catp","v":4}]
[4723,"Tanase Adrian","Harsova",2.5,2.5,"H",null,null,null,{"$f":"catp","v":4}]
[4724,"Lungu Andrei George","Roman",2.5,2.5,"H",null,null,null,{"$f":"catp","v":4}]
[4725,"Urzica Ionut","Piatra Neamt",2.5,2.5,"H",null,null,null,{"$f":"catp","v":4}]
[4726,"Nicolae Eugen Ninel","Videle",2.5,2.5,"H",null,null,null,{"$f":"catp","v":4}]
[4727,"Ionescu Cosmin","Alexandria",2.5,2.5,"H",null,null,null,{"$f":"catp","v":4}]
[4728,"Szivos Attila","Ungaria",2.5,2.5,"H",null,null,null,{"$f":"catp","v":4}]
[4729,"Ciorba Arnold","Berveni",2.5,2.5,"H",null,null,null,{"$f":"catp","v":4}]
[4730,"Stroie Marian","Bucuresti",2.5,2.5,"H",null,null,null,{"$f":"catp","v":4}]
[4731,"Bayusz Peter","Arad",2.5,2.5,"H",null,null,null,{"$f":"catp","v":4}]
[4732,"Barabas Zoltan","Sighisoara",2.5,2.5,"H",null,null,null,{"$f":"catp","v":4}]
[4733,"Pallo Zoltan","Sighisoara",2.5,2.5,"H",null,null,null,{"$f":"catp","v":4}]
[4734,"Barle Marco","Lapusel",2.5,2.5,"H",null,null,null,{"$f":"catp","v":4}]
[4735,"Cozma Codrin","Vaslui",2.5,2.5,"H",null,null,null,{"$f":"catp","v":4}]
[4736,"Istrate Cristian Daniel","Sibiu",2.5,2.5,"H",null,null,null,{"$f":"catp","v":4}]
[4737,"Ursu Magdalena","Moldova-Balti",2.5,2.5,"HF",null,null,null,{"$f":"catp","v":4}]
[4738,"Ratcu Chris","Alexandria",2.5,2.5,"H",null,null,null,{"$f":"catp","v":4}]
[4739,"Teodor Melinte","Alexandria",2.5,2.5,"H",null,null,null,{"$f":"catp","v":4}]
[4740,"Diaconu Lucian","Targu Neamt",2.5,2.5,"H",null,null,null,{"$f":"catp","v":4}]
[4741,"Dovleac Dragos","Bucuresti",2.5,2.5,"H",null,null,null,{"$f":"catp","v":4}]
[4742,"Lazar Catalin","Bucuresti",2.5,2.5,"H",null,null,null,{"$f":"catp","v":4}]
[4743,"Osvath Zsolt","Targu Mures",2.5,2.5,"H",null,null,null,{"$f":"catp","v":4}]
[4744,"Necula Daniel","Dej",2.5,2.5,"H",null,null,null,{"$f":"catp","v":4}]
[4745,"Toanchina Antonio Bogdan","Iasi BV",2.5,2.5,"H",null,null,null,{"$f":"catp","v":4}]
[4746,"Guseila Mircea Andrei","Iasi BV",2.5,2.5,"H",null,null,null,{"$f":"catp","v":4}]
[4747,"Curticapean Aurelian","Fagaras",2.5,2.5,"H",null,null,null,{"$f":"catp","v":4}]
[4748,"Ciobanu Cristi","Curtea de Arges",2.5,2.5,"H",null,null,null,{"$f":"catp","v":4}]
[4749,"Scorpan Andrei","Moldova-Drochia",2.5,2.5,"H",null,null,null,{"$f":"catp","v":4}]
[4750,"Cristian Stefan Gheorghe","Buzau",2.5,2.5,"H",null,null,null,{"$f":"catp","v":4}]
[4751,"Anghel Lucian","Ramnicelu",2.5,2.5,"H",null,null,null,{"$f":"catp","v":4}]
[4752,"Canga Tudor","Moldova-Cahul",2.5,2.5,"H",null,null,null,{"$f":"catp","v":4}]
[4753,"Daca Adrian","Alexandria",2.5,2.5,"H",null,null,null,{"$f":"catp","v":4}]
[4754,"Melinte Teodor","Alexandria",2.5,2.5,"H",null,null,null,{"$f":"catp","v":4}]
[4755,"Ciga Stefan","Satu Mare AR",2.5,2.5,"H",null,null,null,{"$f":"catp","v":4}]
[4756,"Nicoara Victor","Faget",2.5,2.5,"H",null,null,null,{"$f":"catp","v":4}]
[4757,"Bobaru Florin","Ploiesti",2.5,2.5,"H",null,null,null,{"$f":"catp","v":4}]
[4758,"Nitu Sorin","Brazi",2.5,2.5,"H",null,null,null,{"$f":"catp","v":4}]
[4759,"Chitaru Carolina","Vaslui",2.5,2.5,"HF",null,null,null,{"$f":"catp","v":4}]
[4760,"Ghetu Andreea","Bucuresti",2.5,2.5,"HF",null,null,null,{"$f":"catp","v":4}]
[4761,"Andras Szekely","Bucuresti",2.5,2.5,"H",null,null,null,{"$f":"catp","v":4}]
[4762,"Enache Viorel","Bucuresti",2.5,2.5,"H",null,null,null,{"$f":"catp","v":4}]
[5005,"Ungvari Levente","Targu Mures",1.9,2.5,"H",null,null,null,{"$f":"catp","v":4}]
[5006,"Tarnauceanu Florin","Suceava",1.9,2.5,"H",null,null,null,{"$f":"catp","v":4}]
[5007,"Spineanu Dan","Orastie",1.9,2.5,"H",null,null,null,{"$f":"catp","v":4}]
[5008,"Gaga Ioan","Cluj Napoca",1.9,2.5,"H",null,null,null,{"$f":"catp","v":4}]
[5009,"Mateut Ionut","Zalau",1.9,2.5,"H",null,null,null,{"$f":"catp","v":4}]
[5010,"Dumitru Daria","Navodari",1.9,2.5,"HF",null,null,null,{"$f":"catp","v":4}]
[5011,"Trusca Claudiu","Drobeta Tr Severin",1.9,2.5,"H",null,null,null,{"$f":"catp","v":4}]
[5012,"Boncoi Bogdan","Sinaia",1.9,2.5,"H",null,null,null,{"$f":"catp","v":4}]
[5013,"Bocos David Nicolas","Apahida",1.9,2.5,"H",null,null,null,{"$f":"catp","v":4}]
[5014,"David Dominik","Floresti",1.9,2.5,"H",null,null,null,{"$f":"catp","v":4}]
[5015,"Prundeanu Ovidiu","Drobeta Tr Severin",1.9,2.5,"H",null,null,null,{"$f":"catp","v":4}]
[5016,"Grosu Andrei","Stei",1.9,2.5,"H",null,null,null,{"$f":"catp","v":4}]
[5017,"Andries Natalia","Navodari",1.9,2.5,"HF",null,null,null,{"$f":"catp","v":4}]
[5018,"Ene Denis","Navodari",1.9,2.5,"H",null,null,null,{"$f":"catp","v":4}]
[5019,"Ene Alexandru","Navodari",1.9,2.5,"H",null,null,null,{"$f":"catp","v":4}]
[5020,"Cisco Elina","Moldova-Balti",1.9,2.5,"HF",null,null,null,{"$f":"catp","v":4}]
[5021,"Movila Agata","Moldova-Balti",1.9,2.5,"HF",null,null,null,{"$f":"catp","v":4}]
[5022,"Florian Ridiche","Bucuresti",1.9,2.5,"H",null,null,null,{"$f":"catp","v":4}]
[5023,"Pirvu Miron","Bucuresti",1.9,2.5,"H",null,null,null,{"$f":"catp","v":4}]
[5024,"Cantuniari Razvan","Bucuresti",1.9,2.5,"H",null,null,null,{"$f":"catp","v":4}]
[5025,"Lupei Alexandru","Stei",1.9,2.5,"H",null,null,null,{"$f":"catp","v":4}]
[5026,"Lukacs Istvan","Targu Mures",1.9,2.5,"H",null,null,null,{"$f":"catp","v":4}]
[5027,"Ceasar Ovidiu","Brasov",1.9,2.5,"H",null,null,null,{"$f":"catp","v":4}]
[5028,"Ududec Mihai","Suceava",1.9,2.5,"H",null,null,null,{"$f":"catp","v":4}]
[5029,"Grunzo Alex","Cluj Napoca",1.9,2.5,"H",null,null,null,{"$f":"catp","v":4}]
[5030,"Vigh Zsombor","Cluj Napoca",1.9,2.5,"H",null,null,null,{"$f":"catp","v":4}]
[5031,"Marta Tudor Alexandru","Cluj Napoca",1.9,2.5,"H",null,null,null,{"$f":"catp","v":4}]
[5032,"Novac Adrian","Oradea",1.9,2.5,"H",null,null,null,{"$f":"catp","v":4}]
[5033,"Ioji Florin Adrian","Seleus",1.9,2.5,"H",null,null,null,{"$f":"catp","v":4}]
[5034,"Dinu Christian","Bucuresti",1.9,2.5,"H",null,null,null,{"$f":"catp","v":4}]
[5035,"Maris Corin","Timisoara",1.9,2.5,"H",null,null,null,{"$f":"catp","v":4}]
[5036,"Irimiea Eva","Moinesti",1.9,2.5,"HF",null,null,null,{"$f":"catp","v":4}]
[5037,"Feher Tamara","Targu Mures",1.9,2.5,"HF",null,null,null,{"$f":"catp","v":4}]
[5038,"Gyorgy Attila","Miercurea Ciuc",1.9,2.5,"H",null,null,null,{"$f":"catp","v":4}]
[5039,"Kolumban Attila","Santimbru",1.9,2.5,"H",null,null,null,{"$f":"catp","v":4}]
[5040,"Bodor Attila","Jigodin",1.9,2.5,"H",null,null,null,{"$f":"catp","v":4}]
[3600,"Amuza Radu","Bucuresti",12.4,2.48,"H",null,null,null,{"$f":"catp","v":4}]
[3634,"Mares Antoaneta","Blaj",11.8,2.4700000000000002,"HF",null,null,null,{"$f":"catp","v":4}]
[3695,"Naghi Bianca","Lunca Muresului",10.9,2.4500000000000002,"HF",null,null,null,{"$f":"catp","v":4}]
[3706,"Berei Roland","Satu Mare",10.7,2.4500000000000002,"H",null,null,null,{"$f":"catp","v":4}]
[4177,"Pop Emil","Cluj Napoca",5.2,2.4500000000000002,"H",null,null,null,{"$f":"catp","v":4}]
[3125,"Iliescu Patricia","Snagov",20.7,2.4300000000000002,"HF",null,null,null,{"$f":"catp","v":4}]
[3859,"Luca Ionut Vasile","Bursuceni SV",8.6999999999999993,2.4,"H",null,null,null,{"$f":"catp","v":4}]
[4359,"Musat Mihai","Lipanesti",4.0999999999999996,2.4,"H",null,null,null,{"$f":"catp","v":4}]
[5041,"Litra Raul","Rovinari",1.8,2.4,"H",null,null,null,{"$f":"catp","v":4}]
[2486,"Lumezeanu Adelina","Bucuresti",39.700000000000003,2.38,"HF",null,null,null,{"$f":"catp","v":4}]
[3713,"Gotea Denis","Hateg",10.6,2.37,"H",null,null,null,{"$f":"catp","v":4}]
[4075,"Tanki Mate","Oradea",6.1,2.37,"H",null,null,null,{"$f":"catp","v":4}]
[4295,"Hoca Lucas","Lunca Muresului",4.7,2.35,"H",null,null,null,{"$f":"catp","v":4}]
[3624,"Penciuc Danut","Cluj Napoca",12,2.33,"H",null,null,null,{"$f":"catp","v":4}]
[3699,"Vladescu Oana","Cluj Napoca",10.8,2.33,"HF",null,null,null,{"$f":"catp","v":4}]
[3700,"Bumbu Adrian","Zalau",10.8,2.33,"H",null,null,null,{"$f":"catp","v":4}]
[3762,"Cracanel George","Chiajna",10,2.33,"H",null,null,null,{"$f":"catp","v":4}]
[3978,"Orban Darius","Siret",7.3,2.33,"H",null,null,null,{"$f":"catp","v":4}]
[4033,"Alexandrescu Cristi","Alexandria",6.5,2.33,"H",null,null,null,{"$f":"catp","v":4}]
[4034,"Fordon Alin","Campani",6.5,2.33,"H",null,null,null,{"$f":"catp","v":4}]
[4035,"Alexandru Stefan","Bucuresti",6.5,2.33,"H",null,null,null,{"$f":"catp","v":4}]
[4089,"Chiran Valentin","Bucuresti",6,2.33,"H",null,null,null,{"$f":"catp","v":4}]
[4099,"Berco Vlad","Suceava",5.9,2.33,"H",null,null,null,{"$f":"catp","v":4}]
[4106,"Beian Luca","Floresti",5.8,2.33,"H",null,null,null,{"$f":"catp","v":4}]
[4107,"Pintilie Maria","Iasi",5.8,2.33,"HF",null,null,null,{"$f":"catp","v":4}]
[3894,"Raducan Adrian","Sibiu",8.1999999999999993,2.2999999999999998,"H",null,null,null,{"$f":"catp","v":4}]
[4360,"Pap Javor","Targu Mures",4.0999999999999996,2.2999999999999998,"H",null,null,null,{"$f":"catp","v":4}]
[4529,"Stoian Luiza","Braila",3.5,2.2999999999999998,"HF",null,null,null,{"$f":"catp","v":4}]
[3583,"Encea Alexandru","Bucuresti",12.8,2.25,"H",null,null,null,{"$f":"catp","v":4}]
[3722,"Hreamata Sorin","Pascani",10.5,2.25,"H",null,null,null,{"$f":"catp","v":4}]
[3767,"Szekely Claudia","Targu Mures",9.9,2.25,"HF",null,null,null,{"$f":"catp","v":4}]
[3774,"Ivan Cristina","Iasi",9.8000000000000007,2.25,"HF",null,null,null,{"$f":"catp","v":4}]
[3875,"Valastyan Josef","Secusigiu",8.5,2.25,"H",null,null,null,{"$f":"catp","v":4}]
[3912,"Lupu Gabriel Ionel","Piatra Neamt",8,2.25,"H",null,null,null,{"$f":"catp","v":4}]
[3935,"Cirsmar Stefan","Siret",7.8,2.25,"H",null,null,null,{"$f":"catp","v":4}]
[4044,"Cerciu Samir","Timisoara",6.4,2.25,"H",null,null,null,{"$f":"catp","v":4}]
[4141,"Farcas Carla","Dumbravita",5.5,2.25,"HF",null,null,null,{"$f":"catp","v":4}]
[4275,"Rusanovschi Adrian","Oradea",4.9000000000000004,2.25,"H",null,null,null,{"$f":"catp","v":4}]
[4323,"Bordeianu Alice","Bucuresti",4.5,2.25,"HF",null,null,null,{"$f":"catp","v":4}]
[4324,"Demian Elvira","Baia Mare",4.5,2.25,"HF",null,null,null,{"$f":"catp","v":4}]
[4325,"Jurchita Ovidiu","Mosnita Veche",4.5,2.25,"H",null,null,null,{"$f":"catp","v":4}]
[4326,"Mertic Alexandru","Targoviste",4.5,2.25,"H",null,null,null,{"$f":"catp","v":4}]
[4327,"Moraru Adrian","Sacele",4.5,2.25,"H",null,null,null,{"$f":"catp","v":4}]
[4376,"Grosu Octavian","Botosani",4,2.25,"H",null,null,null,{"$f":"catp","v":4}]
[4377,"Guleaeva Miseli","Moldova-Balti",4,2.25,"H",null,null,null,{"$f":"catp","v":4}]
[4378,"Vinchici Denis","Lipova",4,2.25,"H",null,null,null,{"$f":"catp","v":4}]
[4379,"Dobritoiu David","Floresti",4,2.25,"H",null,null,null,{"$f":"catp","v":4}]
[4380,"Mierlesteanu Ion","Slatina",4,2.25,"H",null,null,null,{"$f":"catp","v":4}]
[4381,"Tufeanu Ionut","Tulcea",4,2.25,"H",null,null,null,{"$f":"catp","v":4}]
[4382,"Archip Irinel","Bacau",4,2.25,"H",null,null,null,{"$f":"catp","v":4}]
[4423,"Matei Alexandru","Pitesti",3.9,2.25,"H",null,null,null,{"$f":"catp","v":4}]
[4424,"Briceag Bebe","Targoviste",3.9,2.25,"H",null,null,null,{"$f":"catp","v":4}]
[4425,"Costin Filip","Iasi",3.9,2.25,"H",null,null,null,{"$f":"catp","v":4}]
[4426,"Hamza Yanis","Targoviste",3.9,2.25,"H",null,null,null,{"$f":"catp","v":4}]
[4427,"Haiura Alexandru","Siret",3.9,2.25,"H",null,null,null,{"$f":"catp","v":4}]
[4428,"Pitu Ionut","Suceava",3.9,2.25,"H",null,null,null,{"$f":"catp","v":4}]
[4429,"Brassai Zoard","Reghin",3.9,2.25,"H",null,null,null,{"$f":"catp","v":4}]
[4557,"Corlan Gabriel","Bucuresti",3.4,2.25,"H",null,null,null,{"$f":"catp","v":4}]
[3928,"Maier Briana","Aiud",7.9,2.23,"HF",null,null,null,{"$f":"catp","v":4}]
[3469,"Vlaicu Ovidiu","Targu Mures",14.5,2.17,"H",null,null,null,{"$f":"catp","v":4}]
[3882,"Hirleata Andrei","Bucuresti",8.4,2.17,"H",null,null,null,{"$f":"catp","v":4}]
[3913,"Oprinca Mariana","Targu Mures",8,2.17,"HF",null,null,null,{"$f":"catp","v":4}]
[3914,"Petrus Madalina","Videle",8,2.17,"HF",null,null,null,{"$f":"catp","v":4}]
[3915,"Barberiu Codruta","Brasov",8,2.17,"HF",null,null,null,{"$f":"catp","v":4}]
[3929,"Dinescu Dan","Oradea",7.9,2.17,"H",null,null,null,{"$f":"catp","v":4}]
[3930,"Nemes Iasmina","Lunca Muresului",7.9,2.17,"HF",null,null,null,{"$f":"catp","v":4}]
[3956,"Stancila Luca","Iasi",7.5,2.17,"H",null,null,null,{"$f":"catp","v":4}]
[3957,"Bostan Maxim","Moldova-Cahul",7.5,2.17,"H",null,null,null,{"$f":"catp","v":4}]
[4001,"Caramitru Costin","Bucuresti",7,2.17,"H",null,null,null,{"$f":"catp","v":4}]
[4142,"Dumitriu David","Timisoara",5.5,2.17,"H",null,null,null,{"$f":"catp","v":4}]
[4155,"Lako Valentin","Targu Mures",5.4,2.17,"H",null,null,null,{"$f":"catp","v":4}]
[4156,"Lilea Edi","Targoviste",5.4,2.17,"H",null,null,null,{"$f":"catp","v":4}]
[3512,"Pal Norbert","Joseni",14,2.15,"H",null,null,null,{"$f":"catp","v":4}]
[3365,"Baciu Adrian","Giarmata",16.399999999999999,2.13,"H",null,null,null,{"$f":"catp","v":4}]
[3652,"Vass Richard","Sovata",11.5,2.13,"H",null,null,null,{"$f":"catp","v":4}]
[3799,"Pal Nandor","Miercurea Ciuc",9.4,2.13,"HJ",null,null,null,{"$f":"catp","v":4}]
[3958,"Ilie Toma","Ploiesti",7.5,2.13,"H",null,null,null,{"$f":"catp","v":4}]
[3513,"Luca Liviu Stefan","Bucuresti",14,2.12,"H",null,null,null,{"$f":"catp","v":4}]
[3227,"Faladau Madalina","Aiud",19,2,"HF",null,null,null,{"$f":"catp","v":4}]
[3228,"Maxim Ioana","Cluj Napoca",19,2,"HF",null,null,null,{"$f":"catp","v":4}]
[3542,"Csibi Razvan","Lunca Muresului",13.5,2,"H",null,null,null,{"$f":"catp","v":4}]
[3684,"Dumitrescu Anca","Timisoara",11,2,"HF",null,null,null,{"$f":"catp","v":4}]
[3763,"Caploiu Elena","Giarmata",10,2,"HF",null,null,null,{"$f":"catp","v":4}]
[3835,"Liculescu Vlad","Bucuresti",9,2,"H",null,null,null,{"$f":"catp","v":4}]
[3836,"Tulei Stefan","Iasi",9,2,"H",null,null,null,{"$f":"catp","v":4}]
[3876,"Coman Janina Elena","Brasov",8.5,2,"HF",null,null,null,{"$f":"catp","v":4}]
[3916,"Varga Bianca","Luna CJ",8,2,"HF",null,null,null,{"$f":"catp","v":4}]
[3917,"Filip Cezar","Brasov",8,2,"H",null,null,null,{"$f":"catp","v":4}]
[3918,"Turcu Nicusor","Iasi",8,2,"H",null,null,null,{"$f":"catp","v":4}]
[3959,"Badea Robert","Bucuresti",7.5,2,"H",null,null,null,{"$f":"catp","v":4}]
[4002,"Pop Vasile","Dej",7,2,"H",null,null,null,{"$f":"catp","v":4}]
[4003,"Spino Andrei","Bucuresti",7,2,"H",null,null,null,{"$f":"catp","v":4}]
[4004,"Vasincu Octavian Laurentiu","Iasi",7,2,"H",null,null,null,{"$f":"catp","v":4}]
[4005,"Iordache Alexandru","Bucuresti",7,2,"H",null,null,null,{"$f":"catp","v":4}]
[4006,"Stoica Denis Andrei","Alexandria",7,2,"H",null,null,null,{"$f":"catp","v":4}]
[4036,"Hoitan Daniel","Breaza",6.5,2,"H",null,null,null,{"$f":"catp","v":4}]
[4037,"Catinean Anda","Targu Mures",6.5,2,"HF",null,null,null,{"$f":"catp","v":4}]
[4038,"Rotaru Luca","Siret",6.5,2,"H",null,null,null,{"$f":"catp","v":4}]
[4090,"Vizitiu David","Botosani",6,2,"H",null,null,null,{"$f":"catp","v":4}]
[4091,"Tulei Marius","Iasi",6,2,"H",null,null,null,{"$f":"catp","v":4}]
[4092,"Paunescu Antonia","Giarmata",6,2,"HF",null,null,null,{"$f":"catp","v":4}]
[4143,"Nagy Kristof","Targu Mures",5.5,2,"H",null,null,null,{"$f":"catp","v":4}]
[4144,"Nita Darius","Videle",5.5,2,"H",null,null,null,{"$f":"catp","v":4}]
[4145,"Brassai Magor","Reghin",5.5,2,"H",null,null,null,{"$f":"catp","v":4}]
[4266,"Ghebaur Adi","Bucuresti",5,2,"H",null,null,null,{"$f":"catp","v":4}]
[4267,"Dirlau Roxana","Bucuresti",5,2,"HF",null,null,null,{"$f":"catp","v":4}]
[4268,"Petho Nikolett","Racosu de Sus",5,2,"HF",null,null,null,{"$f":"catp","v":4}]
[4269,"Luchian Sorin","Voinesti",5,2,"H",null,null,null,{"$f":"catp","v":4}]
[4270,"Matner Robert","Siret",5,2,"H",null,null,null,{"$f":"catp","v":4}]
[4271,"Teica Alexandru","Targu Jiu",5,2,"H",null,null,null,{"$f":"catp","v":4}]
[4328,"Dodon Vlad","Dej",4.5,2,"H",null,null,null,{"$f":"catp","v":4}]
[4329,"Savoaia Maria Sofia","Valea Lupului",4.5,2,"HF",null,null,null,{"$f":"catp","v":4}]
[4383,"Fazakas Antal","Suseni",4,2,"H",null,null,null,{"$f":"catp","v":4}]
[4384,"Gheorghe Constantin","Paulesti",4,2,"H",null,null,null,{"$f":"catp","v":4}]
[4385,"Zaharii Narcis","Falticeni",4,2,"H",null,null,null,{"$f":"catp","v":4}]
[4386,"Bujenita Elena","Galati",4,2,"HF",null,null,null,{"$f":"catp","v":4}]
[4387,"Besteala Andrei","Alexandria",4,2,"H",null,null,null,{"$f":"catp","v":4}]
[4388,"Mocanu Constantin","Muncel",4,2,"H",null,null,null,{"$f":"catp","v":4}]
[4389,"Caileanu Patrick","Sibiu",4,2,"H",null,null,null,{"$f":"catp","v":4}]
[4390,"Toma Andrei","Reghin",4,2,"H",null,null,null,{"$f":"catp","v":4}]
[4391,"Roman Raisa","Alexandria",4,2,"HF",null,null,null,{"$f":"catp","v":4}]
[4392,"Urs Lucian","Nasaud",4,2,"H",null,null,null,{"$f":"catp","v":4}]
[4393,"Iordachi Adrian Stanga","Adjud",4,2,"HW",null,null,null,{"$f":"catp","v":4}]
[4394,"Pricop Stefan","Suceava",4,2,"H",null,null,null,{"$f":"catp","v":4}]
[4395,"Grecu Costel","Harsova",4,2,"H",null,null,null,{"$f":"catp","v":4}]
[4396,"Termure Alvaro","Dobric",4,2,"H",null,null,null,{"$f":"catp","v":4}]
[4397,"Eftimie Nicolae","Slobozia",4,2,"H",null,null,null,{"$f":"catp","v":4}]
[4398,"Kadar Patricia","Baia Mare",4,2,"HF",null,null,null,{"$f":"catp","v":4}]
[4399,"Teodorescu Bogdan Stefan","Snagov",4,2,"H",null,null,null,{"$f":"catp","v":4}]
[4400,"Buica Filip","Hateg",4,2,"H",null,null,null,{"$f":"catp","v":4}]
[4401,"Mihalache Luca","Mogosesti",4,2,"H",null,null,null,{"$f":"catp","v":4}]
[4402,"Neculaes Antonio","Pascani",4,2,"H",null,null,null,{"$f":"catp","v":4}]
[4403,"Bleahu Luca","Tarnaveni",4,2,"H",null,null,null,{"$f":"catp","v":4}]
[4404,"Chiriac Catalin","Bucuresti",4,2,"H",null,null,null,{"$f":"catp","v":4}]
[4405,"Popa George","Bucuresti",4,2,"H",null,null,null,{"$f":"catp","v":4}]
[4406,"Bucur Andrei Nicolas","Buzau",4,2,"H",null,null,null,{"$f":"catp","v":4}]
[4407,"Tapu Andrei","Buzau",4,2,"H",null,null,null,{"$f":"catp","v":4}]
[4408,"Neagu Ana","Buzau",4,2,"HF",null,null,null,{"$f":"catp","v":4}]
[4409,"Dumitrescu David","Timisoara",4,2,"H",null,null,null,{"$f":"catp","v":4}]
[4410,"Guleac Sorin","Bucuresti",4,2,"H",null,null,null,{"$f":"catp","v":4}]
[4411,"Stanescu Petrut","Bucuresti",4,2,"H",null,null,null,{"$f":"catp","v":4}]
[4530,"Cangea Todor","Moldova-Cahul",3.5,2,"H",null,null,null,{"$f":"catp","v":4}]
[4531,"Popescu Cristina","Boldesti Scaeni",3.5,2,"HF",null,null,null,{"$f":"catp","v":4}]
[4532,"Popa Alexandra","Sibiu",3.5,2,"HF",null,null,null,{"$f":"catp","v":4}]
[4533,"Musat Tudor","Lipanesti",3.5,2,"H",null,null,null,{"$f":"catp","v":4}]
[4534,"Pop Alexandru","Viseu",3.5,2,"H",null,null,null,{"$f":"catp","v":4}]
[4535,"Berco Veaceslav","Suceava",3.5,2,"H",null,null,null,{"$f":"catp","v":4}]
[4536,"Hurduzeu Fanel","Armenis",3.5,2,"H",null,null,null,{"$f":"catp","v":4}]
[4537,"Seltea Alexandru","Targoviste",3.5,2,"H",null,null,null,{"$f":"catp","v":4}]
[4538,"Ruset Lucian","Targoviste",3.5,2,"H",null,null,null,{"$f":"catp","v":4}]
[4539,"Kurcsakovszki Hunor","Reghin",3.5,2,"H",null,null,null,{"$f":"catp","v":4}]
[4540,"Epureanu Alexandru","Timisoara",3.5,2,"H",null,null,null,{"$f":"catp","v":4}]
[4541,"Ursachi David","Bucuresti",3.5,2,"H",null,null,null,{"$f":"catp","v":4}]
[4542,"Gurita Ioana","Suceava",3.5,2,"HF",null,null,null,{"$f":"catp","v":4}]
[4543,"Zambor Marian Vlad","Reghin",3.5,2,"H",null,null,null,{"$f":"catp","v":4}]
[4544,"Mateiciuc Valentin","Putna",3.5,2,"H",null,null,null,{"$f":"catp","v":4}]
[4545,"Edwin Kristof","Lugoj",3.5,2,"H",null,null,null,{"$f":"catp","v":4}]
[4546,"Dumitrescu Norocel","Ploiesti",3.5,2,"H",null,null,null,{"$f":"catp","v":4}]
[4635,"Derzsi Gabor","Hunedoara",3,2,"H",null,null,null,{"$f":"catp","v":4}]
[4636,"Titiliuc Costel","Dersca",3,2,"H",null,null,null,{"$f":"catp","v":4}]
[4637,"Zaharia Danut","Braila",3,2,"H",null,null,null,{"$f":"catp","v":4}]
[4638,"Baias Calin","Floresti",3,2,"H",null,null,null,{"$f":"catp","v":4}]
[4639,"Tache Dumitru Cosmin","Bucuresti",3,2,"H",null,null,null,{"$f":"catp","v":4}]
[4640,"Stoica Alin","Brasov",3,2,"H",null,null,null,{"$f":"catp","v":4}]
[4641,"Puscas Gavril","Oradea",3,2,"H",null,null,null,{"$f":"catp","v":4}]
[4642,"Turcanu Amalia","Dumbravita",3,2,"HF",null,null,null,{"$f":"catp","v":4}]
[4643,"Herbei Tudor","Dumbravita",3,2,"H",null,null,null,{"$f":"catp","v":4}]
[4644,"Tulei Mihaela Evelina","Iasi",3,2,"HF",null,null,null,{"$f":"catp","v":4}]
[4645,"Chitic Mihai","Isaccea",3,2,"H",null,null,null,{"$f":"catp","v":4}]
[4646,"Chitic Gabriel","Isaccea",3,2,"H",null,null,null,{"$f":"catp","v":4}]
[4647,"Cupii Cezin","Constanta",3,2,"H",null,null,null,{"$f":"catp","v":4}]
[4648,"Cosma Darius","Cluj Napoca",3,2,"H",null,null,null,{"$f":"catp","v":4}]
[4800,"Zsok Arcadie","Deva",2,2,"H",null,null,null,{"$f":"catp","v":4}]
[4801,"Tonciu Mihai","Branesti",2,2,"H",null,null,null,{"$f":"catp","v":4}]
[4802,"Modirca Daniel","Ucraina",2,2,"H",null,null,null,{"$f":"catp","v":4}]
[4803,"Chivoiu Adrian","Comanesti",2,2,"H",null,null,null,{"$f":"catp","v":4}]
[4804,"Dirlea Ana","Aiud",2,2,"HF",null,null,null,{"$f":"catp","v":4}]
[4805,"Dan Adrian","Stremt",2,2,"H",null,null,null,{"$f":"catp","v":4}]
[4806,"Herdes Gabriel","Putna",2,2,"H",null,null,null,{"$f":"catp","v":4}]
[4807,"Caba Ciprian","Putna",2,2,"H",null,null,null,{"$f":"catp","v":4}]
[4808,"Ipate Bogdan","Pascani",2,2,"H",null,null,null,{"$f":"catp","v":4}]
[4809,"Dascalu Sergiu","Vorona",2,2,"H",null,null,null,{"$f":"catp","v":4}]
[4810,"Fadgyas Gyula","Sfantu Gheorghe",2,2,"H",null,null,null,{"$f":"catp","v":4}]
[4811,"Bucsa Eugen Marcel","Apahida",2,2,"H",null,null,null,{"$f":"catp","v":4}]
[4812,"Lantos Monica","Targu Mures",2,2,"HF",null,null,null,{"$f":"catp","v":4}]
[4813,"Zavaczcki Adolf","Viseu",2,2,"H",null,null,null,{"$f":"catp","v":4}]
[4814,"Gojkov Milan","Varset",2,2,"H",null,null,null,{"$f":"catp","v":4}]
[4815,"Marin Goran","Varset",2,2,"H",null,null,null,{"$f":"catp","v":4}]
[4816,"Szep Octavian","Nasaud",2,2,"H",null,null,null,{"$f":"catp","v":4}]
[4817,"Telecan Mircea Vasile","Apahida",2,2,"H",null,null,null,{"$f":"catp","v":4}]
[4818,"Savescu Mihai","Videle",2,2,"H",null,null,null,{"$f":"catp","v":4}]
[4819,"Gologan Vlad","Faurei",2,2,"H",null,null,null,{"$f":"catp","v":4}]
[4820,"Codreanu Delia","Vatra Dornei",2,2,"HF",null,null,null,{"$f":"catp","v":4}]
[4821,"Florean Mihai","Jidvei",2,2,"H",null,null,null,{"$f":"catp","v":4}]
[4822,"Caramalau Sofia","Galati",2,2,"HF",null,null,null,{"$f":"catp","v":4}]
[4823,"Lungu Efrem","Giarmata",2,2,"H",null,null,null,{"$f":"catp","v":4}]
[4824,"Cristea Gabriel","Straoane",2,2,"H",null,null,null,{"$f":"catp","v":4}]
[4825,"Enache Adrian Victor","Ploiesti",2,2,"H",null,null,null,{"$f":"catp","v":4}]
[4826,"Cont Mircea","Hunedoara",2,2,"H",null,null,null,{"$f":"catp","v":4}]
[4827,"Kovaci Stefan","Buhusi",2,2,"H",null,null,null,{"$f":"catp","v":4}]
[4828,"Kozi Zoltan Szabolcs","Brasov",2,2,"H",null,null,null,{"$f":"catp","v":4}]
[4829,"Ciobanu Andrei","Iasi",2,2,"H",null,null,null,{"$f":"catp","v":4}]
[4830,"Todea Ioan","Rasca",2,2,"H",null,null,null,{"$f":"catp","v":4}]
[4831,"Mara Cristina","Comanesti",2,2,"HF",null,null,null,{"$f":"catp","v":4}]
[4832,"Deaconu Lucian","Curtea de Arges",2,2,"H",null,null,null,{"$f":"catp","v":4}]
[4833,"Oancea Andrei","Curtea de Arges",2,2,"H",null,null,null,{"$f":"catp","v":4}]
[4834,"Lapadat Claudia","Hunedoara",2,2,"HF",null,null,null,{"$f":"catp","v":4}]
[4835,"Biris Alexandru","Sighisoara",2,2,"H",null,null,null,{"$f":"catp","v":4}]
[4836,"Teodorescu Ovidiu","Sighisoara",2,2,"H",null,null,null,{"$f":"catp","v":4}]
[4837,"Meyndt Alexander","Sighisoara",2,2,"H",null,null,null,{"$f":"catp","v":4}]
[4838,"Cotun Leo","Suceava",2,2,"H",null,null,null,{"$f":"catp","v":4}]
[4839,"Blaj Filip","Iasi",2,2,"H",null,null,null,{"$f":"catp","v":4}]
[4840,"Andras Robert","Hateg",2,2,"H",null,null,null,{"$f":"catp","v":4}]
[4841,"Pustianu Raul","Lunca Muresului",2,2,"H",null,null,null,{"$f":"catp","v":4}]
[4842,"Tirulnic Evgheni","Bucuresti",2,2,"H",null,null,null,{"$f":"catp","v":4}]
[4843,"Oprea Marian","Bucuresti",2,2,"H",null,null,null,{"$f":"catp","v":4}]
[4844,"Roman Marcel","Sebes",2,2,"H",null,null,null,{"$f":"catp","v":4}]
[4845,"Rosu David Mugurel","Comanesti",2,2,"H",null,null,null,{"$f":"catp","v":4}]
[4846,"Constantin Luca Andrei","Focsani",2,2,"H",null,null,null,{"$f":"catp","v":4}]
[4847,"Supciuc Apollinaria","Moldova-Balti",2,2,"HF",null,null,null,{"$f":"catp","v":4}]
[4848,"Chiriac Adrian","Bucuresti",2,2,"H",null,null,null,{"$f":"catp","v":4}]
[4849,"Ciobanu Sebastian","Mogosesti",2,2,"H",null,null,null,{"$f":"catp","v":4}]
[4850,"Maldaianu Stefan","Alexandria",2,2,"H",null,null,null,{"$f":"catp","v":4}]
[4851,"Dancu Luminita","Sibiu",2,2,"HF",null,null,null,{"$f":"catp","v":4}]
[4852,"Calpacci Olga","Moldova-Ceadir-Lunga",2,2,"HF",null,null,null,{"$f":"catp","v":4}]
[4853,"Deli Victoria","Moldova-Comrat",2,2,"HF",null,null,null,{"$f":"catp","v":4}]
[4854,"Albu Alexandra","Pascani",2,2,"HF",null,null,null,{"$f":"catp","v":4}]
[4855,"Anton Ioan","Constanta",2,2,"H",null,null,null,{"$f":"catp","v":4}]
[4856,"Anton Nicolae","Constanta",2,2,"H",null,null,null,{"$f":"catp","v":4}]
[4857,"Mihalache Antonia","Ludus",2,2,"HF",null,null,null,{"$f":"catp","v":4}]
[4858,"Viski Darius Andrei","Ludus",2,2,"H",null,null,null,{"$f":"catp","v":4}]
[4859,"Bordea Cristian","Giroc",2,2,"H",null,null,null,{"$f":"catp","v":4}]
[4860,"Mocanu Mihai","Halaucesti",2,2,"H",null,null,null,{"$f":"catp","v":4}]
[4861,"Marin Marcus","Agnita",2,2,"H",null,null,null,{"$f":"catp","v":4}]
[4862,"Joarza Constantin","Sibiu",2,2,"H",null,null,null,{"$f":"catp","v":4}]
[4863,"Oprea David","Constanta",2,2,"H",null,null,null,{"$f":"catp","v":4}]
[4864,"Tremurici Marian","Tulcea",2,2,"H",null,null,null,{"$f":"catp","v":4}]
[4865,"Platon Mihai","Jurilovca",2,2,"H",null,null,null,{"$f":"catp","v":4}]
[4866,"Nitu Adrian","Sibiu",2,2,"H",null,null,null,{"$f":"catp","v":4}]
[4867,"Galan Edoardo","Corocaesti SV",2,2,"H",null,null,null,{"$f":"catp","v":4}]
[4868,"Leonte Vlad","Suceava",2,2,"H",null,null,null,{"$f":"catp","v":4}]
[4869,"Pop Ionut","Cicarlau",2,2,"H",null,null,null,{"$f":"catp","v":4}]
[4870,"Motica Dumitru Ion","Cicarlau",2,2,"H",null,null,null,{"$f":"catp","v":4}]
[4871,"Aramescu Neculai","Harsova",2,2,"H",null,null,null,{"$f":"catp","v":4}]
[4872,"Serban Mircea","Harsova",2,2,"H",null,null,null,{"$f":"catp","v":4}]
[4873,"Sava Marian","Harsova",2,2,"H",null,null,null,{"$f":"catp","v":4}]
[4874,"Holban Ionut","Harsova",2,2,"H",null,null,null,{"$f":"catp","v":4}]
[4875,"Buzera Matei","Timisoara",2,2,"H",null,null,null,{"$f":"catp","v":4}]
[4876,"Costandache Narcis","Iasi",2,2,"H",null,null,null,{"$f":"catp","v":4}]
[4877,"Istrate Robert","Alexandria",2,2,"H",null,null,null,{"$f":"catp","v":4}]
[4878,"Wang Norman","Suceava",2,2,"H",null,null,null,{"$f":"catp","v":4}]
[4879,"Vasilache Rafael","Buhusi",2,2,"H",null,null,null,{"$f":"catp","v":4}]
[4880,"Buzdea Casian","Iasi",2,2,"H",null,null,null,{"$f":"catp","v":4}]
[4881,"Pustianu Lucas","Lunca Muresului",2,2,"H",null,null,null,{"$f":"catp","v":4}]
[4882,"Chiriac Alexandru","Bucuresti",2,2,"H",null,null,null,{"$f":"catp","v":4}]
[4883,"Trandafir Raul","Bucuresti",2,2,"H",null,null,null,{"$f":"catp","v":4}]
[4884,"Bratescu Alexandru","Bucuresti",2,2,"H",null,null,null,{"$f":"catp","v":4}]
[4885,"Ene Daniel","Bucuresti",2,2,"H",null,null,null,{"$f":"catp","v":4}]
[4886,"Ene Alexandru","Bucuresti",2,2,"H",null,null,null,{"$f":"catp","v":4}]
[4887,"Ciufudean Nicolae","Blaj",2,2,"H",null,null,null,{"$f":"catp","v":4}]
[4888,"Ignat Adrian","Topoloveni",2,2,"H",null,null,null,{"$f":"catp","v":4}]
[4889,"Vaduva Denis","Alexandria",2,2,"H",null,null,null,{"$f":"catp","v":4}]
[4890,"Ariciuc Deea","Suceava",2,2,"HF",null,null,null,{"$f":"catp","v":4}]
[4891,"Bukuresti Lorand","Sovata",2,2,"H",null,null,null,{"$f":"catp","v":4}]
[4892,"Biro Balazs","Ungaria",2,2,"H",null,null,null,{"$f":"catp","v":4}]
[4893,"Veress Andras","Sovata",2,2,"H",null,null,null,{"$f":"catp","v":4}]
[4894,"Chovan Peter","Ungaria",2,2,"H",null,null,null,{"$f":"catp","v":4}]
[4895,"Moldovan Marius","Slobozia",2,2,"H",null,null,null,{"$f":"catp","v":4}]
[4896,"Tentea Robert","Slobozia",2,2,"H",null,null,null,{"$f":"catp","v":4}]
[4897,"Grade Vladut","Slobozia",2,2,"H",null,null,null,{"$f":"catp","v":4}]
[4898,"Ciocirlan Victor","Tulcea",2,2,"H",null,null,null,{"$f":"catp","v":4}]
[4899,"Tonciu David","Bucuresti",2,2,"H",null,null,null,{"$f":"catp","v":4}]
[4900,"Dragoi Mihai","Bucuresti",2,2,"H",null,null,null,{"$f":"catp","v":4}]
[4901,"Caia Dan","Bicazu Ardelean",2,2,"H",null,null,null,{"$f":"catp","v":4}]
[4902,"Iova Rares","Giarmata",2,2,"H",null,null,null,{"$f":"catp","v":4}]
[4903,"Lungu Ana","Giarmata",2,2,"HF",null,null,null,{"$f":"catp","v":4}]
[4904,"Mihaila Aurelian","Urlati",2,2,"H",null,null,null,{"$f":"catp","v":4}]
[4905,"Filip Cezar","Sinaia",2,2,"H",null,null,null,{"$f":"catp","v":4}]
[4906,"Mateescu Eduard","Iordacheanu",2,2,"H",null,null,null,{"$f":"catp","v":4}]
[4907,"Ladar Andrei","Baia Mare",2,2,"H",null,null,null,{"$f":"catp","v":4}]
[4908,"Noveanu Alexandru","Baia Mare",2,2,"H",null,null,null,{"$f":"catp","v":4}]
[4909,"Petrovai Vasile","Baia Sprie",2,2,"H",null,null,null,{"$f":"catp","v":4}]
[4910,"Tara Radu","Cicarlau",2,2,"H",null,null,null,{"$f":"catp","v":4}]
[4911,"Lancea Nicolae","Focsani",2,2,"H",null,null,null,{"$f":"catp","v":4}]
[4912,"Dragu Ciprian","Tecuci",2,2,"H",null,null,null,{"$f":"catp","v":4}]
[4913,"Velisa Erhan Amet","Constanta",2,2,"H",null,null,null,{"$f":"catp","v":4}]
[4914,"Iancu Stefan","Slobozia",2,2,"H",null,null,null,{"$f":"catp","v":4}]
[4915,"Turcanu Gabriel","Harsova",2,2,"H",null,null,null,{"$f":"catp","v":4}]
[4916,"Chitroceanu David","Vaslui",2,2,"H",null,null,null,{"$f":"catp","v":4}]
[4917,"Bran Nicu","Brasov",2,2,"H",null,null,null,{"$f":"catp","v":4}]
[4918,"Pasconi David","Hateg",2,2,"H",null,null,null,{"$f":"catp","v":4}]
[4919,"Mitut Octavian","Pitesti",2,2,"H",null,null,null,{"$f":"catp","v":4}]
[4920,"Ardelean Andreea","Sibiu",2,2,"HF",null,null,null,{"$f":"catp","v":4}]
[4921,"Carabas Gabriel","Iasi",2,2,"H",null,null,null,{"$f":"catp","v":4}]
[4922,"Floroiu Laurentiu","Buzau",2,2,"H",null,null,null,{"$f":"catp","v":4}]
[4923,"Ciurea Gheorghe","Mogosesti Siret",2,2,"H",null,null,null,{"$f":"catp","v":4}]
[4924,"Vulpescu Cristiana","Iasi",2,2,"HF",null,null,null,{"$f":"catp","v":4}]
[4925,"Prevaritura Nenad","Varset",2,2,"H",null,null,null,{"$f":"catp","v":4}]
[4926,"Milunovic Andria","Belgrad",2,2,"H",null,null,null,{"$f":"catp","v":4}]
[4927,"Hantig Gina","Viseu",2,2,"HF",null,null,null,{"$f":"catp","v":4}]
[4928,"Negru Petru","Putna",2,2,"H",null,null,null,{"$f":"catp","v":4}]
[4929,"Aga Petrica","Putna",2,2,"H",null,null,null,{"$f":"catp","v":4}]
[4930,"Toma Vlad","Harsova",2,2,"H",null,null,null,{"$f":"catp","v":4}]
[4931,"Demian Dan","Corusu CJ",2,2,"H",null,null,null,{"$f":"catp","v":4}]
[4932,"PUSCOVICI Razvan","Sibiu",2,2,"H",null,null,null,{"$f":"catp","v":4}]
[4933,"Tapu Gabriel","Cluj Napoca",2,2,"H",null,null,null,{"$f":"catp","v":4}]
[4934,"Radu Gaspar","Giarmata",2,2,"H",null,null,null,{"$f":"catp","v":4}]
[4935,"Lascu Alexandru","Dumbravita",2,2,"H",null,null,null,{"$f":"catp","v":4}]
[4936,"Ghinescu Stefan","Ilfov",2,2,"H",null,null,null,{"$f":"catp","v":4}]
[4937,"Iorga Vlad","Bucuresti",2,2,"H",null,null,null,{"$f":"catp","v":4}]
[4938,"Popirlan Alin","Craiova",2,2,"H",null,null,null,{"$f":"catp","v":4}]
[4939,"Farcas Tudor","Cluj Napoca",2,2,"H",null,null,null,{"$f":"catp","v":4}]
[4940,"Suba Dan","Cluj Napoca",2,2,"H",null,null,null,{"$f":"catp","v":4}]
[4941,"Iacob Matei","Iasi",2,2,"H",null,null,null,{"$f":"catp","v":4}]
[4942,"Fritz Florin","Bucuresti",2,2,"H",null,null,null,{"$f":"catp","v":4}]
[4943,"Marii Lidia","Bucuresti",2,2,"HF",null,null,null,{"$f":"catp","v":4}]
[4944,"Kaitor Gabriel","Secusigiu",2,2,"H",null,null,null,{"$f":"catp","v":4}]
[4945,"Giurgiu Cristian","Arad",2,2,"H",null,null,null,{"$f":"catp","v":4}]
[4946,"Tripon Razvan","Arad",2,2,"H",null,null,null,{"$f":"catp","v":4}]
[4947,"Mera David Alexandru","Reghin",2,2,"H",null,null,null,{"$f":"catp","v":4}]
[4948,"Musat Marian Florin","Targu Mures",2,2,"H",null,null,null,{"$f":"catp","v":4}]
[4949,"Vrabie Laurentiu","Bucuresti",2,2,"H",null,null,null,{"$f":"catp","v":4}]
[4950,"Cebotari Constantin","Moldova-Singerei",2,2,"H",null,null,null,{"$f":"catp","v":4}]
[4951,"Vdovicenco Valentin","Moldova-Chisinau",2,2,"H",null,null,null,{"$f":"catp","v":4}]
[4952,"Mosnoi Dmitrii","Moldova-Chisinau",2,2,"H",null,null,null,{"$f":"catp","v":4}]
[4953,"Iacobciuc Roman","Moldova-Edinet",2,2,"H",null,null,null,{"$f":"catp","v":4}]
[4954,"Oman Emre","Constanta",2,2,"H",null,null,null,{"$f":"catp","v":4}]
[4955,"Tecsa Ioan","Stremt",2,2,"H",null,null,null,{"$f":"catp","v":4}]
[4956,"Soldan Samuel","Cajvana",2,2,"H",null,null,null,{"$f":"catp","v":4}]
[4957,"Balan Margareta","Brasov",2,2,"HF",null,null,null,{"$f":"catp","v":4}]
[4958,"Groza Sophia Ann","Fagaras",2,2,"HF",null,null,null,{"$f":"catp","v":4}]
[4959,"Dragne Andrei Dacian","Bucuresti",2,2,"H",null,null,null,{"$f":"catp","v":4}]
[4960,"Comaneci Denis Florin","Brasov",2,2,"H",null,null,null,{"$f":"catp","v":4}]
[4961,"Orga Vasile","Ludus",2,2,"H",null,null,null,{"$f":"catp","v":4}]
[4962,"Pavlov Razvan","Ludus",2,2,"H",null,null,null,{"$f":"catp","v":4}]
[4963,"Saulean Gavrila","Taureni",2,2,"H",null,null,null,{"$f":"catp","v":4}]
[4964,"Muresan Adrian","Taureni",2,2,"H",null,null,null,{"$f":"catp","v":4}]
[4965,"Iorga Robert Catalin","Limanu",2,2,"H",null,null,null,{"$f":"catp","v":4}]
[4966,"Iorga Eduard Alexandru","Limanu",2,2,"H",null,null,null,{"$f":"catp","v":4}]
[4967,"Ghita Alexandru","Mangalia",2,2,"H"]
[4968,"Mitrofan Rares","Curtea de Arges",2,2,"H",null,null,null,{"$f":"catp","v":4}]
[4969,"Temure Mario","Sannicolau Mare",2,2,"H",null,null,null,{"$f":"catp","v":4}]
[4970,"Chelan Ana","Moldova-Drochia",2,2,"HF",null,null,null,{"$f":"catp","v":4}]
[4971,"Gradinaru Ilie","Moldova-Drochia",2,2,"H",null,null,null,{"$f":"catp","v":4}]
[4972,"Gradinari Stefan","Moldova-Drochia",2,2,"H",null,null,null,{"$f":"catp","v":4}]
[4973,"Sargu Matvei","Moldova-Balti",2,2,"H",null,null,null,{"$f":"catp","v":4}]
[4974,"Maranceac Anna","Moldova-Balti",2,2,"HF",null,null,null,{"$f":"catp","v":4}]
[4975,"Sampi Franco","Buzau",2,2,"H",null,null,null,{"$f":"catp","v":4}]
[4976,"Tapu Mihai","Buzau",2,2,"H",null,null,null,{"$f":"catp","v":4}]
[4977,"Barsan Roberto Raul","Buzau",2,2,"H",null,null,null,{"$f":"catp","v":4}]
[4978,"Gita Danut","Galati",2,2,"H",null,null,null,{"$f":"catp","v":4}]
[4979,"Spiridonica Iulian","Cristesti",2,2,"H",null,null,null,{"$f":"catp","v":4}]
[4980,"Lazar Andrei","Targu Neamt",2,2,"H",null,null,null,{"$f":"catp","v":4}]
[4981,"Falos Teodor","Targu Neamt",2,2,"H",null,null,null,{"$f":"catp","v":4}]
[4982,"Cupse Vasile","Baia Mare",2,2,"H",null,null,null,{"$f":"catp","v":4}]
[4983,"Amariei Doru","Iasi",2,2,"H",null,null,null,{"$f":"catp","v":4}]
[4984,"Burcea Stefan Gabriel","Alexandria",2,2,"H",null,null,null,{"$f":"catp","v":4}]
[4985,"Duta Alexandru","Alexandria",2,2,"H",null,null,null,{"$f":"catp","v":4}]
[4986,"Manea Tudor","Bucuresti",2,2,"H",null,null,null,{"$f":"catp","v":4}]
[4987,"Pavel Cristian","Hunedoara",2,2,"H",null,null,null,{"$f":"catp","v":4}]
[4988,"Chirila Vlad","Bucuresti",2,2,"H",null,null,null,{"$f":"catp","v":4}]
[4989,"Catiru Stefan","Pascani",2,2,"H",null,null,null,{"$f":"catp","v":4}]
[4990,"Bretan Alexandru","Satu Mare",2,2,"H",null,null,null,{"$f":"catp","v":4}]
[4991,"Matei Razvan","Gherla",2,2,"H",null,null,null,{"$f":"catp","v":4}]
[4992,"Cocis Alberto","Gherla",2,2,"H",null,null,null,{"$f":"catp","v":4}]
[4993,"Iordache Mircea","Brazii de Sus",2,2,"H",null,null,null,{"$f":"catp","v":4}]
[4994,"Bolgarov Lucian Andrei","Bucuresti",2,2,"H",null,null,null,{"$f":"catp","v":4}]
[4995,"Nania Vlad","Vaslui",2,2,"H",null,null,null,{"$f":"catp","v":4}]
[4996,"Barjovanu Dragos","Piatra Neamt",2,2,"H",null,null,null,{"$f":"catp","v":4}]
[4997,"Stirbu Dragos Stefan","Negresti",2,2,"H",null,null,null,{"$f":"catp","v":4}]
[4998,"Onica Sorana Ana Maria","Vaslui",2,2,"HF",null,null,null,{"$f":"catp","v":4}]
[4999,"Lucaciu Razvan","Stei",2,2,"H",null,null,null,{"$f":"catp","v":4}]
[5000,"Radusi Irina","Oradea",2,2,"HF",null,null,null,{"$f":"catp","v":4}]
[5001,"Oltean Mihai","Sibiu",2,2,"H",null,null,null,{"$f":"catp","v":4}]
[5002,"Oprean Cezar","Cisnadie",2,2,"H",null,null,null,{"$f":"catp","v":4}]
[5003,"Ivan Cristian","Bucuresti",2,2,"H",null,null,null,{"$f":"catp","v":4}]
[5004,"Strimbu Adrian","Bucuresti",2,2,"H",null,null,null,{"$f":"catp","v":4}]
[5042,"Maxim Cristian","Bistrita",1.5,2,"HW",null,null,null,{"$f":"catp","v":4}]
[5043,"Birligea Gabriel","Baicoi",1.5,2,"H",null,null,null,{"$f":"catp","v":4}]
[5044,"Mialau Marius","Zalau",1.5,2,"H",null,null,null,{"$f":"catp","v":4}]
[5045,"Bocsan Ilie","Caransebes",1.5,2,"H",null,null,null,{"$f":"catp","v":4}]
[5046,"Mihail Dragos","Constanta",1.5,2,"H",null,null,null,{"$f":"catp","v":4}]
[5047,"Man Alexandru","Dej",1.5,2,"H",null,null,null,{"$f":"catp","v":4}]
[5048,"Antal Cornel","Oradea",1.5,2,"H",null,null,null,{"$f":"catp","v":4}]
[5049,"Ungureanu Constantin","Suceava",1.5,2,"H",null,null,null,{"$f":"catp","v":4}]
[5050,"Rusu Alexandru","Bistrita",1.5,2,"HW",null,null,null,{"$f":"catp","v":4}]
[5051,"Valeanu Viorel","Techirghiol",1.5,2,"H",null,null,null,{"$f":"catp","v":4}]
[5052,"Mezin Sorin","Resita",1.5,2,"H",null,null,null,{"$f":"catp","v":4}]
[5053,"Tanase Marian","Drobeta Tr Severin",1.5,2,"H",null,null,null,{"$f":"catp","v":4}]
[5054,"Klein Ferenc","Reghin",1.5,2,"H",null,null,null,{"$f":"catp","v":4}]
[5055,"Musteata Gabriel","Dumbraveni SV",1.5,2,"H",null,null,null,{"$f":"catp","v":4}]
[5056,"Pantelimon Alexandru","Ploiesti",1.5,2,"H",null,null,null,{"$f":"catp","v":4}]
[5057,"Barabas Victor","Suceava",1.5,2,"H",null,null,null,{"$f":"catp","v":4}]
[5058,"Ranca Mihai","Aiud",1.5,2,"H",null,null,null,{"$f":"catp","v":4}]
[5059,"Ticlete Stefan Cosmin","Drobeta Tr Severin",1.5,2,"H",null,null,null,{"$f":"catp","v":4}]
[5060,"Zorila Victor","Craiova",1.5,2,"H",null,null,null,{"$f":"catp","v":4}]
[5061,"Gal Csaby","Alesd",1.5,2,"H",null,null,null,{"$f":"catp","v":4}]
[5062,"Botusan Florin","Suceava",1.5,2,"H",null,null,null,{"$f":"catp","v":4}]
[5063,"Bartha Arpad","Micfalau",1.5,2,"H",null,null,null,{"$f":"catp","v":4}]
[5064,"Miron Gheorghe","Bucuresti",1.5,2,"H",null,null,null,{"$f":"catp","v":4}]
[5065,"Chesintan Luca","Lipova",1.5,2,"H",null,null,null,{"$f":"catp","v":4}]
[5066,"Ionescu Mihai Dragos","Bucuresti",1.5,2,"H",null,null,null,{"$f":"catp","v":4}]
[5067,"Milian Iulian","Hunedoara",1.5,2,"H",null,null,null,{"$f":"catp","v":4}]
[5068,"Chiriac Andrei","Bucuresti",1.5,2,"H",null,null,null,{"$f":"catp","v":4}]
[5069,"Anbrus Stefan","Bistrita",1.5,2,"H",null,null,null,{"$f":"catp","v":4}]
[5070,"Popa Luca","Floresti",1.5,2,"H",null,null,null,{"$f":"catp","v":4}]
[5071,"Bilibok Kristof","Gheorgheni",1.5,2,"H",null,null,null,{"$f":"catp","v":4}]
[5072,"Eparu Darius","Iasi",1.5,2,"H",null,null,null,{"$f":"catp","v":4}]
[5073,"Mos Florin","Arad",1.5,2,"H",null,null,null,{"$f":"catp","v":4}]
[5074,"Apetrei Constantin","Iasi",1.5,2,"H",null,null,null,{"$f":"catp","v":4}]
[5075,"Tipa Aurel Maxim","Solonet",1.5,2,"H",null,null,null,{"$f":"catp","v":4}]
[5076,"Sterie Cristian","Bucuresti",1.5,2,"H",null,null,null,{"$f":"catp","v":4}]
[5077,"Mircescu Alexandru","Bucuresti",1.5,2,"H",null,null,null,{"$f":"catp","v":4}]
[5078,"Paunas Raul","Navodari",1.5,2,"H",null,null,null,{"$f":"catp","v":4}]
[5079,"Pataki Albertina","Targu Mures",1.5,2,"HF",null,null,null,{"$f":"catp","v":4}]
[5080,"Negulescu Florin Adrian","Bucuresti",1.5,2,"H",null,null,null,{"$f":"catp","v":4}]
[5081,"Cimpei Alexandru","Bucuresti",1.5,2,"H",null,null,null,{"$f":"catp","v":4}]
[5082,"Alfred Knobel","Bucuresti",1.5,2,"H",null,null,null,{"$f":"catp","v":4}]
[5083,"Casu Marius","Bucuresti",1.5,2,"H",null,null,null,{"$f":"catp","v":4}]
[5084,"Tosu Alexandru","Floresti",1.5,2,"H",null,null,null,{"$f":"catp","v":4}]
[5085,"Nierges Ioan","Cluj Napoca",1.5,2,"H",null,null,null,{"$f":"catp","v":4}]
[5086,"Cristea Catalina","Bucuresti",1.5,2,"HF",null,null,null,{"$f":"catp","v":4}]
[5087,"Burcea Valentin","Bucuresti",1.5,2,"H",null,null,null,{"$f":"catp","v":4}]
[5088,"Puscas Gabriel","Oradea",1.5,2,"H",null,null,null,{"$f":"catp","v":4}]
[5089,"Manea Patricia","Baia Mare",1.5,2,"H",null,null,null,{"$f":"catp","v":4}]
[5090,"Ciubotaru Bogdan Florin","Bucuresti",1.5,2,"H",null,null,null,{"$f":"catp","v":4}]
[5091,"Sisak Francisc","Brasov",1.5,2,"H",null,null,null,{"$f":"catp","v":4}]
[5092,"Ciocoiu Alexandru","Brasov",1.5,2,"H",null,null,null,{"$f":"catp","v":4}]
[5093,"Andries Cristina","Brasov",1.5,2,"HF",null,null,null,{"$f":"catp","v":4}]
[5094,"Paris Denis","Navodari",1.5,2,"H",null,null,null,{"$f":"catp","v":4}]
[5095,"Danca Cezar","Navodari",1.5,2,"H",null,null,null,{"$f":"catp","v":4}]
[5096,"Mosteanu Luca","Navodari",1.5,2,"H",null,null,null,{"$f":"catp","v":4}]
[5097,"Simionov Eduard","Navodari",1.5,2,"H",null,null,null,{"$f":"catp","v":4}]
[5098,"Feraru Nicolas Cezar","Navodari",1.5,2,"H",null,null,null,{"$f":"catp","v":4}]
[5099,"Lungeanu Cezar","Targoviste",1.5,2,"H",null,null,null,{"$f":"catp","v":4}]
[5100,"Vasile Cristian","Bucuresti",1.5,2,"H",null,null,null,{"$f":"catp","v":4}]
[5101,"Radulescu Fredy Romeo","Bucuresti",1.5,2,"H",null,null,null,{"$f":"catp","v":4}]
[5102,"Railean Robert","Moldova-Balti",1.5,2,"H",null,null,null,{"$f":"catp","v":4}]
[5103,"Dorner Thomas","Germania",1.5,2,"H",null,null,null,{"$f":"catp","v":4}]
[5104,"Nanu Ingrid","Botosani",1.5,2,"HF",null,null,null,{"$f":"catp","v":4}]
[5105,"Borod George","Stei",1.5,2,"H",null,null,null,{"$f":"catp","v":4}]
[5106,"Garciu Iulian","Balotesti",1.5,2,"H",null,null,null,{"$f":"catp","v":4}]
[5107,"Receanu Cristi","Bucuresti",1.5,2,"H",null,null,null,{"$f":"catp","v":4}]
[5108,"Ticleanu Loredana","Craiova",1.5,2,"HF",null,null,null,{"$f":"catp","v":4}]
[5109,"Zilahi Aba","Targu Mures",1.5,2,"H",null,null,null,{"$f":"catp","v":4}]
[5110,"Tataru Ionut Alexandru","Ploiesti",1.5,2,"H",null,null,null,{"$f":"catp","v":4}]
[5111,"Zainea George","Soimari",1.5,2,"H",null,null,null,{"$f":"catp","v":4}]
[5112,"Leonte Andrei","Cluj Napoca",1.5,2,"H",null,null,null,{"$f":"catp","v":4}]
[5113,"Cristian Bogdan","Timisoara",1.5,2,"H",null,null,null,{"$f":"catp","v":4}]
[5114,"Munteanu Bogdan","Brasov",1.5,2,"H",null,null,null,{"$f":"catp","v":4}]
[5115,"Poplahov Alexandru","Brasov",1.5,2,"H",null,null,null,{"$f":"catp","v":4}]
[5116,"Baran Angelo","Aiud",1.5,2,"H",null,null,null,{"$f":"catp","v":4}]
[5117,"Ionescu Alexandru","Cluj Napoca",1.5,2,"H",null,null,null,{"$f":"catp","v":4}]
[5118,"Mihaila Petru","Hunedoara",1.5,2,"H",null,null,null,{"$f":"catp","v":4}]
[5119,"Rat Flavius","Sebis",1.5,2,"H",null,null,null,{"$f":"catp","v":4}]
[5120,"Botar Szilard","Miercurea Ciuc",1.5,2,"H",null,null,null,{"$f":"catp","v":4}]
[5121,"Karda Szilard","Tomesti",1.5,2,"H",null,null,null,{"$f":"catp","v":4}]
[5122,"Poparlan Alin","Craiova",1.5,2,"H",null,null,null,{"$f":"catp","v":4}]
[5123,"Dima George","Gura Ialomitei",1.5,2,"H",null,null,null,{"$f":"catp","v":4}]
[5124,"Borbely Gabi","Bucuresti",1.5,2,"H",null,null,null,{"$f":"catp","v":4}]
[5125,"Avram Claudiu","Feleacu",1.5,2,"H",null,null,null,{"$f":"catp","v":4}]
[5126,"Sule Patrik","Oradea",1.5,2,"H",null,null,null,{"$f":"catp","v":4}]
[5127,"Ardelean Catalin","Oradea",1.5,2,"H",null,null,null,{"$f":"catp","v":4}]
[5128,"Avram Roberto","Bucuresti",1.5,2,"H",null,null,null,{"$f":"catp","v":4}]
[5129,"Marta Tudor","Cluj Napoca",1.5,2,"H",null,null,null,{"$f":"catp","v":4}]
[5130,"Istrate Cristian","Suceava",1.5,2,"H",null,null,null,{"$f":"catp","v":4}]
[5131,"Butnaru Ionut","Iasi",1.5,2,"H",null,null,null,{"$f":"catp","v":4}]
[5132,"Varga Alex","Gherla",1.5,2,"H",null,null,null,{"$f":"catp","v":4}]
[5133,"Smarandache Andra Maria","Craiova",1.5,2,"HF",null,null,null,{"$f":"catp","v":4}]
[5134,"Popa Denis","Craiova",1.5,2,"H",null,null,null,{"$f":"catp","v":4}]
[5135,"Daroi Valentin","Ilfov",1.5,2,"H",null,null,null,{"$f":"catp","v":4}]
[5136,"Pascu Alexandru","Seleus",1.5,2,"H",null,null,null,{"$f":"catp","v":4}]
[5137,"Schule Patrik","Oradea",1.5,2,"H",null,null,null,{"$f":"catp","v":4}]
[5138,"Hanganu Petru","Iasi",1.5,2,"H",null,null,null,{"$f":"catp","v":4}]
[5139,"Ciomaga Andrei","Iasi",1.5,2,"H",null,null,null,{"$f":"catp","v":4}]
[5140,"Neagoe Iulian","Timisoara",1.5,2,"H",null,null,null,{"$f":"catp","v":4}]
[5141,"Florescu Florin","Timisoara",1.5,2,"H",null,null,null,{"$f":"catp","v":4}]
[5142,"Todorut Catalin","Arad",1.5,2,"H",null,null,null,{"$f":"catp","v":4}]
[5143,"Butnaru Alexandru","Oradea",1.5,2,"H",null,null,null,{"$f":"catp","v":4}]
[5144,"Samarghitan Luca","Ungheni",1.5,2,"H",null,null,null,{"$f":"catp","v":4}]
[5145,"Delu Marian","Hunedoara",1.5,2,"H",null,null,null,{"$f":"catp","v":4}]
[5146,"Zhang Shengyong","China",1.5,2,"H",null,null,null,{"$f":"catp","v":4}]
[5147,"Mocanu Dragos","Bucuresti",1.5,2,"H",null,null,null,{"$f":"catp","v":4}]
[5148,"Ceaca Lucian","Lugoj",1.5,2,"H",null,null,null,{"$f":"catp","v":4}]
[5149,"Musteata Gabriel","Suceava",1.5,2,"H",null,null,null,{"$f":"catp","v":4}]
[5150,"Apetrei Darius","Suceava",1.5,2,"H",null,null,null,{"$f":"catp","v":4}]
[5151,"Laslau Sabin","Suceava",1.5,2,"H",null,null,null,{"$f":"catp","v":4}]
[5152,"Oniga Catalin","Dej",1.5,2,"H",null,null,null,{"$f":"catp","v":4}]
[5153,"Kovacs Alexandru","Oradea",1.5,2,"H",null,null,null,{"$f":"catp","v":4}]
[5154,"Czegenyi Raymond","Oradea",1.5,2,"H",null,null,null,{"$f":"catp","v":4}]
[5155,"Zorlentan Alexandru Andrei","Domnesti",1.5,2,"H",null,null,null,{"$f":"catp","v":4}]
[5156,"Takacs Kalman Jr","Fantanele",1.5,2,"H",null,null,null,{"$f":"catp","v":4}]
[5157,"Irimiea Maria","Moinesti",1.5,2,"HF",null,null,null,{"$f":"catp","v":4}]
[5158,"Ciobanu Andra","Moinesti",1.5,2,"HF",null,null,null,{"$f":"catp","v":4}]
[5159,"Muresan Vasile","Maieru",1.5,2,"H",null,null,null,{"$f":"catp","v":4}]
[5160,"Hategan Tudor","Alba Iulia",1.5,2,"H",null,null,null,{"$f":"catp","v":4}]
[5161,"Kolumban Kristof","Targu Mures",1.5,2,"H",null,null,null,{"$f":"catp","v":4}]
[5162,"Cordaro Samuel","Bucuresti",1.5,2,"H",null,null,null,{"$f":"catp","v":4}]
[5163,"Moroiu Marius Robert","Bucuresti",1.5,2,"H",null,null,null,{"$f":"catp","v":4}]
[5164,"Hindli Patric","Floresti",1.5,2,"H",null,null,null,{"$f":"catp","v":4}]
[5165,"Florea Alin","Popesti Leordeni",1.5,2,"H",null,null,null,{"$f":"catp","v":4}]
[5166,"Lapadat Andrei","Resita",1.5,2,"H",null,null,null,{"$f":"catp","v":4}]
[5167,"Sular Ilie Daniel","Batos",1.5,2,"H",null,null,null,{"$f":"catp","v":4}]
[5168,"Dragan Sofia","Braila",1.5,2,"HF",null,null,null,{"$f":"catp","v":4}]
[5169,"Vaszi Bernard","Santimbru",1.5,2,"H",null,null,null,{"$f":"catp","v":4}]
[5170,"Kolumban Arpad","Santimbru",1.5,2,"H",null,null,null,{"$f":"catp","v":4}]
[5171,"Bodor Ildiko","Jigodin",1.5,2,"HF",null,null,null,{"$f":"catp","v":4}]
[5172,"Linoiu Stefania","Constanta",1.5,2,"HF",null,null,null,{"$f":"catp","v":4}]
[5173,"Ilie Alexandru","Galati",1.5,2,"H",null,null,null,{"$f":"catp","v":4}]
[5174,"Ungureanu Cristi","Botosani",1.5,2,"H",null,null,null,{"$f":"catp","v":4}]
[6001,null,null,0,0,"",null,null,null,{"$f":"catp","v":9}]
[6002,null,null,0,0,"",null,null,null,{"$f":"catp","v":9}]
[6003,null,null,0,0,"",null,null,null,{"$f":"catp","v":9}]
[6004,null,null,0,0,"",null,null,null,{"$f":"catp","v":9}]
[6005,null,null,0,0,"",null,null,null,{"$f":"catp","v":9}]
[6006,null,null,0,0,"",null,null,null,{"$f":"catp","v":9}]
[6007,null,null,0,0,"",null,null,null,{"$f":"catp","v":9}]
[6008,null,null,0,0,"",null,null,null,{"$f":"catp","v":9}]
[6009,null,null,0,0,"",null,null,null,{"$f":"catp","v":9}]
[6010,null,null,0,0,"",null,null,null,{"$f":"catp","v":9}]
[6011,null,null,0,0,"",null,null,null,{"$f":"catp","v":9}]
[6012,null,null,0,0,"",null,null,null,{"$f":"catp","v":9}]
[6013,null,null,0,0,"",null,null,null,{"$f":"catp","v":9}]
[6014,null,null,0,0,"",null,null,null,{"$f":"catp","v":9}]
[6015,null,null,0,0,"",null,null,null,{"$f":"catp","v":9}]
[6016,null,null,0,0,"",null,null,null,{"$f":"catp","v":9}]
[6017,null,null,0,0,"",null,null,null,{"$f":"catp","v":9}]
[6018,null,null,0,0,"",null,null,null,{"$f":"catp","v":9}]
[6019,null,null,0,0,"",null,null,null,{"$f":"catp","v":9}]
[6020,null,null,0,0,"",null,null,null,{"$f":"catp","v":9}]
[6021,null,null,0,0,"",null,null,null,{"$f":"catp","v":9}]
[6022,null,null,0,0,"",null,null,null,{"$f":"catp","v":9}]
[6023,null,null,0,0,"",null,null,null,{"$f":"catp","v":9}]
[6024,null,null,0,0,"",null,null,null,{"$f":"catp","v":9}]
[6025,null,null,0,0,"",null,null,null,{"$f":"catp","v":9}]
[6026,null,null,0,0,"",null,null,null,{"$f":"catp","v":9}]
[6027,null,null,0,0,"",null,null,null,{"$f":"catp","v":9}]
[6028,null,null,0,0,"",null,null,null,{"$f":"catp","v":9}]
[6029,null,null,0,0,"",null,null,null,{"$f":"catp","v":9}]
[6030,null,null,0,0,"",null,null,null,{"$f":"catp","v":9}]
[6031,null,null,0,0,"",null,null,null,{"$f":"catp","v":9}]
[6032,null,null,0,0,"",null,null,null,{"$f":"catp","v":9}]
[6033,null,null,0,0,"",null,null,null,{"$f":"catp","v":9}]
[6034,null,null,0,0,"",null,null,null,{"$f":"catp","v":9}]
[6035,null,null,0,0,"",null,null,null,{"$f":"catp","v":9}]
[6036,null,null,0,0,"",null,null,null,{"$f":"catp","v":9}]
[6037,null,null,0,0,"",null,null,null,{"$f":"catp","v":9}]
[6038,null,null,0,0,"",null,null,null,{"$f":"catp","v":9}]
[6039,null,null,0,0,"",null,null,null,{"$f":"catp","v":9}]
[6040,null,null,0,0,"",null,null,null,{"$f":"catp","v":9}]
[6041,null,null,0,0,"",null,null,null,{"$f":"catp","v":9}]
[6042,null,null,0,0,"",null,null,null,{"$f":"catp","v":9}]
[6043,null,null,0,0,"",null,null,null,{"$f":"catp","v":9}]
[6044,null,null,0,0,"",null,null,null,{"$f":"catp","v":9}]
[6045,null,null,0,0,"",null,null,null,{"$f":"catp","v":9}]
[6046,null,null,0,0,"",null,null,null,{"$f":"catp","v":9}]
[6047,null,null,0,0,"",null,null,null,{"$f":"catp","v":9}]
[6048,null,null,0,0,"",null,null,null,{"$f":"catp","v":9}]
[6049,null,null,0,0,"",null,null,null,{"$f":"catp","v":9}]
[6050,null,null,0,0,"",null,null,null,{"$f":"catp","v":9}]
[6051,null,null,0,0,"",null,null,null,{"$f":"catp","v":9}]
[6052,null,null,0,0,"",null,null,null,{"$f":"catp","v":9}]
[6053,null,null,0,0,"",null,null,null,{"$f":"catp","v":9}]
[6054,null,null,0,0,"",null,null,null,{"$f":"catp","v":9}]
[6055,null,null,0,0,"",null,null,null,{"$f":"catp","v":9}]
[6056,null,null,0,0,"",null,null,null,{"$f":"catp","v":9}]
[6057,null,null,0,0,"",null,null,null,{"$f":"catp","v":9}]
[6058,null,null,0,0,"",null,null,null,{"$f":"catp","v":9}]
[6059,null,null,0,0,"",null,null,null,{"$f":"catp","v":9}]
[6060,null,null,0,0,"",null,null,null,{"$f":"catp","v":9}]
[6061,null,null,0,0,"",null,null,null,{"$f":"catp","v":9}]
[6062,null,null,0,0,"",null,null,null,{"$f":"catp","v":9}]
[6063,null,null,0,0,"",null,null,null,{"$f":"catp","v":9}]
[6064,null,null,0,0,"",null,null,null,{"$f":"catp","v":9}]
[6065,null,null,0,0,"",null,null,null,{"$f":"catp","v":9}]
[6066,null,null,0,0,"",null,null,null,{"$f":"catp","v":9}]
[6067,null,null,0,0,"",null,null,null,{"$f":"catp","v":9}]
[6068,null,null,0,0,"",null,null,null,{"$f":"catp","v":9}]
[6069,null,null,0,0,"",null,null,null,{"$f":"catp","v":9}]
[6070,null,null,0,0,"",null,null,null,{"$f":"catp","v":9}]
[6071,null,null,0,0,"",null,null,null,{"$f":"catp","v":9}]
[6072,null,null,0,0,"",null,null,null,{"$f":"catp","v":9}]
[6073,null,null,0,0,"",null,null,null,{"$f":"catp","v":9}]
[6074,null,null,0,0,"",null,null,null,{"$f":"catp","v":9}]
[6075,null,null,0,0,"",null,null,null,{"$f":"catp","v":9}]
[6076,null,null,0,0,"",null,null,null,{"$f":"catp","v":9}]
[6077,null,null,0,0,"",null,null,null,{"$f":"catp","v":9}]
[6078,null,null,0,0,"",null,null,null,{"$f":"catp","v":9}]
[6079,null,null,0,0,"",null,null,null,{"$f":"catp","v":9}]
[6080,null,null,0,0,"",null,null,null,{"$f":"catp","v":9}]
[6081,null,null,0,0,"",null,null,null,{"$f":"catp","v":9}]
[6082,null,null,0,0,"",null,null,null,{"$f":"catp","v":9}]
[6083,null,null,0,0,"",null,null,null,{"$f":"catp","v":9}]
[6084,null,null,0,0,"",null,null,null,{"$f":"catp","v":9}]
[6085,null,null,0,0,"",null,null,null,{"$f":"catp","v":9}]
[6086,null,null,0,0,"",null,null,null,{"$f":"catp","v":9}]
[6087,null,null,0,0,"",null,null,null,{"$f":"catp","v":9}]
[6088,null,null,0,0,"",null,null,null,{"$f":"catp","v":9}]
[6089,null,null,0,0,"",null,null,null,{"$f":"catp","v":9}]
[6090,null,null,0,0,"",null,null,null,{"$f":"catp","v":9}]
[6091,null,null,0,0,"",null,null,null,{"$f":"catp","v":9}]
[6092,null,null,0,0,"",null,null,null,{"$f":"catp","v":9}]
[6093,null,null,0,0,"",null,null,null,{"$f":"catp","v":9}]
[6094,null,null,0,0,"",null,null,null,{"$f":"catp","v":9}]
[6095,null,null,0,0,"",null,null,null,{"$f":"catp","v":9}]
[6096,null,null,0,0,"",null,null,null,{"$f":"catp","v":9}]
[6097,null,null,0,0,"",null,null,null,{"$f":"catp","v":9}]
[6098,null,null,0,0,"",null,null,null,{"$f":"catp","v":9}]
[6099,null,null,0,0,"",null,null,null,{"$f":"catp","v":9}]
[6100,null,null,0,0,"",null,null,null,{"$f":"catp","v":9}]
[6101,null,null,0,0,"",null,null,null,{"$f":"catp","v":9}]
[6102,null,null,0,0,"",null,null,null,{"$f":"catp","v":9}]
[6103,null,null,0,0,"",null,null,null,{"$f":"catp","v":9}]
[6104,null,null,0,0,"",null,null,null,{"$f":"catp","v":9}]
[6105,null,null,0,0,"",null,null,null,{"$f":"catp","v":9}]
[6106,null,null,0,0,"",null,null,null,{"$f":"catp","v":9}]
[6107,null,null,0,0,"",null,null,null,{"$f":"catp","v":9}]
[6108,null,null,0,0,"",null,null,null,{"$f":"catp","v":9}]
[6109,null,null,0,0,"",null,null,null,{"$f":"catp","v":9}]
[6110,null,null,0,0,"",null,null,null,{"$f":"catp","v":9}]
[6111,null,null,0,0,"",null,null,null,{"$f":"catp","v":9}]
[6112,null,null,0,0,"",null,null,null,{"$f":"catp","v":9}]
[6113,null,null,0,0,"",null,null,null,{"$f":"catp","v":9}]
[6114,null,null,0,0,"",null,null,null,{"$f":"catp","v":9}]
[6115,null,null,0,0,"",null,null,null,{"$f":"catp","v":9}]
[6116,null,null,0,0,"",null,null,null,{"$f":"catp","v":9}]
[6117,null,null,0,0,"",null,null,null,{"$f":"catp","v":9}]
[6118,null,null,0,0,"",null,null,null,{"$f":"catp","v":9}]
[6119,null,null,0,0,"",null,null,null,{"$f":"catp","v":9}]
[6120,null,null,0,0,"",null,null,null,{"$f":"catp","v":9}]
[6121,null,null,0,0,"",null,null,null,{"$f":"catp","v":9}]
[6122,null,null,0,0,"",null,null,null,{"$f":"catp","v":9}]
[6123,null,null,0,0,"",null,null,null,{"$f":"catp","v":9}]
[6124,null,null,0,0,"",null,null,null,{"$f":"catp","v":9}]
[6125,null,null,0,0,"",null,null,null,{"$f":"catp","v":9}]
[6126,null,null,0,0,"",null,null,null,{"$f":"catp","v":9}]
[6127,null,null,0,0,"",null,null,null,{"$f":"catp","v":9}]
[6128,null,null,0,0,"",null,null,null,{"$f":"catp","v":9}]
[6129,null,null,0,0,"",null,null,null,{"$f":"catp","v":9}]
[6130,null,null,0,0,"",null,null,null,{"$f":"catp","v":9}]
[6131,null,null,0,0,"",null,null,null,{"$f":"catp","v":9}]
[6132,null,null,0,0,"",null,null,null,{"$f":"catp","v":9}]
[6133,null,null,0,0,"",null,null,null,{"$f":"catp","v":9}]
[6134,null,null,0,0,"",null,null,null,{"$f":"catp","v":9}]
[6135,null,null,0,0,"",null,null,null,{"$f":"catp","v":9}]
[6136,null,null,0,0,"",null,null,null,{"$f":"catp","v":9}]
[6137,null,null,0,0,"",null,null,null,{"$f":"catp","v":9}]
[6138,null,null,0,0,"",null,null,null,{"$f":"catp","v":9}]
[6139,null,null,0,0,"",null,null,null,{"$f":"catp","v":9}]
[6140,null,null,0,0,"",null,null,null,{"$f":"catp","v":9}]
[6141,null,null,0,0,"",null,null,null,{"$f":"catp","v":9}]
[6142,null,null,0,0,"",null,null,null,{"$f":"catp","v":9}]
[6143,null,null,0,0,"",null,null,null,{"$f":"catp","v":9}]
[6144,null,null,0,0,"",null,null,null,{"$f":"catp","v":9}]
[6145,null,null,0,0,"",null,null,null,{"$f":"catp","v":9}]
[6146,null,null,0,0,"",null,null,null,{"$f":"catp","v":9}]
[6147,null,null,0,0,"",null,null,null,{"$f":"catp","v":9}]
[6148,null,null,0,0,"",null,null,null,{"$f":"catp","v":9}]
[6149,null,null,0,0,"",null,null,null,{"$f":"catp","v":9}]
[6150,null,null,0,0,"",null,null,null,{"$f":"catp","v":9}]
[6151,null,null,0,0,"",null,null,null,{"$f":"catp","v":9}]
[6152,null,null,0,0,"",null,null,null,{"$f":"catp","v":9}]
[6153,null,null,0,0,"",null,null,null,{"$f":"catp","v":9}]
[6154,null,null,0,0,"",null,null,null,{"$f":"catp","v":9}]
[6155,null,null,0,0,"",null,null,null,{"$f":"catp","v":9}]
[6156,null,null,0,0,"",null,null,null,{"$f":"catp","v":9}]
[6157,null,null,0,0,"",null,null,null,{"$f":"catp","v":9}]
[6158,null,null,0,0,"",null,null,null,{"$f":"catp","v":9}]
[6159,null,null,0,0,"",null,null,null,{"$f":"catp","v":9}]
[6160,null,null,0,0,"",null,null,null,{"$f":"catp","v":9}]
[6161,null,null,0,0,"",null,null,null,{"$f":"catp","v":9}]
[6162,null,null,0,0,"",null,null,null,{"$f":"catp","v":9}]
[6163,null,null,0,0,"",null,null,null,{"$f":"catp","v":9}]
[6164,null,null,0,0,"",null,null,null,{"$f":"catp","v":9}]
[6165,null,null,0,0,"",null,null,null,{"$f":"catp","v":9}]
[6166,null,null,0,0,"",null,null,null,{"$f":"catp","v":9}]
[6167,null,null,0,0,"",null,null,null,{"$f":"catp","v":9}]
[6168,null,null,0,0,"",null,null,null,{"$f":"catp","v":9}]
[6169,null,null,0,0,"",null,null,null,{"$f":"catp","v":9}]
[6170,null,null,0,0,"",null,null,null,{"$f":"catp","v":9}]
[6171,null,null,0,0,"",null,null,null,{"$f":"catp","v":9}]
[6172,null,null,0,0,"",null,null,null,{"$f":"catp","v":9}]
[6173,null,null,0,0,"",null,null,null,{"$f":"catp","v":9}]
[6174,null,null,0,0,"",null,null,null,{"$f":"catp","v":9}]
[6175,null,null,0,0,"",null,null,null,{"$f":"catp","v":9}]
[6176,null,null,0,0,"",null,null,null,{"$f":"catp","v":9}]
[6177,null,null,0,0,"",null,null,null,{"$f":"catp","v":9}]
[6178,null,null,0,0,"",null,null,null,{"$f":"catp","v":9}]
[6179,null,null,0,0,"",null,null,null,{"$f":"catp","v":9}]
[6180,null,null,0,0,"",null,null,null,{"$f":"catp","v":9}]
[6181,null,null,0,0,"",null,null,null,{"$f":"catp","v":9}]
[6182,null,null,0,0,"",null,null,null,{"$f":"catp","v":9}]
[6183,null,null,0,0,"",null,null,null,{"$f":"catp","v":9}]
[6184,null,null,0,0,"",null,null,null,{"$f":"catp","v":9}]
[6185,null,null,0,0,"",null,null,null,{"$f":"catp","v":9}]
[6186,null,null,0,0,"",null,null,null,{"$f":"catp","v":9}]
[6187,null,null,0,0,"",null,null,null,{"$f":"catp","v":9}]
[6188,null,null,0,0,"",null,null,null,{"$f":"catp","v":9}]
[6189,null,null,0,0,"",null,null,null,{"$f":"catp","v":9}]
[6190,null,null,0,0,"",null,null,null,{"$f":"catp","v":9}]
[6191,null,null,0,0,"",null,null,null,{"$f":"catp","v":9}]
[6192,null,null,0,0,"",null,null,null,{"$f":"catp","v":9}]
[6193,null,null,0,0,"",null,null,null,{"$f":"catp","v":9}]
[6194,null,null,0,0,"",null,null,null,{"$f":"catp","v":9}]
[6195,null,null,0,0,"",null,null,null,{"$f":"catp","v":9}]
[6196,null,null,0,0,"",null,null,null,{"$f":"catp","v":9}]
[6197,null,null,0,0,"",null,null,null,{"$f":"catp","v":9}]
[6198,null,null,0,0,"",null,null,null,{"$f":"catp","v":9}]
[6199,null,null,0,0,"",null,null,null,{"$f":"catp","v":9}]
[6200,null,null,0,0,"",null,null,null,{"$f":"catp","v":9}]
[6201,null,null,0,0,"",null,null,null,{"$f":"catp","v":9}]
[6202,null,null,0,0,"",null,null,null,{"$f":"catp","v":9}]
[6203,null,null,0,0,"",null,null,null,{"$f":"catp","v":9}]
[6204,null,null,0,0,"",null,null,null,{"$f":"catp","v":9}]
[6205,null,null,0,0,"",null,null,null,{"$f":"catp","v":9}]
[6206,null,null,0,0,"",null,null,null,{"$f":"catp","v":9}]
[6207,null,null,0,0,"",null,null,null,{"$f":"catp","v":9}]
[6208,null,null,0,0,"",null,null,null,{"$f":"catp","v":9}]
[6209,null,null,0,0,"",null,null,null,{"$f":"catp","v":9}]
[6210,null,null,0,0,"",null,null,null,{"$f":"catp","v":9}]
[6211,null,null,0,0,"",null,null,null,{"$f":"catp","v":9}]
[6212,null,null,0,0,"",null,null,null,{"$f":"catp","v":9}]
[6213,null,null,0,0,"",null,null,null,{"$f":"catp","v":9}]
[6214,null,null,0,0,"",null,null,null,{"$f":"catp","v":9}]
[6215,null,null,0,0,"",null,null,null,{"$f":"catp","v":9}]
[6216,null,null,0,0,"",null,null,null,{"$f":"catp","v":9}]
[6217,null,null,0,0,"",null,null,null,{"$f":"catp","v":9}]
[6218,null,null,0,0,"",null,null,null,{"$f":"catp","v":9}]
[6219,null,null,0,0,"",null,null,null,{"$f":"catp","v":9}]
[6220,null,null,0,0,"",null,null,null,{"$f":"catp","v":9}]
[6221,null,null,0,0,"",null,null,null,{"$f":"catp","v":9}]
[6222,null,null,0,0,"",null,null,null,{"$f":"catp","v":9}]
[6223,null,null,0,0,"",null,null,null,{"$f":"catp","v":9}]
[6224,null,null,0,0,"",null,null,null,{"$f":"catp","v":9}]
[6225,null,null,0,0,"",null,null,null,{"$f":"catp","v":9}]
[6226,null,null,0,0,"",null,null,null,{"$f":"catp","v":9}]
[6227,null,null,0,0,"",null,null,null,{"$f":"catp","v":9}]
[6228,null,null,0,0,"",null,null,null,{"$f":"catp","v":9}]
[6229,null,null,0,0,"",null,null,null,{"$f":"catp","v":9}]
[6230,null,null,0,0,"",null,null,null,{"$f":"catp","v":9}]
[6231,null,null,0,0,"",null,null,null,{"$f":"catp","v":9}]
[6232,null,null,0,0,"",null,null,null,{"$f":"catp","v":9}]
[6233,null,null,0,0,"",null,null,null,{"$f":"catp","v":9}]
[6234,null,null,0,0,"",null,null,null,{"$f":"catp","v":9}]
[6235,null,null,0,0,"",null,null,null,{"$f":"catp","v":9}]
[6236,null,null,0,0,"",null,null,null,{"$f":"catp","v":9}]
[6237,null,null,0,0,"",null,null,null,{"$f":"catp","v":9}]
[6238,null,null,0,0,"",null,null,null,{"$f":"catp","v":9}]
[6239,null,null,0,0,"",null,null,null,{"$f":"catp","v":9}]
[6240,null,null,0,0,"",null,null,null,{"$f":"catp","v":9}]
[6241,null,null,0,0,"",null,null,null,{"$f":"catp","v":9}]
[6242,null,null,0,0,"",null,null,null,{"$f":"catp","v":9}]
[6243,null,null,0,0,"",null,null,null,{"$f":"catp","v":9}]
[6244,null,null,0,0,"",null,null,null,{"$f":"catp","v":9}]
[6245,null,null,0,0,"",null,null,null,{"$f":"catp","v":9}]
[6246,null,null,0,0,"",null,null,null,{"$f":"catp","v":9}]
[null,null,null,null,null,null,null,null,null,{"$f":"catp","v":9}]
[null,null,null,null,null,null,null,null,null,{"$f":"catp","v":9}]
[null,null,null,null,null,null,null,null,null,{"$f":"catp","v":9}]
[null,null,null,null,null,null,null,null,null,{"$f":"catp","v":9}]
[null,null,null,null,null,null,null,null,null,{"$f":"catp","v":9}]
[null,null,null,null,null,null,null,null,null,{"$f":"catp","v":9}]
[null,null,null,null,null,null,null,null,null,{"$f":"catp","v":9}]
[null,null,null,null,null,null,null,null,null,{"$f":"catp","v":9}]
[null,null,null,null,null,null,null,null,null,{"$f":"catp","v":9}]
[null,null,null,null,null,null,null,null,null,{"$f":"catp","v":9}]
[null,null,null,null,null,null,null,null,null,{"$f":"catp","v":9}]
[null,null,null,null,null,null,null,null,null,{"$f":"catp","v":9}]
[null,null,null,null,null,null,null,null,null,{"$f":"catp","v":9}]
[null,null,null,null,null,null,null,null,null,{"$f":"catp","v":9}]
[null,null,null,null,null,null,null,null,null,{"$f":"catp","v":9}]
[null,null,null,null,null,null,null,null,null,{"$f":"catp","v":9}]
[null,null,null,null,null,null,null,null,null,{"$f":"catp","v":9}]
[null,null,null,null,null,null,null,null,null,{"$f":"catp","v":9}]
[null,null,null,null,null,null,null,null,null,{"$f":"catp","v":9}]
[null,null,null,null,null,null,null,null,null,{"$f":"catp","v":9}]
[null,null,null,null,null,null,null,null,null,{"$f":"catp","v":9}]
[null,null,null,null,null,null,null,null,null,{"$f":"catp","v":9}]
[null,null,null,null,null,null,null,null,null,{"$f":"catp","v":9}]
[null,null,null,null,null,null,null,null,null,{"$f":"catp","v":9}]
[null,null,null,null,null,null,null,null,null,{"$f":"catp","v":9}]
[null,null,null,null,null,null,null,null,null,{"$f":"catp","v":9}]
[null,null,null,null,null,null,null,null,null,{"$f":"catp","v":9}]
[null,null,null,null,null,null,null,null,null,{"$f":"catp","v":9}]
[null,null,null,null,null,null,null,null,null,{"$f":"catp","v":9}]
[null,null,null,null,null,null,null,null,null,{"$f":"catp","v":9}]
[null,null,null,null,null,null,null,null,null,{"$f":"catp","v":9}]
[null,null,null,null,null,null,null,null,null,{"$f":"catp","v":9}]
[null,null,null,null,null,null,null,null,null,{"$f":"catp","v":9}]
[null,null,null,null,null,null,null,null,null,{"$f":"catp","v":9}]
[null,null,null,null,null,null,null,null,null,{"$f":"catp","v":9}]
[null,null,null,null,null,null,null,null,null,{"$f":"catp","v":9}]
[null,null,null,null,null,null,null,null,null,{"$f":"catp","v":9}]
[null,null,null,null,null,null,null,null,null,{"$f":"catp","v":9}]
[null,null,null,null,null,null,null,null,null,{"$f":"catp","v":9}]
[null,null,null,null,null,null,null,null,null,{"$f":"catp","v":9}]
[null,null,null,null,null,null,null,null,null,{"$f":"catp","v":9}]
[null,null,null,null,null,null,null,null,null,{"$f":"catp","v":9}]
[null,null,null,null,null,null,null,null,null,{"$f":"catp","v":9}]
[null,null,null,null,null,null,null,null,null,{"$f":"catp","v":9}]
[null,null,null,null,null,null,null,null,null,{"$f":"catp","v":9}]
[null,null,null,null,null,null,null,null,null,{"$f":"catp","v":9}]
[null,null,null,null,null,null,null,null,null,{"$f":"catp","v":9}]
[null,null,null,null,null,null,null,null,null,{"$f":"catp","v":9}]
[null,null,null,null,null,null,null,null,null,{"$f":"catp","v":9}]
[null,null,null,null,null,null,null,null,null,{"$f":"catp","v":9}]
[null,null,null,null,null,null,null,null,null,{"$f":"catp","v":9}]
[null,null,null,null,null,null,null,null,null,{"$f":"catp","v":9}]
[null,null,null,null,null,null,null,null,null,{"$f":"catp","v":9}]
[null,null,null,null,null,null,null,null,null,{"$f":"catp","v":9}]
[null,null,null,null,null,null,null,null,null,{"$f":"catp","v":9}]
[null,null,null,null,null,null,null,null,null,{"$f":"catp","v":9}]
[null,null,null,null,null,null,null,null,null,{"$f":"catp","v":9}]
[null,null,null,null,null,null,null,null,null,{"$f":"catp","v":9}]
[null,null,null,null,null,null,null,null,null,{"$f":"catp","v":9}]
[null,null,null,null,null,null,null,null,null,{"$f":"catp","v":9}]
[null,null,null,null,null,null,null,null,null,{"$f":"catp","v":9}]
[null,null,null,null,null,null,null,null,null,{"$f":"catp","v":9}]
[null,null,null,null,null,null,null,null,null,{"$f":"catp","v":9}]
[null,null,null,null,null,null,null,null,null,{"$f":"catp","v":9}]
[null,null,null,null,null,null,null,null,null,{"$f":"catp","v":9}]
[null,null,null,null,null,null,null,null,null,{"$f":"catp","v":9}]
[null,null,null,null,null,null,null,null,null,{"$f":"catp","v":9}]
[null,null,null,null,null,null,null,null,null,{"$f":"catp","v":9}]
[null,null,null,null,null,null,null,null,null,{"$f":"catp","v":9}]
[null,null,null,null,null,null,null,null,null,{"$f":"catp","v":9}]
[null,null,null,null,null,null,null,null,null,{"$f":"catp","v":9}]
[null,null,null,null,null,null,null,null,null,{"$f":"catp","v":9}]
[null,null,null,null,null,null,null,null,null,{"$f":"catp","v":9}]
[null,null,null,null,null,null,null,null,null,{"$f":"catp","v":9}]
[null,null,null,null,null,null,null,null,null,{"$f":"catp","v":9}]
[null,null,null,null,null,null,null,null,null,{"$f":"catp","v":9}]
[null,null,null,null,null,null,null,null,null,{"$f":"catp","v":9}]
[null,null,null,null,null,null,null,null,null,{"$f":"catp","v":9}]
[null,null,null,null,null,null,null,null,null,{"$f":"catp","v":9}]
[null,null,null,null,null,null,null,null,null,{"$f":"catp","v":9}]
[null,null,null,null,null,null,null,null,null,{"$f":"catp","v":9}]
[null,null,null,null,null,null,null,null,null,{"$f":"catp","v":9}]
[null,null,null,null,null,null,null,null,null,{"$f":"catp","v":9}]
[null,null,null,null,null,null,null,null,null,{"$f":"catp","v":9}]
[null,null,null,null,null,null,null,null,null,{"$f":"catp","v":9}]
[null,null,null,null,null,null,null,null,null,{"$f":"catp","v":9}]
[null,null,null,null,null,null,null,null,null,{"$f":"catp","v":9}]
[null,null,null,null,null,null,null,null,null,{"$f":"catp","v":9}]
[null,null,null,null,null,null,null,null,null,{"$f":"catp","v":9}]
[null,null,null,null,null,null,null,null,null,{"$f":"catp","v":9}]
[null,null,null,null,null,null,null,null,null,{"$f":"catp","v":9}]
[null,null,null,null,null,null,null,null,null,{"$f":"catp","v":9}]
[null,null,null,null,null,null,null,null,null,{"$f":"catp","v":9}]
[null,null,null,null,null,null,null,null,null,{"$f":"catp","v":9}]
[null,null,null,null,null,null,null,null,null,{"$f":"catp","v":9}]
[null,null,null,null,null,null,null,null,null,{"$f":"catp","v":9}]
[null,null,null,null,null,null,null,null,null,{"$f":"catp","v":9}]
[null,null,null,null,null,null,null,null,null,{"$f":"catp","v":9}]
[null,null,null,null,null,null,null,null,null,{"$f":"catp","v":9}]
[null,null,null,null,null,null,null,null,null,{"$f":"catp","v":9}]
[null,null,null,null,null,null,null,null,null,{"$f":"catp","v":9}]
[null,null,null,null,null,null,null,null,null,{"$f":"catp","v":9}]
[null,null,null,null,null,null,null,null,null,{"$f":"catp","v":9}]
[null,null,null,null,null,null,null,null,null,{"$f":"catp","v":9}]
[null,null,null,null,null,null,null,null,null,{"$f":"catp","v":9}]
[null,null,null,null,null,null,null,null,null,{"$f":"catp","v":9}]
[null,null,null,null,null,null,null,null,null,{"$f":"catp","v":9}]
[null,null,null,null,null,null,null,null,null,{"$f":"catp","v":9}]
[null,null,null,null,null,null,null,null,null,{"$f":"catp","v":9}]
[null,null,null,null,null,null,null,null,null,{"$f":"catp","v":9}]
[null,null,null,null,null,null,null,null,null,{"$f":"catp","v":9}]
[null,null,null,null,null,null,null,null,null,{"$f":"catp","v":9}]
[null,null,null,null,null,null,null,null,null,{"$f":"catp","v":9}]
[null,null,null,null,null,null,null,null,null,{"$f":"catp","v":9}]
[null,null,null,null,null,null,null,null,null,{"$f":"catp","v":9}]
[null,null,null,null,null,null,null,null,null,{"$f":"catp","v":9}]
[null,null,null,null,null,null,null,null,null,{"$f":"catp","v":9}]
[null,null,null,null,null,null,null,null,null,{"$f":"catp","v":9}]
[null,null,null,null,null,null,null,null,null,{"$f":"catp","v":9}]
[null,null,null,null,null,null,null,null,null,{"$f":"catp","v":9}]
[null,null,null,null,null,null,null,null,null,{"$f":"catp","v":9}]
[null,null,null,null,null,null,null,null,null,{"$f":"catp","v":9}]
[null,null,null,null,null,null,null,null,null,{"$f":"catp","v":9}]
[null,null,null,null,null,null,null,null,null,{"$f":"catp","v":9}]
[null,null,null,null,null,null,null,null,null,{"$f":"catp","v":9}]
[null,null,null,null,null,null,null,null,null,{"$f":"catp","v":9}]
[null,null,null,null,null,null,null,null,null,{"$f":"catp","v":9}]
[null,null,null,null,null,null,null,null,null,{"$f":"catp","v":9}]
[null,null,null,null,null,null,null,null,null,{"$f":"catp","v":9}]
[null,null,null,null,null,null,null,null,null,{"$f":"catp","v":9}]
[null,null,null,null,null,null,null,null,null,{"$f":"catp","v":9}]
[null,null,null,null,null,null,null,null,null,{"$f":"catp","v":9}]
[null,null,null,null,null,null,null,null,null,{"$f":"catp","v":9}]
[null,null,null,null,null,null,null,null,null,{"$f":"catp","v":9}]
[null,null,null,null,null,null,null,null,null,{"$f":"catp","v":9}]
[null,null,null,null,null,null,null,null,null,{"$f":"catp","v":9}]
[null,null,null,null,null,null,null,null,null,{"$f":"catp","v":9}]
[null,null,null,null,null,null,null,null,null,{"$f":"catp","v":9}]
[null,null,null,null,null,null,null,null,null,{"$f":"catp","v":9}]
[null,null,null,null,null,null,null,null,null,{"$f":"catp","v":9}]
[null,null,null,null,null,null,null,null,null,{"$f":"catp","v":9}]
[null,null,null,null,null,null,null,null,null,{"$f":"catp","v":9}]
[null,null,null,null,null,null,null,null,null,{"$f":"catp","v":9}]
[null,null,null,null,null,null,null,null,null,{"$f":"catp","v":9}]
[null,null,null,null,null,null,null,null,null,{"$f":"catp","v":9}]
[null,null,null,null,null,null,null,null,null,{"$f":"catp","v":9}]
[null,null,null,null,null,null,null,null,null,{"$f":"catp","v":9}]
[null,null,null,null,null,null,null,null,null,{"$f":"catp","v":9}]
[null,null,null,null,null,null,null,null,null,{"$f":"catp","v":9}]
[null,null,null,null,null,null,null,null,null,{"$f":"catp","v":9}]
[null,null,null,null,null,null,null,null,null,{"$f":"catp","v":9}]
[null,null,null,null,null,null,null,null,null,{"$f":"catp","v":9}]
[null,null,null,null,null,null,null,null,null,{"$f":"catp","v":9}]
[null,null,null,null,null,null,null,null,null,{"$f":"catp","v":9}]
[null,null,null,null,null,null,null,null,null,{"$f":"catp","v":9}]
[null,null,null,null,null,null,null,null,null,{"$f":"catp","v":9}]
[null,null,null,null,null,null,null,null,null,{"$f":"catp","v":9}]
[null,null,null,null,null,null,null,null,null,{"$f":"catp","v":9}]
[null,null,null,null,null,null,null,null,null,{"$f":"catp","v":9}]
[null,null,null,null,null,null,null,null,null,{"$f":"catp","v":9}]
[null,null,null,null,null,null,null,null,null,{"$f":"catp","v":9}]
[null,null,null,null,null,null,null,null,null,{"$f":"catp","v":9}]
[null,null,null,null,null,null,null,null,null,{"$f":"catp","v":9}]
[null,null,null,null,null,null,null,null,null,{"$f":"catp","v":9}]
[null,null,null,null,null,null,null,null,null,{"$f":"catp","v":9}]
[null,null,null,null,null,null,null,null,null,{"$f":"catp","v":9}]
[null,null,null,null,null,null,null,null,null,{"$f":"catp","v":9}]
[null,null,null,null,null,null,null,null,null,{"$f":"catp","v":9}]
[null,null,null,null,null,null,null,null,null,{"$f":"catp","v":9}]
[null,null,null,null,null,null,null,null,null,{"$f":"catp","v":9}]
[null,null,null,null,null,null,null,null,null,{"$f":"catp","v":9}]
[null,null,null,null,null,null,null,null,null,{"$f":"catp","v":9}]
[null,null,null,null,null,null,null,null,null,{"$f":"catp","v":9}]
[null,null,null,null,null,null,null,null,null,{"$f":"catp","v":9}]

{"sheet":"CLS","index":9,"n_rows":7,"n_cols":40,"rows_kept":7,"cut":false,"hidden":false,"merged":[]}
["Poz","Nume_si_prenume","Localitate","Pct","MP","Cat",{"$f":"COUNTA(G2:G6001)","v":0},null,null,null,"Cls","EL","V S","V I","V G",null,null,null,null,"EL","V S","V I","0v EL",{"$f":"IF(Start!$D$8=1,\"G1\",\"\")","v":""},{"$f":"IF(Start!$D$8=1,\"L1\",\"\")","v":""},"V G",null,null,null,null,{"$f":"Start!$L$6","v":0},{"$f":"IFERROR(VLOOKUP(AE1,AE2:AF7,2,TRUE),4)","v":0},{"$f":"IFERROR(VLOOKUP(AE1,AE2:AG7,3,TRUE),4)","v":0},"fm",null,null,null,null,null,{"$f":"MAX($A:$A)","v":0}]
[null,null,null,null,null,null,null,null,null,null,null,null,null,null,null,null,null,null,null,null,null,null,null,null,null,null,null,null,null,null,0,0,null,{"$f":"Start!$D$8","v":8}]
[null,null,null,null,null,null,null,null,null,null,null,null,null,null,null,null,null,null,null,null,null,null,null,null,null,null,null,null,null,null,1,1,4]
[null,null,null,null,null,null,null,null,null,null,null,null,null,null,null,null,null,null,null,null,null,null,null,null,null,null,null,null,null,null,9,2,8]
[null,null,null,null,null,null,null,null,null,null,null,null,null,null,null,null,null,null,null,null,null,null,null,null,null,null,null,null,null,null,17,3,16]
[null,null,null,null,null,null,null,null,null,null,null,null,null,null,null,null,null,null,null,null,null,null,null,null,null,null,null,null,null,null,33,4,32,{"$f":"Elim.!$H$7","v":0}]
[null,null,null,null,null,null,null,null,null,null,null,null,null,null,null,null,null,null,null,null,null,null,null,null,null,null,null,null,null,null,65]

{"sheet":"Rezultate","index":10,"n_rows":0,"n_cols":0,"rows_kept":0,"cut":false,"hidden":true,"merged":[]}

{"sheet":"Grupe","index":11,"n_rows":1,"n_cols":13,"rows_kept":1,"cut":false,"hidden":false,"merged":[]}
[null,"Grupe inferioare",null,null,null,null,null,null,null,"Masa nr.",null,"Dubluri","Culori lipsa"]

{"sheet":"Gr.1","index":12,"n_rows":1,"n_cols":35,"rows_kept":1,"cut":false,"hidden":false,"merged":[]}
[null,null,null,null,null,null,null,null,null,null,null,null,null,null,null,null,null,null,null,null,null,null,null,null,null,null,null,null,null,null,null,null,null,null,{"$f":"12-COUNTBLANK($B$5:$B$16)","v":0}]

{"sheet":"Gr.inf.","index":13,"n_rows":834,"n_cols":49,"rows_kept":834,"cut":false,"hidden":false,"merged":[]}
[null,null,null,null,null,null,null,null,null,null,null,null,null,null,null,null,null,null,null,null,null,null,null,null,null,{"$f":"CONCATENATE($N$4,$N$29,$N$54,$N$79,$N$104,$N$129,$N$154,$N$179,$N$204,$N$229,$N$254,$N$279,$N$304,$N$329,$N$354,$N$379,$N$404,$N$429,$N$454,$N$479,$N$504,$N$529,$N$554,$N$579)","v":""},null,null,null,null,null,null,null,null,{"$f":"MAX($B:$B)","v":0},null,null,"3-0","3-1","3-2","2-3","1-3","0-3","2-0","2-1","1-2","0-2","1-0","0-1"]
[]
[]
[]
[]
[]
[]
[]
[]
[]
[]
[]
[]
[]
[]
[]
[]
[]
[]
[]
[]
[]
[]
[]
[]
[]
[]
[]
[]
[]
[]
[]
[]
[]
[]
[]
[]
[]
[]
[]
[]
[]
[]
[]
[]
[]
[]
[]
[]
[]
[]
[]
[]
[]
[]
[]
[]
[]
[]
[]
[]
[]
[]
[]
[]
[]
[]
[]
[]
[]
[]
[]
[]
[]
[]
[]
[]
[]
[]
[]
[]
[]
[]
[]
[]
[]
[]
[]
[]
[]
[]
[]
[]
[]
[]
[]
[]
[]
[]
[]
[]
[]
[]
[]
[]
[]
[]
[]
[]
[]
[]
[]
[]
[]
[]
[]
[]
[]
[]
[]
[]
[]
[]
[]
[]
[]
[]
[]
[]
[]
[]
[]
[]
[]
[]
[]
[]
[]
[]
[]
[]
[]
[]
[]
[]
[]
[]
[]
[]
[]
[]
[]
[]
[]
[]
[]
[]
[]
[]
[]
[]
[]
[]
[]
[]
[]
[]
[]
[]
[]
[]
[]
[]
[]
[]
[]
[]
[]
[]
[]
[]
[]
[]
[]
[]
[]
[]
[]
[]
[]
[]
[]
[]
[]
[]
[]
[]
[]
[]
[]
[]
[]
[]
[]
[]
[]
[]
[]
[]
[]
[]
[]
[]
[]
[]
[]
[]
[]
[]
[]
[]
[]
[]
[]
[]
[]
[]
[]
[]
[]
[]
[]
[]
[]
[]
[]
[]
[]
[]
[]
[]
[]
[]
[]
[]
[]
[]
[]
[]
[]
[]
[]
[]
[]
[]
[]
[]
[]
[]
[]
[]
[]
[]
[]
[]
[]
[]
[]
[]
[]
[]
[]
[]
[]
[]
[]
[]
[]
[]
[]
[]
[]
[]
[]
[]
[]
[]
[]
[]
[]
[]
[]
[]
[]
[]
[]
[]
[]
[]
[]
[]
[]
[]
[]
[]
[]
[]
[]
[]
[]
[]
[]
[]
[]
[]
[]
[]
[]
[]
[]
[]
[]
[]
[]
[]
[]
[]
[]
[]
[]
[]
[]
[]
[]
[]
[]
[]
[]
[]
[]
[]
[]
[]
[]
[]
[]
[]
[]
[]
[]
[]
[]
[]
[]
[]
[]
[]
[]
[]
[]
[]
[]
[]
[]
[]
[]
[]
[]
[]
[]
[]
[]
[]
[]
[]
[]
[]
[]
[]
[]
[]
[]
[]
[]
[]
[]
[]
[]
[]
[]
[]
[]
[]
[]
[]
[]
[]
[]
[]
[]
[]
[]
[]
[]
[]
[]
[]
[]
[]
[]
[]
[]
[]
[]
[]
[]
[]
[]
[]
[]
[]
[]
[]
[]
[]
[]
[]
[]
[]
[]
[]
[]
[]
[]
[]
[]
[]
[]
[]
[]
[]
[]
[]
[]
[]
[]
[]
[]
[]
[]
[]
[]
[]
[]
[]
[]
[]
[]
[]
[]
[]
[]
[]
[]
[]
[]
[]
[]
[]
[]
[]
[]
[]
[]
[]
[]
[]
[]
[]
[]
[]
[]
[]
[]
[]
[]
[]
[]
[]
[]
[]
[]
[]
[]
[]
[]
[]
[]
[]
[]
[]
[]
[]
[]
[]
[]
[]
[]
[]
[]
[]
[]
[]
[]
[]
[]
[]
[]
[]
[]
[]
[]
[]
[]
[]
[]
[]
[]
[]
[]
[]
[]
[]
[]
[]
[]
[]
[]
[]
[]
[]
[]
[]
[]
[]
[]
[]
[]
[]
[]
[]
[]
[]
[]
[]
[]
[]
[]
[]
[]
[]
[]
[]
[]
[]
[]
[]
[]
[]
[]
[]
[]
[]
[]
[]
[]
[]
[]
[]
[]
[]
[]
[]
[]
[]
[]
[]
[]
[]
[]
[]
[]
[]
[]
[]
[]
[]
[]
[]
[]
[]
[]
[]
[]
[]
[]
[]
[]
[]
[]
[]
[]
[]
[]
[]
[]
[]
[]
[]
[]
[]
[]
[]
[]
[]
[]
[]
[]
[]
[]
[]
[]
[]
[]
[]
[]
[]
[]
[]
[]
[]
[]
[]
[]
[]
[]
[]
[]
[]
[]
[]
[]
[]
[]
[]
[]
[]
[]
[]
[]
[]
[]
[]
[]
[]
[]
[]
[]
[]
[]
[]
[]
[]
[]
[]
[]
[]
[]
[]
[]
[]
[]
[]
[]
[]
[]
[]
[]
[]
[]
[]
[]
[]
[]
[]
[]
[]
[]
[]
[]
[]
[]
[]
[]
[]
[]
[]
[]
[]
[]
[]
[]
[]
[]
[]
[]
[]
[]
[]
[]
[]
[]
[]
[]
[]
[]
[]
[]
[]
[]
[]
[]
[]
[]
[]
[]
[]
[]
[]
[]
[]
[]
[]
[]
[]
[]
[]
[]
[]
[]
[]
[]
[]
[]
[]
[]
[]
[]
[]
[]
[]
[]
[]
[]
[]
[]
[]
[]
[]
[]
[]
[]
[]
[]
[]
[]
[]
[]
[]
[]
[]
[]
[]
[]
[]
[]
[]
[]
[]
[]
[]
[]
[]
[]
[]
[]
[]
[]
[]
[]
[]
[]
[]
[]
[]
[]
[]
[]
[]
[]
[]
[]
[]
[null,{"$f":"IF(jxi>0,\"si cele mai bune \"& jxi&\" locuri \" & jci+1,\"\")","v":""}]
[]
[]
[]
[]
[]
[]
[]
[]
[]
[]
[]
[]
[]
[]
[]
[]
[null,null,null,null,null,null,null,null,null,null,null,null,null,null,"",""]
[null,null,null,null,null,null,null,null,null,null,null,null,null,null,"",""]
[null,null,null,null,null,null,null,null,null,null,null,null,null,null,null,""]
[null,null,null,null,null,null,null,null,null,null,null,null,null,null,null,""]

{"sheet":"Gr.sup.","index":14,"n_rows":834,"n_cols":35,"rows_kept":834,"cut":false,"hidden":false,"merged":[]}
[null,null,null,null,null,null,null,null,null,null,null,null,null,null,null,null,null,null,null,null,null,null,null,null,null,{"$f":"CONCATENATE($K$4,$K$29,$K$54,$K$79,$K$104,$K$129,$K$154,$K$179,$K$204,$K$229,$K$254,$K$279,$K$304,$K$329,$K$354,$K$379,$K$404,$K$429,$K$454,$K$479,$K$504,$K$529,$K$554,$K$579)","v":""},null,null,null,null,null,null,null,null,{"$f":"MAX($B:$B)","v":0}]
[]
[]
[]
[]
[]
[]
[]
[]
[]
[]
[]
[]
[]
[]
[]
[]
[]
[]
[]
[]
[]
[]
[]
[]
[]
[]
[]
[]
[]
[]
[]
[]
[]
[]
[]
[]
[]
[]
[]
[]
[]
[]
[]
[]
[]
[]
[]
[]
[]
[]
[]
[]
[]
[null,null,null,null,null,null,null,null,null,null,null,null,null,null,null,null,null,null,null,null,null,null,null,null,null,null,null,null,null,null,"33-14",null,11]
[null,null,null,null,null,null,null,null,null,null,null,null,null,null,null,null,null,null,null,null,null,null,null,null,null,null,null,null,null,null,"19-33",null,-6]
[null,null,null,null,null,null,null,null,null,null,null,null,null,null,null,null,null,null,null,null,null,null,null,null,null,null,null,null,null,null,null,null,-5]
[]
[]
[]
[]
[]
[]
[]
[]
[]
[]
[]
[]
[]
[]
[]
[]
[]
[]
[]
[]
[]
[]
[]
[]
[]
[]
[]
[]
[]
[]
[]
[]
[]
[]
[]
[]
[]
[]
[]
[]
[]
[]
[]
[]
[]
[]
[]
[]
[]
[]
[]
[]
[]
[]
[]
[]
[]
[]
[]
[]
[]
[]
[]
[]
[]
[]
[]
[]
[]
[]
[]
[]
[]
[]
[]
[]
[]
[]
[]
[]
[]
[]
[]
[]
[]
[]
[]
[]
[]
[]
[]
[]
[]
[]
[]
[]
[]
[]
[]
[]
[]
[]
[]
[]
[]
[]
[]
[]
[]
[]
[]
[]
[]
[]
[]
[]
[]
[]
[]
[]
[]
[]
[]
[]
[]
[]
[]
[]
[]
[]
[]
[]
[]
[]
[]
[]
[]
[]
[]
[]
[]
[]
[]
[]
[]
[]
[]
[]
[]
[]
[]
[]
[]
[]
[]
[]
[]
[]
[]
[]
[]
[]
[]
[]
[]
[]
[]
[]
[]
[]
[]
[]
[]
[]
[]
[]
[]
[]
[]
[]
[]
[]
[]
[]
[]
[]
[]
[]
[]
[]
[]
[]
[]
[]
[]
[]
[]
[]
[]
[]
[]
[]
[]
[]
[]
[]
[]
[]
[]
[]
[]
[]
[]
[]
[]
[]
[]
[]
[]
[]
[]
[]
[]
[]
[]
[]
[]
[]
[]
[]
[]
[]
[]
[]
[]
[]
[]
[]
[]
[]
[]
[]
[]
[]
[]
[]
[]
[]
[]
[]
[]
[]
[]
[]
[]
[]
[]
[]
[]
[]
[]
[]
[]
[]
[]
[]
[]
[]
[]
[]
[]
[]
[]
[]
[]
[]
[]
[]
[]
[]
[]
[]
[]
[]
[]
[]
[]
[]
[]
[]
[]
[]
[]
[]
[]
[]
[]
[]
[]
[]
[]
[]
[]
[]
[]
[]
[]
[]
[]
[]
[]
[]
[]
[]
[]
[]
[]
[]
[]
[]
[]
[]
[]
[]
[]
[]
[]
[]
[]
[]
[]
[]
[]
[]
[]
[]
[]
[]
[]
[]
[]
[]
[]
[]
[]
[]
[]
[]
[]
[]
[]
[]
[]
[]
[]
[]
[]
[]
[]
[]
[]
[]
[]
[]
[]
[]
[]
[]
[]
[]
[]
[]
[]
[]
[]
[]
[]
[]
[]
[]
[]
[]
[]
[]
[]
[]
[]
[]
[]
[]
[]
[]
[]
[]
[]
[]
[]
[]
[]
[]
[]
[]
[]
[]
[]
[]
[]
[]
[]
[]
[]
[]
[]
[]
[]
[]
[]
[]
[]
[]
[]
[]
[]
[]
[]
[]
[]
[]
[]
[]
[]
[]
[]
[]
[]
[]
[]
[]
[]
[]
[]
[]
[]
[]
[]
[]
[]
[]
[]
[]
[]
[]
[]
[]
[]
[]
[]
[]
[]
[]
[]
[]
[]
[]
[]
[]
[]
[]
[]
[]
[]
[]
[]
[]
[]
[]
[]
[]
[]
[]
[]
[]
[]
[]
[]
[]
[]
[]
[]
[]
[]
[]
[]
[]
[]
[]
[]
[]
[]
[]
[]
[]
[]
[]
[]
[]
[]
[]
[]
[]
[]
[]
[]
[]
[]
[]
[]
[]
[]
[]
[]
[]
[]
[]
[]
[]
[]
[]
[]
[]
[]
[]
[]
[]
[]
[]
[]
[]
[]
[]
[]
[]
[]
[]
[]
[]
[]
[]
[]
[]
[]
[]
[]
[]
[]
[]
[]
[]
[]
[]
[]
[]
[]
[]
[]
[]
[]
[]
[]
[]
[]
[]
[]
[]
[]
[]
[]
[]
[]
[]
[]
[]
[]
[]
[]
[]
[]
[]
[]
[]
[]
[]
[]
[]
[]
[]
[]
[]
[]
[]
[]
[]
[]
[]
[]
[]
[]
[]
[]
[]
[]
[]
[]
[]
[]
[]
[]
[]
[]
[]
[]
[]
[]
[]
[]
[]
[]
[]
[]
[]
[]
[]
[]
[]
[]
[]
[]
[]
[]
[]
[]
[]
[]
[]
[]
[]
[]
[]
[]
[]
[]
[]
[]
[]
[]
[]
[]
[]
[]
[]
[]
[]
[]
[]
[]
[]
[]
[]
[]
[]
[]
[]
[]
[]
[]
[]
[]
[]
[]
[]
[]
[]
[]
[]
[]
[]
[]
[]
[]
[]
[]
[]
[]
[]
[]
[]
[]
[]
[]
[]
[]
[]
[]
[]
[]
[]
[]
[]
[]
[]
[]
[]
[]
[]
[]
[]
[]
[]
[]
[]
[]
[]
[]
[]
[]
[]
[]
[]
[]
[]
[]
[]
[]
[]
[]
[]
[]
[]
[]
[]
[]
[]
[]
[]
[]
[]
[]
[]
[]
[]
[]
[]
[]
[]
[null,{"$f":"IF(jxs>0,\"si cele mai bune \"& jxs&\" locuri \" & jcs+1,\"\")","v":""}]
[]
[]
[]
[]
[]
[]
[]
[]
[]
[]
[]
[]
[]
[]
[]
[]
[null,null,null,null,null,null,null,null,null,null,null,null,null,null,null,null,null,null,null,null,"AVg"]
[null,null,null,null,null,null,null,null,null,null,null,null,null,null,-8,null,null,2,1,0,3,1]
[null,null,null,null,null,null,null,null,null,null,null,null,null,null,3,0,1,3,1,0,3,2]
[null,null,null,null,null,null,null,null,null,null,null,null,null,null,3,0,1,4,1,0,2]
[null,null,null,null,null,null,null,null,null,null,null,null,null,null,2,0,1]
[null,null,null,null,null,null,null,null,null,null,null,null,null,null,0,""]

{"sheet":"Arb.inf.","index":15,"n_rows":34,"n_cols":44,"rows_kept":34,"cut":false,"hidden":false,"merged":[]}
[null,null,null,null,null,null,null,null,null,null,null,null,null,null,null,"Ora","Durata",null,null,4,"Arbitru",5,"Arbitru",6,"Arbitru",7,"Arbitru",null,null,null,{"$f":"nlc(INDEX(Gr.inf.!$A:$A,ROW(AE1)-10*INT(ROW(AE1)/35)))","v":""}]
[null,null,null,null,null,null,null,null,null,null,null,null,null,null,null,"10:00:00","00:15:00",null,1,"1--4",2,"2--5",3,"1--6",4,"2--7",1]
[null,null,null,null,null,null,null,null,null,null,null,null,null,null,null,null,null,null,2,"2--3",4,"3--4",1,"2--5",6,"3--6",2,null,null,null,{"$f":"nlc(INDEX(Gr.inf.!$A:$A,ROW(AE3)-10*INT(ROW(AE3)/35)))","v":""},null,"Masa nr. ",{"$f":"nlc(INDEX(Gr.inf.!$D:$D,ROW(AH3)-10*INT(ROW(AH3)/35)))","v":""}]
[null,null,null,null,null,null,null,null,null,null,null,null,null,null,null,null,null,null,3,"1--3",2,"1--5",4,"3--4",2,"4--5",6,null,null,null,null,"Nume si prenume","Localitate",1,2,3,4,5,6,7,"V","LOC"]
[null,null,null,null,null,null,null,null,null,null,null,null,null,null,null,null,null,null,4,"2--4",3,"2--3",5,"1--5",3,"1--7",4,null,null,null,1,{"$f":"nlc(INDEX(Gr.inf.!$B:$B,ROW(AF5)-10*INT(ROW(AF5)/35)))","v":""},{"$f":"nlc(INDEX(Gr.inf.!$C:$C,ROW(AG5)-10*INT(ROW(AG5)/35)))","v":""}]
[null,null,null,null,null,null,null,null,null,null,null,null,null,null,null,null,null,null,5,"1--2",4,"1--4",2,"4--6",1,"2--5",7,null,null,null,2,{"$f":"nlc(INDEX(Gr.inf.!$B:$B,ROW(AF6)-10*INT(ROW(AF6)/35)))","v":""},{"$f":"nlc(INDEX(Gr.inf.!$C:$C,ROW(AG6)-10*INT(ROW(AG6)/35)))","v":""}]
[null,null,null,null,null,null,null,null,null,null,null,null,null,null,null,null,null,null,6,"3--4",1,"3--5",1,"2--3",6,"3--4",5,null,null,null,3,{"$f":"nlc(INDEX(Gr.inf.!$B:$B,ROW(AF7)-10*INT(ROW(AF7)/35)))","v":""},{"$f":"nlc(INDEX(Gr.inf.!$C:$C,ROW(AG7)-10*INT(ROW(AG7)/35)))","v":""}]
[null,null,null,null,null,null,null,null,null,null,null,null,null,null,null,null,null,null,7,"-","-","2--4",5,"1--4",2,"1--6",3,null,null,null,4,{"$f":"nlc(INDEX(Gr.inf.!$B:$B,ROW(AF8)-10*INT(ROW(AF8)/35)))","v":""},{"$f":"nlc(INDEX(Gr.inf.!$C:$C,ROW(AG8)-10*INT(ROW(AG8)/35)))","v":""}]
[null,null,null,null,null,null,null,null,null,null,null,null,null,null,null,null,null,null,8,"-","-","1--3",2,"3--5",4,"5--7",1,null,null,null,5,{"$f":"nlc(INDEX(Gr.inf.!$B:$B,ROW(AF9)-10*INT(ROW(AF9)/35)))","v":""},{"$f":"nlc(INDEX(Gr.inf.!$C:$C,ROW(AG9)-10*INT(ROW(AG9)/35)))","v":""}]
[null,null,null,null,null,null,null,null,null,null,null,null,null,null,null,null,null,null,9,"-","-","4--5",3,"2--6",5,"2--3",7,null,null,null,6,{"$f":"nlc(INDEX(Gr.inf.!$B:$B,ROW(AF10)-10*INT(ROW(AF10)/35)))","v":""},{"$f":"nlc(INDEX(Gr.inf.!$C:$C,ROW(AG10)-10*INT(ROW(AG10)/35)))","v":""}]
[null,null,null,null,null,null,null,null,null,null,null,null,null,null,null,null,null,null,10,"-","-","1--2",4,"1--3",6,"1--5",2,null,null,null,7,{"$f":"nlc(INDEX(Gr.inf.!$B:$B,ROW(AF11)-10*INT(ROW(AF11)/35)))","v":""},{"$f":"nlc(INDEX(Gr.inf.!$C:$C,ROW(AG11)-10*INT(ROW(AG11)/35)))","v":""}]
[null,null,null,null,null,null,null,null,null,null,null,null,null,null,null,null,null,null,11,"-","-","-","-","2--4",3,"4--6",5]
[null,null,null,null,null,null,null,null,null,null,null,null,null,null,null,null,null,null,12,"-","-","-","-","5--6",4,"3--7",6,null,null,null,"Meci","Jucator 1","Jucator 2","Set 1","Set 2","Set 3","Set 4","Set 5","Scor","Arbitru",null,"Timp\nestim.",{"$f":"7-COUNTBLANK(AF5:AF11)","v":0}]
[null,null,null,null,null,null,null,null,null,null,null,null,null,null,null,null,null,null,13,"-","-","-","-","1--2",5,"1--4",3,null,null,null,{"$f":"IFERROR(VLOOKUP(AQ14,$S:$AA,AQ13*2-6,FALSE),\"\")","v":""},{"$f":"IFERROR(PROPER(VLOOKUP(LEFT(AE14,1)+0,AE5:AF11,2,FALSE)),\"\")","v":""},{"$f":"IFERROR(PROPER(VLOOKUP(RIGHT(AE14,1)+0,AE5:AF11,2,FALSE)),\"\")","v":""},null,null,null,null,null,null,{"$f":"IFERROR(lfs(PROPER(VLOOKUP(AR14,AE5:AF11,2,FALSE))),\"\")","v":""},null,{"$f":"$P$2","v":"10:00:00"},1,{"$f":"IFERROR(VLOOKUP(AQ14,$S:$AA,AQ13*2-5,FALSE),\"\")","v":""}]
[null,null,null,null,null,null,null,null,null,null,null,null,null,null,null,null,null,null,14,"-","-","-","-","3--6",1,"3--5",4,null,null,null,{"$f":"IFERROR(VLOOKUP(AQ15,$S:$AA,AQ13*2-6,FALSE),\"\")","v":""},{"$f":"IFERROR(PROPER(VLOOKUP(LEFT(AE15,1)+0,AE5:AF11,2,FALSE)),\"\")","v":""},{"$f":"IFERROR(PROPER(VLOOKUP(RIGHT(AE15,1)+0,AE5:AF11,2,FALSE)),\"\")","v":""},null,null,null,null,null,null,{"$f":"IFERROR(lfs(PROPER(VLOOKUP(AR15,AE5:AF11,2,FALSE))),\"\")","v":""},null,{"$f":"AP14+$Q$2","v":"10:15:00"},2,{"$f":"IFERROR(VLOOKUP(AQ15,$S:$AA,AQ13*2-5,FALSE),\"\")","v":""}]
[null,null,null,null,null,null,null,null,null,null,null,null,null,null,null,null,null,null,15,"-","-","-","-","4--5",3,"2--6",5,null,null,null,{"$f":"IFERROR(VLOOKUP(AQ16,$S:$AA,AQ13*2-6,FALSE),\"\")","v":""},{"$f":"IFERROR(PROPER(VLOOKUP(LEFT(AE16,1)+0,AE5:AF11,2,FALSE)),\"\")","v":""},{"$f":"IFERROR(PROPER(VLOOKUP(RIGHT(AE16,1)+0,AE5:AF11,2,FALSE)),\"\")","v":""},null,null,null,null,null,null,{"$f":"IFERROR(lfs(PROPER(VLOOKUP(AR16,AE5:AF11,2,FALSE))),\"\")","v":""},null,"10:30:00",3,{"$f":"IFERROR(VLOOKUP(AQ16,$S:$AA,AQ13*2-5,FALSE),\"\")","v":""}]
[null,null,null,null,null,null,null,null,null,null,null,null,null,null,null,null,null,null,16,"-","-","-","-","-","-","1--3",2,null,null,null,{"$f":"IFERROR(VLOOKUP(AQ17,$S:$AA,AQ13*2-6,FALSE),\"\")","v":""},{"$f":"IFERROR(PROPER(VLOOKUP(LEFT(AE17,1)+0,AE5:AF11,2,FALSE)),\"\")","v":""},{"$f":"IFERROR(PROPER(VLOOKUP(RIGHT(AE17,1)+0,AE5:AF11,2,FALSE)),\"\")","v":""},null,null,null,null,null,null,{"$f":"IFERROR(lfs(PROPER(VLOOKUP(AR17,AE5:AF11,2,FALSE))),\"\")","v":""},null,"10:45:00",4,{"$f":"IFERROR(VLOOKUP(AQ17,$S:$AA,AQ13*2-5,FALSE),\"\")","v":""}]
[null,null,null,null,null,null,null,null,null,null,null,null,null,null,null,null,null,null,17,"-","-","-","-","-","-","2--4",3,null,null,null,{"$f":"IFERROR(VLOOKUP(AQ18,$S:$AA,AQ13*2-6,FALSE),\"\")","v":""},{"$f":"IFERROR(PROPER(VLOOKUP(LEFT(AE18,1)+0,AE5:AF11,2,FALSE)),\"\")","v":""},{"$f":"IFERROR(PROPER(VLOOKUP(RIGHT(AE18,1)+0,AE5:AF11,2,FALSE)),\"\")","v":""},null,null,null,null,null,null,{"$f":"IFERROR(lfs(PROPER(VLOOKUP(AR18,AE5:AF11,2,FALSE))),\"\")","v":""},null,"11:00:00",5,{"$f":"IFERROR(VLOOKUP(AQ18,$S:$AA,AQ13*2-5,FALSE),\"\")","v":""}]
[null,null,null,null,null,null,null,null,null,null,null,null,null,null,null,null,null,null,18,"-","-","-","-","-","-","6--7",4,null,null,null,{"$f":"IFERROR(VLOOKUP(AQ19,$S:$AA,AQ13*2-6,FALSE),\"\")","v":""},{"$f":"IFERROR(PROPER(VLOOKUP(LEFT(AE19,1)+0,AE5:AF11,2,FALSE)),\"\")","v":""},{"$f":"IFERROR(PROPER(VLOOKUP(RIGHT(AE19,1)+0,AE5:AF11,2,FALSE)),\"\")","v":""},null,null,null,null,null,null,{"$f":"IFERROR(lfs(PROPER(VLOOKUP(AR19,AE5:AF11,2,FALSE))),\"\")","v":""},null,"11:15:00",6,{"$f":"IFERROR(VLOOKUP(AQ19,$S:$AA,AQ13*2-5,FALSE),\"\")","v":""}]
[null,null,null,null,null,null,null,null,null,null,null,null,null,null,null,null,null,null,19,"-","-","-","-","-","-","1--2",7,null,null,null,{"$f":"IFERROR(VLOOKUP(AQ20,$S:$AA,AQ13*2-6,FALSE),\"\")","v":""},{"$f":"IFERROR(PROPER(VLOOKUP(LEFT(AE20,1)+0,AE5:AF11,2,FALSE)),\"\")","v":""},{"$f":"IFERROR(PROPER(VLOOKUP(RIGHT(AE20,1)+0,AE5:AF11,2,FALSE)),\"\")","v":""},null,null,null,null,null,null,{"$f":"IFERROR(lfs(PROPER(VLOOKUP(AR20,AE5:AF11,2,FALSE))),\"\")","v":""},null,"11:30:00",7,{"$f":"IFERROR(VLOOKUP(AQ20,$S:$AA,AQ13*2-5,FALSE),\"\")","v":""}]
[null,null,null,null,null,null,null,null,null,null,null,null,null,null,null,null,null,null,20,"-","-","-","-","-","-","5--6",1,null,null,null,{"$f":"IFERROR(VLOOKUP(AQ21,$S:$AA,AQ13*2-6,FALSE),\"\")","v":""},{"$f":"IFERROR(PROPER(VLOOKUP(LEFT(AE21,1)+0,AE5:AF11,2,FALSE)),\"\")","v":""},{"$f":"IFERROR(PROPER(VLOOKUP(RIGHT(AE21,1)+0,AE5:AF11,2,FALSE)),\"\")","v":""},null,null,null,null,null,null,{"$f":"IFERROR(lfs(PROPER(VLOOKUP(AR21,AE5:AF11,2,FALSE))),\"\")","v":""},null,"11:45:00",8,{"$f":"IFERROR(VLOOKUP(AQ21,$S:$AA,AQ13*2-5,FALSE),\"\")","v":""}]
[null,null,null,null,null,null,null,null,null,null,null,null,null,null,null,null,null,null,21,"-","-","-","-","-","-","4--7",6,null,null,null,{"$f":"IFERROR(VLOOKUP(AQ22,$S:$AA,AQ13*2-6,FALSE),\"\")","v":""},{"$f":"IFERROR(PROPER(VLOOKUP(LEFT(AE22,1)+0,AE5:AF11,2,FALSE)),\"\")","v":""},{"$f":"IFERROR(PROPER(VLOOKUP(RIGHT(AE22,1)+0,AE5:AF11,2,FALSE)),\"\")","v":""},null,null,null,null,null,null,{"$f":"IFERROR(lfs(PROPER(VLOOKUP(AR22,AE5:AF11,2,FALSE))),\"\")","v":""},null,"12:00:00",9,{"$f":"IFERROR(VLOOKUP(AQ22,$S:$AA,AQ13*2-5,FALSE),\"\")","v":""}]
[null,null,null,null,null,null,null,null,null,null,null,null,null,null,null,null,null,null,null,null,null,null,null,null,null,null,null,null,null,null,{"$f":"IFERROR(VLOOKUP(AQ23,$S:$AA,AQ13*2-6,FALSE),\"\")","v":""},{"$f":"IFERROR(PROPER(VLOOKUP(LEFT(AE23,1)+0,AE5:AF11,2,FALSE)),\"\")","v":""},{"$f":"IFERROR(PROPER(VLOOKUP(RIGHT(AE23,1)+0,AE5:AF11,2,FALSE)),\"\")","v":""},null,null,null,null,null,null,{"$f":"IFERROR(lfs(PROPER(VLOOKUP(AR23,AE5:AF11,2,FALSE))),\"\")","v":""},null,"12:15:00",10,{"$f":"IFERROR(VLOOKUP(AQ23,$S:$AA,AQ13*2-5,FALSE),\"\")","v":""}]
[null,null,null,null,null,null,null,null,null,null,null,null,null,null,null,null,null,null,null,null,null,null,null,null,null,null,null,null,null,null,{"$f":"IFERROR(VLOOKUP(AQ24,$S:$AA,AQ13*2-6,FALSE),\"\")","v":""},{"$f":"IFERROR(PROPER(VLOOKUP(LEFT(AE24,1)+0,AE5:AF11,2,FALSE)),\"\")","v":""},{"$f":"IFERROR(PROPER(VLOOKUP(RIGHT(AE24,1)+0,AE5:AF11,2,FALSE)),\"\")","v":""},null,null,null,null,null,null,{"$f":"IFERROR(lfs(PROPER(VLOOKUP(AR24,AE5:AF11,2,FALSE))),\"\")","v":""},null,"12:30:00",11,{"$f":"IFERROR(VLOOKUP(AQ24,$S:$AA,AQ13*2-5,FALSE),\"\")","v":""}]
[null,null,null,null,null,null,null,null,null,null,null,null,null,null,null,null,null,null,null,null,null,null,null,null,null,null,null,null,null,null,{"$f":"IFERROR(VLOOKUP(AQ25,$S:$AA,AQ13*2-6,FALSE),\"\")","v":""},{"$f":"IFERROR(PROPER(VLOOKUP(LEFT(AE25,1)+0,AE5:AF11,2,FALSE)),\"\")","v":""},{"$f":"IFERROR(PROPER(VLOOKUP(RIGHT(AE25,1)+0,AE5:AF11,2,FALSE)),\"\")","v":""},null,null,null,null,null,null,{"$f":"IFERROR(lfs(PROPER(VLOOKUP(AR25,AE5:AF11,2,FALSE))),\"\")","v":""},null,"12:45:00",12,{"$f":"IFERROR(VLOOKUP(AQ25,$S:$AA,AQ13*2-5,FALSE),\"\")","v":""}]
[null,null,null,null,null,null,null,null,null,null,null,null,null,null,null,null,null,null,null,null,null,null,null,null,null,null,null,null,null,null,{"$f":"IFERROR(VLOOKUP(AQ26,$S:$AA,AQ13*2-6,FALSE),\"\")","v":""},{"$f":"IFERROR(PROPER(VLOOKUP(LEFT(AE26,1)+0,AE5:AF11,2,FALSE)),\"\")","v":""},{"$f":"IFERROR(PROPER(VLOOKUP(RIGHT(AE26,1)+0,AE5:AF11,2,FALSE)),\"\")","v":""},null,null,null,null,null,null,{"$f":"IFERROR(lfs(PROPER(VLOOKUP(AR26,AE5:AF11,2,FALSE))),\"\")","v":""},null,"13:00:00",13,{"$f":"IFERROR(VLOOKUP(AQ26,$S:$AA,AQ13*2-5,FALSE),\"\")","v":""}]
[null,null,null,null,null,null,null,null,null,null,null,null,null,null,null,null,null,null,null,null,null,null,null,null,null,null,null,null,null,null,{"$f":"IFERROR(VLOOKUP(AQ27,$S:$AA,AQ13*2-6,FALSE),\"\")","v":""},{"$f":"IFERROR(PROPER(VLOOKUP(LEFT(AE27,1)+0,AE5:AF11,2,FALSE)),\"\")","v":""},{"$f":"IFERROR(PROPER(VLOOKUP(RIGHT(AE27,1)+0,AE5:AF11,2,FALSE)),\"\")","v":""},null,null,null,null,null,null,{"$f":"IFERROR(lfs(PROPER(VLOOKUP(AR27,AE5:AF11,2,FALSE))),\"\")","v":""},null,"13:15:00",14,{"$f":"IFERROR(VLOOKUP(AQ27,$S:$AA,AQ13*2-5,FALSE),\"\")","v":""}]
[null,null,null,null,null,null,null,null,null,null,null,null,null,null,null,null,null,null,null,null,null,null,null,null,null,null,null,null,null,null,{"$f":"IFERROR(VLOOKUP(AQ28,$S:$AA,AQ13*2-6,FALSE),\"\")","v":""},{"$f":"IFERROR(PROPER(VLOOKUP(LEFT(AE28,1)+0,AE5:AF11,2,FALSE)),\"\")","v":""},{"$f":"IFERROR(PROPER(VLOOKUP(RIGHT(AE28,1)+0,AE5:AF11,2,FALSE)),\"\")","v":""},null,null,null,null,null,null,{"$f":"IFERROR(lfs(PROPER(VLOOKUP(AR28,AE5:AF11,2,FALSE))),\"\")","v":""},null,"13:30:00",15,{"$f":"IFERROR(VLOOKUP(AQ28,$S:$AA,AQ13*2-5,FALSE),\"\")","v":""}]
[null,null,null,null,null,null,null,null,null,null,null,null,null,null,null,null,null,null,null,null,null,null,null,null,null,null,null,null,null,null,{"$f":"IFERROR(VLOOKUP(AQ29,$S:$AA,AQ13*2-6,FALSE),\"\")","v":""},{"$f":"IFERROR(PROPER(VLOOKUP(LEFT(AE29,1)+0,AE5:AF11,2,FALSE)),\"\")","v":""},{"$f":"IFERROR(PROPER(VLOOKUP(RIGHT(AE29,1)+0,AE5:AF11,2,FALSE)),\"\")","v":""},null,null,null,null,null,null,{"$f":"IFERROR(lfs(PROPER(VLOOKUP(AR29,AE5:AF11,2,FALSE))),\"\")","v":""},null,{"$f":"AP28+$Q$2","v":"13:45:00"},16,{"$f":"IFERROR(VLOOKUP(AQ29,$S:$AA,AQ13*2-5,FALSE),\"\")","v":""}]
[null,null,null,null,null,null,null,null,null,null,null,null,null,null,null,null,null,null,null,null,null,null,null,null,null,null,null,null,null,null,{"$f":"IFERROR(VLOOKUP(AQ30,$S:$AA,AQ13*2-6,FALSE),\"\")","v":""},{"$f":"IFERROR(PROPER(VLOOKUP(LEFT(AE30,1)+0,AE5:AF11,2,FALSE)),\"\")","v":""},{"$f":"IFERROR(PROPER(VLOOKUP(RIGHT(AE30,1)+0,AE5:AF11,2,FALSE)),\"\")","v":""},null,null,null,null,null,null,{"$f":"IFERROR(lfs(PROPER(VLOOKUP(AR30,AE5:AF11,2,FALSE))),\"\")","v":""},null,"14:00:00",17,{"$f":"IFERROR(VLOOKUP(AQ30,$S:$AA,AQ13*2-5,FALSE),\"\")","v":""}]
[null,null,null,null,null,null,null,null,null,null,null,null,null,null,null,null,null,null,null,null,null,null,null,null,null,null,null,null,null,null,{"$f":"IFERROR(VLOOKUP(AQ31,$S:$AA,AQ13*2-6,FALSE),\"\")","v":""},{"$f":"IFERROR(PROPER(VLOOKUP(LEFT(AE31,1)+0,AE5:AF11,2,FALSE)),\"\")","v":""},{"$f":"IFERROR(PROPER(VLOOKUP(RIGHT(AE31,1)+0,AE5:AF11,2,FALSE)),\"\")","v":""},null,null,null,null,null,null,{"$f":"IFERROR(lfs(PROPER(VLOOKUP(AR31,AE5:AF11,2,FALSE))),\"\")","v":""},null,"14:15:00",18,{"$f":"IFERROR(VLOOKUP(AQ31,$S:$AA,AQ13*2-5,FALSE),\"\")","v":""}]
[null,null,null,null,null,null,null,null,null,null,null,null,null,null,null,null,null,null,null,null,null,null,null,null,null,null,null,null,null,null,{"$f":"IFERROR(VLOOKUP(AQ32,$S:$AA,AQ13*2-6,FALSE),\"\")","v":""},{"$f":"IFERROR(PROPER(VLOOKUP(LEFT(AE32,1)+0,AE5:AF11,2,FALSE)),\"\")","v":""},{"$f":"IFERROR(PROPER(VLOOKUP(RIGHT(AE32,1)+0,AE5:AF11,2,FALSE)),\"\")","v":""},null,null,null,null,null,null,{"$f":"IFERROR(lfs(PROPER(VLOOKUP(AR32,AE5:AF11,2,FALSE))),\"\")","v":""},null,"14:30:00",19,{"$f":"IFERROR(VLOOKUP(AQ32,$S:$AA,AQ13*2-5,FALSE),\"\")","v":""}]
[null,null,null,null,null,null,null,null,null,null,null,null,null,null,null,null,null,null,null,null,null,null,null,null,null,null,null,null,null,null,{"$f":"IFERROR(VLOOKUP(AQ33,$S:$AA,AQ13*2-6,FALSE),\"\")","v":""},{"$f":"IFERROR(PROPER(VLOOKUP(LEFT(AE33,1)+0,AE5:AF11,2,FALSE)),\"\")","v":""},{"$f":"IFERROR(PROPER(VLOOKUP(RIGHT(AE33,1)+0,AE5:AF11,2,FALSE)),\"\")","v":""},null,null,null,null,null,null,{"$f":"IFERROR(lfs(PROPER(VLOOKUP(AR33,AE5:AF11,2,FALSE))),\"\")","v":""},null,"14:45:00",20,{"$f":"IFERROR(VLOOKUP(AQ33,$S:$AA,AQ13*2-5,FALSE),\"\")","v":""}]
[null,null,null,null,null,null,null,null,null,null,null,null,null,null,null,null,null,null,null,null,null,null,null,null,null,null,null,null,null,null,{"$f":"IFERROR(VLOOKUP(AQ34,$S:$AA,AQ13*2-6,FALSE),\"\")","v":""},{"$f":"IFERROR(PROPER(VLOOKUP(LEFT(AE34,1)+0,AE5:AF11,2,FALSE)),\"\")","v":""},{"$f":"IFERROR(PROPER(VLOOKUP(RIGHT(AE34,1)+0,AE5:AF11,2,FALSE)),\"\")","v":""},null,null,null,null,null,null,{"$f":"IFERROR(lfs(PROPER(VLOOKUP(AR34,AE5:AF11,2,FALSE))),\"\")","v":""},null,"15:00:00",21,{"$f":"IFERROR(VLOOKUP(AQ34,$S:$AA,AQ13*2-5,FALSE),\"\")","v":""}]

{"sheet":"Tabel","index":16,"n_rows":33,"n_cols":19,"rows_kept":33,"cut":false,"hidden":false,"merged":[]}
["Gr.","Loc  1","Poz. tablou","1/4 tab","Loc  2","Poz. tablou","1/4 tab","Loc  3","Poz. tablou","1/4 tab","Loc  4","Poz. tablou","1/4 tab","Loc  5","Poz. tablou","1/4 tab","Loc  6","Poz. tablou","1/4 tab"]
[1,null,null,{"$f":"IF(C2=0,\"\",VLOOKUP(C2,K!$Y:$AC,5,FALSE))","v":""},null,null,{"$f":"IF(F2=0,\"\",VLOOKUP(F2,K!$Y:$AC,5,FALSE))","v":""},null,null,{"$f":"IF(I2=0,\"\",VLOOKUP(I2,K!$Y:$AC,5,FALSE))","v":""},null,null,{"$f":"IF(L2=0,\"\",VLOOKUP(L2,K!$Y:$AC,5,FALSE))","v":""},null,null,{"$f":"IF(O2=0,\"\",VLOOKUP(O2,K!$Y:$AC,5,FALSE))","v":""},null,null,{"$f":"IF(R2=0,\"\",VLOOKUP(R2,K!$Y:$AC,5,FALSE))","v":""}]
[2,null,null,{"$f":"IF(C3=0,\"\",VLOOKUP(C3,K!$Y:$AC,5,FALSE))","v":""},null,null,{"$f":"IF(F3=0,\"\",VLOOKUP(F3,K!$Y:$AC,5,FALSE))","v":""},null,null,{"$f":"IF(I3=0,\"\",VLOOKUP(I3,K!$Y:$AC,5,FALSE))","v":""},null,null,{"$f":"IF(L3=0,\"\",VLOOKUP(L3,K!$Y:$AC,5,FALSE))","v":""},null,null,{"$f":"IF(O3=0,\"\",VLOOKUP(O3,K!$Y:$AC,5,FALSE))","v":""},null,null,{"$f":"IF(R3=0,\"\",VLOOKUP(R3,K!$Y:$AC,5,FALSE))","v":""}]
[3,null,null,{"$f":"IF(C4=0,\"\",VLOOKUP(C4,K!$Y:$AC,5,FALSE))","v":""},null,null,{"$f":"IF(F4=0,\"\",VLOOKUP(F4,K!$Y:$AC,5,FALSE))","v":""},null,null,{"$f":"IF(I4=0,\"\",VLOOKUP(I4,K!$Y:$AC,5,FALSE))","v":""},null,null,{"$f":"IF(L4=0,\"\",VLOOKUP(L4,K!$Y:$AC,5,FALSE))","v":""},null,null,{"$f":"IF(O4=0,\"\",VLOOKUP(O4,K!$Y:$AC,5,FALSE))","v":""},null,null,{"$f":"IF(R4=0,\"\",VLOOKUP(R4,K!$Y:$AC,5,FALSE))","v":""}]
[4,null,null,{"$f":"IF(C5=0,\"\",VLOOKUP(C5,K!$Y:$AC,5,FALSE))","v":""},null,null,{"$f":"IF(F5=0,\"\",VLOOKUP(F5,K!$Y:$AC,5,FALSE))","v":""},null,null,{"$f":"IF(I5=0,\"\",VLOOKUP(I5,K!$Y:$AC,5,FALSE))","v":""},null,null,{"$f":"IF(L5=0,\"\",VLOOKUP(L5,K!$Y:$AC,5,FALSE))","v":""},null,null,{"$f":"IF(O5=0,\"\",VLOOKUP(O5,K!$Y:$AC,5,FALSE))","v":""},null,null,{"$f":"IF(R5=0,\"\",VLOOKUP(R5,K!$Y:$AC,5,FALSE))","v":""}]
[5,null,null,{"$f":"IF(C6=0,\"\",VLOOKUP(C6,K!$Y:$AC,5,FALSE))","v":""},null,null,{"$f":"IF(F6=0,\"\",VLOOKUP(F6,K!$Y:$AC,5,FALSE))","v":""},null,null,{"$f":"IF(I6=0,\"\",VLOOKUP(I6,K!$Y:$AC,5,FALSE))","v":""},null,null,{"$f":"IF(L6=0,\"\",VLOOKUP(L6,K!$Y:$AC,5,FALSE))","v":""},null,null,{"$f":"IF(O6=0,\"\",VLOOKUP(O6,K!$Y:$AC,5,FALSE))","v":""},null,null,{"$f":"IF(R6=0,\"\",VLOOKUP(R6,K!$Y:$AC,5,FALSE))","v":""}]
[6,null,null,{"$f":"IF(C7=0,\"\",VLOOKUP(C7,K!$Y:$AC,5,FALSE))","v":""},null,null,{"$f":"IF(F7=0,\"\",VLOOKUP(F7,K!$Y:$AC,5,FALSE))","v":""},null,null,{"$f":"IF(I7=0,\"\",VLOOKUP(I7,K!$Y:$AC,5,FALSE))","v":""},null,null,{"$f":"IF(L7=0,\"\",VLOOKUP(L7,K!$Y:$AC,5,FALSE))","v":""},null,null,{"$f":"IF(O7=0,\"\",VLOOKUP(O7,K!$Y:$AC,5,FALSE))","v":""},null,null,{"$f":"IF(R7=0,\"\",VLOOKUP(R7,K!$Y:$AC,5,FALSE))","v":""}]
[7,null,null,{"$f":"IF(C8=0,\"\",VLOOKUP(C8,K!$Y:$AC,5,FALSE))","v":""},null,null,{"$f":"IF(F8=0,\"\",VLOOKUP(F8,K!$Y:$AC,5,FALSE))","v":""},null,null,{"$f":"IF(I8=0,\"\",VLOOKUP(I8,K!$Y:$AC,5,FALSE))","v":""},null,null,{"$f":"IF(L8=0,\"\",VLOOKUP(L8,K!$Y:$AC,5,FALSE))","v":""},null,null,{"$f":"IF(O8=0,\"\",VLOOKUP(O8,K!$Y:$AC,5,FALSE))","v":""},null,null,{"$f":"IF(R8=0,\"\",VLOOKUP(R8,K!$Y:$AC,5,FALSE))","v":""}]
[8,null,null,{"$f":"IF(C9=0,\"\",VLOOKUP(C9,K!$Y:$AC,5,FALSE))","v":""},null,null,{"$f":"IF(F9=0,\"\",VLOOKUP(F9,K!$Y:$AC,5,FALSE))","v":""},null,null,{"$f":"IF(I9=0,\"\",VLOOKUP(I9,K!$Y:$AC,5,FALSE))","v":""},null,null,{"$f":"IF(L9=0,\"\",VLOOKUP(L9,K!$Y:$AC,5,FALSE))","v":""},null,null,{"$f":"IF(O9=0,\"\",VLOOKUP(O9,K!$Y:$AC,5,FALSE))","v":""},null,null,{"$f":"IF(R9=0,\"\",VLOOKUP(R9,K!$Y:$AC,5,FALSE))","v":""}]
[9,null,null,{"$f":"IF(C10=0,\"\",VLOOKUP(C10,K!$Y:$AC,5,FALSE))","v":""},null,null,{"$f":"IF(F10=0,\"\",VLOOKUP(F10,K!$Y:$AC,5,FALSE))","v":""},null,null,{"$f":"IF(I10=0,\"\",VLOOKUP(I10,K!$Y:$AC,5,FALSE))","v":""},null,null,{"$f":"IF(L10=0,\"\",VLOOKUP(L10,K!$Y:$AC,5,FALSE))","v":""},null,null,{"$f":"IF(O10=0,\"\",VLOOKUP(O10,K!$Y:$AC,5,FALSE))","v":""},null,null,{"$f":"IF(R10=0,\"\",VLOOKUP(R10,K!$Y:$AC,5,FALSE))","v":""}]
[10,null,null,{"$f":"IF(C11=0,\"\",VLOOKUP(C11,K!$Y:$AC,5,FALSE))","v":""},null,null,{"$f":"IF(F11=0,\"\",VLOOKUP(F11,K!$Y:$AC,5,FALSE))","v":""},null,null,{"$f":"IF(I11=0,\"\",VLOOKUP(I11,K!$Y:$AC,5,FALSE))","v":""},null,null,{"$f":"IF(L11=0,\"\",VLOOKUP(L11,K!$Y:$AC,5,FALSE))","v":""},null,null,{"$f":"IF(O11=0,\"\",VLOOKUP(O11,K!$Y:$AC,5,FALSE))","v":""},null,null,{"$f":"IF(R11=0,\"\",VLOOKUP(R11,K!$Y:$AC,5,FALSE))","v":""}]
[11,null,null,{"$f":"IF(C12=0,\"\",VLOOKUP(C12,K!$Y:$AC,5,FALSE))","v":""},null,null,{"$f":"IF(F12=0,\"\",VLOOKUP(F12,K!$Y:$AC,5,FALSE))","v":""},null,null,{"$f":"IF(I12=0,\"\",VLOOKUP(I12,K!$Y:$AC,5,FALSE))","v":""},null,null,{"$f":"IF(L12=0,\"\",VLOOKUP(L12,K!$Y:$AC,5,FALSE))","v":""},null,null,{"$f":"IF(O12=0,\"\",VLOOKUP(O12,K!$Y:$AC,5,FALSE))","v":""},null,null,{"$f":"IF(R12=0,\"\",VLOOKUP(R12,K!$Y:$AC,5,FALSE))","v":""}]
[12,null,null,{"$f":"IF(C13=0,\"\",VLOOKUP(C13,K!$Y:$AC,5,FALSE))","v":""},null,null,{"$f":"IF(F13=0,\"\",VLOOKUP(F13,K!$Y:$AC,5,FALSE))","v":""},null,null,{"$f":"IF(I13=0,\"\",VLOOKUP(I13,K!$Y:$AC,5,FALSE))","v":""},null,null,{"$f":"IF(L13=0,\"\",VLOOKUP(L13,K!$Y:$AC,5,FALSE))","v":""},null,null,{"$f":"IF(O13=0,\"\",VLOOKUP(O13,K!$Y:$AC,5,FALSE))","v":""},null,null,{"$f":"IF(R13=0,\"\",VLOOKUP(R13,K!$Y:$AC,5,FALSE))","v":""}]
[13,null,null,{"$f":"IF(C14=0,\"\",VLOOKUP(C14,K!$Y:$AC,5,FALSE))","v":""},null,null,{"$f":"IF(F14=0,\"\",VLOOKUP(F14,K!$Y:$AC,5,FALSE))","v":""},null,null,{"$f":"IF(I14=0,\"\",VLOOKUP(I14,K!$Y:$AC,5,FALSE))","v":""},null,null,{"$f":"IF(L14=0,\"\",VLOOKUP(L14,K!$Y:$AC,5,FALSE))","v":""},null,null,{"$f":"IF(O14=0,\"\",VLOOKUP(O14,K!$Y:$AC,5,FALSE))","v":""},null,null,{"$f":"IF(R14=0,\"\",VLOOKUP(R14,K!$Y:$AC,5,FALSE))","v":""}]
[14,null,null,{"$f":"IF(C15=0,\"\",VLOOKUP(C15,K!$Y:$AC,5,FALSE))","v":""},null,null,{"$f":"IF(F15=0,\"\",VLOOKUP(F15,K!$Y:$AC,5,FALSE))","v":""},null,null,{"$f":"IF(I15=0,\"\",VLOOKUP(I15,K!$Y:$AC,5,FALSE))","v":""},null,null,{"$f":"IF(L15=0,\"\",VLOOKUP(L15,K!$Y:$AC,5,FALSE))","v":""},null,null,{"$f":"IF(O15=0,\"\",VLOOKUP(O15,K!$Y:$AC,5,FALSE))","v":""},null,null,{"$f":"IF(R15=0,\"\",VLOOKUP(R15,K!$Y:$AC,5,FALSE))","v":""}]
[15,null,null,{"$f":"IF(C16=0,\"\",VLOOKUP(C16,K!$Y:$AC,5,FALSE))","v":""},null,null,{"$f":"IF(F16=0,\"\",VLOOKUP(F16,K!$Y:$AC,5,FALSE))","v":""},null,null,{"$f":"IF(I16=0,\"\",VLOOKUP(I16,K!$Y:$AC,5,FALSE))","v":""},null,null,{"$f":"IF(L16=0,\"\",VLOOKUP(L16,K!$Y:$AC,5,FALSE))","v":""},null,null,{"$f":"IF(O16=0,\"\",VLOOKUP(O16,K!$Y:$AC,5,FALSE))","v":""},null,null,{"$f":"IF(R16=0,\"\",VLOOKUP(R16,K!$Y:$AC,5,FALSE))","v":""}]
[16,null,null,{"$f":"IF(C17=0,\"\",VLOOKUP(C17,K!$Y:$AC,5,FALSE))","v":""},null,null,{"$f":"IF(F17=0,\"\",VLOOKUP(F17,K!$Y:$AC,5,FALSE))","v":""},null,null,{"$f":"IF(I17=0,\"\",VLOOKUP(I17,K!$Y:$AC,5,FALSE))","v":""},null,null,{"$f":"IF(L17=0,\"\",VLOOKUP(L17,K!$Y:$AC,5,FALSE))","v":""},null,null,{"$f":"IF(O17=0,\"\",VLOOKUP(O17,K!$Y:$AC,5,FALSE))","v":""},null,null,{"$f":"IF(R17=0,\"\",VLOOKUP(R17,K!$Y:$AC,5,FALSE))","v":""}]
[17,null,null,{"$f":"IF(C18=0,\"\",VLOOKUP(C18,K!$Y:$AC,5,FALSE))","v":""},null,null,{"$f":"IF(F18=0,\"\",VLOOKUP(F18,K!$Y:$AC,5,FALSE))","v":""},null,null,{"$f":"IF(I18=0,\"\",VLOOKUP(I18,K!$Y:$AC,5,FALSE))","v":""},null,null,{"$f":"IF(L18=0,\"\",VLOOKUP(L18,K!$Y:$AC,5,FALSE))","v":""},null,null,{"$f":"IF(O18=0,\"\",VLOOKUP(O18,K!$Y:$AC,5,FALSE))","v":""},null,null,{"$f":"IF(R18=0,\"\",VLOOKUP(R18,K!$Y:$AC,5,FALSE))","v":""}]
[18,null,null,{"$f":"IF(C19=0,\"\",VLOOKUP(C19,K!$Y:$AC,5,FALSE))","v":""},null,null,{"$f":"IF(F19=0,\"\",VLOOKUP(F19,K!$Y:$AC,5,FALSE))","v":""},null,null,{"$f":"IF(I19=0,\"\",VLOOKUP(I19,K!$Y:$AC,5,FALSE))","v":""},null,null,{"$f":"IF(L19=0,\"\",VLOOKUP(L19,K!$Y:$AC,5,FALSE))","v":""},null,null,{"$f":"IF(O19=0,\"\",VLOOKUP(O19,K!$Y:$AC,5,FALSE))","v":""},null,null,{"$f":"IF(R19=0,\"\",VLOOKUP(R19,K!$Y:$AC,5,FALSE))","v":""}]
[19,null,null,{"$f":"IF(C20=0,\"\",VLOOKUP(C20,K!$Y:$AC,5,FALSE))","v":""},null,null,{"$f":"IF(F20=0,\"\",VLOOKUP(F20,K!$Y:$AC,5,FALSE))","v":""},null,null,{"$f":"IF(I20=0,\"\",VLOOKUP(I20,K!$Y:$AC,5,FALSE))","v":""},null,null,{"$f":"IF(L20=0,\"\",VLOOKUP(L20,K!$Y:$AC,5,FALSE))","v":""},null,null,{"$f":"IF(O20=0,\"\",VLOOKUP(O20,K!$Y:$AC,5,FALSE))","v":""},null,null,{"$f":"IF(R20=0,\"\",VLOOKUP(R20,K!$Y:$AC,5,FALSE))","v":""}]
[20,null,null,{"$f":"IF(C21=0,\"\",VLOOKUP(C21,K!$Y:$AC,5,FALSE))","v":""},null,null,{"$f":"IF(F21=0,\"\",VLOOKUP(F21,K!$Y:$AC,5,FALSE))","v":""},null,null,{"$f":"IF(I21=0,\"\",VLOOKUP(I21,K!$Y:$AC,5,FALSE))","v":""},null,null,{"$f":"IF(L21=0,\"\",VLOOKUP(L21,K!$Y:$AC,5,FALSE))","v":""},null,null,{"$f":"IF(O21=0,\"\",VLOOKUP(O21,K!$Y:$AC,5,FALSE))","v":""},null,null,{"$f":"IF(R21=0,\"\",VLOOKUP(R21,K!$Y:$AC,5,FALSE))","v":""}]
[21,null,null,{"$f":"IF(C22=0,\"\",VLOOKUP(C22,K!$Y:$AC,5,FALSE))","v":""},null,null,{"$f":"IF(F22=0,\"\",VLOOKUP(F22,K!$Y:$AC,5,FALSE))","v":""},null,null,{"$f":"IF(I22=0,\"\",VLOOKUP(I22,K!$Y:$AC,5,FALSE))","v":""},null,null,{"$f":"IF(L22=0,\"\",VLOOKUP(L22,K!$Y:$AC,5,FALSE))","v":""},null,null,{"$f":"IF(O22=0,\"\",VLOOKUP(O22,K!$Y:$AC,5,FALSE))","v":""},null,null,{"$f":"IF(R22=0,\"\",VLOOKUP(R22,K!$Y:$AC,5,FALSE))","v":""}]
[22,null,null,{"$f":"IF(C23=0,\"\",VLOOKUP(C23,K!$Y:$AC,5,FALSE))","v":""},null,null,{"$f":"IF(F23=0,\"\",VLOOKUP(F23,K!$Y:$AC,5,FALSE))","v":""},null,null,{"$f":"IF(I23=0,\"\",VLOOKUP(I23,K!$Y:$AC,5,FALSE))","v":""},null,null,{"$f":"IF(L23=0,\"\",VLOOKUP(L23,K!$Y:$AC,5,FALSE))","v":""},null,null,{"$f":"IF(O23=0,\"\",VLOOKUP(O23,K!$Y:$AC,5,FALSE))","v":""},null,null,{"$f":"IF(R23=0,\"\",VLOOKUP(R23,K!$Y:$AC,5,FALSE))","v":""}]
[23,null,null,{"$f":"IF(C24=0,\"\",VLOOKUP(C24,K!$Y:$AC,5,FALSE))","v":""},null,null,{"$f":"IF(F24=0,\"\",VLOOKUP(F24,K!$Y:$AC,5,FALSE))","v":""},null,null,{"$f":"IF(I24=0,\"\",VLOOKUP(I24,K!$Y:$AC,5,FALSE))","v":""},null,null,{"$f":"IF(L24=0,\"\",VLOOKUP(L24,K!$Y:$AC,5,FALSE))","v":""},null,null,{"$f":"IF(O24=0,\"\",VLOOKUP(O24,K!$Y:$AC,5,FALSE))","v":""},null,null,{"$f":"IF(R24=0,\"\",VLOOKUP(R24,K!$Y:$AC,5,FALSE))","v":""}]
[24,null,null,{"$f":"IF(C25=0,\"\",VLOOKUP(C25,K!$Y:$AC,5,FALSE))","v":""},null,null,{"$f":"IF(F25=0,\"\",VLOOKUP(F25,K!$Y:$AC,5,FALSE))","v":""},null,null,{"$f":"IF(I25=0,\"\",VLOOKUP(I25,K!$Y:$AC,5,FALSE))","v":""},null,null,{"$f":"IF(L25=0,\"\",VLOOKUP(L25,K!$Y:$AC,5,FALSE))","v":""},null,null,{"$f":"IF(O25=0,\"\",VLOOKUP(O25,K!$Y:$AC,5,FALSE))","v":""},null,null,{"$f":"IF(R25=0,\"\",VLOOKUP(R25,K!$Y:$AC,5,FALSE))","v":""}]
[25,null,null,{"$f":"IF(C26=0,\"\",VLOOKUP(C26,K!$Y:$AC,5,FALSE))","v":""},null,null,{"$f":"IF(F26=0,\"\",VLOOKUP(F26,K!$Y:$AC,5,FALSE))","v":""},null,null,{"$f":"IF(I26=0,\"\",VLOOKUP(I26,K!$Y:$AC,5,FALSE))","v":""},null,null,{"$f":"IF(L26=0,\"\",VLOOKUP(L26,K!$Y:$AC,5,FALSE))","v":""},null,null,{"$f":"IF(O26=0,\"\",VLOOKUP(O26,K!$Y:$AC,5,FALSE))","v":""},null,null,{"$f":"IF(R26=0,\"\",VLOOKUP(R26,K!$Y:$AC,5,FALSE))","v":""}]
[26,null,null,{"$f":"IF(C27=0,\"\",VLOOKUP(C27,K!$Y:$AC,5,FALSE))","v":""},null,null,{"$f":"IF(F27=0,\"\",VLOOKUP(F27,K!$Y:$AC,5,FALSE))","v":""},null,null,{"$f":"IF(I27=0,\"\",VLOOKUP(I27,K!$Y:$AC,5,FALSE))","v":""},null,null,{"$f":"IF(L27=0,\"\",VLOOKUP(L27,K!$Y:$AC,5,FALSE))","v":""},null,null,{"$f":"IF(O27=0,\"\",VLOOKUP(O27,K!$Y:$AC,5,FALSE))","v":""},null,null,{"$f":"IF(R27=0,\"\",VLOOKUP(R27,K!$Y:$AC,5,FALSE))","v":""}]
[27,null,null,{"$f":"IF(C28=0,\"\",VLOOKUP(C28,K!$Y:$AC,5,FALSE))","v":""},null,null,{"$f":"IF(F28=0,\"\",VLOOKUP(F28,K!$Y:$AC,5,FALSE))","v":""},null,null,{"$f":"IF(I28=0,\"\",VLOOKUP(I28,K!$Y:$AC,5,FALSE))","v":""},null,null,{"$f":"IF(L28=0,\"\",VLOOKUP(L28,K!$Y:$AC,5,FALSE))","v":""},null,null,{"$f":"IF(O28=0,\"\",VLOOKUP(O28,K!$Y:$AC,5,FALSE))","v":""},null,null,{"$f":"IF(R28=0,\"\",VLOOKUP(R28,K!$Y:$AC,5,FALSE))","v":""}]
[28,null,null,{"$f":"IF(C29=0,\"\",VLOOKUP(C29,K!$Y:$AC,5,FALSE))","v":""},null,null,{"$f":"IF(F29=0,\"\",VLOOKUP(F29,K!$Y:$AC,5,FALSE))","v":""},null,null,{"$f":"IF(I29=0,\"\",VLOOKUP(I29,K!$Y:$AC,5,FALSE))","v":""},null,null,{"$f":"IF(L29=0,\"\",VLOOKUP(L29,K!$Y:$AC,5,FALSE))","v":""},null,null,{"$f":"IF(O29=0,\"\",VLOOKUP(O29,K!$Y:$AC,5,FALSE))","v":""},null,null,{"$f":"IF(R29=0,\"\",VLOOKUP(R29,K!$Y:$AC,5,FALSE))","v":""}]
[29,null,null,{"$f":"IF(C30=0,\"\",VLOOKUP(C30,K!$Y:$AC,5,FALSE))","v":""},null,null,{"$f":"IF(F30=0,\"\",VLOOKUP(F30,K!$Y:$AC,5,FALSE))","v":""},null,null,{"$f":"IF(I30=0,\"\",VLOOKUP(I30,K!$Y:$AC,5,FALSE))","v":""},null,null,{"$f":"IF(L30=0,\"\",VLOOKUP(L30,K!$Y:$AC,5,FALSE))","v":""},null,null,{"$f":"IF(O30=0,\"\",VLOOKUP(O30,K!$Y:$AC,5,FALSE))","v":""},null,null,{"$f":"IF(R30=0,\"\",VLOOKUP(R30,K!$Y:$AC,5,FALSE))","v":""}]
[30,null,null,{"$f":"IF(C31=0,\"\",VLOOKUP(C31,K!$Y:$AC,5,FALSE))","v":""},null,null,{"$f":"IF(F31=0,\"\",VLOOKUP(F31,K!$Y:$AC,5,FALSE))","v":""},null,null,{"$f":"IF(I31=0,\"\",VLOOKUP(I31,K!$Y:$AC,5,FALSE))","v":""},null,null,{"$f":"IF(L31=0,\"\",VLOOKUP(L31,K!$Y:$AC,5,FALSE))","v":""},null,null,{"$f":"IF(O31=0,\"\",VLOOKUP(O31,K!$Y:$AC,5,FALSE))","v":""},null,null,{"$f":"IF(R31=0,\"\",VLOOKUP(R31,K!$Y:$AC,5,FALSE))","v":""}]
[31,null,null,{"$f":"IF(C32=0,\"\",VLOOKUP(C32,K!$Y:$AC,5,FALSE))","v":""},null,null,{"$f":"IF(F32=0,\"\",VLOOKUP(F32,K!$Y:$AC,5,FALSE))","v":""},null,null,{"$f":"IF(I32=0,\"\",VLOOKUP(I32,K!$Y:$AC,5,FALSE))","v":""},null,null,{"$f":"IF(L32=0,\"\",VLOOKUP(L32,K!$Y:$AC,5,FALSE))","v":""},null,null,{"$f":"IF(O32=0,\"\",VLOOKUP(O32,K!$Y:$AC,5,FALSE))","v":""},null,null,{"$f":"IF(R32=0,\"\",VLOOKUP(R32,K!$Y:$AC,5,FALSE))","v":""}]
[32,null,null,{"$f":"IF(C33=0,\"\",VLOOKUP(C33,K!$Y:$AC,5,FALSE))","v":""},null,null,{"$f":"IF(F33=0,\"\",VLOOKUP(F33,K!$Y:$AC,5,FALSE))","v":""},null,null,{"$f":"IF(I33=0,\"\",VLOOKUP(I33,K!$Y:$AC,5,FALSE))","v":""},null,null,{"$f":"IF(L33=0,\"\",VLOOKUP(L33,K!$Y:$AC,5,FALSE))","v":""},null,null,{"$f":"IF(O33=0,\"\",VLOOKUP(O33,K!$Y:$AC,5,FALSE))","v":""},null,null,{"$f":"IF(R33=0,\"\",VLOOKUP(R33,K!$Y:$AC,5,FALSE))","v":""}]

{"sheet":"Elim.","index":17,"n_rows":0,"n_cols":0,"rows_kept":0,"cut":false,"hidden":false,"merged":[]}

{"sheet":"T64","index":18,"n_rows":142,"n_cols":70,"rows_kept":142,"cut":false,"hidden":true,"merged":[]}
[{"$f":"\"Eliminatorii \" & ctg & \" - page 1\"","v":"Eliminatorii Elite - page 1"},null,null,null,null,null,null,null,135,6,"SE","Loc",null,{"$f":"\"[B]\"&clr & \"Eliminatorii \" & ctg & _cle & \"[/b]\"","v":"[B][COLOR=red]Eliminatorii Elite[/COLOR] [/b]"},null,null,null,null,null,null,null,null,null,null,null,null,null,null,{"$f":"\"[b]\"&clr & \"Semifinale - \" & _cle & ctg & \"[/b]\"","v":"[b][COLOR=red]Semifinale - [/COLOR] Elite[/b]"},null,null,null,null,null,null,null,null,null,null,null,null,null,null,null,null,null,null,null,null,"R64",null,null,"R32",null,null,"R16",null,null,"R8",null,null,"SF",null,null,"F",null,null,"3rd"]
[1,null,null,null,null,null,null,null,null,null,{"$f":"H65","v":""},1,null,null,null,null,null,null,null,null,null,null,null,null,null,null,null,null,null,null,null,null,null,null,null,null,null,null,null,null,null,null,null,null,null,null,null,null,null,{"$f":"IFERROR(RIGHT(B2,LEN(B2)-FIND(\",\",B2)),\"\")","v":""},{"$f":"IFERROR(RIGHT(B4,LEN(B4)-FIND(\",\",B4)),\"\")","v":""},{"$f":"C4","v":0},{"$f":"IFERROR(RIGHT(C3,LEN(C3)-FIND(\",\",C3)),\"\")","v":""},{"$f":"IFERROR(RIGHT(C7,LEN(C7)-FIND(\",\",C7)),\"\")","v":""},{"$f":"D6","v":0},{"$f":"IFERROR(RIGHT(D5,LEN(D5)-FIND(\",\",D5)),\"\")","v":""},{"$f":"IFERROR(RIGHT(D13,LEN(D13)-FIND(\",\",D13)),\"\")","v":""},{"$f":"E10","v":0},{"$f":"IFERROR(RIGHT(E9,LEN(E9)-FIND(\",\",E9)),\"\")","v":""},{"$f":"IFERROR(RIGHT(E25,LEN(E25)-FIND(\",\",E25)),\"\")","v":""},{"$f":"F18","v":0},{"$f":"IFERROR(RIGHT(F17,LEN(F17)-FIND(\",\",F17)),\"\")","v":""},{"$f":"IFERROR(RIGHT(F49,LEN(F49)-FIND(\",\",F49)),\"\")","v":""},{"$f":"G34","v":0},{"$f":"IFERROR(RIGHT(G33,LEN(G33)-FIND(\",\",G33)),\"\")","v":""},{"$f":"IFERROR(RIGHT(G97,LEN(G97)-FIND(\",\",G97)),\"\")","v":""},{"$f":"H66","v":0},{"$f":"IFERROR(RIGHT($G$5,LEN($G$5)-FIND(\",\",$G$5)),\"\")","v":""},{"$f":"IFERROR(RIGHT($G$7,LEN($G$7)-FIND(\",\",$G$7)),\"\")","v":""},{"$f":"$H$7","v":0}]
[null,null,{"$f":"IF(C4=\"\",\"\",IF(LEFT(C4)>RIGHT(C4),B2,B4))","v":""},{"$f":"IF(C3=\"\",\"\",IF(B4=C3,B2,B4))","v":""},null,null,null,null,null,null,{"$f":"I65","v":""},2,null,{"$f":"\"[b]\"&$A2&\"[/b]. \"&_cl1&lfi(B2)&_cle","v":"[b]1[/b]. [COLOR=#990000][/COLOR] "},null,null,null,null,null,null,null,null,null,null,null,null,null,null,{"$f":"_cl1&lfi(F17)&_cle","v":"[COLOR=#990000][/COLOR] "},null,null,null,null,null,null,null,null,null,null,null,null,null,null,null,null,null,null,null,null,{"$f":"IFERROR(RIGHT(B6,LEN(B6)-FIND(\",\",B6)),\"\")","v":""},{"$f":"IFERROR(RIGHT(B8,LEN(B8)-FIND(\",\",B8)),\"\")","v":""},{"$f":"C8","v":0},{"$f":"IFERROR(RIGHT(C11,LEN(C11)-FIND(\",\",C11)),\"\")","v":""},{"$f":"IFERROR(RIGHT(C15,LEN(C15)-FIND(\",\",C15)),\"\")","v":""},{"$f":"D14","v":0},{"$f":"IFERROR(RIGHT(D21,LEN(D21)-FIND(\",\",D21)),\"\")","v":""},{"$f":"IFERROR(RIGHT(D29,LEN(D29)-FIND(\",\",D29)),\"\")","v":""},{"$f":"E26","v":0},{"$f":"IFERROR(RIGHT(E41,LEN(E41)-FIND(\",\",E41)),\"\")","v":""},{"$f":"IFERROR(RIGHT(E57,LEN(E57)-FIND(\",\",E57)),\"\")","v":""},{"$f":"F50","v":0},{"$f":"IFERROR(RIGHT(F81,LEN(F81)-FIND(\",\",F81)),\"\")","v":""},{"$f":"IFERROR(RIGHT(F113,LEN(F113)-FIND(\",\",F113)),\"\")","v":""},{"$f":"G98","v":0},"x",null,null,"x"]
[64,null,null,null,null,null,null,null,null,null,{"$f":"IF(H6=\"\",VLOOKUP(K2,$G$9:$H$128,2,FALSE),H6)","v":0},3,null,{"$f":"_m1&_cl2&lfi(C3)&_cle&sc(C4)","v":"-------------------- [COLOR=#000075][/COLOR] [B][/B]"},null,null,null,null,null,null,null,null,null,null,null,null,null,null,{"$f":"_m1&_cl2&\"[b]\"&lfi(G33)&\"[/b]\"&_cle& \" \" & sc(G34)","v":"-------------------- [COLOR=#000075][b][/b][/COLOR]  [B][/B]"},null,null,null,null,null,null,null,null,null,null,null,null,null,null,null,null,null,null,null,null,{"$f":"IFERROR(RIGHT(B10,LEN(B10)-FIND(\",\",B10)),\"\")","v":""},{"$f":"IFERROR(RIGHT(B12,LEN(B12)-FIND(\",\",B12)),\"\")","v":""},{"$f":"C12","v":0},{"$f":"IFERROR(RIGHT(C19,LEN(C19)-FIND(\",\",C19)),\"\")","v":""},{"$f":"IFERROR(RIGHT(C23,LEN(C23)-FIND(\",\",C23)),\"\")","v":""},{"$f":"D22","v":0},{"$f":"IFERROR(RIGHT(D37,LEN(D37)-FIND(\",\",D37)),\"\")","v":""},{"$f":"IFERROR(RIGHT(D45,LEN(D45)-FIND(\",\",D45)),\"\")","v":""},{"$f":"E42","v":0},{"$f":"IFERROR(RIGHT(E73,LEN(E73)-FIND(\",\",E73)),\"\")","v":""},{"$f":"IFERROR(RIGHT(E89,LEN(E89)-FIND(\",\",E89)),\"\")","v":""},{"$f":"F82","v":0},"x"]
[null,null,null,{"$f":"IF(D6=\"\",\"\",IF(LEFT(D6)>RIGHT(D6),C3,C7))","v":""},{"$f":"IF(D6=\"\",\"\",IF(LEFT(D6)<RIGHT(D6),C3,C7))","v":""},null,{"$f":"H33","v":""},null,null,null,{"$f":"IF(I6=\"\",VLOOKUP(K3,$G$9:$H$128,2,FALSE),I6)","v":0},4,null,{"$f":"\"[b]\"&$A4&\"[/b]. \"&_cl1&lfi(B4)&_cle","v":"[b]64[/b]. [COLOR=#990000][/COLOR] "},null,null,null,null,null,null,null,null,null,null,null,null,null,null,{"$f":"_cl1&lfi(F49)&_cle","v":"[COLOR=#990000][/COLOR] "},null,null,null,null,null,null,null,null,null,null,null,null,null,null,null,null,null,null,null,null,{"$f":"IFERROR(RIGHT(B14,LEN(B14)-FIND(\",\",B14)),\"\")","v":""},{"$f":"IFERROR(RIGHT(B16,LEN(B16)-FIND(\",\",B16)),\"\")","v":""},{"$f":"C16","v":0},{"$f":"IFERROR(RIGHT(C27,LEN(C27)-FIND(\",\",C27)),\"\")","v":""},{"$f":"IFERROR(RIGHT(C31,LEN(C31)-FIND(\",\",C31)),\"\")","v":""},{"$f":"D30","v":0},{"$f":"IFERROR(RIGHT(D53,LEN(D53)-FIND(\",\",D53)),\"\")","v":""},{"$f":"IFERROR(RIGHT(D61,LEN(D61)-FIND(\",\",D61)),\"\")","v":""},{"$f":"E58","v":0},{"$f":"IFERROR(RIGHT(E105,LEN(E105)-FIND(\",\",E105)),\"\")","v":""},{"$f":"IFERROR(RIGHT(E121,LEN(E121)-FIND(\",\",E121)),\"\")","v":""},{"$f":"F114","v":0}]
[33,null,null,null,null,null,{"$f":"REPT(\"-\",20)","v":"--------------------"},{"$f":"IF(H7=\"\",\"\",IF(LEFT(H7)>RIGHT(H7),G5,G7))","v":""},{"$f":"IF(H6=\"\",\"\",IF(G7=H6,G5,G7))","v":""},null,{"$f":"IF(K2=\"\",\"\",VLOOKUP(K2,$F:$G,2,FALSE))","v":""},5,null,{"$f":"_m2&_cl3&lfi(D5)&_cle&sc(D6)","v":"---------------------------------------- [COLOR=#009900][/COLOR] [B][/B]"},null,null,null,null,null,null,null,null,null,null,null,null,null,null,null,null,null,null,null,null,null,null,null,null,null,null,null,null,null,null,null,null,null,null,null,{"$f":"IFERROR(RIGHT(B18,LEN(B18)-FIND(\",\",B18)),\"\")","v":""},{"$f":"IFERROR(RIGHT(B20,LEN(B20)-FIND(\",\",B20)),\"\")","v":""},{"$f":"C20","v":0},{"$f":"IFERROR(RIGHT(C35,LEN(C35)-FIND(\",\",C35)),\"\")","v":""},{"$f":"IFERROR(RIGHT(C39,LEN(C39)-FIND(\",\",C39)),\"\")","v":""},{"$f":"D38","v":0},{"$f":"IFERROR(RIGHT(D69,LEN(D69)-FIND(\",\",D69)),\"\")","v":""},{"$f":"IFERROR(RIGHT(D77,LEN(D77)-FIND(\",\",D77)),\"\")","v":""},{"$f":"E74","v":0},"x"]
[null,null,{"$f":"IF(C8=\"\",\"\",IF(LEFT(C8)>RIGHT(C8),B6,B8))","v":""},{"$f":"IF(C7=\"\",\"\",IF(B8=C7,B6,B8))","v":""},null,null,{"$f":"H97","v":""},null,null,null,{"$f":"IF(K3=\"\",\"\",VLOOKUP(K3,$F:$G,2,FALSE))","v":""},6,null,{"$f":"\"[b]\"&$A6&\"[/b]. \"&cl1x&lfi(B6)&clex","v":"[b]33[/b]. [COLOR=#cc5000][i][/i][/COLOR] "},null,null,null,null,null,null,null,null,null,null,null,null,null,null,{"$f":"cl1x&lfi(F81)&clex","v":"[COLOR=#cc5000][i][/i][/COLOR] "},null,null,null,null,null,null,null,null,null,null,null,null,null,null,null,null,null,null,null,null,{"$f":"IFERROR(RIGHT(B22,LEN(B22)-FIND(\",\",B22)),\"\")","v":""},{"$f":"IFERROR(RIGHT(B24,LEN(B24)-FIND(\",\",B24)),\"\")","v":""},{"$f":"C24","v":0},{"$f":"IFERROR(RIGHT(C43,LEN(C43)-FIND(\",\",C43)),\"\")","v":""},{"$f":"IFERROR(RIGHT(C47,LEN(C47)-FIND(\",\",C47)),\"\")","v":""},{"$f":"D46","v":0},{"$f":"IFERROR(RIGHT(D85,LEN(D85)-FIND(\",\",D85)),\"\")","v":""},{"$f":"IFERROR(RIGHT(D93,LEN(D93)-FIND(\",\",D93)),\"\")","v":""},{"$f":"E90","v":0}]
[32,null,null,null,null,null,null,null,null,null,{"$f":"IF(K4=\"\",\"\",VLOOKUP(K4,$F:$G,2,FALSE))","v":{"$error":"#N/A"}},7,null,{"$f":"_m1&_cl2&lfi(C7)&_cle&sc(C8)","v":"-------------------- [COLOR=#000075][/COLOR] [B][/B]"},null,null,null,null,null,null,null,null,null,null,null,null,null,null,{"$f":"_m1&_cl2&\"[b]\"&lfi(G97)&\"[/b]\"&_cle& \" \" & sc(G98)","v":"-------------------- [COLOR=#000075][b][/b][/COLOR]  [B][/B]"},null,null,null,null,null,null,null,null,null,null,null,null,null,null,null,null,null,null,null,null,{"$f":"IFERROR(RIGHT(B26,LEN(B26)-FIND(\",\",B26)),\"\")","v":""},{"$f":"IFERROR(RIGHT(B28,LEN(B28)-FIND(\",\",B28)),\"\")","v":""},{"$f":"C28","v":0},{"$f":"IFERROR(RIGHT(C51,LEN(C51)-FIND(\",\",C51)),\"\")","v":""},{"$f":"IFERROR(RIGHT(C55,LEN(C55)-FIND(\",\",C55)),\"\")","v":""},{"$f":"D54","v":0},{"$f":"IFERROR(RIGHT(D101,LEN(D101)-FIND(\",\",D101)),\"\")","v":""},{"$f":"IFERROR(RIGHT(D109,LEN(D109)-FIND(\",\",D109)),\"\")","v":""},{"$f":"E106","v":0}]
[null,null,null,null,{"$f":"IF(E10=\"\",\"\",IF(LEFT(E10)>RIGHT(E10),D5,D13))","v":""},{"$f":"IF(E9=\"\",\"\",IF(D13=E9,D5,D13))","v":""},null,{"$f":"\"Finala mica - \" & ctg","v":"Finala mica - Elite"},null,null,{"$f":"IF(K5=\"\",\"\",VLOOKUP(K5,$F:$G,2,FALSE))","v":{"$error":"#N/A"}},8,null,{"$f":"\"[b]\"&$A8&\"[/b]. \"&cl1x&lfi(B8)&clex","v":"[b]32[/b]. [COLOR=#cc5000][i][/i][/COLOR] "},null,null,null,null,null,null,null,null,null,null,null,null,null,null,{"$f":"cl1x&lfi(F113)&clex","v":"[COLOR=#cc5000][i][/i][/COLOR] "},null,null,null,null,null,null,null,null,null,null,null,null,null,null,null,null,null,null,null,null,{"$f":"IFERROR(RIGHT(B30,LEN(B30)-FIND(\",\",B30)),\"\")","v":""},{"$f":"IFERROR(RIGHT(B32,LEN(B32)-FIND(\",\",B32)),\"\")","v":""},{"$f":"C32","v":0},{"$f":"IFERROR(RIGHT(C59,LEN(C59)-FIND(\",\",C59)),\"\")","v":""},{"$f":"IFERROR(RIGHT(C63,LEN(C63)-FIND(\",\",C63)),\"\")","v":""},{"$f":"D62","v":0},{"$f":"IFERROR(RIGHT(D117,LEN(D117)-FIND(\",\",D117)),\"\")","v":""},{"$f":"IFERROR(RIGHT(D125,LEN(D125)-FIND(\",\",D125)),\"\")","v":""},{"$f":"E122","v":0}]
[17,null,null,null,null,null,null,null,null,null,{"$f":"VLOOKUP(K2,$E:$F,2,FALSE)","v":0},9,null,{"$f":"_m3&_cl4&lfi(E9)&_cle&sc(E10)","v":"------------------------------------------------------------ [COLOR=#6900af][/COLOR] [B][/B]"},null,null,null,null,null,null,null,null,null,null,null,null,null,null,null,null,null,null,null,null,null,null,null,null,null,null,null,null,null,null,null,null,null,null,null,{"$f":"IFERROR(RIGHT(B34,LEN(B34)-FIND(\",\",B34)),\"\")","v":""},{"$f":"IFERROR(RIGHT(B36,LEN(B36)-FIND(\",\",B36)),\"\")","v":""},{"$f":"C36","v":0},{"$f":"IFERROR(RIGHT(C67,LEN(C67)-FIND(\",\",C67)),\"\")","v":""},{"$f":"IFERROR(RIGHT(C71,LEN(C71)-FIND(\",\",C71)),\"\")","v":""},{"$f":"D70","v":0},"x"]
[null,null,{"$f":"IF(C12=\"\",\"\",IF(LEFT(C12)>RIGHT(C12),B10,B12))","v":""},{"$f":"IF(C11=\"\",\"\",IF(B12=C11,B10,B12))","v":""},null,null,null,null,null,null,{"$f":"VLOOKUP(K3,$E:$F,2,FALSE)","v":0},10,null,{"$f":"\"[b]\"&$A10&\"[/b]. \"&_cl1&lfi(B10)&_cle","v":"[b]17[/b]. [COLOR=#990000][/COLOR] "},null,null,null,null,null,null,null,null,null,null,null,null,null,null,{"$f":"\"[b]\"&clr & \"Finala - \" & _cle & ctg & \"[/b]\"","v":"[b][COLOR=red]Finala - [/COLOR] Elite[/b]"},null,null,null,null,null,null,null,null,null,null,null,null,null,null,null,null,null,null,null,null,{"$f":"IFERROR(RIGHT(B38,LEN(B38)-FIND(\",\",B38)),\"\")","v":""},{"$f":"IFERROR(RIGHT(B40,LEN(B40)-FIND(\",\",B40)),\"\")","v":""},{"$f":"C40","v":0},{"$f":"IFERROR(RIGHT(C75,LEN(C75)-FIND(\",\",C75)),\"\")","v":""},{"$f":"IFERROR(RIGHT(C79,LEN(C79)-FIND(\",\",C79)),\"\")","v":""},{"$f":"D78","v":0}]
[48,null,null,null,null,null,null,null,null,null,{"$error":"#N/A"},11,null,{"$f":"_m1&cl2x&lfi(C11)&clex&sc(C12)","v":"-------------------- [COLOR=#4040FF][i][/i][/COLOR] [B][/B]"},null,null,null,null,null,null,null,null,null,null,null,null,null,null,null,null,null,null,null,null,null,null,null,null,null,null,null,null,null,null,null,null,null,null,null,{"$f":"IFERROR(RIGHT(B42,LEN(B42)-FIND(\",\",B42)),\"\")","v":""},{"$f":"IFERROR(RIGHT(B44,LEN(B44)-FIND(\",\",B44)),\"\")","v":""},{"$f":"C44","v":0},{"$f":"IFERROR(RIGHT(C83,LEN(C83)-FIND(\",\",C83)),\"\")","v":""},{"$f":"IFERROR(RIGHT(C87,LEN(C87)-FIND(\",\",C87)),\"\")","v":""},{"$f":"D86","v":0}]
[null,null,null,{"$f":"IF(D14=\"\",\"\",IF(LEFT(D14)>RIGHT(D14),C11,C15))","v":""},{"$f":"IF(D14=\"\",\"\",IF(LEFT(D14)<RIGHT(D14),C11,C15))","v":""},null,null,null,null,null,{"$error":"#N/A"},12,null,{"$f":"\"[b]\"&$A12&\"[/b]. \"&_cl1&lfi(B12)&_cle","v":"[b]48[/b]. [COLOR=#990000][/COLOR] "},null,null,null,null,null,null,null,null,null,null,null,null,null,null,{"$f":"_cl2&lfi($G$33)&_cle","v":"[COLOR=#000075][/COLOR] "},null,null,null,null,null,null,null,null,null,null,null,null,null,null,null,null,null,null,null,null,{"$f":"IFERROR(RIGHT(B46,LEN(B46)-FIND(\",\",B46)),\"\")","v":""},{"$f":"IFERROR(RIGHT(B48,LEN(B48)-FIND(\",\",B48)),\"\")","v":""},{"$f":"C48","v":0},{"$f":"IFERROR(RIGHT(C91,LEN(C91)-FIND(\",\",C91)),\"\")","v":""},{"$f":"IFERROR(RIGHT(C95,LEN(C95)-FIND(\",\",C95)),\"\")","v":""},{"$f":"D94","v":0}]
[49,null,null,null,null,null,null,null,null,null,0,13,null,{"$f":"_m2&_cl3&lfi(D13)&_cle&sc(D14)","v":"---------------------------------------- [COLOR=#009900][/COLOR] [B][/B]"},null,null,null,null,null,null,null,null,null,null,null,null,null,null,{"$f":"_m1&_cl5&\"[b]\"&lfi($H$65)&\"[/b]\"&_cle& \" \" & sc($H$66)","v":"-------------------- [COLOR=red][b][/b][/COLOR]  [B][/B]"},null,null,null,null,null,null,null,null,null,null,null,null,null,null,null,null,null,null,null,null,{"$f":"IFERROR(RIGHT(B50,LEN(B50)-FIND(\",\",B50)),\"\")","v":""},{"$f":"IFERROR(RIGHT(B52,LEN(B52)-FIND(\",\",B52)),\"\")","v":""},{"$f":"C52","v":0},{"$f":"IFERROR(RIGHT(C99,LEN(C99)-FIND(\",\",C99)),\"\")","v":""},{"$f":"IFERROR(RIGHT(C103,LEN(C103)-FIND(\",\",C103)),\"\")","v":""},{"$f":"D102","v":0}]
[null,null,{"$f":"IF(C16=\"\",\"\",IF(LEFT(C16)>RIGHT(C16),B14,B16))","v":""},{"$f":"IF(C15=\"\",\"\",IF(B16=C15,B14,B16))","v":""},null,null,null,null,null,null,0,14,null,{"$f":"\"[b]\"&$A14&\"[/b]. \"&cl1x&lfi(B14)&clex","v":"[b]49[/b]. [COLOR=#cc5000][i][/i][/COLOR] "},null,null,null,null,null,null,null,null,null,null,null,null,null,null,{"$f":"_cl2&lfi($G$97)&_cle","v":"[COLOR=#000075][/COLOR] "},null,null,null,null,null,null,null,null,null,null,null,null,null,null,null,null,null,null,null,null,{"$f":"IFERROR(RIGHT(B54,LEN(B54)-FIND(\",\",B54)),\"\")","v":""},{"$f":"IFERROR(RIGHT(B56,LEN(B56)-FIND(\",\",B56)),\"\")","v":""},{"$f":"C56","v":0},{"$f":"IFERROR(RIGHT(C107,LEN(C107)-FIND(\",\",C107)),\"\")","v":""},{"$f":"IFERROR(RIGHT(C111,LEN(C111)-FIND(\",\",C111)),\"\")","v":""},{"$f":"D110","v":0}]
[16,null,null,null,null,null,null,null,null,null,{"$error":"#N/A"},15,null,{"$f":"_m1&cl2x&lfi(C15)&clex&sc(C16)","v":"-------------------- [COLOR=#4040FF][i][/i][/COLOR] [B][/B]"},null,null,null,null,null,null,null,null,null,null,null,null,null,null,null,null,null,null,null,null,null,null,null,null,null,null,null,null,null,null,null,null,null,null,null,{"$f":"IFERROR(RIGHT(B58,LEN(B58)-FIND(\",\",B58)),\"\")","v":""},{"$f":"IFERROR(RIGHT(B60,LEN(B60)-FIND(\",\",B60)),\"\")","v":""},{"$f":"C60","v":0},{"$f":"IFERROR(RIGHT(C115,LEN(C115)-FIND(\",\",C115)),\"\")","v":""},{"$f":"IFERROR(RIGHT(C119,LEN(C119)-FIND(\",\",C119)),\"\")","v":""},{"$f":"D118","v":0}]
[null,null,null,null,"A",{"$f":"IF(F18=\"\",\"\",IF(LEFT(F18)>RIGHT(F18),E9,E25))","v":""},{"$f":"IF(F17=\"\",\"\",IF(E25=F17,E9,E25))","v":""},null,null,null,{"$error":"#N/A"},16,null,{"$f":"\"[b]\"&$A16&\"[/b]. \"&cl1x&lfi(B16)&clex","v":"[b]16[/b]. [COLOR=#cc5000][i][/i][/COLOR] "},null,null,null,null,null,null,null,null,null,null,null,null,null,null,{"$f":"\"[b]\"&clr & \"Finala mica - \" & _cle & ctg & \"[/b]\"","v":"[b][COLOR=red]Finala mica - [/COLOR] Elite[/b]"},null,null,null,null,null,null,null,null,null,null,null,null,null,null,null,null,null,null,null,null,{"$f":"IFERROR(RIGHT(B62,LEN(B62)-FIND(\",\",B62)),\"\")","v":""},{"$f":"IFERROR(RIGHT(B64,LEN(B64)-FIND(\",\",B64)),\"\")","v":""},{"$f":"C64","v":0},{"$f":"IFERROR(RIGHT(C123,LEN(C123)-FIND(\",\",C123)),\"\")","v":""},{"$f":"IFERROR(RIGHT(C127,LEN(C127)-FIND(\",\",C127)),\"\")","v":""},{"$f":"D126","v":0}]
[9,null,null,null,null,null,null,null,null,null,{"$f":"VLOOKUP(K2,$D:$E,2,FALSE)","v":0},17,null,{"$f":"_m4&_cl1&lfi(F17)&_cle&sc(F18)","v":"-------------------------------------------------------------------------------- [COLOR=#990000][/COLOR] [B][/B]"},null,null,null,null,null,null,null,null,null,null,null,null,null,null,null,null,null,null,null,null,null,null,null,null,null,null,null,null,null,null,null,null,null,null,null,{"$f":"IFERROR(RIGHT(B66,LEN(B66)-FIND(\",\",B66)),\"\")","v":""},{"$f":"IFERROR(RIGHT(B68,LEN(B68)-FIND(\",\",B68)),\"\")","v":""},{"$f":"C68","v":0},"x"]
[null,null,{"$f":"IF(C20=\"\",\"\",IF(LEFT(C20)>RIGHT(C20),B18,B20))","v":""},{"$f":"IF(C19=\"\",\"\",IF(B20=C19,B18,B20))","v":""},null,null,null,null,null,null,{"$f":"VLOOKUP(K3,$D:$E,2,FALSE)","v":0},18,null,{"$f":"\"[b]\"&$A18&\"[/b]. \"&_cl1&lfi(B18)&_cle","v":"[b]9[/b]. [COLOR=#990000][/COLOR] "},null,null,null,null,null,null,null,null,null,null,null,null,null,null,{"$f":"_cl3&lfi($G$5)&_cle","v":"[COLOR=#009900][/COLOR] "},null,null,null,null,null,null,null,null,null,null,null,null,null,null,null,null,null,null,null,null,{"$f":"IFERROR(RIGHT(B70,LEN(B70)-FIND(\",\",B70)),\"\")","v":""},{"$f":"IFERROR(RIGHT(B72,LEN(B72)-FIND(\",\",B72)),\"\")","v":""},{"$f":"C72","v":0}]
[56,null,null,null,null,null,null,null,null,null,{"$error":"#N/A"},19,null,{"$f":"_m1&_cl2&lfi(C19)&_cle&sc(C20)","v":"-------------------- [COLOR=#000075][/COLOR] [B][/B]"},null,null,null,null,null,null,null,null,null,null,null,null,null,null,{"$f":"_m1&_cl5&\"[b]\"&lfi($H$6)&\"[/b]\"&_cle& \" \" & sc($H$7)","v":"-------------------- [COLOR=red][b][/b][/COLOR]  [B][/B]"},null,null,null,null,null,null,null,null,null,null,null,null,null,null,null,null,null,null,null,null,{"$f":"IFERROR(RIGHT(B74,LEN(B74)-FIND(\",\",B74)),\"\")","v":""},{"$f":"IFERROR(RIGHT(B76,LEN(B76)-FIND(\",\",B76)),\"\")","v":""},{"$f":"C76","v":0}]
[null,null,null,{"$f":"IF(D22=\"\",\"\",IF(LEFT(D22)>RIGHT(D22),C19,C23))","v":""},{"$f":"IF(D22=\"\",\"\",IF(LEFT(D22)<RIGHT(D22),C19,C23))","v":""},null,null,null,null,null,{"$error":"#N/A"},20,null,{"$f":"\"[b]\"&$A20&\"[/b]. \"&_cl1&lfi(B20)&_cle","v":"[b]56[/b]. [COLOR=#990000][/COLOR] "},null,null,null,null,null,null,null,null,null,null,null,null,null,null,{"$f":"_cl3&lfi($G$7)&_cle","v":"[COLOR=#009900][/COLOR] "},null,null,null,null,null,null,null,null,null,null,null,null,null,null,null,null,null,null,null,null,{"$f":"IFERROR(RIGHT(B78,LEN(B78)-FIND(\",\",B78)),\"\")","v":""},{"$f":"IFERROR(RIGHT(B80,LEN(B80)-FIND(\",\",B80)),\"\")","v":""},{"$f":"C80","v":0}]
[41,null,null,null,null,null,null,null,null,null,0,21,null,{"$f":"_m2&cl3x&lfi(D21)&clex&sc(D22)","v":"---------------------------------------- [COLOR=#00DC00][i][/i][/COLOR] [B][/B]"},null,null,null,null,null,null,null,null,null,null,null,null,null,null,null,null,null,null,null,null,null,null,null,null,null,null,null,null,null,null,null,null,null,null,null,{"$f":"IFERROR(RIGHT(B82,LEN(B82)-FIND(\",\",B82)),\"\")","v":""},{"$f":"IFERROR(RIGHT(B84,LEN(B84)-FIND(\",\",B84)),\"\")","v":""},{"$f":"C84","v":0}]
[null,null,{"$f":"IF(C24=\"\",\"\",IF(LEFT(C24)>RIGHT(C24),B22,B24))","v":""},{"$f":"IF(C23=\"\",\"\",IF(B24=C23,B22,B24))","v":""},null,null,null,null,null,null,0,22,null,{"$f":"\"[b]\"&$A22&\"[/b]. \"&cl1x&lfi(B22)&clex","v":"[b]41[/b]. [COLOR=#cc5000][i][/i][/COLOR] "},null,null,null,null,null,null,null,null,null,null,null,null,null,null,null,null,null,null,null,null,null,null,null,null,null,null,null,null,null,null,null,null,null,null,null,{"$f":"IFERROR(RIGHT(B86,LEN(B86)-FIND(\",\",B86)),\"\")","v":""},{"$f":"IFERROR(RIGHT(B88,LEN(B88)-FIND(\",\",B88)),\"\")","v":""},{"$f":"C88","v":0}]
[24,null,null,null,null,null,null,null,null,null,{"$error":"#N/A"},23,null,{"$f":"_m1&_cl2&lfi(C23)&_cle&sc(C24)","v":"-------------------- [COLOR=#000075][/COLOR] [B][/B]"},null,null,null,null,null,null,null,null,null,null,null,null,null,null,null,null,null,null,null,null,null,null,null,null,null,null,null,null,null,null,null,null,null,null,null,{"$f":"IFERROR(RIGHT(B90,LEN(B90)-FIND(\",\",B90)),\"\")","v":""},{"$f":"IFERROR(RIGHT(B92,LEN(B92)-FIND(\",\",B92)),\"\")","v":""},{"$f":"C92","v":0}]
[null,null,null,null,{"$f":"IF(E26=\"\",\"\",IF(LEFT(E26)>RIGHT(E26),D21,D29))","v":""},{"$f":"IF(E25=\"\",\"\",IF(D29=E25,D21,D29))","v":""},null,null,null,null,{"$error":"#N/A"},24,null,{"$f":"\"[b]\"&$A24&\"[/b]. \"&cl1x&lfi(B24)&clex","v":"[b]24[/b]. [COLOR=#cc5000][i][/i][/COLOR] "},null,null,null,null,null,null,null,null,null,null,null,null,null,null,null,null,null,null,null,null,null,null,null,null,null,null,null,null,null,null,null,null,null,null,null,{"$f":"IFERROR(RIGHT(B94,LEN(B94)-FIND(\",\",B94)),\"\")","v":""},{"$f":"IFERROR(RIGHT(B96,LEN(B96)-FIND(\",\",B96)),\"\")","v":""},{"$f":"C96","v":0}]
[25,null,null,null,null,null,null,null,null,null,{"$error":"#N/A"},25,null,{"$f":"_m3&_cl4&lfi(E25)&_cle&sc(E26)","v":"------------------------------------------------------------ [COLOR=#6900af][/COLOR] [B][/B]"},null,null,null,null,null,null,null,null,null,null,null,null,null,null,null,null,null,null,null,null,null,null,null,null,null,null,null,null,null,null,null,null,null,null,null,{"$f":"IFERROR(RIGHT(B98,LEN(B98)-FIND(\",\",B98)),\"\")","v":""},{"$f":"IFERROR(RIGHT(B100,LEN(B100)-FIND(\",\",B100)),\"\")","v":""},{"$f":"C100","v":0}]
[null,null,{"$f":"IF(C28=\"\",\"\",IF(LEFT(C28)>RIGHT(C28),B26,B28))","v":""},{"$f":"IF(C27=\"\",\"\",IF(B28=C27,B26,B28))","v":""},null,null,null,null,null,null,{"$error":"#N/A"},26,null,{"$f":"\"[b]\"&$A26&\"[/b]. \"&_cl1&lfi(B26)&_cle","v":"[b]25[/b]. [COLOR=#990000][/COLOR] "},null,null,null,null,null,null,null,null,null,null,null,null,null,null,null,null,null,null,null,null,null,null,null,null,null,null,null,null,null,null,null,null,null,null,null,{"$f":"IFERROR(RIGHT(B102,LEN(B102)-FIND(\",\",B102)),\"\")","v":""},{"$f":"IFERROR(RIGHT(B104,LEN(B104)-FIND(\",\",B104)),\"\")","v":""},{"$f":"C104","v":0},{"$f":"IFERROR(RIGHT(#REF!,LEN(#REF!)-FIND(\",\",#REF!)),\"\")","v":""}]
[40,null,null,null,null,null,null,null,null,null,{"$error":"#N/A"},27,null,{"$f":"_m1&cl2x&lfi(C27)&clex&sc(C28)","v":"-------------------- [COLOR=#4040FF][i][/i][/COLOR] [B][/B]"},null,null,null,null,null,null,null,null,null,null,null,null,null,null,null,null,null,null,null,null,null,null,null,null,null,null,null,null,null,null,null,null,null,null,null,{"$f":"IFERROR(RIGHT(B106,LEN(B106)-FIND(\",\",B106)),\"\")","v":""},{"$f":"IFERROR(RIGHT(B108,LEN(B108)-FIND(\",\",B108)),\"\")","v":""},{"$f":"C108","v":0}]
[null,null,null,{"$f":"IF(D30=\"\",\"\",IF(LEFT(D30)>RIGHT(D30),C27,C31))","v":""},{"$f":"IF(D30=\"\",\"\",IF(LEFT(D30)<RIGHT(D30),C27,C31))","v":""},null,null,null,null,null,{"$error":"#N/A"},28,null,{"$f":"\"[b]\"&$A28&\"[/b]. \"&_cl1&lfi(B28)&_cle","v":"[b]40[/b]. [COLOR=#990000][/COLOR] "},null,null,null,null,null,null,null,null,null,null,null,null,null,null,null,null,null,null,null,null,null,null,null,null,null,null,null,null,null,null,null,null,null,null,null,{"$f":"IFERROR(RIGHT(B110,LEN(B110)-FIND(\",\",B110)),\"\")","v":""},{"$f":"IFERROR(RIGHT(B112,LEN(B112)-FIND(\",\",B112)),\"\")","v":""},{"$f":"C112","v":0}]
[57,null,null,null,null,null,null,null,null,null,{"$error":"#N/A"},29,null,{"$f":"_m2&cl3x&lfi(D29)&clex&sc(D30)","v":"---------------------------------------- [COLOR=#00DC00][i][/i][/COLOR] [B][/B]"},null,null,null,null,null,null,null,null,null,null,null,null,null,null,null,null,null,null,null,null,null,null,null,null,null,null,null,null,null,null,null,null,null,null,null,{"$f":"IFERROR(RIGHT(B114,LEN(B114)-FIND(\",\",B114)),\"\")","v":""},{"$f":"IFERROR(RIGHT(B116,LEN(B116)-FIND(\",\",B116)),\"\")","v":""},{"$f":"C116","v":0}]
[null,null,{"$f":"IF(C32=\"\",\"\",IF(LEFT(C32)>RIGHT(C32),B30,B32))","v":""},{"$f":"IF(C31=\"\",\"\",IF(B32=C31,B30,B32))","v":""},null,null,null,null,null,null,{"$error":"#N/A"},30,null,{"$f":"\"[b]\"&$A30&\"[/b]. \"&cl1x&lfi(B30)&clex","v":"[b]57[/b]. [COLOR=#cc5000][i][/i][/COLOR] "},null,null,null,null,null,null,null,null,null,null,null,null,null,null,null,null,null,null,null,null,null,null,null,null,null,null,null,null,null,null,null,null,null,null,null,{"$f":"IFERROR(RIGHT(B118,LEN(B118)-FIND(\",\",B118)),\"\")","v":""},{"$f":"IFERROR(RIGHT(B120,LEN(B120)-FIND(\",\",B120)),\"\")","v":""},{"$f":"C120","v":0}]
[8,null,null,null,null,null,null,null,null,null,{"$error":"#N/A"},31,null,{"$f":"_m1&cl2x&lfi(C31)&clex&sc(C32)","v":"-------------------- [COLOR=#4040FF][i][/i][/COLOR] [B][/B]"},null,null,null,null,null,null,null,null,null,null,null,null,null,null,null,null,null,null,null,null,null,null,null,null,null,null,null,null,null,null,null,null,null,null,null,{"$f":"IFERROR(RIGHT(B122,LEN(B122)-FIND(\",\",B122)),\"\")","v":""},{"$f":"IFERROR(RIGHT(B124,LEN(B124)-FIND(\",\",B124)),\"\")","v":""},{"$f":"C124","v":0},null,null,null,{"$f":"IFERROR(RIGHT(D96,LEN(D96)-FIND(\",\",D96)),\"\")","v":""}]
[{"$f":"\"Eliminatorii \" & ctg & \" - page 2\"","v":"Eliminatorii Elite - page 2"},null,null,null,null,null,{"$f":"IF(G34=\"\",\"\",IF(LEFT(G34)>RIGHT(G34),F17,F49))","v":""},{"$f":"IF(G33=\"\",\"\",IF(F49=G33,F17,F49))","v":""},null,null,{"$error":"#N/A"},32,null,{"$f":"\"[b]\"&$A32&\"[/b]. \"&cl1x&lfi(B32)&clex","v":"[b]8[/b]. [COLOR=#cc5000][i][/i][/COLOR] "},null,null,null,null,null,null,null,null,null,null,null,null,null,null,null,null,null,null,null,null,null,null,null,null,null,null,null,null,null,null,null,null,null,null,null,{"$f":"IFERROR(RIGHT(B126,LEN(B126)-FIND(\",\",B126)),\"\")","v":""},{"$f":"IFERROR(RIGHT(B128,LEN(B128)-FIND(\",\",B128)),\"\")","v":""},{"$f":"C128","v":0}]
[5,null,null,null,null,null,null,null,null,null,{"$f":"VLOOKUP(K2,$C:$D,2,FALSE)","v":""},33,null,null,null,null,null,null,null,null,null,null,null,null,null,null,null,null,null,null,null,null,null,null,null,null,null,null,null,null,null,null,null,null,null,null,null,null,null,"x"]
[null,null,{"$f":"IF(C36=\"\",\"\",IF(LEFT(C36)>RIGHT(C36),B34,B36))","v":""},{"$f":"IF(C35=\"\",\"\",IF(B36=C35,B34,B36))","v":""},null,null,"SF 1",null,null,null,{"$f":"VLOOKUP(K3,$C:$D,2,FALSE)","v":""},34,null,{"$f":"_m5&_cl2&\"[b]\"&lfi(G33)&\"[/b]\"&_cle&sc(G34)","v":"---------------------------------------------------------------------------------------------------- [COLOR=#000075][b][/b][/COLOR] [B][/B]"}]
[60,null,null,null,null,null,null,null,null,null,{"$error":"#N/A"},35]
[null,null,null,{"$f":"IF(D38=\"\",\"\",IF(LEFT(D38)>RIGHT(D38),C35,C39))","v":""},{"$f":"IF(D38=\"\",\"\",IF(LEFT(D38)<RIGHT(D38),C35,C39))","v":""},null,null,null,null,null,{"$error":"#N/A"},36,null,{"$f":"\"[b]\"&$A34&\"[/b]. \"&_cl1&lfi(B34)&_cle","v":"[b]5[/b]. [COLOR=#990000][/COLOR] "}]
[37,null,null,null,null,null,null,null,null,null,"",37,null,{"$f":"_m1&_cl2&lfi(C35)&_cle&sc(C36)","v":"-------------------- [COLOR=#000075][/COLOR] [B][/B]"}]
[null,null,{"$f":"IF(C40=\"\",\"\",IF(LEFT(C40)>RIGHT(C40),B38,B40))","v":""},{"$f":"IF(C39=\"\",\"\",IF(B40=C39,B38,B40))","v":""},null,null,null,null,null,null,"",38,null,{"$f":"\"[b]\"&$A36&\"[/b]. \"&_cl1&lfi(B36)&_cle","v":"[b]60[/b]. [COLOR=#990000][/COLOR] "}]
[28,null,null,null,null,null,null,null,null,null,{"$error":"#N/A"},39,null,{"$f":"_m2&_cl3&lfi(D37)&_cle&sc(D38)","v":"---------------------------------------- [COLOR=#009900][/COLOR] [B][/B]"}]
[null,null,null,null,{"$f":"IF(E42=\"\",\"\",IF(LEFT(E42)>RIGHT(E42),D37,D45))","v":""},{"$f":"IF(E41=\"\",\"\",IF(D45=E41,D37,D45))","v":""},null,null,null,null,{"$error":"#N/A"},40,null,{"$f":"\"[b]\"&$A38&\"[/b]. \"&cl1x&lfi(B38)&clex","v":"[b]37[/b]. [COLOR=#cc5000][i][/i][/COLOR] "}]
[21,null,null,null,null,null,null,null,null,null,{"$error":"#N/A"},41,null,{"$f":"_m1&_cl2&lfi(C39)&_cle&sc(C40)","v":"-------------------- [COLOR=#000075][/COLOR] [B][/B]"}]
[null,null,{"$f":"IF(C44=\"\",\"\",IF(LEFT(C44)>RIGHT(C44),B42,B44))","v":""},{"$f":"IF(C43=\"\",\"\",IF(B44=C43,B42,B44))","v":""},null,null,null,null,null,null,{"$error":"#N/A"},42,null,{"$f":"\"[b]\"&$A40&\"[/b]. \"&cl1x&lfi(B40)&clex","v":"[b]28[/b]. [COLOR=#cc5000][i][/i][/COLOR] "}]
[44,null,null,null,null,null,null,null,null,null,{"$error":"#N/A"},43,null,{"$f":"_m3&cl4x&lfi(E41)&clex&sc(E42)","v":"------------------------------------------------------------ [COLOR=#bd5dff][i][/i][/COLOR] [B][/B]"}]
[null,null,null,{"$f":"IF(D46=\"\",\"\",IF(LEFT(D46)>RIGHT(D46),C43,C47))","v":""},{"$f":"IF(D46=\"\",\"\",IF(LEFT(D46)<RIGHT(D46),C43,C47))","v":""},null,null,null,null,null,{"$error":"#N/A"},44,null,{"$f":"\"[b]\"&$A42&\"[/b]. \"&_cl1&lfi(B42)&_cle","v":"[b]21[/b]. [COLOR=#990000][/COLOR] "}]
[53,null,null,null,null,null,null,null,null,null,{"$error":"#N/A"},45,null,{"$f":"_m1&cl2x&lfi(C43)&clex&sc(C44)","v":"-------------------- [COLOR=#4040FF][i][/i][/COLOR] [B][/B]"}]
[null,null,{"$f":"IF(C48=\"\",\"\",IF(LEFT(C48)>RIGHT(C48),B46,B48))","v":""},{"$f":"IF(C47=\"\",\"\",IF(B48=C47,B46,B48))","v":""},null,null,null,null,null,null,{"$error":"#N/A"},46,null,{"$f":"\"[b]\"&$A44&\"[/b]. \"&_cl1&lfi(B44)&_cle","v":"[b]44[/b]. [COLOR=#990000][/COLOR] "}]
[12,null,null,null,null,null,null,null,null,null,{"$error":"#N/A"},47,null,{"$f":"_m2&_cl3&lfi(D45)&_cle&sc(D46)","v":"---------------------------------------- [COLOR=#009900][/COLOR] [B][/B]"}]
[null,null,null,null,"B",{"$f":"IF(F50=\"\",\"\",IF(LEFT(F50)>RIGHT(F50),E41,E57))","v":""},{"$f":"IF(F49=\"\",\"\",IF(E57=F49,E41,E57))","v":""},null,null,null,{"$error":"#N/A"},48,null,{"$f":"\"[b]\"&$A46&\"[/b]. \"&cl1x&lfi(B46)&clex","v":"[b]53[/b]. [COLOR=#cc5000][i][/i][/COLOR] "}]
[13,null,null,null,null,null,null,null,null,null,{"$error":"#N/A"},49,null,{"$f":"_m1&cl2x&lfi(C47)&clex&sc(C48)","v":"-------------------- [COLOR=#4040FF][i][/i][/COLOR] [B][/B]"}]
[null,null,{"$f":"IF(C52=\"\",\"\",IF(LEFT(C52)>RIGHT(C52),B50,B52))","v":""},{"$f":"IF(C51=\"\",\"\",IF(B52=C51,B50,B52))","v":""},null,null,null,null,null,null,{"$error":"#N/A"},50,null,{"$f":"\"[b]\"&$A48&\"[/b]. \"&cl1x&lfi(B48)&clex","v":"[b]12[/b]. [COLOR=#cc5000][i][/i][/COLOR] "}]
[52,null,null,null,null,null,null,null,null,null,{"$error":"#N/A"},51,null,{"$f":"_m4&_cl1&lfi(F49)&_cle&sc(F50)","v":"-------------------------------------------------------------------------------- [COLOR=#990000][/COLOR] [B][/B]"}]
[null,null,null,{"$f":"IF(D54=\"\",\"\",IF(LEFT(D54)>RIGHT(D54),C51,C55))","v":""},{"$f":"IF(D54=\"\",\"\",IF(LEFT(D54)<RIGHT(D54),C51,C55))","v":""},null,null,null,null,null,{"$error":"#N/A"},52,null,{"$f":"\"[b]\"&$A50&\"[/b]. \"&_cl1&lfi(B50)&_cle","v":"[b]13[/b]. [COLOR=#990000][/COLOR] "}]
[45,null,null,null,null,null,null,null,null,null,{"$error":"#N/A"},53,null,{"$f":"_m1&_cl2&lfi(C51)&_cle&sc(C52)","v":"-------------------- [COLOR=#000075][/COLOR] [B][/B]"}]
[null,null,{"$f":"IF(C56=\"\",\"\",IF(LEFT(C56)>RIGHT(C56),B54,B56))","v":""},{"$f":"IF(C55=\"\",\"\",IF(B56=C55,B54,B56))","v":""},null,null,null,null,null,null,{"$error":"#N/A"},54,null,{"$f":"\"[b]\"&$A52&\"[/b]. \"&_cl1&lfi(B52)&_cle","v":"[b]52[/b]. [COLOR=#990000][/COLOR] "}]
[20,null,null,null,null,null,null,null,null,null,{"$error":"#N/A"},55,null,{"$f":"_m2&cl3x&lfi(D53)&clex&sc(D54)","v":"---------------------------------------- [COLOR=#00DC00][i][/i][/COLOR] [B][/B]"}]
[null,null,null,null,{"$f":"IF(E58=\"\",\"\",IF(LEFT(E58)>RIGHT(E58),D53,D61))","v":""},{"$f":"IF(E57=\"\",\"\",IF(D61=E57,D53,D61))","v":""},null,null,null,null,{"$error":"#N/A"},56,null,{"$f":"\"[b]\"&$A54&\"[/b]. \"&cl1x&lfi(B54)&clex","v":"[b]45[/b]. [COLOR=#cc5000][i][/i][/COLOR] "}]
[29,null,null,null,null,null,null,null,null,null,{"$error":"#N/A"},57,null,{"$f":"_m1&_cl2&lfi(C55)&_cle&sc(C56)","v":"-------------------- [COLOR=#000075][/COLOR] [B][/B]"}]
[null,null,{"$f":"IF(C60=\"\",\"\",IF(LEFT(C60)>RIGHT(C60),B58,B60))","v":""},{"$f":"IF(C59=\"\",\"\",IF(B60=C59,B58,B60))","v":""},null,null,null,null,null,null,{"$error":"#N/A"},58,null,{"$f":"\"[b]\"&$A56&\"[/b]. \"&cl1x&lfi(B56)&clex","v":"[b]20[/b]. [COLOR=#cc5000][i][/i][/COLOR] "}]
[36,null,null,null,null,null,null,null,null,null,{"$error":"#N/A"},59,null,{"$f":"_m3&cl4x&lfi(E57)&clex&sc(E58)","v":"------------------------------------------------------------ [COLOR=#bd5dff][i][/i][/COLOR] [B][/B]"}]
[null,null,null,{"$f":"IF(D62=\"\",\"\",IF(LEFT(D62)>RIGHT(D62),C59,C63))","v":""},{"$f":"IF(D62=\"\",\"\",IF(LEFT(D62)<RIGHT(D62),C59,C63))","v":""},null,null,null,null,null,{"$error":"#N/A"},60,null,{"$f":"\"[b]\"&$A58&\"[/b]. \"&_cl1&lfi(B58)&_cle","v":"[b]29[/b]. [COLOR=#990000][/COLOR] "}]
[61,null,null,null,null,null,null,null,null,null,{"$error":"#N/A"},61,null,{"$f":"_m1&cl2x&lfi(C59)&clex&sc(C60)","v":"-------------------- [COLOR=#4040FF][i][/i][/COLOR] [B][/B]"}]
[null,null,{"$f":"IF(C64=\"\",\"\",IF(LEFT(C64)>RIGHT(C64),B62,B64))","v":""},{"$f":"IF(C63=\"\",\"\",IF(B64=C63,B62,B64))","v":""},null,null,null,null,null,null,{"$error":"#N/A"},62,null,{"$f":"\"[b]\"&$A60&\"[/b]. \"&_cl1&lfi(B60)&_cle","v":"[b]36[/b]. [COLOR=#990000][/COLOR] "}]
[4,null,null,null,null,null,null,null,null,null,{"$error":"#N/A"},63,null,{"$f":"_m2&cl3x&lfi(D61)&clex&sc(D62)","v":"---------------------------------------- [COLOR=#00DC00][i][/i][/COLOR] [B][/B]"}]
[{"$f":"\"Eliminatorii \" & ctg & \" - page 3\"","v":"Eliminatorii Elite - page 3"},null,null,null,null,null,null,{"$f":"IF(H66=\"\",\"\",IF(LEFT(H66)>RIGHT(H66),G33,G97))","v":""},{"$f":"IF(H65=\"\",\"\",IF(G97=H65,G33,G97))","v":""},null,{"$error":"#N/A"},64,null,{"$f":"\"[b]\"&$A62&\"[/b]. \"&cl1x&lfi(B62)&clex","v":"[b]61[/b]. [COLOR=#cc5000][i][/i][/COLOR] "}]
[3,null,null,null,null,null,null,null,null,null,null,null,null,{"$f":"_m1&cl2x&lfi(C63)&clex&sc(C64)","v":"-------------------- [COLOR=#4040FF][i][/i][/COLOR] [B][/B]"}]
[null,null,{"$f":"IF(C68=\"\",\"\",IF(LEFT(C68)>RIGHT(C68),B66,B68))","v":""},{"$f":"IF(C67=\"\",\"\",IF(B68=C67,B66,B68))","v":""},null,null,null,"Finala",null,null,null,null,null,{"$f":"\"[b]\"&$A64&\"[/b]. \"&cl1x&lfi(B64)&clex","v":"[b]4[/b]. [COLOR=#cc5000][i][/i][/COLOR] "}]
[62]
[null,null,null,{"$f":"IF(D70=\"\",\"\",IF(LEFT(D70)>RIGHT(D70),C67,C71))","v":""},{"$f":"IF(D70=\"\",\"\",IF(LEFT(D70)<RIGHT(D70),C67,C71))","v":""},null,null,null,null,null,null,null,null,{"$f":"_m6&_m1&clr&\"[b]\"&lfi(H65)&\"[/b]\"&_cle&sc(H66)","v":"------------------------------------------------------------------------------------------------------------------------ -------------------- [COLOR=red][b][/b][/COLOR] [B][/B]"}]
[35]
[null,null,{"$f":"IF(C72=\"\",\"\",IF(LEFT(C72)>RIGHT(C72),B70,B72))","v":""},{"$f":"IF(C71=\"\",\"\",IF(B72=C71,B70,B72))","v":""},null,null,null,null,null,null,null,null,null,{"$f":"\"[b]\"&$A66&\"[/b]. \"&_cl1&lfi(B66)&_cle","v":"[b]3[/b]. [COLOR=#990000][/COLOR] "}]
[30,null,null,null,null,null,null,null,null,null,null,null,null,{"$f":"_m1&_cl2&lfi(C67)&_cle&sc(C68)","v":"-------------------- [COLOR=#000075][/COLOR] [B][/B]"}]
[null,null,null,null,{"$f":"IF(E74=\"\",\"\",IF(LEFT(E74)>RIGHT(E74),D69,D77))","v":""},{"$f":"IF(E73=\"\",\"\",IF(D77=E73,D69,D77))","v":""},null,null,null,null,null,null,null,{"$f":"\"[b]\"&$A68&\"[/b]. \"&_cl1&lfi(B68)&_cle","v":"[b]62[/b]. [COLOR=#990000][/COLOR] "}]
[19,null,null,null,null,null,null,null,null,null,null,null,null,{"$f":"_m2&_cl3&lfi(D69)&_cle&sc(D70)","v":"---------------------------------------- [COLOR=#009900][/COLOR] [B][/B]"}]
[null,null,{"$f":"IF(C76=\"\",\"\",IF(LEFT(C76)>RIGHT(C76),B74,B76))","v":""},{"$f":"IF(C75=\"\",\"\",IF(B76=C75,B74,B76))","v":""},null,null,null,null,null,null,null,null,null,{"$f":"\"[b]\"&$A70&\"[/b]. \"&cl1x&lfi(B70)&clex","v":"[b]35[/b]. [COLOR=#cc5000][i][/i][/COLOR] "}]
[46,null,null,null,null,null,null,null,null,null,null,null,null,{"$f":"_m1&_cl2&lfi(C71)&_cle&sc(C72)","v":"-------------------- [COLOR=#000075][/COLOR] [B][/B]"}]
[null,null,null,{"$f":"IF(D78=\"\",\"\",IF(LEFT(D78)>RIGHT(D78),C75,C79))","v":""},{"$f":"IF(D78=\"\",\"\",IF(LEFT(D78)<RIGHT(D78),C75,C79))","v":""},null,null,null,null,null,null,null,null,{"$f":"\"[b]\"&$A72&\"[/b]. \"&cl1x&lfi(B72)&clex","v":"[b]30[/b]. [COLOR=#cc5000][i][/i][/COLOR] "}]
[51,null,null,null,null,null,null,null,null,null,null,null,null,{"$f":"_m3&_cl4&lfi(E73)&_cle&sc(E74)","v":"------------------------------------------------------------ [COLOR=#6900af][/COLOR] [B][/B]"}]
[null,null,{"$f":"IF(C80=\"\",\"\",IF(LEFT(C80)>RIGHT(C80),B78,B80))","v":""},{"$f":"IF(C79=\"\",\"\",IF(B80=C79,B78,B80))","v":""},null,null,null,null,null,null,null,null,null,{"$f":"\"[b]\"&$A74&\"[/b]. \"&_cl1&lfi(B74)&_cle","v":"[b]19[/b]. [COLOR=#990000][/COLOR] "}]
[14,null,null,null,null,null,null,null,null,null,null,null,null,{"$f":"_m1&cl2x&lfi(C75)&clex&sc(C76)","v":"-------------------- [COLOR=#4040FF][i][/i][/COLOR] [B][/B]"}]
[null,null,null,null,"C",{"$f":"IF(F82=\"\",\"\",IF(LEFT(F82)>RIGHT(F82),E73,E89))","v":""},{"$f":"IF(F81=\"\",\"\",IF(E89=F81,E73,E89))","v":""},null,null,null,null,null,null,{"$f":"\"[b]\"&$A76&\"[/b]. \"&_cl1&lfi(B76)&_cle","v":"[b]46[/b]. [COLOR=#990000][/COLOR] "}]
[11,null,null,null,null,null,null,null,null,null,null,null,null,{"$f":"_m2&_cl3&lfi(D77)&_cle&sc(D78)","v":"---------------------------------------- [COLOR=#009900][/COLOR] [B][/B]"}]
[null,null,{"$f":"IF(C84=\"\",\"\",IF(LEFT(C84)>RIGHT(C84),B82,B84))","v":""},{"$f":"IF(C83=\"\",\"\",IF(B84=C83,B82,B84))","v":""},null,null,null,null,null,null,null,null,null,{"$f":"\"[b]\"&$A78&\"[/b]. \"&cl1x&lfi(B78)&clex","v":"[b]51[/b]. [COLOR=#cc5000][i][/i][/COLOR] "}]
[54,null,null,null,null,null,null,null,null,null,null,null,null,{"$f":"_m1&cl2x&lfi(C79)&clex&sc(C80)","v":"-------------------- [COLOR=#4040FF][i][/i][/COLOR] [B][/B]"}]
[null,null,null,{"$f":"IF(D86=\"\",\"\",IF(LEFT(D86)>RIGHT(D86),C83,C87))","v":""},{"$f":"IF(D86=\"\",\"\",IF(LEFT(D86)<RIGHT(D86),C83,C87))","v":""},null,null,null,null,null,null,null,null,{"$f":"\"[b]\"&$A80&\"[/b]. \"&cl1x&lfi(B80)&clex","v":"[b]14[/b]. [COLOR=#cc5000][i][/i][/COLOR] "}]
[43,null,null,null,null,null,null,null,null,null,null,null,null,{"$f":"_m4&cl1x&lfi(F81)&clex&sc(F82)","v":"-------------------------------------------------------------------------------- [COLOR=#cc5000][i][/i][/COLOR] [B][/B]"}]
[null,null,{"$f":"IF(C88=\"\",\"\",IF(LEFT(C88)>RIGHT(C88),B86,B88))","v":""},{"$f":"IF(C87=\"\",\"\",IF(B88=C87,B86,B88))","v":""},null,null,null,null,null,null,null,null,null,{"$f":"\"[b]\"&$A82&\"[/b]. \"&_cl1&lfi(B82)&_cle","v":"[b]11[/b]. [COLOR=#990000][/COLOR] "}]
[22,null,null,null,null,null,null,null,null,null,null,null,null,{"$f":"_m1&_cl2&lfi(C83)&_cle&sc(C84)","v":"-------------------- [COLOR=#000075][/COLOR] [B][/B]"}]
[null,null,null,null,{"$f":"IF(E90=\"\",\"\",IF(LEFT(E90)>RIGHT(E90),D85,D93))","v":""},{"$f":"IF(E89=\"\",\"\",IF(D93=E89,D85,D93))","v":""},null,null,null,null,null,null,null,{"$f":"\"[b]\"&$A84&\"[/b]. \"&_cl1&lfi(B84)&_cle","v":"[b]54[/b]. [COLOR=#990000][/COLOR] "}]
[27,null,null,null,null,null,null,null,null,null,null,null,null,{"$f":"_m2&cl3x&lfi(D85)&clex&sc(D86)","v":"---------------------------------------- [COLOR=#00DC00][i][/i][/COLOR] [B][/B]"}]
[null,null,{"$f":"IF(C92=\"\",\"\",IF(LEFT(C92)>RIGHT(C92),B90,B92))","v":""},{"$f":"IF(C91=\"\",\"\",IF(B92=C91,B90,B92))","v":""},null,null,null,null,null,null,null,null,null,{"$f":"\"[b]\"&$A86&\"[/b]. \"&cl1x&lfi(B86)&clex","v":"[b]43[/b]. [COLOR=#cc5000][i][/i][/COLOR] "}]
[38,null,null,null,null,null,null,null,null,null,null,null,null,{"$f":"_m1&_cl2&lfi(C87)&_cle&sc(C88)","v":"-------------------- [COLOR=#000075][/COLOR] [B][/B]"}]
[null,null,null,{"$f":"IF(D94=\"\",\"\",IF(LEFT(D94)>RIGHT(D94),C91,C95))","v":""},{"$f":"IF(D94=\"\",\"\",IF(LEFT(D94)<RIGHT(D94),C91,C95))","v":""},null,null,null,null,null,null,null,null,{"$f":"\"[b]\"&$A88&\"[/b]. \"&cl1x&lfi(B88)&clex","v":"[b]22[/b]. [COLOR=#cc5000][i][/i][/COLOR] "}]
[59,null,null,null,null,null,null,null,null,null,null,null,null,{"$f":"_m3&_cl4&lfi(E89)&_cle&sc(E90)","v":"------------------------------------------------------------ [COLOR=#6900af][/COLOR] [B][/B]"}]
[null,null,{"$f":"IF(C96=\"\",\"\",IF(LEFT(C96)>RIGHT(C96),B94,B96))","v":""},{"$f":"IF(C95=\"\",\"\",IF(B96=C95,B94,B96))","v":""},null,null,null,null,null,null,null,null,null,{"$f":"\"[b]\"&$A90&\"[/b]. \"&_cl1&lfi(B90)&_cle","v":"[b]27[/b]. [COLOR=#990000][/COLOR] "}]
[6,null,null,null,null,null,null,null,null,null,null,null,null,{"$f":"_m1&cl2x&lfi(C91)&clex&sc(C92)","v":"-------------------- [COLOR=#4040FF][i][/i][/COLOR] [B][/B]"}]
[{"$f":"\"Eliminatorii \" & ctg & \" - page 4\"","v":"Eliminatorii Elite - page 4"},null,null,null,null,null,{"$f":"IF(G98=\"\",\"\",IF(LEFT(G98)>RIGHT(G98),F81,F113))","v":""},{"$f":"IF(G97=\"\",\"\",IF(F113=G97,F81,F113))","v":""},null,null,null,null,null,{"$f":"\"[b]\"&$A92&\"[/b]. \"&_cl1&lfi(B92)&_cle","v":"[b]38[/b]. [COLOR=#990000][/COLOR] "}]
[7,null,null,null,null,null,null,null,null,null,null,null,null,{"$f":"_m2&cl3x&lfi(D93)&clex&sc(D94)","v":"---------------------------------------- [COLOR=#00DC00][i][/i][/COLOR] [B][/B]"}]
[null,null,{"$f":"IF(C100=\"\",\"\",IF(LEFT(C100)>RIGHT(C100),B98,B100))","v":""},{"$f":"IF(C99=\"\",\"\",IF(B100=C99,B98,B100))","v":""},null,null,"SF 2",null,null,null,null,null,null,{"$f":"\"[b]\"&$A94&\"[/b]. \"&cl1x&lfi(B94)&clex","v":"[b]59[/b]. [COLOR=#cc5000][i][/i][/COLOR] "}]
[58,null,null,null,null,null,null,null,null,null,null,null,null,{"$f":"_m1&cl2x&lfi(C95)&clex&sc(C96)","v":"-------------------- [COLOR=#4040FF][i][/i][/COLOR] [B][/B]"}]
[null,null,null,{"$f":"IF(D102=\"\",\"\",IF(LEFT(D102)>RIGHT(D102),C99,C103))","v":""},{"$f":"IF(D102=\"\",\"\",IF(LEFT(D102)<RIGHT(D102),C99,C103))","v":""},null,null,null,null,null,null,null,null,{"$f":"\"[b]\"&$A96&\"[/b]. \"&cl1x&lfi(B96)&clex","v":"[b]6[/b]. [COLOR=#cc5000][i][/i][/COLOR] "}]
[39]
[null,null,{"$f":"IF(C104=\"\",\"\",IF(LEFT(C104)>RIGHT(C104),B102,B104))","v":""},{"$f":"IF(C103=\"\",\"\",IF(B104=C103,B102,B104))","v":""},null,null,null,null,null,null,null,null,null,{"$f":"_m5&_cl2&\"[b]\"&lfi(G97)&\"[/b]\"&_cle&sc(G98)","v":"---------------------------------------------------------------------------------------------------- [COLOR=#000075][b][/b][/COLOR] [B][/B]"}]
[26]
[null,null,null,null,{"$f":"IF(E106=\"\",\"\",IF(LEFT(E106)>RIGHT(E106),D101,D109))","v":""},{"$f":"IF(E105=\"\",\"\",IF(D109=E105,D101,D109))","v":""},null,null,null,null,null,null,null,{"$f":"\"[b]\"&$A98&\"[/b]. \"&_cl1&lfi(B98)&_cle","v":"[b]7[/b]. [COLOR=#990000][/COLOR] "}]
[23,null,null,null,null,null,null,null,null,null,null,null,null,{"$f":"_m1&_cl2&lfi(C99)&_cle&sc(C100)","v":"-------------------- [COLOR=#000075][/COLOR] [B][/B]"}]
[null,null,{"$f":"IF(C108=\"\",\"\",IF(LEFT(C108)>RIGHT(C108),B106,B108))","v":""},{"$f":"IF(C107=\"\",\"\",IF(B108=C107,B106,B108))","v":""},null,null,null,null,null,null,null,null,null,{"$f":"\"[b]\"&$A100&\"[/b]. \"&_cl1&lfi(B100)&_cle","v":"[b]58[/b]. [COLOR=#990000][/COLOR] "}]
[42,null,null,null,null,null,null,null,null,null,null,null,null,{"$f":"_m2&_cl3&lfi(D101)&_cle&sc(D102)","v":"---------------------------------------- [COLOR=#009900][/COLOR] [B][/B]"}]
[null,null,null,{"$f":"IF(D110=\"\",\"\",IF(LEFT(D110)>RIGHT(D110),C107,C111))","v":""},{"$f":"IF(D110=\"\",\"\",IF(LEFT(D110)<RIGHT(D110),C107,C111))","v":""},null,null,null,null,null,null,null,null,{"$f":"\"[b]\"&$A102&\"[/b]. \"&cl1x&lfi(B102)&clex","v":"[b]39[/b]. [COLOR=#cc5000][i][/i][/COLOR] "}]
[55,null,null,null,null,null,null,null,null,null,null,null,null,{"$f":"_m1&_cl2&lfi(C103)&_cle&sc(C104)","v":"-------------------- [COLOR=#000075][/COLOR] [B][/B]"}]
[null,null,{"$f":"IF(C112=\"\",\"\",IF(LEFT(C112)>RIGHT(C112),B110,B112))","v":""},{"$f":"IF(C111=\"\",\"\",IF(B112=C111,B110,B112))","v":""},null,null,null,null,null,null,null,null,null,{"$f":"\"[b]\"&$A104&\"[/b]. \"&cl1x&lfi(B104)&clex","v":"[b]26[/b]. [COLOR=#cc5000][i][/i][/COLOR] "}]
[10,null,null,null,null,null,null,null,null,null,null,null,null,{"$f":"_m3&cl4x&lfi(E105)&clex&sc(E106)","v":"------------------------------------------------------------ [COLOR=#bd5dff][i][/i][/COLOR] [B][/B]"}]
[null,null,null,null,"D",{"$f":"IF(F114=\"\",\"\",IF(LEFT(F114)>RIGHT(F114),E105,E121))","v":""},{"$f":"IF(F113=\"\",\"\",IF(E121=F113,E105,E121))","v":""},null,null,null,null,null,null,{"$f":"\"[b]\"&$A106&\"[/b]. \"&_cl1&lfi(B106)&_cle","v":"[b]23[/b]. [COLOR=#990000][/COLOR] "}]
[15,null,null,null,null,null,null,null,null,null,null,null,null,{"$f":"_m1&cl2x&lfi(C107)&clex&sc(C108)","v":"-------------------- [COLOR=#4040FF][i][/i][/COLOR] [B][/B]"}]
[null,null,{"$f":"IF(C116=\"\",\"\",IF(LEFT(C116)>RIGHT(C116),B114,B116))","v":""},{"$f":"IF(C115=\"\",\"\",IF(B116=C115,B114,B116))","v":""},null,null,null,null,null,null,null,null,null,{"$f":"\"[b]\"&$A108&\"[/b]. \"&_cl1&lfi(B108)&_cle","v":"[b]42[/b]. [COLOR=#990000][/COLOR] "}]
[50,null,null,null,null,null,null,null,null,null,null,null,null,{"$f":"_m2&_cl3&lfi(D109)&_cle&sc(D110)","v":"---------------------------------------- [COLOR=#009900][/COLOR] [B][/B]"}]
[null,null,null,{"$f":"IF(D118=\"\",\"\",IF(LEFT(D118)>RIGHT(D118),C115,C119))","v":""},{"$f":"IF(D118=\"\",\"\",IF(LEFT(D118)<RIGHT(D118),C115,C119))","v":""},null,null,null,null,null,null,null,null,{"$f":"\"[b]\"&$A110&\"[/b]. \"&cl1x&lfi(B110)&clex","v":"[b]55[/b]. [COLOR=#cc5000][i][/i][/COLOR] "}]
[47,null,null,null,null,null,null,null,null,null,null,null,null,{"$f":"_m1&cl2x&lfi(C111)&clex&sc(C112)","v":"-------------------- [COLOR=#4040FF][i][/i][/COLOR] [B][/B]"}]
[null,null,{"$f":"IF(C120=\"\",\"\",IF(LEFT(C120)>RIGHT(C120),B118,B120))","v":""},{"$f":"IF(C119=\"\",\"\",IF(B120=C119,B118,B120))","v":""},null,null,null,null,null,null,null,null,null,{"$f":"\"[b]\"&$A112&\"[/b]. \"&cl1x&lfi(B112)&clex","v":"[b]10[/b]. [COLOR=#cc5000][i][/i][/COLOR] "}]
[18,null,null,null,null,null,null,null,null,null,null,null,null,{"$f":"_m4&cl1x&lfi(F113)&clex&sc(F114)","v":"-------------------------------------------------------------------------------- [COLOR=#cc5000][i][/i][/COLOR] [B][/B]"}]
[null,null,null,null,{"$f":"IF(E122=\"\",\"\",IF(LEFT(E122)>RIGHT(E122),D117,D125))","v":""},{"$f":"IF(E121=\"\",\"\",IF(D125=E121,D117,D125))","v":""},null,null,null,null,null,null,null,{"$f":"\"[b]\"&$A114&\"[/b]. \"&_cl1&lfi(B114)&_cle","v":"[b]15[/b]. [COLOR=#990000][/COLOR] "}]
[31,null,null,null,null,null,null,null,null,null,null,null,null,{"$f":"_m1&_cl2&lfi(C115)&_cle&sc(C116)","v":"-------------------- [COLOR=#000075][/COLOR] [B][/B]"}]
[null,null,{"$f":"IF(C124=\"\",\"\",IF(LEFT(C124)>RIGHT(C124),B122,B124))","v":""},{"$f":"IF(C123=\"\",\"\",IF(B124=C123,B122,B124))","v":""},null,null,null,null,null,null,null,null,null,{"$f":"\"[b]\"&$A116&\"[/b]. \"&_cl1&lfi(B116)&_cle","v":"[b]50[/b]. [COLOR=#990000][/COLOR] "}]
[34,null,null,null,null,null,null,null,null,null,null,null,null,{"$f":"_m2&cl3x&lfi(D117)&clex&sc(D118)","v":"---------------------------------------- [COLOR=#00DC00][i][/i][/COLOR] [B][/B]"}]
[null,null,null,{"$f":"IF(D126=\"\",\"\",IF(LEFT(D126)>RIGHT(D126),C123,C127))","v":""},{"$f":"IF(D126=\"\",\"\",IF(LEFT(D126)<RIGHT(D126),C123,C127))","v":""},null,null,null,null,null,null,null,null,{"$f":"\"[b]\"&$A118&\"[/b]. \"&cl1x&lfi(B118)&clex","v":"[b]47[/b]. [COLOR=#cc5000][i][/i][/COLOR] "}]
[63,null,null,null,null,null,null,null,null,null,null,null,null,{"$f":"_m1&_cl2&lfi(C119)&_cle&sc(C120)","v":"-------------------- [COLOR=#000075][/COLOR] [B][/B]"}]
[null,null,{"$f":"IF(C128=\"\",\"\",IF(LEFT(C128)>RIGHT(C128),B126,B128))","v":""},{"$f":"IF(C127=\"\",\"\",IF(B128=C127,B126,B128))","v":""},null,null,null,null,null,null,null,null,null,{"$f":"\"[b]\"&$A120&\"[/b]. \"&cl1x&lfi(B120)&clex","v":"[b]18[/b]. [COLOR=#cc5000][i][/i][/COLOR] "}]
[2,null,null,null,null,null,null,null,null,null,null,null,null,{"$f":"_m3&cl4x&lfi(E121)&clex&sc(E122)","v":"------------------------------------------------------------ [COLOR=#bd5dff][i][/i][/COLOR] [B][/B]"}]
[null,null,null,null,null,null,null,null,null,null,null,null,null,{"$f":"\"[b]\"&$A122&\"[/b]. \"&_cl1&lfi(B122)&_cle","v":"[b]31[/b]. [COLOR=#990000][/COLOR] "}]
[null,null,null,null,null,null,null,null,null,null,null,null,null,{"$f":"_m1&cl2x&lfi(C123)&clex&sc(C124)","v":"-------------------- [COLOR=#4040FF][i][/i][/COLOR] [B][/B]"}]
[null,null,null,null,null,null,null,null,null,null,null,null,null,{"$f":"\"[b]\"&$A124&\"[/b]. \"&_cl1&lfi(B124)&_cle","v":"[b]34[/b]. [COLOR=#990000][/COLOR] "}]
[null,null,null,null,null,null,null,null,null,null,null,null,null,{"$f":"_m2&cl3x&lfi(D125)&clex&sc(D126)","v":"---------------------------------------- [COLOR=#00DC00][i][/i][/COLOR] [B][/B]"}]
[null,null,null,null,null,null,null,null,null,null,null,null,null,{"$f":"\"[b]\"&$A126&\"[/b]. \"&cl1x&lfi(B126)&clex","v":"[b]63[/b]. [COLOR=#cc5000][i][/i][/COLOR] "}]
[null,null,null,null,null,null,null,null,null,null,null,null,null,{"$f":"_m1&cl2x&lfi(C127)&clex&sc(C128)","v":"-------------------- [COLOR=#4040FF][i][/i][/COLOR] [B][/B]"}]
[null,null,null,null,null,null,null,null,null,null,null,null,null,{"$f":"\"[b]\"&$A128&\"[/b]. \"&cl1x&lfi(B128)&clex","v":"[b]2[/b]. [COLOR=#cc5000][i][/i][/COLOR] "}]
[]
[]
[null,null,null,null,null,null,null,null,null,null,null,null,null,{"$f":"\"[b]\"&clr & \"Finala mica - \" & _cle & ctg & \"[/b]\"","v":"[b][COLOR=red]Finala mica - [/COLOR] Elite[/b]"}]
[]
[null,null,null,null,null,null,null,null,null,null,null,null,null,{"$f":"_cl3&lfi($G$5)&_cle","v":"[COLOR=#009900][/COLOR] "}]
[null,null,null,null,null,null,null,null,null,null,null,null,null,{"$f":"_m1&_cl5&\"[b]\"&lfi($H$6)&\"[/b]\"&_cle& \" \" & sc($H$7)","v":"-------------------- [COLOR=red][b][/b][/COLOR]  [B][/B]"}]
[null,null,null,null,null,null,null,null,null,null,null,null,null,{"$f":"_cl3&lfi($G$7)&_cle","v":"[COLOR=#009900][/COLOR] "}]

{"sheet":"T32","index":19,"n_rows":113,"n_cols":67,"rows_kept":113,"cut":false,"hidden":true,"merged":[]}
[{"$f":"\"Eliminatorii \" & ctg & \" - page 1\"","v":"Eliminatorii Elite - page 1"},null,null,null,null,null,null,null,67,5,"SE","Loc",null,{"$f":"\"[B]\"&clr & \"Eliminatorii \" & ctg & _cle & \"[/b]\"","v":"[B][COLOR=red]Eliminatorii Elite[/COLOR] [/b]"},null,null,null,null,null,null,null,null,null,null,null,null,null,null,{"$f":"\"[b]\"&clr & \"Semifinale - \" & _cle & ctg & \"[/b]\"","v":"[b][COLOR=red]Semifinale - [/COLOR] Elite[/b]"},null,null,null,null,null,null,null,null,null,null,null,null,null,null,null,null,null,null,null,null,"R32",null,null,"R16",null,null,"R8",null,null,"SF",null,null,"F",null,null,"3rd"]
[1,null,null,null,null,null,null,null,null,null,{"$f":"G33","v":""},1,null,null,null,null,null,null,null,null,null,null,null,null,null,null,null,null,null,null,null,null,null,null,null,null,null,null,null,null,null,null,null,null,null,null,null,null,null,{"$f":"IFERROR(RIGHT(B2,LEN(B2)-FIND(\",\",B2)),\"\")","v":""},{"$f":"IFERROR(RIGHT(B4,LEN(B4)-FIND(\",\",B4)),\"\")","v":""},{"$f":"C4","v":0},{"$f":"IFERROR(RIGHT(C3,LEN(C3)-FIND(\",\",C3)),\"\")","v":""},{"$f":"IFERROR(RIGHT(C7,LEN(C7)-FIND(\",\",C7)),\"\")","v":""},{"$f":"D6","v":0},{"$f":"IFERROR(RIGHT(D5,LEN(D5)-FIND(\",\",D5)),\"\")","v":""},{"$f":"IFERROR(RIGHT(D13,LEN(D13)-FIND(\",\",D13)),\"\")","v":""},{"$f":"E10","v":0},{"$f":"IFERROR(RIGHT(E9,LEN(E9)-FIND(\",\",E9)),\"\")","v":""},{"$f":"IFERROR(RIGHT(E25,LEN(E25)-FIND(\",\",E25)),\"\")","v":""},{"$f":"F18","v":0},{"$f":"IFERROR(RIGHT(F17,LEN(F17)-FIND(\",\",F17)),\"\")","v":""},{"$f":"IFERROR(RIGHT(F49,LEN(F49)-FIND(\",\",F49)),\"\")","v":""},{"$f":"G34","v":0},{"$f":"IFERROR(RIGHT($G$5,LEN($G$5)-FIND(\",\",$G$5)),\"\")","v":""},{"$f":"IFERROR(RIGHT($G$7,LEN($G$7)-FIND(\",\",$G$7)),\"\")","v":""},{"$f":"$H$7","v":0}]
[null,null,{"$f":"IF(C4=\"\",\"\",IF(LEFT(C4)>RIGHT(C4),B2,B4))","v":""},{"$f":"IF(C3=\"\",\"\",IF(B4=C3,B2,B4))","v":""},null,null,null,null,null,null,{"$f":"H33","v":""},2,null,{"$f":"\"[b]\"&$A2&\"[/b]. \"&_cl1&lfi(B2)&_cle","v":"[b]1[/b]. [COLOR=#990000][/COLOR] "},null,null,null,null,null,null,null,null,null,null,null,null,null,null,{"$f":"_cl1&lfi(E9)&_cle","v":"[COLOR=#990000][/COLOR] "},null,null,null,null,null,null,null,null,null,null,null,null,null,null,null,null,null,null,null,null,{"$f":"IFERROR(RIGHT(B6,LEN(B6)-FIND(\",\",B6)),\"\")","v":""},{"$f":"IFERROR(RIGHT(B8,LEN(B8)-FIND(\",\",B8)),\"\")","v":""},{"$f":"C8","v":0},{"$f":"IFERROR(RIGHT(C11,LEN(C11)-FIND(\",\",C11)),\"\")","v":""},{"$f":"IFERROR(RIGHT(C15,LEN(C15)-FIND(\",\",C15)),\"\")","v":""},{"$f":"D14","v":0},{"$f":"IFERROR(RIGHT(D21,LEN(D21)-FIND(\",\",D21)),\"\")","v":""},{"$f":"IFERROR(RIGHT(D29,LEN(D29)-FIND(\",\",D29)),\"\")","v":""},{"$f":"E26","v":0},{"$f":"IFERROR(RIGHT(E41,LEN(E41)-FIND(\",\",E41)),\"\")","v":""},{"$f":"IFERROR(RIGHT(E57,LEN(E57)-FIND(\",\",E57)),\"\")","v":""},{"$f":"F50","v":0},"x",null,null,"x"]
[32,null,null,null,null,null,null,null,null,null,{"$f":"IF(H6=\"\",VLOOKUP(K2,$F:$G,2,FALSE),H6)","v":0},3,null,{"$f":"_m1&_cl2&lfi(C3)&_cle&sc(C4)","v":"-------------------- [COLOR=#000075][/COLOR] [B][/B]"},null,null,null,null,null,null,null,null,null,null,null,null,null,null,{"$f":"_m1&_cl2&\"[b]\"&lfi(F17)&\"[/b]\"&_cle& \" \" & sc(F18)","v":"-------------------- [COLOR=#000075][b][/b][/COLOR]  [B][/B]"},null,null,null,null,null,null,null,null,null,null,null,null,null,null,null,null,null,null,null,null,{"$f":"IFERROR(RIGHT(B10,LEN(B10)-FIND(\",\",B10)),\"\")","v":""},{"$f":"IFERROR(RIGHT(B12,LEN(B12)-FIND(\",\",B12)),\"\")","v":""},{"$f":"C12","v":0},{"$f":"IFERROR(RIGHT(C19,LEN(C19)-FIND(\",\",C19)),\"\")","v":""},{"$f":"IFERROR(RIGHT(C23,LEN(C23)-FIND(\",\",C23)),\"\")","v":""},{"$f":"D22","v":0},{"$f":"IFERROR(RIGHT(D37,LEN(D37)-FIND(\",\",D37)),\"\")","v":""},{"$f":"IFERROR(RIGHT(D45,LEN(D45)-FIND(\",\",D45)),\"\")","v":""},{"$f":"E42","v":0},"x"]
[null,null,null,{"$f":"IF(D6=\"\",\"\",IF(LEFT(D6)>RIGHT(D6),C3,C7))","v":""},{"$f":"IF(D6=\"\",\"\",IF(LEFT(D6)<RIGHT(D6),C3,C7))","v":""},null,{"$f":"G17","v":""},null,null,null,{"$f":"IF(I6=\"\",VLOOKUP(K3,$F:$G,2,FALSE),I6)","v":0},4,null,{"$f":"\"[b]\"&$A4&\"[/b]. \"&_cl1&lfi(B4)&_cle","v":"[b]32[/b]. [COLOR=#990000][/COLOR] "},null,null,null,null,null,null,null,null,null,null,null,null,null,null,{"$f":"_cl1&lfi(E25)&_cle","v":"[COLOR=#990000][/COLOR] "},null,null,null,null,null,null,null,null,null,null,null,null,null,null,null,null,null,null,null,null,{"$f":"IFERROR(RIGHT(B14,LEN(B14)-FIND(\",\",B14)),\"\")","v":""},{"$f":"IFERROR(RIGHT(B16,LEN(B16)-FIND(\",\",B16)),\"\")","v":""},{"$f":"C16","v":0},{"$f":"IFERROR(RIGHT(C27,LEN(C27)-FIND(\",\",C27)),\"\")","v":""},{"$f":"IFERROR(RIGHT(C31,LEN(C31)-FIND(\",\",C31)),\"\")","v":""},{"$f":"D30","v":0},{"$f":"IFERROR(RIGHT(D53,LEN(D53)-FIND(\",\",D53)),\"\")","v":""},{"$f":"IFERROR(RIGHT(D61,LEN(D61)-FIND(\",\",D61)),\"\")","v":""},{"$f":"E58","v":0}]
[17,null,null,null,null,null,{"$f":"REPT(\"-\",20)","v":"--------------------"},{"$f":"IF(H7=\"\",\"\",IF(LEFT(H7)>RIGHT(H7),G5,G7))","v":""},{"$f":"IF(H6=\"\",\"\",IF(G7=H6,G5,G7))","v":""},null,{"$f":"VLOOKUP(K2,$E:$F,2,FALSE)","v":0},5,null,{"$f":"_m2&_cl3&lfi(D5)&_cle&sc(D6)","v":"---------------------------------------- [COLOR=#009900][/COLOR] [B][/B]"},null,null,null,null,null,null,null,null,null,null,null,null,null,null,null,null,null,null,null,null,null,null,null,null,null,null,null,null,null,null,null,null,null,null,null,{"$f":"IFERROR(RIGHT(B18,LEN(B18)-FIND(\",\",B18)),\"\")","v":""},{"$f":"IFERROR(RIGHT(B20,LEN(B20)-FIND(\",\",B20)),\"\")","v":""},{"$f":"C20","v":0},{"$f":"IFERROR(RIGHT(C35,LEN(C35)-FIND(\",\",C35)),\"\")","v":""},{"$f":"IFERROR(RIGHT(C39,LEN(C39)-FIND(\",\",C39)),\"\")","v":""},{"$f":"D38","v":0},"x"]
[null,null,{"$f":"IF(C8=\"\",\"\",IF(LEFT(C8)>RIGHT(C8),B6,B8))","v":""},{"$f":"IF(C7=\"\",\"\",IF(B8=C7,B6,B8))","v":""},null,null,{"$f":"G49","v":""},null,null,null,{"$f":"VLOOKUP(K3,$E:$F,2,FALSE)","v":0},6,null,{"$f":"\"[b]\"&$A6&\"[/b]. \"&cl1x&lfi(B6)&clex","v":"[b]17[/b]. [COLOR=#cc5000][i][/i][/COLOR] "},null,null,null,null,null,null,null,null,null,null,null,null,null,null,{"$f":"cl1x&lfi(E41)&clex","v":"[COLOR=#cc5000][i][/i][/COLOR] "},null,null,null,null,null,null,null,null,null,null,null,null,null,null,null,null,null,null,null,null,{"$f":"IFERROR(RIGHT(B22,LEN(B22)-FIND(\",\",B22)),\"\")","v":""},{"$f":"IFERROR(RIGHT(B24,LEN(B24)-FIND(\",\",B24)),\"\")","v":""},{"$f":"C24","v":0},{"$f":"IFERROR(RIGHT(C43,LEN(C43)-FIND(\",\",C43)),\"\")","v":""},{"$f":"IFERROR(RIGHT(C47,LEN(C47)-FIND(\",\",C47)),\"\")","v":""},{"$f":"D46","v":0}]
[16,null,null,null,null,null,null,null,null,null,{"$f":"VLOOKUP(K4,$E:$F,2,FALSE)","v":{"$error":"#N/A"}},7,null,{"$f":"_m1&_cl2&lfi(C7)&_cle&sc(C8)","v":"-------------------- [COLOR=#000075][/COLOR] [B][/B]"},null,null,null,null,null,null,null,null,null,null,null,null,null,null,{"$f":"_m1&_cl2&\"[b]\"&lfi(F49)&\"[/b]\"&_cle& \" \" & sc(F50)","v":"-------------------- [COLOR=#000075][b][/b][/COLOR]  [B][/B]"},null,null,null,null,null,null,null,null,null,null,null,null,null,null,null,null,null,null,null,null,{"$f":"IFERROR(RIGHT(B26,LEN(B26)-FIND(\",\",B26)),\"\")","v":""},{"$f":"IFERROR(RIGHT(B28,LEN(B28)-FIND(\",\",B28)),\"\")","v":""},{"$f":"C28","v":0},{"$f":"IFERROR(RIGHT(C51,LEN(C51)-FIND(\",\",C51)),\"\")","v":""},{"$f":"IFERROR(RIGHT(C55,LEN(C55)-FIND(\",\",C55)),\"\")","v":""},{"$f":"D54","v":0}]
[null,null,null,null,{"$f":"IF(E10=\"\",\"\",IF(LEFT(E10)>RIGHT(E10),D5,D13))","v":""},{"$f":"IF(E9=\"\",\"\",IF(D13=E9,D5,D13))","v":""},null,{"$f":"\"Finala mica - \" & ctg","v":"Finala mica - Elite"},null,null,{"$f":"VLOOKUP(K5,$E:$F,2,FALSE)","v":{"$error":"#N/A"}},8,null,{"$f":"\"[b]\"&$A8&\"[/b]. \"&cl1x&lfi(B8)&clex","v":"[b]16[/b]. [COLOR=#cc5000][i][/i][/COLOR] "},null,null,null,null,null,null,null,null,null,null,null,null,null,null,{"$f":"cl1x&lfi(E57)&clex","v":"[COLOR=#cc5000][i][/i][/COLOR] "},null,null,null,null,null,null,null,null,null,null,null,null,null,null,null,null,null,null,null,null,{"$f":"IFERROR(RIGHT(B30,LEN(B30)-FIND(\",\",B30)),\"\")","v":""},{"$f":"IFERROR(RIGHT(B32,LEN(B32)-FIND(\",\",B32)),\"\")","v":""},{"$f":"C32","v":0},{"$f":"IFERROR(RIGHT(C59,LEN(C59)-FIND(\",\",C59)),\"\")","v":""},{"$f":"IFERROR(RIGHT(C63,LEN(C63)-FIND(\",\",C63)),\"\")","v":""},{"$f":"D62","v":0}]
[9,null,null,null,null,null,null,null,null,null,{"$f":"VLOOKUP(K2,$D:$E,2,FALSE)","v":0},9,null,{"$f":"_m3&_cl4&lfi(E9)&_cle&sc(E10)","v":"------------------------------------------------------------ [COLOR=#6900af][/COLOR] [B][/B]"},null,null,null,null,null,null,null,null,null,null,null,null,null,null,null,null,null,null,null,null,null,null,null,null,null,null,null,null,null,null,null,null,null,null,null,{"$f":"IFERROR(RIGHT(B34,LEN(B34)-FIND(\",\",B34)),\"\")","v":""},{"$f":"IFERROR(RIGHT(B36,LEN(B36)-FIND(\",\",B36)),\"\")","v":""},{"$f":"C36","v":0},"x"]
[null,null,{"$f":"IF(C12=\"\",\"\",IF(LEFT(C12)>RIGHT(C12),B10,B12))","v":""},{"$f":"IF(C11=\"\",\"\",IF(B12=C11,B10,B12))","v":""},null,null,null,null,null,null,{"$f":"VLOOKUP(K3,$D:$E,2,FALSE)","v":0},10,null,{"$f":"\"[b]\"&$A10&\"[/b]. \"&_cl1&lfi(B10)&_cle","v":"[b]9[/b]. [COLOR=#990000][/COLOR] "},null,null,null,null,null,null,null,null,null,null,null,null,null,null,{"$f":"\"[b]\"&clr & \"Finala - \" & _cle & ctg & \"[/b]\"","v":"[b][COLOR=red]Finala - [/COLOR] Elite[/b]"},null,null,null,null,null,null,null,null,null,null,null,null,null,null,null,null,null,null,null,null,{"$f":"IFERROR(RIGHT(B38,LEN(B38)-FIND(\",\",B38)),\"\")","v":""},{"$f":"IFERROR(RIGHT(B40,LEN(B40)-FIND(\",\",B40)),\"\")","v":""},{"$f":"C40","v":0},{"$f":"IFERROR(RIGHT(#REF!,LEN(#REF!)-FIND(\",\",#REF!)),\"\")","v":""}]
[24,null,null,null,null,null,null,null,null,null,{"$error":"#N/A"},11,null,{"$f":"_m1&cl2x&lfi(C11)&clex&sc(C12)","v":"-------------------- [COLOR=#4040FF][i][/i][/COLOR] [B][/B]"},null,null,null,null,null,null,null,null,null,null,null,null,null,null,null,null,null,null,null,null,null,null,null,null,null,null,null,null,null,null,null,null,null,null,null,{"$f":"IFERROR(RIGHT(B42,LEN(B42)-FIND(\",\",B42)),\"\")","v":""},{"$f":"IFERROR(RIGHT(B44,LEN(B44)-FIND(\",\",B44)),\"\")","v":""},{"$f":"C44","v":0}]
[null,null,null,{"$f":"IF(D14=\"\",\"\",IF(LEFT(D14)>RIGHT(D14),C11,C15))","v":""},{"$f":"IF(D14=\"\",\"\",IF(LEFT(D14)<RIGHT(D14),C11,C15))","v":""},null,null,null,null,null,{"$error":"#N/A"},12,null,{"$f":"\"[b]\"&$A12&\"[/b]. \"&_cl1&lfi(B12)&_cle","v":"[b]24[/b]. [COLOR=#990000][/COLOR] "},null,null,null,null,null,null,null,null,null,null,null,null,null,null,{"$f":"_cl2&lfi($F$17)&_cle","v":"[COLOR=#000075][/COLOR] "},null,null,null,null,null,null,null,null,null,null,null,null,null,null,null,null,null,null,null,null,{"$f":"IFERROR(RIGHT(B46,LEN(B46)-FIND(\",\",B46)),\"\")","v":""},{"$f":"IFERROR(RIGHT(B48,LEN(B48)-FIND(\",\",B48)),\"\")","v":""},{"$f":"C48","v":0}]
[25,null,null,null,null,null,null,null,null,null,{"$error":"#N/A"},13,null,{"$f":"_m2&_cl3&lfi(D13)&_cle&sc(D14)","v":"---------------------------------------- [COLOR=#009900][/COLOR] [B][/B]"},null,null,null,null,null,null,null,null,null,null,null,null,null,null,{"$f":"_m1&clr&\"[b]\"&lfi($G$33)&\"[/b]\"&_cle& \" \" & sc($G$34)","v":"-------------------- [COLOR=red][b][/b][/COLOR]  [B][/B]"},null,null,null,null,null,null,null,null,null,null,null,null,null,null,null,null,null,null,null,null,{"$f":"IFERROR(RIGHT(B50,LEN(B50)-FIND(\",\",B50)),\"\")","v":""},{"$f":"IFERROR(RIGHT(B52,LEN(B52)-FIND(\",\",B52)),\"\")","v":""},{"$f":"C52","v":0}]
[null,null,{"$f":"IF(C16=\"\",\"\",IF(LEFT(C16)>RIGHT(C16),B14,B16))","v":""},{"$f":"IF(C15=\"\",\"\",IF(B16=C15,B14,B16))","v":""},null,null,null,null,null,null,{"$error":"#N/A"},14,null,{"$f":"\"[b]\"&$A14&\"[/b]. \"&cl1x&lfi(B14)&clex","v":"[b]25[/b]. [COLOR=#cc5000][i][/i][/COLOR] "},null,null,null,null,null,null,null,null,null,null,null,null,null,null,{"$f":"_cl2&lfi($F$49)&_cle","v":"[COLOR=#000075][/COLOR] "},null,null,null,null,null,null,null,null,null,null,null,null,null,null,null,null,null,null,null,null,{"$f":"IFERROR(RIGHT(B54,LEN(B54)-FIND(\",\",B54)),\"\")","v":""},{"$f":"IFERROR(RIGHT(B56,LEN(B56)-FIND(\",\",B56)),\"\")","v":""},{"$f":"C56","v":0}]
[8,null,null,null,null,null,null,null,null,null,{"$error":"#N/A"},15,null,{"$f":"_m1&cl2x&lfi(C15)&clex&sc(C16)","v":"-------------------- [COLOR=#4040FF][i][/i][/COLOR] [B][/B]"},null,null,null,null,null,null,null,null,null,null,null,null,null,null,null,null,null,null,null,null,null,null,null,null,null,null,null,null,null,null,null,null,null,null,null,{"$f":"IFERROR(RIGHT(B58,LEN(B58)-FIND(\",\",B58)),\"\")","v":""},{"$f":"IFERROR(RIGHT(B60,LEN(B60)-FIND(\",\",B60)),\"\")","v":""},{"$f":"C60","v":0},null,null,null,{"$f":"IFERROR(RIGHT(D32,LEN(D32)-FIND(\",\",D32)),\"\")","v":""}]
[null,null,null,null,null,{"$f":"IF(F18=\"\",\"\",IF(LEFT(F18)>RIGHT(F18),E9,E25))","v":""},{"$f":"IF(F17=\"\",\"\",IF(E25=F17,E9,E25))","v":""},null,null,null,{"$error":"#N/A"},16,null,{"$f":"\"[b]\"&$A16&\"[/b]. \"&cl1x&lfi(B16)&clex","v":"[b]8[/b]. [COLOR=#cc5000][i][/i][/COLOR] "},null,null,null,null,null,null,null,null,null,null,null,null,null,null,{"$f":"\"[b]\"&clr & \"Finala mica - \" & _cle & ctg & \"[/b]\"","v":"[b][COLOR=red]Finala mica - [/COLOR] Elite[/b]"},null,null,null,null,null,null,null,null,null,null,null,null,null,null,null,null,null,null,null,null,{"$f":"IFERROR(RIGHT(B62,LEN(B62)-FIND(\",\",B62)),\"\")","v":""},{"$f":"IFERROR(RIGHT(B64,LEN(B64)-FIND(\",\",B64)),\"\")","v":""},{"$f":"C64","v":0}]
[5,null,null,null,null,null,null,null,null,null,{"$f":"VLOOKUP(K2,$C:$D,2,FALSE)","v":""},17,null,{"$f":"_m4&_cl1&\"[b]\"&lfi(F17)&\"[/b]\"&_cle&sc(F18)","v":"-------------------------------------------------------------------------------- [COLOR=#990000][b][/b][/COLOR] [B][/B]"},null,null,null,null,null,null,null,null,null,null,null,null,null,null,null,null,null,null,null,null,null,null,null,null,null,null,null,null,null,null,null,null,null,null,null,"x"]
[null,null,{"$f":"IF(C20=\"\",\"\",IF(LEFT(C20)>RIGHT(C20),B18,B20))","v":""},{"$f":"IF(C19=\"\",\"\",IF(B20=C19,B18,B20))","v":""},null,"SF 1",null,null,null,null,{"$f":"VLOOKUP(K3,$C:$D,2,FALSE)","v":""},18,null,{"$f":"\"[b]\"&$A18&\"[/b]. \"&_cl1&lfi(B18)&_cle","v":"[b]5[/b]. [COLOR=#990000][/COLOR] "},null,null,null,null,null,null,null,null,null,null,null,null,null,null,{"$f":"_cl3&lfi($G$5)&_cle","v":"[COLOR=#009900][/COLOR] "}]
[28,null,null,null,null,null,null,null,null,null,{"$error":"#N/A"},19,null,{"$f":"_m1&_cl2&lfi(C19)&_cle&sc(C20)","v":"-------------------- [COLOR=#000075][/COLOR] [B][/B]"},null,null,null,null,null,null,null,null,null,null,null,null,null,null,{"$f":"_m1&clr&\"[b]\"&lfi($H$6)&\"[/b]\"&_cle& \" \" & sc($H$7)","v":"-------------------- [COLOR=red][b][/b][/COLOR]  [B][/B]"}]
[null,null,null,{"$f":"IF(D22=\"\",\"\",IF(LEFT(D22)>RIGHT(D22),C19,C23))","v":""},{"$f":"IF(D22=\"\",\"\",IF(LEFT(D22)<RIGHT(D22),C19,C23))","v":""},null,null,null,null,null,{"$error":"#N/A"},20,null,{"$f":"\"[b]\"&$A20&\"[/b]. \"&_cl1&lfi(B20)&_cle","v":"[b]28[/b]. [COLOR=#990000][/COLOR] "},null,null,null,null,null,null,null,null,null,null,null,null,null,null,{"$f":"_cl3&lfi($G$7)&_cle","v":"[COLOR=#009900][/COLOR] "}]
[21,null,null,null,null,null,null,null,null,null,{"$error":"#N/A"},21,null,{"$f":"_m2&cl3x&lfi(D21)&clex&sc(D22)","v":"---------------------------------------- [COLOR=#00DC00][i][/i][/COLOR] [B][/B]"}]
[null,null,{"$f":"IF(C24=\"\",\"\",IF(LEFT(C24)>RIGHT(C24),B22,B24))","v":""},{"$f":"IF(C23=\"\",\"\",IF(B24=C23,B22,B24))","v":""},null,null,null,null,null,null,{"$error":"#N/A"},22,null,{"$f":"\"[b]\"&$A22&\"[/b]. \"&cl1x&lfi(B22)&clex","v":"[b]21[/b]. [COLOR=#cc5000][i][/i][/COLOR] "}]
[12,null,null,null,null,null,null,null,null,null,{"$error":"#N/A"},23,null,{"$f":"_m1&_cl2&lfi(C23)&_cle&sc(C24)","v":"-------------------- [COLOR=#000075][/COLOR] [B][/B]"}]
[null,null,null,null,{"$f":"IF(E26=\"\",\"\",IF(LEFT(E26)>RIGHT(E26),D21,D29))","v":""},{"$f":"IF(E25=\"\",\"\",IF(D29=E25,D21,D29))","v":""},null,null,null,null,{"$error":"#N/A"},24,null,{"$f":"\"[b]\"&$A24&\"[/b]. \"&cl1x&lfi(B24)&clex","v":"[b]12[/b]. [COLOR=#cc5000][i][/i][/COLOR] "}]
[13,null,null,null,null,null,null,null,null,null,{"$error":"#N/A"},25,null,{"$f":"_m3&_cl4&lfi(E25)&_cle&sc(E26)","v":"------------------------------------------------------------ [COLOR=#6900af][/COLOR] [B][/B]"}]
[null,null,{"$f":"IF(C28=\"\",\"\",IF(LEFT(C28)>RIGHT(C28),B26,B28))","v":""},{"$f":"IF(C27=\"\",\"\",IF(B28=C27,B26,B28))","v":""},null,null,null,null,null,null,{"$error":"#N/A"},26,null,{"$f":"\"[b]\"&$A26&\"[/b]. \"&_cl1&lfi(B26)&_cle","v":"[b]13[/b]. [COLOR=#990000][/COLOR] "}]
[20,null,null,null,null,null,null,null,null,null,{"$error":"#N/A"},27,null,{"$f":"_m1&cl2x&lfi(C27)&clex&sc(C28)","v":"-------------------- [COLOR=#4040FF][i][/i][/COLOR] [B][/B]"}]
[null,null,null,{"$f":"IF(D30=\"\",\"\",IF(LEFT(D30)>RIGHT(D30),C27,C31))","v":""},{"$f":"IF(D30=\"\",\"\",IF(LEFT(D30)<RIGHT(D30),C27,C31))","v":""},null,null,null,null,null,{"$error":"#N/A"},28,null,{"$f":"\"[b]\"&$A28&\"[/b]. \"&_cl1&lfi(B28)&_cle","v":"[b]20[/b]. [COLOR=#990000][/COLOR] "}]
[29,null,null,null,null,null,null,null,null,null,{"$error":"#N/A"},29,null,{"$f":"_m2&cl3x&lfi(D29)&clex&sc(D30)","v":"---------------------------------------- [COLOR=#00DC00][i][/i][/COLOR] [B][/B]"}]
[null,null,{"$f":"IF(C32=\"\",\"\",IF(LEFT(C32)>RIGHT(C32),B30,B32))","v":""},{"$f":"IF(C31=\"\",\"\",IF(B32=C31,B30,B32))","v":""},null,null,null,null,null,null,{"$error":"#N/A"},30,null,{"$f":"\"[b]\"&$A30&\"[/b]. \"&cl1x&lfi(B30)&clex","v":"[b]29[/b]. [COLOR=#cc5000][i][/i][/COLOR] "}]
[4,null,null,null,null,null,null,null,null,null,{"$error":"#N/A"},31,null,{"$f":"_m1&cl2x&lfi(C31)&clex&sc(C32)","v":"-------------------- [COLOR=#4040FF][i][/i][/COLOR] [B][/B]"}]
[{"$f":"\"Eliminatorii \" & ctg & \" - page 2\"","v":"Eliminatorii Elite - page 2"},null,null,null,null,null,{"$f":"IF(G34=\"\",\"\",IF(LEFT(G34)>RIGHT(G34),F17,F49))","v":""},{"$f":"IF(G33=\"\",\"\",IF(F49=G33,F17,F49))","v":""},null,null,{"$error":"#N/A"},32,null,{"$f":"\"[b]\"&$A32&\"[/b]. \"&cl1x&lfi(B32)&clex","v":"[b]4[/b]. [COLOR=#cc5000][i][/i][/COLOR] "}]
[3]
[null,null,{"$f":"IF(C36=\"\",\"\",IF(LEFT(C36)>RIGHT(C36),B34,B36))","v":""},{"$f":"IF(C35=\"\",\"\",IF(B36=C35,B34,B36))","v":""},null,null,"Finala",null,null,null,null,null,null,{"$f":"_m5&clr&\"[b]\"&lfi(G33)&\"[/b]\"&_cle&sc(G34)","v":"---------------------------------------------------------------------------------------------------- [COLOR=red][b][/b][/COLOR] [B][/B]"}]
[30]
[null,null,null,{"$f":"IF(D38=\"\",\"\",IF(LEFT(D38)>RIGHT(D38),C35,C39))","v":""},{"$f":"IF(D38=\"\",\"\",IF(LEFT(D38)<RIGHT(D38),C35,C39))","v":""},null,null,null,null,null,null,null,null,{"$f":"\"[b]\"&$A34&\"[/b]. \"&_cl1&lfi(B34)&_cle","v":"[b]3[/b]. [COLOR=#990000][/COLOR] "}]
[19,null,null,null,null,null,null,null,null,null,null,null,null,{"$f":"_m1&_cl2&lfi(C35)&_cle&sc(C36)","v":"-------------------- [COLOR=#000075][/COLOR] [B][/B]"}]
[null,null,{"$f":"IF(C40=\"\",\"\",IF(LEFT(C40)>RIGHT(C40),B38,B40))","v":""},{"$f":"IF(C39=\"\",\"\",IF(B40=C39,B38,B40))","v":""},null,null,null,null,null,null,null,null,null,{"$f":"\"[b]\"&$A36&\"[/b]. \"&_cl1&lfi(B36)&_cle","v":"[b]30[/b]. [COLOR=#990000][/COLOR] "}]
[14,null,null,null,null,null,null,null,null,null,null,null,null,{"$f":"_m2&_cl3&lfi(D37)&_cle&sc(D38)","v":"---------------------------------------- [COLOR=#009900][/COLOR] [B][/B]"}]
[null,null,null,null,{"$f":"IF(E42=\"\",\"\",IF(LEFT(E42)>RIGHT(E42),D37,D45))","v":""},{"$f":"IF(E41=\"\",\"\",IF(D45=E41,D37,D45))","v":""},null,null,null,null,null,null,null,{"$f":"\"[b]\"&$A38&\"[/b]. \"&cl1x&lfi(B38)&clex","v":"[b]19[/b]. [COLOR=#cc5000][i][/i][/COLOR] "}]
[11,null,null,null,null,null,null,null,null,null,null,null,null,{"$f":"_m1&_cl2&lfi(C39)&_cle&sc(C40)","v":"-------------------- [COLOR=#000075][/COLOR] [B][/B]"}]
[null,null,{"$f":"IF(C44=\"\",\"\",IF(LEFT(C44)>RIGHT(C44),B42,B44))","v":""},{"$f":"IF(C43=\"\",\"\",IF(B44=C43,B42,B44))","v":""},null,null,null,null,null,null,null,null,null,{"$f":"\"[b]\"&$A40&\"[/b]. \"&cl1x&lfi(B40)&clex","v":"[b]14[/b]. [COLOR=#cc5000][i][/i][/COLOR] "}]
[22,null,null,null,null,null,null,null,null,null,null,null,null,{"$f":"_m3&cl4x&lfi(E41)&clex&sc(E42)","v":"------------------------------------------------------------ [COLOR=#bd5dff][i][/i][/COLOR] [B][/B]"}]
[null,null,null,{"$f":"IF(D46=\"\",\"\",IF(LEFT(D46)>RIGHT(D46),C43,C47))","v":""},{"$f":"IF(D46=\"\",\"\",IF(LEFT(D46)<RIGHT(D46),C43,C47))","v":""},null,null,null,null,null,null,null,null,{"$f":"\"[b]\"&$A42&\"[/b]. \"&_cl1&lfi(B42)&_cle","v":"[b]11[/b]. [COLOR=#990000][/COLOR] "}]
[27,null,null,null,null,null,null,null,null,null,null,null,null,{"$f":"_m1&cl2x&lfi(C43)&clex&sc(C44)","v":"-------------------- [COLOR=#4040FF][i][/i][/COLOR] [B][/B]"}]
[null,null,{"$f":"IF(C48=\"\",\"\",IF(LEFT(C48)>RIGHT(C48),B46,B48))","v":""},{"$f":"IF(C47=\"\",\"\",IF(B48=C47,B46,B48))","v":""},null,null,null,null,null,null,null,null,null,{"$f":"\"[b]\"&$A44&\"[/b]. \"&_cl1&lfi(B44)&_cle","v":"[b]22[/b]. [COLOR=#990000][/COLOR] "}]
[6,null,null,null,null,null,null,null,null,null,null,null,null,{"$f":"_m2&_cl3&lfi(D45)&_cle&sc(D46)","v":"---------------------------------------- [COLOR=#009900][/COLOR] [B][/B]"}]
[null,null,null,null,null,{"$f":"IF(F50=\"\",\"\",IF(LEFT(F50)>RIGHT(F50),E41,E57))","v":""},{"$f":"IF(F49=\"\",\"\",IF(E57=F49,E41,E57))","v":""},null,null,null,null,null,null,{"$f":"\"[b]\"&$A46&\"[/b]. \"&cl1x&lfi(B46)&clex","v":"[b]27[/b]. [COLOR=#cc5000][i][/i][/COLOR] "}]
[7,null,null,null,null,null,null,null,null,null,null,null,null,{"$f":"_m1&cl2x&lfi(C47)&clex&sc(C48)","v":"-------------------- [COLOR=#4040FF][i][/i][/COLOR] [B][/B]"}]
[null,null,{"$f":"IF(C52=\"\",\"\",IF(LEFT(C52)>RIGHT(C52),B50,B52))","v":""},{"$f":"IF(C51=\"\",\"\",IF(B52=C51,B50,B52))","v":""},null,"SF 2",null,null,null,null,null,null,null,{"$f":"\"[b]\"&$A48&\"[/b]. \"&cl1x&lfi(B48)&clex","v":"[b]6[/b]. [COLOR=#cc5000][i][/i][/COLOR] "}]
[26,null,null,null,null,null,null,null,null,null,null,null,null,{"$f":"_m4&_cl1&\"[b]\"&lfi(F49)&\"[/b]\"&_cle&sc(F50)","v":"-------------------------------------------------------------------------------- [COLOR=#990000][b][/b][/COLOR] [B][/B]"}]
[null,null,null,{"$f":"IF(D54=\"\",\"\",IF(LEFT(D54)>RIGHT(D54),C51,C55))","v":""},{"$f":"IF(D54=\"\",\"\",IF(LEFT(D54)<RIGHT(D54),C51,C55))","v":""},null,null,null,null,null,null,null,null,{"$f":"\"[b]\"&$A50&\"[/b]. \"&_cl1&lfi(B50)&_cle","v":"[b]7[/b]. [COLOR=#990000][/COLOR] "}]
[23,null,null,null,null,null,null,null,null,null,null,null,null,{"$f":"_m1&_cl2&lfi(C51)&_cle&sc(C52)","v":"-------------------- [COLOR=#000075][/COLOR] [B][/B]"}]
[null,null,{"$f":"IF(C56=\"\",\"\",IF(LEFT(C56)>RIGHT(C56),B54,B56))","v":""},{"$f":"IF(C55=\"\",\"\",IF(B56=C55,B54,B56))","v":""},null,null,null,null,null,null,null,null,null,{"$f":"\"[b]\"&$A52&\"[/b]. \"&_cl1&lfi(B52)&_cle","v":"[b]26[/b]. [COLOR=#990000][/COLOR] "}]
[10,null,null,null,null,null,null,null,null,null,null,null,null,{"$f":"_m2&cl3x&lfi(D53)&clex&sc(D54)","v":"---------------------------------------- [COLOR=#00DC00][i][/i][/COLOR] [B][/B]"}]
[null,null,null,null,{"$f":"IF(E58=\"\",\"\",IF(LEFT(E58)>RIGHT(E58),D53,D61))","v":""},{"$f":"IF(E57=\"\",\"\",IF(D61=E57,D53,D61))","v":""},null,null,null,null,null,null,null,{"$f":"\"[b]\"&$A54&\"[/b]. \"&cl1x&lfi(B54)&clex","v":"[b]23[/b]. [COLOR=#cc5000][i][/i][/COLOR] "}]
[15,null,null,null,null,null,null,null,null,null,null,null,null,{"$f":"_m1&_cl2&lfi(C55)&_cle&sc(C56)","v":"-------------------- [COLOR=#000075][/COLOR] [B][/B]"}]
[null,null,{"$f":"IF(C60=\"\",\"\",IF(LEFT(C60)>RIGHT(C60),B58,B60))","v":""},{"$f":"IF(C59=\"\",\"\",IF(B60=C59,B58,B60))","v":""},null,null,null,null,null,null,null,null,null,{"$f":"\"[b]\"&$A56&\"[/b]. \"&cl1x&lfi(B56)&clex","v":"[b]10[/b]. [COLOR=#cc5000][i][/i][/COLOR] "}]
[18,null,null,null,null,null,null,null,null,null,null,null,null,{"$f":"_m3&cl4x&lfi(E57)&clex&sc(E58)","v":"------------------------------------------------------------ [COLOR=#bd5dff][i][/i][/COLOR] [B][/B]"}]
[null,null,null,{"$f":"IF(D62=\"\",\"\",IF(LEFT(D62)>RIGHT(D62),C59,C63))","v":""},{"$f":"IF(D62=\"\",\"\",IF(LEFT(D62)<RIGHT(D62),C59,C63))","v":""},null,null,null,null,null,null,null,null,{"$f":"\"[b]\"&$A58&\"[/b]. \"&_cl1&lfi(B58)&_cle","v":"[b]15[/b]. [COLOR=#990000][/COLOR] "}]
[31,null,null,null,null,null,null,null,null,null,null,null,null,{"$f":"_m1&cl2x&lfi(C59)&clex&sc(C60)","v":"-------------------- [COLOR=#4040FF][i][/i][/COLOR] [B][/B]"}]
[null,null,{"$f":"IF(C64=\"\",\"\",IF(LEFT(C64)>RIGHT(C64),B62,B64))","v":""},{"$f":"IF(C63=\"\",\"\",IF(B64=C63,B62,B64))","v":""},null,null,null,null,null,null,null,null,null,{"$f":"\"[b]\"&$A60&\"[/b]. \"&_cl1&lfi(B60)&_cle","v":"[b]18[/b]. [COLOR=#990000][/COLOR] "}]
[2,null,null,null,null,null,null,null,null,null,null,null,null,{"$f":"_m2&cl3x&lfi(D61)&clex&sc(D62)","v":"---------------------------------------- [COLOR=#00DC00][i][/i][/COLOR] [B][/B]"}]
[null,null,null,null,null,null,null,null,null,null,null,null,null,{"$f":"\"[b]\"&$A62&\"[/b]. \"&cl1x&lfi(B62)&clex","v":"[b]31[/b]. [COLOR=#cc5000][i][/i][/COLOR] "}]
[null,null,null,null,null,null,null,null,null,null,null,null,null,{"$f":"_m1&cl2x&lfi(C63)&clex&sc(C64)","v":"-------------------- [COLOR=#4040FF][i][/i][/COLOR] [B][/B]"}]
[null,null,null,null,null,null,null,null,null,null,null,null,null,{"$f":"\"[b]\"&$A64&\"[/b]. \"&cl1x&lfi(B64)&clex","v":"[b]2[/b]. [COLOR=#cc5000][i][/i][/COLOR] "}]
[]
[]
[null,null,null,null,null,null,null,null,null,null,null,null,null,{"$f":"\"[b]\"&clr & \"Finala mica - \" & _cle & ctg & \"[/b]\"","v":"[b][COLOR=red]Finala mica - [/COLOR] Elite[/b]"}]
[]
[null,null,null,null,null,null,null,null,null,null,null,null,null,{"$f":"_cl3&lfi($G$5)&_cle","v":"[COLOR=#009900][/COLOR] "}]
[null,null,null,null,null,null,null,null,null,null,null,null,null,{"$f":"_m1&clr&\"[b]\"&lfi($H$6)&\"[/b]\"&_cle& \" \" & sc($H$7)","v":"-------------------- [COLOR=red][b][/b][/COLOR]  [B][/B]"}]
[null,null,null,null,null,null,null,null,null,null,null,null,null,{"$f":"_cl3&lfi($G$7)&_cle","v":"[COLOR=#009900][/COLOR] "}]
[]
[]
[]
[]
[]
[]
[null,null,null,null,null,null,{"$f":"IF(F81=\"\",\"\",IF(E89=F81,E73,E89))","v":""}]
[]
[]
[]
[]
[]
[]
[]
[]
[]
[]
[]
[]
[]
[]
[]
[]
[]
[]
[]
[]
[]
[]
[]
[]
[]
[]
[]
[]
[]
[]
[]
[null,null,null,null,null,null,{"$f":"IF(F113=\"\",\"\",IF(E121=F113,E105,E121))","v":""}]

{"sheet":"T16","index":20,"n_rows":40,"n_cols":64,"rows_kept":40,"cut":false,"hidden":true,"merged":[]}
[{"$f":"\"Eliminatorii \" & Start!$D$1","v":"Eliminatorii Elite"},null,null,null,null,null,null,null,33,4,"SE","Loc",null,{"$f":"\"[B]\"&clr &$A1 & _cle & \"[/b]\"","v":"[B][COLOR=red]Eliminatorii Elite[/COLOR] [/b]"},null,null,null,null,null,null,null,null,null,null,null,null,null,null,{"$f":"\"[b]\"&clr &\"SemiFinale - \" & _cle & ctg & \"[/b]\"","v":"[b][COLOR=red]SemiFinale - [/COLOR] Elite[/b]"},null,null,null,null,null,null,null,null,null,null,null,null,null,null,null,null,null,null,null,null,"R16",null,null,"R8",null,null,"SF",null,null,"F",null,null,"3rd"]
[1,null,null,null,null,null,null,null,null,null,{"$f":"F17","v":""},1,null,null,null,null,null,null,null,null,null,null,null,null,null,null,null,null,null,null,null,null,null,null,null,null,null,null,null,null,null,null,null,null,null,null,null,null,null,{"$f":"IFERROR(RIGHT(B2,LEN(B2)-FIND(\",\",B2)),\"\")","v":""},{"$f":"IFERROR(RIGHT(B4,LEN(B4)-FIND(\",\",B4)),\"\")","v":""},{"$f":"C4","v":0},{"$f":"IFERROR(RIGHT(C3,LEN(C3)-FIND(\",\",C3)),\"\")","v":""},{"$f":"IFERROR(RIGHT(C7,LEN(C7)-FIND(\",\",C7)),\"\")","v":""},{"$f":"D6","v":0},{"$f":"IFERROR(RIGHT(D5,LEN(D5)-FIND(\",\",D5)),\"\")","v":""},{"$f":"IFERROR(RIGHT(D13,LEN(D13)-FIND(\",\",D13)),\"\")","v":""},{"$f":"E10","v":0},{"$f":"IFERROR(RIGHT(E9,LEN(E9)-FIND(\",\",E9)),\"\")","v":""},{"$f":"IFERROR(RIGHT(E25,LEN(E25)-FIND(\",\",E25)),\"\")","v":""},{"$f":"F18","v":0},{"$f":"IFERROR(RIGHT($G$5,LEN($G$5)-FIND(\",\",$G$5)),\"\")","v":""},{"$f":"IFERROR(RIGHT($G$7,LEN($G$7)-FIND(\",\",$G$7)),\"\")","v":""},{"$f":"$H$7","v":0}]
[null,null,{"$f":"IF(C4=\"\",\"\",IF(LEFT(C4)>RIGHT(C4),B2,B4))","v":""},{"$f":"IF(C3=\"\",\"\",IF(B4=C3,B2,B4))","v":""},null,null,null,null,null,null,{"$f":"G17","v":""},2,null,{"$f":"\"[b]\"&$A2&\"[/b]. \"&_cl1&lfi(B2)&_cle","v":"[b]1[/b]. [COLOR=#990000][/COLOR] "},null,null,null,null,null,null,null,null,null,null,null,null,null,null,{"$f":"_cl1&lfi(D5)&_cle","v":"[COLOR=#990000][/COLOR] "},null,null,null,null,null,null,null,null,null,null,null,null,null,null,null,null,null,null,null,null,{"$f":"IFERROR(RIGHT(B6,LEN(B6)-FIND(\",\",B6)),\"\")","v":""},{"$f":"IFERROR(RIGHT(B8,LEN(B8)-FIND(\",\",B8)),\"\")","v":""},{"$f":"C8","v":0},{"$f":"IFERROR(RIGHT(C11,LEN(C11)-FIND(\",\",C11)),\"\")","v":""},{"$f":"IFERROR(RIGHT(C15,LEN(C15)-FIND(\",\",C15)),\"\")","v":""},{"$f":"D14","v":0},{"$f":"IFERROR(RIGHT(D21,LEN(D21)-FIND(\",\",D21)),\"\")","v":""},{"$f":"IFERROR(RIGHT(D29,LEN(D29)-FIND(\",\",D29)),\"\")","v":""},{"$f":"E26","v":0},"x",null,null,"x"]
[16,null,null,null,null,null,null,null,null,null,{"$f":"IF(H6=\"\",VLOOKUP(K2,$E:$F,2,FALSE),H6)","v":0},3,null,{"$f":"_m1&_cl2&lfi(C3)&_cle&sc(C4)","v":"-------------------- [COLOR=#000075][/COLOR] [B][/B]"},null,null,null,null,null,null,null,null,null,null,null,null,null,null,{"$f":"_m1&_cl2&\"[b]\"&lfi(E9)&\"[/b]\"&_cle& \" \" & sc(E10)","v":"-------------------- [COLOR=#000075][b][/b][/COLOR]  [B][/B]"},null,null,null,null,null,null,null,null,null,null,null,null,null,null,null,null,null,null,null,null,{"$f":"IFERROR(RIGHT(B10,LEN(B10)-FIND(\",\",B10)),\"\")","v":""},{"$f":"IFERROR(RIGHT(B12,LEN(B12)-FIND(\",\",B12)),\"\")","v":""},{"$f":"C12","v":0},{"$f":"IFERROR(RIGHT(C19,LEN(C19)-FIND(\",\",C19)),\"\")","v":""},{"$f":"IFERROR(RIGHT(C23,LEN(C23)-FIND(\",\",C23)),\"\")","v":""},{"$f":"D22","v":0},"x"]
[null,null,null,{"$f":"IF(D6=\"\",\"\",IF(LEFT(D6)>RIGHT(D6),C3,C7))","v":""},{"$f":"IF(D6=\"\",\"\",IF(LEFT(D6)<RIGHT(D6),C3,C7))","v":""},null,{"$f":"F9","v":""},null,null,null,{"$f":"IF(I6=\"\",VLOOKUP(K3,$E:$F,2,FALSE),I6)","v":0},4,null,{"$f":"\"[b]\"&$A4&\"[/b]. \"&_cl1&lfi(B4)&_cle","v":"[b]16[/b]. [COLOR=#990000][/COLOR] "},null,null,null,null,null,null,null,null,null,null,null,null,null,null,{"$f":"_cl1&lfi(D13)&_cle","v":"[COLOR=#990000][/COLOR] "},null,null,null,null,null,null,null,null,null,null,null,null,null,null,null,null,null,null,null,null,{"$f":"IFERROR(RIGHT(B14,LEN(B14)-FIND(\",\",B14)),\"\")","v":""},{"$f":"IFERROR(RIGHT(B16,LEN(B16)-FIND(\",\",B16)),\"\")","v":""},{"$f":"C16","v":0},{"$f":"IFERROR(RIGHT(C27,LEN(C27)-FIND(\",\",C27)),\"\")","v":""},{"$f":"IFERROR(RIGHT(C31,LEN(C31)-FIND(\",\",C31)),\"\")","v":""},{"$f":"D30","v":0}]
[9,null,null,null,null,null,{"$f":"REPT(\"-\",20)","v":"--------------------"},{"$f":"IF(H7=\"\",\"\",IF(LEFT(H7)>RIGHT(H7),G5,G7))","v":""},{"$f":"IF(H6=\"\",\"\",IF(G7=H6,G5,G7))","v":""},null,{"$f":"VLOOKUP(K2,$D:$E,2,FALSE)","v":0},5,null,{"$f":"_m2&_cl3&lfi(D5)&_cle&sc(D6)","v":"---------------------------------------- [COLOR=#009900][/COLOR] [B][/B]"},null,null,null,null,null,null,null,null,null,null,null,null,null,null,null,null,null,null,null,null,null,null,null,null,null,null,null,null,null,null,null,null,null,null,null,{"$f":"IFERROR(RIGHT(B18,LEN(B18)-FIND(\",\",B18)),\"\")","v":""},{"$f":"IFERROR(RIGHT(B20,LEN(B20)-FIND(\",\",B20)),\"\")","v":""},{"$f":"C20","v":0},"x"]
[null,null,{"$f":"IF(C8=\"\",\"\",IF(LEFT(C8)>RIGHT(C8),B6,B8))","v":""},{"$f":"IF(C7=\"\",\"\",IF(B8=C7,B6,B8))","v":""},null,null,{"$f":"F25","v":""},null,null,null,{"$f":"VLOOKUP(K3,$D:$E,2,FALSE)","v":0},6,null,{"$f":"\"[b]\"&$A6&\"[/b]. \"&cl1x&lfi(B6)&clex","v":"[b]9[/b]. [COLOR=#cc5000][i][/i][/COLOR] "},null,null,null,null,null,null,null,null,null,null,null,null,null,null,{"$f":"cl1x&lfi(D21)&clex","v":"[COLOR=#cc5000][i][/i][/COLOR] "},null,null,null,null,null,null,null,null,null,null,null,null,null,null,null,null,null,null,null,null,{"$f":"IFERROR(RIGHT(B22,LEN(B22)-FIND(\",\",B22)),\"\")","v":""},{"$f":"IFERROR(RIGHT(B24,LEN(B24)-FIND(\",\",B24)),\"\")","v":""},{"$f":"C24","v":0},{"$f":"IFERROR(RIGHT(#REF!,LEN(#REF!)-FIND(\",\",#REF!)),\"\")","v":""}]
[8,null,null,null,null,null,null,null,null,null,{"$f":"VLOOKUP(K4,$D:$E,2,FALSE)","v":{"$error":"#N/A"}},7,null,{"$f":"_m1&_cl2&lfi(C7)&_cle&sc(C8)","v":"-------------------- [COLOR=#000075][/COLOR] [B][/B]"},null,null,null,null,null,null,null,null,null,null,null,null,null,null,{"$f":"_m1&_cl2&\"[b]\"&lfi(E25)&\"[/b]\"&_cle& \" \" & sc(E26)","v":"-------------------- [COLOR=#000075][b][/b][/COLOR]  [B][/B]"},null,null,null,null,null,null,null,null,null,null,null,null,null,null,null,null,null,null,null,null,{"$f":"IFERROR(RIGHT(B26,LEN(B26)-FIND(\",\",B26)),\"\")","v":""},{"$f":"IFERROR(RIGHT(B28,LEN(B28)-FIND(\",\",B28)),\"\")","v":""},{"$f":"C28","v":0}]
[null,null,null,null,{"$f":"IF(E10=\"\",\"\",IF(LEFT(E10)>RIGHT(E10),D5,D13))","v":""},{"$f":"IF(E9=\"\",\"\",IF(D13=E9,D5,D13))","v":""},null,{"$f":"\"Finala mica - \" & ctg","v":"Finala mica - Elite"},null,null,{"$f":"VLOOKUP(K5,$D:$E,2,FALSE)","v":{"$error":"#N/A"}},8,null,{"$f":"\"[b]\"&$A8&\"[/b]. \"&cl1x&lfi(B8)&clex","v":"[b]8[/b]. [COLOR=#cc5000][i][/i][/COLOR] "},null,null,null,null,null,null,null,null,null,null,null,null,null,null,{"$f":"cl1x&lfi(D29)&clex","v":"[COLOR=#cc5000][i][/i][/COLOR] "},null,null,null,null,null,null,null,null,null,null,null,null,null,null,null,null,null,null,null,null,{"$f":"IFERROR(RIGHT(B30,LEN(B30)-FIND(\",\",B30)),\"\")","v":""},{"$f":"IFERROR(RIGHT(B32,LEN(B32)-FIND(\",\",B32)),\"\")","v":""},{"$f":"C32","v":0}]
[5,null,null,null,null,null,null,null,null,null,{"$f":"VLOOKUP(K2,$C:$D,2,FALSE)","v":""},9,null,{"$f":"_m3&_cl4&\"[b]\"&lfi(E9)&\"[/b]\"&_cle&sc(E10)","v":"------------------------------------------------------------ [COLOR=#6900af][b][/b][/COLOR] [B][/B]"},null,null,null,null,null,null,null,null,null,null,null,null,null,null,null,null,null,null,null,null,null,null,null,null,null,null,null,null,null,null,null,null,null,null,null,"x"]
[null,null,{"$f":"IF(C12=\"\",\"\",IF(LEFT(C12)>RIGHT(C12),B10,B12))","v":""},{"$f":"IF(C11=\"\",\"\",IF(B12=C11,B10,B12))","v":""},null,null,null,null,null,null,"",10,null,{"$f":"\"[b]\"&$A10&\"[/b]. \"&_cl1&lfi(B10)&_cle","v":"[b]5[/b]. [COLOR=#990000][/COLOR] "},null,null,null,null,null,null,null,null,null,null,null,null,null,null,{"$f":"\"[b]\"&clr & \"Finala - \" & _cle & ctg & \"[/b]\"","v":"[b][COLOR=red]Finala - [/COLOR] Elite[/b]"}]
[12,null,null,null,null,null,null,null,null,null,{"$error":"#N/A"},11,null,{"$f":"_m1&cl2x&lfi(C11)&clex&sc(C12)","v":"-------------------- [COLOR=#4040FF][i][/i][/COLOR] [B][/B]"}]
[null,null,null,{"$f":"IF(D14=\"\",\"\",IF(LEFT(D14)>RIGHT(D14),C11,C15))","v":""},{"$f":"IF(D14=\"\",\"\",IF(LEFT(D14)<RIGHT(D14),C11,C15))","v":""},null,null,null,null,null,{"$error":"#N/A"},12,null,{"$f":"\"[b]\"&$A12&\"[/b]. \"&_cl1&lfi(B12)&_cle","v":"[b]12[/b]. [COLOR=#990000][/COLOR] "},null,null,null,null,null,null,null,null,null,null,null,null,null,null,{"$f":"_cl2&lfi($E$9)&_cle","v":"[COLOR=#000075][/COLOR] "}]
[13,null,null,null,null,null,null,null,null,null,{"$error":"#N/A"},13,null,{"$f":"_m2&_cl3&lfi(D13)&_cle&sc(D14)","v":"---------------------------------------- [COLOR=#009900][/COLOR] [B][/B]"},null,null,null,null,null,null,null,null,null,null,null,null,null,null,{"$f":"_m1&clr&\"[b]\"&lfi($F$17)&\"[/b]\"&_cle& \" \" & sc($F$18)","v":"-------------------- [COLOR=red][b][/b][/COLOR]  [B][/B]"},null,null,null,null,null,null,null,null,null,null,null,null,null,null,null,null,null,null,null,null,null,null,null,null,null,null,{"$f":"IFERROR(RIGHT(D32,LEN(D32)-FIND(\",\",D32)),\"\")","v":""}]
[null,null,{"$f":"IF(C16=\"\",\"\",IF(LEFT(C16)>RIGHT(C16),B14,B16))","v":""},{"$f":"IF(C15=\"\",\"\",IF(B16=C15,B14,B16))","v":""},null,null,null,null,null,null,{"$error":"#N/A"},14,null,{"$f":"\"[b]\"&$A14&\"[/b]. \"&cl1x&lfi(B14)&clex","v":"[b]13[/b]. [COLOR=#cc5000][i][/i][/COLOR] "},null,null,null,null,null,null,null,null,null,null,null,null,null,null,{"$f":"_cl2&lfi($E$25)&_cle","v":"[COLOR=#000075][/COLOR] "}]
[4,null,null,null,null,null,null,null,null,null,{"$error":"#N/A"},15,null,{"$f":"_m1&cl2x&lfi(C15)&clex&sc(C16)","v":"-------------------- [COLOR=#4040FF][i][/i][/COLOR] [B][/B]"}]
[null,null,null,null,null,{"$f":"IF(F18=\"\",\"\",IF(LEFT(F18)>RIGHT(F18),E9,E25))","v":""},{"$f":"IF(F17=\"\",\"\",IF(E25=F17,E9,E25))","v":""},null,null,null,{"$error":"#N/A"},16,null,{"$f":"\"[b]\"&$A16&\"[/b]. \"&cl1x&lfi(B16)&clex","v":"[b]4[/b]. [COLOR=#cc5000][i][/i][/COLOR] "},null,null,null,null,null,null,null,null,null,null,null,null,null,null,{"$f":"\"[b]\"&clr & \"Finala mica - \" & _cle & ctg & \"[/b]\"","v":"[b][COLOR=red]Finala mica - [/COLOR] Elite[/b]"}]
[3,null,null,null,null,null,null,null,null,null,null,null,null,{"$f":"_m4&clr&\"[b]\"&lfi(F17)&\"[/b]\"&_cle&sc(F18)","v":"-------------------------------------------------------------------------------- [COLOR=red][b][/b][/COLOR] [B][/B]"}]
[null,null,{"$f":"IF(C20=\"\",\"\",IF(LEFT(C20)>RIGHT(C20),B18,B20))","v":""},{"$f":"IF(C19=\"\",\"\",IF(B20=C19,B18,B20))","v":""},null,null,null,null,null,null,null,null,null,{"$f":"\"[b]\"&$A18&\"[/b]. \"&_cl1&lfi(B18)&_cle","v":"[b]3[/b]. [COLOR=#990000][/COLOR] "},null,null,null,null,null,null,null,null,null,null,null,null,null,null,{"$f":"_cl3&lfi($G$5)&_cle","v":"[COLOR=#009900][/COLOR] "}]
[14,null,null,null,null,null,null,null,null,null,null,null,null,{"$f":"_m1&_cl2&lfi(C19)&_cle&sc(C20)","v":"-------------------- [COLOR=#000075][/COLOR] [B][/B]"},null,null,null,null,null,null,null,null,null,null,null,null,null,null,{"$f":"_m1&clr&\"[b]\"&lfi($H$6)&\"[/b]\"&_cle& \" \" & sc($H$7)","v":"-------------------- [COLOR=red][b][/b][/COLOR]  [B][/B]"}]
[null,null,null,{"$f":"IF(D22=\"\",\"\",IF(LEFT(D22)>RIGHT(D22),C19,C23))","v":""},{"$f":"IF(D22=\"\",\"\",IF(LEFT(D22)<RIGHT(D22),C19,C23))","v":""},null,null,null,null,null,null,null,null,{"$f":"\"[b]\"&$A20&\"[/b]. \"&_cl1&lfi(B20)&_cle","v":"[b]14[/b]. [COLOR=#990000][/COLOR] "},null,null,null,null,null,null,null,null,null,null,null,null,null,null,{"$f":"_cl3&lfi($G$7)&_cle","v":"[COLOR=#009900][/COLOR] "}]
[11,null,null,null,null,null,null,null,null,null,null,null,null,{"$f":"_m2&cl3x&lfi(D21)&clex&sc(D22)","v":"---------------------------------------- [COLOR=#00DC00][i][/i][/COLOR] [B][/B]"}]
[null,null,{"$f":"IF(C24=\"\",\"\",IF(LEFT(C24)>RIGHT(C24),B22,B24))","v":""},{"$f":"IF(C23=\"\",\"\",IF(B24=C23,B22,B24))","v":""},null,null,null,null,null,null,null,null,null,{"$f":"\"[b]\"&$A22&\"[/b]. \"&cl1x&lfi(B22)&clex","v":"[b]11[/b]. [COLOR=#cc5000][i][/i][/COLOR] "}]
[6,null,null,null,null,null,null,null,null,null,null,null,null,{"$f":"_m1&_cl2&lfi(C23)&_cle&sc(C24)","v":"-------------------- [COLOR=#000075][/COLOR] [B][/B]"}]
[null,null,null,null,{"$f":"IF(E26=\"\",\"\",IF(LEFT(E26)>RIGHT(E26),D21,D29))","v":""},{"$f":"IF(E25=\"\",\"\",IF(D29=E25,D21,D29))","v":""},null,null,null,null,null,null,null,{"$f":"\"[b]\"&$A24&\"[/b]. \"&cl1x&lfi(B24)&clex","v":"[b]6[/b]. [COLOR=#cc5000][i][/i][/COLOR] "}]
[7,null,null,null,null,null,null,null,null,null,null,null,null,{"$f":"_m3&_cl4&\"[b]\"&lfi(E25)&\"[/b]\"&_cle&sc(E26)","v":"------------------------------------------------------------ [COLOR=#6900af][b][/b][/COLOR] [B][/B]"}]
[null,null,{"$f":"IF(C28=\"\",\"\",IF(LEFT(C28)>RIGHT(C28),B26,B28))","v":""},{"$f":"IF(C27=\"\",\"\",IF(B28=C27,B26,B28))","v":""},null,null,null,null,null,null,null,null,null,{"$f":"\"[b]\"&$A26&\"[/b]. \"&_cl1&lfi(B26)&_cle","v":"[b]7[/b]. [COLOR=#990000][/COLOR] "}]
[10,null,null,null,null,null,null,null,null,null,null,null,null,{"$f":"_m1&cl2x&lfi(C27)&clex&sc(C28)","v":"-------------------- [COLOR=#4040FF][i][/i][/COLOR] [B][/B]"}]
[null,null,null,{"$f":"IF(D30=\"\",\"\",IF(LEFT(D30)>RIGHT(D30),C27,C31))","v":""},{"$f":"IF(D30=\"\",\"\",IF(LEFT(D30)<RIGHT(D30),C27,C31))","v":""},null,null,null,null,null,null,null,null,{"$f":"\"[b]\"&$A28&\"[/b]. \"&_cl1&lfi(B28)&_cle","v":"[b]10[/b]. [COLOR=#990000][/COLOR] "}]
[15,null,null,null,null,null,null,null,null,null,null,null,null,{"$f":"_m2&cl3x&lfi(D29)&clex&sc(D30)","v":"---------------------------------------- [COLOR=#00DC00][i][/i][/COLOR] [B][/B]"}]
[null,null,{"$f":"IF(C32=\"\",\"\",IF(LEFT(C32)>RIGHT(C32),B30,B32))","v":""},{"$f":"IF(C31=\"\",\"\",IF(B32=C31,B30,B32))","v":""},null,null,null,null,null,null,null,null,null,{"$f":"\"[b]\"&$A30&\"[/b]. \"&cl1x&lfi(B30)&clex","v":"[b]15[/b]. [COLOR=#cc5000][i][/i][/COLOR] "}]
[2,null,null,null,null,null,null,null,null,null,null,null,null,{"$f":"_m1&cl2x&lfi(C31)&clex&sc(C32)","v":"-------------------- [COLOR=#4040FF][i][/i][/COLOR] [B][/B]"}]
[null,null,null,null,null,null,null,null,null,null,null,null,null,{"$f":"\"[b]\"&$A32&\"[/b]. \"&cl1x&lfi(B32)&clex","v":"[b]2[/b]. [COLOR=#cc5000][i][/i][/COLOR] "}]
[]
[]
[null,null,null,null,null,null,null,null,null,null,null,null,null,{"$f":"\"[b]\"&clr & \"Finala mica - \" & _cle & ctg & \"[/b]\"","v":"[b][COLOR=red]Finala mica - [/COLOR] Elite[/b]"}]
[]
[null,null,null,null,null,null,null,null,null,null,null,null,null,{"$f":"_cl3&lfi($G$5)&_cle","v":"[COLOR=#009900][/COLOR] "}]
[null,null,null,null,null,null,null,null,null,null,null,null,null,{"$f":"_m1&clr&\"[b]\"&lfi($H$6)&\"[/b]\"&_cle& \" \" & sc($H$7)","v":"-------------------- [COLOR=red][b][/b][/COLOR]  [B][/B]"}]
[null,null,null,null,null,null,null,null,null,null,null,null,null,{"$f":"_cl3&lfi($G$7)&_cle","v":"[COLOR=#009900][/COLOR] "}]

{"sheet":"T8","index":21,"n_rows":125,"n_cols":61,"rows_kept":125,"cut":false,"hidden":true,"merged":[]}
[{"$f":"\"Eliminatorii \" & Start!$D$1","v":"Eliminatorii Elite"},null,null,null,null,null,null,null,17,3,"SE","Loc",null,{"$f":"\"[B]\"&clr &$A1 & _cle & \"[/b]\"","v":"[B][COLOR=red]Eliminatorii Elite[/COLOR] [/b]"},null,null,null,null,null,null,null,null,null,null,null,null,null,null,null,null,null,null,null,null,null,null,null,null,null,null,null,null,null,null,null,null,null,null,null,"R8",null,null,"SF",null,null,"F",null,null,"3rd"]
[1,null,null,null,null,null,null,null,null,null,{"$f":"E9","v":""},1,null,null,null,null,null,null,null,null,null,null,null,null,null,null,null,null,null,null,null,null,null,null,null,null,null,null,null,null,null,null,null,null,null,null,null,null,null,{"$f":"IFERROR(RIGHT(B2,LEN(B2)-FIND(\",\",B2)),\"\")","v":""},{"$f":"IFERROR(RIGHT(B4,LEN(B4)-FIND(\",\",B4)),\"\")","v":""},{"$f":"C4","v":0},{"$f":"IFERROR(RIGHT(C3,LEN(C3)-FIND(\",\",C3)),\"\")","v":""},{"$f":"IFERROR(RIGHT(C7,LEN(C7)-FIND(\",\",C7)),\"\")","v":""},{"$f":"D6","v":0},{"$f":"IFERROR(RIGHT(D5,LEN(D5)-FIND(\",\",D5)),\"\")","v":""},{"$f":"IFERROR(RIGHT(D13,LEN(D13)-FIND(\",\",D13)),\"\")","v":""},{"$f":"E10","v":0},{"$f":"IFERROR(RIGHT($G$5,LEN($G$5)-FIND(\",\",$G$5)),\"\")","v":""},{"$f":"IFERROR(RIGHT($G$7,LEN($G$7)-FIND(\",\",$G$7)),\"\")","v":""},{"$f":"$H$7","v":0}]
[null,null,{"$f":"IF(C4=\"\",\"\",IF(LEFT(C4)>RIGHT(C4),B2,B4))","v":""},{"$f":"IF(C3=\"\",\"\",IF(B4=C3,B2,B4))","v":""},null,null,null,null,null,null,{"$f":"F9","v":""},2,null,{"$f":"\"[b]\"&$A2&\"[/b]. \"&_cl1&lfi(B2)&_cle","v":"[b]1[/b]. [COLOR=#990000][/COLOR] "},null,null,null,null,null,null,null,null,null,null,null,null,null,null,null,null,null,null,null,null,null,null,null,null,null,null,null,null,null,null,null,null,null,null,null,{"$f":"IFERROR(RIGHT(B6,LEN(B6)-FIND(\",\",B6)),\"\")","v":""},{"$f":"IFERROR(RIGHT(B8,LEN(B8)-FIND(\",\",B8)),\"\")","v":""},{"$f":"C8","v":0},{"$f":"IFERROR(RIGHT(C11,LEN(C11)-FIND(\",\",C11)),\"\")","v":""},{"$f":"IFERROR(RIGHT(C15,LEN(C15)-FIND(\",\",C15)),\"\")","v":""},{"$f":"D14","v":0},"x",null,null,"x"]
[8,null,null,null,null,null,null,null,null,null,{"$f":"IF(H6=\"\",VLOOKUP(K2,$D:$E,2,FALSE),H6)","v":0},3,null,{"$f":"_m1&_cl2&lfi(C3)&_cle&sc(C4)","v":"-------------------- [COLOR=#000075][/COLOR] [B][/B]"},null,null,null,null,null,null,null,null,null,null,null,null,null,null,null,null,null,null,null,null,null,null,null,null,null,null,null,null,null,null,null,null,null,null,null,{"$f":"IFERROR(RIGHT(B10,LEN(B10)-FIND(\",\",B10)),\"\")","v":""},{"$f":"IFERROR(RIGHT(B12,LEN(B12)-FIND(\",\",B12)),\"\")","v":""},{"$f":"C12","v":0},"x"]
[null,null,null,{"$f":"IF(D6=\"\",\"\",IF(LEFT(D6)>RIGHT(D6),C3,C7))","v":""},{"$f":"IF(D5=\"\",\"\",IF(C7=D5,C3,C7))","v":""},null,{"$f":"E5","v":""},null,null,null,{"$f":"IF(I6=\"\",VLOOKUP(K3,$D:$E,2,FALSE),I6)","v":0},4,null,{"$f":"\"[b]\"&$A4&\"[/b]. \"&_cl1&lfi(B4)&_cle","v":"[b]8[/b]. [COLOR=#990000][/COLOR] "},null,null,null,null,null,null,null,null,null,null,null,null,null,null,null,null,null,null,null,null,null,null,null,null,null,null,null,null,null,null,null,null,null,null,null,{"$f":"IFERROR(RIGHT(B14,LEN(B14)-FIND(\",\",B14)),\"\")","v":""},{"$f":"IFERROR(RIGHT(B16,LEN(B16)-FIND(\",\",B16)),\"\")","v":""},{"$f":"C16","v":0}]
[5,null,null,null,null,null,{"$f":"REPT(\"-\",20)","v":"--------------------"},{"$f":"IF(H7=\"\",\"\",IF(LEFT(H7)>RIGHT(H7),G5,G7))","v":""},{"$f":"IF(H6=\"\",\"\",IF(G7=H6,G5,G7))","v":""},null,{"$f":"VLOOKUP(K2,$C:$D,2,FALSE)","v":""},5,null,{"$f":"_m2&_cl3&\"[b]\"&lfi(D5)&\"[/b]\"&_cle&sc(D6)","v":"---------------------------------------- [COLOR=#009900][b][/b][/COLOR] [B][/B]"},null,null,null,null,null,null,null,null,null,null,null,null,null,null,null,null,null,null,null,null,null,null,null,null,null,null,null,null,null,null,null,null,null,null,null,"x"]
[null,null,{"$f":"IF(C8=\"\",\"\",IF(LEFT(C8)>RIGHT(C8),B6,B8))","v":""},{"$f":"IF(C7=\"\",\"\",IF(B8=C7,B6,B8))","v":""},null,null,{"$f":"E13","v":""},null,null,null,{"$f":"VLOOKUP(K3,$C:$D,2,FALSE)","v":""},6,null,{"$f":"\"[b]\"&$A6&\"[/b]. \"&cl1x&lfi(B6)&clex","v":"[b]5[/b]. [COLOR=#cc5000][i][/i][/COLOR] "}]
[4,null,null,null,null,null,null,null,null,null,{"$f":"VLOOKUP(K4,$C:$D,2,FALSE)","v":{"$error":"#N/A"}},7,null,{"$f":"_m1&_cl2&lfi(C7)&_cle&sc(C8)","v":"-------------------- [COLOR=#000075][/COLOR] [B][/B]"}]
[null,null,null,null,{"$f":"IF(E10=\"\",\"\",IF(LEFT(E10)>RIGHT(E10),D5,D13))","v":""},{"$f":"IF(E9=\"\",\"\",IF(D13=E9,D5,D13))","v":""},null,{"$f":"\"Finala mica - \" & ctg","v":"Finala mica - Elite"},null,null,{"$f":"VLOOKUP(K5,$C:$D,2,FALSE)","v":{"$error":"#N/A"}},8,null,{"$f":"\"[b]\"&$A8&\"[/b]. \"&cl1x&lfi(B8)&clex","v":"[b]4[/b]. [COLOR=#cc5000][i][/i][/COLOR] "}]
[3,null,null,null,null,null,null,null,null,null,null,null,null,{"$f":"_m3&clr&\"[b]\"&lfi(E9)&\"[/b]\"&_cle&sc(E10)","v":"------------------------------------------------------------ [COLOR=red][b][/b][/COLOR] [B][/B]"}]
[null,null,{"$f":"IF(C12=\"\",\"\",IF(LEFT(C12)>RIGHT(C12),B10,B12))","v":""},{"$f":"IF(C11=\"\",\"\",IF(B12=C11,B10,B12))","v":""},null,null,null,null,null,null,null,null,null,{"$f":"\"[b]\"&$A10&\"[/b]. \"&_cl1&lfi(B10)&_cle","v":"[b]3[/b]. [COLOR=#990000][/COLOR] "},null,null,null,null,null,null,null,null,null,null,null,null,null,null,{"$f":"\"[b]\"&clr & \"Finala - \" & _cle & ctg & \"[/b]\"","v":"[b][COLOR=red]Finala - [/COLOR] Elite[/b]"}]
[6,null,null,null,null,null,null,null,null,null,null,null,null,{"$f":"_m1&cl2x&lfi(C11)&clex&sc(C12)","v":"-------------------- [COLOR=#4040FF][i][/i][/COLOR] [B][/B]"}]
[null,null,null,{"$f":"IF(D14=\"\",\"\",IF(LEFT(D14)>RIGHT(D14),C11,C15))","v":""},{"$f":"IF(D13=\"\",\"\",IF(C15=D13,C11,C15))","v":""},null,null,null,null,null,null,null,null,{"$f":"\"[b]\"&$A12&\"[/b]. \"&_cl1&lfi(B12)&_cle","v":"[b]6[/b]. [COLOR=#990000][/COLOR] "},null,null,null,null,null,null,null,null,null,null,null,null,null,null,{"$f":"_cl2&lfi($D$5)&_cle","v":"[COLOR=#000075][/COLOR] "}]
[7,null,null,null,null,null,null,null,null,null,null,null,null,{"$f":"_m2&_cl3&\"[b]\"&lfi(D13)&\"[/b]\"&_cle&sc(D14)","v":"---------------------------------------- [COLOR=#009900][b][/b][/COLOR] [B][/B]"},null,null,null,null,null,null,null,null,null,null,null,null,null,null,{"$f":"_m1&clr&\"[b]\"&lfi($E$9)&\"[/b]\"&_cle& \" \" & sc($E$10)","v":"-------------------- [COLOR=red][b][/b][/COLOR]  [B][/B]"}]
[null,null,{"$f":"IF(C16=\"\",\"\",IF(LEFT(C16)>RIGHT(C16),B14,B16))","v":""},{"$f":"IF(C15=\"\",\"\",IF(B16=C15,B14,B16))","v":""},null,null,null,null,null,null,null,null,null,{"$f":"\"[b]\"&$A14&\"[/b]. \"&cl1x&lfi(B14)&clex","v":"[b]7[/b]. [COLOR=#cc5000][i][/i][/COLOR] "},null,null,null,null,null,null,null,null,null,null,null,null,null,null,{"$f":"_cl2&lfi($D$13)&_cle","v":"[COLOR=#000075][/COLOR] "}]
[2,null,null,null,null,null,null,null,null,null,null,null,null,{"$f":"_m1&cl2x&lfi(C15)&clex&sc(C16)","v":"-------------------- [COLOR=#4040FF][i][/i][/COLOR] [B][/B]"}]
[null,null,null,null,null,null,null,null,null,null,null,null,null,{"$f":"\"[b]\"&$A16&\"[/b]. \"&cl1x&lfi(B16)&clex","v":"[b]2[/b]. [COLOR=#cc5000][i][/i][/COLOR] "},null,null,null,null,null,null,null,null,null,null,null,null,null,null,{"$f":"\"[b]\"&clr & \"Finala mica - \" & _cle & ctg & \"[/b]\"","v":"[b][COLOR=red]Finala mica - [/COLOR] Elite[/b]"}]
[]
[null,null,null,null,null,null,null,null,null,null,null,null,null,null,null,null,null,null,null,null,null,null,null,null,null,null,null,null,{"$f":"_cl3&lfi($G$5)&_cle","v":"[COLOR=#009900][/COLOR] "}]
[null,null,null,null,null,null,null,null,null,null,null,null,null,{"$f":"\"[b]\"&clr & \"Finala mica - \" & _cle & ctg & \"[/b]\"","v":"[b][COLOR=red]Finala mica - [/COLOR] Elite[/b]"},null,null,null,null,null,null,null,null,null,null,null,null,null,null,{"$f":"_m1&clr&\"[b]\"&lfi($H$6)&\"[/b]\"&_cle& \" \" & sc($H$7)","v":"-------------------- [COLOR=red][b][/b][/COLOR]  [B][/B]"}]
[null,null,null,null,{"$f":"IF(D21=\"\",\"\",IF(C23=D21,C19,C23))","v":""},null,null,null,null,null,null,null,null,null,null,null,null,null,null,null,null,null,null,null,null,null,null,null,{"$f":"_cl3&lfi($G$7)&_cle","v":"[COLOR=#009900][/COLOR] "}]
[null,null,null,null,null,null,null,null,null,null,null,null,null,{"$f":"_cl3&lfi($G$5)&_cle","v":"[COLOR=#009900][/COLOR] "}]
[null,null,null,null,null,null,null,null,null,null,null,null,null,{"$f":"_m1&clr&\"[b]\"&lfi($H$6)&\"[/b]\"&_cle& \" \" & sc($H$7)","v":"-------------------- [COLOR=red][b][/b][/COLOR]  [B][/B]"}]
[null,null,null,null,null,null,null,null,null,null,null,null,null,{"$f":"_cl3&lfi($G$7)&_cle","v":"[COLOR=#009900][/COLOR] "}]
[]
[]
[]
[]
[null,null,null,null,{"$f":"IF(D29=\"\",\"\",IF(C31=D29,C27,C31))","v":""}]
[]
[]
[]
[]
[]
[]
[]
[null,null,null,null,{"$f":"IF(D37=\"\",\"\",IF(C39=D37,C35,C39))","v":""}]
[]
[]
[]
[]
[]
[]
[]
[null,null,null,null,{"$f":"IF(D45=\"\",\"\",IF(C47=D45,C43,C47))","v":""}]
[]
[]
[]
[]
[]
[]
[]
[null,null,null,null,{"$f":"IF(D53=\"\",\"\",IF(C55=D53,C51,C55))","v":""}]
[]
[]
[]
[]
[]
[]
[]
[null,null,null,null,{"$f":"IF(D61=\"\",\"\",IF(C63=D61,C59,C63))","v":""}]
[]
[]
[]
[]
[]
[]
[]
[null,null,null,null,{"$f":"IF(D69=\"\",\"\",IF(C71=D69,C67,C71))","v":""}]
[]
[]
[]
[]
[]
[]
[]
[null,null,null,null,{"$f":"IF(D77=\"\",\"\",IF(C79=D77,C75,C79))","v":""}]
[]
[]
[]
[]
[]
[]
[]
[null,null,null,null,{"$f":"IF(D85=\"\",\"\",IF(C87=D85,C83,C87))","v":""}]
[]
[]
[]
[]
[]
[]
[]
[null,null,null,null,{"$f":"IF(D93=\"\",\"\",IF(C95=D93,C91,C95))","v":""}]
[]
[]
[]
[]
[]
[]
[]
[null,null,null,null,{"$f":"IF(D101=\"\",\"\",IF(C103=D101,C99,C103))","v":""}]
[]
[]
[]
[]
[]
[]
[]
[null,null,null,null,{"$f":"IF(D109=\"\",\"\",IF(C111=D109,C107,C111))","v":""}]
[]
[]
[]
[]
[]
[]
[]
[null,null,null,null,{"$f":"IF(D117=\"\",\"\",IF(C119=D117,C115,C119))","v":""}]
[]
[]
[]
[]
[]
[]
[]
[null,null,null,null,{"$f":"IF(D125=\"\",\"\",IF(C127=D125,C123,C127))","v":""}]