{"text_format":"1","workbook":"xlsx","n_sheets":21,"sheets":["Start","Sheet1","Forum","Print","K","Inscrieri","CLS","www","Rezultate","Grupe","Gr.1","Gr.inf.","Gr.sup.","Arb.inf.","Arb.sup.","Tabel","Elim.","T64","T32","T16","T8"],"not_rendered":{"charts":0,"images":57,"macros":1,"external_links":0,"defined_names":92,"comments":0,"pivot_tables":0},"unopened":[],"bounds":{"document_bytes":16777216,"sheet_cells":100000,"rows_first":2000,"rows_last":500,"rows_between":2000,"halvings":0,"cell_chars":16384,"cell_head_chars":4096},"cells_cut":0,"cells_raw":0,"read":"whole","date_system":"1900"}

{"sheet":"Start","index":0,"n_rows":36,"n_cols":60,"rows_kept":36,"cut":false,"hidden":false,"merged":[[1,12,1,13],[0,3,0,4],[2,3,2,5],[1,0,1,11],[2,6,2,8],[0,0,0,1],[2,9,2,11],[13,0,13,13],[15,0,15,13],[2,0,2,2],[20,0,20,13],[16,0,16,13],[11,0,11,13],[10,0,10,13],[14,0,14,13],[12,0,12,13],[17,0,17,13],[18,0,18,13],[6,9,6,13],[8,0,8,13],[24,0,24,13],[34,0,34,13],[35,0,35,13],[19,0,19,13],[29,0,29,13],[25,0,25,13],[30,0,30,13],[32,0,32,13],[33,0,33,13],[28,0,28,13],[31,0,31,13],[27,0,27,13],[26,0,26,13],[23,0,23,13],[22,0,22,13],[21,0,21,13]]}
["Localitate",null,"Data","Categoria",null,null,null,"n","A+ (y/n) ?",null,null,"v7.21","cls_2024-nov",null,null,null,null,null,null,null,null,null,null,"[color=black]","[color=\"#990000\"]",null,"[\"","[TD=\"bgcolor:#ffffaa\"]","[TD=\"bgcolor:#2C75ee\"]","[TD]","[table=\"class: x\"]",null,"[td=\"width: 25\"]",null,"[TD=\"bgcolor:#00ff00\"]",null,null,null,null,null,null,null,null,null,null,null,null,null,null,null,null,null,null,null,null,null,null,null,null,"v7.21"]
["- randul de sus ... localitate, data, categoria, tipul turneului (n - turneu A, y - turneu A+)",null,null,null,null,null,null,null,null,null,null,null,2,null,null,null,null,null,null,null,null,null,null,"[/color] ","[color=\"#000075\"]",null,"\",\"","[td=\"align:center\"]","[TD=\"bgcolor:#d31f1f\"]",null,"[td=\"width:20\"][/td]",null,"[td=\"width: 120\"]",null,"[TD=\"bgcolor:#ffff00\"]"]
["Initializare",null,null,"Grupe inferioare",null,null,"Grupe superioare",null,null,"Eliminatorii",null,null,null,null,null,null,null,null,null,null,null,null,{"$f":"TEXT(CHAR(10)&CHAR(10)&CHAR(13),\"\")","v":"\n\n\r"},"[/i][/color] ","[color=\"#009900\"]",null,"\"],",null,null,null,"[td=\"width:150\"][/td]",null,"[td=\"width: 280\"]",null,"[TD=\"bgcolor:#ff0000\"]"]
[null,null,null,null,null,null,null,null,null,null,null,null,null,null,null,null,null,null,null,null,null,null,null,null,"[color=\"#6900af\"]",null,null,null,null,null,null,null,"[td=\"width: 20\"]",null,"[TD=\"bgcolor:#ff8700\"]"]
[null,null,null,null,null,null,null,null,null,null,null,null,null,null,null,null,null,null,null,null,null,null,null,null,"[color=\"#cc5000\"][i]"]
[0,null,null,null,null,null,null,null,null,null,null,null,null,null,null,null,null,null,null,null,null,null,null,null,"[color=\"#4040FF\"][i]"]
["Limitare","MPmax","MPmin","Nr.Gr.Inf.","Nr. Calif.","X suplim.1","Nr.Gr.Sup.","Nr. Calif.","X suplim.2",null,null,null,null,null,null,null,null,null,null,null,null,null,null,null,"[color=\"#00DC00\"][i]"]
[36,100,null,6,4,0,6,2,0,4,3,2,null,null,null,null,null,null,null,null,null,null,null,null,"[color=\"#bd5dff\"][i]"]
["Nu stergeti nimic din ceea ce exista deja in fisier, nici copy-paste din alte fisiere - multe celule contin formule",null,null,null,null,null,null,null,null,null,null,null,null,null,null,null,null,null,null,null,null,null,null,null,"[color=red]"]
["1. Daca este cazul, click pe \"Actualizare CLS\" in sheetul Inscrieri.",null,null,null,null,null,null,null,null,null,null,null,null,null,null,null,null,null,null,null,null,null,null,null,"[color=\"#8e44ad\"]"]
["2. Se modifica mai sus datele turneului si se salveaza cate un fisier separat pentru fiecare categorie (Elite - Open - Avansati - Hobby etc)",null,null,null,null,null,null,null,null,null,null,null,null,null,null,null,null,null,null,null,null,null,null,null,"[color=\"#e74c3c\"]",null,null,{"$f":"REPT(\"-\",20) & \" \"","v":"-------------------- "}]
["3. Click pe butonul \"Initializare\" - numai daca este nevoie - se vor sterge automat inscrierile, grupele, foile completate, eliminatoriile - daca exista.",null,null,null,null,null,null,null,null,null,null,null,null,null,null,null,null,null,null,null,null,null,null,null,"[color=\"#2379B5\"]",null,null,{"$f":"REPT(\"-\",40) & \" \"","v":"---------------------------------------- "}]
["\"Limitare\" = numarul maxim de participanti; \"MPmax, MPmin\" - mediile maxime si minime ale categoriei",null,null,null,null,null,null,null,null,null,null,null,null,null,null,null,null,null,null,null,null,null,null,null,null,null,null,{"$f":"REPT(\"-\",60) & \" \"","v":"------------------------------------------------------------ "}]
["Inscrieri - scop: in coloana 7 din \"Inscrieri\" sa fie bifat cu \"1\" fiecare jucator inscris.",null,null,null,null,null,null,null,null,null,null,null,null,null,null,null,null,null,null,null,null,null,null,null,null,null,null,{"$f":"REPT(\"-\",80) & \" \"","v":"-------------------------------------------------------------------------------- "}]
["4. Doua metode de lucru:    a) click pe \"Formular\";    b) Plus/Minus conform instructiunilor din coloana 26 (din \"Inscrieri\").",null,null,null,null,null,null,null,null,null,null,null,null,null,null,null,null,null,null,null,null,null,null,null,null,null,null,{"$f":"REPT(\"-\",100) & \" \"","v":"---------------------------------------------------------------------------------------------------- "}]
["Periodic se actualizeaza lista: click pe \"Lista\", Paste pe forum. Sheetul \"Print\" se scoate la imprimanta.",null,null,null,null,null,null,null,null,null,null,null,null,null,null,null,null,null,null,null,null,null,null,null,null,null,null,{"$f":"REPT(\"-\",120) & \" \"","v":"------------------------------------------------------------------------------------------------------------------------ "}]
["Confirmari - scop: in coloana 7 din \"Inscrieri\" sa ramana bifati cu \"1\" doar jucatorii prezenti."]
["5. Click pe jucatorul absent sau retras dupa termen in coloana 21 apoi click pe N sau r2."]
["6. Click pe \"Selectie participanti\""]
[]
["Grupe inferioare - in celula \"Nr.Gr.Inf.\" de mai sus (randul 8) se trec nr. de grupe inferioare (maxim 32), nr.de calificati, nr. de calificati suplimentar"]
["7. Click pe \"Selectie grupe\", in sheet-ul \"Grupe\" vor fi afisate grupele. Se pot opera modificari asupra lor prin permutarea unor jucatori \"sus-jos\", pe aceeasi coloana."]
["8. Click pe \"Completare foi\" - se genereaza sheet-ul \"Gr.inf.\", se vor completa rezultatele in partea superioara a diagonalei."]
["9. Se trece in fiecare grupa locul ocupat -  atentie! doar pt. cei calificati, pot fi si cele mai bune X locuri suplimentare, numarul lor se trece in celula X suplim.1"]
["Grupe superioare - se completeaza mai sus celulele \"Nr.Gr.Sup.\", nr. de calificati, nr. de calificati suplimentar"]
["Nr.Gr.Sup. poate fi egal sau diferit de nr.gr.inferioare (maxim 32 a cate 5 jucatori) / se trece 0 daca nu se fac si superioare"]
["10. Click pe \"Selectie grupe\" - in sheetul \"Grupe\" apar grupele superioare"]
["11. Click pe \"Completare foi\" - Se genereaza sheet-ul \"Gr.sup.\", se vor completa rezultatele in partea superioara a diagonalei."]
["12. Se trece in fiecare grupa locul ocupat - atentie! doar pt. cei calificati, pot fi si cele mai bune X locuri suplimentare, numarul lor se trece in celula X suplim.2"]
[]
["Eliminatorii - maxim 64 de jucatori"]
["13. Click pe \"Tabel calificati\". In sheetul \"Tabel\" se completeaza automat celulele \"Poz.tablou\""]
["In coloana \"1/4 tab\" apare sfertul de tablou in care a nimerit respectivul jucator (s1, s2 = superior 1, 2;    i1, i2 = inferior 1, 2)"]
["14. Click pe \"Tablou eliminatoriu\", in sheetul \"Elim.\" se trec rezultatele in celulele colorate, fara alte modificari"]
["Clasament"]
["15. In sheet-ul \"CLS\" click pe \"Clasament / Copy CLS\" apoi Paste pe forum"]

{"sheet":"Sheet1","index":1,"n_rows":33,"n_cols":25,"rows_kept":33,"cut":false,"hidden":true,"merged":[]}
[null,null,null,null,"init ----------------------","selgi ----------------------------------","selgs --------------------"]
["x=1","init",null,null,"wcl.Range(wcl.Cells(2, 9), wcl.Cells(6000, 25)).ClearContents"]
[null,null,null,null,"wcl.Range(wcl.Cells(2, 11), wcl.Cells(100, 12)).Clear"]
[null,null,null,null,"selp:"]
["x=1","selp",null,null,"wgr.Shapes(\"copy_inf\").Left = 800"]
[null,null,null,null,"wgr.Shapes(\"copy_inf\").Top = 5"]
[null,null,null,null,"wst.Range(wst.Columns(16), wst.Columns(17)).ClearContents"]
[null,null,null,null,"wli.Range(wli.Cells(2, 1), wli.Cells(300, 10)).Clear"]
[null,null,null,null,"selgi:"]
["x=4","selgi",null,null,"wgr.Rows(\"1:150\").Clear","wgr.Rows(\"1:150\").Clear"]
[null,null,null,null,"wgr.Rows(\"1:150\").RowHeight = 15","wgr.Rows(\"1:150\").RowHeight = 15"]
[null,null,null,null,"wgr.Shapes(\"copy_cal_sup\").Left = 800","wgr.Shapes(\"copy_cal_sup\").Left = 800"]
[null,null,null,null,"wgr.Shapes(\"copy_cal_sup\").Top = 35","wgr.Shapes(\"copy_cal_sup\").Top = 35"]
[null,null,null,null,"wgr.Shapes(\"copy_sup\").Left = 800","wgr.Shapes(\"copy_sup\").Left = 800"]
[null,null,null,null,"wgr.Shapes(\"copy_sup\").Top = 65","wgr.Shapes(\"copy_sup\").Top = 65"]
[null,null,null,null,"wgr.Cells.Font.Size = 8","wgr.Cells.Font.Size = 8"]
[null,null,null,null,"foigi:"]
["x=6","foigi",null,null,"Call DelLines(\"Gr.inferioare\")","Call DelLines(\"Gr.inferioare\")"]
[null,null,null,null,"selgs:"]
[null,null,null,null,"foigs:"]
["x=7","selgs","x=9","foigs","Call DelLines(\"Gr.superioare\")","Call DelLines(\"Gr.superioare\")","Call DelLines(\"Gr.superioare\")"]
[null,null,null,null,"Call CopySheet(\"T\", \"Tabel\")","Call CopySheet(\"T\", \"Tabel\")","Call CopySheet(\"T\", \"Tabel\")"]
[null,null,null,null,"Call InitEall","Call InitEall","Call InitEall"]
[null,null,null,null,"Call HideSheets(5 + wgr.Index)","Call HideSheets(5 + wgr.Index)","Call HideSheets(5 + wgr.Index)"]
[null,null,null,null,"wli.Range(wli.Cells(2, 11), wli.Cells(300, 18)).Clear","wli.Range(wli.Cells(2, 11), wli.Cells(300, 18)).Clear","wli.Range(wli.Cells(2, 11), wli.Cells(300, 18)).Clear"]
[null,null,null,null,"Sheets(\"Forum\").Columns(1).ClearContents","Sheets(\"Forum\").Columns(1).ClearContents","Sheets(\"Forum\").Columns(1).ClearContents"]
[]
[null,null,null,null,"wst.Range(wst.Cells(6, x), wst.Cells(6, 14)).ClearContents","wst.Range(wst.Cells(6, x), wst.Cells(6, 14)).ClearContents","wst.Range(wst.Cells(6, x), wst.Cells(6, 14)).ClearContents"]
[]
[]
[]
[]
["a","b","c","d","e","f","g","h","i","j","k","l","m","n","o","p","q","r","s","t","u","v","x","y","z"]

{"sheet":"Forum","index":2,"n_rows":330,"n_cols":10,"rows_kept":330,"cut":false,"hidden":false,"merged":[]}
[null,"|","[COLOR=red][b]Inscrieri Avansati[/b] (02/03 nov - Duminica)[/COLOR] [i]- 05 Nov, 20:40:19[/i] - v7.21 / cls_2024-nov","|",null,"|",null,"|",null,"|"]
[null,"|",null,"|",null,"|",null,"|",null,"|"]
[null,"|",null,"|",null,"|",null,"|",null,"|"]
[null,"|",null,"|",null,"|",null,"|",null,"|"]
[null,"|",null,"|",null,"|",null,"|",null,"|"]
[null,"|",null,"|",null,"|",null,"|",null,"|"]
[null,"|",null,"|",null,"|",null,"|",null,"|"]
[null,"|",null,"|",null,"|",null,"|",null,"|"]
[null,"|",null,"|",null,"|",null,"|",null,"|"]
[null,"|",null,"|",null,"|",null,"|",null,"|"]
[null,"|",null,"|",null,"|",null,"|",null,"|"]
[null,"|",null,"|",null,"|",null,"|",null,"|"]
[null,"|",null,"|",null,"|",null,"|",null,"|"]
[null,"|",null,"|",null,"|",null,"|",null,"|"]
[null,"|",null,"|",null,"|",null,"|",null,"|"]
[null,"|",null,"|",null,"|",null,"|",null,"|"]
[null,"|",null,"|",null,"|",null,"|",null,"|"]
[null,"|",null,"|",null,"|",null,"|",null,"|"]
[null,"|",null,"|",null,"|",null,"|",null,"|"]
[null,"|",null,"|",null,"|",null,"|",null,"|"]
[null,"|",null,"|",null,"|",null,"|",null,"|"]
[null,"|",null,"|",null,"|",null,"|",null,"|"]
[null,"|",null,"|",null,"|",null,"|",null,"|"]
[null,"|",null,"|",null,"|",null,"|",null,"|"]
[null,"|",null,"|",null,"|",null,"|",null,"|"]
[null,"|",null,"|",null,"|",null,"|",null,"|"]
[null,"|",null,"|",null,"|",null,"|",null,"|"]
[null,"|",null,"|",null,"|",null,"|",null,"|"]
[null,"|",null,"|",null,"|",null,"|",null,"|"]
[null,"|",null,"|",null,"|",null,"|",null,"|"]
[null,"|",null,"|",null,"|",null,"|",null,"|"]
[null,"|",null,"|",null,"|",null,"|",null,"|"]
[null,"|",null,"|",null,"|",null,"|",null,"|"]
[null,"|",null,"|",null,"|",null,"|",null,"|"]
[null,"|",null,"|",null,"|",null,"|",null,"|"]
[null,"|",null,"|",null,"|",null,"|",null,"|"]
[null,"|",null,"|",null,"|",null,"|",null,"|"]
[null,"|",null,"|",null,"|",null,"|",null,"|"]
[null,"|",null,"|",null,"|",null,"|",null,"|"]
[null,"|",null,"|",null,"|",null,"|",null,"|"]
[null,"|",null,"|",null,"|",null,"|",null,"|"]
[null,"|",null,"|",null,"|",null,"|",null,"|"]
[null,"|",null,"|",null,"|",null,"|",null,"|"]
[null,"|",null,"|",null,"|",null,"|",null,"|"]
[null,"|",null,"|",null,"|",null,"|",null,"|"]
[null,"|",null,"|",null,"|",null,"|",null,"|"]
[null,"|",null,"|",null,"|",null,"|",null,"|"]
[null,"|",null,"|",null,"|",null,"|",null,"|"]
[null,"|",null,"|",null,"|",null,"|",null,"|"]
[null,"|",null,"|",null,"|",null,"|",null,"|"]
[null,"|",null,"|",null,"|",null,"|",null,"|"]
[null,"|",null,"|",null,"|",null,"|",null,"|"]
[null,"|",null,"|",null,"|",null,"|",null,"|"]
[null,"|",null,"|",null,"|",null,"|",null,"|"]
[null,"|",null,"|",null,"|",null,"|",null,"|"]
[null,"|",null,"|",null,"|",null,"|",null,"|"]
[null,"|",null,"|",null,"|",null,"|",null,"|"]
[null,"|",null,"|",null,"|",null,"|",null,"|"]
[null,"|",null,"|",null,"|",null,"|",null,"|"]
[null,"|",null,"|",null,"|",null,"|",null,"|"]
[null,"|",null,"|",null,"|",null,"|",null,"|"]
[null,"|",null,"|",null,"|",null,"|",null,"|"]
[null,"|",null,"|",null,"|",null,"|",null,"|"]
[null,"|",null,"|",null,"|",null,"|",null,"|"]
[null,"|",null,"|",null,"|",null,"|",null,"|"]
[null,"|",null,"|",null,"|",null,"|",null,"|"]
[null,"|",null,"|",null,"|",null,"|",null,"|"]
[null,"|",null,"|",null,"|",null,"|",null,"|"]
[null,"|",null,"|",null,"|",null,"|",null,"|"]
[null,"|",null,"|",null,"|",null,"|",null,"|"]
[null,"|",null,"|",null,"|",null,"|",null,"|"]
[null,"|",null,"|",null,"|",null,"|",null,"|"]
[null,"|",null,"|",null,"|",null,"|",null,"|"]
[null,"|",null,"|",null,"|",null,"|",null,"|"]
[null,"|",null,"|",null,"|",null,"|",null,"|"]
[null,"|",null,"|",null,"|",null,"|",null,"|"]
[null,"|",null,"|",null,"|",null,"|",null,"|"]
[null,"|",null,"|",null,"|",null,"|",null,"|"]
[null,"|",null,"|",null,"|",null,"|",null,"|"]
[null,"|",null,"|",null,"|",null,"|",null,"|"]
[null,"|",null,"|",null,"|",null,"|",null,"|"]
[null,"|",null,"|",null,"|",null,"|",null,"|"]
[null,"|",null,"|",null,"|",null,"|",null,"|"]
[null,"|",null,"|",null,"|",null,"|",null,"|"]
[null,"|",null,"|",null,"|",null,"|",null,"|"]
[null,"|",null,"|",null,"|",null,"|",null,"|"]
[null,"|",null,"|",null,"|",null,"|",null,"|"]
[null,"|",null,"|",null,"|",null,"|",null,"|"]
[null,"|",null,"|",null,"|",null,"|",null,"|"]
[null,"|",null,"|",null,"|",null,"|",null,"|"]
[null,"|",null,"|",null,"|",null,"|",null,"|"]
[null,"|",null,"|",null,"|",null,"|",null,"|"]
[null,"|",null,"|",null,"|",null,"|",null,"|"]
[null,"|",null,"|",null,"|",null,"|",null,"|"]
[null,"|",null,"|",null,"|",null,"|",null,"|"]
[null,"|",null,"|",null,"|",null,"|",null,"|"]
[null,"|",null,"|",null,"|",null,"|",null,"|"]
[null,"|",null,"|",null,"|",null,"|",null,"|"]
[null,"|",null,"|",null,"|",null,"|",null,"|"]
[null,"|",null,"|",null,"|",null,"|",null,"|"]
[null,"|",null,"|",null,"|",null,"|",null,"|"]
[null,"|",null,"|",null,"|",null,"|",null,"|"]
[null,"|",null,"|",null,"|",null,"|",null,"|"]
[null,"|",null,"|",null,"|",null,"|",null,"|"]
[null,"|",null,"|",null,"|",null,"|",null,"|"]
[null,"|",null,"|",null,"|",null,"|",null,"|"]
[null,"|",null,"|",null,"|",null,"|",null,"|"]
[null,"|",null,"|",null,"|",null,"|",null,"|"]
[null,"|",null,"|",null,"|",null,"|",null,"|"]
[null,"|",null,"|",null,"|",null,"|",null,"|"]
[null,"|",null,"|",null,"|",null,"|",null,"|"]
[null,"|",null,"|",null,"|",null,"|",null,"|"]
[null,"|",null,"|",null,"|",null,"|",null,"|"]
[null,"|",null,"|",null,"|",null,"|",null,"|"]
[null,"|",null,"|",null,"|",null,"|",null,"|"]
[null,"|",null,"|",null,"|",null,"|",null,"|"]
[null,"|",null,"|",null,"|",null,"|",null,"|"]
[null,"|",null,"|",null,"|",null,"|",null,"|"]
[null,"|",null,"|",null,"|",null,"|",null,"|"]
[null,"|",null,"|",null,"|",null,"|",null,"|"]
[null,"|",null,"|",null,"|",null,"|",null,"|"]
[null,"|",null,"|",null,"|",null,"|",null,"|"]
[null,"|",null,"|",null,"|",null,"|",null,"|"]
[null,"|",null,"|",null,"|",null,"|",null,"|"]
[null,"|",null,"|",null,"|",null,"|",null,"|"]
[null,"|",null,"|",null,"|",null,"|",null,"|"]
[null,"|",null,"|",null,"|",null,"|",null,"|"]
[null,"|",null,"|",null,"|",null,"|",null,"|"]
[null,"|",null,"|",null,"|",null,"|",null,"|"]
[null,"|",null,"|",null,"|",null,"|",null,"|"]
[null,"|",null,"|",null,"|",null,"|",null,"|"]
[null,"|",null,"|",null,"|",null,"|",null,"|"]
[null,"|",null,"|",null,"|",null,"|",null,"|"]
[null,"|",null,"|",null,"|",null,"|",null,"|"]
[null,"|",null,"|",null,"|",null,"|",null,"|"]
[null,"|",null,"|",null,"|",null,"|",null,"|"]
[null,"|",null,"|",null,"|",null,"|",null,"|"]
[null,"|",null,"|",null,"|",null,"|",null,"|"]
[null,"|",null,"|",null,"|",null,"|",null,"|"]
[null,"|",null,"|",null,"|",null,"|",null,"|"]
[null,"|",null,"|",null,"|",null,"|",null,"|"]
[null,"|",null,"|",null,"|",null,"|",null,"|"]
[null,"|",null,"|",null,"|",null,"|",null,"|"]
[null,"|",null,"|",null,"|",null,"|",null,"|"]
[null,"|",null,"|",null,"|",null,"|",null,"|"]
[null,"|",null,"|",null,"|",null,"|",null,"|"]
[null,"|",null,"|",null,"|",null,"|",null,"|"]
[null,"|",null,"|",null,"|",null,"|",null,"|"]
[null,"|",null,"|",null,"|",null,"|",null,"|"]
[null,"|",null,"|",null,"|",null,"|",null,"|"]
[null,"|",null,"|",null,"|",null,"|",null,"|"]
[null,"|",null,"|",null,"|",null,"|",null,"|"]
[null,"|",null,"|",null,"|",null,"|",null,"|"]
[null,"|",null,"|",null,"|",null,"|",null,"|"]
[null,"|",null,"|",null,"|",null,"|",null,"|"]
[null,"|",null,"|",null,"|",null,"|",null,"|"]
[null,"|",null,"|",null,"|",null,"|",null,"|"]
[null,"|",null,"|",null,"|",null,"|",null,"|"]
[null,"|",null,"|",null,"|",null,"|",null,"|"]
[null,"|",null,"|",null,"|",null,"|",null,"|"]
[null,"|",null,"|",null,"|",null,"|",null,"|"]
[null,"|",null,"|",null,"|",null,"|",null,"|"]
[null,"|",null,"|",null,"|",null,"|",null,"|"]
[null,"|",null,"|",null,"|",null,"|",null,"|"]
[null,"|",null,"|",null,"|",null,"|",null,"|"]
[null,"|",null,"|",null,"|",null,"|",null,"|"]
[null,"|",null,"|",null,"|",null,"|",null,"|"]
[null,"|",null,"|",null,"|",null,"|",null,"|"]
[null,"|",null,"|",null,"|",null,"|",null,"|"]
[null,"|",null,"|",null,"|",null,"|",null,"|"]
[null,"|",null,"|",null,"|",null,"|",null,"|"]
[null,"|",null,"|",null,"|",null,"|",null,"|"]
[null,"|",null,"|",null,"|",null,"|",null,"|"]
[null,"|",null,"|",null,"|",null,"|",null,"|"]
[null,"|",null,"|",null,"|",null,"|",null,"|"]
[null,"|",null,"|",null,"|",null,"|",null,"|"]
[null,"|",null,"|",null,"|",null,"|",null,"|"]
[null,"|",null,"|",null,"|",null,"|",null,"|"]
[null,"|",null,"|",null,"|",null,"|",null,"|"]
[null,"|",null,"|",null,"|",null,"|",null,"|"]
[null,"|",null,"|",null,"|",null,"|",null,"|"]
[null,"|",null,"|",null,"|",null,"|",null,"|"]
[null,"|",null,"|",null,"|",null,"|",null,"|"]
[null,"|",null,"|",null,"|",null,"|",null,"|"]
[null,"|",null,"|",null,"|",null,"|",null,"|"]
[null,"|",null,"|",null,"|",null,"|",null,"|"]
[null,"|",null,"|",null,"|",null,"|",null,"|"]
[null,"|",null,"|",null,"|",null,"|",null,"|"]
[null,"|",null,"|",null,"|",null,"|",null,"|"]
[null,"|",null,"|",null,"|",null,"|",null,"|"]
[null,"|",null,"|",null,"|",null,"|",null,"|"]
[null,"|",null,"|",null,"|",null,"|",null,"|"]
[null,"|",null,"|",null,"|",null,"|",null,"|"]
[null,"|",null,"|",null,"|",null,"|",null,"|"]
[null,"|",null,"|",null,"|",null,"|",null,"|"]
[null,"|",null,"|",null,"|",null,"|",null,"|"]
[null,"|",null,"|",null,"|",null,"|",null,"|"]
[null,"|",null,"|",null,"|",null,"|",null,"|"]
[null,"|",null,"|",null,"|",null,"|",null,"|"]
[null,"|",null,"|",null,"|",null,"|",null,"|"]
[null,"|",null,"|",null,"|",null,"|",null,"|"]
[null,"|",null,"|",null,"|",null,"|",null,"|"]
[null,"|",null,"|",null,"|",null,"|",null,"|"]
[null,"|",null,"|",null,"|",null,"|",null,"|"]
[null,"|",null,"|",null,"|",null,"|",null,"|"]
[null,"|",null,"|",null,"|",null,"|",null,"|"]
[null,"|",null,"|",null,"|",null,"|",null,"|"]
[null,"|",null,"|",null,"|",null,"|",null,"|"]
[null,"|",null,"|",null,"|",null,"|",null,"|"]
[null,"|",null,"|",null,"|",null,"|",null,"|"]
[null,"|",null,"|",null,"|",null,"|",null,"|"]
[null,"|",null,"|",null,"|",null,"|",null,"|"]
[null,"|",null,"|",null,"|",null,"|",null,"|"]
[null,"|",null,"|",null,"|",null,"|",null,"|"]
[null,"|",null,"|",null,"|",null,"|",null,"|"]
[null,"|",null,"|",null,"|",null,"|",null,"|"]
[null,"|",null,"|",null,"|",null,"|",null,"|"]
[null,"|",null,"|",null,"|",null,"|",null,"|"]
[null,"|",null,"|",null,"|",null,"|",null,"|"]
[null,"|",null,"|",null,"|",null,"|",null,"|"]
[null,"|",null,"|",null,"|",null,"|",null,"|"]
[null,"|",null,"|",null,"|",null,"|",null,"|"]
[null,"|",null,"|",null,"|",null,"|",null,"|"]
[null,"|",null,"|",null,"|",null,"|",null,"|"]
[null,"|",null,"|",null,"|",null,"|",null,"|"]
[null,"|",null,"|",null,"|",null,"|",null,"|"]
[null,"|",null,"|",null,"|",null,"|",null,"|"]
[null,"|",null,"|",null,"|",null,"|",null,"|"]
[null,"|",null,"|",null,"|",null,"|",null,"|"]
[null,"|",null,"|",null,"|",null,"|",null,"|"]
[null,"|",null,"|",null,"|",null,"|",null,"|"]
[null,"|",null,"|",null,"|",null,"|",null,"|"]
[null,"|",null,"|",null,"|",null,"|",null,"|"]
[null,"|",null,"|",null,"|",null,"|",null,"|"]
[null,"|",null,"|",null,"|",null,"|",null,"|"]
[null,"|",null,"|",null,"|",null,"|",null,"|"]
[null,"|",null,"|",null,"|",null,"|",null,"|"]
[null,"|",null,"|",null,"|",null,"|",null,"|"]
[null,"|",null,"|",null,"|",null,"|",null,"|"]
[null,"|",null,"|",null,"|",null,"|",null,"|"]
[null,"|",null,"|",null,"|",null,"|",null,"|"]
[null,"|",null,"|",null,"|",null,"|",null,"|"]
[null,"|",null,"|",null,"|",null,"|",null,"|"]
[null,"|",null,"|",null,"|",null,"|",null,"|"]
[null,"|",null,"|",null,"|",null,"|",null,"|"]
[null,"|",null,"|",null,"|",null,"|",null,"|"]
[null,"|",null,"|",null,"|",null,"|",null,"|"]
[null,"|",null,"|",null,"|",null,"|",null,"|"]
[null,"|",null,"|",null,"|",null,"|",null,"|"]
[null,"|",null,"|",null,"|",null,"|",null,"|"]
[null,"|",null,"|",null,"|",null,"|",null,"|"]
[null,"|",null,"|",null,"|",null,"|",null,"|"]
[null,"|",null,"|",null,"|",null,"|",null,"|"]
[null,"|",null,"|",null,"|",null,"|",null,"|"]
[null,"|",null,"|",null,"|",null,"|",null,"|"]
[null,"|",null,"|",null,"|",null,"|",null,"|"]
[null,"|",null,"|",null,"|",null,"|",null,"|"]
[null,"|",null,"|",null,"|",null,"|",null,"|"]
[null,"|",null,"|",null,"|",null,"|",null,"|"]
[null,"|",null,"|",null,"|",null,"|",null,"|"]
[null,"|",null,"|",null,"|",null,"|",null,"|"]
[null,"|",null,"|",null,"|",null,"|",null,"|"]
[null,"|",null,"|",null,"|",null,"|",null,"|"]
[null,"|",null,"|",null,"|",null,"|",null,"|"]
[null,"|",null,"|",null,"|",null,"|",null,"|"]
[null,"|",null,"|",null,"|",null,"|",null,"|"]
[null,"|",null,"|",null,"|",null,"|",null,"|"]
[null,"|",null,"|",null,"|",null,"|",null,"|"]
[null,"|",null,"|",null,"|",null,"|",null,"|"]
[null,"|",null,"|",null,"|",null,"|",null,"|"]
[null,"|",null,"|",null,"|",null,"|",null,"|"]
[null,"|",null,"|",null,"|",null,"|",null,"|"]
[null,"|",null,"|",null,"|",null,"|",null,"|"]
[null,"|",null,"|",null,"|",null,"|",null,"|"]
[null,"|",null,"|",null,"|",null,"|",null,"|"]
[null,"|",null,"|",null,"|",null,"|",null,"|"]
[null,"|",null,"|",null,"|",null,"|",null,"|"]
[null,"|",null,"|",null,"|",null,"|",null,"|"]
[null,"|",null,"|",null,"|",null,"|",null,"|"]
[null,"|",null,"|",null,"|",null,"|",null,"|"]
[null,"|",null,"|",null,"|",null,"|",null,"|"]
[null,"|",null,"|",null,"|",null,"|",null,"|"]
[null,"|",null,"|",null,"|",null,"|",null,"|"]
[null,"|",null,"|",null,"|",null,"|",null,"|"]
[null,"|",null,"|",null,"|",null,"|",null,"|"]
[null,"|",null,"|",null,"|",null,"|",null,"|"]
[null,"|",null,"|",null,"|",null,"|",null,"|"]
[null,"|",null,"|",null,"|",null,"|",null,"|"]
[null,"|",null,"|",null,"|",null,"|",null,"|"]
[null,"|",null,"|",null,"|",null,"|",null,"|"]
[null,"|",null,"|",null,"|",null,"|",null,"|"]
[null,"|",null,"|",null,"|",null,"|",null,"|"]
[null,"|",null,"|",null,"|",null,"|",null,"|"]
[null,"|",null,"|",null,"|",null,"|",null,"|"]
[null,"|",null,"|",null,"|",null,"|",null,"|"]
[null,"|",null,"|",null,"|",null,"|",null,"|"]
[null,"|",null,"|",null,"|",null,"|",null,"|"]
[null,"|",null,"|",null,"|",null,"|",null,"|"]
[null,"|",null,"|",null,"|",null,"|",null,"|"]
[null,"|",null,"|",null,"|",null,"|",null,"|"]
[null,"|",null,"|",null,"|",null,"|",null,"|"]
[null,"|",null,"|",null,"|",null,"|",null,"|"]
[null,"|",null,"|",null,"|",null,"|",null,"|"]
[null,"|",null,"|",null,"|",null,"|",null,"|"]
[null,"|",null,"|",null,"|",null,"|",null,"|"]
[null,"|",null,"|",null,"|",null,"|",null,"|"]
[null,"|",null,"|",null,"|",null,"|",null,"|"]
[null,"|",null,"|",null,"|",null,"|",null,"|"]
[null,"|",null,"|",null,"|",null,"|",null,"|"]
[null,"|",null,"|",null,"|",null,"|",null,"|"]
[null,"|",null,"|",null,"|",null,"|",null,"|"]
[null,"|",null,"|",null,"|",null,"|",null,"|"]
[null,"|",null,"|",null,"|",null,"|",null,"|"]
[null,"|",null,"|",null,"|",null,"|",null,"|"]
[null,"|",null,"|",null,"|",null,"|",null,"|"]
[null,"|",null,"|",null,"|",null,"|",null,"|"]
[null,"|",null,"|",null,"|",null,"|",null,"|"]
[null,"|",null,"|",null,"|",null,"|",null,"|"]
[null,"|",null,"|",null,"|",null,"|",null,"|"]
[null,"|",null,"|",null,"|",null,"|",null,"|"]
[null,"|",null,"|",null,"|",null,"|",null,"|"]
[null,"|",null,"|",null,"|",null,"|",null,"|"]
[null,"|",null,"|",null,"|",null,"|",null,"|"]
[null,"|",null,"|",null,"|",null,"|",null,"|"]
[null,"|",null,"|",null,"|",null,"|",null,"|"]
[null,"|",null,"|",null,"|",null,"|",null,"|"]
[null,"|",null,"|",null,"|",null,"|",null,"|"]
[null,"|",null,"|",null,"|",null,"|",null,"|"]
[null,"|",null,"|",null,"|",null,"|",null,"|"]
[null,"|",null,"|",null,"|",null,"|",null,"|"]

{"sheet":"Print","index":3,"n_rows":229,"n_cols":11,"rows_kept":229,"cut":false,"hidden":false,"merged":[[3,0,3,8],[2,0,2,8]]}
["     Subsemnatul(a) ... conform tabel ... declar pe propria răspundere că:"]
["- Am luat la cunoștință și sunt de acord cu Regulamentul AmaTur 2024;",null,null,null,null,null,null,null,null,null,"Puteti modifica textul, dar ..."]
["- Nu sufăr de nici o afecțiune care să îmi pericliteze starea de sănătate în timpul desfăsurării competiției și îmi asum întreaga responsabilitate în ceea ce privește participarea mea la Turneul: ",null,null,null,null,null,null,null,null,null,"Nu stergeti randuri sau coloane !!"]
[{"$f":"Start!$A$1 &\" \" &Start!$C$1 &\" - \" &Start!$D$1","v":"Localitate Data - Categoria"}]
["Nr.","Nume si prenume","Localitate","Loc","MP","Cat","Taxa","Observatii","Semnatura",null,"Inainte de a scoate la imprimanta, verificati setarile acesteia!"]
[1,null,null,null,null,null,null,null,null,null,"Print Preview --> urmariti incadrarea corecta in pagina, eventual mai trageti de margini."]
[2,null,null,null,null,null,null,null,null,null,"Pagina este setata pe Portrait si trebuie sa incapa cele 9 coloane cu 36 jucatori/pagina"]
[3]
[4]
[5]
[6]
[7]
[8]
[9]
[10]
[11]
[12]
[13]
[14]
[15]
[16]
[17]
[18]
[19]
[20]
[21]
[22]
[23]
[24]
[25]
[26]
[27]
[28]
[29]
[30]
[31]
[32]
[33]
[34]
[35]
[36]
[37]
[38]
[39]
[40]
[41]
[42]
[43]
[44]
[45]
[46]
[47]
[48]
[49]
[50]
[51]
[52]
[53]
[54]
[55]
[56]
[57]
[58]
[59]
[60]
[61]
[62]
[63]
[64]
[65]
[66]
[67]
[68]
[69]
[70]
[71]
[72]
[73]
[74]
[75]
[76]
[77]
[78]
[79]
[80]
[81]
[82]
[83]
[84]
[85]
[86]
[87]
[88]
[89]
[90]
[91]
[92]
[93]
[94]
[95]
[96]
[97]
[98]
[99]
[100]
[101]
[102]
[103]
[104]
[105]
[106]
[107]
[108]
[109]
[110]
[111]
[112]
[113]
[114]
[115]
[116]
[117]
[118]
[119]
[120]
[121]
[122]
[123]
[124]
[125]
[126]
[127]
[128]
[129]
[130]
[131]
[132]
[133]
[134]
[135]
[136]
[137]
[138]
[139]
[140]
[141]
[142]
[143]
[144]
[145]
[146]
[147]
[148]
[149]
[150]
[151]
[152]
[153]
[154]
[155]
[156]
[157]
[158]
[159]
[160]
[161]
[162]
[163]
[164]
[165]
[166]
[167]
[168]
[169]
[170]
[171]
[172]
[173]
[174]
[175]
[176]
[177]
[178]
[179]
[180]
[181]
[182]
[183]
[184]
[185]
[186]
[187]
[188]
[189]
[190]
[191]
[192]
[193]
[194]
[195]
[196]
[197]
[198]
[199]
[200]
[201]
[202]
[203]
[204]
[205]
[206]
[207]
[208]
[209]
[210]
[211]
[212]
[213]
[214]
[215]
[216]
[217]
[218]
[219]
[220]
[221]
[222]
[223]
[224]

{"sheet":"K","index":4,"n_rows":5078,"n_cols":37,"rows_kept":4500,"cut":true,"hidden":true,"merged":[],"bounds":{"rows_first":2000,"rows_last":500,"rows_between":2000,"halvings":0}}
[3,null,null,null,null,null,null,"2--3","1--3","1--2",null,null,null,null,"Aiud",null,null,null,null,"Nume_si_prenume","Localitate",null,null,null,null,null,null,null,null,null,null,"P"]
[null,null,null,null,null,null,null,null,null,null,null,null,null,null,"Alba Iulia",null,null,null,null,"Ababei Razvan","Iasi",null,null,null,1,1,1,1,"s1",null,"E",1]
[null,null,null,null,null,null,null,null,null,null,null,null,null,null,"Blaj",null,null,null,null,"Ababii Ghenadie","Moldova-Drochia",null,null,null,{"$f":"REPT(\"-\",20)","v":"--------------------"},{"$f":"REPT(\"-\",20)","v":"--------------------"},{"$f":"REPT(\"-\",20)","v":"--------------------"},{"$f":"REPT(\"-\",20)","v":"--------------------"},"s1",null,"O",2]
[null,null,null,null,null,null,null,null,null,null,null,null,null,null,"Cergau Mare",null,null,null,null,"Ababii Gheorghe","Moldova-Drochia",null,null,null,64,32,16,8,"s1",null,"A",3]
[null,null,null,null,null,null,null,null,null,null,null,null,null,null,"Cugir",null,null,null,null,"Abdi Shenol","Bucuresti",null,null,null,{"$f":"REPT(\"-\",35)","v":"-----------------------------------"},{"$f":"REPT(\"-\",35)","v":"-----------------------------------"},{"$f":"REPT(\"-\",35)","v":"-----------------------------------"},{"$f":"REPT(\"-\",35)","v":"-----------------------------------"},"s1",null,"H",4]
[4,null,null,null,null,null,null,"1--4","1--3","1--2",null,null,null,null,"Fenes",null,null,null,null,"Abdullah Diab","Iordania",null,null,null,33,17,9,5,"s1"]
[4,null,null,null,null,null,null,"2--3","2--4","3--4",null,null,null,null,"Jidvei",null,null,null,null,"Abrudan Cosmin","Apahida",null,null,null,{"$f":"REPT(\"-\",20)","v":"--------------------"},{"$f":"REPT(\"-\",20)","v":"--------------------"},{"$f":"REPT(\"-\",20)","v":"--------------------"},{"$f":"REPT(\"-\",20)","v":"--------------------"},"s1"]
[null,null,null,null,null,null,null,null,null,null,null,null,null,null,"Razboieni",null,null,null,null,"Acasandrei Cosmin","Mangalia",null,null,null,32,16,8,4,"s1"]
[null,null,null,null,null,null,null,null,null,null,null,null,null,null,"Rosia Montana",null,null,null,null,"Acatrinei Lucian","Bucuresti",null,null,null,{"$f":"REPT(\"-\",50)","v":"--------------------------------------------------"},{"$f":"REPT(\"-\",50)","v":"--------------------------------------------------"},{"$f":"REPT(\"-\",50)","v":"--------------------------------------------------"},{"$f":"REPT(\"-\",50)","v":"--------------------------------------------------"},"s1"]
[null,null,null,null,null,null,null,null,null,null,null,null,null,null,"Salciua",null,null,null,null,"Achim Georgel","Calarasi",null,null,null,17,9,5,3,"s1"]
[5,null,null,null,null,"2--5","1--5","1--4","2--4","4--5",null,null,null,null,"Santimbru AB",null,null,null,null,"Achim Paul","Arad",null,null,null,{"$f":"REPT(\"-\",20)","v":"--------------------"},{"$f":"REPT(\"-\",20)","v":"--------------------"},{"$f":"REPT(\"-\",20)","v":"--------------------"},{"$f":"REPT(\"-\",20)","v":"--------------------"},"s1"]
[5,null,null,null,null,"3--4","2--3","3--5","1--3","1--2",null,null,null,null,"Stremt",null,null,null,null,"Acriva Marian","Mizil",null,null,null,48,24,12,6,"s1"]
[null,null,null,null,null,null,null,null,null,null,null,null,null,null,"Teius",null,null,null,null,"Acsinte Andrei","Roman",null,null,null,{"$f":"REPT(\"-\",35)","v":"-----------------------------------"},{"$f":"REPT(\"-\",35)","v":"-----------------------------------"},{"$f":"REPT(\"-\",35)","v":"-----------------------------------"},{"$f":"REPT(\"-\",35)","v":"-----------------------------------"},"s1"]
[null,null,null,null,null,null,null,null,null,null,null,null,null,null,"Vintu de Jos",null,null,null,null,"Acsinte Oana","Bucuresti",null,null,null,49,25,13,7,"s1"]
[null,null,null,null,null,null,null,null,null,null,null,null,null,null,"Zlatna",null,null,null,null,"Acu Paul","Bucuresti",null,null,null,{"$f":"REPT(\"-\",20)","v":"--------------------"},{"$f":"REPT(\"-\",20)","v":"--------------------"},{"$f":"REPT(\"-\",20)","v":"--------------------"},{"$f":"REPT(\"-\",20)","v":"--------------------"},"s1"]
[6,null,null,null,null,"1--6","1--5","1--4","1--3","1--2",null,null,null,null,"Bughea de Jos",null,null,null,null,"Acu Rares","Bucuresti",null,null,null,16,8,4,2,"s1",null,1,2,3,4,5,6]
[6,null,null,null,null,"2--5","4--6","3--5","2--4","3--6",null,null,null,null,"Buzoesti",null,null,null,null,"Adam Cristian","Navodari",null,null,null,{"$f":"REPT(\"-\",65)","v":"-----------------------------------------------------------------"},{"$f":"REPT(\"-\",65)","v":"-----------------------------------------------------------------"},{"$f":"REPT(\"-\",65)","v":"-----------------------------------------------------------------"},null,"s1",null,0,1,2,2,1,0]
[6,null,null,null,null,"3--4","2--3","2--6","5--6","4--5",null,null,null,null,"Calinesti Arges",null,null,null,null,"Adam Florin","Targoviste",null,null,null,9,5,3,null,"s1",null,2,3,2,1,1,3]
[null,null,null,null,null,null,null,null,null,null,null,null,null,null,"Campulung Muscel",null,null,null,null,"Adamosi Klaudia","Targu Mures",null,null,null,{"$f":"REPT(\"-\",20)","v":"--------------------"},{"$f":"REPT(\"-\",20)","v":"--------------------"},{"$f":"REPT(\"-\",20)","v":"--------------------"},null,"s1",null,2,2,1,1,3,3]
[null,null,null,null,null,null,null,null,null,null,null,null,null,null,"Cateasca",null,null,null,null,"Aden Erduan","Constanta",null,null,null,56,28,14,null,"s1",null,2,1,1,3,3,2]
[7,null,null,"2--7","1--7","1--6","1--5","1--4","1--3","1--2",null,null,null,null,"Cosesti",null,null,null,null,"Adriana Beca","Cluj Napoca",null,null,null,{"$f":"REPT(\"-\",35)","v":"-----------------------------------"},{"$f":"REPT(\"-\",35)","v":"-----------------------------------"},{"$f":"REPT(\"-\",35)","v":"-----------------------------------"},null,"s1",null,2,1,3,3,2,1]
[7,null,null,"3--6","2--5","5--7","4--6","3--5","2--4","5--6",null,null,null,null,"Costesti",null,null,null,null,"Aga Alexandru","Botosani",null,null,null,41,21,11,null,"s1"]
[7,null,null,"4--5","3--4","2--3","3--7","2--6","6--7","4--7",null,null,null,null,"Curtea de Arges",null,null,null,null,"Aga Dan","Putna",null,null,null,{"$f":"REPT(\"-\",20)","v":"--------------------"},{"$f":"REPT(\"-\",20)","v":"--------------------"},{"$f":"REPT(\"-\",20)","v":"--------------------"},null,"s1",null,1,2,3,4,5,6,7]
[null,null,null,null,null,null,null,null,null,null,null,null,null,null,"Domnesti AG",null,null,null,null,"Agache Sorin","Navodari",null,null,null,24,12,6,null,"s1",null,3,0,1,2,2,1,0]
[null,null,null,null,null,null,null,null,null,null,null,null,null,null,"Leordeni",null,null,null,null,"Agavriloaie Costica","Moinesti",null,null,null,{"$f":"REPT(\"-\",50)","v":"--------------------------------------------------"},{"$f":"REPT(\"-\",50)","v":"--------------------------------------------------"},{"$f":"REPT(\"-\",50)","v":"--------------------------------------------------"},null,"s1",null,2,3,3,2,1,4,2]
[8,null,null,"1--8","1--7","1--6","1--5","1--4","1--3","1--2",null,null,null,null,"Maracineni",null,null,null,null,"Agbas Veaceslav","Moldova-Ceadir-Lunga",null,null,null,25,13,7,null,"s1",null,2,3,2,4,2,3,3]
[8,null,null,"2--7","8--6","7--5","6--4","5--3","4--2","3--8",null,null,null,null,"Mioveni",null,null,null,null,"Aherghelegitei Mihai","Dumbraveni SB",null,null,null,{"$f":"REPT(\"-\",20)","v":"--------------------"},{"$f":"REPT(\"-\",20)","v":"--------------------"},{"$f":"REPT(\"-\",20)","v":"--------------------"},null,"s1",null,2,5,2,1,1,3,3]
[8,null,null,"3--6","2--5","8--4","7--3","6--2","5--8","4--7",null,null,null,null,"Pitesti",null,null,null,null,"Aiben Robert","Tasnad",null,null,null,40,20,10,null,"s1",null,2,1,1,3,3,2,5]
[8,null,null,"4--5","3--4","2--3","8--2","7--8","6--7","5--6",null,null,null,null,"Stefanesti Arges",null,null,null,null,"Aihan Velula","Constanta",null,null,null,{"$f":"REPT(\"-\",35)","v":"-----------------------------------"},{"$f":"REPT(\"-\",35)","v":"-----------------------------------"},{"$f":"REPT(\"-\",35)","v":"-----------------------------------"},null,"s1",null,2,1,1,3,5,1,2]
[null,null,null,null,null,null,null,null,null,null,null,null,null,null,"Topoloveni",null,null,null,null,"Ailinca Cristina","Brasov",null,null,null,57,29,15,null,"s1",null,2,2,5,0,1,1,0]
[9,"2--9","1--9","1--8","1--7","1--6","1--5","1--4","1--3","1--2",null,null,null,null,"Alunis",null,null,null,null,"Ailincai Constantin","Petia",null,null,null,{"$f":"REPT(\"-\",20)","v":"--------------------"},{"$f":"REPT(\"-\",20)","v":"--------------------"},{"$f":"REPT(\"-\",20)","v":"--------------------"},null,"s1"]
[9,"3--8","2--7","9--7","8--6","7--5","6--4","3--5","4--2","4--9",null,null,null,null,"Arad",null,null,null,null,"Ailioaie Bogdan","Comanesti",null,null,null,8,4,2,null,"s1"]
[9,"4--7","3--6","2--5","9--5","8--4","7--3","2--6","6--9","5--8",null,null,null,null,"Chisineu Cris",null,null,null,null,"Ailioaie Gheorghe","Comanesti",null,null,null,{"$f":"REPT(\"-\",80)","v":"--------------------------------------------------------------------------------"},{"$f":"REPT(\"-\",80)","v":"--------------------------------------------------------------------------------"}]
[9,"5--6","4--5","3--4","2--3","9--3","8--2","9--8","7--8","6--7",null,null,null,null,"Lipova",null,null,null,null,"Ailioaie Ionut","Comanesti",null,null,null,5,3,null,null,"s2"]
[null,null,null,null,null,null,null,null,null,null,null,null,null,null,"Pecica",null,null,null,null,"Ailoaie Cosmin Marian","Vorona",null,null,null,{"$f":"REPT(\"-\",20)","v":"--------------------"},{"$f":"REPT(\"-\",20)","v":"--------------------"},null,null,"s2"]
[10,"1--10","1--9","1--8","1--7","1--6","1--5","1--4","1--3","1--2",null,null,null,null,"Petris",null,null,null,null,"Aizner Imre","Ludus",null,null,null,60,30,null,null,"s2"]
[10,"2--9","10--8","9--7","8--6","7--5","6--4","3--5","4--2","3--10",null,null,null,null,"Ribita",null,null,null,null,"Alamorean Viorel","Blaj",null,null,null,{"$f":"REPT(\"-\",35)","v":"-----------------------------------"},{"$f":"REPT(\"-\",35)","v":"-----------------------------------"},null,null,"s2"]
[10,"3--8","2--7","10--6","9--5","8--4","7--3","2--6","5--10","4--9",null,null,null,null,"Santana",null,null,null,null,"Alb Sorin","Alba Iulia",null,null,null,37,19,null,null,"s2"]
[10,"4--7","3--6","2--5","10--4","9--3","8--2","10--7","6--9","5--8",null,null,null,null,"Sebis",null,null,null,null,"Albert Szabolcs","Targu Mures",null,null,null,{"$f":"REPT(\"-\",20)","v":"--------------------"},{"$f":"REPT(\"-\",20)","v":"--------------------"},null,null,"s2"]
[10,"5--6","4--5","3--4","2--3","10--2","9--10","9--8","7--8","6--7",null,null,null,null,"Vinga",null,null,null,null,"Albescu Constantin Ionut","Bucuresti",null,null,null,28,14,null,null,"s2"]
[11,"2--11","1--11","1--10","1--9","1--8","1--7","1--6","1--5","1--4","1--3","1--2",null,null,"Bucuresti",null,null,null,null,"Alboiu Robert","Botosani",null,null,null,{"$f":"REPT(\"-\",50)","v":"--------------------------------------------------"},{"$f":"REPT(\"-\",50)","v":"--------------------------------------------------"},null,null,"s2"]
[11,"3--10","2--9","11--9","10--8","9--7","8--6","7--5","6--4","5--3","4--2","4--11",null,null,"Bacau",null,null,null,null,"Albu Catalin","Pascani",null,null,null,21,11,null,null,"s2"]
[11,"4--9","3--8","2--7","11--7","10--6","9--5","8--4","7--3","6--2","6--11","5--10",null,null,"Buhusi",null,null,null,null,"Albu Constantin","Suceava",null,null,null,{"$f":"REPT(\"-\",20)","v":"--------------------"},{"$f":"REPT(\"-\",20)","v":"--------------------"},null,null,"s2"]
[11,"5--8","4--7","3--6","2--5","11--5","10--4","9--3","8--2","8--11","7--10","6--9",null,null,"Comanesti",null,null,null,null,"Albu Cristian","Iasi",null,null,null,44,22,null,null,"s2"]
[11,"6--7","5--6","4--5","3--4","2--3","11--3","10--2","10--11","9--10","8--9","7--8",null,null,"Darmanesti BC",null,null,null,null,"Albu Gheorghe","Galati",null,null,null,{"$f":"REPT(\"-\",35)","v":"-----------------------------------"},{"$f":"REPT(\"-\",35)","v":"-----------------------------------"},null,null,"s2"]
[12,"1--12","1--11","1--10","1--9","1--8","1--7","1--6","1--5","1--4","1--3","1--2",null,null,"Huruiesti",null,null,null,null,"Albu Iulian","Comanesti",null,null,null,53,27,null,null,"s2"]
[12,"2--11","12--10","11--9","10--8","9--7","8--6","7--5","6--4","5--3","4--2","3--12",null,null,"Margineni",null,null,null,null,"Albu Stefan","Iasi",null,null,null,{"$f":"REPT(\"-\",20)","v":"--------------------"},{"$f":"REPT(\"-\",20)","v":"--------------------"},null,null,"s2"]
[12,"3--10","2--9","12--8","11--7","10--6","9--5","8--4","7--3","6--2","5--12","4--11",null,null,"Moinesti",null,null,null,null,"Albu Vlad","Iasi",null,null,null,12,6,null,null,"s2"]
[12,"4--9","3--8","2--7","12--6","11--5","10--4","9--3","8--2","7--12","6--11","5--10",null,null,"Onesti",null,null,null,null,"Aldea Adrian","Ploiesti",null,null,null,{"$f":"REPT(\"-\",65)","v":"-----------------------------------------------------------------"},{"$f":"REPT(\"-\",65)","v":"-----------------------------------------------------------------"},null,null,"s2"]
[12,"5--8","4--7","3--6","2--5","12--4","11--3","10--2","9--12","8--11","7--10","6--9",null,null,"Ploscuteni",null,null,null,null,"Aldea Andrei","Roman",null,null,null,13,7,null,null,"s2"]
[12,"6--7","5--6","4--5","3--4","2--3","12--2","11--12","10--11","9--10","8--9","7--8",null,null,"Solont",null,null,null,null,"Aldea Eduard","Buzau",null,null,null,{"$f":"REPT(\"-\",20)","v":"--------------------"},{"$f":"REPT(\"-\",20)","v":"--------------------"},null,null,"s2"]
[null,null,null,null,null,null,null,null,null,null,null,null,null,null,"Targu Ocna",null,null,null,null,"Aldea Sandrino","Comanesti",null,null,null,52,26,null,null,"s2"]
[null,null,null,null,null,null,null,null,null,null,null,null,null,null,"Alesd",null,null,null,null,"Alecu Cristian","Targoviste",null,null,null,{"$f":"REPT(\"-\",35)","v":"-----------------------------------"},{"$f":"REPT(\"-\",35)","v":"-----------------------------------"},null,null,"s2"]
[null,null,null,null,null,null,null,null,null,null,null,null,null,null,"Almasu Mare",null,null,null,null,"Alecu Ianis","Rosiori de Vede",null,null,null,45,23,null,null,"s2"]
[null,null,null,null,null,null,null,null,null,null,null,null,null,null,"Balc",null,null,null,null,"Alexa Cosmin","Cornetu",null,null,null,{"$f":"REPT(\"-\",20)","v":"--------------------"},{"$f":"REPT(\"-\",20)","v":"--------------------"},null,null,"s2"]
[null,null,null,null,null,null,null,null,null,null,null,null,null,null,"Beius",null,null,null,null,"Alexandrescu Antonie","Voluntari",null,null,null,20,10,null,null,"s2"]
[null,null,null,null,null,null,null,null,null,null,null,null,null,null,"Bratca",null,null,null,null,"Alexandrescu Cristi","Alexandria",null,null,null,{"$f":"REPT(\"-\",50)","v":"--------------------------------------------------"},{"$f":"REPT(\"-\",50)","v":"--------------------------------------------------"},null,null,"s2"]
[null,null,null,null,null,null,null,null,null,null,null,null,null,null,"Gepiu",null,null,null,null,"Alexandrescu Ionica","Piatra Neamt",null,null,null,29,15,null,null,"s2"]
[null,null,null,null,null,null,null,null,null,null,null,null,null,null,"Lovrin",null,null,null,null,"Alexandrescu Marius","Voluntari",null,null,null,{"$f":"REPT(\"-\",20)","v":"--------------------"},{"$f":"REPT(\"-\",20)","v":"--------------------"},null,null,"s2"]
[null,null,null,null,null,null,null,null,null,null,null,null,null,null,"Magesti",null,null,null,null,"Alexandrescu Robert","Alexandria",null,null,null,36,18,null,null,"s2"]
[null,null,null,null,null,null,null,null,null,null,null,null,null,null,"Marghita",null,null,null,null,"Alexandroaie Emanuel","Bucuresti",null,null,null,{"$f":"REPT(\"-\",35)","v":"-----------------------------------"},{"$f":"REPT(\"-\",35)","v":"-----------------------------------"},null,null,"s2"]
[null,null,null,null,null,null,null,null,null,null,null,null,null,null,"Oradea",null,null,null,null,"Alexandrov Iulian","Constanta",null,null,null,61,31,null,null,"s2"]
[null,null,null,null,null,null,null,null,null,null,null,null,null,null,"Osorhei",null,null,null,null,"Alexandru Anghel","Bucuresti",null,null,null,{"$f":"REPT(\"-\",20)","v":"--------------------"},{"$f":"REPT(\"-\",20)","v":"--------------------"},null,null,"s2"]
[null,null,null,null,null,null,null,null,null,null,null,null,null,null,"Paleu",null,null,null,null,"Alexandru Constantin","Bucuresti",null,null,null,4,2,null,null,"s2"]
[null,null,null,null,null,null,null,null,null,null,null,null,null,null,"Sacuieni",null,null,null,null,"Alexandru David Gabriel","Bucuresti",null,null,null,{"$f":"REPT(\"-\",90)","v":"------------------------------------------------------------------------------------------"}]
[null,null,null,null,null,null,null,null,null,null,null,null,null,null,"Salonta",null,null,null,null,"Alexandru Marius","Bucuresti",null,null,null,3,null,null,null,"i1"]
[null,null,null,null,null,null,null,null,null,null,null,null,null,null,"Santandrei",null,null,null,null,"Alexandru Matei","Cluj Napoca",null,null,null,{"$f":"REPT(\"-\",20)","v":"--------------------"},null,null,null,"i1"]
[null,null,null,null,null,null,null,null,null,null,null,null,null,null,"Tamaseu",null,null,null,null,"Alexandru Valentin","Slatina",null,null,null,62,null,null,null,"i1"]
[null,null,null,null,null,null,null,null,null,null,null,null,null,null,"Beclean",null,null,null,null,"Alexandru Vasile","Iasi",null,null,null,{"$f":"REPT(\"-\",35)","v":"-----------------------------------"},null,null,null,"i1"]
[null,null,null,null,null,null,null,null,null,null,null,null,null,null,"Bistrita",null,null,null,null,"Alexanovici Bogdan","Brasov",null,null,null,35,null,null,null,"i1"]
[null,null,null,null,null,null,null,null,null,null,null,null,null,null,"Branistea",null,null,null,null,"Alexe Dan","Bucuresti",null,null,null,{"$f":"REPT(\"-\",20)","v":"--------------------"},null,null,null,"i1"]
[null,null,null,null,null,null,null,null,null,null,null,null,null,null,"Livezile",null,null,null,null,"Alexe Daria","Dumbravita",null,null,null,30,null,null,null,"i1"]
[null,null,null,null,null,null,null,null,null,null,null,null,null,null,"Maieru",null,null,null,null,"Alexoi Marius","Calan",null,null,null,{"$f":"REPT(\"-\",50)","v":"--------------------------------------------------"},null,null,null,"i1"]
[null,null,null,null,null,null,null,null,null,null,null,null,null,null,"Mogoseni",null,null,null,null,"Algeorge Pop Eduard","Arad",null,null,null,19,null,null,null,"i1"]
[null,null,null,null,null,null,null,null,null,null,null,null,null,null,"Nasaud",null,null,null,null,"Alimareanu Raul","Dumbravita",null,null,null,{"$f":"REPT(\"-\",20)","v":"--------------------"},null,null,null,"i1"]
[null,null,null,null,null,null,null,null,null,null,null,null,null,null,"Sieu",null,null,null,null,"Aloman Mircea","Andrasesti",null,null,null,46,null,null,null,"i1"]
[null,null,null,null,null,null,null,null,null,null,null,null,null,null,"Sieu Odorhei",null,null,null,null,"Aluculesa Radu","Botosani",null,null,null,{"$f":"REPT(\"-\",35)","v":"-----------------------------------"},null,null,null,"i1"]
[null,null,null,null,null,null,null,null,null,null,null,null,null,null,"Uriu",null,null,null,null,"Alupoaie Dumitru","Iasi",null,null,null,51,null,null,null,"i1"]
[null,null,null,null,null,null,null,null,null,null,null,null,null,null,"Braila",null,null,null,null,"Amarghioalei Iulian Andrei","Harlau",null,null,null,{"$f":"REPT(\"-\",20)","v":"--------------------"},null,null,null,"i1"]
[null,null,null,null,null,null,null,null,null,null,null,null,null,null,"Cazasu",null,null,null,null,"Amariei Lucian","Piatra Neamt",null,null,null,14,null,null,null,"i1"]
[null,null,null,null,null,null,null,null,null,null,null,null,null,null,"Faurei",null,null,null,null,"Amarinei Sorin","Galati",null,null,null,{"$f":"REPT(\"-\",65)","v":"-----------------------------------------------------------------"},null,null,null,"i1"]
[null,null,null,null,null,null,null,null,null,null,null,null,null,null,"Ianca",null,null,null,null,"Ambrus Arnold","Lazarea",null,null,null,11,null,null,null,"i1"]
[null,null,null,null,null,null,null,null,null,null,null,null,null,null,"Liesti",null,null,null,null,"Amet Denis","Harsova",null,null,null,{"$f":"REPT(\"-\",20)","v":"--------------------"},null,null,null,"i1"]
[null,null,null,null,null,null,null,null,null,null,null,null,null,null,"Botosani",null,null,null,null,"Amran Alkerim","Bucuresti",null,null,null,54,null,null,null,"i1"]
[null,null,null,null,null,null,null,null,null,null,null,null,null,null,"Bucecea",null,null,null,null,"Anani Mihaita","Galati",null,null,null,{"$f":"REPT(\"-\",35)","v":"-----------------------------------"},null,null,null,"i1"]
[null,null,null,null,null,null,null,null,null,null,null,null,null,null,"Corlateni",null,null,null,null,"Anastasiu Constantin","Comanesti",null,null,null,43,null,null,null,"i1"]
[null,null,null,null,null,null,null,null,null,null,null,null,null,null,"Curtesti",null,null,null,null,"Anatolii Zamkovyi","Baia Mare",null,null,null,{"$f":"REPT(\"-\",20)","v":"--------------------"},null,null,null,"i1"]
[null,null,null,null,null,null,null,null,null,null,null,null,null,null,"Darabani",null,null,null,null,"Anbrus Stefan","Bistrita",null,null,null,22,null,null,null,"i1"]
[null,null,null,null,null,null,null,null,null,null,null,null,null,null,"Dersca",null,null,null,null,"Anca Ana Maria","Ludus",null,null,null,{"$f":"REPT(\"-\",50)","v":"--------------------------------------------------"},null,null,null,"i1"]
[null,null,null,null,null,null,null,null,null,null,null,null,null,null,"Dobarceni",null,null,null,null,"Anca Octavian","Ludus",null,null,null,27,null,null,null,"i1"]
[null,null,null,null,null,null,null,null,null,null,null,null,null,null,"Dorohoi",null,null,null,null,"Anca Valentin","Ludus",null,null,null,{"$f":"REPT(\"-\",20)","v":"--------------------"},null,null,null,"i1"]
[null,null,null,null,null,null,null,null,null,null,null,null,null,null,"Frumusica BT",null,null,null,null,"Anchidin Cosmin","Lugoj",null,null,null,38,null,null,null,"i1"]
[null,null,null,null,null,null,null,null,null,null,null,null,null,null,"Hlipiceni",null,null,null,null,"Andone Claudiu","Cugir",null,null,null,{"$f":"REPT(\"-\",35)","v":"-----------------------------------"},null,null,null,"i1"]
[null,null,null,null,null,null,null,null,null,null,null,null,null,null,"Horodistea BT",null,null,null,null,"Andoni Marian","Hunedoara",null,null,null,59,null,null,null,"i1"]
[null,null,null,null,null,null,null,null,null,null,null,null,null,null,"Hudesti",null,null,null,null,"Andras Imre","Zetea",null,null,null,{"$f":"REPT(\"-\",20)","v":"--------------------"},null,null,null,"i1"]
[null,null,null,null,null,null,null,null,null,null,null,null,null,null,"Ipotesti",null,null,null,null,"Andras Nicolae","Oradea",null,null,null,6,null,null,null,"i1"]
[null,null,null,null,null,null,null,null,null,null,null,null,null,null,"Mihai Eminescu",null,null,null,null,"Andras Robert","Hateg",null,null,null,{"$f":"REPT(\"-\",80)","v":"--------------------------------------------------------------------------------"}]
[null,null,null,null,null,null,null,null,null,null,null,null,null,null,"Rauseni",null,null,null,null,"Andrea Simion","Cluj Napoca",null,null,null,7,null,null,null,"i2"]
[null,null,null,null,null,null,null,null,null,null,null,null,null,null,"Saveni",null,null,null,null,"Andreescu Liviu","Urlati",null,null,null,{"$f":"REPT(\"-\",20)","v":"--------------------"},null,null,null,"i2"]
[null,null,null,null,null,null,null,null,null,null,null,null,null,null,"Sebesel",null,null,null,null,"Andrei Alin","Nasaud",null,null,null,58,null,null,null,"i2"]
[null,null,null,null,null,null,null,null,null,null,null,null,null,null,"Sendriceni",null,null,null,null,"Andrei Bogdan","Targoviste",null,null,null,{"$f":"REPT(\"-\",35)","v":"-----------------------------------"},null,null,null,"i2"]
[null,null,null,null,null,null,null,null,null,null,null,null,null,null,"Stefanesti",null,null,null,null,"Andrei Bogdan","Jijila",null,null,null,39,null,null,null,"i2"]
[null,null,null,null,null,null,null,null,null,null,null,null,null,null,"Trusesti",null,null,null,null,"Andrei Bogdan Ion","Targoviste",null,null,null,{"$f":"REPT(\"-\",20)","v":"--------------------"},null,null,null,"i2"]
[null,null,null,null,null,null,null,null,null,null,null,null,null,null,"Vorona",null,null,null,null,"Andrei Cornel","Nasaud",null,null,null,26,null,null,null,"i2"]
[null,null,null,null,null,null,null,null,null,null,null,null,null,null,"Arpas",null,null,null,null,"Andrei Cozmin Stefanut","Buzau",null,null,null,{"$f":"REPT(\"-\",50)","v":"--------------------------------------------------"},null,null,null,"i2"]
[null,null,null,null,null,null,null,null,null,null,null,null,null,null,"Bod BV",null,null,null,null,"Andrei Denisa","Deva",null,null,null,23,null,null,null,"i2"]
[null,null,null,null,null,null,null,null,null,null,null,null,null,null,"Bran",null,null,null,null,"Andrei Gheorghe","Petrosani",null,null,null,{"$f":"REPT(\"-\",20)","v":"--------------------"},null,null,null,"i2"]
[null,null,null,null,null,null,null,null,null,null,null,null,null,null,"Brasov",null,null,null,null,"Andrei Ionut","Pitesti",null,null,null,42,null,null,null,"i2"]
[null,null,null,null,null,null,null,null,null,null,null,null,null,null,"Cheile Gradistei",null,null,null,null,"Andrei Iordan","Tulcea",null,null,null,{"$f":"REPT(\"-\",35)","v":"-----------------------------------"},null,null,null,"i2"]
[null,null,null,null,null,null,null,null,null,null,null,null,null,null,"Codlea",null,null,null,null,"Andrei Lucian","Nasaud",null,null,null,55,null,null,null,"i2"]
[null,null,null,null,null,null,null,null,null,null,null,null,null,null,"Fagaras",null,null,null,null,"Andrei Maria","Ludus",null,null,null,{"$f":"REPT(\"-\",20)","v":"--------------------"},null,null,null,"i2"]
[null,null,null,null,null,null,null,null,null,null,null,null,null,null,"Lunca Calnicului",null,null,null,null,"Andrei Marian","Barlad",null,null,null,10,null,null,null,"i2"]
[null,null,null,null,null,null,null,null,null,null,null,null,null,null,"Sacele",null,null,null,null,"Andrei Radu","Tulcea",null,null,null,{"$f":"REPT(\"-\",65)","v":"-----------------------------------------------------------------"},null,null,null,"i2"]
[null,null,null,null,null,null,null,null,null,null,null,null,null,null,"Sinca Noua",null,null,null,null,"Andrei Radu Alexandru","Iasi",null,null,null,15,null,null,null,"i2"]
[null,null,null,null,null,null,null,null,null,null,null,null,null,null,"Ucea",null,null,null,null,"Andrei Vasile Ilie","Ludus",null,null,null,{"$f":"REPT(\"-\",20)","v":"--------------------"},null,null,null,"i2"]
[null,null,null,null,null,null,null,null,null,null,null,null,null,null,"Victoria",null,null,null,null,"Andreica Daniel","Viseu",null,null,null,50,null,null,null,"i2"]
[null,null,null,null,null,null,null,null,null,null,null,null,null,null,"Buzau",null,null,null,null,"Andreica Gabriel","Viseu",null,null,null,{"$f":"REPT(\"-\",35)","v":"-----------------------------------"},null,null,null,"i2"]
[null,null,null,null,null,null,null,null,null,null,null,null,null,null,"Ramnicu Sarat",null,null,null,null,"Andreievici Vuk","Dumbravita",null,null,null,47,null,null,null,"i2"]
[null,null,null,null,null,null,null,null,null,null,null,null,null,null,"Apahida",null,null,null,null,"Andries Ionut Alexandru","Iasi",null,null,null,{"$f":"REPT(\"-\",20)","v":"--------------------"},null,null,null,"i2"]
[null,null,null,null,null,null,null,null,null,null,null,null,null,null,"Baciu",null,null,null,null,"Andriy Buldyzhov","Targu Mures",null,null,null,18,null,null,null,"i2"]
[null,null,null,null,null,null,null,null,null,null,null,null,null,null,"Bogata",null,null,null,null,"Andronache Petrica","Barlad",null,null,null,{"$f":"REPT(\"-\",50)","v":"--------------------------------------------------"},null,null,null,"i2"]
[null,null,null,null,null,null,null,null,null,null,null,null,null,null,"Campia Turzii",null,null,null,null,"Androne Cristian","Braila",null,null,null,31,null,null,null,"i2"]
[null,null,null,null,null,null,null,null,null,null,null,null,null,null,"Cluj Napoca",null,null,null,null,"Androne Daniel","Petrila",null,null,null,{"$f":"REPT(\"-\",20)","v":"--------------------"},null,null,null,"i2"]
[null,null,null,null,null,null,null,null,null,null,null,null,null,null,"Dej",null,null,null,null,"Androne Luca","Bucuresti",null,null,null,34,null,null,null,"i2"]
[null,null,null,null,null,null,null,null,null,null,null,null,null,null,"Floresti",null,null,null,null,"Angelescu Mihai","Bucuresti",null,null,null,{"$f":"REPT(\"-\",35)","v":"-----------------------------------"},null,null,null,"i2"]
[null,null,null,null,null,null,null,null,null,null,null,null,null,null,"Gherla",null,null,null,null,"Anghel Adriana","Sibiu",null,null,null,63,null,null,null,"i2"]
[null,null,null,null,null,null,null,null,null,null,null,null,null,null,"Gilau",null,null,null,null,"Anghel Alexandru","Iasi",null,null,null,{"$f":"REPT(\"-\",20)","v":"--------------------"},null,null,null,"i2"]
[null,null,null,null,null,null,null,null,null,null,null,null,null,null,"Huedin",null,null,null,null,"Anghel Bogdan","Buzau",null,null,null,2,null,null,null,"i2"]
[null,null,null,null,null,null,null,null,null,null,null,null,null,null,"Luna CJ",null,null,null,null,"Anghel Ciprian","Buzau"]
[null,null,null,null,null,null,null,null,null,null,null,null,null,null,"Luna de Sus",null,null,null,null,"Anghel Darius","Pitesti"]
[null,null,null,null,null,null,null,null,null,null,null,null,null,null,"Manastireni",null,null,null,null,"Anghel George","Targoviste"]
[null,null,null,null,null,null,null,null,null,null,null,null,null,null,"Manasturu Romanesc",null,null,null,null,"Anghel Liviu","Ploiesti"]
[null,null,null,null,null,null,null,null,null,null,null,null,null,null,"Rasca",null,null,null,null,"Anghel Patrick","Voluntari"]
[null,null,null,null,null,null,null,null,null,null,null,null,null,null,"Sanicoara",null,null,null,null,"Anghel Valentin","Voluntari"]
[null,null,null,null,null,null,null,null,null,null,null,null,null,null,"Somesu Rece",null,null,null,null,"Anghel Vlad","Bucuresti"]
[null,null,null,null,null,null,null,null,null,null,null,null,null,null,"Turda",null,null,null,null,"Anghele Cristinel","Galati"]
[null,null,null,null,null,null,null,null,null,null,null,null,null,null,"Viisoara CJ",null,null,null,null,"Angheloni Adrian","Nadrag"]
[null,null,null,null,null,null,null,null,null,null,null,null,null,null,"Calarasi",null,null,null,null,"Anghelus Flavius","Lipova"]
[null,null,null,null,null,null,null,null,null,null,null,null,null,null,"Lehliu Gara",null,null,null,null,"Angi Zoltan","Gheorgheni"]
[null,null,null,null,null,null,null,null,null,null,null,null,null,null,"Oltenita",null,null,null,null,"Anhelov Mihail","Moldova-Vulcanesti"]
[null,null,null,null,null,null,null,null,null,null,null,null,null,null,"Anina",null,null,null,null,"Anhelov Mykhalo","Ucraina"]
[null,null,null,null,null,null,null,null,null,null,null,null,null,null,"Armenis",null,null,null,null,"Ani Cosmin","Popesti CJ"]
[null,null,null,null,null,null,null,null,null,null,null,null,null,null,"Baile Herculane",null,null,null,null,"Anica Andrei","Buzau"]
[null,null,null,null,null,null,null,null,null,null,null,null,null,null,"Berzovia",null,null,null,null,"Ankar Wasim","Timisoara"]
[null,null,null,null,null,null,null,null,null,null,null,null,null,null,"Bocsa",null,null,null,null,"Anoiu Alexandru","Hunedoara"]
[null,null,null,null,null,null,null,null,null,null,null,null,null,null,"Caransebes",null,null,null,null,"Antal Csaba","Miercurea Ciuc"]
[null,null,null,null,null,null,null,null,null,null,null,null,null,null,"Cornea",null,null,null,null,"Antal Laszlo","Miercurea Ciuc"]
[null,null,null,null,null,null,null,null,null,null,null,null,null,null,"Cornereva",null,null,null,null,"Antochi Iulian","Tamaseni"]
[null,null,null,null,null,null,null,null,null,null,null,null,null,null,"Gradinari",null,null,null,null,"Anton Calin","Sibiu"]
[null,null,null,null,null,null,null,null,null,null,null,null,null,null,"Moldova Noua",null,null,null,null,"Anton Cristian","Tulcea"]
[null,null,null,null,null,null,null,null,null,null,null,null,null,null,"Oravita",null,null,null,null,"Anton Dragos","Focsani"]
[null,null,null,null,null,null,null,null,null,null,null,null,null,null,"Otelu Rosu",null,null,null,null,"Anton Viorel","Barlad"]
[null,null,null,null,null,null,null,null,null,null,null,null,null,null,"Plugova",null,null,null,null,"Antonas Cristian","Dorohoi"]
[null,null,null,null,null,null,null,null,null,null,null,null,null,null,"Resita",null,null,null,null,"Antonescu Dan","Bucuresti"]
[null,null,null,null,null,null,null,null,null,null,null,null,null,null,"Sacu",null,null,null,null,"Antonescu Nicolae","Pitesti"]
[null,null,null,null,null,null,null,null,null,null,null,null,null,null,"Slatina Nera",null,null,null,null,"Antonie Matei","Slatina"]
[null,null,null,null,null,null,null,null,null,null,null,null,null,null,"Teregova",null,null,null,null,"Antonya Csaba","Brasov"]
[null,null,null,null,null,null,null,null,null,null,null,null,null,null,"Cernavoda",null,null,null,null,"Aparaschive Iulian","Botosani"]
[null,null,null,null,null,null,null,null,null,null,null,null,null,null,"Cobadin",null,null,null,null,"Aparaschive Paul","Botosani"]
[null,null,null,null,null,null,null,null,null,null,null,null,null,null,"Constanta",null,null,null,null,"Aparaschivei Bogdan","Iasi"]
[null,null,null,null,null,null,null,null,null,null,null,null,null,null,"Costinesti",null,null,null,null,"Aparaschivei Marcel","Botosani"]
[null,null,null,null,null,null,null,null,null,null,null,null,null,null,"Eforie",null,null,null,null,"Apatachioae Augustin","Paunesti"]
[null,null,null,null,null,null,null,null,null,null,null,null,null,null,"Hurezani",null,null,null,null,"Apatiei Andrei","Botosani"]
[null,null,null,null,null,null,null,null,null,null,null,null,null,null,"Lazu",null,null,null,null,"Apetrei Constantin","Iasi"]
[null,null,null,null,null,null,null,null,null,null,null,null,null,null,"Lumina",null,null,null,null,"Apian Florin","Bistrita"]
[null,null,null,null,null,null,null,null,null,null,null,null,null,null,"Mamaia",null,null,null,null,"Apostoaiei Andrei","Bucuresti"]
[null,null,null,null,null,null,null,null,null,null,null,null,null,null,"Mangalia",null,null,null,null,"Apostol Cristian","Bucuresti"]
[null,null,null,null,null,null,null,null,null,null,null,null,null,null,"Medgidia",null,null,null,null,"Apostol Ionut","Cluj Napoca"]
[null,null,null,null,null,null,null,null,null,null,null,null,null,null,"Mihail Kogalniceanu",null,null,null,null,"Apostol Leonard","Alexandria"]
[null,null,null,null,null,null,null,null,null,null,null,null,null,null,"Murfatlar",null,null,null,null,"Apostol Stefan Leonard","Alexandria"]
[null,null,null,null,null,null,null,null,null,null,null,null,null,null,"Navodari",null,null,null,null,"Apostol Valentin","Alexandria"]
[null,null,null,null,null,null,null,null,null,null,null,null,null,null,"Poiana Teiului",null,null,null,null,"Apostu Marius","Galati"]
[null,null,null,null,null,null,null,null,null,null,null,null,null,null,"Techirghiol",null,null,null,null,"Apreotesei Alex","Piatra Neamt"]
[null,null,null,null,null,null,null,null,null,null,null,null,null,null,"Valul lui Traian",null,null,null,null,"Aprodu Lucian","Bacau"]
[null,null,null,null,null,null,null,null,null,null,null,null,null,null,"Aita Mare",null,null,null,null,"Aprodu Mircea","Bacau"]
[null,null,null,null,null,null,null,null,null,null,null,null,null,null,"Baraolt",null,null,null,null,"Arabadji Iurie","Iasi"]
[null,null,null,null,null,null,null,null,null,null,null,null,null,null,"Batanii Mari",null,null,null,null,"Arabagiu Marius","Bucuresti"]
[null,null,null,null,null,null,null,null,null,null,null,null,null,null,"Bixad",null,null,null,null,"Arama Ciprian","Buhusi"]
[null,null,null,null,null,null,null,null,null,null,null,null,null,null,"Bretcu",null,null,null,null,"Arama Gicu","Braila"]
[null,null,null,null,null,null,null,null,null,null,null,null,null,null,"Calnic",null,null,null,null,"Arcusa Aliona","Ucraina-Umani"]
[null,null,null,null,null,null,null,null,null,null,null,null,null,null,"Capeni",null,null,null,null,"Arcusa Andrei","Ucraina-Umani"]
[null,null,null,null,null,null,null,null,null,null,null,null,null,null,"Covasna",null,null,null,null,"Arcusa Dmitrii","Ucraina-Umani"]
[null,null,null,null,null,null,null,null,null,null,null,null,null,null,"Estelnic",null,null,null,null,"Ardelean Alex","Ineu"]
[null,null,null,null,null,null,null,null,null,null,null,null,null,null,"Micfalau",null,null,null,null,"Ardelean Ovidiu","Zalau"]
[null,null,null,null,null,null,null,null,null,null,null,null,null,null,"Moacsa",null,null,null,null,"Ardelean Raul","Lipova"]
[null,null,null,null,null,null,null,null,null,null,null,null,null,null,"Olteni",null,null,null,null,"Ardelean Stefan","Dumbravita"]
[null,null,null,null,null,null,null,null,null,null,null,null,null,null,"Racosu de Sus",null,null,null,null,"Ardeleanu Bogdan","Resita"]
[null,null,null,null,null,null,null,null,null,null,null,null,null,null,"Santionlunca",null,null,null,null,"Ardeleanu Marcel","Focsani"]
[null,null,null,null,null,null,null,null,null,null,null,null,null,null,"Sanzieni",null,null,null,null,"Ardeljan Marinel","Varset"]
[null,null,null,null,null,null,null,null,null,null,null,null,null,null,"Sfantu Gheorghe",null,null,null,null,"Aresan David","Bistrita"]
[null,null,null,null,null,null,null,null,null,null,null,null,null,null,"Targu Secuiesc",null,null,null,null,"Argesanu David","Barlad"]
[null,null,null,null,null,null,null,null,null,null,null,null,null,null,"Valea Scurta",null,null,null,null,"Argesanu Johnny","Barlad"]
[null,null,null,null,null,null,null,null,null,null,null,null,null,null,"Varghis",null,null,null,null,"Arhip George","Botosani"]
[null,null,null,null,null,null,null,null,null,null,null,null,null,null,"Zabala",null,null,null,null,"Ariciu George","Cocorastii Mislii"]
[null,null,null,null,null,null,null,null,null,null,null,null,null,null,"Branesti DB",null,null,null,null,"Arimia Constantin","Azuga"]
[null,null,null,null,null,null,null,null,null,null,null,null,null,null,"Bucsani",null,null,null,null,"Armanu Cristian","Bucuresti"]
[null,null,null,null,null,null,null,null,null,null,null,null,null,null,"Caprioru DB",null,null,null,null,"Armanu Razvan","Bucuresti"]
[null,null,null,null,null,null,null,null,null,null,null,null,null,null,"Caragiale DB",null,null,null,null,"Armene Ionel","Barlad"]
[null,null,null,null,null,null,null,null,null,null,null,null,null,null,"Cobia",null,null,null,null,"Arnaut Alexandr","Moldova-Avdarma"]
[null,null,null,null,null,null,null,null,null,null,null,null,null,null,"Contesti",null,null,null,null,"Aron Darie","Sibiu"]
[null,null,null,null,null,null,null,null,null,null,null,null,null,null,"Darmanesti",null,null,null,null,"Aron Razvan","Fenes"]
[null,null,null,null,null,null,null,null,null,null,null,null,null,null,"Doicesti",null,null,null,null,"Aron Valentin","Fenes"]
[null,null,null,null,null,null,null,null,null,null,null,null,null,null,"Dragomiresti DB",null,null,null,null,"Arovich Laszlo","Ucraina"]
[null,null,null,null,null,null,null,null,null,null,null,null,null,null,"Fieni",null,null,null,null,"Arseni Mihai","Moinesti"]
[null,null,null,null,null,null,null,null,null,null,null,null,null,null,"Gaesti",null,null,null,null,"Arteni Sergiu","Bucuresti"]
[null,null,null,null,null,null,null,null,null,null,null,null,null,null,"Glodeni",null,null,null,null,"Asmarandei Petru","Constanta"]
[null,null,null,null,null,null,null,null,null,null,null,null,null,null,"Gura Sutii",null,null,null,null,"Astanoaiei Adrian","Arad"]
[null,null,null,null,null,null,null,null,null,null,null,null,null,null,"Iedera",null,null,null,null,"Astefanoaie Bogdan","Pascani"]
[null,null,null,null,null,null,null,null,null,null,null,null,null,null,"Lucieni",null,null,null,null,"Astefanoaie David","Pascani"]
[null,null,null,null,null,null,null,null,null,null,null,null,null,null,"Moreni",null,null,null,null,"Asteleanu Lucian","Cluj Napoca"]
[null,null,null,null,null,null,null,null,null,null,null,null,null,null,"Motaieni",null,null,null,null,"Atanasiu Alexone","Arad"]
[null,null,null,null,null,null,null,null,null,null,null,null,null,null,"Ocnita",null,null,null,null,"Atasiei Bogdan","Floresti"]
[null,null,null,null,null,null,null,null,null,null,null,null,null,null,"Poiana",null,null,null,null,"Atomei Armand","Piatra Neamt"]
[null,null,null,null,null,null,null,null,null,null,null,null,null,null,"Produlesti",null,null,null,null,"Aurica Gabriel","Tecuci"]
[null,null,null,null,null,null,null,null,null,null,null,null,null,null,"Pucioasa",null,null,null,null,"Avadanei Maria","Cluj Napoca"]
[null,null,null,null,null,null,null,null,null,null,null,null,null,null,"Racari",null,null,null,null,"Avadanoaei Petuel","Bucuresti"]
[null,null,null,null,null,null,null,null,null,null,null,null,null,null,"Raul Alb",null,null,null,null,"Avram Alexandru","Brasov"]
[null,null,null,null,null,null,null,null,null,null,null,null,null,null,"Razvad",null,null,null,null,"Avram Alexandru","Dumbraveni SB"]
[null,null,null,null,null,null,null,null,null,null,null,null,null,null,"Sotanga",null,null,null,null,"Avram Antonio","Pitesti"]
[null,null,null,null,null,null,null,null,null,null,null,null,null,null,"Targoviste",null,null,null,null,"Avram Bogdan","Iasi"]
[null,null,null,null,null,null,null,null,null,null,null,null,null,null,"Tatarani",null,null,null,null,"Avram Iancu","Petrosani"]
[null,null,null,null,null,null,null,null,null,null,null,null,null,null,"Titu",null,null,null,null,"Avram Ionut","Galati"]
[null,null,null,null,null,null,null,null,null,null,null,null,null,null,"Ulmi",null,null,null,null,"Avram Marian","Alexandria"]
[null,null,null,null,null,null,null,null,null,null,null,null,null,null,"Vacaresti",null,null,null,null,"Avram Marius","Pitesti"]
[null,null,null,null,null,null,null,null,null,null,null,null,null,null,"Valea Voievozilor",null,null,null,null,"Avram Matei","Barcea"]
[null,null,null,null,null,null,null,null,null,null,null,null,null,null,"Vulcana Bai",null,null,null,null,"Avram Mihai","Sibiu"]
[null,null,null,null,null,null,null,null,null,null,null,null,null,null,"Vulcana Pandele",null,null,null,null,"Avram Nicolae","Nedelea"]
[null,null,null,null,null,null,null,null,null,null,null,null,null,null,"Amarastii de Sus",null,null,null,null,"Avram Radu","Tarnaveni"]
[null,null,null,null,null,null,null,null,null,null,null,null,null,null,"Bailesti",null,null,null,null,"Avram Razvan","Focsani"]
[null,null,null,null,null,null,null,null,null,null,null,null,null,null,"Calafat",null,null,null,null,"Avram Victor","Arad"]
[null,null,null,null,null,null,null,null,null,null,null,null,null,null,"Cerat",null,null,null,null,"Avramescu Bogdan","Bucuresti"]
[null,null,null,null,null,null,null,null,null,null,null,null,null,null,"Craiova",null,null,null,null,"Avramescu Claudiu","Bucuresti"]
[null,null,null,null,null,null,null,null,null,null,null,null,null,null,"Dabuleni",null,null,null,null,"Avramia Dan","Oniceni"]
[null,null,null,null,null,null,null,null,null,null,null,null,null,null,"Gighera",null,null,null,null,"Avronova Eva","Moldova-Balti"]
[null,null,null,null,null,null,null,null,null,null,null,null,null,null,"Leu",null,null,null,null,"Axinte Tiberius","Iasi"]
[null,null,null,null,null,null,null,null,null,null,null,null,null,null,"Piscul Vechi",null,null,null,null,"Babadac Patricia","Slatina"]
[null,null,null,null,null,null,null,null,null,null,null,null,null,null,"Plenita DJ",null,null,null,null,"Babalean Sebastian","Galanesti"]
[null,null,null,null,null,null,null,null,null,null,null,null,null,null,"Segarcea",null,null,null,null,"Babes Razvan","Brasov"]
[null,null,null,null,null,null,null,null,null,null,null,null,null,null,"Motru",null,null,null,null,"Babes Robin","Brasov"]
[null,null,null,null,null,null,null,null,null,null,null,null,null,null,"Novaci",null,null,null,null,"Babos Ioan","Sarmasag"]
[null,null,null,null,null,null,null,null,null,null,null,null,null,null,"Rovinari",null,null,null,null,"Baburea Alexandru Ionut","Alexandria"]
[null,null,null,null,null,null,null,null,null,null,null,null,null,null,"Targu Carbunesti",null,null,null,null,"Baburea Alexandru Ionut","Alexandria"]
[null,null,null,null,null,null,null,null,null,null,null,null,null,null,"Targu Jiu",null,null,null,null,"Baca Stefan","Bucuresti"]
[null,null,null,null,null,null,null,null,null,null,null,null,null,null,"Telesti",null,null,null,null,"Bacain Marian","Calarasi"]
[null,null,null,null,null,null,null,null,null,null,null,null,null,null,"Tismana",null,null,null,null,"Bacanu Paulian","Brasov"]
[null,null,null,null,null,null,null,null,null,null,null,null,null,null,"Barcea",null,null,null,null,"Baceanu Adrian","Slobozia"]
[null,null,null,null,null,null,null,null,null,null,null,null,null,null,"Certesti",null,null,null,null,"Baceanu Constantin","Buzau"]
[null,null,null,null,null,null,null,null,null,null,null,null,null,null,"Corod",null,null,null,null,"Baciu Adrian","Pascani"]
[null,null,null,null,null,null,null,null,null,null,null,null,null,null,"Cosmesti",null,null,null,null,"Baciu Adrian","Giarmata"]
[null,null,null,null,null,null,null,null,null,null,null,null,null,null,"Draganesti",null,null,null,null,"Baciu Alexandru","Giarmata"]
[null,null,null,null,null,null,null,null,null,null,null,null,null,null,"Galati",null,null,null,null,"Baciu Gabriel","Tarnaveni"]
[null,null,null,null,null,null,null,null,null,null,null,null,null,null,"Matca",null,null,null,null,"Baciu Stefan","Mioveni"]
[null,null,null,null,null,null,null,null,null,null,null,null,null,null,"Tecuci",null,null,null,null,"Bacosca Catalin","Sabaoani"]
[null,null,null,null,null,null,null,null,null,null,null,null,null,null,"Umbraresti",null,null,null,null,"Badalan Adina","Drobeta Tr Severin"]
[null,null,null,null,null,null,null,null,null,null,null,null,null,null,"Giurgiu",null,null,null,null,"Badaluta Marian","Vatra Dornei"]
[null,null,null,null,null,null,null,null,null,null,null,null,null,null,"Novaci GR",null,null,null,null,"Badea Aida","Alesd"]
[null,null,null,null,null,null,null,null,null,null,null,null,null,null,"Baia de Cris",null,null,null,null,"Badea Alexandru","Bucuresti"]
[null,null,null,null,null,null,null,null,null,null,null,null,null,null,"Brad",null,null,null,null,"Badea Catalin","Dumbravita"]
[null,null,null,null,null,null,null,null,null,null,null,null,null,null,"Calan",null,null,null,null,"Badea Cristian","Calarasi"]
[null,null,null,null,null,null,null,null,null,null,null,null,null,null,"Cristur",null,null,null,null,"Badea Daniel","Targoviste"]
[null,null,null,null,null,null,null,null,null,null,null,null,null,null,"Deva",null,null,null,null,"Badea Ionel","Oltenita"]
[null,null,null,null,null,null,null,null,null,null,null,null,null,null,"Geoagiu",null,null,null,null,"Badea Ionut","Bucuresti"]
[null,null,null,null,null,null,null,null,null,null,null,null,null,null,"Hateg",null,null,null,null,"Badea Marian","Buftea"]
[null,null,null,null,null,null,null,null,null,null,null,null,null,null,"Hunedoara",null,null,null,null,"Badea Mihai","Targoviste"]
[null,null,null,null,null,null,null,null,null,null,null,null,null,null,"Ilia",null,null,null,null,"Badea Stefan","Targoviste"]
[null,null,null,null,null,null,null,null,null,null,null,null,null,null,"Lupeni",null,null,null,null,"Badelita Ovidiu","Suceava"]
[null,null,null,null,null,null,null,null,null,null,null,null,null,null,"Mintia",null,null,null,null,"Badescu Andrei","Bucuresti"]
[null,null,null,null,null,null,null,null,null,null,null,null,null,null,"Orastie",null,null,null,null,"Badescu Lucian","Oradea"]
[null,null,null,null,null,null,null,null,null,null,null,null,null,null,"Petrila",null,null,null,null,"Badescu Stefan","Campulung Muscel"]
[null,null,null,null,null,null,null,null,null,null,null,null,null,null,"Petrosani",null,null,null,null,"Badescu Tudor","Cluj Napoca"]
[null,null,null,null,null,null,null,null,null,null,null,null,null,null,"Sebes",null,null,null,null,"Badescu Vicentiu","Campulung Muscel"]
[null,null,null,null,null,null,null,null,null,null,null,null,null,null,"Simeria",null,null,null,null,"Badiu Gavril","Rasca"]
[null,null,null,null,null,null,null,null,null,null,null,null,null,null,"Sugag",null,null,null,null,"Badiu Neculaie","Braila"]
[null,null,null,null,null,null,null,null,null,null,null,null,null,null,"Tampa",null,null,null,null,"Badiu Patricia","Floresti"]
[null,null,null,null,null,null,null,null,null,null,null,null,null,null,"Uricani",null,null,null,null,"Badulescu Eduard","Bucuresti"]
[null,null,null,null,null,null,null,null,null,null,null,null,null,null,"Vulcan",null,null,null,null,"Badulescu Rafael","Giurgiu"]
[null,null,null,null,null,null,null,null,null,null,null,null,null,null,"Baile Tusnad",null,null,null,null,"Badulescu Teodor","Ramnicu Valcea"]
[null,null,null,null,null,null,null,null,null,null,null,null,null,null,"Balan",null,null,null,null,"Baiburi Levent","Tulcea"]
[null,null,null,null,null,null,null,null,null,null,null,null,null,null,"Borsec",null,null,null,null,"Baican Alexandru","Bucuresti"]
[null,null,null,null,null,null,null,null,null,null,null,null,null,null,"Bradesti",null,null,null,null,"Baican Cristian","Cluj Napoca"]
[null,null,null,null,null,null,null,null,null,null,null,null,null,null,"Ciceu",null,null,null,null,"Baicu Andrei","Sinaia"]
[null,null,null,null,null,null,null,null,null,null,null,null,null,null,"Ciumani",null,null,null,null,"Baicu Angelo","Bucuresti"]
[null,null,null,null,null,null,null,null,null,null,null,null,null,null,"Corbu",null,null,null,null,"Baicu Claudiu","Bucuresti"]
[null,null,null,null,null,null,null,null,null,null,null,null,null,null,"Corund",null,null,null,null,"Baicu Cristian","Bucuresti"]
[null,null,null,null,null,null,null,null,null,null,null,null,null,null,"Cristuru Secuiesc",null,null,null,null,"Baidanac Radu","Alexandria"]
[null,null,null,null,null,null,null,null,null,null,null,null,null,null,"Danesti",null,null,null,null,"Baidoc Marius Ionut","Zalau"]
[null,null,null,null,null,null,null,null,null,null,null,null,null,null,"Dealu",null,null,null,null,"Baidoc Sergiu","Zalau"]
[null,null,null,null,null,null,null,null,null,null,null,null,null,null,"Ditrau",null,null,null,null,"Baies Daniel","Sibiu"]
[null,null,null,null,null,null,null,null,null,null,null,null,null,null,"Galautas",null,null,null,null,"Bairam Marcel","Harsova"]
[null,null,null,null,null,null,null,null,null,null,null,null,null,null,"Gheorgheni",null,null,null,null,"Baisan Paul","Roman"]
[null,null,null,null,null,null,null,null,null,null,null,null,null,null,"Ineu HR",null,null,null,null,"Baiu Costel","Iasi"]
[null,null,null,null,null,null,null,null,null,null,null,null,null,null,"Joseni",null,null,null,null,"Baiu Teodor","Brasov"]
[null,null,null,null,null,null,null,null,null,null,null,null,null,null,"Lazarea",null,null,null,null,"Bajko Attila","Sfantu Gheorghe"]
[null,null,null,null,null,null,null,null,null,null,null,null,null,null,"Lueta Hr",null,null,null,null,"Bajko Daniel","Sarmas"]
[null,null,null,null,null,null,null,null,null,null,null,null,null,null,"Lunca de Sus",null,null,null,null,"Bajko Tamas","Targu Secuiesc"]
[null,null,null,null,null,null,null,null,null,null,null,null,null,null,"Miercurea Ciuc",null,null,null,null,"Bakos Miklos","Zrenjanin"]
[null,null,null,null,null,null,null,null,null,null,null,null,null,null,"Odorheiu Secuiesc",null,null,null,null,"Bal Adrian","Gherla"]
[null,null,null,null,null,null,null,null,null,null,null,null,null,null,"Praid",null,null,null,null,"Balaban Adrian","Bucuresti"]
[null,null,null,null,null,null,null,null,null,null,null,null,null,null,"Remetea",null,null,null,null,"Balaban Cosmin","Focsani"]
[null,null,null,null,null,null,null,null,null,null,null,null,null,null,"Sandominic",null,null,null,null,"Balaban Daniel","Bucuresti"]
[null,null,null,null,null,null,null,null,null,null,null,null,null,null,"Sanmartin",null,null,null,null,"Balaban Dumitru","Barlad"]
[null,null,null,null,null,null,null,null,null,null,null,null,null,null,"Sansimion",null,null,null,null,"Balaceanu Iulian","Drobeta Tr Severin"]
[null,null,null,null,null,null,null,null,null,null,null,null,null,null,"Santimbru",null,null,null,null,"Balaceanu Mihai","Drobeta Tr Severin"]
[null,null,null,null,null,null,null,null,null,null,null,null,null,null,"Sarmas",null,null,null,null,"Balaj Cristian","Navodari"]
[null,null,null,null,null,null,null,null,null,null,null,null,null,null,"Siculeni",null,null,null,null,"Balaj Roland","Arad"]
[null,null,null,null,null,null,null,null,null,null,null,null,null,null,"Subcetate",null,null,null,null,"Balan Andrei Tiberiu","Timisoara"]
[null,null,null,null,null,null,null,null,null,null,null,null,null,null,"Suseni",null,null,null,null,"Balan Codrin","Bucuresti"]
[null,null,null,null,null,null,null,null,null,null,null,null,null,null,"Tomesti",null,null,null,null,"Balan Cristian","Tecuci"]
[null,null,null,null,null,null,null,null,null,null,null,null,null,null,"Toplita",null,null,null,null,"Balan David Andrei","Targu Jiu"]
[null,null,null,null,null,null,null,null,null,null,null,null,null,null,"Valea Stramba",null,null,null,null,"Balan Ionel","Calarasi"]
[null,null,null,null,null,null,null,null,null,null,null,null,null,null,"Vlahita",null,null,null,null,"Balan Liviu","Tecuci"]
[null,null,null,null,null,null,null,null,null,null,null,null,null,null,"Zetea",null,null,null,null,"Balan Mihai","Ploiesti"]
[null,null,null,null,null,null,null,null,null,null,null,null,null,null,"Balotesti",null,null,null,null,"Balan Norocel","Bucuresti"]
[null,null,null,null,null,null,null,null,null,null,null,null,null,null,"Berceni",null,null,null,null,"Balan Sebastian","Bucuresti"]
[null,null,null,null,null,null,null,null,null,null,null,null,null,null,"Bragadiru",null,null,null,null,"Balan Viorel","Bistrita"]
[null,null,null,null,null,null,null,null,null,null,null,null,null,null,"Branesti",null,null,null,null,"Balanean Andrei","Sibiu"]
[null,null,null,null,null,null,null,null,null,null,null,null,null,null,"Buftea",null,null,null,null,"Balanean David","Zalau"]
[null,null,null,null,null,null,null,null,null,null,null,null,null,null,"Cernica",null,null,null,null,"Balanean Florin","Sibiu"]
[null,null,null,null,null,null,null,null,null,null,null,null,null,null,"Chiajna",null,null,null,null,"Balanescu Boby","Ploiesti"]
[null,null,null,null,null,null,null,null,null,null,null,null,null,null,"Chitila",null,null,null,null,"Balasa Adrian","Alexandria"]
[null,null,null,null,null,null,null,null,null,null,null,null,null,null,"Dobroesti",null,null,null,null,"Balasa Andrei","Bucuresti"]
[null,null,null,null,null,null,null,null,null,null,null,null,null,null,"Ilfov",null,null,null,null,"Balasa Mihai","Sibiu"]
[null,null,null,null,null,null,null,null,null,null,null,null,null,null,"Mogosoaia",null,null,null,null,"Balasa Nicolae","Spania"]
[null,null,null,null,null,null,null,null,null,null,null,null,null,null,"Otopeni",null,null,null,null,"Balasescu Ionut","Campina"]
[null,null,null,null,null,null,null,null,null,null,null,null,null,null,"Peris",null,null,null,null,"Balasoiu Liviu","Novaci"]
[null,null,null,null,null,null,null,null,null,null,null,null,null,null,"Popesti Leordeni",null,null,null,null,"Balasoiu Maria","Novaci"]
[null,null,null,null,null,null,null,null,null,null,null,null,null,null,"Stefanestii de Jos",null,null,null,null,"Balauca Cornel","Botosani"]
[null,null,null,null,null,null,null,null,null,null,null,null,null,null,"Voluntari",null,null,null,null,"Balauca Daniel","Constanta"]
[null,null,null,null,null,null,null,null,null,null,null,null,null,null,"Amara",null,null,null,null,"Balazs Anna","Toplita"]
[null,null,null,null,null,null,null,null,null,null,null,null,null,null,"Fetesti",null,null,null,null,"Balazs Imre Florin","Apahida"]
[null,null,null,null,null,null,null,null,null,null,null,null,null,null,"Movila",null,null,null,null,"Balcan Gigi","Buhusi"]
[null,null,null,null,null,null,null,null,null,null,null,null,null,null,"Ograda",null,null,null,null,"Balcu Laurentiu","Bocsa"]
[null,null,null,null,null,null,null,null,null,null,null,null,null,null,"Slobozia",null,null,null,null,"Baldan Andrei","Cluj Napoca"]
[null,null,null,null,null,null,null,null,null,null,null,null,null,null,"Urziceni",null,null,null,null,"Baldan Eric","Cluj Napoca"]
[null,null,null,null,null,null,null,null,null,null,null,null,null,null,"Braesti",null,null,null,null,"Baldan Ioana","Cluj Napoca"]
[null,null,null,null,null,null,null,null,null,null,null,null,null,null,"Halaucesti",null,null,null,null,"Baldea Horia","Bucuresti"]
[null,null,null,null,null,null,null,null,null,null,null,null,null,null,"Husi",null,null,null,null,"Balhuc Rares","Halaucesti"]
[null,null,null,null,null,null,null,null,null,null,null,null,null,null,"Iasi",null,null,null,null,"Balici Aurel","Radauti"]
[null,null,null,null,null,null,null,null,null,null,null,null,null,null,"Lespezi",null,null,null,null,"Balint Andrei","Reghin"]
[null,null,null,null,null,null,null,null,null,null,null,null,null,null,"Mogosesti",null,null,null,null,"Balint Doru","Alesd"]
[null,null,null,null,null,null,null,null,null,null,null,null,null,null,"Pascani",null,null,null,null,"Balla Peter","Toplita"]
[null,null,null,null,null,null,null,null,null,null,null,null,null,null,"Stolniceni",null,null,null,null,"Balllo Szabolcs","Miercurea Ciuc"]
[null,null,null,null,null,null,null,null,null,null,null,null,null,null,"Targu Frumos",null,null,null,null,"Balog Mihai","Timisoara"]
[null,null,null,null,null,null,null,null,null,null,null,null,null,null,"Todiresti",null,null,null,null,"Balogh Attila","Oradea"]
[null,null,null,null,null,null,null,null,null,null,null,null,null,null,"Drobeta Tr Severin",null,null,null,null,"Baloi Silviu","Alexandria"]
[null,null,null,null,null,null,null,null,null,null,null,null,null,null,"Orsova",null,null,null,null,"Baltat Sebastian","Arad"]
[null,null,null,null,null,null,null,null,null,null,null,null,null,null,"Baia Mare",null,null,null,null,"Baltateanu Cezar","Brasov"]
[null,null,null,null,null,null,null,null,null,null,null,null,null,null,"Baia Sprie",null,null,null,null,"Baltatu Eduard Laurentiu","Bucuresti"]
[null,null,null,null,null,null,null,null,null,null,null,null,null,null,"Bogdan Voda",null,null,null,null,"Baltatu Marius","Pitesti"]
[null,null,null,null,null,null,null,null,null,null,null,null,null,null,"Campulung la Tisa",null,null,null,null,"Baltes Ovidiu","Ocna Sibiului"]
[null,null,null,null,null,null,null,null,null,null,null,null,null,null,"Cavnic",null,null,null,null,"Baluta George","Tulcea"]
[null,null,null,null,null,null,null,null,null,null,null,null,null,null,"Desesti",null,null,null,null,"Baluta Silviu","Bucuresti"]
[null,null,null,null,null,null,null,null,null,null,null,null,null,null,"Sacel",null,null,null,null,"Baluta Vlad","Buhusi"]
[null,null,null,null,null,null,null,null,null,null,null,null,null,null,"Sapanta",null,null,null,null,"Ban Adrian Florin","Lugoj"]
[null,null,null,null,null,null,null,null,null,null,null,null,null,null,"Seini",null,null,null,null,"Banaseanu Dorin","Alexandria"]
[null,null,null,null,null,null,null,null,null,null,null,null,null,null,"Sighetu Marmatiei",null,null,null,null,"Banceanu Radu","Hunedoara"]
[null,null,null,null,null,null,null,null,null,null,null,null,null,null,"Somcuta Mare",null,null,null,null,"Banciu Cristian","Buzau"]
[null,null,null,null,null,null,null,null,null,null,null,null,null,null,"Targu Lapus",null,null,null,null,"Banea Radu","Sibiu"]
[null,null,null,null,null,null,null,null,null,null,null,null,null,null,"Viseu",null,null,null,null,"Banescu Dragos","Pitesti"]
[null,null,null,null,null,null,null,null,null,null,null,null,null,null,"Viseu de Sus",null,null,null,null,"Bank Vadim","Bucuresti"]
[null,null,null,null,null,null,null,null,null,null,null,null,null,null,"Albesti",null,null,null,null,"Bantush Mihaela","Moldova-Cahul"]
[null,null,null,null,null,null,null,null,null,null,null,null,null,null,"Bagaciu",null,null,null,null,"Banu Dan","Ploiesti"]
[null,null,null,null,null,null,null,null,null,null,null,null,null,null,"Batos",null,null,null,null,"Banu Florentin","Timisoara"]
[null,null,null,null,null,null,null,null,null,null,null,null,null,null,"Bordosiu",null,null,null,null,"Banulescu Cristian","Brasov"]
[null,null,null,null,null,null,null,null,null,null,null,null,null,null,"Brancovenesti",null,null,null,null,"Banuta Dumitru","Ploiesti"]
[null,null,null,null,null,null,null,null,null,null,null,null,null,null,"Chibed",null,null,null,null,"Bara Natanael","Oradea"]
[null,null,null,null,null,null,null,null,null,null,null,null,null,null,"Corunca",null,null,null,null,"Bara Radu","Floresti"]
[null,null,null,null,null,null,null,null,null,null,null,null,null,null,"Deda",null,null,null,null,"Bara Titus","Oradea"]
[null,null,null,null,null,null,null,null,null,null,null,null,null,null,"Ernei",null,null,null,null,"Barabancea Lili","Iasi"]
[null,null,null,null,null,null,null,null,null,null,null,null,null,null,"Fantanele",null,null,null,null,"Barabas Ivan","Moldova-Tvardita"]
[null,null,null,null,null,null,null,null,null,null,null,null,null,null,"Ghindari",null,null,null,null,"Barabas Victor","Suceava"]
[null,null,null,null,null,null,null,null,null,null,null,null,null,null,"Gornesti",null,null,null,null,"Barac Marius","Sibiu"]
[null,null,null,null,null,null,null,null,null,null,null,null,null,null,"Hodosa",null,null,null,null,"Baragan Vladimir","Moldova-Cahul"]
[null,null,null,null,null,null,null,null,null,null,null,null,null,null,"Laslea",null,null,null,null,"Baran Virgil","Bucuresti"]
[null,null,null,null,null,null,null,null,null,null,null,null,null,null,"Ludus",null,null,null,null,"Barascu Andrei","Suceava"]
[null,null,null,null,null,null,null,null,null,null,null,null,null,null,"Maioresti",null,null,null,null,"Barban Alexandr","Moldova-Cazaclia"]
[null,null,null,null,null,null,null,null,null,null,null,null,null,null,"Miercurea Nirajului",null,null,null,null,"Barban Ivan","Moldova-Cazaclia"]
[null,null,null,null,null,null,null,null,null,null,null,null,null,null,"Ocna Mures",null,null,null,null,"Barbinta Dan","Zalau"]
[null,null,null,null,null,null,null,null,null,null,null,null,null,null,"Rastolita",null,null,null,null,"Barboiu Adrian","Curtea de Arges"]
[null,null,null,null,null,null,null,null,null,null,null,null,null,null,"Reghin",null,null,null,null,"Barbos Florin","Bistrita"]
[null,null,null,null,null,null,null,null,null,null,null,null,null,null,"Sangeorgiu de Padure",null,null,null,null,"Barbu Alexandru","Bucuresti"]
[null,null,null,null,null,null,null,null,null,null,null,null,null,null,"Sanpaul",null,null,null,null,"Barbu Cristian","Maneciu"]
[null,null,null,null,null,null,null,null,null,null,null,null,null,null,"Sighisoara",null,null,null,null,"Barbu Dan","Cluj Napoca"]
[null,null,null,null,null,null,null,null,null,null,null,null,null,null,"Sovata",null,null,null,null,"Barbu Daniel","Buftea"]
[null,null,null,null,null,null,null,null,null,null,null,null,null,null,"Stanceni",null,null,null,null,"Barbu Denis","Bucuresti"]
[null,null,null,null,null,null,null,null,null,null,null,null,null,null,"Targu Mures",null,null,null,null,"Barbu Dorin","Constanta"]
[null,null,null,null,null,null,null,null,null,null,null,null,null,null,"Tarnaveni",null,null,null,null,"Barbu Marian","Alexandria"]
[null,null,null,null,null,null,null,null,null,null,null,null,null,null,"Topa",null,null,null,null,"Barbu Sara","Constanta"]
[null,null,null,null,null,null,null,null,null,null,null,null,null,null,"Vanatori",null,null,null,null,"Barbu Tiberiu","Deva"]
[null,null,null,null,null,null,null,null,null,null,null,null,null,null,"Alexandru cel Bun",null,null,null,null,"Barbulescu Dan","Sibiu"]
[null,null,null,null,null,null,null,null,null,null,null,null,null,null,"Bicaz",null,null,null,null,"Barbus David","Luna de Sus"]
[null,null,null,null,null,null,null,null,null,null,null,null,null,null,"Garcina",null,null,null,null,"Barbuta Ioan","Dej"]
[null,null,null,null,null,null,null,null,null,null,null,null,null,null,"Gheraesti",null,null,null,null,"Barca George","Pitesti"]
[null,null,null,null,null,null,null,null,null,null,null,null,null,null,"Mircesti",null,null,null,null,"Barcan Adrian","Piatra Neamt"]
[null,null,null,null,null,null,null,null,null,null,null,null,null,null,"Piatra Neamt",null,null,null,null,"Bardan Bogdan","Craiova"]
[null,null,null,null,null,null,null,null,null,null,null,null,null,null,"Roman",null,null,null,null,"Bardas Ioan","Dumbraveni SB"]
[null,null,null,null,null,null,null,null,null,null,null,null,null,null,"Sabaoani",null,null,null,null,"Bardas Mark","Dumbraveni SB"]
[null,null,null,null,null,null,null,null,null,null,null,null,null,null,"Targu Neamt",null,null,null,null,"Bardas Patrick","Dumbraveni SB"]
[null,null,null,null,null,null,null,null,null,null,null,null,null,null,"Tibucani",null,null,null,null,"Bardocz Ferenc","Ditrau"]
[null,null,null,null,null,null,null,null,null,null,null,null,null,null,"Turturesti",null,null,null,null,"Bardos Iosif","Oradea"]
[null,null,null,null,null,null,null,null,null,null,null,null,null,null,"Bals",null,null,null,null,"Bargianu Mario David","Botosani"]
[null,null,null,null,null,null,null,null,null,null,null,null,null,null,"Caracal",null,null,null,null,"Baricz Dezso","Joseni"]
[null,null,null,null,null,null,null,null,null,null,null,null,null,null,"Gostavatu",null,null,null,null,"Barla Catalin","Videle"]
[null,null,null,null,null,null,null,null,null,null,null,null,null,null,"Slatina",null,null,null,null,"Barladeanu Emil","Constanta"]
[null,null,null,null,null,null,null,null,null,null,null,null,null,null,"Aricestii Rahtivani",null,null,null,null,"Barlianu Liviu","Vaslui"]
[null,null,null,null,null,null,null,null,null,null,null,null,null,null,"Azuga",null,null,null,null,"Barna Florin","Blaj"]
[null,null,null,null,null,null,null,null,null,null,null,null,null,null,"Baicoi",null,null,null,null,"Barsa Ioan","Moinesti"]
[null,null,null,null,null,null,null,null,null,null,null,null,null,null,"Barcanesti",null,null,null,null,"Bartha Arpad","Micfalau"]
[null,null,null,null,null,null,null,null,null,null,null,null,null,null,"Batesti",null,null,null,null,"Bartha David","Sovata"]
[null,null,null,null,null,null,null,null,null,null,null,null,null,null,"Blejoi",null,null,null,null,"Bartha Dezso","Sovata"]
[null,null,null,null,null,null,null,null,null,null,null,null,null,null,"Boldesti",null,null,null,null,"Bartha Istvan Zsolt","Aita Mare"]
[null,null,null,null,null,null,null,null,null,null,null,null,null,null,"Boldesti Scaeni",null,null,null,null,"Bartha Lorant","Micfalau"]
[null,null,null,null,null,null,null,null,null,null,null,null,null,null,"Bratasanca",null,null,null,null,"Bartha Nimrod","Oradea"]
[null,null,null,null,null,null,null,null,null,null,null,null,null,null,"Brazi",null,null,null,null,"Bartha Szabolcs Gyula","Targu Mures"]
[null,null,null,null,null,null,null,null,null,null,null,null,null,null,"Breaza",null,null,null,null,"Bartha Zoltan","Oradea"]
[null,null,null,null,null,null,null,null,null,null,null,null,null,null,"Bucov",null,null,null,null,"Bartha Zsolt Attila","Aita Mare"]
[null,null,null,null,null,null,null,null,null,null,null,null,null,null,"Busteni",null,null,null,null,"Bartic Stefan","Mogosesti"]
[null,null,null,null,null,null,null,null,null,null,null,null,null,null,"Calinesti Prahova",null,null,null,null,"Bartos Csongor","Miercurea Ciuc"]
[null,null,null,null,null,null,null,null,null,null,null,null,null,null,"Campina",null,null,null,null,"Batista Lucian","Sibiu"]
[null,null,null,null,null,null,null,null,null,null,null,null,null,null,"Cerasu",null,null,null,null,"Batrinu Florin Andrei Catalin","Alexandria"]
[null,null,null,null,null,null,null,null,null,null,null,null,null,null,"Cocorasti Colt",null,null,null,null,"Batrinu Valentin","Bucuresti"]
[null,null,null,null,null,null,null,null,null,null,null,null,null,null,"Cocorastii Mislii",null,null,null,null,"Bauer Lajos","Targu Mures"]
[null,null,null,null,null,null,null,null,null,null,null,null,null,null,"Comarnic",null,null,null,null,"Bayusz Zoltan","Arad"]
[null,null,null,null,null,null,null,null,null,null,null,null,null,null,"Cornesti",null,null,null,null,"Becleanu Octavian","Bucuresti"]
[null,null,null,null,null,null,null,null,null,null,null,null,null,null,"Cornu",null,null,null,null,"Bectas Igor","Moldova-Hincesti"]
[null,null,null,null,null,null,null,null,null,null,null,null,null,null,"Drajna de Jos",null,null,null,null,"Bedreiga Petrica Alin","Husi"]
[null,null,null,null,null,null,null,null,null,null,null,null,null,null,"Filipestii de Targ",null,null,null,null,"Beganu Mihai","Buzau"]
[null,null,null,null,null,null,null,null,null,null,null,null,null,null,"Gornet",null,null,null,null,"Bege Laszlo","Joseni"]
[null,null,null,null,null,null,null,null,null,null,null,null,null,null,"Gura Vitioarei",null,null,null,null,"Beican Razvan","Bistrita"]
[null,null,null,null,null,null,null,null,null,null,null,null,null,null,"Homoraciu",null,null,null,null,"Bej Ioan","Arad"]
[null,null,null,null,null,null,null,null,null,null,null,null,null,null,"Izvoarele",null,null,null,null,"Bej Sergiu","Arad"]
[null,null,null,null,null,null,null,null,null,null,null,null,null,null,"Lipanesti",null,null,null,null,"Bejan Alexandru","Tecuci"]
[null,null,null,null,null,null,null,null,null,null,null,null,null,null,"Magurele",null,null,null,null,"Bejan Beniamin","Pascani"]
[null,null,null,null,null,null,null,null,null,null,null,null,null,null,"Magureni",null,null,null,null,"Bejan Nicolae","Iasi"]
[null,null,null,null,null,null,null,null,null,null,null,null,null,null,"Maneciu",null,null,null,null,"Bejenariu Andrei","Arghira"]
[null,null,null,null,null,null,null,null,null,null,null,null,null,null,"Marginenii de Jos",null,null,null,null,"Bejinariu Valentin","Iasi"]
[null,null,null,null,null,null,null,null,null,null,null,null,null,null,"Mizil",null,null,null,null,"Bekesi Zsolt","Arad"]
[null,null,null,null,null,null,null,null,null,null,null,null,null,null,"Nedelea",null,null,null,null,"Belba Caius Petrica","Baile Herculane"]
[null,null,null,null,null,null,null,null,null,null,null,null,null,null,"Paulesti",null,null,null,null,"Belea Beniamin","Cajvana"]
[null,null,null,null,null,null,null,null,null,null,null,null,null,null,"Pietrosani",null,null,null,null,"Belea Laurentiu","Galati"]
[null,null,null,null,null,null,null,null,null,null,null,null,null,null,"Ploiesti",null,null,null,null,"Belenesi Istvan","Oradea"]
[null,null,null,null,null,null,null,null,null,null,null,null,null,null,"Ploiestiori",null,null,null,null,"Belgun Ionut","Timisoara"]
[null,null,null,null,null,null,null,null,null,null,null,null,null,null,"Plopeni",null,null,null,null,"Benca Lucian","Balan"]
[null,null,null,null,null,null,null,null,null,null,null,null,null,null,"Plopu",null,null,null,null,"Benchea Celestin","Iasi"]
[null,null,null,null,null,null,null,null,null,null,null,null,null,null,"Predeal Sarari",null,null,null,null,"Benderschi Alexandru","Moldova-Briceni"]
[null,null,null,null,null,null,null,null,null,null,null,null,null,null,"Puchenii Mosneni",null,null,null,null,"Bendescu Matei","Iasi"]
[null,null,null,null,null,null,null,null,null,null,null,null,null,null,"Rafov",null,null,null,null,"Bendris Nicu","Targu Mures"]
[null,null,null,null,null,null,null,null,null,null,null,null,null,null,"Salciile",null,null,null,null,"Bene Alexandru","Cluj Napoca"]
[null,null,null,null,null,null,null,null,null,null,null,null,null,null,"Scorteni",null,null,null,null,"Benedek Alex","Brasov"]
[null,null,null,null,null,null,null,null,null,null,null,null,null,null,"Sinaia",null,null,null,null,"Benga Alin","Targu Jiu"]
[null,null,null,null,null,null,null,null,null,null,null,null,null,null,"Slanic",null,null,null,null,"Benko Istvan","Targu Secuiesc"]
[null,null,null,null,null,null,null,null,null,null,null,null,null,null,"Strejnicu",null,null,null,null,"Benko Jozsef","Reghin"]
[null,null,null,null,null,null,null,null,null,null,null,null,null,null,"Teisani",null,null,null,null,"Benyi Crinel","Tarnaveni"]
[null,null,null,null,null,null,null,null,null,null,null,null,null,null,"Urlati",null,null,null,null,"Berbecanu Andrei","Videle"]
[null,null,null,null,null,null,null,null,null,null,null,null,null,null,"Urleta",null,null,null,null,"Berbecar Alin","Zalau"]
[null,null,null,null,null,null,null,null,null,null,null,null,null,null,"Valcanesti",null,null,null,null,"Berbentea Flavius","Dumbravita"]
[null,null,null,null,null,null,null,null,null,null,null,null,null,null,"Valea Calugareasca",null,null,null,null,"Bercea Alex","Drobeta Tr Severin"]
[null,null,null,null,null,null,null,null,null,null,null,null,null,null,"Valea Plopului",null,null,null,null,"Bercea Darius Marian","Iasi"]
[null,null,null,null,null,null,null,null,null,null,null,null,null,null,"Valenii de Munte",null,null,null,null,"Berchi Ioan","Arad"]
[null,null,null,null,null,null,null,null,null,null,null,null,null,null,"Varbilau",null,null,null,null,"Bercuci Lucian","Navodari"]
[null,null,null,null,null,null,null,null,null,null,null,null,null,null,"Alibunar",null,null,null,null,"Bereczki Peter","Gherla"]
[null,null,null,null,null,null,null,null,null,null,null,null,null,null,"Anglia",null,null,null,null,"Berei Roland","Satu Mare"]
[null,null,null,null,null,null,null,null,null,null,null,null,null,null,"Arandjelovac",null,null,null,null,"Berentan Corneliu Petru","Campulung Mold"]
[null,null,null,null,null,null,null,null,null,null,null,null,null,null,"Armenia",null,null,null,null,"Berescu Gheorghe","Iasi"]
[null,null,null,null,null,null,null,null,null,null,null,null,null,null,"Austria",null,null,null,null,"Berezan Sorin","Vaslui"]
[null,null,null,null,null,null,null,null,null,null,null,null,null,null,"Avdarma",null,null,null,null,"Berezov Stanislav","Moldova-Ceadir-Lunga"]
[null,null,null,null,null,null,null,null,null,null,null,null,null,null,"Balti",null,null,null,null,"Bernea Daniel","Bucuresti"]
[null,null,null,null,null,null,null,null,null,null,null,null,null,null,"Banatski Karlovac",null,null,null,null,"Beschiu Daniel","Sibiu"]
[null,null,null,null,null,null,null,null,null,null,null,null,null,null,"Becej",null,null,null,null,"Besliu Alexandru","Suceava"]
[null,null,null,null,null,null,null,null,null,null,null,null,null,null,"Bela Crkva",null,null,null,null,"Besteala Andrei","Alexandria"]
[null,null,null,null,null,null,null,null,null,null,null,null,null,null,"Belgia",null,null,null,null,"Bialis Nina","Dumbravita"]
[null,null,null,null,null,null,null,null,null,null,null,null,null,null,"Belgrad",null,null,null,null,"Biber Adrian","Iasi"]
[null,null,null,null,null,null,null,null,null,null,null,null,null,null,"Bulgaria",null,null,null,null,"Bica Alexandru","Alesd"]
[null,null,null,null,null,null,null,null,null,null,null,null,null,null,"California",null,null,null,null,"Biciin Alexandru","Faurei"]
[null,null,null,null,null,null,null,null,null,null,null,null,null,null,"Canada",null,null,null,null,"Biciin Mitica","Faurei"]
[null,null,null,null,null,null,null,null,null,null,null,null,null,null,"Cernauti",null,null,null,null,"Bighiu Florin","Tecuci"]
[null,null,null,null,null,null,null,null,null,null,null,null,null,null,"Chisinau",null,null,null,null,"Bigiu Florin","Tecuci"]
[null,null,null,null,null,null,null,null,null,null,null,null,null,null,"Danemarca",null,null,null,null,"Bilibok Csongor","Gheorgheni"]
[null,null,null,null,null,null,null,null,null,null,null,null,null,null,"Elvetia",null,null,null,null,"Bilibok Kristof","Gheorgheni"]
[null,null,null,null,null,null,null,null,null,null,null,null,null,null,"Filipine",null,null,null,null,"Bilt Catalin","Suceava"]
[null,null,null,null,null,null,null,null,null,null,null,null,null,null,"Franta",null,null,null,null,"Bina Eduard","Dumbraveni SB"]
[null,null,null,null,null,null,null,null,null,null,null,null,null,null,"Germania",null,null,null,null,"Binzari Stanislav","Moldova-Balti"]
[null,null,null,null,null,null,null,null,null,null,null,null,null,null,"Ibiza",null,null,null,null,"Biraut Emil","Cluj Napoca"]
[null,null,null,null,null,null,null,null,null,null,null,null,null,null,"Israel",null,null,null,null,"Biris Alexandru","Sighisoara"]
[null,null,null,null,null,null,null,null,null,null,null,null,null,null,"Italia",null,null,null,null,"Birlea Nichita","Moldova-Cahul"]
[null,null,null,null,null,null,null,null,null,null,null,null,null,null,"Japonia",null,null,null,null,"Birloncea Claudiu","Medias"]
[null,null,null,null,null,null,null,null,null,null,null,null,null,null,"Kikinda",null,null,null,null,"Birloncea Mara","Medias"]
[null,null,null,null,null,null,null,null,null,null,null,null,null,null,"Lokve",null,null,null,null,"Biro Attila","Miercurea Ciuc"]
[null,null,null,null,null,null,null,null,null,null,null,null,null,null,"Londra",null,null,null,null,"Biro Attila","Reghin"]
[null,null,null,null,null,null,null,null,null,null,null,null,null,null,"Macedonia",null,null,null,null,"Birtalan Attila","Crasna"]
[null,null,null,null,null,null,null,null,null,null,null,null,null,null,"Malaysia",null,null,null,null,"Birtalan Bence","Sovata"]
[null,null,null,null,null,null,null,null,null,null,null,null,null,null,"Manheim",null,null,null,null,"Birtalan Casian","Dumbraveni SB"]
[null,null,null,null,null,null,null,null,null,null,null,null,null,null,"Moldova",null,null,null,null,"Birtalan Hunor","Sovata"]
[null,null,null,null,null,null,null,null,null,null,null,null,null,null,"New York",null,null,null,null,"Birtalan Laszlo","Oradea"]
[null,null,null,null,null,null,null,null,null,null,null,null,null,null,"Nikolinci",null,null,null,null,"Birtalan Levente","Sovata"]
[null,null,null,null,null,null,null,null,null,null,null,null,null,null,"Nis",null,null,null,null,"Birtalan Robert","Oradea"]
[null,null,null,null,null,null,null,null,null,null,null,null,null,null,"Noua Zeelanda",null,null,null,null,"Bischin Gabriel","Cisnadie"]
[null,null,null,null,null,null,null,null,null,null,null,null,null,null,"Novi Sad",null,null,null,null,"Bisoc Razvan","Sabaoani"]
[null,null,null,null,null,null,null,null,null,null,null,null,null,null,"Odesa",null,null,null,null,"Bistreanu Armand","Bucuresti"]
[null,null,null,null,null,null,null,null,null,null,null,null,null,null,"Odzaci",null,null,null,null,"Bistreanu Petru","Bucuresti"]
[null,null,null,null,null,null,null,null,null,null,null,null,null,null,"Osaka",null,null,null,null,"Bistreanu Sorin","Bucuresti"]
[null,null,null,null,null,null,null,null,null,null,null,null,null,null,"Polonia",null,null,null,null,"Bitoiu Horia","Azuga"]
[null,null,null,null,null,null,null,null,null,null,null,null,null,null,"Pozarevac",null,null,null,null,"Bivolaru Marius","Ploiesti"]
[null,null,null,null,null,null,null,null,null,null,null,null,null,null,"Rusia",null,null,null,null,"Bivolaru Stelian","Targoviste"]
[null,null,null,null,null,null,null,null,null,null,null,null,null,null,"Rusko Selo",null,null,null,null,"Bizau Robin","Chisoda"]
[null,null,null,null,null,null,null,null,null,null,null,null,null,null,"Serbia",null,null,null,null,"Bizo Virgil","Brad"]
[null,null,null,null,null,null,null,null,null,null,null,null,null,null,"Sofia",null,null,null,null,"Bjelanovic Milojko","Nova Varos"]
[null,null,null,null,null,null,null,null,null,null,null,null,null,null,"Spania",null,null,null,null,"Blaboli Dominik","Arad"]
[null,null,null,null,null,null,null,null,null,null,null,null,null,null,"Spantov",null,null,null,null,"Blaga Alexandru","Iasi"]
[null,null,null,null,null,null,null,null,null,null,null,null,null,null,"Suedia",null,null,null,null,"Blaga Daria","Cluj Napoca"]
[null,null,null,null,null,null,null,null,null,null,null,null,null,null,"Transnistria",null,null,null,null,"Blaga Iulian","Deva"]
[null,null,null,null,null,null,null,null,null,null,null,null,null,null,"Ucraina",null,null,null,null,"Blaga Mircea","Simleu Silvaniei"]
[null,null,null,null,null,null,null,null,null,null,null,null,null,null,"Ungaria",null,null,null,null,"Blaga Mircea","Oradea"]
[null,null,null,null,null,null,null,null,null,null,null,null,null,null,"Varset",null,null,null,null,"Blaga Mircea","Alesd"]
[null,null,null,null,null,null,null,null,null,null,null,null,null,null,"Vietnam",null,null,null,null,"Blaga Radu","Zalau"]
[null,null,null,null,null,null,null,null,null,null,null,null,null,null,"Vlajkovac",null,null,null,null,"Blahuta Catalin","Alesd"]
[null,null,null,null,null,null,null,null,null,null,null,null,null,null,"Vojvodinci",null,null,null,null,"Blahuta Luca","Alesd"]
[null,null,null,null,null,null,null,null,null,null,null,null,null,null,"Zrenjanin",null,null,null,null,"Blaj Cristian","Navodari"]
[null,null,null,null,null,null,null,null,null,null,null,null,null,null,"Agnita",null,null,null,null,"Blaj Filip","Iasi"]
[null,null,null,null,null,null,null,null,null,null,null,null,null,null,"Bazna",null,null,null,null,"Blaj Victor","Dumbravita"]
[null,null,null,null,null,null,null,null,null,null,null,null,null,null,"Bradeni",null,null,null,null,"Blehoianu Laurentiu","Galati"]
[null,null,null,null,null,null,null,null,null,null,null,null,null,null,"Cirta",null,null,null,null,"Bleoca Lucas","Tarnaveni"]
[null,null,null,null,null,null,null,null,null,null,null,null,null,null,"Cirtisoara",null,null,null,null,"Bleoca Marius","Tarnaveni"]
[null,null,null,null,null,null,null,null,null,null,null,null,null,null,"Cisnadie",null,null,null,null,"Blidariu Alin","Bucovat"]
[null,null,null,null,null,null,null,null,null,null,null,null,null,null,"Cristian SB",null,null,null,null,"Boaca Danut","Buzau"]
[null,null,null,null,null,null,null,null,null,null,null,null,null,null,"Dumbraveni SB",null,null,null,null,"Boaca Valentin","Branesti"]
[null,null,null,null,null,null,null,null,null,null,null,null,null,null,"Eliseni",null,null,null,null,"Boariu Timofte Danut","Borsec"]
[null,null,null,null,null,null,null,null,null,null,null,null,null,null,"Gura Raului",null,null,null,null,"Boata Edgar","Arad"]
[null,null,null,null,null,null,null,null,null,null,null,null,null,null,"Medias",null,null,null,null,"Bobe Ionel","Faurei"]
[null,null,null,null,null,null,null,null,null,null,null,null,null,null,"Ocna Sibiului",null,null,null,null,"Bobeica Eduard","Focsani"]
[null,null,null,null,null,null,null,null,null,null,null,null,null,null,"Pelisor",null,null,null,null,"Bobeico Igor","Moldova"]
[null,null,null,null,null,null,null,null,null,null,null,null,null,null,"Saliste",null,null,null,null,"Boboc Cosmin","Targu Neamt"]
[null,null,null,null,null,null,null,null,null,null,null,null,null,null,"Selimbar",null,null,null,null,"Boboc Eva","Vatra Dornei"]
[null,null,null,null,null,null,null,null,null,null,null,null,null,null,"Sibiu",null,null,null,null,"Boboc Viorel","Slobozia"]
[null,null,null,null,null,null,null,null,null,null,null,null,null,null,"Tilisca",null,null,null,null,"Bobocea Teodor","Buzau"]
[null,null,null,null,null,null,null,null,null,null,null,null,null,null,"Ban SJ",null,null,null,null,"Bobos Marius","Apahida"]
[null,null,null,null,null,null,null,null,null,null,null,null,null,null,"Borla",null,null,null,null,"Bobu Stefan Minodor","Targu Neamt"]
[null,null,null,null,null,null,null,null,null,null,null,null,null,null,"Cehu Silvaniei",null,null,null,null,"Boca Radu Stefan","Bucuresti"]
[null,null,null,null,null,null,null,null,null,null,null,null,null,null,"Crasna",null,null,null,null,"Boca Roman","Moldova-Balti"]
[null,null,null,null,null,null,null,null,null,null,null,null,null,null,"Ileanda",null,null,null,null,"Boca Timotei","Salcea"]
[null,null,null,null,null,null,null,null,null,null,null,null,null,null,"Jibou",null,null,null,null,"Bocai Marius","Blaj"]
[null,null,null,null,null,null,null,null,null,null,null,null,null,null,"Pericei",null,null,null,null,"Bocaniala Norocel","Bucuresti"]
[null,null,null,null,null,null,null,null,null,null,null,null,null,null,"Sarmasag",null,null,null,null,"Bocea Georgia","Dumbravita"]
[null,null,null,null,null,null,null,null,null,null,null,null,null,null,"Simleu Silvaniei",null,null,null,null,"Bocean Andrei Emanuel","Apahida"]
[null,null,null,null,null,null,null,null,null,null,null,null,null,null,"Somes Odorhei SJ",null,null,null,null,"Boda Horatiu","Sibiu"]
[null,null,null,null,null,null,null,null,null,null,null,null,null,null,"Supuru de jos",null,null,null,null,"Bode Emil","Valcau"]
[null,null,null,null,null,null,null,null,null,null,null,null,null,null,"Surduc",null,null,null,null,"Bodea Aida","Alesd"]
[null,null,null,null,null,null,null,null,null,null,null,null,null,null,"Varsolt",null,null,null,null,"Bodea Cezar","Alesd"]
[null,null,null,null,null,null,null,null,null,null,null,null,null,null,"Zalau",null,null,null,null,"Bodea Flaviu","Simleu Silvaniei"]
[null,null,null,null,null,null,null,null,null,null,null,null,null,null,"Carei",null,null,null,null,"Bodea Tudor","Cluj Napoca"]
[null,null,null,null,null,null,null,null,null,null,null,null,null,null,"Negresti Oas",null,null,null,null,"Bodea Vasile","Panciu"]
[null,null,null,null,null,null,null,null,null,null,null,null,null,null,"Satu Mare",null,null,null,null,"Bodeanu Dan","Bucuresti"]
[null,null,null,null,null,null,null,null,null,null,null,null,null,null,"Tasnad",null,null,null,null,"Bodeanu Mihai","Bucuresti"]
[null,null,null,null,null,null,null,null,null,null,null,null,null,null,"Arbore",null,null,null,null,"Bodin Ion","Tecuci"]
[null,null,null,null,null,null,null,null,null,null,null,null,null,null,"Baia",null,null,null,null,"Bodnar Alexandra Ioana","Vicovu de Sus"]
[null,null,null,null,null,null,null,null,null,null,null,null,null,null,"Baisesti",null,null,null,null,"Bodnar Cosmin","Vicovu de Sus"]
[null,null,null,null,null,null,null,null,null,null,null,null,null,null,"Berchisesti",null,null,null,null,"Bodnar Ioan","Vicovu de Sus"]
[null,null,null,null,null,null,null,null,null,null,null,null,null,null,"Bilca",null,null,null,null,"Bodnari Mircea","Gura Humorului"]
[null,null,null,null,null,null,null,null,null,null,null,null,null,null,"Cajvana",null,null,null,null,"Bodnari Nicolai","Moldova-Balti"]
[null,null,null,null,null,null,null,null,null,null,null,null,null,null,"Calinesti SV",null,null,null,null,"Bodoni Renata","Targu Mures"]
[null,null,null,null,null,null,null,null,null,null,null,null,null,null,"Campeni",null,null,null,null,"Boer Barna","Bordosiu"]
[null,null,null,null,null,null,null,null,null,null,null,null,null,null,"Campulung Mold",null,null,null,null,"Bogatan Marius","Cluj Napoca"]
[null,null,null,null,null,null,null,null,null,null,null,null,null,null,"Capu Codrului",null,null,null,null,"Bogdan Daniel","Sibiu"]
[null,null,null,null,null,null,null,null,null,null,null,null,null,null,"Cosna",null,null,null,null,"Bogdan Marian","Caransebes"]
[null,null,null,null,null,null,null,null,null,null,null,null,null,null,"Dolhasca",null,null,null,null,"Bogdan Raul","Deva"]
[null,null,null,null,null,null,null,null,null,null,null,null,null,null,"Dolhestii Mari",null,null,null,null,"Bogdan Tiberiu","Alexandria"]
[null,null,null,null,null,null,null,null,null,null,null,null,null,null,"Dorna Candrenilor",null,null,null,null,"Bognean Adrian","Delenii"]
[null,null,null,null,null,null,null,null,null,null,null,null,null,null,"Dornesti",null,null,null,null,"Bogza Liviu","Botosani"]
[null,null,null,null,null,null,null,null,null,null,null,null,null,null,"Dumbraveni SV",null,null,null,null,"Bohotineanu Florin","Vaslui"]
[null,null,null,null,null,null,null,null,null,null,null,null,null,null,"Falcau",null,null,null,null,"Bohotineanu Stefan","Vaslui"]
[null,null,null,null,null,null,null,null,null,null,null,null,null,null,"Falticeni",null,null,null,null,"Boian Vlad","Bucuresti"]
[null,null,null,null,null,null,null,null,null,null,null,null,null,null,"Frasin",null,null,null,null,"Boicu Eduard","Vaslui"]
[null,null,null,null,null,null,null,null,null,null,null,null,null,null,"Fratauti",null,null,null,null,"Boicu Gabriel","Vatra Dornei"]
[null,null,null,null,null,null,null,null,null,null,null,null,null,null,"Fratautii Noi",null,null,null,null,"Boicu Liviu","Vatra Dornei"]
[null,null,null,null,null,null,null,null,null,null,null,null,null,null,"Fratautii Vechi",null,null,null,null,"Boicu Victor","Vatra Dornei"]
[null,null,null,null,null,null,null,null,null,null,null,null,null,null,"Galanesti",null,null,null,null,"Boitos Rodica","Oradea"]
[null,null,null,null,null,null,null,null,null,null,null,null,null,null,"Granicesti",null,null,null,null,"Bojan Alina","Alexandria"]
[null,null,null,null,null,null,null,null,null,null,null,null,null,null,"Gura Humorului",null,null,null,null,"Boka Norbert","Arad"]
[null,null,null,null,null,null,null,null,null,null,null,null,null,null,"Hartop",null,null,null,null,"Bokor Barna","Targu Mures"]
[null,null,null,null,null,null,null,null,null,null,null,null,null,null,"Horodnic de Jos",null,null,null,null,"Bokor Zoltan Jr","Brasov"]
[null,null,null,null,null,null,null,null,null,null,null,null,null,null,"Horodnic de Sus",null,null,null,null,"Bokor Zsolt","Sovata"]
[null,null,null,null,null,null,null,null,null,null,null,null,null,null,"Hurjuieni",null,null,null,null,"Bolboaca Flaviu","Cluj Napoca"]
[null,null,null,null,null,null,null,null,null,null,null,null,null,null,"Liteni",null,null,null,null,"Boldor Serban","Cluj Napoca"]
[null,null,null,null,null,null,null,null,null,null,null,null,null,null,"Magura",null,null,null,null,"Bolea Catalin","Bucuresti"]
[null,null,null,null,null,null,null,null,null,null,null,null,null,null,"Maneuti",null,null,null,null,"Bolog Ioan","Targu Mures"]
[null,null,null,null,null,null,null,null,null,null,null,null,null,null,"Marginea",null,null,null,null,"Bolog Petrica","Bacau"]
[null,null,null,null,null,null,null,null,null,null,null,null,null,null,"Mihoveni",null,null,null,null,"Bolos Viorel","Hateg"]
[null,null,null,null,null,null,null,null,null,null,null,null,null,null,"Milisauti",null,null,null,null,"Bolota Marius","Sibiu"]
[null,null,null,null,null,null,null,null,null,null,null,null,null,null,"Oniceni",null,null,null,null,"Bolovaneanu Vlad","Targoviste"]
[null,null,null,null,null,null,null,null,null,null,null,null,null,null,"Paltinoasa",null,null,null,null,"Bolovaneanu Vlad","Bucuresti"]
[null,null,null,null,null,null,null,null,null,null,null,null,null,null,"Partestii de Jos",null,null,null,null,"Bolozan Laurentiu","Braila"]
[null,null,null,null,null,null,null,null,null,null,null,null,null,null,"Plopeni SV",null,null,null,null,"Bompa Cosmin","Reghin"]
[null,null,null,null,null,null,null,null,null,null,null,null,null,null,"Poiana Negri",null,null,null,null,"Boncoi Bogdan","Sinaia"]
[null,null,null,null,null,null,null,null,null,null,null,null,null,null,"Poiana Stampei",null,null,null,null,"Bondar Leontin","Oradea"]
[null,null,null,null,null,null,null,null,null,null,null,null,null,null,"Prelipca",null,null,null,null,"Bondila Adrian","Targoviste"]
[null,null,null,null,null,null,null,null,null,null,null,null,null,null,"Preutesti",null,null,null,null,"Bondoc Alexandru","Brasov"]
[null,null,null,null,null,null,null,null,null,null,null,null,null,null,"Putna",null,null,null,null,"Bondrea Attila","Gheorgheni"]
[null,null,null,null,null,null,null,null,null,null,null,null,null,null,"Radauti",null,null,null,null,"Bontoi Mihai","Alexandria"]
[null,null,null,null,null,null,null,null,null,null,null,null,null,null,"Romanesti",null,null,null,null,"Bora Nicolae","Alba Iulia"]
[null,null,null,null,null,null,null,null,null,null,null,null,null,null,"Salcea",null,null,null,null,"Bora Paul","Cluj Napoca"]
[null,null,null,null,null,null,null,null,null,null,null,null,null,null,"Serbanesti",null,null,null,null,"Bora Robert","Constanta"]
[null,null,null,null,null,null,null,null,null,null,null,null,null,null,"Siret",null,null,null,null,"Borbeiu Ciprian","Baia Mare"]
[null,null,null,null,null,null,null,null,null,null,null,null,null,null,"Solca",null,null,null,null,"Borbeiu Paul","Baia Mare"]
[null,null,null,null,null,null,null,null,null,null,null,null,null,null,"Straja",null,null,null,null,"Borbeiu Raul","Baia Mare"]
[null,null,null,null,null,null,null,null,null,null,null,null,null,null,"Stulpicani",null,null,null,null,"Borbely Karoly","Miercurea Ciuc"]
[null,null,null,null,null,null,null,null,null,null,null,null,null,null,"Suceava",null,null,null,null,"Borca Liviu","Targu Mures"]
[null,null,null,null,null,null,null,null,null,null,null,null,null,null,"Sucevita",null,null,null,null,"Borceanu Paul Cristian","Pitesti"]
[null,null,null,null,null,null,null,null,null,null,null,null,null,null,"Tibeni",null,null,null,null,"Borcila Alexandru","Targu Neamt"]
[null,null,null,null,null,null,null,null,null,null,null,null,null,null,"Tisauti",null,null,null,null,"Bordas Laszlo","Santionlunca"]
[null,null,null,null,null,null,null,null,null,null,null,null,null,null,"Udesti",null,null,null,null,"Bordas Zsolt","Santionlunca"]
[null,null,null,null,null,null,null,null,null,null,null,null,null,null,"Vama SV",null,null,null,null,"Bordea Diana","Calan"]
[null,null,null,null,null,null,null,null,null,null,null,null,null,null,"Varatec",null,null,null,null,"Bordeianu Alice","Bucuresti"]
[null,null,null,null,null,null,null,null,null,null,null,null,null,null,"Varfu Dealului",null,null,null,null,"Bordeianu Marcel","Bucuresti"]
[null,null,null,null,null,null,null,null,null,null,null,null,null,null,"Vatra Dornei",null,null,null,null,"Bordeianu Marius","Bucuresti"]
[null,null,null,null,null,null,null,null,null,null,null,null,null,null,"Vicovu de Jos",null,null,null,null,"Borisov David","Moldova-Drochia"]
[null,null,null,null,null,null,null,null,null,null,null,null,null,null,"Vicovu de Sus",null,null,null,null,"Borla Nicolae","Cluj Napoca"]
[null,null,null,null,null,null,null,null,null,null,null,null,null,null,"Voitinel",null,null,null,null,"Borodi Alin","Cluj Napoca"]
[null,null,null,null,null,null,null,null,null,null,null,null,null,null,"Volovat",null,null,null,null,"Borodi Claudiu","Dobric"]
[null,null,null,null,null,null,null,null,null,null,null,null,null,null,"Babadag",null,null,null,null,"Borodi Levi","Dobric"]
[null,null,null,null,null,null,null,null,null,null,null,null,null,null,"Cerna",null,null,null,null,"Boroica Gheorghe","Bucuresti"]
[null,null,null,null,null,null,null,null,null,null,null,null,null,null,"Greci",null,null,null,null,"Boroleanu Robert","Bucuresti"]
[null,null,null,null,null,null,null,null,null,null,null,null,null,null,"Isaccea",null,null,null,null,"Boros Mihaly","Crasna"]
[null,null,null,null,null,null,null,null,null,null,null,null,null,null,"Jijila",null,null,null,null,"Borosoiu Laurentiu","Sinaia"]
[null,null,null,null,null,null,null,null,null,null,null,null,null,null,"Jurilovca",null,null,null,null,"Bors Marian","Barlad"]
[null,null,null,null,null,null,null,null,null,null,null,null,null,null,"Luncavita",null,null,null,null,"Borsa Sorin","Bistrita"]
[null,null,null,null,null,null,null,null,null,null,null,null,null,null,"Macin",null,null,null,null,"Borsan Adrian","Cluj Napoca"]
[null,null,null,null,null,null,null,null,null,null,null,null,null,null,"Niculitel",null,null,null,null,"Borsan David","Cluj Napoca"]
[null,null,null,null,null,null,null,null,null,null,null,null,null,null,"Tulcea",null,null,null,null,"Borsan Petru","Cluj Napoca"]
[null,null,null,null,null,null,null,null,null,null,null,null,null,null,"Vacareni",null,null,null,null,"Boruga Alex","Drobeta Tr Severin"]
[null,null,null,null,null,null,null,null,null,null,null,null,null,null,"Buzias",null,null,null,null,"Borza Sergiu","Moldova-Leova"]
[null,null,null,null,null,null,null,null,null,null,null,null,null,null,"Curtea",null,null,null,null,"Bosbiciu Stefan","Nasaud"]
[null,null,null,null,null,null,null,null,null,null,null,null,null,null,"Deta",null,null,null,null,"Bostan Culita","Moinesti"]
[null,null,null,null,null,null,null,null,null,null,null,null,null,null,"Dumbravita",null,null,null,null,"Bostinaru Filip","Curtea de Arges"]
[null,null,null,null,null,null,null,null,null,null,null,null,null,null,"Faget",null,null,null,null,"Bot Ioan","Uriu"]
[null,null,null,null,null,null,null,null,null,null,null,null,null,null,"Giroc",null,null,null,null,"Bota Sergiu","Cluj Napoca"]
[null,null,null,null,null,null,null,null,null,null,null,null,null,null,"Jimbolia",null,null,null,null,"Botanel Eduard","Rovinari"]
[null,null,null,null,null,null,null,null,null,null,null,null,null,null,"Lugoj",null,null,null,null,"Botanel Grigore","Rovinari"]
[null,null,null,null,null,null,null,null,null,null,null,null,null,null,"Margina",null,null,null,null,"Botas Constantin","Sannicolau Mare"]
[null,null,null,null,null,null,null,null,null,null,null,null,null,null,"Moravita",null,null,null,null,"Bote Tudor","Dej"]
[null,null,null,null,null,null,null,null,null,null,null,null,null,null,"Nadrag",null,null,null,null,"Botea Fabian","Hunedoara"]
[null,null,null,null,null,null,null,null,null,null,null,null,null,null,"Sacalaz",null,null,null,null,"Botea Marian","Fieni"]
[null,null,null,null,null,null,null,null,null,null,null,null,null,null,"Sandra",null,null,null,null,"Botea Mihai","Braila"]
[null,null,null,null,null,null,null,null,null,null,null,null,null,null,"Sannicolau Mare",null,null,null,null,"Boteanu Alexandru","Constanta"]
[null,null,null,null,null,null,null,null,null,null,null,null,null,null,"Silvas",null,null,null,null,"Boteanu Nicu","Bucuresti"]
[null,null,null,null,null,null,null,null,null,null,null,null,null,null,"Timisoara",null,null,null,null,"Botez Radu","Targu Mures"]
[null,null,null,null,null,null,null,null,null,null,null,null,null,null,"Utvin",null,null,null,null,"Botezatu Nicusor","Focsani"]
[null,null,null,null,null,null,null,null,null,null,null,null,null,null,"Voiteg",null,null,null,null,"Botezatu Onelus","Galati"]
[null,null,null,null,null,null,null,null,null,null,null,null,null,null,"Zagujeni",null,null,null,null,"Both David","Deva"]
[null,null,null,null,null,null,null,null,null,null,null,null,null,null,"Alexandria",null,null,null,null,"Bothazan Florin","Dej"]
[null,null,null,null,null,null,null,null,null,null,null,null,null,null,"Ciuperceni",null,null,null,null,"Botian Radu","Sibiu"]
[null,null,null,null,null,null,null,null,null,null,null,null,null,null,"Frumoasa",null,null,null,null,"Botoc Ovidiu","Paulesti"]
[null,null,null,null,null,null,null,null,null,null,null,null,null,null,"Mosteni",null,null,null,null,"Botosneanu Ionut","Videle"]
[null,null,null,null,null,null,null,null,null,null,null,null,null,null,"Rosiori de Vede",null,null,null,null,"Boureanu Constantin","Iasi"]
[null,null,null,null,null,null,null,null,null,null,null,null,null,null,"Sericu",null,null,null,null,"Boureanu Ionel","Iasi"]
[null,null,null,null,null,null,null,null,null,null,null,null,null,null,"Tarnava",null,null,null,null,"Bozga Codrin","Vatra Dornei"]
[null,null,null,null,null,null,null,null,null,null,null,null,null,null,"Teleorman",null,null,null,null,"Bozga Dan","Arad"]
[null,null,null,null,null,null,null,null,null,null,null,null,null,null,"Turnu Magurele",null,null,null,null,"Bozga Luisa","Dobric"]
[null,null,null,null,null,null,null,null,null,null,null,null,null,null,"Videle",null,null,null,null,"Bozga Stefan","Beclean"]
[null,null,null,null,null,null,null,null,null,null,null,null,null,null,"Brezoi",null,null,null,null,"Bozga Viorel","Dobric"]
[null,null,null,null,null,null,null,null,null,null,null,null,null,null,"Corabia",null,null,null,null,"Boznea Daniel","Deva"]
[null,null,null,null,null,null,null,null,null,null,null,null,null,null,"Dragasani",null,null,null,null,"Bozosan Petre","Sibiu"]
[null,null,null,null,null,null,null,null,null,null,null,null,null,null,"Malaia",null,null,null,null,"Bozuc Paul","Tulcea"]
[null,null,null,null,null,null,null,null,null,null,null,null,null,null,"Ramnicu Valcea",null,null,null,null,"Brabete Danut","Deva"]
[null,null,null,null,null,null,null,null,null,null,null,null,null,null,"Adjud",null,null,null,null,"Bradea Lucian","Arad"]
[null,null,null,null,null,null,null,null,null,null,null,null,null,null,"Biliesti",null,null,null,null,"Bradean Toma","Arad"]
[null,null,null,null,null,null,null,null,null,null,null,null,null,null,"Calienii Vechi",null,null,null,null,"Bradina Daniel","Calan"]
[null,null,null,null,null,null,null,null,null,null,null,null,null,null,"Cotesti",null,null,null,null,"Bradu Dan","Iasi"]
[null,null,null,null,null,null,null,null,null,null,null,null,null,null,"Dumbraveni VN",null,null,null,null,"Bradu Georgel","Barlad"]
[null,null,null,null,null,null,null,null,null,null,null,null,null,null,"Dumitresti",null,null,null,null,"Bragaru Marian","Valcau"]
[null,null,null,null,null,null,null,null,null,null,null,null,null,null,"Focsani",null,null,null,null,"Bragus Sorin","Bucuresti"]
[null,null,null,null,null,null,null,null,null,null,null,null,null,null,"Gugesti",null,null,null,null,"Bran Florin","Tulcea"]
[null,null,null,null,null,null,null,null,null,null,null,null,null,null,"Jaristea",null,null,null,null,"Bran Miruna","Buhusi"]
[null,null,null,null,null,null,null,null,null,null,null,null,null,null,"Marasesti",null,null,null,null,"Brandusa Marius","Sighisoara"]
[null,null,null,null,null,null,null,null,null,null,null,null,null,null,"Marasti",null,null,null,null,"Braniste George","Bacau"]
[null,null,null,null,null,null,null,null,null,null,null,null,null,null,"Nistoresti",null,null,null,null,"Branzei Florin","Piatra Neamt"]
[null,null,null,null,null,null,null,null,null,null,null,null,null,null,"Odobesti",null,null,null,null,"Brasoveanu Arthur","Brasov"]
[null,null,null,null,null,null,null,null,null,null,null,null,null,null,"Panciu",null,null,null,null,"Brateanu Liviu","Bacau"]
[null,null,null,null,null,null,null,null,null,null,null,null,null,null,"Paunesti",null,null,null,null,"Bratescu Adrian","Targoviste"]
[null,null,null,null,null,null,null,null,null,null,null,null,null,null,"Pufesti",null,null,null,null,"Bratosin Lica","Faurei"]
[null,null,null,null,null,null,null,null,null,null,null,null,null,null,"Straoane",null,null,null,null,"Bratu Aurel","Constanta"]
[null,null,null,null,null,null,null,null,null,null,null,null,null,null,"Barlad",null,null,null,null,"Bratu Bogdan","Boldesti Scaeni"]
[null,null,null,null,null,null,null,null,null,null,null,null,null,null,"Vaslui",null,null,null,null,"Bratu Denis","Boldesti Scaeni"]
[null,null,null,null,null,null,null,null,null,null,null,null,null,null,"x",null,null,null,null,"Bratu Valentin","Bucuresti"]
[null,null,null,null,null,null,null,null,null,null,null,null,null,null,"Sanpaul AR",null,null,null,null,"Brazdau Bogdan","Zalau"]
[null,null,null,null,null,null,null,null,null,null,null,null,null,null,"Ruse",null,null,null,null,"Breaz Alexandru","Hunedoara"]
[null,null,null,null,null,null,null,null,null,null,null,null,null,null,"Mogosesti Siret",null,null,null,null,"Breaza Theodor","Drobeta Tr Severin"]
[null,null,null,null,null,null,null,null,null,null,null,null,null,null,"Dumbraveni",null,null,null,null,"Brebu Liviu","Barlad"]
[null,null,null,null,null,null,null,null,null,null,null,null,null,null,"Bors",null,null,null,null,"Breda Dan","Tarnaveni"]
[null,null,null,null,null,null,null,null,null,null,null,null,null,null,"Cocorastii Grind",null,null,null,null,"Bregar Dan","Alba Iulia"]
[null,null,null,null,null,null,null,null,null,null,null,null,null,null,"Dobric",null,null,null,null,"Breje Marin","Zalau"]
[null,null,null,null,null,null,null,null,null,null,null,null,null,null,"Rediu",null,null,null,null,"Brezaie Andrei","Alexandria"]
[null,null,null,null,null,null,null,null,null,null,null,null,null,null,"Victor Vlad Delamarina",null,null,null,null,"Bria Vitalie","Bucuresti"]
[null,null,null,null,null,null,null,null,null,null,null,null,null,null,"Santamaria Orlea",null,null,null,null,"Briceag Bebe","Targoviste"]
[null,null,null,null,null,null,null,null,null,null,null,null,null,null,"Lozovik",null,null,null,null,"Brinza Constantin","Harlau"]
[null,null,null,null,null,null,null,null,null,null,null,null,null,null,"Smederevo",null,null,null,null,"Brisc Nelu","Timisoara"]
[null,null,null,null,null,null,null,null,null,null,null,null,null,null,"Stara Palanka",null,null,null,null,"Brodetchi Andrei","Sibiu"]
[null,null,null,null,null,null,null,null,null,null,null,null,null,null,"Ilandza",null,null,null,null,"Brulea Petre","Paulesti"]
[null,null,null,null,null,null,null,null,null,null,null,null,null,null,"Sarajevo",null,null,null,null,"Bruma Ovidiu","Popesti Leordeni"]
[null,null,null,null,null,null,null,null,null,null,null,null,null,null,"Valcau",null,null,null,null,"Brunshtein Yehudit","Israel"]
[null,null,null,null,null,null,null,null,null,null,null,null,null,null,"Harsova",null,null,null,null,"Bruzan Cosmin","Calan"]
[null,null,null,null,null,null,null,null,null,null,null,null,null,null,"Iordania",null,null,null,null,"Bubulac Cristi","Piatra Neamt"]
[null,null,null,null,null,null,null,null,null,null,null,null,null,null,"Malut",null,null,null,null,"Bucin Claudiu","Targu Mures"]
[null,null,null,null,null,null,null,null,null,null,null,null,null,null,"Sacadat",null,null,null,null,"Buciu Catalin","Bals"]
[null,null,null,null,null,null,null,null,null,null,null,null,null,null,"Bucovat",null,null,null,null,"Buciu Cristina","Bucuresti"]
[null,null,null,null,null,null,null,null,null,null,null,null,null,null,"Caianu Mic",null,null,null,null,"Buciu Denis","Bals"]
[null,null,null,null,null,null,null,null,null,null,null,null,null,null,"Lopadea Noua",null,null,null,null,"Bucovszki Alexandru","Sighetu Marmatiei"]
[null,null,null,null,null,null,null,null,null,null,null,null,null,null,"Cenade",null,null,null,null,"Bucsa Eugen Marcel","Apahida"]
[null,null,null,null,null,null,null,null,null,null,null,null,null,null,"Atintis",null,null,null,null,"Bucse Stefan","Sibiu"]
[null,null,null,null,null,null,null,null,null,null,null,null,null,null,"Sarmasu",null,null,null,null,"Bucsoiu Vlad","Brasov"]
[null,null,null,null,null,null,null,null,null,null,null,null,null,null,"Pancevo",null,null,null,null,"Bucur Alin Adrian","Targu Mures"]
[null,null,null,null,null,null,null,null,null,null,null,null,null,null,"Petrovac",null,null,null,null,"Bucur Andrei","Blaj"]
[null,null,null,null,null,null,null,null,null,null,null,null,null,null,"Fundu Moldovei",null,null,null,null,"Bucur Dan","Cisnadie"]
[null,null,null,null,null,null,null,null,null,null,null,null,null,null,"Giarmata",null,null,null,null,"Bucur Mario","Bucuresti"]
[null,null,null,null,null,null,null,null,null,null,null,null,null,null,"Hida",null,null,null,null,"Bucur Sorin","Ploiesti"]
[null,null,null,null,null,null,null,null,null,null,null,null,null,null,"Tuzla",null,null,null,null,"Bucurel Ion","Comanesti"]
[null,null,null,null,null,null,null,null,null,null,null,null,null,null,"Snagov",null,null,null,null,"Bucurenciu Mihai","Fagaras"]
[null,null,null,null,null,null,null,null,null,null,null,null,null,null,"Moldova-Balti",null,null,null,null,"Bud Adrian","Dej"]
[null,null,null,null,null,null,null,null,null,null,null,null,null,null,"Moldova-Chisinau",null,null,null,null,"Buda Nelu","Arad"]
[null,null,null,null,null,null,null,null,null,null,null,null,null,null,"Moldova-Lunga",null,null,null,null,"Budea Andra","Galati"]
[null,null,null,null,null,null,null,null,null,null,null,null,null,null,"Moldova-Avdarma",null,null,null,null,"Budean Daniel","Gherla"]
[null,null,null,null,null,null,null,null,null,null,null,null,null,null,"Moldova-Tvardita",null,null,null,null,"Budeanu Dan","Sannicolau Mare"]
[null,null,null,null,null,null,null,null,null,null,null,null,null,null,"Moldova-Taraclia",null,null,null,null,"Budes Alin","Timisoara"]
[null,null,null,null,null,null,null,null,null,null,null,null,null,null,"Moldova-Comrat",null,null,null,null,"Budescu Marian","Galati"]
[null,null,null,null,null,null,null,null,null,null,null,null,null,null,"Moldova-Basarabeasca",null,null,null,null,"Budihala Raul","Hunedoara"]
[null,null,null,null,null,null,null,null,null,null,null,null,null,null,"Moldova-Cahul",null,null,null,null,"Budusan Claudiu","Dej"]
[null,null,null,null,null,null,null,null,null,null,null,null,null,null,"Moldova-Vulcanesti",null,null,null,null,"Bufetov Ilia","Moldova-Balti"]
[null,null,null,null,null,null,null,null,null,null,null,null,null,null,"Moldova-Budjac",null,null,null,null,"Buga Adrian","Cluj Napoca"]
[null,null,null,null,null,null,null,null,null,null,null,null,null,null,"Moldova-Dubasari",null,null,null,null,"Buga Mihai","Alexandria"]
[null,null,null,null,null,null,null,null,null,null,null,null,null,null,"Pildesti",null,null,null,null,"Bugarcic Ivan","Belgrad"]
[null,null,null,null,null,null,null,null,null,null,null,null,null,null,"Tamaseni",null,null,null,null,"Bugariu Teodora","Lugoj"]
[null,null,null,null,null,null,null,null,null,null,null,null,null,null,"Mihai Viteazu",null,null,null,null,"Buhaciuc Crina","Constanta"]
[null,null,null,null,null,null,null,null,null,null,null,null,null,null,"Moldova-Ceadir-Lunga",null,null,null,null,"Buhai Andrii","Stefanestii de Jos"]
[null,null,null,null,null,null,null,null,null,null,null,null,null,null,"Moldova-Cazaclia",null,null,null,null,"Buhaianu Bogdan","Bacau"]
[null,null,null,null,null,null,null,null,null,null,null,null,null,null,"Ucraina-Ciornomorsk",null,null,null,null,"Buica Elias","Hateg"]
[null,null,null,null,null,null,null,null,null,null,null,null,null,null,"Harlau",null,null,null,null,"Buica Elisei","Hateg"]
[null,null,null,null,null,null,null,null,null,null,null,null,null,null,"Muncel",null,null,null,null,"Buica Petrica","Hateg"]
[null,null,null,null,null,null,null,null,null,null,null,null,null,null,"Ciohorani",null,null,null,null,"Buicea Andra","Pitesti"]
[null,null,null,null,null,null,null,null,null,null,null,null,null,null,"Remetea Mare",null,null,null,null,"Buicea Rares","Pitesti"]
[null,null,null,null,null,null,null,null,null,null,null,null,null,null,"Stei",null,null,null,null,"Buie Laurentiu","Arad"]
[null,null,null,null,null,null,null,null,null,null,null,null,null,null,"Moldova-Briceni",null,null,null,null,"Buiturian Ionel","Santamaria Orlea"]
[null,null,null,null,null,null,null,null,null,null,null,null,null,null,"Moldova-Larga",null,null,null,null,"Bujenita Elena","Galati"]
[null,null,null,null,null,null,null,null,null,null,null,null,null,null,"Moldova-Lipcani",null,null,null,null,"Bujenita Mihai","Galati"]
[null,null,null,null,null,null,null,null,null,null,null,null,null,null,"Moldova-Coteala",null,null,null,null,"Bujoi Emanuel","Braila"]
[null,null,null,null,null,null,null,null,null,null,null,null,null,null,"Vama",null,null,null,null,"Bujor Laurentiu","Bacau"]
[null,null,null,null,null,null,null,null,null,null,null,null,null,null,"Moldova-Edinet",null,null,null,null,"Bujoreanu Neculai","Falticeni"]
[null,null,null,null,null,null,null,null,null,null,null,null,null,null,"Moldova-Drochia",null,null,null,null,"Bujuleg Petre","Breaza"]
[null,null,null,null,null,null,null,null,null,null,null,null,null,null,"Moldova-Singerei",null,null,null,null,"Bulancea Victor","Curtea de Arges"]
[null,null,null,null,null,null,null,null,null,null,null,null,null,null,"Vicov",null,null,null,null,"Bularda Iulian","Barlad"]
[null,null,null,null,null,null,null,null,null,null,null,null,null,null,"Vadu Moldovei",null,null,null,null,"Buleandra Radu","Craiova"]
[null,null,null,null,null,null,null,null,null,null,null,null,null,null,"Petia",null,null,null,null,"Bulgari Serghei","Moldova-Briceni"]
[null,null,null,null,null,null,null,null,null,null,null,null,null,null,"Arghira",null,null,null,null,"Bulgaria Dan","Deva"]
[null,null,null,null,null,null,null,null,null,null,null,null,null,null,"Blandesti",null,null,null,null,"Buliga Cornel","Galati"]
[null,null,null,null,null,null,null,null,null,null,null,null,null,null,"Slatina Timis",null,null,null,null,"Buliga Sorin","Cluj Napoca"]
[null,null,null,null,null,null,null,null,null,null,null,null,null,null,"Telega",null,null,null,null,"Bulinschi Alexandru","Hunedoara"]
[null,null,null,null,null,null,null,null,null,null,null,null,null,null,"Jebel",null,null,null,null,"Bunduchi Mircea Andrei","Solont"]
[null,null,null,null,null,null,null,null,null,null,null,null,null,null,"Balomir",null,null,null,null,"Bunea Adrian","Baicoi"]
[null,null,null,null,null,null,null,null,null,null,null,null,null,null,"Bulzestii de Sus",null,null,null,null,"Bunea Aurel","Salciua"]
[null,null,null,null,null,null,null,null,null,null,null,null,null,null,"Priboieni",null,null,null,null,"Bunea Raul","Targu Mures"]
[null,null,null,null,null,null,null,null,null,null,null,null,null,null,"Dor Marunt",null,null,null,null,"Bungeanu Bogdan","Vaslui"]
[null,null,null,null,null,null,null,null,null,null,null,null,null,null,"Fundeni",null,null,null,null,"Bura Ionut Virgil","Cluj Napoca"]
[null,null,null,null,null,null,null,null,null,null,null,null,null,null,"Gligoresti",null,null,null,null,"Buraciuc Cornel","Nasaud"]
[null,null,null,null,null,null,null,null,null,null,null,null,null,null,"Ineu",null,null,null,null,"Buraciuc Raluca","Nasaud"]
[null,null,null,null,null,null,null,null,null,null,null,null,null,null,"Popeni",null,null,null,null,"Buraga Emilian","Iasi"]
[null,null,null,null,null,null,null,null,null,null,null,null,null,null,"Andrasesti",null,null,null,null,"Burcea Daniel","Bucuresti"]
[null,null,null,null,null,null,null,null,null,null,null,null,null,null,"Vadeni",null,null,null,null,"Burducea Alexandru","Targoviste"]
[null,null,null,null,null,null,null,null,null,null,null,null,null,null,"Tibanesti",null,null,null,null,"Burechita Marian","Vaslui"]
[null,null,null,null,null,null,null,null,null,null,null,null,null,null,"Ianova",null,null,null,null,"Burga Ionut","Bucuresti"]
[null,null,null,null,null,null,null,null,null,null,null,null,null,null,"Domnesti",null,null,null,null,"Burghelea Florin","Piatra Neamt"]
[null,null,null,null,null,null,null,null,null,null,null,null,null,null,"Popesti CJ",null,null,null,null,"Burghelea Liviu","Bucuresti"]
[null,null,null,null,null,null,null,null,null,null,null,null,null,null,"Frasinet",null,null,null,null,"Burhui Radu","Buhusi"]
[null,null,null,null,null,null,null,null,null,null,null,null,null,null,"Branceni",null,null,null,null,"Burian Alexandru","Cluj Napoca"]
[null,null,null,null,null,null,null,null,null,null,null,null,null,null,"Solonet",null,null,null,null,"Burian Ovidiu","Cluj Napoca"]
[null,null,null,null,null,null,null,null,null,null,null,null,null,null,"Vizejdia",null,null,null,null,"Burlacel Ionut","Bucuresti"]
[null,null,null,null,null,null,null,null,null,null,null,null,null,null,"Magiresti",null,null,null,null,"Burlica Cristian","Vicovu de Jos"]
[null,null,null,null,null,null,null,null,null,null,null,null,null,null,"Dobrotesti",null,null,null,null,"Burnar Ioan","Viseu"]
[null,null,null,null,null,null,null,null,null,null,null,null,null,null,"Baru",null,null,null,null,"Burnoiu Costel","Bucuresti"]
[null,null,null,null,null,null,null,null,null,null,null,null,null,null,"Cotoroaia",null,null,null,null,"Burtea Iustin Gabriel","Galati"]
[null,null,null,null,null,null,null,null,null,null,null,null,null,null,"Branistea DB",null,null,null,null,"Burtea Teodor Daniel","Galati"]
[null,null,null,null,null,null,null,null,null,null,null,null,null,null,"Foeni",null,null,null,null,"Burtumac Alin","Balotesti"]
[null,null,null,null,null,null,null,null,null,null,null,null,null,null,"Kladovo Serbia",null,null,null,null,"Burucenco Vadim","Moldova-Chisinau"]
[null,null,null,null,null,null,null,null,null,null,null,null,null,null,"Satumare",null,null,null,null,"Buruiana Mihai","Marasesti"]
[null,null,null,null,null,null,null,null,null,null,null,null,null,null,"Zajecar Serbia",null,null,null,null,"Buruiana Petru","Piatra Neamt"]
[null,null,null,null,null,null,null,null,null,null,null,null,null,null,"Kentucky USA",null,null,null,null,"Busega Iulian","Bucuresti"]
[null,null,null,null,null,null,null,null,null,null,null,null,null,null,"Lunca Muresului",null,null,null,null,"Busnatu Radu Andrei","Bucuresti"]
[null,null,null,null,null,null,null,null,null,null,null,null,null,null,"Moldova-Cantemir",null,null,null,null,"Bustiuc Razvan","Iasi"]
[null,null,null,null,null,null,null,null,null,null,null,null,null,null,"Voinesti DB",null,null,null,null,"Busuioc Andrei","Panciu"]
[null,null,null,null,null,null,null,null,null,null,null,null,null,null,"Sangeorgiu de Mures",null,null,null,null,"Busuioc Marian","Bucuresti"]
[null,null,null,null,null,null,null,null,null,null,null,null,null,null,"Berveni",null,null,null,null,"Busuioc Robert","Radauti"]
[null,null,null,null,null,null,null,null,null,null,null,null,null,null,"Amarastii de Jos",null,null,null,null,"Busuioc Stelian","Bucuresti"]
[null,null,null,null,null,null,null,null,null,null,null,null,null,null,"Darmanesti SV",null,null,null,null,"But Victor","Moldova-Comrat"]
[null,null,null,null,null,null,null,null,null,null,null,null,null,null,"Voinesti",null,null,null,null,"Buta Raul","Petrosani"]
[null,null,null,null,null,null,null,null,null,null,null,null,null,null,"Coarnele Caprei",null,null,null,null,"Buta Sebastian","Tarnaveni"]
[null,null,null,null,null,null,null,null,null,null,null,null,null,null,"Maderat",null,null,null,null,"Buteanu Cristi","Beclean"]
[null,null,null,null,null,null,null,null,null,null,null,null,null,null,"Cornetu",null,null,null,null,"Butnaru Andrei","Iasi"]
[null,null,null,null,null,null,null,null,null,null,null,null,null,null,"Erbiceni",null,null,null,null,"Butnaru Damian","Mogosesti"]
[null,null,null,null,null,null,null,null,null,null,null,null,null,null,"Rascaeti",null,null,null,null,"Butoi Aurel","Caracal"]
[null,null,null,null,null,null,null,null,null,null,null,null,null,null,"Ucraina-Kiev",null,null,null,null,"Butunoiu Dorin","Brasov"]
[null,null,null,null,null,null,null,null,null,null,null,null,null,null,"Poienita",null,null,null,null,"Butura Vasile","Alba Iulia"]
[null,null,null,null,null,null,null,null,null,null,null,null,null,null,"Tomesti IS",null,null,null,null,"Butusina Samuel","Arad"]
[null,null,null,null,null,null,null,null,null,null,null,null,null,null,"Chiuza",null,null,null,null,"Buzatu Vasile","Buftea"]
[null,null,null,null,null,null,null,null,null,null,null,null,null,null,"Asau",null,null,null,null,"Buzenchi Constantin","Halaucesti"]
[null,null,null,null,null,null,null,null,null,null,null,null,null,null,"Kovin",null,null,null,null,"Buzila Adrian","Botosani"]
[null,null,null,null,null,null,null,null,null,null,null,null,null,null,"Nova Varos",null,null,null,null,"Buzila Marcel","Cluj Napoca"]
[null,null,null,null,null,null,null,null,null,null,null,null,null,null,"Trstenik",null,null,null,null,"Buzoianu Eduard","Oltenita"]
[null,null,null,null,null,null,null,null,null,null,null,null,null,null,"Ram",null,null,null,null,"Bzovii Elena","Moldova-Cahul"]
[null,null,null,null,null,null,null,null,null,null,null,null,null,null,"Kumane",null,null,null,null,"Bzovii Teodora","Moldova-Cahul"]
[null,null,null,null,null,null,null,null,null,null,null,null,null,null,"Ucraina-Umani",null,null,null,null,"Caba Alin","Putna"]
[null,null,null,null,null,null,null,null,null,null,null,null,null,null,"Ucraina-Okny",null,null,null,null,"Caba Ciprian","Putna"]
[null,null,null,null,null,null,null,null,null,null,null,null,null,null,"Campani",null,null,null,null,"Cadar Ioan","Cluj Napoca"]
[null,null,null,null,null,null,null,null,null,null,null,null,null,null,"Hotarel",null,null,null,null,"Cailean Daniel","Turda"]
[null,null,null,null,null,null,null,null,null,null,null,null,null,null,"Saliste de Vascau",null,null,null,null,"Caileanu Patrick","Sibiu"]
[null,null,null,null,null,null,null,null,null,null,null,null,null,null,"Ucraina-Odessa",null,null,null,null,"Calangea Adrian","Galati"]
[null,null,null,null,null,null,null,null,null,null,null,null,null,null,"Moldova-Glodeni",null,null,null,null,"Calasnicov Matvei","Moldova-Cahul"]
[null,null,null,null,null,null,null,null,null,null,null,null,null,null,"Stejeris",null,null,null,null,"Calasnicov Stanislav","Moldova-Cahul"]
[null,null,null,null,null,null,null,null,null,null,null,null,null,null,"Sibot",null,null,null,null,"Calciu Vasile","Craiova"]
[null,null,null,null,null,null,null,null,null,null,null,null,null,null,"Delenii",null,null,null,null,"Caldaruse Roland","Craiova"]
[null,null,null,null,null,null,null,null,null,null,null,null,null,null,"Aroneanu",null,null,null,null,"Calenciuc Dumitru","Radauti"]
[null,null,null,null,null,null,null,null,null,null,null,null,null,null,"Moldova-Leova",null,null,null,null,"Calin Alexandru","Focsani"]
[null,null,null,null,null,null,null,null,null,null,null,null,null,null,"Moldova-Hincesti",null,null,null,null,"Calin Anisoara","Bucuresti"]
[null,null,null,null,null,null,null,null,null,null,null,null,null,null,"Moldova-Riscani",null,null,null,null,"Calin Cosmin","Navodari"]
[null,null,null,null,null,null,null,null,null,null,null,null,null,null,"Chisoda",null,null,null,null,"Calin Cristian","Bucuresti"]
[null,null,null,null,null,null,null,null,null,null,null,null,null,null,"Mihaesti",null,null,null,null,"Calin Dragos","Focsani"]
[null,null,null,null,null,null,null,null,null,null,null,null,null,null,"Cicarlau",null,null,null,null,"Calin Narcis","Barlad"]
[null,null,null,null,null,null,null,null,null,null,null,null,null,null,null,null,null,null,null,"Calin Stefan Daniel","Urlati"]
[null,null,null,null,null,null,null,null,null,null,null,null,null,null,null,null,null,null,null,"Calinescu Mircea","Ploiesti"]
[null,null,null,null,null,null,null,null,null,null,null,null,null,null,null,null,null,null,null,"Calinicenco Denis","Moldova-Basarabeasca"]
[null,null,null,null,null,null,null,null,null,null,null,null,null,null,null,null,null,null,null,"Calinoiu Matei","Sibiu"]
[null,null,null,null,null,null,null,null,null,null,null,null,null,null,null,null,null,null,null,"Calonfirescu Sever","Manastireni"]
[null,null,null,null,null,null,null,null,null,null,null,null,null,null,null,null,null,null,null,"Calota Cristian","Tulcea"]
[null,null,null,null,null,null,null,null,null,null,null,null,null,null,null,null,null,null,null,"Calpacci Olga","Moldova-Ceadir-Lunga"]
[null,null,null,null,null,null,null,null,null,null,null,null,null,null,null,null,null,null,null,"Camarasiu Tiberiu","Cluj Napoca"]
[null,null,null,null,null,null,null,null,null,null,null,null,null,null,null,null,null,null,null,"Caminschi Mihai","Constanta"]
[null,null,null,null,null,null,null,null,null,null,null,null,null,null,null,null,null,null,null,"Caminschi Vlad","Moldova-Cahul"]
[null,null,null,null,null,null,null,null,null,null,null,null,null,null,null,null,null,null,null,"Campean Adrian","Bucuresti"]
[null,null,null,null,null,null,null,null,null,null,null,null,null,null,null,null,null,null,null,"Campean Bogdan","Apahida"]
[null,null,null,null,null,null,null,null,null,null,null,null,null,null,null,null,null,null,null,"Campean Cristian","Cluj Napoca"]
[null,null,null,null,null,null,null,null,null,null,null,null,null,null,null,null,null,null,null,"Campean Daniel","Santimbru AB"]
[null,null,null,null,null,null,null,null,null,null,null,null,null,null,null,null,null,null,null,"Campean Eugen","Dej"]
[null,null,null,null,null,null,null,null,null,null,null,null,null,null,null,null,null,null,null,"Campean Traian","Apahida"]
[null,null,null,null,null,null,null,null,null,null,null,null,null,null,null,null,null,null,null,"Campian Vlad","Toplita"]
[null,null,null,null,null,null,null,null,null,null,null,null,null,null,null,null,null,null,null,"Campian Zoltan","Toplita"]
[null,null,null,null,null,null,null,null,null,null,null,null,null,null,null,null,null,null,null,"Candea Ana Nasta","Bucuresti"]
[null,null,null,null,null,null,null,null,null,null,null,null,null,null,null,null,null,null,null,"Canea Kocsis Andras","Targu Secuiesc"]
[null,null,null,null,null,null,null,null,null,null,null,null,null,null,null,null,null,null,null,"Cangea Todor","Moldova-Cahul"]
[null,null,null,null,null,null,null,null,null,null,null,null,null,null,null,null,null,null,null,"Cangea Tudor","Galati"]
[null,null,null,null,null,null,null,null,null,null,null,null,null,null,null,null,null,null,null,"Cangia Tudor","Tulcea"]
[null,null,null,null,null,null,null,null,null,null,null,null,null,null,null,null,null,null,null,"Canpan Radu","Bistrita"]
[null,null,null,null,null,null,null,null,null,null,null,null,null,null,null,null,null,null,null,"Capalnas Vasile","Bistrita"]
[null,null,null,null,null,null,null,null,null,null,null,null,null,null,null,null,null,null,null,"Capotescu Tiberiu","Faget"]
[null,null,null,null,null,null,null,null,null,null,null,null,null,null,null,null,null,null,null,"Capra Arthur","Vatra Dornei"]
[null,null,null,null,null,null,null,null,null,null,null,null,null,null,null,null,null,null,null,"Capstramb Liviu","Radauti"]
[null,null,null,null,null,null,null,null,null,null,null,null,null,null,null,null,null,null,null,"Capus Giani","Galati"]
[null,null,null,null,null,null,null,null,null,null,null,null,null,null,null,null,null,null,null,"Capusa Bogdan","Bacau"]
[null,null,null,null,null,null,null,null,null,null,null,null,null,null,null,null,null,null,null,"Carabas Adrian","Timisoara"]
[null,null,null,null,null,null,null,null,null,null,null,null,null,null,null,null,null,null,null,"Carabas Cosmin","Timisoara"]
[null,null,null,null,null,null,null,null,null,null,null,null,null,null,null,null,null,null,null,"Caradjov Stepan","Moldova-Leova"]
[null,null,null,null,null,null,null,null,null,null,null,null,null,null,null,null,null,null,null,"Caraman Ionel","Tulcea"]
[null,null,null,null,null,null,null,null,null,null,null,null,null,null,null,null,null,null,null,"Caraman Vitalie","Moldova-Cahul"]
[null,null,null,null,null,null,null,null,null,null,null,null,null,null,null,null,null,null,null,"Caramarin Dumitru","Constanta"]
[null,null,null,null,null,null,null,null,null,null,null,null,null,null,null,null,null,null,null,"Caramila Igor","Moldova-Vulcanesti"]
[null,null,null,null,null,null,null,null,null,null,null,null,null,null,null,null,null,null,null,"Caramit Arina","Moldova-Avdarma"]
[null,null,null,null,null,null,null,null,null,null,null,null,null,null,null,null,null,null,null,"Caranda Alexandru","Bucuresti"]
[null,null,null,null,null,null,null,null,null,null,null,null,null,null,null,null,null,null,null,"Caranfilian Eduard","Bucuresti"]
[null,null,null,null,null,null,null,null,null,null,null,null,null,null,null,null,null,null,null,"Caranfilian Migo","Bucuresti"]
[null,null,null,null,null,null,null,null,null,null,null,null,null,null,null,null,null,null,null,"Carare Cristinel","Vaslui"]
[null,null,null,null,null,null,null,null,null,null,null,null,null,null,null,null,null,null,null,"Carata Catalin","Tulcea"]
[null,null,null,null,null,null,null,null,null,null,null,null,null,null,null,null,null,null,null,"Caraus Sorin","Deva"]
[null,null,null,null,null,null,null,null,null,null,null,null,null,null,null,null,null,null,null,"Carcea Daria","Galanesti"]
[null,null,null,null,null,null,null,null,null,null,null,null,null,null,null,null,null,null,null,"Carcea David","Galanesti"]
[null,null,null,null,null,null,null,null,null,null,null,null,null,null,null,null,null,null,null,"Carciog Ionut Alexandru","Calarasi"]
[null,null,null,null,null,null,null,null,null,null,null,null,null,null,null,null,null,null,null,"Cardas Alexandru","Dumbravita"]
[null,null,null,null,null,null,null,null,null,null,null,null,null,null,null,null,null,null,null,"Cardas Andrei","Dumbravita"]
[null,null,null,null,null,null,null,null,null,null,null,null,null,null,null,null,null,null,null,"Carja Florin","Cotoroaia"]
[null,null,null,null,null,null,null,null,null,null,null,null,null,null,null,null,null,null,null,"Carmazan Andra","Deva"]
[null,null,null,null,null,null,null,null,null,null,null,null,null,null,null,null,null,null,null,"Carnu Eugen","Bacau"]
[null,null,null,null,null,null,null,null,null,null,null,null,null,null,null,null,null,null,null,"Carnu Miruna","Dumbravita"]
[null,null,null,null,null,null,null,null,null,null,null,null,null,null,null,null,null,null,null,"Carp Marius","Bucuresti"]
[null,null,null,null,null,null,null,null,null,null,null,null,null,null,null,null,null,null,null,"Carpaci Alexandru","Ludus"]
[null,null,null,null,null,null,null,null,null,null,null,null,null,null,null,null,null,null,null,"Carpaci Szanto Cristian","Ludus"]
[null,null,null,null,null,null,null,null,null,null,null,null,null,null,null,null,null,null,null,"Carpaci Szanto Edmond","Ludus"]
[null,null,null,null,null,null,null,null,null,null,null,null,null,null,null,null,null,null,null,"Carpovici Boris","Falticeni"]
[null,null,null,null,null,null,null,null,null,null,null,null,null,null,null,null,null,null,null,"Caruntu David","Dumbravita"]
[null,null,null,null,null,null,null,null,null,null,null,null,null,null,null,null,null,null,null,"Caruntu Razvan","Dumbravita"]
[null,null,null,null,null,null,null,null,null,null,null,null,null,null,null,null,null,null,null,"Casim Alina","Moldova-Avdarma"]
[null,null,null,null,null,null,null,null,null,null,null,null,null,null,null,null,null,null,null,"Casim Igor","Moldova-Avdarma"]
[null,null,null,null,null,null,null,null,null,null,null,null,null,null,null,null,null,null,null,"Casim Milena","Moldova-Avdarma"]
[null,null,null,null,null,null,null,null,null,null,null,null,null,null,null,null,null,null,null,"Cata Doru","Baia Mare"]
[null,null,null,null,null,null,null,null,null,null,null,null,null,null,null,null,null,null,null,"Cata Teodor","Baia Mare"]
[null,null,null,null,null,null,null,null,null,null,null,null,null,null,null,null,null,null,null,"Catana Claudiu","Bucuresti"]
[null,null,null,null,null,null,null,null,null,null,null,null,null,null,null,null,null,null,null,"Catana Gabriel","Bucuresti"]
[null,null,null,null,null,null,null,null,null,null,null,null,null,null,null,null,null,null,null,"Catana Marius Gabriel","Bucuresti"]
[null,null,null,null,null,null,null,null,null,null,null,null,null,null,null,null,null,null,null,"Catana Vasile","Bacau"]
[null,null,null,null,null,null,null,null,null,null,null,null,null,null,null,null,null,null,null,"Catana Vlad","Targu Mures"]
[null,null,null,null,null,null,null,null,null,null,null,null,null,null,null,null,null,null,null,"Catargiu Andrei","Bucuresti"]
[null,null,null,null,null,null,null,null,null,null,null,null,null,null,null,null,null,null,null,"Catinean Anda","Targu Mures"]
[null,null,null,null,null,null,null,null,null,null,null,null,null,null,null,null,null,null,null,"Catuna Bogdan","Cluj Napoca"]
[null,null,null,null,null,null,null,null,null,null,null,null,null,null,null,null,null,null,null,"Cavasdan Doru","Oradea"]
[null,null,null,null,null,null,null,null,null,null,null,null,null,null,null,null,null,null,null,"Cazac Abel","Radauti"]
[null,null,null,null,null,null,null,null,null,null,null,null,null,null,null,null,null,null,null,"Cazac Iulia","Moldova-Briceni"]
[null,null,null,null,null,null,null,null,null,null,null,null,null,null,null,null,null,null,null,"Cazac Victor","Moldova-Briceni"]
[null,null,null,null,null,null,null,null,null,null,null,null,null,null,null,null,null,null,null,"Cazaciuc Marius","Suceava"]
[null,null,null,null,null,null,null,null,null,null,null,null,null,null,null,null,null,null,null,"Cazacu Florin","Vatra Dornei"]
[null,null,null,null,null,null,null,null,null,null,null,null,null,null,null,null,null,null,null,"Cazacu Valentin","Pitesti"]
[null,null,null,null,null,null,null,null,null,null,null,null,null,null,null,null,null,null,null,"Ceacusta Daria","Moldova-Avdarma"]
[null,null,null,null,null,null,null,null,null,null,null,null,null,null,null,null,null,null,null,"Ceaica Ilia","Moldova-Balti"]
[null,null,null,null,null,null,null,null,null,null,null,null,null,null,null,null,null,null,null,"Ceausescu Rares","Pitesti"]
[null,null,null,null,null,null,null,null,null,null,null,null,null,null,null,null,null,null,null,"Ceausescu Rebeca","Pitesti"]
[null,null,null,null,null,null,null,null,null,null,null,null,null,null,null,null,null,null,null,"Ceavdar Andrei","Moldova-Cahul"]
[null,null,null,null,null,null,null,null,null,null,null,null,null,null,null,null,null,null,null,"Cebotari Alexandru","Iasi"]
[null,null,null,null,null,null,null,null,null,null,null,null,null,null,null,null,null,null,null,"Cecan Leonid","Moldova-Drochia"]
[null,null,null,null,null,null,null,null,null,null,null,null,null,null,null,null,null,null,null,"Cecan Miroslav","Moldova-Glodeni"]
[null,null,null,null,null,null,null,null,null,null,null,null,null,null,null,null,null,null,null,"Cecan Vasile","Timisoara"]
[null,null,null,null,null,null,null,null,null,null,null,null,null,null,null,null,null,null,null,"Centea Daniel","Dej"]
[null,null,null,null,null,null,null,null,null,null,null,null,null,null,null,null,null,null,null,"Ceobotaru Daniel","Galati"]
[null,null,null,null,null,null,null,null,null,null,null,null,null,null,null,null,null,null,null,"Ceocea Elena","Tulcea"]
[null,null,null,null,null,null,null,null,null,null,null,null,null,null,null,null,null,null,null,"Ceolca Robert","Sibiu"]
[null,null,null,null,null,null,null,null,null,null,null,null,null,null,null,null,null,null,null,"Ceornei Andrei","Falticeni"]
[null,null,null,null,null,null,null,null,null,null,null,null,null,null,null,null,null,null,null,"Cercega Dani","Timisoara"]
[null,null,null,null,null,null,null,null,null,null,null,null,null,null,null,null,null,null,null,"Cerciu Marius","Timisoara"]
[null,null,null,null,null,null,null,null,null,null,null,null,null,null,null,null,null,null,null,"Cerciu Samir","Timisoara"]
[null,null,null,null,null,null,null,null,null,null,null,null,null,null,null,null,null,null,null,"Cernat Andrei","Blejoi"]
[null,null,null,null,null,null,null,null,null,null,null,null,null,null,null,null,null,null,null,"Cernat Constantin","Blejoi"]
[null,null,null,null,null,null,null,null,null,null,null,null,null,null,null,null,null,null,null,"Cernat Cristian","Iasi"]
[null,null,null,null,null,null,null,null,null,null,null,null,null,null,null,null,null,null,null,"Cernat Gheorghe","Bucuresti"]
[null,null,null,null,null,null,null,null,null,null,null,null,null,null,null,null,null,null,null,"Cernat Ionut","Moinesti"]
[null,null,null,null,null,null,null,null,null,null,null,null,null,null,null,null,null,null,null,"Cernat Radu","Moinesti"]
[null,null,null,null,null,null,null,null,null,null,null,null,null,null,null,null,null,null,null,"Cernea Andrei","Targoviste"]
[null,null,null,null,null,null,null,null,null,null,null,null,null,null,null,null,null,null,null,"Cernev Valeri","Moldova-Vulcanesti"]
[null,null,null,null,null,null,null,null,null,null,null,null,null,null,null,null,null,null,null,"Cervicescu Laurentiu","Botosani"]
[null,null,null,null,null,null,null,null,null,null,null,null,null,null,null,null,null,null,null,"Ceuca Gavrila","Satu Mare"]
[null,null,null,null,null,null,null,null,null,null,null,null,null,null,null,null,null,null,null,"Chaikovskyi Maxim","Moldova-Comrat"]
[null,null,null,null,null,null,null,null,null,null,null,null,null,null,null,null,null,null,null,"Chebac Moiz","Galati"]
[null,null,null,null,null,null,null,null,null,null,null,null,null,null,null,null,null,null,null,"Chelan Catalin","Giroc"]
[null,null,null,null,null,null,null,null,null,null,null,null,null,null,null,null,null,null,null,"Chelaru Tudor","Iasi"]
[null,null,null,null,null,null,null,null,null,null,null,null,null,null,null,null,null,null,null,"Cheran Tiberiu","Bucuresti"]
[null,null,null,null,null,null,null,null,null,null,null,null,null,null,null,null,null,null,null,"Cheranu Alex","Ramnicu Valcea"]
[null,null,null,null,null,null,null,null,null,null,null,null,null,null,null,null,null,null,null,"Cheranu Alexandru","Ramnicu Valcea"]
[null,null,null,null,null,null,null,null,null,null,null,null,null,null,null,null,null,null,null,"Cheregi Nelu","Oradea"]
[null,null,null,null,null,null,null,null,null,null,null,null,null,null,null,null,null,null,null,"Cherhat Dumitru","Cluj Napoca"]
[null,null,null,null,null,null,null,null,null,null,null,null,null,null,null,null,null,null,null,"Chernev Anatolii","Moldova-Taraclia"]
[null,null,null,null,null,null,null,null,null,null,null,null,null,null,null,null,null,null,null,"Chesa Dragos","Viseu"]
[null,null,null,null,null,null,null,null,null,null,null,null,null,null,null,null,null,null,null,"Chesa Rares","Viseu"]
[null,null,null,null,null,null,null,null,null,null,null,null,null,null,null,null,null,null,null,"Chesaraicu Andrei","Bucuresti"]
[null,null,null,null,null,null,null,null,null,null,null,null,null,null,null,null,null,null,null,"Cheseli Rares","Bucuresti"]
[null,null,null,null,null,null,null,null,null,null,null,null,null,null,null,null,null,null,null,"Chesintan Luca","Lipova"]
[null,null,null,null,null,null,null,null,null,null,null,null,null,null,null,null,null,null,null,"Cheta Victor","Zalau"]
[null,null,null,null,null,null,null,null,null,null,null,null,null,null,null,null,null,null,null,"Chetan Laurean","Reghin"]
[null,null,null,null,null,null,null,null,null,null,null,null,null,null,null,null,null,null,null,"Chetronie Liviu","Tecuci"]
[null,null,null,null,null,null,null,null,null,null,null,null,null,null,null,null,null,null,null,"Chibulcutean Bogdan","Tarnaveni"]
[null,null,null,null,null,null,null,null,null,null,null,null,null,null,null,null,null,null,null,"Chibulcutean Ioan","Tarnaveni"]
[null,null,null,null,null,null,null,null,null,null,null,null,null,null,null,null,null,null,null,"Chicaros Lilian","Moldova-Briceni"]
[null,null,null,null,null,null,null,null,null,null,null,null,null,null,null,null,null,null,null,"Chichernea Paul","Bucuresti"]
[null,null,null,null,null,null,null,null,null,null,null,null,null,null,null,null,null,null,null,"Chicou Nikita","Franta"]
[null,null,null,null,null,null,null,null,null,null,null,null,null,null,null,null,null,null,null,"Chidovat David","Darmanesti SV"]
[null,null,null,null,null,null,null,null,null,null,null,null,null,null,null,null,null,null,null,"Chifor Vlad","Targu Mures"]
[null,null,null,null,null,null,null,null,null,null,null,null,null,null,null,null,null,null,null,"Chiose Vladimir","Moldova-Taraclia"]
[null,null,null,null,null,null,null,null,null,null,null,null,null,null,null,null,null,null,null,"Chiper Codrin Gabriel","Bacau"]
[null,null,null,null,null,null,null,null,null,null,null,null,null,null,null,null,null,null,null,"Chira Camelia","Baia Mare"]
[null,null,null,null,null,null,null,null,null,null,null,null,null,null,null,null,null,null,null,"Chira Ciprian","Magiresti"]
[null,null,null,null,null,null,null,null,null,null,null,null,null,null,null,null,null,null,null,"Chiraches Eric Stefan","Bucuresti"]
[null,null,null,null,null,null,null,null,null,null,null,null,null,null,null,null,null,null,null,"Chirca Alexandru","Mioveni"]
[null,null,null,null,null,null,null,null,null,null,null,null,null,null,null,null,null,null,null,"Chirea Alex","Bals"]
[null,null,null,null,null,null,null,null,null,null,null,null,null,null,null,null,null,null,null,"Chirea Laurentiu","Targu Jiu"]
[null,null,null,null,null,null,null,null,null,null,null,null,null,null,null,null,null,null,null,"Chiriac Adrian","Bucuresti"]
[null,null,null,null,null,null,null,null,null,null,null,null,null,null,null,null,null,null,null,"Chiriac Andrei","Bucuresti"]
[null,null,null,null,null,null,null,null,null,null,null,null,null,null,null,null,null,null,null,"Chiriac Nastase","Galati"]
[null,null,null,null,null,null,null,null,null,null,null,null,null,null,null,null,null,null,null,"Chiriac Petru","Roman"]
[null,null,null,null,null,null,null,null,null,null,null,null,null,null,null,null,null,null,null,"Chirica Alexandru","Bucuresti"]
[null,null,null,null,null,null,null,null,null,null,null,null,null,null,null,null,null,null,null,"Chirica Dragos","Vaslui"]
[null,null,null,null,null,null,null,null,null,null,null,null,null,null,null,null,null,null,null,"Chirila Laurentiu","Braila"]
[null,null,null,null,null,null,null,null,null,null,null,null,null,null,null,null,null,null,null,"Chirila Ovidiu","Hunedoara"]
[null,null,null,null,null,null,null,null,null,null,null,null,null,null,null,null,null,null,null,"Chirila Robert","Bucuresti"]
[null,null,null,null,null,null,null,null,null,null,null,null,null,null,null,null,null,null,null,"Chirilescu Crina","Constanta"]
[null,null,null,null,null,null,null,null,null,null,null,null,null,null,null,null,null,null,null,"Chirita Daniel","Bucuresti"]
[null,null,null,null,null,null,null,null,null,null,null,null,null,null,null,null,null,null,null,"Chirita Dmitri","Moldova-Avdarma"]
[null,null,null,null,null,null,null,null,null,null,null,null,null,null,null,null,null,null,null,"Chirita Ioana","Targu Mures"]
[null,null,null,null,null,null,null,null,null,null,null,null,null,null,null,null,null,null,null,"Chirita Ion","Frasinet"]
[null,null,null,null,null,null,null,null,null,null,null,null,null,null,null,null,null,null,null,"Chirita Nicolae","Curtea de Arges"]
[null,null,null,null,null,null,null,null,null,null,null,null,null,null,null,null,null,null,null,"Chiron Adrian","Bucuresti"]
[null,null,null,null,null,null,null,null,null,null,null,null,null,null,null,null,null,null,null,"Chironda Leonid","Moldova"]
[null,null,null,null,null,null,null,null,null,null,null,null,null,null,null,null,null,null,null,"Chironda Nica","Moldova-Balti"]
[null,null,null,null,null,null,null,null,null,null,null,null,null,null,null,null,null,null,null,"Chirtoaca Ion","Ploiesti"]
[null,null,null,null,null,null,null,null,null,null,null,null,null,null,null,null,null,null,null,"Chirtoaca Sergiu","Ploiesti"]
[null,null,null,null,null,null,null,null,null,null,null,null,null,null,null,null,null,null,null,"Chis Mihai","Techirghiol"]
[null,null,null,null,null,null,null,null,null,null,null,null,null,null,null,null,null,null,null,"Chiscan Bogdan","Arad"]
[null,null,null,null,null,null,null,null,null,null,null,null,null,null,null,null,null,null,null,"Chitic Paul","Iasi"]
[null,null,null,null,null,null,null,null,null,null,null,null,null,null,null,null,null,null,null,"Chitigoi Gabriel","Buhusi"]
[null,null,null,null,null,null,null,null,null,null,null,null,null,null,null,null,null,null,null,"Chivaran Alin","Timisoara"]
[null,null,null,null,null,null,null,null,null,null,null,null,null,null,null,null,null,null,null,"Chivari Sebastian","Arad"]
[null,null,null,null,null,null,null,null,null,null,null,null,null,null,null,null,null,null,null,"Chivu Cornel","Craiova"]
[null,null,null,null,null,null,null,null,null,null,null,null,null,null,null,null,null,null,null,"Christova Raia","Bulgaria"]
[null,null,null,null,null,null,null,null,null,null,null,null,null,null,null,null,null,null,null,"Cibotariu Bogdan","Piatra Neamt"]
[null,null,null,null,null,null,null,null,null,null,null,null,null,null,null,null,null,null,null,"Ciciou Ionut Danut","Dumbravita"]
[null,null,null,null,null,null,null,null,null,null,null,null,null,null,null,null,null,null,null,"Cilcic Evgeni","Moldova-Taraclia"]
[null,null,null,null,null,null,null,null,null,null,null,null,null,null,null,null,null,null,null,"Cili Denis","Ludus"]
[null,null,null,null,null,null,null,null,null,null,null,null,null,null,null,null,null,null,null,"Cimbru Andrei","Moinesti"]
[null,null,null,null,null,null,null,null,null,null,null,null,null,null,null,null,null,null,null,"Cimpan Jozsef","Oradea"]
[null,null,null,null,null,null,null,null,null,null,null,null,null,null,null,null,null,null,null,"Cimpanu Mihai","Roman"]
[null,null,null,null,null,null,null,null,null,null,null,null,null,null,null,null,null,null,null,"Cimpoes Bogdan","Moldova"]
[null,null,null,null,null,null,null,null,null,null,null,null,null,null,null,null,null,null,null,"Cimpoies Serghei","Moldova-Briceni"]
[null,null,null,null,null,null,null,null,null,null,null,null,null,null,null,null,null,null,null,"Cimponeriu Ianis","Lugoj"]
[null,null,null,null,null,null,null,null,null,null,null,null,null,null,null,null,null,null,null,"Cindea Cristian","Medias"]
[null,null,null,null,null,null,null,null,null,null,null,null,null,null,null,null,null,null,null,"Ciobanu Adrian","Pitesti"]
[null,null,null,null,null,null,null,null,null,null,null,null,null,null,null,null,null,null,null,"Ciobanu Adrian","Brasov"]
[null,null,null,null,null,null,null,null,null,null,null,null,null,null,null,null,null,null,null,"Ciobanu Andrei","Iasi"]
[null,null,null,null,null,null,null,null,null,null,null,null,null,null,null,null,null,null,null,"Ciobanu Cosmin","Cristian SB"]
[null,null,null,null,null,null,null,null,null,null,null,null,null,null,null,null,null,null,null,"Ciobanu Daniel","Blaj"]
[null,null,null,null,null,null,null,null,null,null,null,null,null,null,null,null,null,null,null,"Ciobanu David Florin","Gura Humorului"]
[null,null,null,null,null,null,null,null,null,null,null,null,null,null,null,null,null,null,null,"Ciobanu Edi","Lugoj"]
[null,null,null,null,null,null,null,null,null,null,null,null,null,null,null,null,null,null,null,"Ciobanu Emilian","Moldova-Cahul"]
[null,null,null,null,null,null,null,null,null,null,null,null,null,null,null,null,null,null,null,"Ciobanu Gabriel","Cluj Napoca"]
[null,null,null,null,null,null,null,null,null,null,null,null,null,null,null,null,null,null,null,"Ciobanu Ioana","Pitesti"]
[null,null,null,null,null,null,null,null,null,null,null,null,null,null,null,null,null,null,null,"Ciobanu Marius","Iasi"]
[null,null,null,null,null,null,null,null,null,null,null,null,null,null,null,null,null,null,null,"Ciobanu Marius","Bucuresti"]
[null,null,null,null,null,null,null,null,null,null,null,null,null,null,null,null,null,null,null,"Ciobanu Mihail","Moldova-Vulcanesti"]
[null,null,null,null,null,null,null,null,null,null,null,null,null,null,null,null,null,null,null,"Ciobanu Raul","Ciohorani"]
[null,null,null,null,null,null,null,null,null,null,null,null,null,null,null,null,null,null,null,"Ciobanu Sabin","Pascani"]
[null,null,null,null,null,null,null,null,null,null,null,null,null,null,null,null,null,null,null,"Ciobanu Sebastian","Mogosesti"]
[null,null,null,null,null,null,null,null,null,null,null,null,null,null,null,null,null,null,null,"Ciobescu Gabriel Radu","Targu Jiu"]
[null,null,null,null,null,null,null,null,null,null,null,null,null,null,null,null,null,null,null,"Cioboiu Dan","Craiova"]
[null,null,null,null,null,null,null,null,null,null,null,null,null,null,null,null,null,null,null,"Cioca Raul","Agnita"]
[null,null,null,null,null,null,null,null,null,null,null,null,null,null,null,null,null,null,null,"Ciocan Ion","Chiajna"]
[null,null,null,null,null,null,null,null,null,null,null,null,null,null,null,null,null,null,null,"Ciocan Ionut Cristian","Bacau"]
[null,null,null,null,null,null,null,null,null,null,null,null,null,null,null,null,null,null,null,"Ciocanel Stefan","Botosani"]
[null,null,null,null,null,null,null,null,null,null,null,null,null,null,null,null,null,null,null,"Ciocani Rafael","Sannicolau Mare"]
[null,null,null,null,null,null,null,null,null,null,null,null,null,null,null,null,null,null,null,"Ciocarlan Vlad","Tulcea"]
[null,null,null,null,null,null,null,null,null,null,null,null,null,null,null,null,null,null,null,"Ciocau Viorel","Bucuresti"]
[null,null,null,null,null,null,null,null,null,null,null,null,null,null,null,null,null,null,null,"Ciocirlan Mircea","Tulcea"]
[null,null,null,null,null,null,null,null,null,null,null,null,null,null,null,null,null,null,null,"Cioloca Stefan","Reghin"]
[null,null,null,null,null,null,null,null,null,null,null,null,null,null,null,null,null,null,null,"Ciolpan Doru","Iasi"]
[null,null,null,null,null,null,null,null,null,null,null,null,null,null,null,null,null,null,null,"Ciolpan Grigore","Viseu"]
[null,null,null,null,null,null,null,null,null,null,null,null,null,null,null,null,null,null,null,"Ciorasteanu Ionut","Brasov"]
[null,null,null,null,null,null,null,null,null,null,null,null,null,null,null,null,null,null,null,"Ciorlip Sorin","Hunedoara"]
[null,null,null,null,null,null,null,null,null,null,null,null,null,null,null,null,null,null,null,"Ciortescu Cristi","Popeni"]
[null,null,null,null,null,null,null,null,null,null,null,null,null,null,null,null,null,null,null,"Ciortescu Mihai","Iasi"]
[null,null,null,null,null,null,null,null,null,null,null,null,null,null,null,null,null,null,null,"Ciotlaus Ilarie","Hunedoara"]
[null,null,null,null,null,null,null,null,null,null,null,null,null,null,null,null,null,null,null,"Cir Florin","Razboieni"]
[null,null,null,null,null,null,null,null,null,null,null,null,null,null,null,null,null,null,null,"Ciripan Camelia","Bucuresti"]
[null,null,null,null,null,null,null,null,null,null,null,null,null,null,null,null,null,null,null,"Cirja Anita","Arad"]
[null,null,null,null,null,null,null,null,null,null,null,null,null,null,null,null,null,null,null,"Cirja Florin","Cotoroaia"]
[null,null,null,null,null,null,null,null,null,null,null,null,null,null,null,null,null,null,null,"Cirja Sorin","Arad"]
[null,null,null,null,null,null,null,null,null,null,null,null,null,null,null,null,null,null,null,"Cirja Timea","Arad"]
[null,null,null,null,null,null,null,null,null,null,null,null,null,null,null,null,null,null,null,"Cirneci Mihai Georgian","Drobeta Tr Severin"]
[null,null,null,null,null,null,null,null,null,null,null,null,null,null,null,null,null,null,null,"Cirsmar Stefan","Siret"]
[null,null,null,null,null,null,null,null,null,null,null,null,null,null,null,null,null,null,null,"Cirstea Alexandru","Bucuresti"]
[null,null,null,null,null,null,null,null,null,null,null,null,null,null,null,null,null,null,null,"Cirstea Matei","Craiova"]
[null,null,null,null,null,null,null,null,null,null,null,null,null,null,null,null,null,null,null,"Cirstea Toni","Targu Jiu"]
[null,null,null,null,null,null,null,null,null,null,null,null,null,null,null,null,null,null,null,"Cisco Eldar","Moldova-Balti"]
[null,null,null,null,null,null,null,null,null,null,null,null,null,null,null,null,null,null,null,"Cisco Elvira","Moldova-Balti"]
[null,null,null,null,null,null,null,null,null,null,null,null,null,null,null,null,null,null,null,"Ciubar Codrut","Bucuresti"]
[null,null,null,null,null,null,null,null,null,null,null,null,null,null,null,null,null,null,null,"Ciublea Vichente","Oravita"]
[null,null,null,null,null,null,null,null,null,null,null,null,null,null,null,null,null,null,null,"Ciubotariu Andrei","Moinesti"]
[null,null,null,null,null,null,null,null,null,null,null,null,null,null,null,null,null,null,null,"Ciubotaru Dan","Piatra Neamt"]
[null,null,null,null,null,null,null,null,null,null,null,null,null,null,null,null,null,null,null,"Ciubotaru Leonas","Iasi"]
[null,null,null,null,null,null,null,null,null,null,null,null,null,null,null,null,null,null,null,"Ciuca Dan","Pitesti"]
[null,null,null,null,null,null,null,null,null,null,null,null,null,null,null,null,null,null,null,"Ciuca Sorin","Iasi"]
[null,null,null,null,null,null,null,null,null,null,null,null,null,null,null,null,null,null,null,"Ciucioiu Dorin","Timisoara"]
[null,null,null,null,null,null,null,null,null,null,null,null,null,null,null,null,null,null,null,"Ciucu Pavel","Pitesti"]
[null,null,null,null,null,null,null,null,null,null,null,null,null,null,null,null,null,null,null,"Ciufudean Lucian","Cluj Napoca"]
[null,null,null,null,null,null,null,null,null,null,null,null,null,null,null,null,null,null,null,"Ciuguianu Marian","Curtea de Arges"]
[null,null,null,null,null,null,null,null,null,null,null,null,null,null,null,null,null,null,null,"Ciulei Adrian","Movila"]
[null,null,null,null,null,null,null,null,null,null,null,null,null,null,null,null,null,null,null,"Ciurca Ovidiu","Targu Mures"]
[null,null,null,null,null,null,null,null,null,null,null,null,null,null,null,null,null,null,null,"Ciurca Sorin","Tarnaveni"]
[null,null,null,null,null,null,null,null,null,null,null,null,null,null,null,null,null,null,null,"Ciurdea Gheorghe","Mogosesti"]
[null,null,null,null,null,null,null,null,null,null,null,null,null,null,null,null,null,null,null,"Ciure Alin","Baia Mare"]
[null,null,null,null,null,null,null,null,null,null,null,null,null,null,null,null,null,null,null,"Ciurez Vladimir","Bucuresti"]
[null,null,null,null,null,null,null,null,null,null,null,null,null,null,null,null,null,null,null,"Ciurlica Mugurel","Pascani"]
[null,null,null,null,null,null,null,null,null,null,null,null,null,null,null,null,null,null,null,"Ciutre Ioan","Zalau"]
[null,null,null,null,null,null,null,null,null,null,null,null,null,null,null,null,null,null,null,"Ciuverca Adrian","Satu Mare"]
[null,null,null,null,null,null,null,null,null,null,null,null,null,null,null,null,null,null,null,"Clapa Danut","Bucuresti"]
[null,null,null,null,null,null,null,null,null,null,null,null,null,null,null,null,null,null,null,"Clej Alexandru","Arad"]
[null,null,null,null,null,null,null,null,null,null,null,null,null,null,null,null,null,null,null,"Clesiu Florin","Deva"]
[null,null,null,null,null,null,null,null,null,null,null,null,null,null,null,null,null,null,null,"Clisic Iosif","Sannicolau Mare"]
[null,null,null,null,null,null,null,null,null,null,null,null,null,null,null,null,null,null,null,"Clontea Mircea","Victoria"]
[null,null,null,null,null,null,null,null,null,null,null,null,null,null,null,null,null,null,null,"Coaja Andrei","Iasi"]
[null,null,null,null,null,null,null,null,null,null,null,null,null,null,null,null,null,null,null,"Coaja Constantin","Bucuresti"]
[null,null,null,null,null,null,null,null,null,null,null,null,null,null,null,null,null,null,null,"Cobeanu Marius","Breaza"]
[null,null,null,null,null,null,null,null,null,null,null,null,null,null,null,null,null,null,null,"Cobzaru Radu","Deva"]
[null,null,null,null,null,null,null,null,null,null,null,null,null,null,null,null,null,null,null,"Coca Mircea","Topoloveni"]
[null,null,null,null,null,null,null,null,null,null,null,null,null,null,null,null,null,null,null,"Cocan Mircea","Bucuresti"]
[null,null,null,null,null,null,null,null,null,null,null,null,null,null,null,null,null,null,null,"Cocea Adrian","Buhusi"]
[null,null,null,null,null,null,null,null,null,null,null,null,null,null,null,null,null,null,null,"Cocea Felix","Bucuresti"]
[null,null,null,null,null,null,null,null,null,null,null,null,null,null,null,null,null,null,null,"Cocea Radu","Bucuresti"]
[null,null,null,null,null,null,null,null,null,null,null,null,null,null,null,null,null,null,null,"Cocerva Nica","Moldova-Balti"]
[null,null,null,null,null,null,null,null,null,null,null,null,null,null,null,null,null,null,null,"Cocis Radu","Lunca Muresului"]
[null,null,null,null,null,null,null,null,null,null,null,null,null,null,null,null,null,null,null,"Coclea Ionel","Braila"]
[null,null,null,null,null,null,null,null,null,null,null,null,null,null,null,null,null,null,null,"Cocolos Alexandru","Bucuresti"]
[null,null,null,null,null,null,null,null,null,null,null,null,null,null,null,null,null,null,null,"Cocos Claudiu","Calan"]
[null,null,null,null,null,null,null,null,null,null,null,null,null,null,null,null,null,null,null,"Cocotan Vasile","Oltenita"]
[null,null,null,null,null,null,null,null,null,null,null,null,null,null,null,null,null,null,null,"Codau Vlad","Oradea"]
[null,null,null,null,null,null,null,null,null,null,null,null,null,null,null,null,null,null,null,"Codin Mihai","Bucuresti"]
[null,null,null,null,null,null,null,null,null,null,null,null,null,null,null,null,null,null,null,"Codreanu Daria","Bucuresti"]
[null,null,null,null,null,null,null,null,null,null,null,null,null,null,null,null,null,null,null,"Codreanu George","Tecuci"]
[null,null,null,null,null,null,null,null,null,null,null,null,null,null,null,null,null,null,null,"Codreanu Iulia","Vatra Dornei"]
[null,null,null,null,null,null,null,null,null,null,null,null,null,null,null,null,null,null,null,"Codreanu Laurentiu","Buzau"]
[null,null,null,null,null,null,null,null,null,null,null,null,null,null,null,null,null,null,null,"Cofari Eugen","Sovata"]
[null,null,null,null,null,null,null,null,null,null,null,null,null,null,null,null,null,null,null,"Coica Laurentia","Iasi"]
[null,null,null,null,null,null,null,null,null,null,null,null,null,null,null,null,null,null,null,"Coiov Nicolae","Arad"]
[null,null,null,null,null,null,null,null,null,null,null,null,null,null,null,null,null,null,null,"Cojanu Ciprian","Bucuresti"]
[null,null,null,null,null,null,null,null,null,null,null,null,null,null,null,null,null,null,null,"Cojocari Renat","Moldova-Briceni"]
[null,null,null,null,null,null,null,null,null,null,null,null,null,null,null,null,null,null,null,"Cojocariu Vasile","Comanesti"]
[null,null,null,null,null,null,null,null,null,null,null,null,null,null,null,null,null,null,null,"Cojocaru Adrian","Suceava"]
[null,null,null,null,null,null,null,null,null,null,null,null,null,null,null,null,null,null,null,"Cojocaru Alexandru","Arad"]
[null,null,null,null,null,null,null,null,null,null,null,null,null,null,null,null,null,null,null,"Cojocaru Andru","Targoviste"]
[null,null,null,null,null,null,null,null,null,null,null,null,null,null,null,null,null,null,null,"Cojocaru Cosmin","Bucuresti"]
[null,null,null,null,null,null,null,null,null,null,null,null,null,null,null,null,null,null,null,"Cojocaru Cosmin","Breaza"]
[null,null,null,null,null,null,null,null,null,null,null,null,null,null,null,null,null,null,null,"Cojocaru Cristian","Targu Jiu"]
[null,null,null,null,null,null,null,null,null,null,null,null,null,null,null,null,null,null,null,"Cojocaru Didi","Ramnicu Valcea"]
[null,null,null,null,null,null,null,null,null,null,null,null,null,null,null,null,null,null,null,"Cojocaru Ion","Ploiesti"]
[null,null,null,null,null,null,null,null,null,null,null,null,null,null,null,null,null,null,null,"Cojocaru Mitica","Braila"]
[null,null,null,null,null,null,null,null,null,null,null,null,null,null,null,null,null,null,null,"Cojocaru Nicusor","Brasov"]
[null,null,null,null,null,null,null,null,null,null,null,null,null,null,null,null,null,null,null,"Cojocaru Stefan","Suceava"]
[null,null,null,null,null,null,null,null,null,null,null,null,null,null,null,null,null,null,null,"Cojocaru Stefan","Targu Jiu"]
[null,null,null,null,null,null,null,null,null,null,null,null,null,null,null,null,null,null,null,"Colcer Nicolae","Toplita"]
[null,null,null,null,null,null,null,null,null,null,null,null,null,null,null,null,null,null,null,"Colceru Paul","Comanesti"]
[null,null,null,null,null,null,null,null,null,null,null,null,null,null,null,null,null,null,null,"Colda Dorin","Lupeni"]
[null,null,null,null,null,null,null,null,null,null,null,null,null,null,null,null,null,null,null,"Colesniuc Romeo","Botosani"]
[null,null,null,null,null,null,null,null,null,null,null,null,null,null,null,null,null,null,null,"Colotin Catalin","Targu Frumos"]
[null,null,null,null,null,null,null,null,null,null,null,null,null,null,null,null,null,null,null,"Coltau Aurica","Salonta"]
[null,null,null,null,null,null,null,null,null,null,null,null,null,null,null,null,null,null,null,"Coman Alexandru","Bucuresti"]
[null,null,null,null,null,null,null,null,null,null,null,null,null,null,null,null,null,null,null,"Coman Denis","Cluj Napoca"]
[null,null,null,null,null,null,null,null,null,null,null,null,null,null,null,null,null,null,null,"Coman Florin","Bucuresti"]
[null,null,null,null,null,null,null,null,null,null,null,null,null,null,null,null,null,null,null,"Coman Gabriel","Bucuresti"]
[null,null,null,null,null,null,null,null,null,null,null,null,null,null,null,null,null,null,null,"Coman Radu","Campina"]
[null,null,null,null,null,null,null,null,null,null,null,null,null,null,null,null,null,null,null,"Coman Razvan","Lugoj"]
[null,null,null,null,null,null,null,null,null,null,null,null,null,null,null,null,null,null,null,"Coman Violeta","Brasov"]
[null,null,null,null,null,null,null,null,null,null,null,null,null,null,null,null,null,null,null,"Comanescu Marian","Branceni"]
[null,null,null,null,null,null,null,null,null,null,null,null,null,null,null,null,null,null,null,"Comanoiu Andrei","Bucuresti"]
[null,null,null,null,null,null,null,null,null,null,null,null,null,null,null,null,null,null,null,"Comanoiu Claudiu","Bucuresti"]
[null,null,null,null,null,null,null,null,null,null,null,null,null,null,null,null,null,null,null,"Comsa Aurel","Nedelea"]
[null,null,null,null,null,null,null,null,null,null,null,null,null,null,null,null,null,null,null,"Comsa Dan","Sibiu"]
[null,null,null,null,null,null,null,null,null,null,null,null,null,null,null,null,null,null,null,"Condrea Nicolae","Alba Iulia"]
[null,null,null,null,null,null,null,null,null,null,null,null,null,null,null,null,null,null,null,"Constantin Adrian","Craiova"]
[null,null,null,null,null,null,null,null,null,null,null,null,null,null,null,null,null,null,null,"Constantin Alessia","Lugoj"]
[null,null,null,null,null,null,null,null,null,null,null,null,null,null,null,null,null,null,null,"Constantin Alexandru","Bucuresti"]
[null,null,null,null,null,null,null,null,null,null,null,null,null,null,null,null,null,null,null,"Constantin Alexandru","Filipestii de Targ"]
[null,null,null,null,null,null,null,null,null,null,null,null,null,null,null,null,null,null,null,"Constantin Alexandru","Cluj Napoca"]
[null,null,null,null,null,null,null,null,null,null,null,null,null,null,null,null,null,null,null,"Constantin Andrei","Buzau"]
[null,null,null,null,null,null,null,null,null,null,null,null,null,null,null,null,null,null,null,"Constantin Ciprian","Buzau"]
[null,null,null,null,null,null,null,null,null,null,null,null,null,null,null,null,null,null,null,"Constantin Cristian","Curtea de Arges"]
[null,null,null,null,null,null,null,null,null,null,null,null,null,null,null,null,null,null,null,"Constantin Cristina","Bucuresti"]
[null,null,null,null,null,null,null,null,null,null,null,null,null,null,null,null,null,null,null,"Constantin Daniel","Filipestii de Targ"]
[null,null,null,null,null,null,null,null,null,null,null,null,null,null,null,null,null,null,null,"Constantin Eduard","Bucuresti"]
[null,null,null,null,null,null,null,null,null,null,null,null,null,null,null,null,null,null,null,"Constantin Filip","Sinaia"]
[null,null,null,null,null,null,null,null,null,null,null,null,null,null,null,null,null,null,null,"Constantin Gabriela","Bucuresti"]
[null,null,null,null,null,null,null,null,null,null,null,null,null,null,null,null,null,null,null,"Constantin Ionut","Odobesti"]
[null,null,null,null,null,null,null,null,null,null,null,null,null,null,null,null,null,null,null,"Constantin Luca Andrei","Focsani"]
[null,null,null,null,null,null,null,null,null,null,null,null,null,null,null,null,null,null,null,"Constantin Mihaela","Bucuresti"]
[null,null,null,null,null,null,null,null,null,null,null,null,null,null,null,null,null,null,null,"Constantin Rares","Focsani"]
[null,null,null,null,null,null,null,null,null,null,null,null,null,null,null,null,null,null,null,"Constantin Teodor","Bucuresti"]
[null,null,null,null,null,null,null,null,null,null,null,null,null,null,null,null,null,null,null,"Constantin Valentin","Ploiesti"]
[null,null,null,null,null,null,null,null,null,null,null,null,null,null,null,null,null,null,null,"Constantin Vlad","Bucuresti"]
[null,null,null,null,null,null,null,null,null,null,null,null,null,null,null,null,null,null,null,"Constantinescu Liviu","Curtea de Arges"]
[null,null,null,null,null,null,null,null,null,null,null,null,null,null,null,null,null,null,null,"Constantinescu Marius","Bucuresti"]
[null,null,null,null,null,null,null,null,null,null,null,null,null,null,null,null,null,null,null,"Constantinescu Valentin","Vizejdia"]
[null,null,null,null,null,null,null,null,null,null,null,null,null,null,null,null,null,null,null,"Constantinovici Ciprian","Liteni"]
[null,null,null,null,null,null,null,null,null,null,null,null,null,null,null,null,null,null,null,"Cont Cosmin","Gherla"]
[null,null,null,null,null,null,null,null,null,null,null,null,null,null,null,null,null,null,null,"Cont Mircea","Hunedoara"]
[null,null,null,null,null,null,null,null,null,null,null,null,null,null,null,null,null,null,null,"Contes Vasile","Timisoara"]
[null,null,null,null,null,null,null,null,null,null,null,null,null,null,null,null,null,null,null,"Contiu Flaviu","Floresti"]
[null,null,null,null,null,null,null,null,null,null,null,null,null,null,null,null,null,null,null,"Contiu Mircea","Brasov"]
[null,null,null,null,null,null,null,null,null,null,null,null,null,null,null,null,null,null,null,"Copacinschi Raisa","Vaslui"]
[null,null,null,null,null,null,null,null,null,null,null,null,null,null,null,null,null,null,null,"Corabian Daniel","Cluj Napoca"]
[null,null,null,null,null,null,null,null,null,null,null,null,null,null,null,null,null,null,null,"Corbeanu David","Slatina"]
[null,null,null,null,null,null,null,null,null,null,null,null,null,null,null,null,null,null,null,"Corbu Darius","Valenii de Munte"]
[null,null,null,null,null,null,null,null,null,null,null,null,null,null,null,null,null,null,null,"Corbu Mihai Cosmin","Pitesti"]
[null,null,null,null,null,null,null,null,null,null,null,null,null,null,null,null,null,null,null,"Corburean Ioan","Dumbraveni SB"]
[null,null,null,null,null,null,null,null,null,null,null,null,null,null,null,null,null,null,null,"Cordun Eugen","Sibiu"]
[null,null,null,null,null,null,null,null,null,null,null,null,null,null,null,null,null,null,null,"Corduneanu Eduard","Suceava"]
[null,null,null,null,null,null,null,null,null,null,null,null,null,null,null,null,null,null,null,"Cornea Marian","Constanta"]
[null,null,null,null,null,null,null,null,null,null,null,null,null,null,null,null,null,null,null,"Corneanu Sorin","Botosani"]
[null,null,null,null,null,null,null,null,null,null,null,null,null,null,null,null,null,null,null,"Corniet Nicolai","Moldova-Balti"]
[null,null,null,null,null,null,null,null,null,null,null,null,null,null,null,null,null,null,null,"Coroama Mircea","Suceava"]
[null,null,null,null,null,null,null,null,null,null,null,null,null,null,null,null,null,null,null,"Corocaescu Cristian","Suceava"]
[null,null,null,null,null,null,null,null,null,null,null,null,null,null,null,null,null,null,null,"Corodeanu Mihai","Tecuci"]
[null,null,null,null,null,null,null,null,null,null,null,null,null,null,null,null,null,null,null,"Coroi Sergiu","Moldova-Leova"]
[null,null,null,null,null,null,null,null,null,null,null,null,null,null,null,null,null,null,null,"Coroiu Andrei","Roman"]
[null,null,null,null,null,null,null,null,null,null,null,null,null,null,null,null,null,null,null,"Coroiu Dan","Roman"]
[null,null,null,null,null,null,null,null,null,null,null,null,null,null,null,null,null,null,null,"Coroliuc Maria","Moldova-Balti"]
[null,null,null,null,null,null,null,null,null,null,null,null,null,null,null,null,null,null,null,"Coroncan Andrei","Targu Mures"]
[null,null,null,null,null,null,null,null,null,null,null,null,null,null,null,null,null,null,null,"Corozel Vasile","Barlad"]
[null,null,null,null,null,null,null,null,null,null,null,null,null,null,null,null,null,null,null,"Cosau Toader","Targu Neamt"]
[null,null,null,null,null,null,null,null,null,null,null,null,null,null,null,null,null,null,null,"Cosma Cosmin","Iasi"]
[null,null,null,null,null,null,null,null,null,null,null,null,null,null,null,null,null,null,null,"Cosmin Alexa","Cornetu"]
[null,null,null,null,null,null,null,null,null,null,null,null,null,null,null,null,null,null,null,"Costache Claudiu","Calarasi"]
[null,null,null,null,null,null,null,null,null,null,null,null,null,null,null,null,null,null,null,"Costache Dragos Valentin","Vadeni"]
[null,null,null,null,null,null,null,null,null,null,null,null,null,null,null,null,null,null,null,"Costache Rosioru Cristian","Timisoara"]
[null,null,null,null,null,null,null,null,null,null,null,null,null,null,null,null,null,null,null,"Coste Rafael","Lupeni"]
[null,null,null,null,null,null,null,null,null,null,null,null,null,null,null,null,null,null,null,"Costea Adrian","Deva"]
[null,null,null,null,null,null,null,null,null,null,null,null,null,null,null,null,null,null,null,"Costea Claudiu","Negresti Oas"]
[null,null,null,null,null,null,null,null,null,null,null,null,null,null,null,null,null,null,null,"Costea Constantin","Oradea"]
[null,null,null,null,null,null,null,null,null,null,null,null,null,null,null,null,null,null,null,"Costea Costin","Bucuresti"]
[null,null,null,null,null,null,null,null,null,null,null,null,null,null,null,null,null,null,null,"Costea Dominic","Medias"]
[null,null,null,null,null,null,null,null,null,null,null,null,null,null,null,null,null,null,null,"Costea Mircea","Alba Iulia"]
[null,null,null,null,null,null,null,null,null,null,null,null,null,null,null,null,null,null,null,"Costea Stefan","Tarnaveni"]
[null,null,null,null,null,null,null,null,null,null,null,null,null,null,null,null,null,null,null,"Costeant Tiberiu","Margina"]
[null,null,null,null,null,null,null,null,null,null,null,null,null,null,null,null,null,null,null,"Costescu Cezar","Galati"]
[null,null,null,null,null,null,null,null,null,null,null,null,null,null,null,null,null,null,null,"Costin Bogdan","Iasi"]
[null,null,null,null,null,null,null,null,null,null,null,null,null,null,null,null,null,null,null,"Costin Filip","Iasi"]
[null,null,null,null,null,null,null,null,null,null,null,null,null,null,null,null,null,null,null,"Cotca Dacian","Oradea"]
[null,null,null,null,null,null,null,null,null,null,null,null,null,null,null,null,null,null,null,"Cotet George","Pascani"]
[null,null,null,null,null,null,null,null,null,null,null,null,null,null,null,null,null,null,null,"Cotet Nicolae","Braila"]
[null,null,null,null,null,null,null,null,null,null,null,null,null,null,null,null,null,null,null,"Cotoara Daniel","Iasi"]
[null,null,null,null,null,null,null,null,null,null,null,null,null,null,null,null,null,null,null,"Cotoara Toader","Suceava"]
[null,null,null,null,null,null,null,null,null,null,null,null,null,null,null,null,null,null,null,"Cotos Maria","Straja"]
[null,null,null,null,null,null,null,null,null,null,null,null,null,null,null,null,null,null,null,"Cotruta Alexandru Florin","Vaslui"]
[null,null,null,null,null,null,null,null,null,null,null,null,null,null,null,null,null,null,null,"Cotun Leo","Suceava"]
[null,null,null,null,null,null,null,null,null,null,null,null,null,null,null,null,null,null,null,"Covaci Eduardo","Arad"]
[null,null,null,null,null,null,null,null,null,null,null,null,null,null,null,null,null,null,null,"Covaci Vasile","Sighisoara"]
[null,null,null,null,null,null,null,null,null,null,null,null,null,null,null,null,null,null,null,"Covalciuc Bogdan","Iasi"]
[null,null,null,null,null,null,null,null,null,null,null,null,null,null,null,null,null,null,null,"Covasa Gloria","Pascani"]
[null,null,null,null,null,null,null,null,null,null,null,null,null,null,null,null,null,null,null,"Cozma Catalin","Falticeni"]
[null,null,null,null,null,null,null,null,null,null,null,null,null,null,null,null,null,null,null,"Cozma Dan","Dej"]
[null,null,null,null,null,null,null,null,null,null,null,null,null,null,null,null,null,null,null,"Cozma David","Moldova-Comrat"]
[null,null,null,null,null,null,null,null,null,null,null,null,null,null,null,null,null,null,null,"Cozma Delia","Bistrita"]
[null,null,null,null,null,null,null,null,null,null,null,null,null,null,null,null,null,null,null,"Cozma Georgiana","Bistrita"]
[null,null,null,null,null,null,null,null,null,null,null,null,null,null,null,null,null,null,null,"Cozma Gheorghe","Bistrita"]
[null,null,null,null,null,null,null,null,null,null,null,null,null,null,null,null,null,null,null,"Cozma Ioan","Buhusi"]
[null,null,null,null,null,null,null,null,null,null,null,null,null,null,null,null,null,null,null,"Cozma Ion","Moldova-Comrat"]
[null,null,null,null,null,null,null,null,null,null,null,null,null,null,null,null,null,null,null,"Cozma Maria","Dej"]
[null,null,null,null,null,null,null,null,null,null,null,null,null,null,null,null,null,null,null,"Cozma Stefan","Apahida"]
[null,null,null,null,null,null,null,null,null,null,null,null,null,null,null,null,null,null,null,"Cracana Ionut","Targu Neamt"]
[null,null,null,null,null,null,null,null,null,null,null,null,null,null,null,null,null,null,null,"Cracanel Gerard","Agnita"]
[null,null,null,null,null,null,null,null,null,null,null,null,null,null,null,null,null,null,null,"Cracanel Gerard Sr","Agnita"]
[null,null,null,null,null,null,null,null,null,null,null,null,null,null,null,null,null,null,null,"Craciun Calin","Oradea"]
[null,null,null,null,null,null,null,null,null,null,null,null,null,null,null,null,null,null,null,"Craciun David Mihai","Bucuresti"]
[null,null,null,null,null,null,null,null,null,null,null,null,null,null,null,null,null,null,null,"Craciun Dragos","Filipestii de Targ"]
[null,null,null,null,null,null,null,null,null,null,null,null,null,null,null,null,null,null,null,"Craciun Mihaita","Brasov"]
[null,null,null,null,null,null,null,null,null,null,null,null,null,null,null,null,null,null,null,"Craciun Rafael","Videle"]
[null,null,null,null,null,null,null,null,null,null,null,null,null,null,null,null,null,null,null,"Craciun Roberto","Videle"]
[null,null,null,null,null,null,null,null,null,null,null,null,null,null,null,null,null,null,null,"Craciunescu Mihai","Calarasi"]
[null,null,null,null,null,null,null,null,null,null,null,null,null,null,null,null,null,null,null,"Craciunescu Vlad","Bucuresti"]
[null,null,null,null,null,null,null,null,null,null,null,null,null,null,null,null,null,null,null,"Craciunica Gabriel","Calarasi"]
[null,null,null,null,null,null,null,null,null,null,null,null,null,null,null,null,null,null,null,"Crainic Adrian","Orastie"]
[null,null,null,null,null,null,null,null,null,null,null,null,null,null,null,null,null,null,null,"Craiovan Victor","Resita"]
[null,null,null,null,null,null,null,null,null,null,null,null,null,null,null,null,null,null,null,"Craiu Catalin","Videle"]
[null,null,null,null,null,null,null,null,null,null,null,null,null,null,null,null,null,null,null,"Craja Gina Alexandra","Bucuresti"]
[null,null,null,null,null,null,null,null,null,null,null,null,null,null,null,null,null,null,null,"Cramba Cristinel","Iasi"]
[null,null,null,null,null,null,null,null,null,null,null,null,null,null,null,null,null,null,null,"Cranta Andrei","Bucuresti"]
[null,null,null,null,null,null,null,null,null,null,null,null,null,null,null,null,null,null,null,"Cranta Gabriel","Bucuresti"]
[null,null,null,null,null,null,null,null,null,null,null,null,null,null,null,null,null,null,null,"Crasnojon Alexandra","Moldova-Balti"]
[null,null,null,null,null,null,null,null,null,null,null,null,null,null,null,null,null,null,null,"Crasnoscec Alexandr","Moldova-Vulcanesti"]
[null,null,null,null,null,null,null,null,null,null,null,null,null,null,null,null,null,null,null,"Craus Marian","Bucuresti"]
[null,null,null,null,null,null,null,null,null,null,null,null,null,null,null,null,null,null,null,"Cravcenco Dmitrii","Ucraina-Kiev"]
[null,null,null,null,null,null,null,null,null,null,null,null,null,null,null,null,null,null,null,"Creta Petru","Luna CJ"]
[null,null,null,null,null,null,null,null,null,null,null,null,null,null,null,null,null,null,null,"Cretan Radu","Bucuresti"]
[null,null,null,null,null,null,null,null,null,null,null,null,null,null,null,null,null,null,null,"Cretu Catalin","Floresti"]
[null,null,null,null,null,null,null,null,null,null,null,null,null,null,null,null,null,null,null,"Cretu Ionut","Bucuresti"]
[null,null,null,null,null,null,null,null,null,null,null,null,null,null,null,null,null,null,null,"Cretu Ionut","Bacau"]
[null,null,null,null,null,null,null,null,null,null,null,null,null,null,null,null,null,null,null,"Cretu Marian","Craiova"]
[null,null,null,null,null,null,null,null,null,null,null,null,null,null,null,null,null,null,null,"Cretu Ricardo","Luna CJ"]
[null,null,null,null,null,null,null,null,null,null,null,null,null,null,null,null,null,null,null,"Crihana Ciprian","Bucuresti"]
[null,null,null,null,null,null,null,null,null,null,null,null,null,null,null,null,null,null,null,"Crisan Alexandru","Cluj Napoca"]
[null,null,null,null,null,null,null,null,null,null,null,null,null,null,null,null,null,null,null,"Crisan Alexandru","Oradea"]
[null,null,null,null,null,null,null,null,null,null,null,null,null,null,null,null,null,null,null,"Crisan Beniamin","Sighetu Marmatiei"]
[null,null,null,null,null,null,null,null,null,null,null,null,null,null,null,null,null,null,null,"Crisan Casian","Agnita"]
[null,null,null,null,null,null,null,null,null,null,null,null,null,null,null,null,null,null,null,"Crisan Cristian","Oradea"]
[null,null,null,null,null,null,null,null,null,null,null,null,null,null,null,null,null,null,null,"Crisan Matei","Focsani"]
[null,null,null,null,null,null,null,null,null,null,null,null,null,null,null,null,null,null,null,"Crisan Ovidiu","Cluj Napoca"]
[null,null,null,null,null,null,null,null,null,null,null,null,null,null,null,null,null,null,null,"Crisan Ovidiu","Sibiu"]
[null,null,null,null,null,null,null,null,null,null,null,null,null,null,null,null,null,null,null,"Crisan Patrik","Oradea"]
[null,null,null,null,null,null,null,null,null,null,null,null,null,null,null,null,null,null,null,"Crisan Romeo","Estelnic"]
[null,null,null,null,null,null,null,null,null,null,null,null,null,null,null,null,null,null,null,"Crisan Tihamer","Valea Scurta"]
[null,null,null,null,null,null,null,null,null,null,null,null,null,null,null,null,null,null,null,"Cristache George","Bucuresti"]
[null,null,null,null,null,null,null,null,null,null,null,null,null,null,null,null,null,null,null,"Cristanus Cristian","Timisoara"]
[null,null,null,null,null,null,null,null,null,null,null,null,null,null,null,null,null,null,null,"Criste Mihai Marius","Cluj Napoca"]
[null,null,null,null,null,null,null,null,null,null,null,null,null,null,null,null,null,null,null,"Cristea Adrian","Bucuresti"]
[null,null,null,null,null,null,null,null,null,null,null,null,null,null,null,null,null,null,null,"Cristea Alexandru Costin","Bucuresti"]
[null,null,null,null,null,null,null,null,null,null,null,null,null,null,null,null,null,null,null,"Cristea Alin Mihai","Bucuresti"]
[null,null,null,null,null,null,null,null,null,null,null,null,null,null,null,null,null,null,null,"Cristea Calin","Cluj Napoca"]
[null,null,null,null,null,null,null,null,null,null,null,null,null,null,null,null,null,null,null,"Cristea Calin","Targu Mures"]
[null,null,null,null,null,null,null,null,null,null,null,null,null,null,null,null,null,null,null,"Cristea Cristian Claudiu","Blaj"]
[null,null,null,null,null,null,null,null,null,null,null,null,null,null,null,null,null,null,null,"Cristea Daniel","Bistrita"]
[null,null,null,null,null,null,null,null,null,null,null,null,null,null,null,null,null,null,null,"Cristea Gabriel","Straoane"]
[null,null,null,null,null,null,null,null,null,null,null,null,null,null,null,null,null,null,null,"Cristea Ovidiu","Bucuresti"]
[null,null,null,null,null,null,null,null,null,null,null,null,null,null,null,null,null,null,null,"Cristea Virgil","Cugir"]
[null,null,null,null,null,null,null,null,null,null,null,null,null,null,null,null,null,null,null,"Cristescu Cristian","Bucuresti"]
[null,null,null,null,null,null,null,null,null,null,null,null,null,null,null,null,null,null,null,"Cristian Enache","Bucuresti"]
[null,null,null,null,null,null,null,null,null,null,null,null,null,null,null,null,null,null,null,"Cristian Vasile","Harsova"]
[null,null,null,null,null,null,null,null,null,null,null,null,null,null,null,null,null,null,null,"Cristofor Razvan","Moinesti"]
[null,null,null,null,null,null,null,null,null,null,null,null,null,null,null,null,null,null,null,"Cristoiu Cozmin","Bucuresti"]
[null,null,null,null,null,null,null,null,null,null,null,null,null,null,null,null,null,null,null,"Crivat Matei","Bucuresti"]
[null,null,null,null,null,null,null,null,null,null,null,null,null,null,null,null,null,null,null,"Croitoru Adrian Nicolae","Brasov"]
[null,null,null,null,null,null,null,null,null,null,null,null,null,null,null,null,null,null,null,"Croitoru Alexandru","Iasi"]
[null,null,null,null,null,null,null,null,null,null,null,null,null,null,null,null,null,null,null,"Croitoru Alin","Brasov"]
[null,null,null,null,null,null,null,null,null,null,null,null,null,null,null,null,null,null,null,"Croitoru Bogdan","Constanta"]
[null,null,null,null,null,null,null,null,null,null,null,null,null,null,null,null,null,null,null,"Croitoru Carli","Craiova"]
[null,null,null,null,null,null,null,null,null,null,null,null,null,null,null,null,null,null,null,"Croitoru Daniel","Craiova"]
[null,null,null,null,null,null,null,null,null,null,null,null,null,null,null,null,null,null,null,"Croitoru Doru","Vaslui"]
[null,null,null,null,null,null,null,null,null,null,null,null,null,null,null,null,null,null,null,"Croitoru Gabriel","Craiova"]
[null,null,null,null,null,null,null,null,null,null,null,null,null,null,null,null,null,null,null,"Croitoru Ianiss","Brasov"]
[null,null,null,null,null,null,null,null,null,null,null,null,null,null,null,null,null,null,null,"Croitoru Ionut","Iasi"]
[null,null,null,null,null,null,null,null,null,null,null,null,null,null,null,null,null,null,null,"Cruceru Ion","Ramnicu Sarat"]
[null,null,null,null,null,null,null,null,null,null,null,null,null,null,null,null,null,null,null,"Cruceru Sergiu","Targu Jiu"]
[null,null,null,null,null,null,null,null,null,null,null,null,null,null,null,null,null,null,null,"Crutarciuc Alexandru Sr","Moldova-Lipcani"]
[null,null,null,null,null,null,null,null,null,null,null,null,null,null,null,null,null,null,null,"Crutian Alexei","Moldova-Balti"]
[null,null,null,null,null,null,null,null,null,null,null,null,null,null,null,null,null,null,null,"Csaki Zsolt","Tomesti"]
[null,null,null,null,null,null,null,null,null,null,null,null,null,null,null,null,null,null,null,"Csaky Tiberiu","Resita"]
[null,null,null,null,null,null,null,null,null,null,null,null,null,null,null,null,null,null,null,"Csatlos Bela","Toplita"]
[null,null,null,null,null,null,null,null,null,null,null,null,null,null,null,null,null,null,null,"Cserei Gabor","Sovata"]
[null,null,null,null,null,null,null,null,null,null,null,null,null,null,null,null,null,null,null,"Cserei Stefan","Apahida"]
[null,null,null,null,null,null,null,null,null,null,null,null,null,null,null,null,null,null,null,"Csibi Arpad","Ditrau"]
[null,null,null,null,null,null,null,null,null,null,null,null,null,null,null,null,null,null,null,"Csibi Razvan","Lunca Muresului"]
[null,null,null,null,null,null,null,null,null,null,null,null,null,null,null,null,null,null,null,"Csiki Alexandru","Tarnaveni"]
[null,null,null,null,null,null,null,null,null,null,null,null,null,null,null,null,null,null,null,"Csiki Ioan","Targu Mures"]
[null,null,null,null,null,null,null,null,null,null,null,null,null,null,null,null,null,null,null,"Csiki Sandor","Cluj Napoca"]
[null,null,null,null,null,null,null,null,null,null,null,null,null,null,null,null,null,null,null,"Csiszer Sandor","Targu Mures"]
[null,null,null,null,null,null,null,null,null,null,null,null,null,null,null,null,null,null,null,"Csiszer Tibor","Sighisoara"]
[null,null,null,null,null,null,null,null,null,null,null,null,null,null,null,null,null,null,null,"Csoka Andras","Hunedoara"]
[null,null,null,null,null,null,null,null,null,null,null,null,null,null,null,null,null,null,null,"Csokany Gheorghe","Sannicolau Mare"]
[null,null,null,null,null,null,null,null,null,null,null,null,null,null,null,null,null,null,null,"Csorbai Lorand","Sanpaul"]
[null,null,null,null,null,null,null,null,null,null,null,null,null,null,null,null,null,null,null,"Csulak Jozsef","Sfantu Gheorghe"]
[null,null,null,null,null,null,null,null,null,null,null,null,null,null,null,null,null,null,null,"Csurulya Gyula","Miercurea Ciuc"]
[null,null,null,null,null,null,null,null,null,null,null,null,null,null,null,null,null,null,null,"Cuc Remus","Hotarel"]
[null,null,null,null,null,null,null,null,null,null,null,null,null,null,null,null,null,null,null,"Cucereavaia Natalia","Moldova-Balti"]
[null,null,null,null,null,null,null,null,null,null,null,null,null,null,null,null,null,null,null,"Cucereavii Mihail","Moldova-Balti"]
[null,null,null,null,null,null,null,null,null,null,null,null,null,null,null,null,null,null,null,"Cuciureanu Daniel","Ploiesti"]
[null,null,null,null,null,null,null,null,null,null,null,null,null,null,null,null,null,null,null,"Cucu Gabriela","Brasov"]
[null,null,null,null,null,null,null,null,null,null,null,null,null,null,null,null,null,null,null,"Cucu Ioan Emanuel","Brasov"]
[null,null,null,null,null,null,null,null,null,null,null,null,null,null,null,null,null,null,null,"Cucurigu Paul","Vatra Dornei"]
[null,null,null,null,null,null,null,null,null,null,null,null,null,null,null,null,null,null,null,"Cudalbu Ciprian","Ploiesti"]
[null,null,null,null,null,null,null,null,null,null,null,null,null,null,null,null,null,null,null,"Cuiujuclu Piotr","Moldova-Cazaclia"]
[null,null,null,null,null,null,null,null,null,null,null,null,null,null,null,null,null,null,null,"Cuiumju Victor","Moldova-Vulcanesti"]
[null,null,null,null,null,null,null,null,null,null,null,null,null,null,null,null,null,null,null,"Culda Andrei","Oradea"]
[null,null,null,null,null,null,null,null,null,null,null,null,null,null,null,null,null,null,null,"Cumpaniciu Alin","Barlad"]
[null,null,null,null,null,null,null,null,null,null,null,null,null,null,null,null,null,null,null,"Cuna Gheorghe","Buzau"]
[null,null,null,null,null,null,null,null,null,null,null,null,null,null,null,null,null,null,null,"Cuntan Ioan","Saliste"]
[null,null,null,null,null,null,null,null,null,null,null,null,null,null,null,null,null,null,null,"Curaciuc Claudiu","Resita"]
[null,null,null,null,null,null,null,null,null,null,null,null,null,null,null,null,null,null,null,"Curcin Vladimir","Varset"]
[null,null,null,null,null,null,null,null,null,null,null,null,null,null,null,null,null,null,null,"Curea Sara","Cluj Napoca"]
[null,null,null,null,null,null,null,null,null,null,null,null,null,null,null,null,null,null,null,"Curelea Andrei","Bucuresti"]
[null,null,null,null,null,null,null,null,null,null,null,null,null,null,null,null,null,null,null,"Curelea Petre","Lehliu Gara"]
[null,null,null,null,null,null,null,null,null,null,null,null,null,null,null,null,null,null,null,"Curinnoi Andrei","Moldova-Balti"]
[null,null,null,null,null,null,null,null,null,null,null,null,null,null,null,null,null,null,null,"Curpas Ioan","Oradea"]
[null,null,null,null,null,null,null,null,null,null,null,null,null,null,null,null,null,null,null,"Curtea Daniel","Viseu"]
[null,null,null,null,null,null,null,null,null,null,null,null,null,null,null,null,null,null,null,"Curtea Lucas","Viseu"]
[null,null,null,null,null,null,null,null,null,null,null,null,null,null,null,null,null,null,null,"Curtis Petru","Moldova-Coteala"]
[null,null,null,null,null,null,null,null,null,null,null,null,null,null,null,null,null,null,null,"Curtut Cezar","Arad"]
[null,null,null,null,null,null,null,null,null,null,null,null,null,null,null,null,null,null,null,"Curut Gabriel","Timisoara"]
[null,null,null,null,null,null,null,null,null,null,null,null,null,null,null,null,null,null,null,"Curutiu Corin","Dumbraveni SB"]
[null,null,null,null,null,null,null,null,null,null,null,null,null,null,null,null,null,null,null,"Curutiu Traian","Dumbraveni SB"]
[null,null,null,null,null,null,null,null,null,null,null,null,null,null,null,null,null,null,null,"Cusmir Raul","Oradea"]
[null,null,null,null,null,null,null,null,null,null,null,null,null,null,null,null,null,null,null,"Cut Dan","Caransebes"]
[null,null,null,null,null,null,null,null,null,null,null,null,null,null,null,null,null,null,null,"Cutar Ionut","Targoviste"]
[null,null,null,null,null,null,null,null,null,null,null,null,null,null,null,null,null,null,null,"Cutcovschi Ada","Moldova"]
[null,null,null,null,null,null,null,null,null,null,null,null,null,null,null,null,null,null,null,"Cutcovschi Damian","Moldova"]
[null,null,null,null,null,null,null,null,null,null,null,null,null,null,null,null,null,null,null,"Cuzincu Iulian","Bucuresti"]
[null,null,null,null,null,null,null,null,null,null,null,null,null,null,null,null,null,null,null,"Cuzmin Gabriel","Navodari"]
[null,null,null,null,null,null,null,null,null,null,null,null,null,null,null,null,null,null,null,"Cuznetova Polina","Moldova-Comrat"]
[null,null,null,null,null,null,null,null,null,null,null,null,null,null,null,null,null,null,null,"Czigler Albert","Supuru de jos"]
[null,null,null,null,null,null,null,null,null,null,null,null,null,null,null,null,null,null,null,"Czimbalmos Gyula","Lazarea"]
[null,null,null,null,null,null,null,null,null,null,null,null,null,null,null,null,null,null,null,"Dabacan Dorin","Tarnaveni"]
[null,null,null,null,null,null,null,null,null,null,null,null,null,null,null,null,null,null,null,"Dabija Razvan","Iasi"]
[null,null,null,null,null,null,null,null,null,null,null,null,null,null,null,null,null,null,null,"Dabu Alex","Bucuresti"]
[null,null,null,null,null,null,null,null,null,null,null,null,null,null,null,null,null,null,null,"Dabucean Matei","Hateg"]
[null,null,null,null,null,null,null,null,null,null,null,null,null,null,null,null,null,null,null,"Daia Cristina","Bucuresti"]
[null,null,null,null,null,null,null,null,null,null,null,null,null,null,null,null,null,null,null,"Daianu Ion","Timisoara"]
[null,null,null,null,null,null,null,null,null,null,null,null,null,null,null,null,null,null,null,"Daineanu Paul","Constanta"]
[null,null,null,null,null,null,null,null,null,null,null,null,null,null,null,null,null,null,null,"Dalalau Dora","Targu Mures"]
[null,null,null,null,null,null,null,null,null,null,null,null,null,null,null,null,null,null,null,"Damaschin Sorin","Suceava"]
[null,null,null,null,null,null,null,null,null,null,null,null,null,null,null,null,null,null,null,"Damian Alin","Campia Turzii"]
[null,null,null,null,null,null,null,null,null,null,null,null,null,null,null,null,null,null,null,"Damian Gelu","Comanesti"]
[null,null,null,null,null,null,null,null,null,null,null,null,null,null,null,null,null,null,null,"Damian Mircea","Bistrita"]
[null,null,null,null,null,null,null,null,null,null,null,null,null,null,null,null,null,null,null,"Damian Sebastian","Paulesti"]
[null,null,null,null,null,null,null,null,null,null,null,null,null,null,null,null,null,null,null,"Damian Toma","Comanesti"]
[null,null,null,null,null,null,null,null,null,null,null,null,null,null,null,null,null,null,null,"Damian Vasile","Nasaud"]
[null,null,null,null,null,null,null,null,null,null,null,null,null,null,null,null,null,null,null,"Damoc George","Pildesti"]
[null,null,null,null,null,null,null,null,null,null,null,null,null,null,null,null,null,null,null,"Damse Daniel","Oradea"]
[null,null,null,null,null,null,null,null,null,null,null,null,null,null,null,null,null,null,null,"Dan Alexandru","Alexandria"]
[null,null,null,null,null,null,null,null,null,null,null,null,null,null,null,null,null,null,null,"Dan Popa","Tecuci"]
[null,null,null,null,null,null,null,null,null,null,null,null,null,null,null,null,null,null,null,"Dan Radu","Zalau"]
[null,null,null,null,null,null,null,null,null,null,null,null,null,null,null,null,null,null,null,"Danaila Cornel","Galati"]
[null,null,null,null,null,null,null,null,null,null,null,null,null,null,null,null,null,null,null,"Danalache Daniel","Navodari"]
[null,null,null,null,null,null,null,null,null,null,null,null,null,null,null,null,null,null,null,"Dancioiu Antonio","Targoviste"]
[null,null,null,null,null,null,null,null,null,null,null,null,null,null,null,null,null,null,null,"Danciu Beatrice","Brasov"]
[null,null,null,null,null,null,null,null,null,null,null,null,null,null,null,null,null,null,null,"Dancu Luminita","Sibiu"]
[null,null,null,null,null,null,null,null,null,null,null,null,null,null,null,null,null,null,null,"Dancu Luminita","Medias"]
[null,null,null,null,null,null,null,null,null,null,null,null,null,null,null,null,null,null,null,"Daneliuc Gabi","Selimbar"]
[null,null,null,null,null,null,null,null,null,null,null,null,null,null,null,null,null,null,null,"Danescu Marius","Dumbraveni SB"]
[null,null,null,null,null,null,null,null,null,null,null,null,null,null,null,null,null,null,null,"Dangulea Tudor","Dumbraveni SB"]
[null,null,null,null,null,null,null,null,null,null,null,null,null,null,null,null,null,null,null,"Dani Darko","Pancevo"]
[null,null,null,null,null,null,null,null,null,null,null,null,null,null,null,null,null,null,null,"Dani Leo","Arad"]
[null,null,null,null,null,null,null,null,null,null,null,null,null,null,null,null,null,null,null,"Danila Alexandru","Cugir"]
[null,null,null,null,null,null,null,null,null,null,null,null,null,null,null,null,null,null,null,"Danila Eugeniu","Bucuresti"]
[null,null,null,null,null,null,null,null,null,null,null,null,null,null,null,null,null,null,null,"Danila Florin","Cugir"]
[null,null,null,null,null,null,null,null,null,null,null,null,null,null,null,null,null,null,null,"Dansolean Stefan","Cluj Napoca"]
[null,null,null,null,null,null,null,null,null,null,null,null,null,null,null,null,null,null,null,"Dansorean Stefan","Cluj Napoca"]
[null,null,null,null,null,null,null,null,null,null,null,null,null,null,null,null,null,null,null,"Danu Ion","Moldova-Balti"]
[null,null,null,null,null,null,null,null,null,null,null,null,null,null,null,null,null,null,null,"Daraba Gabriel","Botosani"]
[null,null,null,null,null,null,null,null,null,null,null,null,null,null,null,null,null,null,null,"Dari Valeriu","Moldova-Cahul"]
[null,null,null,null,null,null,null,null,null,null,null,null,null,null,null,null,null,null,null,"Darie Gabriel","Comanesti"]
[null,null,null,null,null,null,null,null,null,null,null,null,null,null,null,null,null,null,null,"Darmaz Ion","Targoviste"]
[null,null,null,null,null,null,null,null,null,null,null,null,null,null,null,null,null,null,null,"Daroiu Augustin","Bucuresti"]
[null,null,null,null,null,null,null,null,null,null,null,null,null,null,null,null,null,null,null,"Darosi Alin","Bistrita"]
[null,null,null,null,null,null,null,null,null,null,null,null,null,null,null,null,null,null,null,"Darosi Robert","Bistrita"]
[null,null,null,null,null,null,null,null,null,null,null,null,null,null,null,null,null,null,null,"Daroti Florin","Lipova"]
[null,null,null,null,null,null,null,null,null,null,null,null,null,null,null,null,null,null,null,"Darvasi Ibolya","Salonta"]
[null,null,null,null,null,null,null,null,null,null,null,null,null,null,null,null,null,null,null,"Dasca Laurentiu","Bucuresti"]
[null,null,null,null,null,null,null,null,null,null,null,null,null,null,null,null,null,null,null,"Dascal Tiberiu","Cluj Napoca"]
[null,null,null,null,null,null,null,null,null,null,null,null,null,null,null,null,null,null,null,"Dascalasu Viorel","Bucuresti"]
[null,null,null,null,null,null,null,null,null,null,null,null,null,null,null,null,null,null,null,"Dascalescu Rares","Hunedoara"]
[null,null,null,null,null,null,null,null,null,null,null,null,null,null,null,null,null,null,null,"Dascalu Cosmin Stefan","Cluj Napoca"]
[null,null,null,null,null,null,null,null,null,null,null,null,null,null,null,null,null,null,null,"Dascalu Cristian","Bucuresti"]
[null,null,null,null,null,null,null,null,null,null,null,null,null,null,null,null,null,null,null,"Dascalu Matei","Buhusi"]
[null,null,null,null,null,null,null,null,null,null,null,null,null,null,null,null,null,null,null,"Dascalu Octavian","Suceava"]
[null,null,null,null,null,null,null,null,null,null,null,null,null,null,null,null,null,null,null,"Dascalu Sergiu","Vorona"]
[null,null,null,null,null,null,null,null,null,null,null,null,null,null,null,null,null,null,null,"David Andrei","Slobozia"]
[null,null,null,null,null,null,null,null,null,null,null,null,null,null,null,null,null,null,null,"David Marian","Braila"]
[null,null,null,null,null,null,null,null,null,null,null,null,null,null,null,null,null,null,null,"David Sergiu Danut","Bucuresti"]
[null,null,null,null,null,null,null,null,null,null,null,null,null,null,null,null,null,null,null,"Davydov Valerii","Ucraina-Kiev"]
[null,null,null,null,null,null,null,null,null,null,null,null,null,null,null,null,null,null,null,"Deac Adrian","Dumbravita"]
[null,null,null,null,null,null,null,null,null,null,null,null,null,null,null,null,null,null,null,"Deac Isabela","Dumbravita"]
[null,null,null,null,null,null,null,null,null,null,null,null,null,null,null,null,null,null,null,"Deac Octavian","Dumbraveni SB"]
[null,null,null,null,null,null,null,null,null,null,null,null,null,null,null,null,null,null,null,"Deac Vasile","Ianova"]
[null,null,null,null,null,null,null,null,null,null,null,null,null,null,null,null,null,null,null,"Deaconu Adrian","Sibiu"]
[null,null,null,null,null,null,null,null,null,null,null,null,null,null,null,null,null,null,null,"Deaconu Lucian","Curtea de Arges"]
[null,null,null,null,null,null,null,null,null,null,null,null,null,null,null,null,null,null,null,"Deak Sandor","Cluj Napoca"]
[null,null,null,null,null,null,null,null,null,null,null,null,null,null,null,null,null,null,null,"Deak Valentin","Sebis"]
[null,null,null,null,null,null,null,null,null,null,null,null,null,null,null,null,null,null,null,"Decean Darian","Sibiu"]
[null,null,null,null,null,null,null,null,null,null,null,null,null,null,null,null,null,null,null,"Decsei Emma","Ludus"]
[null,null,null,null,null,null,null,null,null,null,null,null,null,null,null,null,null,null,null,"Defta Mihai","Iedera"]
[null,null,null,null,null,null,null,null,null,null,null,null,null,null,null,null,null,null,null,"Degau Toni","Stei"]
[null,null,null,null,null,null,null,null,null,null,null,null,null,null,null,null,null,null,null,"Degianschi Obrad","Resita"]
[null,null,null,null,null,null,null,null,null,null,null,null,null,null,null,null,null,null,null,"Dehelean Alexandru","Dumbravita"]
[null,null,null,null,null,null,null,null,null,null,null,null,null,null,null,null,null,null,null,"Dehelean Octavian","Timisoara"]
[null,null,null,null,null,null,null,null,null,null,null,null,null,null,null,null,null,null,null,"Delca Aian","Constanta"]
[null,null,null,null,null,null,null,null,null,null,null,null,null,null,null,null,null,null,null,"Delev Alexandru","Moldova-Edinet"]
[null,null,null,null,null,null,null,null,null,null,null,null,null,null,null,null,null,null,null,"Delev Andreea","Moldova-Balti"]
[null,null,null,null,null,null,null,null,null,null,null,null,null,null,null,null,null,null,null,"Delev Paula","Moldova-Balti"]
[null,null,null,null,null,null,null,null,null,null,null,null,null,null,null,null,null,null,null,"Deli Iura","Moldova-Budjac"]
[null,null,null,null,null,null,null,null,null,null,null,null,null,null,null,null,null,null,null,"Deli Victoria","Moldova-Comrat"]
[null,null,null,null,null,null,null,null,null,null,null,null,null,null,null,null,null,null,null,"Delibaltov Gennadii","Moldova-Taraclia"]
[null,null,null,null,null,null,null,null,null,null,null,null,null,null,null,null,null,null,null,"Demenciuc Iurie","Moldova-Balti"]
[null,null,null,null,null,null,null,null,null,null,null,null,null,null,null,null,null,null,null,"Demeter Attila","Campia Turzii"]
[null,null,null,null,null,null,null,null,null,null,null,null,null,null,null,null,null,null,null,"Demian Daniel","Arad"]
[null,null,null,null,null,null,null,null,null,null,null,null,null,null,null,null,null,null,null,"Demian Radu","Oradea"]
[null,null,null,null,null,null,null,null,null,null,null,null,null,null,null,null,null,null,null,"Demjen Eszter","Zalau"]
[null,null,null,null,null,null,null,null,null,null,null,null,null,null,null,null,null,null,null,"Demsa Damian","Brasov"]
[null,null,null,null,null,null,null,null,null,null,null,null,null,null,null,null,null,null,null,"Dena Corneliu","Giurgiu"]
[null,null,null,null,null,null,null,null,null,null,null,null,null,null,null,null,null,null,null,"Denes Ferenc","Praid"]
[null,null,null,null,null,null,null,null,null,null,null,null,null,null,null,null,null,null,null,"Denes Ludovic","Varsolt"]
[null,null,null,null,null,null,null,null,null,null,null,null,null,null,null,null,null,null,null,"Denis Cismas Ionut","Sighisoara"]
[null,null,null,null,null,null,null,null,null,null,null,null,null,null,null,null,null,null,null,"Derbac Ivan","Caransebes"]
[null,null,null,null,null,null,null,null,null,null,null,null,null,null,null,null,null,null,null,"Derzsi Gabor","Hunedoara"]
[null,null,null,null,null,null,null,null,null,null,null,null,null,null,null,null,null,null,null,"Derzsi Lorand","Targu Mures"]
[null,null,null,null,null,null,null,null,null,null,null,null,null,null,null,null,null,null,null,"Dezso Attila","Dej"]
[null,null,null,null,null,null,null,null,null,null,null,null,null,null,null,null,null,null,null,"Dezso Lorand","Dej"]
[null,null,null,null,null,null,null,null,null,null,null,null,null,null,null,null,null,null,null,"Diaconescu Cristian","Floresti"]
[null,null,null,null,null,null,null,null,null,null,null,null,null,null,null,null,null,null,null,"Diaconescu Dragos","Craiova"]
[null,null,null,null,null,null,null,null,null,null,null,null,null,null,null,null,null,null,null,"Diaconescu Ion","Galati"]
[null,null,null,null,null,null,null,null,null,null,null,null,null,null,null,null,null,null,null,"Diaconescu Lucian","Targoviste"]
[null,null,null,null,null,null,null,null,null,null,null,null,null,null,null,null,null,null,null,"Diaconu Dan","Hunedoara"]
[null,null,null,null,null,null,null,null,null,null,null,null,null,null,null,null,null,null,null,"Diaconu Ionut","Moinesti"]
[null,null,null,null,null,null,null,null,null,null,null,null,null,null,null,null,null,null,null,"Diaconu Mariana","Moinesti"]
[null,null,null,null,null,null,null,null,null,null,null,null,null,null,null,null,null,null,null,"Diaconu Vasile Iliuta","Izvoarele"]
[null,null,null,null,null,null,null,null,null,null,null,null,null,null,null,null,null,null,null,"Dica Danut","Caracal"]
[null,null,null,null,null,null,null,null,null,null,null,null,null,null,null,null,null,null,null,"Dicu Andrei","Bucuresti"]
[null,null,null,null,null,null,null,null,null,null,null,null,null,null,null,null,null,null,null,"Dicu Bogdan","Voinesti DB"]
[null,null,null,null,null,null,null,null,null,null,null,null,null,null,null,null,null,null,null,"Dicu Mircea","Vaslui"]
[null,null,null,null,null,null,null,null,null,null,null,null,null,null,null,null,null,null,null,"Dicu Vlad","Vaslui"]
[null,null,null,null,null,null,null,null,null,null,null,null,null,null,null,null,null,null,null,"Didu Gabriel","Moldova"]
[null,null,null,null,null,null,null,null,null,null,null,null,null,null,null,null,null,null,null,"Digolean Alexandru","Moldova-Larga"]
[null,null,null,null,null,null,null,null,null,null,null,null,null,null,null,null,null,null,null,"Dilan Pavel","Iasi"]
[null,null,null,null,null,null,null,null,null,null,null,null,null,null,null,null,null,null,null,"Dima Alexandru","Dumbravita"]
[null,null,null,null,null,null,null,null,null,null,null,null,null,null,null,null,null,null,null,"Dima Alexia","Pitesti"]
[null,null,null,null,null,null,null,null,null,null,null,null,null,null,null,null,null,null,null,"Dima Gabriel","Braila"]
[null,null,null,null,null,null,null,null,null,null,null,null,null,null,null,null,null,null,null,"Dima George","Ploiesti"]
[null,null,null,null,null,null,null,null,null,null,null,null,null,null,null,null,null,null,null,"Dima Ionel","Braila"]
[null,null,null,null,null,null,null,null,null,null,null,null,null,null,null,null,null,null,null,"Dima Victor","Azuga"]
[null,null,null,null,null,null,null,null,null,null,null,null,null,null,null,null,null,null,null,"Dimache Maria","Brasov"]
[null,null,null,null,null,null,null,null,null,null,null,null,null,null,null,null,null,null,null,"Dimache Marian","Braila"]
[null,null,null,null,null,null,null,null,null,null,null,null,null,null,null,null,null,null,null,"Dimeny Sanyi","Crasna"]
[null,null,null,null,null,null,null,null,null,null,null,null,null,null,null,null,null,null,null,"Dimitriu Vasile","Bacau"]
[null,null,null,null,null,null,null,null,null,null,null,null,null,null,null,null,null,null,null,"Dimitrov Alexandr","Bulgaria"]
[null,null,null,null,null,null,null,null,null,null,null,null,null,null,null,null,null,null,null,"Dimitrov Claudiu Marian","Suceava"]
[null,null,null,null,null,null,null,null,null,null,null,null,null,null,null,null,null,null,null,"Dina Alexandru","Bucuresti"]
[null,null,null,null,null,null,null,null,null,null,null,null,null,null,null,null,null,null,null,"Dinca Alexandru","Calarasi"]
[null,null,null,null,null,null,null,null,null,null,null,null,null,null,null,null,null,null,null,"Dinca Bogdan","Alexandria"]
[null,null,null,null,null,null,null,null,null,null,null,null,null,null,null,null,null,null,null,"Dinca Dorinel","Calarasi"]
[null,null,null,null,null,null,null,null,null,null,null,null,null,null,null,null,null,null,null,"Dinescu Alin","Bucuresti"]
[null,null,null,null,null,null,null,null,null,null,null,null,null,null,null,null,null,null,null,"Dinescu Dan","Oradea"]
[null,null,null,null,null,null,null,null,null,null,null,null,null,null,null,null,null,null,null,"Dinescu Mihai","Curtea de Arges"]
[null,null,null,null,null,null,null,null,null,null,null,null,null,null,null,null,null,null,null,"Dinic Jovica","Zajecar Serbia"]
[null,null,null,null,null,null,null,null,null,null,null,null,null,null,null,null,null,null,null,"Dinicescu Ion","Pitesti"]
[null,null,null,null,null,null,null,null,null,null,null,null,null,null,null,null,null,null,null,"Dinu Adrian","Darmanesti"]
[null,null,null,null,null,null,null,null,null,null,null,null,null,null,null,null,null,null,null,"Dinu Catalin","Slobozia"]
[null,null,null,null,null,null,null,null,null,null,null,null,null,null,null,null,null,null,null,"Dinu Cristian","Mizil"]
[null,null,null,null,null,null,null,null,null,null,null,null,null,null,null,null,null,null,null,"Dinu Cristian","Sotanga"]
[null,null,null,null,null,null,null,null,null,null,null,null,null,null,null,null,null,null,null,"Dinu Gheorghe","Bucuresti"]
[null,null,null,null,null,null,null,null,null,null,null,null,null,null,null,null,null,null,null,"Dinu Ion","Bals"]
[null,null,null,null,null,null,null,null,null,null,null,null,null,null,null,null,null,null,null,"Dinu Marius","Videle"]
[null,null,null,null,null,null,null,null,null,null,null,null,null,null,null,null,null,null,null,"Dinu Mihai","Moreni"]
[null,null,null,null,null,null,null,null,null,null,null,null,null,null,null,null,null,null,null,"Dinu Vladimir","Bucuresti"]
[null,null,null,null,null,null,null,null,null,null,null,null,null,null,null,null,null,null,null,"Dior Dorin","Bucuresti"]
[null,null,null,null,null,null,null,null,null,null,null,null,null,null,null,null,null,null,null,"Dirdala Catalin","Focsani"]
[null,null,null,null,null,null,null,null,null,null,null,null,null,null,null,null,null,null,null,"Dirlea Ana","Aiud"]
[null,null,null,null,null,null,null,null,null,null,null,null,null,null,null,null,null,null,null,"Dirlea Ioan","Aiud"]
[null,null,null,null,null,null,null,null,null,null,null,null,null,null,null,null,null,null,null,"Dita Diana","Bucuresti"]
[null,null,null,null,null,null,null,null,null,null,null,null,null,null,null,null,null,null,null,"Ditu Constantin","Tulcea"]
[null,null,null,null,null,null,null,null,null,null,null,null,null,null,null,null,null,null,null,"Djan Branislav","Varset"]
[null,null,null,null,null,null,null,null,null,null,null,null,null,null,null,null,null,null,null,"Dobai Patricia","Alesd"]
[null,null,null,null,null,null,null,null,null,null,null,null,null,null,null,null,null,null,null,"Dobai Sandor","Targu Mures"]
[null,null,null,null,null,null,null,null,null,null,null,null,null,null,null,null,null,null,null,"Dobai Stefan","Alesd"]
[null,null,null,null,null,null,null,null,null,null,null,null,null,null,null,null,null,null,null,"Dobinda Alexandru","Arad"]
[null,null,null,null,null,null,null,null,null,null,null,null,null,null,null,null,null,null,null,"Dobinda Dinu","Arad"]
[null,null,null,null,null,null,null,null,null,null,null,null,null,null,null,null,null,null,null,"Dobos Robert","Iasi"]
[null,null,null,null,null,null,null,null,null,null,null,null,null,null,null,null,null,null,null,"Dobre Alexandru","Bucuresti"]
[null,null,null,null,null,null,null,null,null,null,null,null,null,null,null,null,null,null,null,"Dobre Elisei","Jimbolia"]
[null,null,null,null,null,null,null,null,null,null,null,null,null,null,null,null,null,null,null,"Dobre Nicolae","Alesd"]
[null,null,null,null,null,null,null,null,null,null,null,null,null,null,null,null,null,null,null,"Dobrea Nicolae","Alesd"]
[null,null,null,null,null,null,null,null,null,null,null,null,null,null,null,null,null,null,null,"Dobrean Ruben","Faget"]
[null,null,null,null,null,null,null,null,null,null,null,null,null,null,null,null,null,null,null,"Dobrica Marius","Videle"]
[null,null,null,null,null,null,null,null,null,null,null,null,null,null,null,null,null,null,null,"Dobrica Razvan","Videle"]
[null,null,null,null,null,null,null,null,null,null,null,null,null,null,null,null,null,null,null,"Dobrin Adrian","Targoviste"]
[null,null,null,null,null,null,null,null,null,null,null,null,null,null,null,null,null,null,null,"Dobrin David","Alexandria"]
[null,null,null,null,null,null,null,null,null,null,null,null,null,null,null,null,null,null,null,"Dobrin Dragos","Alexandria"]
[null,null,null,null,null,null,null,null,null,null,null,null,null,null,null,null,null,null,null,"Docan Cristian","Bucuresti"]
[null,null,null,null,null,null,null,null,null,null,null,null,null,null,null,null,null,null,null,"Dochita Mircea","Braila"]
[null,null,null,null,null,null,null,null,null,null,null,null,null,null,null,null,null,null,null,"Doda Cosmin","Chisineu Cris"]
[null,null,null,null,null,null,null,null,null,null,null,null,null,null,null,null,null,null,null,"Dodon Sebastian","Dej"]
[null,null,null,null,null,null,null,null,null,null,null,null,null,null,null,null,null,null,null,"Dodon Vlad","Dej"]
[null,null,null,null,null,null,null,null,null,null,null,null,null,null,null,null,null,null,null,"Dodu Costica","Focsani"]
[null,null,null,null,null,null,null,null,null,null,null,null,null,null,null,null,null,null,null,"Dogaru Iurie","Moldova-Cahul"]
[null,null,null,null,null,null,null,null,null,null,null,null,null,null,null,null,null,null,null,"Dogaru Mihai","Drobeta Tr Severin"]
[null,null,null,null,null,null,null,null,null,null,null,null,null,null,null,null,null,null,null,"Dogaru Teodor","Bucuresti"]
[null,null,null,null,null,null,null,null,null,null,null,null,null,null,null,null,null,null,null,"Dolis Narcis","Comanesti"]
[null,null,null,null,null,null,null,null,null,null,null,null,null,null,null,null,null,null,null,"Dombi Tihamer","Miercurea Ciuc"]
[null,null,null,null,null,null,null,null,null,null,null,null,null,null,null,null,null,null,null,"Domnescu Mirela","Iasi"]
[null,null,null,null,null,null,null,null,null,null,null,null,null,null,null,null,null,null,null,"Domokos Andras","Targu Mures"]
[null,null,null,null,null,null,null,null,null,null,null,null,null,null,null,null,null,null,null,"Domokos David","Lunca Muresului"]
[null,null,null,null,null,null,null,null,null,null,null,null,null,null,null,null,null,null,null,"Domokos Jozsef","Targu Mures"]
[null,null,null,null,null,null,null,null,null,null,null,null,null,null,null,null,null,null,null,"Domokos Vitan","Targu Secuiesc"]
[null,null,null,null,null,null,null,null,null,null,null,null,null,null,null,null,null,null,null,"Donca Daniel","Brasov"]
[null,null,null,null,null,null,null,null,null,null,null,null,null,null,null,null,null,null,null,"Doncea Catalin","Giurgiu"]
[null,null,null,null,null,null,null,null,null,null,null,null,null,null,null,null,null,null,null,"Donea George","Brasov"]
[null,null,null,null,null,null,null,null,null,null,null,null,null,null,null,null,null,null,null,"Donisan Costel","Pascani"]
[null,null,null,null,null,null,null,null,null,null,null,null,null,null,null,null,null,null,null,"Donosa Vasile","Braila"]
[null,null,null,null,null,null,null,null,null,null,null,null,null,null,null,null,null,null,null,"Dontu Ionut","Calarasi"]
[null,null,null,null,null,null,null,null,null,null,null,null,null,null,null,null,null,null,null,"Dorcu Emanuel","Tamaseni"]
[null,null,null,null,null,null,null,null,null,null,null,null,null,null,null,null,null,null,null,"Doroftei Kevyn","Arad"]
[null,null,null,null,null,null,null,null,null,null,null,null,null,null,null,null,null,null,null,"Dosoftei Kevin","Arad"]
[null,null,null,null,null,null,null,null,null,null,null,null,null,null,null,null,null,null,null,"Dosoftei Traian","Mangalia"]
[null,null,null,null,null,null,null,null,null,null,null,null,null,null,null,null,null,null,null,"Dospinescu George","Sibiu"]
[null,null,null,null,null,null,null,null,null,null,null,null,null,null,null,null,null,null,null,"Dracea Gabriel","Sinaia"]
[null,null,null,null,null,null,null,null,null,null,null,null,null,null,null,null,null,null,null,"Dragan Alin","Bucuresti"]
[null,null,null,null,null,null,null,null,null,null,null,null,null,null,null,null,null,null,null,"Dragan Cristian","Bucuresti"]
[null,null,null,null,null,null,null,null,null,null,null,null,null,null,null,null,null,null,null,"Dragan Florin","Targu Mures"]
[null,null,null,null,null,null,null,null,null,null,null,null,null,null,null,null,null,null,null,"Dragan Marius","Hunedoara"]
[null,null,null,null,null,null,null,null,null,null,null,null,null,null,null,null,null,null,null,"Dragan Paul","Zalau"]
[null,null,null,null,null,null,null,null,null,null,null,null,null,null,null,null,null,null,null,"Dragan Petru Ioan","Iasi"]
[null,null,null,null,null,null,null,null,null,null,null,null,null,null,null,null,null,null,null,"Dragan Razvan","Alexandria"]
[null,null,null,null,null,null,null,null,null,null,null,null,null,null,null,null,null,null,null,"Draganescu Laurentiu","Pascani"]
[null,null,null,null,null,null,null,null,null,null,null,null,null,null,null,null,null,null,null,"Draganescu Stefan","Pascani"]
[null,null,null,null,null,null,null,null,null,null,null,null,null,null,null,null,null,null,null,"Draganescu Viorel","Ploiesti"]
[null,null,null,null,null,null,null,null,null,null,null,null,null,null,null,null,null,null,null,"Draghia Ionel Eugen","Drobeta Tr Severin"]
[null,null,null,null,null,null,null,null,null,null,null,null,null,null,null,null,null,null,null,"Draghici Eduard","Apahida"]
[null,null,null,null,null,null,null,null,null,null,null,null,null,null,null,null,null,null,null,"Draghin Florin","Caransebes"]
[null,null,null,null,null,null,null,null,null,null,null,null,null,null,null,null,null,null,null,"Dragoi Andrei","Azuga"]
[null,null,null,null,null,null,null,null,null,null,null,null,null,null,null,null,null,null,null,"Dragoljevic Branko","Novi Sad"]
[null,null,null,null,null,null,null,null,null,null,null,null,null,null,null,null,null,null,null,"Dragomanu Ana Maria","Comanesti"]
[null,null,null,null,null,null,null,null,null,null,null,null,null,null,null,null,null,null,null,"Dragomanu Florin","Comanesti"]
[null,null,null,null,null,null,null,null,null,null,null,null,null,null,null,null,null,null,null,"Dragomer Tamas","Bretcu"]
[null,null,null,null,null,null,null,null,null,null,null,null,null,null,null,null,null,null,null,"Dragomir Cristian","Bucuresti"]
[null,null,null,null,null,null,null,null,null,null,null,null,null,null,null,null,null,null,null,"Dragomir Dan","Bucuresti"]
[null,null,null,null,null,null,null,null,null,null,null,null,null,null,null,null,null,null,null,"Dragomir Ioan","Cristian SB"]
[null,null,null,null,null,null,null,null,null,null,null,null,null,null,null,null,null,null,null,"Dragomir Iulian","Targoviste"]
[null,null,null,null,null,null,null,null,null,null,null,null,null,null,null,null,null,null,null,"Dragomir Iuliu","Turnu Magurele"]
[null,null,null,null,null,null,null,null,null,null,null,null,null,null,null,null,null,null,null,"Dragomir Marian","Slatina Timis"]
[null,null,null,null,null,null,null,null,null,null,null,null,null,null,null,null,null,null,null,"Dragomir Marius","Targu Mures"]
[null,null,null,null,null,null,null,null,null,null,null,null,null,null,null,null,null,null,null,"Dragomir Mihai","Armenis"]
[null,null,null,null,null,null,null,null,null,null,null,null,null,null,null,null,null,null,null,"Dragomir Mircea","Medias"]
[null,null,null,null,null,null,null,null,null,null,null,null,null,null,null,null,null,null,null,"Dragomir Mitica","Sibiu"]
[null,null,null,null,null,null,null,null,null,null,null,null,null,null,null,null,null,null,null,"Dragomir Nicolae","Armenis"]
[null,null,null,null,null,null,null,null,null,null,null,null,null,null,null,null,null,null,null,"Dragomir Noemi","Brasov"]
[null,null,null,null,null,null,null,null,null,null,null,null,null,null,null,null,null,null,null,"Dragomirescu Stefan","Bucuresti"]
[null,null,null,null,null,null,null,null,null,null,null,null,null,null,null,null,null,null,null,"Dragos Matei","Brasov"]
[null,null,null,null,null,null,null,null,null,null,null,null,null,null,null,null,null,null,null,"Dragotescu Iulian Darius","Deva"]
[null,null,null,null,null,null,null,null,null,null,null,null,null,null,null,null,null,null,null,"Dragu Bogdan","Brasov"]
[null,null,null,null,null,null,null,null,null,null,null,null,null,null,null,null,null,null,null,"Dragu Fanel","Slobozia"]
[null,null,null,null,null,null,null,null,null,null,null,null,null,null,null,null,null,null,null,"Dragu Raul","Focsani"]
[null,null,null,null,null,null,null,null,null,null,null,null,null,null,null,null,null,null,null,"Dragut Tudor","Moinesti"]
[null,null,null,null,null,null,null,null,null,null,null,null,null,null,null,null,null,null,null,"Dragutoiu Petre","Bucuresti"]
[null,null,null,null,null,null,null,null,null,null,null,null,null,null,null,null,null,null,null,"Dramba Daniel Dumitru","Bucuresti"]
[null,null,null,null,null,null,null,null,null,null,null,null,null,null,null,null,null,null,null,"Dranca David","Aiud"]
[null,null,null,null,null,null,null,null,null,null,null,null,null,null,null,null,null,null,null,"Drapac Gheorghe","Brasov"]
[null,null,null,null,null,null,null,null,null,null,null,null,null,null,null,null,null,null,null,"Drimbau Calin","Marghita"]
[null,null,null,null,null,null,null,null,null,null,null,null,null,null,null,null,null,null,null,"Drimus Mihai","Sighetu Marmatiei"]
[null,null,null,null,null,null,null,null,null,null,null,null,null,null,null,null,null,null,null,"Drinc Ionut","Oradea"]
[null,null,null,null,null,null,null,null,null,null,null,null,null,null,null,null,null,null,null,"Drinceanu Lilian","Oravita"]
[null,null,null,null,null,null,null,null,null,null,null,null,null,null,null,null,null,null,null,"Droj Dumitru","Zalau"]
[null,null,null,null,null,null,null,null,null,null,null,null,null,null,null,null,null,null,null,"Drugas Laurentiu Florin","Bucuresti"]
[null,null,null,null,null,null,null,null,null,null,null,null,null,null,null,null,null,null,null,"Drulea Petru","Jimbolia"]
[null,null,null,null,null,null,null,null,null,null,null,null,null,null,null,null,null,null,null,"Drulea Radu Vlad","Jimbolia"]
[null,null,null,null,null,null,null,null,null,null,null,null,null,null,null,null,null,null,null,"Drumen Dumitru","Vatra Dornei"]
[null,null,null,null,null,null,null,null,null,null,null,null,null,null,null,null,null,null,null,"Drumen Evelina","Vatra Dornei"]
[null,null,null,null,null,null,null,null,null,null,null,null,null,null,null,null,null,null,null,"Duagi Ervin","Galati"]
[null,null,null,null,null,null,null,null,null,null,null,null,null,null,null,null,null,null,null,"Dubrovin Evghenii","Moldova-Balti"]
[null,null,null,null,null,null,null,null,null,null,null,null,null,null,null,null,null,null,null,"Duca Bebe","Curtea de Arges"]
[null,null,null,null,null,null,null,null,null,null,null,null,null,null,null,null,null,null,null,"Duca George","Curtea de Arges"]
[null,null,null,null,null,null,null,null,null,null,null,null,null,null,null,null,null,null,null,"Duca Marius","Sibiu"]
[null,null,null,null,null,null,null,null,null,null,null,null,null,null,null,null,null,null,null,"Duceac Catalin","Botosani"]
[null,null,null,null,null,null,null,null,null,null,null,null,null,null,null,null,null,null,null,"Dudun Ghenadi","Moldova-Taraclia"]
[null,null,null,null,null,null,null,null,null,null,null,null,null,null,null,null,null,null,null,"Duhan Regina Elena","Bucuresti"]
[null,null,null,null,null,null,null,null,null,null,null,null,null,null,null,null,null,null,null,"Duka Peter","Marghita"]
[null,null,null,null,null,null,null,null,null,null,null,null,null,null,null,null,null,null,null,"Dulap Marin","Moldova-Edinet"]
[null,null,null,null,null,null,null,null,null,null,null,null,null,null,null,null,null,null,null,"Dulap Ovidiu","Moldova-Edinet"]
[null,null,null,null,null,null,null,null,null,null,null,null,null,null,null,null,null,null,null,"Dulap Viorel","Moldova-Edinet"]
[null,null,null,null,null,null,null,null,null,null,null,null,null,null,null,null,null,null,null,"Dulca Raul","Dumbravita"]
[null,null,null,null,null,null,null,null,null,null,null,null,null,null,null,null,null,null,null,"Dulgheru Alexandru","Bucuresti"]
[null,null,null,null,null,null,null,null,null,null,null,null,null,null,null,null,null,null,null,"Dulgheru Gheorghe","Buzau"]
[null,null,null,null,null,null,null,null,null,null,null,null,null,null,null,null,null,null,null,"Duma Daniel","Sighetu Marmatiei"]
[null,null,null,null,null,null,null,null,null,null,null,null,null,null,null,null,null,null,null,"Duma Tiberiu","Sibiu"]
[null,null,null,null,null,null,null,null,null,null,null,null,null,null,null,null,null,null,null,"Duman Constantin","Alexandria"]
[null,null,null,null,null,null,null,null,null,null,null,null,null,null,null,null,null,null,null,"Duman Iulian","Halaucesti"]
[null,null,null,null,null,null,null,null,null,null,null,null,null,null,null,null,null,null,null,"Dumbrava Dan","Timisoara"]
[null,null,null,null,null,null,null,null,null,null,null,null,null,null,null,null,null,null,null,"Dumbrava Daniel","Focsani"]
[null,null,null,null,null,null,null,null,null,null,null,null,null,null,null,null,null,null,null,"Dumbrava Doru","Bucuresti"]
[null,null,null,null,null,null,null,null,null,null,null,null,null,null,null,null,null,null,null,"Dumbrava Gabriel","Bucuresti"]
[null,null,null,null,null,null,null,null,null,null,null,null,null,null,null,null,null,null,null,"Dumitrache Daniel","Sinaia"]
[null,null,null,null,null,null,null,null,null,null,null,null,null,null,null,null,null,null,null,"Dumitrache Gabriel","Giurgiu"]
[null,null,null,null,null,null,null,null,null,null,null,null,null,null,null,null,null,null,null,"Dumitrache Marius","Galati"]
[null,null,null,null,null,null,null,null,null,null,null,null,null,null,null,null,null,null,null,"Dumitrache Marius Jr","Galati"]
[null,null,null,null,null,null,null,null,null,null,null,null,null,null,null,null,null,null,null,"Dumitrache Ovidiu","Petrosani"]
[null,null,null,null,null,null,null,null,null,null,null,null,null,null,null,null,null,null,null,"Dumitrana Catalin","Bucuresti"]
[null,null,null,null,null,null,null,null,null,null,null,null,null,null,null,null,null,null,null,"Dumitras Cosmin","Barlad"]
[null,null,null,null,null,null,null,null,null,null,null,null,null,null,null,null,null,null,null,"Dumitras Matia","Vorona"]
[null,null,null,null,null,null,null,null,null,null,null,null,null,null,null,null,null,null,null,"Dumitrascu Alin","Buzau"]
[null,null,null,null,null,null,null,null,null,null,null,null,null,null,null,null,null,null,null,"Dumitrascu Cristi","Brasov"]
[null,null,null,null,null,null,null,null,null,null,null,null,null,null,null,null,null,null,null,"Dumitrascu Eduard","Bucuresti"]
[null,null,null,null,null,null,null,null,null,null,null,null,null,null,null,null,null,null,null,"Dumitrescu Cornel","Bucuresti"]
[null,null,null,null,null,null,null,null,null,null,null,null,null,null,null,null,null,null,null,"Dumitrescu Dan","Piatra Neamt"]
[null,null,null,null,null,null,null,null,null,null,null,null,null,null,null,null,null,null,null,"Dumitrescu Marius","Timisoara"]
[null,null,null,null,null,null,null,null,null,null,null,null,null,null,null,null,null,null,null,"Dumitrescu Mihai","Slobozia"]
[null,null,null,null,null,null,null,null,null,null,null,null,null,null,null,null,null,null,null,"Dumitrescu Robert Nicolae","Bucuresti"]
[null,null,null,null,null,null,null,null,null,null,null,null,null,null,null,null,null,null,null,"Dumitriu Florin","Iasi"]
[null,null,null,null,null,null,null,null,null,null,null,null,null,null,null,null,null,null,null,"Dumitriu Vitalie","Moldova-Larga"]
[null,null,null,null,null,null,null,null,null,null,null,null,null,null,null,null,null,null,null,"Dumitru Bogdan","Constanta"]
[null,null,null,null,null,null,null,null,null,null,null,null,null,null,null,null,null,null,null,"Dumitru Cosmin","Pitesti"]
[null,null,null,null,null,null,null,null,null,null,null,null,null,null,null,null,null,null,null,"Dumitru Cosmin","Bucuresti"]
[null,null,null,null,null,null,null,null,null,null,null,null,null,null,null,null,null,null,null,"Dumitru Cristian","Bucuresti"]
[null,null,null,null,null,null,null,null,null,null,null,null,null,null,null,null,null,null,null,"Dumitru Daria","Navodari"]
[null,null,null,null,null,null,null,null,null,null,null,null,null,null,null,null,null,null,null,"Dumitru Denis","Navodari"]
[null,null,null,null,null,null,null,null,null,null,null,null,null,null,null,null,null,null,null,"Dumitru Florin","Slobozia"]
[null,null,null,null,null,null,null,null,null,null,null,null,null,null,null,null,null,null,null,"Dumitru George","Targoviste"]
[null,null,null,null,null,null,null,null,null,null,null,null,null,null,null,null,null,null,null,"Dumitru George","Slobozia"]
[null,null,null,null,null,null,null,null,null,null,null,null,null,null,null,null,null,null,null,"Dumitru Gheorghe","Bucuresti"]
[null,null,null,null,null,null,null,null,null,null,null,null,null,null,null,null,null,null,null,"Dumitru Ioan","Bistrita"]
[null,null,null,null,null,null,null,null,null,null,null,null,null,null,null,null,null,null,null,"Dumitru Ovidiu","Buzau"]
[null,null,null,null,null,null,null,null,null,null,null,null,null,null,null,null,null,null,null,"Dumitru Paul","Bucuresti"]
[null,null,null,null,null,null,null,null,null,null,null,null,null,null,null,null,null,null,null,"Dumitru Rares","Pitesti"]
[null,null,null,null,null,null,null,null,null,null,null,null,null,null,null,null,null,null,null,"Dumitru Stefan","Buzau"]
[null,null,null,null,null,null,null,null,null,null,null,null,null,null,null,null,null,null,null,"Dumitru Traian","Bucuresti"]
[null,null,null,null,null,null,null,null,null,null,null,null,null,null,null,null,null,null,null,"Dunavat Radu","Bucuresti"]
[null,null,null,null,null,null,null,null,null,null,null,null,null,null,null,null,null,null,null,"Dunca Andrei","Viseu"]
[null,null,null,null,null,null,null,null,null,null,null,null,null,null,null,null,null,null,null,"Dunca Cristian","Sighetu Marmatiei"]
[null,null,null,null,null,null,null,null,null,null,null,null,null,null,null,null,null,null,null,"Dunca Daniel","Viseu"]
[null,null,null,null,null,null,null,null,null,null,null,null,null,null,null,null,null,null,null,"Durac Viorel","Constanta"]
[null,null,null,null,null,null,null,null,null,null,null,null,null,null,null,null,null,null,null,"Durdun George","Bucuresti"]
[null,null,null,null,null,null,null,null,null,null,null,null,null,null,null,null,null,null,null,"Durlai George","Barlad"]
[null,null,null,null,null,null,null,null,null,null,null,null,null,null,null,null,null,null,null,"Durlan Andrei","Iasi"]
[null,null,null,null,null,null,null,null,null,null,null,null,null,null,null,null,null,null,null,"Dusan Marcel","Arad"]
[null,null,null,null,null,null,null,null,null,null,null,null,null,null,null,null,null,null,null,"Duta David","Curtea de Arges"]
[null,null,null,null,null,null,null,null,null,null,null,null,null,null,null,null,null,null,null,"Duta Ion","Craiova"]
[null,null,null,null,null,null,null,null,null,null,null,null,null,null,null,null,null,null,null,"Dutu Alexandru","Ploiesti"]
[null,null,null,null,null,null,null,null,null,null,null,null,null,null,null,null,null,null,null,"Dutu Constantin","Galati"]
[null,null,null,null,null,null,null,null,null,null,null,null,null,null,null,null,null,null,null,"Eden Memet","Constanta"]
[null,null,null,null,null,null,null,null,null,null,null,null,null,null,null,null,null,null,null,"Edves Vasile","Alba Iulia"]
[null,null,null,null,null,null,null,null,null,null,null,null,null,null,null,null,null,null,null,"Effler Stefan","Arad"]
[null,null,null,null,null,null,null,null,null,null,null,null,null,null,null,null,null,null,null,"Eftemita Polina","Moldova-Balti"]
[null,null,null,null,null,null,null,null,null,null,null,null,null,null,null,null,null,null,null,"Eftinoiu Andri","Ploiesti"]
[null,null,null,null,null,null,null,null,null,null,null,null,null,null,null,null,null,null,null,"Elekes Csaba","Valea Scurta"]
[null,null,null,null,null,null,null,null,null,null,null,null,null,null,null,null,null,null,null,"Elekes Tibor","Sebes"]
[null,null,null,null,null,null,null,null,null,null,null,null,null,null,null,null,null,null,null,"Elgazzar Nicolas","Constanta"]
[null,null,null,null,null,null,null,null,null,null,null,null,null,null,null,null,null,null,null,"Enache Adrian","Tulcea"]
[null,null,null,null,null,null,null,null,null,null,null,null,null,null,null,null,null,null,null,"Enache Adrian Victor","Ploiesti"]
[null,null,null,null,null,null,null,null,null,null,null,null,null,null,null,null,null,null,null,"Enache Ciprian","Ploiesti"]
[null,null,null,null,null,null,null,null,null,null,null,null,null,null,null,null,null,null,null,"Enache Costel","Bucuresti"]
[null,null,null,null,null,null,null,null,null,null,null,null,null,null,null,null,null,null,null,"Enache Cristian","Bucuresti"]
[null,null,null,null,null,null,null,null,null,null,null,null,null,null,null,null,null,null,null,"Enache Doru","Cobadin"]
[null,null,null,null,null,null,null,null,null,null,null,null,null,null,null,null,null,null,null,"Enache Ion","Ramnicu Valcea"]
[null,null,null,null,null,null,null,null,null,null,null,null,null,null,null,null,null,null,null,"Enache Ion","Curtea de Arges"]
[null,null,null,null,null,null,null,null,null,null,null,null,null,null,null,null,null,null,null,"Enache Ionel Gabriel","Oniceni"]
[null,null,null,null,null,null,null,null,null,null,null,null,null,null,null,null,null,null,null,"Enache Ionut","Ramnicu Valcea"]
[null,null,null,null,null,null,null,null,null,null,null,null,null,null,null,null,null,null,null,"Enache Leo","Ramnicu Valcea"]
[null,null,null,null,null,null,null,null,null,null,null,null,null,null,null,null,null,null,null,"Enache Leonardo","Ramnicu Valcea"]
[null,null,null,null,null,null,null,null,null,null,null,null,null,null,null,null,null,null,null,"Enache Puiu Adrian","Ploiesti"]
[null,null,null,null,null,null,null,null,null,null,null,null,null,null,null,null,null,null,null,"Enache Viorel","Brad"]
[null,null,null,null,null,null,null,null,null,null,null,null,null,null,null,null,null,null,null,"Enciu Alexandru","Slobozia"]
[null,null,null,null,null,null,null,null,null,null,null,null,null,null,null,null,null,null,null,"Enciu Marcel","Bucuresti"]
[null,null,null,null,null,null,null,null,null,null,null,null,null,null,null,null,null,null,null,"Enculescu Mihaita","Dobroesti"]
[null,null,null,null,null,null,null,null,null,null,null,null,null,null,null,null,null,null,null,"Ene Aurel","Tulcea"]
[null,null,null,null,null,null,null,null,null,null,null,null,null,null,null,null,null,null,null,"Ene Camelia","Barlad"]
[null,null,null,null,null,null,null,null,null,null,null,null,null,null,null,null,null,null,null,"Ene Daniel","Ploiesti"]
[null,null,null,null,null,null,null,null,null,null,null,null,null,null,null,null,null,null,null,"Ene Dragos","Ploiesti"]
[null,null,null,null,null,null,null,null,null,null,null,null,null,null,null,null,null,null,null,"Ene Florin","Ploiesti"]
[null,null,null,null,null,null,null,null,null,null,null,null,null,null,null,null,null,null,null,"Enea Manuel","Iasi"]
[null,null,null,null,null,null,null,null,null,null,null,null,null,null,null,null,null,null,null,"Enescu Robert","Bucuresti"]
[null,null,null,null,null,null,null,null,null,null,null,null,null,null,null,null,null,null,null,"Enus Claudiu","Videle"]
[null,null,null,null,null,null,null,null,null,null,null,null,null,null,null,null,null,null,null,"Eotvos Flavius","Tarnaveni"]
[null,null,null,null,null,null,null,null,null,null,null,null,null,null,null,null,null,null,null,"Eparu Darius","Iasi"]
[null,null,null,null,null,null,null,null,null,null,null,null,null,null,null,null,null,null,null,"Erdely Andras","Targu Mures"]
[null,null,null,null,null,null,null,null,null,null,null,null,null,null,null,null,null,null,null,"Eremie Liviu","Dumbravita"]
[null,null,null,null,null,null,null,null,null,null,null,null,null,null,null,null,null,null,null,"Eva Alex","Sabaoani"]
[null,null,null,null,null,null,null,null,null,null,null,null,null,null,null,null,null,null,null,"Evtei Vasile","Tulcea"]
[null,null,null,null,null,null,null,null,null,null,null,null,null,null,null,null,null,null,null,"Fabian David","Moldova-Cahul"]
[null,null,null,null,null,null,null,null,null,null,null,null,null,null,null,null,null,null,null,"Fagaras Daniel","Arad"]
[null,null,null,null,null,null,null,null,null,null,null,null,null,null,null,null,null,null,null,"Fagyura Leonardo","Tarnaveni"]
[null,null,null,null,null,null,null,null,null,null,null,null,null,null,null,null,null,null,null,"Faiciuc Alex","Viseu"]
[null,null,null,null,null,null,null,null,null,null,null,null,null,null,null,null,null,null,null,"Faiciuc Damian","Viseu"]
[null,null,null,null,null,null,null,null,null,null,null,null,null,null,null,null,null,null,null,"Faladau Madalina","Aiud"]
[null,null,null,null,null,null,null,null,null,null,null,null,null,null,null,null,null,null,null,"Faltisca Eugen","Viseu"]
[null,null,null,null,null,null,null,null,null,null,null,null,null,null,null,null,null,null,null,"Fancsali Kalman","Miercurea Ciuc"]
[null,null,null,null,null,null,null,null,null,null,null,null,null,null,null,null,null,null,null,"Farcas Carla","Dumbravita"]
[null,null,null,null,null,null,null,null,null,null,null,null,null,null,null,null,null,null,null,"Farcas Dan","Zalau"]
[null,null,null,null,null,null,null,null,null,null,null,null,null,null,null,null,null,null,null,"Farcas Dragos","Targu Mures"]
[null,null,null,null,null,null,null,null,null,null,null,null,null,null,null,null,null,null,null,"Farcas Flavian","Bulzestii de Sus"]
[null,null,null,null,null,null,null,null,null,null,null,null,null,null,null,null,null,null,null,"Farcas Marius","Hunedoara"]
[null,null,null,null,null,null,null,null,null,null,null,null,null,null,null,null,null,null,null,"Farcas Rares","Targu Mures"]
[null,null,null,null,null,null,null,null,null,null,null,null,null,null,null,null,null,null,null,"Farcas Raul","Targu Mures"]
[null,null,null,null,null,null,null,null,null,null,null,null,null,null,null,null,null,null,null,"Farkas Gabor","Targu Mures"]
[null,null,null,null,null,null,null,null,null,null,null,null,null,null,null,null,null,null,null,"Farkas Gabor","Miercurea Ciuc"]
[null,null,null,null,null,null,null,null,null,null,null,null,null,null,null,null,null,null,null,"Fat Nicu","Sighetu Marmatiei"]
[null,null,null,null,null,null,null,null,null,null,null,null,null,null,null,null,null,null,null,"Faur Claudiu","Timisoara"]
[null,null,null,null,null,null,null,null,null,null,null,null,null,null,null,null,null,null,null,"Faur Laurentiu","Calarasi"]
[null,null,null,null,null,null,null,null,null,null,null,null,null,null,null,null,null,null,null,"Faur Lucian","Jimbolia"]
[null,null,null,null,null,null,null,null,null,null,null,null,null,null,null,null,null,null,null,"Faur Sebastian","Bucuresti"]
[null,null,null,null,null,null,null,null,null,null,null,null,null,null,null,null,null,null,null,"Fazakas Antal","Suseni"]
[null,null,null,null,null,null,null,null,null,null,null,null,null,null,null,null,null,null,null,"Fazakas Gergely","Miercurea Ciuc"]
[null,null,null,null,null,null,null,null,null,null,null,null,null,null,null,null,null,null,null,"Fazecas Daniel","Malut"]
[null,null,null,null,null,null,null,null,null,null,null,null,null,null,null,null,null,null,null,"Fecioru Alexandru","Salcea"]
[null,null,null,null,null,null,null,null,null,null,null,null,null,null,null,null,null,null,null,"Fedorciuc Elias","Viseu"]
[null,null,null,null,null,null,null,null,null,null,null,null,null,null,null,null,null,null,null,"Fedorciuc Gelu","Viseu"]
[null,null,null,null,null,null,null,null,null,null,null,null,null,null,null,null,null,null,null,"Fedot Valentin","Tulcea"]
[null,null,null,null,null,null,null,null,null,null,null,null,null,null,null,null,null,null,null,"Feier Leon","Reghin"]
[null,null,null,null,null,null,null,null,null,null,null,null,null,null,null,null,null,null,null,"Fejer Konnert Andras","Sovata"]
[null,null,null,null,null,null,null,null,null,null,null,null,null,null,null,null,null,null,null,"Fekete Istvan","Arad"]
[null,null,null,null,null,null,null,null,null,null,null,null,null,null,null,null,null,null,null,"Feldara David","Agnita"]
[null,null,null,null,null,null,null,null,null,null,null,null,null,null,null,null,null,null,null,"Felicia Persida","Baia Mare"]
[null,null,null,null,null,null,null,null,null,null,null,null,null,null,null,null,null,null,null,"Fenesan Alex","Turda"]
[null,null,null,null,null,null,null,null,null,null,null,null,null,null,null,null,null,null,null,"Feodorov Gabriel","Tulcea"]
[null,null,null,null,null,null,null,null,null,null,null,null,null,null,null,null,null,null,null,"Feraru Alexandru","Deva"]
[null,null,null,null,null,null,null,null,null,null,null,null,null,null,null,null,null,null,null,"Feraru Stefan","Buzau"]
[null,null,null,null,null,null,null,null,null,null,null,null,null,null,null,null,null,null,null,"Fercalo Alin","Siret"]
[null,null,null,null,null,null,null,null,null,null,null,null,null,null,null,null,null,null,null,"Ferenczi Laszlo","Sighisoara"]
[null,null,null,null,null,null,null,null,null,null,null,null,null,null,null,null,null,null,null,"Ferenczi Robert","Suseni"]
[null,null,null,null,null,null,null,null,null,null,null,null,null,null,null,null,null,null,null,"Ferenczi Sandor","Targu Mures"]
[null,null,null,null,null,null,null,null,null,null,null,null,null,null,null,null,null,null,null,"Ferenczy Zita","Cluj Napoca"]
[null,null,null,null,null,null,null,null,null,null,null,null,null,null,null,null,null,null,null,"Ficleanu Gabriel","Giurgiu"]
[null,null,null,null,null,null,null,null,null,null,null,null,null,null,null,null,null,null,null,"Filat Maria","Bucuresti"]
[null,null,null,null,null,null,null,null,null,null,null,null,null,null,null,null,null,null,null,"Filea Adonis","Sibiu"]
[null,null,null,null,null,null,null,null,null,null,null,null,null,null,null,null,null,null,null,"Filep Attila","Gherla"]
[null,null,null,null,null,null,null,null,null,null,null,null,null,null,null,null,null,null,null,"Filimon Alexandru","Aiud"]
[null,null,null,null,null,null,null,null,null,null,null,null,null,null,null,null,null,null,null,"Filip Alin","Medias"]
[null,null,null,null,null,null,null,null,null,null,null,null,null,null,null,null,null,null,null,"Filip Cristi","Comanesti"]
[null,null,null,null,null,null,null,null,null,null,null,null,null,null,null,null,null,null,null,"Filip Dan","Comanesti"]
[null,null,null,null,null,null,null,null,null,null,null,null,null,null,null,null,null,null,null,"Filip Gabriel","Bucuresti"]
[null,null,null,null,null,null,null,null,null,null,null,null,null,null,null,null,null,null,null,"Filip Gabriel","Cluj Napoca"]
[null,null,null,null,null,null,null,null,null,null,null,null,null,null,null,null,null,null,null,"Filip Ioan","Sighetu Marmatiei"]
[null,null,null,null,null,null,null,null,null,null,null,null,null,null,null,null,null,null,null,"Filip Maia","Cluj Napoca"]
[null,null,null,null,null,null,null,null,null,null,null,null,null,null,null,null,null,null,null,"Filip Marcu","Stei"]
[null,null,null,null,null,null,null,null,null,null,null,null,null,null,null,null,null,null,null,"Filip Patric","Cluj Napoca"]
[null,null,null,null,null,null,null,null,null,null,null,null,null,null,null,null,null,null,null,"Filipescu Radu","Bucuresti"]
[null,null,null,null,null,null,null,null,null,null,null,null,null,null,null,null,null,null,null,"Filipics Zoli","Timisoara"]
[null,null,null,null,null,null,null,null,null,null,null,null,null,null,null,null,null,null,null,"Finaru Razvan","Bucuresti"]
[null,null,null,null,null,null,null,null,null,null,null,null,null,null,null,null,null,null,null,"Firanescu David","Dumbraveni SB"]
[null,null,null,null,null,null,null,null,null,null,null,null,null,null,null,null,null,null,null,"Firica Lucian","Constanta"]
[null,null,null,null,null,null,null,null,null,null,null,null,null,null,null,null,null,null,null,"Firican Andrei","Deva"]
[null,null,null,null,null,null,null,null,null,null,null,null,null,null,null,null,null,null,null,"Firu Marian","Vatra Dornei"]
[null,null,null,null,null,null,null,null,null,null,null,null,null,null,null,null,null,null,null,"Flaut Liviu","Navodari"]
[null,null,null,null,null,null,null,null,null,null,null,null,null,null,null,null,null,null,null,"Flesariu Mihai","Agnita"]
[null,null,null,null,null,null,null,null,null,null,null,null,null,null,null,null,null,null,null,"Fleser Marian","Blaj"]
[null,null,null,null,null,null,null,null,null,null,null,null,null,null,null,null,null,null,null,"Floca Raul","Sibiu"]
[null,null,null,null,null,null,null,null,null,null,null,null,null,null,null,null,null,null,null,"Flocea Codrin","Vatra Dornei"]
[null,null,null,null,null,null,null,null,null,null,null,null,null,null,null,null,null,null,null,"Florea Albert","Sibiu"]
[null,null,null,null,null,null,null,null,null,null,null,null,null,null,null,null,null,null,null,"Florea Bogdan","Caracal"]
[null,null,null,null,null,null,null,null,null,null,null,null,null,null,null,null,null,null,null,"Florea Cristian","Constanta"]
[null,null,null,null,null,null,null,null,null,null,null,null,null,null,null,null,null,null,null,"Florea Daniel","Bucuresti"]
[null,null,null,null,null,null,null,null,null,null,null,null,null,null,null,null,null,null,null,"Florea Dumitru","Iasi"]
[null,null,null,null,null,null,null,null,null,null,null,null,null,null,null,null,null,null,null,"Florea Ionut","Vatra Dornei"]
[null,null,null,null,null,null,null,null,null,null,null,null,null,null,null,null,null,null,null,"Florea Lucian","Vaslui"]
[null,null,null,null,null,null,null,null,null,null,null,null,null,null,null,null,null,null,null,"Florea Madalin","Bucuresti"]
[null,null,null,null,null,null,null,null,null,null,null,null,null,null,null,null,null,null,null,"Florea Marian","Targoviste"]
[null,null,null,null,null,null,null,null,null,null,null,null,null,null,null,null,null,null,null,"Florea Marin","Filipestii de Targ"]
[null,null,null,null,null,null,null,null,null,null,null,null,null,null,null,null,null,null,null,"Florea Mihai","Ludus"]
[null,null,null,null,null,null,null,null,null,null,null,null,null,null,null,null,null,null,null,"Florea Stelian","Bucuresti"]
[null,null,null,null,null,null,null,null,null,null,null,null,null,null,null,null,null,null,null,"Florean Luca","Lunca Muresului"]
[null,null,null,null,null,null,null,null,null,null,null,null,null,null,null,null,null,null,null,"Florean Renata","Lunca Muresului"]
[null,null,null,null,null,null,null,null,null,null,null,null,null,null,null,null,null,null,null,"Florescu Bogdan","Bucuresti"]
[null,null,null,null,null,null,null,null,null,null,null,null,null,null,null,null,null,null,null,"Florescu Eleodor","Deva"]
[null,null,null,null,null,null,null,null,null,null,null,null,null,null,null,null,null,null,null,"Florescu George","Bucuresti"]
[null,null,null,null,null,null,null,null,null,null,null,null,null,null,null,null,null,null,null,"Florescu Ionut","Craiova"]
[null,null,null,null,null,null,null,null,null,null,null,null,null,null,null,null,null,null,null,"Floricel Alexandru","Bucuresti"]
[null,null,null,null,null,null,null,null,null,null,null,null,null,null,null,null,null,null,null,"Florida Alin Emil","Videle"]
[null,null,null,null,null,null,null,null,null,null,null,null,null,null,null,null,null,null,null,"Flueraru Gilbert","Iasi"]
[null,null,null,null,null,null,null,null,null,null,null,null,null,null,null,null,null,null,null,"Flutur Ghita","Granicesti"]
[null,null,null,null,null,null,null,null,null,null,null,null,null,null,null,null,null,null,null,"Fodor Attila","Vanatori"]
[null,null,null,null,null,null,null,null,null,null,null,null,null,null,null,null,null,null,null,"Fodor Ianis","Dej"]
[null,null,null,null,null,null,null,null,null,null,null,null,null,null,null,null,null,null,null,"Fogarasi David","Baciu"]
[null,null,null,null,null,null,null,null,null,null,null,null,null,null,null,null,null,null,null,"Fonariuc Denis","Iasi"]
[null,null,null,null,null,null,null,null,null,null,null,null,null,null,null,null,null,null,null,"Fordon Alin","Campani"]
[null,null,null,null,null,null,null,null,null,null,null,null,null,null,null,null,null,null,null,"Foris Csaba","Bistrita"]
[null,null,null,null,null,null,null,null,null,null,null,null,null,null,null,null,null,null,null,"Foris Dana","Baia Mare"]
[null,null,null,null,null,null,null,null,null,null,null,null,null,null,null,null,null,null,null,"Forna Andrei","Apahida"]
[null,null,null,null,null,null,null,null,null,null,null,null,null,null,null,null,null,null,null,"Forton Nicusor","Arad"]
[null,null,null,null,null,null,null,null,null,null,null,null,null,null,null,null,null,null,null,"Fota Cosmin","Buftea"]
[null,null,null,null,null,null,null,null,null,null,null,null,null,null,null,null,null,null,null,"Fotia Iulian","Bacau"]
[null,null,null,null,null,null,null,null,null,null,null,null,null,null,null,null,null,null,null,"Franculescu Marius","Sinaia"]
[null,null,null,null,null,null,null,null,null,null,null,null,null,null,null,null,null,null,null,"Fratea Aurel","Constanta"]
[null,null,null,null,null,null,null,null,null,null,null,null,null,null,null,null,null,null,null,"Fratila Dan","Ocna Sibiului"]
[null,null,null,null,null,null,null,null,null,null,null,null,null,null,null,null,null,null,null,"Fratila Robert","Filipestii de Targ"]
[null,null,null,null,null,null,null,null,null,null,null,null,null,null,null,null,null,null,null,"Frent George","Arad"]
[null,null,null,null,null,null,null,null,null,null,null,null,null,null,null,null,null,null,null,"Frentiu Vasile","Dej"]
[null,null,null,null,null,null,null,null,null,null,null,null,null,null,null,null,null,null,null,"Frentz Robert","Iasi"]
[null,null,null,null,null,null,null,null,null,null,null,null,null,null,null,null,null,null,null,"Frincu Iustin","Ploiesti"]
[null,null,null,null,null,null,null,null,null,null,null,null,null,null,null,null,null,null,null,"Frisan Andrei","Nasaud"]
[null,null,null,null,null,null,null,null,null,null,null,null,null,null,null,null,null,null,null,"Fritea Raul","Marghita"]
[null,null,null,null,null,null,null,null,null,null,null,null,null,null,null,null,null,null,null,"Fritz Costel","Slobozia"]
[null,null,null,null,null,null,null,null,null,null,null,null,null,null,null,null,null,null,null,"Frunza Alexandru","Timisoara"]
[null,null,null,null,null,null,null,null,null,null,null,null,null,null,null,null,null,null,null,"Fuciu Alexandru","Sighetu Marmatiei"]
[null,null,null,null,null,null,null,null,null,null,null,null,null,null,null,null,null,null,null,"Fudulu Sorin Gigi","Alexandria"]
[null,null,null,null,null,null,null,null,null,null,null,null,null,null,null,null,null,null,null,"Fuleki Zoltan","Uriu"]
[null,null,null,null,null,null,null,null,null,null,null,null,null,null,null,null,null,null,null,"Fulop Attila","Aiud"]
[null,null,null,null,null,null,null,null,null,null,null,null,null,null,null,null,null,null,null,"Fulop Laszlo","Targu Mures"]
[null,null,null,null,null,null,null,null,null,null,null,null,null,null,null,null,null,null,null,"Fulop Laszlo","Zetea"]
[null,null,null,null,null,null,null,null,null,null,null,null,null,null,null,null,null,null,null,"Fulop Lehel","Sovata"]
[null,null,null,null,null,null,null,null,null,null,null,null,null,null,null,null,null,null,null,"Fulop Nimrod","Cristuru Secuiesc"]
[null,null,null,null,null,null,null,null,null,null,null,null,null,null,null,null,null,null,null,"Fulop Oscar","Reghin"]
[null,null,null,null,null,null,null,null,null,null,null,null,null,null,null,null,null,null,null,"Funaru Raul","Cluj Napoca"]
[null,null,null,null,null,null,null,null,null,null,null,null,null,null,null,null,null,null,null,"Furca Alexandru","Hunedoara"]
[null,null,null,null,null,null,null,null,null,null,null,null,null,null,null,null,null,null,null,"Furdui Anatol","Moldova-Balti"]
[null,null,null,null,null,null,null,null,null,null,null,null,null,null,null,null,null,null,null,"Furdui Iulian","Moldova-Balti"]
[null,null,null,null,null,null,null,null,null,null,null,null,null,null,null,null,null,null,null,"Furdui Lia","Moldova-Balti"]
[null,null,null,null,null,null,null,null,null,null,null,null,null,null,null,null,null,null,null,"Furdui Maria","Simeria"]
[null,null,null,null,null,null,null,null,null,null,null,null,null,null,null,null,null,null,null,"Furtuna Adrian","Brasov"]
[null,null,null,null,null,null,null,null,null,null,null,null,null,null,null,null,null,null,null,"Furtuna Alexandru","Bacau"]
[null,null,null,null,null,null,null,null,null,null,null,null,null,null,null,null,null,null,null,"Furtuna Serghei","Moldova-Balti"]
[null,null,null,null,null,null,null,null,null,null,null,null,null,null,null,null,null,null,null,"Furtuna Traian","Brasov"]
[null,null,null,null,null,null,null,null,null,null,null,null,null,null,null,null,null,null,null,"Fusca Georgian","Targoviste"]
[null,null,null,null,null,null,null,null,null,null,null,null,null,null,null,null,null,null,null,"Gabor David","Agnita"]
[null,null,null,null,null,null,null,null,null,null,null,null,null,null,null,null,null,null,null,"Gabor Luca","Moinesti"]
[null,null,null,null,null,null,null,null,null,null,null,null,null,null,null,null,null,null,null,"Gabor Sebastian","Sfantu Gheorghe"]
[null,null,null,null,null,null,null,null,null,null,null,null,null,null,null,null,null,null,null,"Gaborean Bogdan","Cluj Napoca"]
[null,null,null,null,null,null,null,null,null,null,null,null,null,null,null,null,null,null,null,"Gabriel Coman","Bucuresti"]
[null,null,null,null,null,null,null,null,null,null,null,null,null,null,null,null,null,null,null,"Gabudean Dorin","Cluj Napoca"]
[null,null,null,null,null,null,null,null,null,null,null,null,null,null,null,null,null,null,null,"Gaciu Gabriel","Gherla"]
[null,null,null,null,null,null,null,null,null,null,null,null,null,null,null,null,null,null,null,"Gado Ramses","Oradea"]
[null,null,null,null,null,null,null,null,null,null,null,null,null,null,null,null,null,null,null,"Gadzinscaia Maria","Ucraina-Okny"]
[null,null,null,null,null,null,null,null,null,null,null,null,null,null,null,null,null,null,null,"Gaga Ioan","Cluj Napoca"]
[null,null,null,null,null,null,null,null,null,null,null,null,null,null,null,null,null,null,null,"Gaga Ioana","Cluj Napoca"]
[null,null,null,null,null,null,null,null,null,null,null,null,null,null,null,null,null,null,null,"Gagea Marian","Botosani"]
[null,null,null,null,null,null,null,null,null,null,null,null,null,null,null,null,null,null,null,"Gagiu David","Targoviste"]
[null,null,null,null,null,null,null,null,null,null,null,null,null,null,null,null,null,null,null,"Gagiu Remus","Pitesti"]
[null,null,null,null,null,null,null,null,null,null,null,null,null,null,null,null,null,null,null,"Gaia Mihai","Iasi"]
[null,null,null,null,null,null,null,null,null,null,null,null,null,null,null,null,null,null,null,"Gaitan Tiberiu","Braila"]
[null,null,null,null,null,null,null,null,null,null,null,null,null,null,null,null,null,null,null,"Gal Csaby","Alesd"]
[null,null,null,null,null,null,null,null,null,null,null,null,null,null,null,null,null,null,null,"Gal Farkas Arpad","Miercurea Ciuc"]
[null,null,null,null,null,null,null,null,null,null,null,null,null,null,null,null,null,null,null,"Gal Nicolae","Uriu"]
[null,null,null,null,null,null,null,null,null,null,null,null,null,null,null,null,null,null,null,"Galan Andreea","Vatra Dornei"]
[null,null,null,null,null,null,null,null,null,null,null,null,null,null,null,null,null,null,null,"Galan Ionut","Barlad"]
[null,null,null,null,null,null,null,null,null,null,null,null,null,null,null,null,null,null,null,"Galanton Yanis","Suceava"]
[null,null,null,null,null,null,null,null,null,null,null,null,null,null,null,null,null,null,null,"Galatean Mircea","Bistrita"]
[null,null,null,null,null,null,null,null,null,null,null,null,null,null,null,null,null,null,null,"Galateanu Lucian","Suceava"]
[null,null,null,null,null,null,null,null,null,null,null,null,null,null,null,null,null,null,null,"Galateanu Sorin","Suceava"]
[null,null,null,null,null,null,null,null,null,null,null,null,null,null,null,null,null,null,null,"Galban Calin","Viseu"]
[null,null,null,null,null,null,null,null,null,null,null,null,null,null,null,null,null,null,null,"Galban Dorel","Viseu"]
[null,null,null,null,null,null,null,null,null,null,null,null,null,null,null,null,null,null,null,"Galca Andrei","Bucuresti"]
[null,null,null,null,null,null,null,null,null,null,null,null,null,null,null,null,null,null,null,"Galca Cristian","Iasi"]
[null,null,null,null,null,null,null,null,null,null,null,null,null,null,null,null,null,null,null,"Galea Robert","Arad"]
[null,null,null,null,null,null,null,null,null,null,null,null,null,null,null,null,null,null,null,"Gales Ioan","Suceava"]
[null,null,null,null,null,null,null,null,null,null,null,null,null,null,null,null,null,null,null,"Galfi Levente","Cluj Napoca"]
[null,null,null,null,null,null,null,null,null,null,null,null,null,null,null,null,null,null,null,"Galiu Mihai","Brasov"]
[null,null,null,null,null,null,null,null,null,null,null,null,null,null,null,null,null,null,null,"Galos Alexandru","Bucuresti"]
[null,null,null,null,null,null,null,null,null,null,null,null,null,null,null,null,null,null,null,"Gaman Alin","Marginenii de Jos"]
[null,null,null,null,null,null,null,null,null,null,null,null,null,null,null,null,null,null,null,"Ganga Alexandru","Suceava"]
[null,null,null,null,null,null,null,null,null,null,null,null,null,null,null,null,null,null,null,"Garabet Dan","Iasi"]
[null,null,null,null,null,null,null,null,null,null,null,null,null,null,null,null,null,null,null,"Garaz Mircea","Bistrita"]
[null,null,null,null,null,null,null,null,null,null,null,null,null,null,null,null,null,null,null,"Garaz Razvan","Bistrita"]
[null,null,null,null,null,null,null,null,null,null,null,null,null,null,null,null,null,null,null,"Garbacea Ionut","Slobozia"]
[null,null,null,null,null,null,null,null,null,null,null,null,null,null,null,null,null,null,null,"Gargalic Marina","Moldova-Avdarma"]
[null,null,null,null,null,null,null,null,null,null,null,null,null,null,null,null,null,null,null,"Gasca Toader","Hunedoara"]
[null,null,null,null,null,null,null,null,null,null,null,null,null,null,null,null,null,null,null,"Gaspar Cecilia","Targu Mures"]
[null,null,null,null,null,null,null,null,null,null,null,null,null,null,null,null,null,null,null,"Gaspar Janos","Cristuru Secuiesc"]
[null,null,null,null,null,null,null,null,null,null,null,null,null,null,null,null,null,null,null,"Gaspar Zsolt Endre","Pericei"]
[null,null,null,null,null,null,null,null,null,null,null,null,null,null,null,null,null,null,null,"Gatea Marius","Piatra Neamt"]
[null,null,null,null,null,null,null,null,null,null,null,null,null,null,null,null,null,null,null,"Gavre Augustin","Hateg"]
[null,null,null,null,null,null,null,null,null,null,null,null,null,null,null,null,null,null,null,"Gavre Natanael","Hateg"]
[null,null,null,null,null,null,null,null,null,null,null,null,null,null,null,null,null,null,null,"Gavril Claudiu","Bucuresti"]
[null,null,null,null,null,null,null,null,null,null,null,null,null,null,null,null,null,null,null,"Gavril Madalin","Bucuresti"]
[null,null,null,null,null,null,null,null,null,null,null,null,null,null,null,null,null,null,null,"Gavrila Aurel","Bucuresti"]
[null,null,null,null,null,null,null,null,null,null,null,null,null,null,null,null,null,null,null,"Gavrilei Constantin","Pascani"]
[null,null,null,null,null,null,null,null,null,null,null,null,null,null,null,null,null,null,null,"Gavrilescu Petru Albert","Vaslui"]
[null,null,null,null,null,null,null,null,null,null,null,null,null,null,null,null,null,null,null,"Gavriliuc Daniel","Botosani"]
[null,null,null,null,null,null,null,null,null,null,null,null,null,null,null,null,null,null,null,"Gavriliuc Sorin","Botosani"]
[null,null,null,null,null,null,null,null,null,null,null,null,null,null,null,null,null,null,null,"Gavriluta Danut","Vadu Moldovei"]
[null,null,null,null,null,null,null,null,null,null,null,null,null,null,null,null,null,null,null,"Gazsi Adam","Marghita"]
[null,null,null,null,null,null,null,null,null,null,null,null,null,null,null,null,null,null,null,"Geamanu Pompiliu","Adjud"]
[null,null,null,null,null,null,null,null,null,null,null,null,null,null,null,null,null,null,null,"Geamanu Robert","Drobeta Tr Severin"]
[null,null,null,null,null,null,null,null,null,null,null,null,null,null,null,null,null,null,null,"Geanta Mihai","Slobozia"]
[null,null,null,null,null,null,null,null,null,null,null,null,null,null,null,null,null,null,null,"Geanta Tony","Braila"]
[null,null,null,null,null,null,null,null,null,null,null,null,null,null,null,null,null,null,null,"Gecse Alpar","Chibed"]
[null,null,null,null,null,null,null,null,null,null,null,null,null,null,null,null,null,null,null,"Gegea Dimitrie","Straoane"]
[null,null,null,null,null,null,null,null,null,null,null,null,null,null,null,null,null,null,null,"Gelei Kristof","Odorheiu Secuiesc"]
[null,null,null,null,null,null,null,null,null,null,null,null,null,null,null,null,null,null,null,"Gelei Nimrod","Odorheiu Secuiesc"]
[null,null,null,null,null,null,null,null,null,null,null,null,null,null,null,null,null,null,null,"Gemeniuc Andrei","Suceava"]
[null,null,null,null,null,null,null,null,null,null,null,null,null,null,null,null,null,null,null,"Generosu Catalin","Alexandria"]
[null,null,null,null,null,null,null,null,null,null,null,null,null,null,null,null,null,null,null,"Geodescu Cosmin","Cluj Napoca"]
[null,null,null,null,null,null,null,null,null,null,null,null,null,null,null,null,null,null,null,"Georgescu Constantin","Orastie"]
[null,null,null,null,null,null,null,null,null,null,null,null,null,null,null,null,null,null,null,"Georgescu Costin","Bucuresti"]
[null,null,null,null,null,null,null,null,null,null,null,null,null,null,null,null,null,null,null,"Georgescu Cristi","Radauti"]
[null,null,null,null,null,null,null,null,null,null,null,null,null,null,null,null,null,null,null,"Georgescu Cristian","Pitesti"]
[null,null,null,null,null,null,null,null,null,null,null,null,null,null,null,null,null,null,null,"Georgescu Florin","Bucuresti"]
[null,null,null,null,null,null,null,null,null,null,null,null,null,null,null,null,null,null,null,"Georgescu Marius","Sibiu"]
[null,null,null,null,null,null,null,null,null,null,null,null,null,null,null,null,null,null,null,"Georgescu Robert Stefan","Bucuresti"]
[null,null,null,null,null,null,null,null,null,null,null,null,null,null,null,null,null,null,null,"Georgescu Vlad","Bucuresti"]
[null,null,null,null,null,null,null,null,null,null,null,null,null,null,null,null,null,null,null,"Georginov Vanja","Lokve"]
[null,null,null,null,null,null,null,null,null,null,null,null,null,null,null,null,null,null,null,"Georgiu Dragos","Vatra Dornei"]
[null,null,null,null,null,null,null,null,null,null,null,null,null,null,null,null,null,null,null,"Gereb Istvan Attila","Miercurea Ciuc"]
[null,null,null,null,null,null,null,null,null,null,null,null,null,null,null,null,null,null,null,"Gered Ferenc","Miercurea Ciuc"]
[null,null,null,null,null,null,null,null,null,null,null,null,null,null,null,null,null,null,null,"Gergely Anton","Oradea"]
[null,null,null,null,null,null,null,null,null,null,null,null,null,null,null,null,null,null,null,"Gergely Istvan","Ditrau"]
[null,null,null,null,null,null,null,null,null,null,null,null,null,null,null,null,null,null,null,"Gheaburcu Romeo","Pucioasa"]
[null,null,null,null,null,null,null,null,null,null,null,null,null,null,null,null,null,null,null,"Ghedreutan Gheorghe","Moldova-Drochia"]
[null,null,null,null,null,null,null,null,null,null,null,null,null,null,null,null,null,null,null,"Ghelan Marius","Oradea"]
[null,null,null,null,null,null,null,null,null,null,null,null,null,null,null,null,null,null,null,"Ghenea Eugen","Targoviste"]
[null,null,null,null,null,null,null,null,null,null,null,null,null,null,null,null,null,null,null,"Gheorghe Alexandru","Pitesti"]
[null,null,null,null,null,null,null,null,null,null,null,null,null,null,null,null,null,null,null,"Gheorghe Catalin","Ploiesti"]
[null,null,null,null,null,null,null,null,null,null,null,null,null,null,null,null,null,null,null,"Gheorghe Constantin","Paulesti"]
[null,null,null,null,null,null,null,null,null,null,null,null,null,null,null,null,null,null,null,"Gheorghe Dan","Constanta"]
[null,null,null,null,null,null,null,null,null,null,null,null,null,null,null,null,null,null,null,"Gheorghe Dragos","Ploiesti"]
[null,null,null,null,null,null,null,null,null,null,null,null,null,null,null,null,null,null,null,"Gheorghe Eduard","Targoviste"]
[null,null,null,null,null,null,null,null,null,null,null,null,null,null,null,null,null,null,null,"Gheorghe Ion","Bucuresti"]
[null,null,null,null,null,null,null,null,null,null,null,null,null,null,null,null,null,null,null,"Gheorghe Nicolae","Calarasi"]
[null,null,null,null,null,null,null,null,null,null,null,null,null,null,null,null,null,null,null,"Gheorghe Nicu","Drobeta Tr Severin"]
[null,null,null,null,null,null,null,null,null,null,null,null,null,null,null,null,null,null,null,"Gheorghe Radu Andrei","Ploiesti"]
[null,null,null,null,null,null,null,null,null,null,null,null,null,null,null,null,null,null,null,"Gheorghe Viorel","Faurei"]
[null,null,null,null,null,null,null,null,null,null,null,null,null,null,null,null,null,null,null,"Gheorghiasa Catalin","Sighisoara"]
[null,null,null,null,null,null,null,null,null,null,null,null,null,null,null,null,null,null,null,"Gheorghica Petru","Pascani"]
[null,null,null,null,null,null,null,null,null,null,null,null,null,null,null,null,null,null,null,"Gheorghies Ovidiu","Iasi"]
[null,null,null,null,null,null,null,null,null,null,null,null,null,null,null,null,null,null,null,"Gheorghita Robert","Cisnadie"]
[null,null,null,null,null,null,null,null,null,null,null,null,null,null,null,null,null,null,null,"Gheorghita Vasile","Buzau"]
[null,null,null,null,null,null,null,null,null,null,null,null,null,null,null,null,null,null,null,"Gheorghitoiu Andrei","Brasov"]
[null,null,null,null,null,null,null,null,null,null,null,null,null,null,null,null,null,null,null,"Gheozdan Daniel","Bucuresti"]
[null,null,null,null,null,null,null,null,null,null,null,null,null,null,null,null,null,null,null,"Gherasim Iulian","Tulcea"]
[null,null,null,null,null,null,null,null,null,null,null,null,null,null,null,null,null,null,null,"Gherasim Rares","Tulcea"]
[null,null,null,null,null,null,null,null,null,null,null,null,null,null,null,null,null,null,null,"Gherghel Cristian","Fagaras"]
[null,null,null,null,null,null,null,null,null,null,null,null,null,null,null,null,null,null,null,"Gherghel Petru","Gheraesti"]
[null,null,null,null,null,null,null,null,null,null,null,null,null,null,null,null,null,null,null,"Gherghescu Catalin","Plopeni"]
[null,null,null,null,null,null,null,null,null,null,null,null,null,null,null,null,null,null,null,"Gherghevici Calin","Bucuresti"]
[null,null,null,null,null,null,null,null,null,null,null,null,null,null,null,null,null,null,null,"Gherghina Raluca","Slatina"]
[null,null,null,null,null,null,null,null,null,null,null,null,null,null,null,null,null,null,null,"Gherman Constantin","Curtea de Arges"]
[null,null,null,null,null,null,null,null,null,null,null,null,null,null,null,null,null,null,null,"Gherman Romulus","Arad"]
[null,null,null,null,null,null,null,null,null,null,null,null,null,null,null,null,null,null,null,"Gherman Sorin","Hida"]
[null,null,null,null,null,null,null,null,null,null,null,null,null,null,null,null,null,null,null,"Gherman Vlad","Timisoara"]
[null,null,null,null,null,null,null,null,null,null,null,null,null,null,null,null,null,null,null,"Ghet Ionut","Gheraesti"]
[null,null,null,null,null,null,null,null,null,null,null,null,null,null,null,null,null,null,null,"Ghete Alexandru","Timisoara"]
[null,null,null,null,null,null,null,null,null,null,null,null,null,null,null,null,null,null,null,"Ghica Marius","Craiova"]
[null,null,null,null,null,null,null,null,null,null,null,null,null,null,null,null,null,null,null,"Ghidiu Valer","Sighisoara"]
[null,null,null,null,null,null,null,null,null,null,null,null,null,null,null,null,null,null,null,"Ghilan Romeo","Targu Neamt"]
[null,null,null,null,null,null,null,null,null,null,null,null,null,null,null,null,null,null,null,"Ghimis Alexandru","Sibiu"]
[null,null,null,null,null,null,null,null,null,null,null,null,null,null,null,null,null,null,null,"Ghimpau Stefan","Bucuresti"]
[null,null,null,null,null,null,null,null,null,null,null,null,null,null,null,null,null,null,null,"Ghinda Mihai","Iasi"]
[null,null,null,null,null,null,null,null,null,null,null,null,null,null,null,null,null,null,null,"Ghinea Costin","Moinesti"]
[null,null,null,null,null,null,null,null,null,null,null,null,null,null,null,null,null,null,null,"Ghinea Dragos","Moinesti"]
[null,null,null,null,null,null,null,null,null,null,null,null,null,null,null,null,null,null,null,"Ghiorghiu Dragos","Iasi"]
[null,null,null,null,null,null,null,null,null,null,null,null,null,null,null,null,null,null,null,"Ghita Dobre","Ograda"]
[null,null,null,null,null,null,null,null,null,null,null,null,null,null,null,null,null,null,null,"Ghita Eric","Sibiu"]
[null,null,null,null,null,null,null,null,null,null,null,null,null,null,null,null,null,null,null,"Ghita Mihai","Bucuresti"]
[null,null,null,null,null,null,null,null,null,null,null,null,null,null,null,null,null,null,null,"Ghitu Liviu","Onesti"]
[null,null,null,null,null,null,null,null,null,null,null,null,null,null,null,null,null,null,null,"Ghiurca Gabriel","Bucuresti"]
[null,null,null,null,null,null,null,null,null,null,null,null,null,null,null,null,null,null,null,"Ghiurutan Razvan","Bucuresti"]
[null,null,null,null,null,null,null,null,null,null,null,null,null,null,null,null,null,null,null,"Ghizdavescu Adrian","Navodari"]
[null,null,null,null,null,null,null,null,null,null,null,null,null,null,null,null,null,null,null,"Gihan Sefcati","Popesti Leordeni"]
[null,null,null,null,null,null,null,null,null,null,null,null,null,null,null,null,null,null,null,"Gilca Ionut","Mogosesti"]
[null,null,null,null,null,null,null,null,null,null,null,null,null,null,null,null,null,null,null,"Gindele Szilard","Carei"]
[null,null,null,null,null,null,null,null,null,null,null,null,null,null,null,null,null,null,null,"Gindu Claudiu","Roman"]
[null,null,null,null,null,null,null,null,null,null,null,null,null,null,null,null,null,null,null,"Giol Mihai","Braila"]
[null,null,null,null,null,null,null,null,null,null,null,null,null,null,null,null,null,null,null,"Giosan Adrian","Campulung Mold"]
[null,null,null,null,null,null,null,null,null,null,null,null,null,null,null,null,null,null,null,"Gipsy King","Hunedoara"]
[null,null,null,null,null,null,null,null,null,null,null,null,null,null,null,null,null,null,null,"Gisca Catalin","Bucuresti"]
[null,null,null,null,null,null,null,null,null,null,null,null,null,null,null,null,null,null,null,"Gita Dan","Sfantu Gheorghe"]
[null,null,null,null,null,null,null,null,null,null,null,null,null,null,null,null,null,null,null,"Giubila Alessandro","Popesti Leordeni"]
[null,null,null,null,null,null,null,null,null,null,null,null,null,null,null,null,null,null,null,"Giurgiu Alexandru","Sibiu"]
[null,null,null,null,null,null,null,null,null,null,null,null,null,null,null,null,null,null,null,"Giurgiu Andrei","Sibiu"]
[null,null,null,null,null,null,null,null,null,null,null,null,null,null,null,null,null,null,null,"Giuseppe Brancati","Bucuresti"]
[null,null,null,null,null,null,null,null,null,null,null,null,null,null,null,null,null,null,null,"Glavan Niculae","Constanta"]
[null,null,null,null,null,null,null,null,null,null,null,null,null,null,null,null,null,null,null,"Glavan Radu","Timisoara"]
[null,null,null,null,null,null,null,null,null,null,null,null,null,null,null,null,null,null,null,"Gliga Lavinia","Reghin"]
[null,null,null,null,null,null,null,null,null,null,null,null,null,null,null,null,null,null,null,"Gog Vasile","Salciua"]
[null,null,null,null,null,null,null,null,null,null,null,null,null,null,null,null,null,null,null,"Gogu Gabriel","Cluj Napoca"]
[null,null,null,null,null,null,null,null,null,null,null,null,null,null,null,null,null,null,null,"Gogu Ionut","Roman"]
[null,null,null,null,null,null,null,null,null,null,null,null,null,null,null,null,null,null,null,"Goia Alina","Cluj Napoca"]
[null,null,null,null,null,null,null,null,null,null,null,null,null,null,null,null,null,null,null,"Gojkov Milan","Varset"]
[null,null,null,null,null,null,null,null,null,null,null,null,null,null,null,null,null,null,null,"Gojkov Teodora","Varset"]
[null,null,null,null,null,null,null,null,null,null,null,null,null,null,null,null,null,null,null,"Golai Gheorghe","Piatra Neamt"]
[null,null,null,null,null,null,null,null,null,null,null,null,null,null,null,null,null,null,null,"Goldis Marinel","Arad"]
[null,null,null,null,null,null,null,null,null,null,null,null,null,null,null,null,null,null,null,"Goldis Robert","Stei"]
[null,null,null,null,null,null,null,null,null,null,null,null,null,null,null,null,null,null,null,"Golea Dragos","Suceava"]
[null,null,null,null,null,null,null,null,null,null,null,null,null,null,null,null,null,null,null,"Goleanu Remus","Marginea"]
[null,null,null,null,null,null,null,null,null,null,null,null,null,null,null,null,null,null,null,"Golofeev Arteom","Moldova-Comrat"]
[null,null,null,null,null,null,null,null,null,null,null,null,null,null,null,null,null,null,null,"Gologan Sorin Gabriel","Faurei"]
[null,null,null,null,null,null,null,null,null,null,null,null,null,null,null,null,null,null,null,"Gologan Vlad","Faurei"]
[null,null,null,null,null,null,null,null,null,null,null,null,null,null,null,null,null,null,null,"Golubev Aleksey","Odesa"]
[null,null,null,null,null,null,null,null,null,null,null,null,null,null,null,null,null,null,null,"Gonta Viorel","Tecuci"]
[null,null,null,null,null,null,null,null,null,null,null,null,null,null,null,null,null,null,null,"Gonzales Levi","Deva"]
[null,null,null,null,null,null,null,null,null,null,null,null,null,null,null,null,null,null,null,"Gorasciuc Marius","Hurjuieni"]
[null,null,null,null,null,null,null,null,null,null,null,null,null,null,null,null,null,null,null,"Gorbatiuc Alexandr","Ucraina-Odessa"]
[null,null,null,null,null,null,null,null,null,null,null,null,null,null,null,null,null,null,null,"Goretchi Claudiu","Bucuresti"]
[null,null,null,null,null,null,null,null,null,null,null,null,null,null,null,null,null,null,null,"Gorneanu Andrei","Bucuresti"]
[null,null,null,null,null,null,null,null,null,null,null,null,null,null,null,null,null,null,null,"Gorum Adrian","Topoloveni"]
[null,null,null,null,null,null,null,null,null,null,null,null,null,null,null,null,null,null,null,"Gota Adrian","Santimbru AB"]
[null,null,null,null,null,null,null,null,null,null,null,null,null,null,null,null,null,null,null,"Gotca Adrian","Iasi"]
[null,null,null,null,null,null,null,null,null,null,null,null,null,null,null,null,null,null,null,"Gotea Denis","Hateg"]
[null,null,null,null,null,null,null,null,null,null,null,null,null,null,null,null,null,null,null,"Govoreanu Florin","Cisnadie"]
[null,null,null,null,null,null,null,null,null,null,null,null,null,null,null,null,null,null,null,"Gradescov Piotr","Moldova-Taraclia"]
[null,null,null,null,null,null,null,null,null,null,null,null,null,null,null,null,null,null,null,"Grajdianu Constantin","Oniceni"]
[null,null,null,null,null,null,null,null,null,null,null,null,null,null,null,null,null,null,null,"Grama Aurel","Bistrita"]
[null,null,null,null,null,null,null,null,null,null,null,null,null,null,null,null,null,null,null,"Grama Mihai","Azuga"]
[null,null,null,null,null,null,null,null,null,null,null,null,null,null,null,null,null,null,null,"Grancea Rares","Sibiu"]
[null,null,null,null,null,null,null,null,null,null,null,null,null,null,null,null,null,null,null,"Grapina Florin","Roman"]
[null,null,null,null,null,null,null,null,null,null,null,null,null,null,null,null,null,null,null,"Graur Robert","Focsani"]
[null,null,null,null,null,null,null,null,null,null,null,null,null,null,null,null,null,null,null,"Grecu Cornel","Bistrita"]
[null,null,null,null,null,null,null,null,null,null,null,null,null,null,null,null,null,null,null,"Grecu Gheorghe","Bistrita"]
[null,null,null,null,null,null,null,null,null,null,null,null,null,null,null,null,null,null,null,"Grecu Radu","Iasi"]
[null,null,null,null,null,null,null,null,null,null,null,null,null,null,null,null,null,null,null,"Greonjanc Marinel","Vlajkovac"]
[null,null,null,null,null,null,null,null,null,null,null,null,null,null,null,null,null,null,null,"Grigoras Andrei","Cluj Napoca"]
[null,null,null,null,null,null,null,null,null,null,null,null,null,null,null,null,null,null,null,"Grigoras Dinu","Pascani"]
[null,null,null,null,null,null,null,null,null,null,null,null,null,null,null,null,null,null,null,"Grigore Alexandru","Campina"]
[null,null,null,null,null,null,null,null,null,null,null,null,null,null,null,null,null,null,null,"Grigore Catalin","Cocorastii Mislii"]
[null,null,null,null,null,null,null,null,null,null,null,null,null,null,null,null,null,null,null,"Grigore Dumitru Valentin","Ramnicu Sarat"]
[null,null,null,null,null,null,null,null,null,null,null,null,null,null,null,null,null,null,null,"Grigore Madalin","Cocorastii Mislii"]
[null,null,null,null,null,null,null,null,null,null,null,null,null,null,null,null,null,null,null,"Grigore Mihai","Bucuresti"]
[null,null,null,null,null,null,null,null,null,null,null,null,null,null,null,null,null,null,null,"Grigorean Costel","Marginea"]
[null,null,null,null,null,null,null,null,null,null,null,null,null,null,null,null,null,null,null,"Grigoriu Vlad","Suceava"]
[null,null,null,null,null,null,null,null,null,null,null,null,null,null,null,null,null,null,null,"Grimaldi Alesio","Italia"]
[null,null,null,null,null,null,null,null,null,null,null,null,null,null,null,null,null,null,null,"Grosan Mircea","Dej"]
[null,null,null,null,null,null,null,null,null,null,null,null,null,null,null,null,null,null,null,"Grosu Alexandru","Botosani"]
[null,null,null,null,null,null,null,null,null,null,null,null,null,null,null,null,null,null,null,"Grosu Alexandru","Brasov"]
[null,null,null,null,null,null,null,null,null,null,null,null,null,null,null,null,null,null,null,"Grosu Gheorghita","Targu Neamt"]
[null,null,null,null,null,null,null,null,null,null,null,null,null,null,null,null,null,null,null,"Groza Florin","Cluj Napoca"]
[null,null,null,null,null,null,null,null,null,null,null,null,null,null,null,null,null,null,null,"Grozavu Alexandru","Rovinari"]
[null,null,null,null,null,null,null,null,null,null,null,null,null,null,null,null,null,null,null,"Grubacichi Marius","Timisoara"]
[null,null,null,null,null,null,null,null,null,null,null,null,null,null,null,null,null,null,null,"Grumeza Lucian","Bucuresti"]
[null,null,null,null,null,null,null,null,null,null,null,null,null,null,null,null,null,null,null,"Grusca Narcis","Gura Humorului"]
[null,null,null,null,null,null,null,null,null,null,null,null,null,null,null,null,null,null,null,"Guita Robert","Cluj Napoca"]
[null,null,null,null,null,null,null,null,null,null,null,null,null,null,null,null,null,null,null,"Gunzilovici Stanislav","Moldova-Cahul"]
[null,null,null,null,null,null,null,null,null,null,null,null,null,null,null,null,null,null,null,"Gurau Dan","Urlati"]
[null,null,null,null,null,null,null,null,null,null,null,null,null,null,null,null,null,null,null,"Gurita Ionut","Tulcea"]
[null,null,null,null,null,null,null,null,null,null,null,null,null,null,null,null,null,null,null,"Guta Claudiu","Pitesti"]
[null,null,null,null,null,null,null,null,null,null,null,null,null,null,null,null,null,null,null,"Gutulescu Marian","Drobeta Tr Severin"]
[null,null,null,null,null,null,null,null,null,null,null,null,null,null,null,null,null,null,null,"Guzgan Valentin","Barlad"]
[null,null,null,null,null,null,null,null,null,null,null,null,null,null,null,null,null,null,null,"Gyorfi Szabolcs","Gheorgheni"]
[null,null,null,null,null,null,null,null,null,null,null,null,null,null,null,null,null,null,null,"Gyorgy Adrienn","Targu Mures"]
[null,null,null,null,null,null,null,null,null,null,null,null,null,null,null,null,null,null,null,"Hadar Onisim","Chiuza"]
[null,null,null,null,null,null,null,null,null,null,null,null,null,null,null,null,null,null,null,"Hagatis Andrei","Vatra Dornei"]
[null,null,null,null,null,null,null,null,null,null,null,null,null,null,null,null,null,null,null,"Haidau Alin","Cluj Napoca"]
[null,null,null,null,null,null,null,null,null,null,null,null,null,null,null,null,null,null,null,"Haidau David","Buhusi"]
[null,null,null,null,null,null,null,null,null,null,null,null,null,null,null,null,null,null,null,"Halasz Levente","Cluj Napoca"]
[null,null,null,null,null,null,null,null,null,null,null,null,null,null,null,null,null,null,null,"Halasz Lorant","Satu Mare"]
[null,null,null,null,null,null,null,null,null,null,null,null,null,null,null,null,null,null,null,"Hales Teodor","Bistrita"]
[null,null,null,null,null,null,null,null,null,null,null,null,null,null,null,null,null,null,null,"Hamza Catalin","Satu Mare"]
[null,null,null,null,null,null,null,null,null,null,null,null,null,null,null,null,null,null,null,"Hamzescu Adrian Rosu","Craiova"]
[null,null,null,null,null,null,null,null,null,null,null,null,null,null,null,null,null,null,null,"Hancig Mircea","Timisoara"]
[null,null,null,null,null,null,null,null,null,null,null,null,null,null,null,null,null,null,null,"Hanes Onisie","Medias"]
[null,null,null,null,null,null,null,null,null,null,null,null,null,null,null,null,null,null,null,"Hanu Viorel","Moreni"]
[null,null,null,null,null,null,null,null,null,null,null,null,null,null,null,null,null,null,null,"Hanuleac Tamas","Joseni"]
[null,null,null,null,null,null,null,null,null,null,null,null,null,null,null,null,null,null,null,"Harabagiu Tudor","Botosani"]
[null,null,null,null,null,null,null,null,null,null,null,null,null,null,null,null,null,null,null,"Haran Alexandru","Sibiu"]
[null,null,null,null,null,null,null,null,null,null,null,null,null,null,null,null,null,null,null,"Hariuc Costica","Vaslui"]
[null,null,null,null,null,null,null,null,null,null,null,null,null,null,null,null,null,null,null,"Harmanescu Petrus","Falticeni"]
[null,null,null,null,null,null,null,null,null,null,null,null,null,null,null,null,null,null,null,"Has Alin","Drobeta Tr Severin"]
[null,null,null,null,null,null,null,null,null,null,null,null,null,null,null,null,null,null,null,"Hategan Nicolae","Alba Iulia"]
[null,null,null,null,null,null,null,null,null,null,null,null,null,null,null,null,null,null,null,"Hategan Vlad","Cluj Napoca"]
[null,null,null,null,null,null,null,null,null,null,null,null,null,null,null,null,null,null,null,"Havas Peter","Reghin"]
[null,null,null,null,null,null,null,null,null,null,null,null,null,null,null,null,null,null,null,"Havris Marius","Botosani"]
[null,null,null,null,null,null,null,null,null,null,null,null,null,null,null,null,null,null,null,"Hegedus Aaron","Brasov"]
[null,null,null,null,null,null,null,null,null,null,null,null,null,null,null,null,null,null,null,"Hegedus Simon","Brasov"]
[null,null,null,null,null,null,null,null,null,null,null,null,null,null,null,null,null,null,null,"Heja Zoltan","Ditrau"]
[null,null,null,null,null,null,null,null,null,null,null,null,null,null,null,null,null,null,null,"Heja Zsolt","Ditrau"]
[null,null,null,null,null,null,null,null,null,null,null,null,null,null,null,null,null,null,null,"Herban Cosmin","Hunedoara"]
[null,null,null,null,null,null,null,null,null,null,null,null,null,null,null,null,null,null,null,"Herbei Tudor","Dumbravita"]
[null,null,null,null,null,null,null,null,null,null,null,null,null,null,null,null,null,null,null,"Heresanu Mihai","Ludus"]
[null,null,null,null,null,null,null,null,null,null,null,null,null,null,null,null,null,null,null,"Herghelegiu Rodica","Galati"]
[null,null,null,null,null,null,null,null,null,null,null,null,null,null,null,null,null,null,null,"Herlo Ioan","Arad"]
[null,null,null,null,null,null,null,null,null,null,null,null,null,null,null,null,null,null,null,"Herte Cristian","Oradea"]
[null,null,null,null,null,null,null,null,null,null,null,null,null,null,null,null,null,null,null,"Hidi Zoltan","Oradea"]
[null,null,null,null,null,null,null,null,null,null,null,null,null,null,null,null,null,null,null,"Hidisan Cornel","Campia Turzii"]
[null,null,null,null,null,null,null,null,null,null,null,null,null,null,null,null,null,null,null,"Hirlea Luca","Suceava"]
[null,null,null,null,null,null,null,null,null,null,null,null,null,null,null,null,null,null,null,"Hirleata Andrei","Bucuresti"]
[null,null,null,null,null,null,null,null,null,null,null,null,null,null,null,null,null,null,null,"Hirsescu Cosmin","Bucuresti"]
[null,null,null,null,null,null,null,null,null,null,null,null,null,null,null,null,null,null,null,"Hoanca Sara Ionela","Salcea"]
[null,null,null,null,null,null,null,null,null,null,null,null,null,null,null,null,null,null,null,"Hobinca Cezar","Iasi"]
[null,null,null,null,null,null,null,null,null,null,null,null,null,null,null,null,null,null,null,"Hoca Bogdan","Lunca Muresului"]
[null,null,null,null,null,null,null,null,null,null,null,null,null,null,null,null,null,null,null,"Hoca Daniel","Lunca Muresului"]
[null,null,null,null,null,null,null,null,null,null,null,null,null,null,null,null,null,null,null,"Hoca Lucas","Lunca Muresului"]
[null,null,null,null,null,null,null,null,null,null,null,null,null,null,null,null,null,null,null,"Hodis Tudor","Bucuresti"]
[null,null,null,null,null,null,null,null,null,null,null,null,null,null,null,null,null,null,null,"Hodivoianu Marius","Bucuresti"]
[null,null,null,null,null,null,null,null,null,null,null,null,null,null,null,null,null,null,null,"Hogas Flaviu Alexandru","Barlad"]
[null,null,null,null,null,null,null,null,null,null,null,null,null,null,null,null,null,null,null,"Hogea Cristi","Piatra Neamt"]
[null,null,null,null,null,null,null,null,null,null,null,null,null,null,null,null,null,null,null,"Holban Dumitru","Buzau"]
[null,null,null,null,null,null,null,null,null,null,null,null,null,null,null,null,null,null,null,"Hollo Istvan","Danesti"]
[null,null,null,null,null,null,null,null,null,null,null,null,null,null,null,null,null,null,null,"Homana Marius","Stremt"]
[null,null,null,null,null,null,null,null,null,null,null,null,null,null,null,null,null,null,null,"Honciu Bogdan","Bucuresti"]
[null,null,null,null,null,null,null,null,null,null,null,null,null,null,null,null,null,null,null,"Hontaru Dan","Galati"]
[null,null,null,null,null,null,null,null,null,null,null,null,null,null,null,null,null,null,null,"Horeanu Lucian Adrian","Botosani"]
[null,null,null,null,null,null,null,null,null,null,null,null,null,null,null,null,null,null,null,"Horotan Catalin","Baia Mare"]
[null,null,null,null,null,null,null,null,null,null,null,null,null,null,null,null,null,null,null,"Hortolomei Andrei","Husi"]
[null,null,null,null,null,null,null,null,null,null,null,null,null,null,null,null,null,null,null,"Horvath Mircea","Orastie"]
[null,null,null,null,null,null,null,null,null,null,null,null,null,null,null,null,null,null,null,"Horvath Tibor","Oradea"]
[null,null,null,null,null,null,null,null,null,null,null,null,null,null,null,null,null,null,null,"Hosu Andrei","Resita"]
[null,null,null,null,null,null,null,null,null,null,null,null,null,null,null,null,null,null,null,"Hotico Ciprian","Sighetu Marmatiei"]
[null,null,null,null,null,null,null,null,null,null,null,null,null,null,null,null,null,null,null,"Hreamata Sorin","Pascani"]
[null,null,null,null,null,null,null,null,null,null,null,null,null,null,null,null,null,null,null,"Hrehoret Adrian","Ramnicu Valcea"]
[null,null,null,null,null,null,null,null,null,null,null,null,null,null,null,null,null,null,null,"Hriban Stefan","Viseu"]
[null,null,null,null,null,null,null,null,null,null,null,null,null,null,null,null,null,null,null,"Hriscu Florentina","Cluj Napoca"]
[null,null,null,null,null,null,null,null,null,null,null,null,null,null,null,null,null,null,null,"Hritcu Alin","Targu Mures"]
[null,null,null,null,null,null,null,null,null,null,null,null,null,null,null,null,null,null,null,"Hruban Andrei","Dej"]
[null,null,null,null,null,null,null,null,null,null,null,null,null,null,null,null,null,null,null,"Hudyma Ihor","Odesa"]
[null,null,null,null,null,null,null,null,null,null,null,null,null,null,null,null,null,null,null,"Huica Petre","Bucuresti"]
[null,null,null,null,null,null,null,null,null,null,null,null,null,null,null,null,null,null,null,"Hupca Ricardo","Straoane"]
[null,null,null,null,null,null,null,null,null,null,null,null,null,null,null,null,null,null,null,"Hurduc Virgil","Barlad"]
[null,null,null,null,null,null,null,null,null,null,null,null,null,null,null,null,null,null,null,"Hurloi Vlad","Cluj Napoca"]
[null,null,null,null,null,null,null,null,null,null,null,null,null,null,null,null,null,null,null,"Huruba Cristian","Targu Mures"]
[null,null,null,null,null,null,null,null,null,null,null,null,null,null,null,null,null,null,null,"Huruiala Andrei","Ramnicu Valcea"]
[null,null,null,null,null,null,null,null,null,null,null,null,null,null,null,null,null,null,null,"Husa Gelu","Zalau"]
[null,null,null,null,null,null,null,null,null,null,null,null,null,null,null,null,null,null,null,"Husar Toader","Sapanta"]
[null,null,null,null,null,null,null,null,null,null,null,null,null,null,null,null,null,null,null,"Husarciuc Beniamin","Suceava"]
[null,null,null,null,null,null,null,null,null,null,null,null,null,null,null,null,null,null,null,"Husarciuc Marc","Suceava"]
[null,null,null,null,null,null,null,null,null,null,null,null,null,null,null,null,null,null,null,"Huszar Sabin Robert","Ocna Mures"]
[null,null,null,null,null,null,null,null,null,null,null,null,null,null,null,null,null,null,null,"Hutanu Adrian","Slobozia"]
[null,null,null,null,null,null,null,null,null,null,null,null,null,null,null,null,null,null,null,"Hutanu Alin","Brasov"]
[null,null,null,null,null,null,null,null,null,null,null,null,null,null,null,null,null,null,null,"Hutanu Daniel","Iasi"]
[null,null,null,null,null,null,null,null,null,null,null,null,null,null,null,null,null,null,null,"Hutina Adrian","Targu Mures"]
[null,null,null,null,null,null,null,null,null,null,null,null,null,null,null,null,null,null,null,"Huzoni Viorel","Jibou"]
[null,null,null,null,null,null,null,null,null,null,null,null,null,null,null,null,null,null,null,"Iachimov Gheorghe","Moldova-Briceni"]
[null,null,null,null,null,null,null,null,null,null,null,null,null,null,null,null,null,null,null,"Iacob Gabriel","Iasi"]
[null,null,null,null,null,null,null,null,null,null,null,null,null,null,null,null,null,null,null,"Iacoban Beniamin","Cajvana"]
[null,null,null,null,null,null,null,null,null,null,null,null,null,null,null,null,null,null,null,"Iacobut Catalin","Bacau"]
[null,null,null,null,null,null,null,null,null,null,null,null,null,null,null,null,null,null,null,"Iacubenco Arsenii","Moldova-Balti"]
[null,null,null,null,null,null,null,null,null,null,null,null,null,null,null,null,null,null,null,"Iakab Ovidiu","Aiud"]
[null,null,null,null,null,null,null,null,null,null,null,null,null,null,null,null,null,null,null,"Iana Remus","Timisoara"]
[null,null,null,null,null,null,null,null,null,null,null,null,null,null,null,null,null,null,null,"Ianc Adrian","Floresti"]
[null,null,null,null,null,null,null,null,null,null,null,null,null,null,null,null,null,null,null,"Ianc Bogdan","Floresti"]
[null,null,null,null,null,null,null,null,null,null,null,null,null,null,null,null,null,null,null,"Iancu Laurentiu","Constanta"]
[null,null,null,null,null,null,null,null,null,null,null,null,null,null,null,null,null,null,null,"Iancu Marius","Brasov"]
[null,null,null,null,null,null,null,null,null,null,null,null,null,null,null,null,null,null,null,"Iancu Marius","Videle"]
[null,null,null,null,null,null,null,null,null,null,null,null,null,null,null,null,null,null,null,"Iancu Sorin","Sibiu"]
[null,null,null,null,null,null,null,null,null,null,null,null,null,null,null,null,null,null,null,"Iancu Vasile","Zalau"]
[null,null,null,null,null,null,null,null,null,null,null,null,null,null,null,null,null,null,null,"Ianculovici Svetozar","Bucuresti"]
[null,null,null,null,null,null,null,null,null,null,null,null,null,null,null,null,null,null,null,"Ianovici Florin","Brasov"]
[null,null,null,null,null,null,null,null,null,null,null,null,null,null,null,null,null,null,null,"Iasinschi Daniel","Suceava"]
[null,null,null,null,null,null,null,null,null,null,null,null,null,null,null,null,null,null,null,"Ichim Andrei","Iasi"]
[null,null,null,null,null,null,null,null,null,null,null,null,null,null,null,null,null,null,null,"Ichim Cristian","Bucuresti"]
[null,null,null,null,null,null,null,null,null,null,null,null,null,null,null,null,null,null,null,"Iconaru Madalin","Alexandria"]
[null,null,null,null,null,null,null,null,null,null,null,null,null,null,null,null,null,null,null,"Idan Ofer","Israel"]
[null,null,null,null,null,null,null,null,null,null,null,null,null,null,null,null,null,null,null,"Ielciu Stefan","Cluj Napoca"]
[null,null,null,null,null,null,null,null,null,null,null,null,null,null,null,null,null,null,null,"Ienci Daniel","Targu Mures"]
[null,null,null,null,null,null,null,null,null,null,null,null,null,null,null,null,null,null,null,"Ifrosa Petru","Cluj Napoca"]
[null,null,null,null,null,null,null,null,null,null,null,null,null,null,null,null,null,null,null,"Ifrosa Rebeca","Cluj Napoca"]
[null,null,null,null,null,null,null,null,null,null,null,null,null,null,null,null,null,null,null,"Iftime Costel","Arad"]
[null,null,null,null,null,null,null,null,null,null,null,null,null,null,null,null,null,null,null,"Ignat Darius","Arad"]
[null,null,null,null,null,null,null,null,null,null,null,null,null,null,null,null,null,null,null,"Ignuta Sebastian","Voiteg"]
[null,null,null,null,null,null,null,null,null,null,null,null,null,null,null,null,null,null,null,"Ilea Daria","Aiud"]
[null,null,null,null,null,null,null,null,null,null,null,null,null,null,null,null,null,null,null,"Ileanu Bogdan","Targu Jiu"]
[null,null,null,null,null,null,null,null,null,null,null,null,null,null,null,null,null,null,null,"Ilic Marko","Nova Varos"]
[null,null,null,null,null,null,null,null,null,null,null,null,null,null,null,null,null,null,null,"Ilie Alexandra","Voluntari"]
[null,null,null,null,null,null,null,null,null,null,null,null,null,null,null,null,null,null,null,"Ilie Andreea","Voluntari"]
[null,null,null,null,null,null,null,null,null,null,null,null,null,null,null,null,null,null,null,"Ilie Costin","Bucuresti"]
[null,null,null,null,null,null,null,null,null,null,null,null,null,null,null,null,null,null,null,"Ilie Cristian","Constanta"]
[null,null,null,null,null,null,null,null,null,null,null,null,null,null,null,null,null,null,null,"Ilie Dumitru","Galati"]
[null,null,null,null,null,null,null,null,null,null,null,null,null,null,null,null,null,null,null,"Ilie Florian","Voluntari"]
[null,null,null,null,null,null,null,null,null,null,null,null,null,null,null,null,null,null,null,"Ilie Gheorghe Eugen","Timisoara"]
[null,null,null,null,null,null,null,null,null,null,null,null,null,null,null,null,null,null,null,"Ilie Marian","Rascaeti"]
[null,null,null,null,null,null,null,null,null,null,null,null,null,null,null,null,null,null,null,"Ilie Marius Viorel","Brasov"]
[null,null,null,null,null,null,null,null,null,null,null,null,null,null,null,null,null,null,null,"Ilie Mihai Serban","Sibiu"]
[null,null,null,null,null,null,null,null,null,null,null,null,null,null,null,null,null,null,null,"Ilie Radu","Iasi"]
[null,null,null,null,null,null,null,null,null,null,null,null,null,null,null,null,null,null,null,"Ilie Razvan","Ploiesti"]
[null,null,null,null,null,null,null,null,null,null,null,null,null,null,null,null,null,null,null,"Ilie Victor","Medias"]
[null,null,null,null,null,null,null,null,null,null,null,null,null,null,null,null,null,null,null,"Ilie Viorel","Matca"]
[null,null,null,null,null,null,null,null,null,null,null,null,null,null,null,null,null,null,null,"Ilies Ioan","Radauti"]
[null,null,null,null,null,null,null,null,null,null,null,null,null,null,null,null,null,null,null,"Iliescu Ion","Bucuresti"]
[null,null,null,null,null,null,null,null,null,null,null,null,null,null,null,null,null,null,null,"Ilisan Alex","Toplita"]
[null,null,null,null,null,null,null,null,null,null,null,null,null,null,null,null,null,null,null,"Ilisan Costina","Toplita"]
[null,null,null,null,null,null,null,null,null,null,null,null,null,null,null,null,null,null,null,"Iliuta Adrian","Sannicolau Mare"]
[null,null,null,null,null,null,null,null,null,null,null,null,null,null,null,null,null,null,null,"Iliuta Marius Iustin","Videle"]
[null,null,null,null,null,null,null,null,null,null,null,null,null,null,null,null,null,null,null,"Illes Kalman","Targu Mures"]
[null,null,null,null,null,null,null,null,null,null,null,null,null,null,null,null,null,null,null,"Illes Sandor Ferenc","Targu Mures"]
[null,null,null,null,null,null,null,null,null,null,null,null,null,null,null,null,null,null,null,"Imecs Attila","Miercurea Ciuc"]
[null,null,null,null,null,null,null,null,null,null,null,null,null,null,null,null,null,null,null,"Imre David","Cluj Napoca"]
[null,null,null,null,null,null,null,null,null,null,null,null,null,null,null,null,null,null,null,"Incze Geza","Targu Mures"]
[null,null,null,null,null,null,null,null,null,null,null,null,null,null,null,null,null,null,null,"Incze Levente","Miercurea Ciuc"]
[null,null,null,null,null,null,null,null,null,null,null,null,null,null,null,null,null,null,null,"Ioan Filip","Bucuresti"]
[null,null,null,null,null,null,null,null,null,null,null,null,null,null,null,null,null,null,null,"Ioana Mihai","Bucuresti"]
[null,null,null,null,null,null,null,null,null,null,null,null,null,null,null,null,null,null,null,"Iobagiu Ionut","Bistrita"]
[null,null,null,null,null,null,null,null,null,null,null,null,null,null,null,null,null,null,null,"Ioja Danut","Calan"]
[null,null,null,null,null,null,null,null,null,null,null,null,null,null,null,null,null,null,null,"Iojiban Victor","Balan"]
[null,null,null,null,null,null,null,null,null,null,null,null,null,null,null,null,null,null,null,"Ion Alexandru","Darmanesti"]
[null,null,null,null,null,null,null,null,null,null,null,null,null,null,null,null,null,null,null,"Ion Catalin","Alexandria"]
[null,null,null,null,null,null,null,null,null,null,null,null,null,null,null,null,null,null,null,"Ion Ion","Ploiesti"]
[null,null,null,null,null,null,null,null,null,null,null,null,null,null,null,null,null,null,null,"Ion Patrick","Bucuresti"]
[null,null,null,null,null,null,null,null,null,null,null,null,null,null,null,null,null,null,null,"Ion Radu","Slobozia"]
[null,null,null,null,null,null,null,null,null,null,null,null,null,null,null,null,null,null,null,"Ionas Maria","Sibiu"]
[null,null,null,null,null,null,null,null,null,null,null,null,null,null,null,null,null,null,null,"Ionas Radu","Sibiu"]
[null,null,null,null,null,null,null,null,null,null,null,null,null,null,null,null,null,null,null,"Ionascu Gabriel","Bucuresti"]
[null,null,null,null,null,null,null,null,null,null,null,null,null,null,null,null,null,null,null,"Ionel Alexandru","Bistrita"]
[null,null,null,null,null,null,null,null,null,null,null,null,null,null,null,null,null,null,null,"Ionel Ovidiu","Bistrita"]
[null,null,null,null,null,null,null,null,null,null,null,null,null,null,null,null,null,null,null,"Ionescu Alexandru","Bucuresti"]
[null,null,null,null,null,null,null,null,null,null,null,null,null,null,null,null,null,null,null,"Ionescu Andrei","Bucuresti"]
[null,null,null,null,null,null,null,null,null,null,null,null,null,null,null,null,null,null,null,"Ionescu Aurelian","Campulung Mold"]
[null,null,null,null,null,null,null,null,null,null,null,null,null,null,null,null,null,null,null,"Ionescu Cristi","Ploiesti"]
[null,null,null,null,null,null,null,null,null,null,null,null,null,null,null,null,null,null,null,"Ionescu Cristian","Ulmi"]
[null,null,null,null,null,null,null,null,null,null,null,null,null,null,null,null,null,null,null,"Ionescu Dan","Iasi"]
[null,null,null,null,null,null,null,null,null,null,null,null,null,null,null,null,null,null,null,"Ionescu Dragos","Buhusi"]
[null,null,null,null,null,null,null,null,null,null,null,null,null,null,null,null,null,null,null,"Ionescu Ioana","Bucuresti"]
[null,null,null,null,null,null,null,null,null,null,null,null,null,null,null,null,null,null,null,"Ionescu Mihai","Bucuresti"]
[null,null,null,null,null,null,null,null,null,null,null,null,null,null,null,null,null,null,null,"Ionescu Mihai Dragos","Bucuresti"]
[null,null,null,null,null,null,null,null,null,null,null,null,null,null,null,null,null,null,null,"Ionescu Rebeca Alesia","Salcea"]
[null,null,null,null,null,null,null,null,null,null,null,null,null,null,null,null,null,null,null,"Ionescu Sebastian","Buzau"]
[null,null,null,null,null,null,null,null,null,null,null,null,null,null,null,null,null,null,null,"Ionescu Traian","Galati"]
[null,null,null,null,null,null,null,null,null,null,null,null,null,null,null,null,null,null,null,"Ionescu Vlad Alex","Brasov"]
[null,null,null,null,null,null,null,null,null,null,null,null,null,null,null,null,null,null,null,"Ionica Codrin","Comanesti"]
[null,null,null,null,null,null,null,null,null,null,null,null,null,null,null,null,null,null,null,"Ionica Marian","Curtea de Arges"]
[null,null,null,null,null,null,null,null,null,null,null,null,null,null,null,null,null,null,null,"Ionica Marius","Comanesti"]
[null,null,null,null,null,null,null,null,null,null,null,null,null,null,null,null,null,null,null,"Ionita Cristian","Ploiesti"]
[null,null,null,null,null,null,null,null,null,null,null,null,null,null,null,null,null,null,null,"Ionita Dan","Bucuresti"]
[null,null,null,null,null,null,null,null,null,null,null,null,null,null,null,null,null,null,null,"Ionita Daniel","Bucuresti"]
[null,null,null,null,null,null,null,null,null,null,null,null,null,null,null,null,null,null,null,"Ionita Dragos Iulian","Piatra Neamt"]
[null,null,null,null,null,null,null,null,null,null,null,null,null,null,null,null,null,null,null,"Ionita Fabian","Ploiesti"]
[null,null,null,null,null,null,null,null,null,null,null,null,null,null,null,null,null,null,null,"Ionita Florian","Paulesti"]
[null,null,null,null,null,null,null,null,null,null,null,null,null,null,null,null,null,null,null,"Ionita Mihai","Lipanesti"]
[null,null,null,null,null,null,null,null,null,null,null,null,null,null,null,null,null,null,null,"Ionita Nicu","Focsani"]
[null,null,null,null,null,null,null,null,null,null,null,null,null,null,null,null,null,null,null,"Ionita Stefan","Macin"]
[null,null,null,null,null,null,null,null,null,null,null,null,null,null,null,null,null,null,null,"Ionita Valentin","Galati"]
[null,null,null,null,null,null,null,null,null,null,null,null,null,null,null,null,null,null,null,"Iordache Catalin","Comanesti"]
[null,null,null,null,null,null,null,null,null,null,null,null,null,null,null,null,null,null,null,"Iordache Dragos Gabriel","Constanta"]
[null,null,null,null,null,null,null,null,null,null,null,null,null,null,null,null,null,null,null,"Iordache Eugen","Braila"]
[null,null,null,null,null,null,null,null,null,null,null,null,null,null,null,null,null,null,null,"Iordache Marian","Ramnicu Valcea"]
[null,null,null,null,null,null,null,null,null,null,null,null,null,null,null,null,null,null,null,"Iordache Vlad","Bucuresti"]
[null,null,null,null,null,null,null,null,null,null,null,null,null,null,null,null,null,null,null,"Iordachi Adrian","Adjud"]
[null,null,null,null,null,null,null,null,null,null,null,null,null,null,null,null,null,null,null,"Iordan Alexandru Constantin","Bucuresti"]
[null,null,null,null,null,null,null,null,null,null,null,null,null,null,null,null,null,null,null,"Iordan Eduard","Bucuresti"]
[null,null,null,null,null,null,null,null,null,null,null,null,null,null,null,null,null,null,null,"Iordan Marc Gabriel","Bucuresti"]
[null,null,null,null,null,null,null,null,null,null,null,null,null,null,null,null,null,null,null,"Iordan Marius","Bucuresti"]
[null,null,null,null,null,null,null,null,null,null,null,null,null,null,null,null,null,null,null,"Iordanov Ivailo","Bulgaria"]
[null,null,null,null,null,null,null,null,null,null,null,null,null,null,null,null,null,null,null,"Iorga Adrian","Videle"]
[null,null,null,null,null,null,null,null,null,null,null,null,null,null,null,null,null,null,null,"Iorgoiu Constantin","Drajna de Jos"]
[null,null,null,null,null,null,null,null,null,null,null,null,null,null,null,null,null,null,null,"Iosca George","Bucuresti"]
[null,null,null,null,null,null,null,null,null,null,null,null,null,null,null,null,null,null,null,"Iosim Dumitru","Slatina"]
[null,null,null,null,null,null,null,null,null,null,null,null,null,null,null,null,null,null,null,"Iosip Radu Gabriel","Barlad"]
[null,null,null,null,null,null,null,null,null,null,null,null,null,null,null,null,null,null,null,"Iotu Mihaita Sorin","Alexandria"]
[null,null,null,null,null,null,null,null,null,null,null,null,null,null,null,null,null,null,null,"Iovdi Vasile","Ucraina"]
[null,null,null,null,null,null,null,null,null,null,null,null,null,null,null,null,null,null,null,"Ipate Virgil","Bucuresti"]
[null,null,null,null,null,null,null,null,null,null,null,null,null,null,null,null,null,null,null,"Irimia Marian","Ploiesti"]
[null,null,null,null,null,null,null,null,null,null,null,null,null,null,null,null,null,null,null,"Irimia Sorin","Moinesti"]
[null,null,null,null,null,null,null,null,null,null,null,null,null,null,null,null,null,null,null,"Irimia Sorin Jr","Cluj Napoca"]
[null,null,null,null,null,null,null,null,null,null,null,null,null,null,null,null,null,null,null,"Irimia Tudorel","Onesti"]
[null,null,null,null,null,null,null,null,null,null,null,null,null,null,null,null,null,null,null,"Irimia Viorel","Comanesti"]
[null,null,null,null,null,null,null,null,null,null,null,null,null,null,null,null,null,null,null,"Irini Florin Lutu","Fratautii Vechi"]
[null,null,null,null,null,null,null,null,null,null,null,null,null,null,null,null,null,null,null,"Irsai Istvan","Targu Mures"]
[null,null,null,null,null,null,null,null,null,null,null,null,null,null,null,null,null,null,null,"Ischimgi Ivan","Moldova-Cantemir"]
[null,null,null,null,null,null,null,null,null,null,null,null,null,null,null,null,null,null,null,"Isopescu Ionut","Fratautii Noi"]
[null,null,null,null,null,null,null,null,null,null,null,null,null,null,null,null,null,null,null,"Ispas Cristian","Sebes"]
[null,null,null,null,null,null,null,null,null,null,null,null,null,null,null,null,null,null,null,"Ispas Emil","Alba Iulia"]
[null,null,null,null,null,null,null,null,null,null,null,null,null,null,null,null,null,null,null,"Ispas Victor","Turnu Magurele"]
[null,null,null,null,null,null,null,null,null,null,null,null,null,null,null,null,null,null,null,"Istina Lucas","Arad"]
[null,null,null,null,null,null,null,null,null,null,null,null,null,null,null,null,null,null,null,"Istrate Adrian","Bistrita"]
[null,null,null,null,null,null,null,null,null,null,null,null,null,null,null,null,null,null,null,"Istrate Cristian","Bucuresti"]
[null,null,null,null,null,null,null,null,null,null,null,null,null,null,null,null,null,null,null,"Istrate Victor","Barlad"]
[null,null,null,null,null,null,null,null,null,null,null,null,null,null,null,null,null,null,null,"Istratescu Albert Mihai","Targoviste"]
[null,null,null,null,null,null,null,null,null,null,null,null,null,null,null,null,null,null,null,"Isumbeli Afanasii","Moldova-Cahul"]
[null,null,null,null,null,null,null,null,null,null,null,null,null,null,null,null,null,null,null,"Itcus Marian","Sucevita"]
[null,null,null,null,null,null,null,null,null,null,null,null,null,null,null,null,null,null,null,"Ivan Adrian","Tulcea"]
[null,null,null,null,null,null,null,null,null,null,null,null,null,null,null,null,null,null,null,"Ivan Adriana","Buzau"]
[null,null,null,null,null,null,null,null,null,null,null,null,null,null,null,null,null,null,null,"Ivan Ioan","Medias"]
[null,null,null,null,null,null,null,null,null,null,null,null,null,null,null,null,null,null,null,"Ivan Marius","Buzau"]
[null,null,null,null,null,null,null,null,null,null,null,null,null,null,null,null,null,null,null,"Ivan Tiberiu","Bucuresti"]
[null,null,null,null,null,null,null,null,null,null,null,null,null,null,null,null,null,null,null,"Ivan Valentin","Campina"]
[null,null,null,null,null,null,null,null,null,null,null,null,null,null,null,null,null,null,null,"Ivanco Arteom","Moldova-Cahul"]
[null,null,null,null,null,null,null,null,null,null,null,null,null,null,null,null,null,null,null,"Ivanov Alexandru","Cluj Napoca"]
[null,null,null,null,null,null,null,null,null,null,null,null,null,null,null,null,null,null,null,"Ivanov Alexandru","Moldova-Cahul"]
[null,null,null,null,null,null,null,null,null,null,null,null,null,null,null,null,null,null,null,"Ivanov Sorin","Piatra Neamt"]
[null,null,null,null,null,null,null,null,null,null,null,null,null,null,null,null,null,null,null,"Ivascu Cosmin","Viseu"]
[null,null,null,null,null,null,null,null,null,null,null,null,null,null,null,null,null,null,null,"Ivascu Gavrila","Viseu"]
[null,null,null,null,null,null,null,null,null,null,null,null,null,null,null,null,null,null,null,"Ivascu Ioan","Viseu"]
[null,null,null,null,null,null,null,null,null,null,null,null,null,null,null,null,null,null,null,"Ivascu Stefan","Viseu"]
[null,null,null,null,null,null,null,null,null,null,null,null,null,null,null,null,null,null,null,"Jantea Florin","Bucuresti"]
[null,null,null,null,null,null,null,null,null,null,null,null,null,null,null,null,null,null,null,"Jaouir Khaled","Bucuresti"]
[null,null,null,null,null,null,null,null,null,null,null,null,null,null,null,null,null,null,null,"Jarebe Massimo","Iasi"]
[null,null,null,null,null,null,null,null,null,null,null,null,null,null,null,null,null,null,null,"Jarebe Vasile","Iasi"]
[null,null,null,null,null,null,null,null,null,null,null,null,null,null,null,null,null,null,null,"Jeflea Calin","Sibiu"]
[null,null,null,null,null,null,null,null,null,null,null,null,null,null,null,null,null,null,null,"Jelea Iulian","Aroneanu"]
[null,null,null,null,null,null,null,null,null,null,null,null,null,null,null,null,null,null,null,"Jerebetchi Dumitru","Moldova-Cahul"]
[null,null,null,null,null,null,null,null,null,null,null,null,null,null,null,null,null,null,null,"Jevdic Aleksandar","Varset"]
[null,null,null,null,null,null,null,null,null,null,null,null,null,null,null,null,null,null,null,"Jianu Florin","Constanta"]
[null,null,null,null,null,null,null,null,null,null,null,null,null,null,null,null,null,null,null,"Jichici Svetozar","Timisoara"]
[null,null,null,null,null,null,null,null,null,null,null,null,null,null,null,null,null,null,null,"Jimmy Lu","Bucuresti"]
[null,null,null,null,null,null,null,null,null,null,null,null,null,null,null,null,null,null,null,"Jinga Vlad","Bucuresti"]
[null,null,null,null,null,null,null,null,null,null,null,null,null,null,null,null,null,null,null,"Jitaru Stefan","Piatra Neamt"]
[null,null,null,null,null,null,null,null,null,null,null,null,null,null,null,null,null,null,null,"Jobb Levente","Odorheiu Secuiesc"]
[null,null,null,null,null,null,null,null,null,null,null,null,null,null,null,null,null,null,null,"Joldes Adrian","Bistrita"]
[null,null,null,null,null,null,null,null,null,null,null,null,null,null,null,null,null,null,null,"Joneczek Sandra","Dumbravita"]
[null,null,null,null,null,null,null,null,null,null,null,null,null,null,null,null,null,null,null,"Jora Daria","Barlad"]
[null,null,null,null,null,null,null,null,null,null,null,null,null,null,null,null,null,null,null,"Jorga Viktorija","Vlajkovac"]
[null,null,null,null,null,null,null,null,null,null,null,null,null,null,null,null,null,null,null,"Jovanovic Slobodan","Zajecar Serbia"]
[null,null,null,null,null,null,null,null,null,null,null,null,null,null,null,null,null,null,null,"Jozsa Zoltan","Odorheiu Secuiesc"]
[null,null,null,null,null,null,null,null,null,null,null,null,null,null,null,null,null,null,null,"Jujonescu Paul","Nadrag"]
[null,null,null,null,null,null,null,null,null,null,null,null,null,null,null,null,null,null,null,"Jupanschi Adrian","Hunedoara"]
[null,null,null,null,null,null,null,null,null,null,null,null,null,null,null,null,null,null,null,"Jurescu Sorin","Timisoara"]
[null,null,null,null,null,null,null,null,null,null,null,null,null,null,null,null,null,null,null,"Jurgiu Marian","Botosani"]
[null,null,null,null,null,null,null,null,null,null,null,null,null,null,null,null,null,null,null,"Jurje Alex Doru","Almasu Mare"]
[null,null,null,null,null,null,null,null,null,null,null,null,null,null,null,null,null,null,null,"Jurovschi Andrei","Satumare"]
[null,null,null,null,null,null,null,null,null,null,null,null,null,null,null,null,null,null,null,"Jusca Sorin","Lugoj"]
[null,null,null,null,null,null,null,null,null,null,null,null,null,null,null,null,null,null,null,"Kadar Josif","Oradea"]
[null,null,null,null,null,null,null,null,null,null,null,null,null,null,null,null,null,null,null,"Kalinsky Victor","Ucraina"]
[null,null,null,null,null,null,null,null,null,null,null,null,null,null,null,null,null,null,null,"Kalman Csaba","Timisoara"]
[null,null,null,null,null,null,null,null,null,null,null,null,null,null,null,null,null,null,null,"Kantor Imre Zoltan","Reghin"]
[null,null,null,null,null,null,null,null,null,null,null,null,null,null,null,null,null,null,null,"Kaposta Dominic","Arad"]
[null,null,null,null,null,null,null,null,null,null,null,null,null,null,null,null,null,null,null,"Kaposta Victor","Arad"]
[null,null,null,null,null,null,null,null,null,null,null,null,null,null,null,null,null,null,null,"Katona Gellert","Targu Mures"]
[null,null,null,null,null,null,null,null,null,null,null,null,null,null,null,null,null,null,null,"Kelemen Miklos","Miercurea Ciuc"]
[null,null,null,null,null,null,null,null,null,null,null,null,null,null,null,null,null,null,null,"Kercedi Catalin","Tarnaveni"]
[null,null,null,null,null,null,null,null,null,null,null,null,null,null,null,null,null,null,null,"Kerekes Tibor","Bretcu"]
[null,null,null,null,null,null,null,null,null,null,null,null,null,null,null,null,null,null,null,"Keresztes Arpad","Miercurea Ciuc"]
[null,null,null,null,null,null,null,null,null,null,null,null,null,null,null,null,null,null,null,"Kesmarki Laszlo","Tarnaveni"]
[null,null,null,null,null,null,null,null,null,null,null,null,null,null,null,null,null,null,null,"Keszeg Lorand","Tarnaveni"]
[null,null,null,null,null,null,null,null,null,null,null,null,null,null,null,null,null,null,null,"Khashan Salem","Bucuresti"]
[null,null,null,null,null,null,null,null,null,null,null,null,null,null,null,null,null,null,null,"Kifor Razvan","Bran"]
[null,null,null,null,null,null,null,null,null,null,null,null,null,null,null,null,null,null,null,"Kiraly Florin","Satu Mare"]
[null,null,null,null,null,null,null,null,null,null,null,null,null,null,null,null,null,null,null,"Kiraly Pongratz","Salonta"]
[null,null,null,null,null,null,null,null,null,null,null,null,null,null,null,null,null,null,null,"Kis Jancsi","Cluj Napoca"]
[null,null,null,null,null,null,null,null,null,null,null,null,null,null,null,null,null,null,null,"Kis Robert","Cluj Napoca"]
[null,null,null,null,null,null,null,null,null,null,null,null,null,null,null,null,null,null,null,"Kis Valentin","Cluj Napoca"]
[null,null,null,null,null,null,null,null,null,null,null,null,null,null,null,null,null,null,null,"Kiss Attila","Crasna"]
[null,null,null,null,null,null,null,null,null,null,null,null,null,null,null,null,null,null,null,"Kiss Janos","Miercurea Ciuc"]
[null,null,null,null,null,null,null,null,null,null,null,null,null,null,null,null,null,null,null,"Kiss Teofil","Oradea"]
[null,null,null,null,null,null,null,null,null,null,null,null,null,null,null,null,null,null,null,"Klein Ferenc","Reghin"]
[null,null,null,null,null,null,null,null,null,null,null,null,null,null,null,null,null,null,null,"Klepp Lucas","Lipova"]
[null,null,null,null,null,null,null,null,null,null,null,null,null,null,null,null,null,null,null,"Kolumban Elek","Targu Mures"]
[null,null,null,null,null,null,null,null,null,null,null,null,null,null,null,null,null,null,null,"Kolumban Levente","Targu Mures"]
[null,null,null,null,null,null,null,null,null,null,null,null,null,null,null,null,null,null,null,"Koncsag Csaba","Joseni"]
[null,null,null,null,null,null,null,null,null,null,null,null,null,null,null,null,null,null,null,"Kondort Arpad","Agnita"]
[null,null,null,null,null,null,null,null,null,null,null,null,null,null,null,null,null,null,null,"Konti Darius","Apahida"]
[null,null,null,null,null,null,null,null,null,null,null,null,null,null,null,null,null,null,null,"Konti Florin","Apahida"]
[null,null,null,null,null,null,null,null,null,null,null,null,null,null,null,null,null,null,null,"Korodi Csaba","Aita Mare"]
[null,null,null,null,null,null,null,null,null,null,null,null,null,null,null,null,null,null,null,"Korodi Krisztian","Aita Mare"]
[null,null,null,null,null,null,null,null,null,null,null,null,null,null,null,null,null,null,null,"Kosa Karol","Sibiu"]
[null,null,null,null,null,null,null,null,null,null,null,null,null,null,null,null,null,null,null,"Kosa Laszlo","Alesd"]
[null,null,null,null,null,null,null,null,null,null,null,null,null,null,null,null,null,null,null,"Koteles Antonio","Cluj Napoca"]
[null,null,null,null,null,null,null,null,null,null,null,null,null,null,null,null,null,null,null,"Kovaci Stefan","Buhusi"]
[null,null,null,null,null,null,null,null,null,null,null,null,null,null,null,null,null,null,null,"Kovacs Attila","Covasna"]
[null,null,null,null,null,null,null,null,null,null,null,null,null,null,null,null,null,null,null,"Kovacs Dorel","Remetea Mare"]
[null,null,null,null,null,null,null,null,null,null,null,null,null,null,null,null,null,null,null,"Kovacs Iosif","Arad"]
[null,null,null,null,null,null,null,null,null,null,null,null,null,null,null,null,null,null,null,"Kovacs Istvan","Miercurea Ciuc"]
[null,null,null,null,null,null,null,null,null,null,null,null,null,null,null,null,null,null,null,"Kovacs Lajos","Odorheiu Secuiesc"]
[null,null,null,null,null,null,null,null,null,null,null,null,null,null,null,null,null,null,null,"Kovacs Lehel","Zabala"]
[null,null,null,null,null,null,null,null,null,null,null,null,null,null,null,null,null,null,null,"Kovacs Levente","Oradea"]
[null,null,null,null,null,null,null,null,null,null,null,null,null,null,null,null,null,null,null,"Kovacs Paul","Apahida"]
[null,null,null,null,null,null,null,null,null,null,null,null,null,null,null,null,null,null,null,"Kozi Zoltan Szabolcs","Brasov"]
[null,null,null,null,null,null,null,null,null,null,null,null,null,null,null,null,null,null,null,"Kramarsic Milos","Belgrad"]
[null,null,null,null,null,null,null,null,null,null,null,null,null,null,null,null,null,null,null,"Kravchenko Daniel Mark","Israel"]
[null,null,null,null,null,null,null,null,null,null,null,null,null,null,null,null,null,null,null,"Kreider Helmuth","Germania"]
[null,null,null,null,null,null,null,null,null,null,null,null,null,null,null,null,null,null,null,"Krempels Peter","Bucuresti"]
[null,null,null,null,null,null,null,null,null,null,null,null,null,null,null,null,null,null,null,"Krisan Iuliu","Viseu"]
[null,null,null,null,null,null,null,null,null,null,null,null,null,null,null,null,null,null,null,"Kristof Daniel","Oradea"]
[null,null,null,null,null,null,null,null,null,null,null,null,null,null,null,null,null,null,null,"Kriszta Arpad Lorand","Sanpaul"]
[null,null,null,null,null,null,null,null,null,null,null,null,null,null,null,null,null,null,null,"Kupan David","Lunca Muresului"]
[null,null,null,null,null,null,null,null,null,null,null,null,null,null,null,null,null,null,null,"Kupas Erno","Sarmasag"]
[null,null,null,null,null,null,null,null,null,null,null,null,null,null,null,null,null,null,null,"Labo Alexandru","Zalau"]
[null,null,null,null,null,null,null,null,null,null,null,null,null,null,null,null,null,null,null,"Labutin Dmitrii","Moldova-Balti"]
[null,null,null,null,null,null,null,null,null,null,null,null,null,null,null,null,null,null,null,"Lacatis Ghita","Maderat"]
[null,null,null,null,null,null,null,null,null,null,null,null,null,null,null,null,null,null,null,"Lacatus Ana Maria","Agnita"]
[null,null,null,null,null,null,null,null,null,null,null,null,null,null,null,null,null,null,null,"Laczko Csongor","Joseni"]
[null,null,null,null,null,null,null,null,null,null,null,null,null,null,null,null,null,null,null,"Lajos Mozes","Odorheiu Secuiesc"]
[null,null,null,null,null,null,null,null,null,null,null,null,null,null,null,null,null,null,null,"Lajtai Norbert","Brasov"]
[null,null,null,null,null,null,null,null,null,null,null,null,null,null,null,null,null,null,null,"Lako Valentin","Targu Mures"]
[null,null,null,null,null,null,null,null,null,null,null,null,null,null,null,null,null,null,null,"Langa Timotei","Dumbraveni SV"]
[null,null,null,null,null,null,null,null,null,null,null,null,null,null,null,null,null,null,null,"Lantos Monica","Targu Mures"]
[null,null,null,null,null,null,null,null,null,null,null,null,null,null,null,null,null,null,null,"Lapadat Claudia","Hunedoara"]
[null,null,null,null,null,null,null,null,null,null,null,null,null,null,null,null,null,null,null,"Larion Claudiu Stefan","Bucuresti"]
[null,null,null,null,null,null,null,null,null,null,null,null,null,null,null,null,null,null,null,"Lascu Mihai","Timisoara"]
[null,null,null,null,null,null,null,null,null,null,null,null,null,null,null,null,null,null,null,"Laszlo Barna","Cristuru Secuiesc"]
[null,null,null,null,null,null,null,null,null,null,null,null,null,null,null,null,null,null,null,"Laszlo Levente","Miercurea Ciuc"]
[null,null,null,null,null,null,null,null,null,null,null,null,null,null,null,null,null,null,null,"Lates Dorin","Sighisoara"]
[null,null,null,null,null,null,null,null,null,null,null,null,null,null,null,null,null,null,null,"Layis Rita","Sighetu Marmatiei"]
[null,null,null,null,null,null,null,null,null,null,null,null,null,null,null,null,null,null,null,"Laza Gabriel","Piatra Neamt"]
[null,null,null,null,null,null,null,null,null,null,null,null,null,null,null,null,null,null,null,"Lazar Bogdan","Nasaud"]
[null,null,null,null,null,null,null,null,null,null,null,null,null,null,null,null,null,null,null,"Lazar Cristian","Cluj Napoca"]
[null,null,null,null,null,null,null,null,null,null,null,null,null,null,null,null,null,null,null,"Lazar Dumitru","Mizil"]
[null,null,null,null,null,null,null,null,null,null,null,null,null,null,null,null,null,null,null,"Lazar Emil","Ocna Mures"]
[null,null,null,null,null,null,null,null,null,null,null,null,null,null,null,null,null,null,null,"Lazar Ionel","Pufesti"]
[null,null,null,null,null,null,null,null,null,null,null,null,null,null,null,null,null,null,null,"Lazar Mihai","Alexandria"]
[null,null,null,null,null,null,null,null,null,null,null,null,null,null,null,null,null,null,null,"Lazar Vasile","Pufesti"]
[null,null,null,null,null,null,null,null,null,null,null,null,null,null,null,null,null,null,null,"Lazar Viorel","Botosani"]
[null,null,null,null,null,null,null,null,null,null,null,null,null,null,null,null,null,null,null,"Lazarescu Ioan","Caransebes"]
[null,null,null,null,null,null,null,null,null,null,null,null,null,null,null,null,null,null,null,"Lazaroff Filip","Suceava"]
[null,null,null,null,null,null,null,null,null,null,null,null,null,null,null,null,null,null,null,"Leaua Fabian","Ramnicu Sarat"]
[null,null,null,null,null,null,null,null,null,null,null,null,null,null,null,null,null,null,null,"Lebada Doru","Arad"]
[null,null,null,null,null,null,null,null,null,null,null,null,null,null,null,null,null,null,null,"Lebada Flavia","Bucuresti"]
[null,null,null,null,null,null,null,null,null,null,null,null,null,null,null,null,null,null,null,"Lebada Mugur","Bucuresti"]
[null,null,null,null,null,null,null,null,null,null,null,null,null,null,null,null,null,null,null,"Leibold Angela","Germania"]
[null,null,null,null,null,null,null,null,null,null,null,null,null,null,null,null,null,null,null,"Lele Mihai","Alesd"]
[null,null,null,null,null,null,null,null,null,null,null,null,null,null,null,null,null,null,null,"Lemhenyi Tamas","Gheorgheni"]
[null,null,null,null,null,null,null,null,null,null,null,null,null,null,null,null,null,null,null,"Lemnaru Nicoleta","Moldova-Chisinau"]
[null,null,null,null,null,null,null,null,null,null,null,null,null,null,null,null,null,null,null,"Lengenfelder Johan","Giroc"]
[null,null,null,null,null,null,null,null,null,null,null,null,null,null,null,null,null,null,null,"Leolea Andrei","Constanta"]
[null,null,null,null,null,null,null,null,null,null,null,null,null,null,null,null,null,null,null,"Leon Dumitru","Moldova-Cahul"]
[null,null,null,null,null,null,null,null,null,null,null,null,null,null,null,null,null,null,null,"Leon Victor","Galati"]
[null,null,null,null,null,null,null,null,null,null,null,null,null,null,null,null,null,null,null,"Leonard Iulian","Arad"]
[null,null,null,null,null,null,null,null,null,null,null,null,null,null,null,null,null,null,null,"Leonescu David","Alesd"]
[null,null,null,null,null,null,null,null,null,null,null,null,null,null,null,null,null,null,null,"Leorda Rares","Reghin"]
[null,null,null,null,null,null,null,null,null,null,null,null,null,null,null,null,null,null,null,"Leordean Leontin","Balomir"]
[null,null,null,null,null,null,null,null,null,null,null,null,null,null,null,null,null,null,null,"Lepadatu Gheorghe","Priboieni"]
[null,null,null,null,null,null,null,null,null,null,null,null,null,null,null,null,null,null,null,"Lepadatu Gheorghe","Pascani"]
[null,null,null,null,null,null,null,null,null,null,null,null,null,null,null,null,null,null,null,"Lepadatu Robert","Priboieni"]
[null,null,null,null,null,null,null,null,null,null,null,null,null,null,null,null,null,null,null,"Leric David","Lipova"]
[null,null,null,null,null,null,null,null,null,null,null,null,null,null,null,null,null,null,null,"Lescinscaia Inna","Moldova-Balti"]
[null,null,null,null,null,null,null,null,null,null,null,null,null,null,null,null,null,null,null,"Leseanu Mihaita","Alexandria"]
[null,null,null,null,null,null,null,null,null,null,null,null,null,null,null,null,null,null,null,"Lesnic Bogdan","Moldova-Briceni"]
[null,null,null,null,null,null,null,null,null,null,null,null,null,null,null,null,null,null,null,"Leteanu Marius","Bacau"]
[null,null,null,null,null,null,null,null,null,null,null,null,null,null,null,null,null,null,null,"Levinta Iurie","Moldova-Leova"]
[null,null,null,null,null,null,null,null,null,null,null,null,null,null,null,null,null,null,null,"LI HONGLEI","Bucuresti"]
[null,null,null,null,null,null,null,null,null,null,null,null,null,null,null,null,null,null,null,"Liahu Doru","Botosani"]
[null,null,null,null,null,null,null,null,null,null,null,null,null,null,null,null,null,null,null,"Lica George","Eforie"]
[null,null,null,null,null,null,null,null,null,null,null,null,null,null,null,null,null,null,null,"Liculescu Vlad","Bucuresti"]
[null,null,null,null,null,null,null,null,null,null,null,null,null,null,null,null,null,null,null,"Lienerth Lukas","Sibiu"]
[null,null,null,null,null,null,null,null,null,null,null,null,null,null,null,null,null,null,null,"Lienerth Markus","Sibiu"]
[null,null,null,null,null,null,null,null,null,null,null,null,null,null,null,null,null,null,null,"Linoiu Alexandru","Constanta"]
[null,null,null,null,null,null,null,null,null,null,null,null,null,null,null,null,null,null,null,"Lipovanu Stefan","Buhusi"]
[null,null,null,null,null,null,null,null,null,null,null,null,null,null,null,null,null,null,null,"Lita Gabriel","Bucuresti"]
[null,null,null,null,null,null,null,null,null,null,null,null,null,null,null,null,null,null,null,"Litescu Radu","Otopeni"]
[null,null,null,null,null,null,null,null,null,null,null,null,null,null,null,null,null,null,null,"Litovcenco Gheorghe","Iasi"]
[null,null,null,null,null,null,null,null,null,null,null,null,null,null,null,null,null,null,null,"Loghin Claudiu","Iasi"]
[null,null,null,null,null,null,null,null,null,null,null,null,null,null,null,null,null,null,null,"Loghin Cristian","Pascani"]
[null,null,null,null,null,null,null,null,null,null,null,null,null,null,null,null,null,null,null,"Loghin Florin","Brasov"]
[null,null,null,null,null,null,null,null,null,null,null,null,null,null,null,null,null,null,null,"Loghin Sergiu","Pascani"]
[null,null,null,null,null,null,null,null,null,null,null,null,null,null,null,null,null,null,null,"Loloiu Maia","Sibiu"]
[null,null,null,null,null,null,null,null,null,null,null,null,null,null,null,null,null,null,null,"Longauer Tiberiu","Brasov"]
[null,null,null,null,null,null,null,null,null,null,null,null,null,null,null,null,null,null,null,"Lorinczi Bela","Gheorgheni"]
[null,null,null,null,null,null,null,null,null,null,null,null,null,null,null,null,null,null,null,"Lotokha Daniel","Odesa"]
[null,null,null,null,null,null,null,null,null,null,null,null,null,null,null,null,null,null,null,"Lotokha Sergey","Odesa"]
[null,null,null,null,null,null,null,null,null,null,null,null,null,null,null,null,null,null,null,"Lovasz Vilmos","Gheorgheni"]
[null,null,null,null,null,null,null,null,null,null,null,null,null,null,null,null,null,null,null,"Lovin Eusebiu","Comanesti"]
[null,null,null,null,null,null,null,null,null,null,null,null,null,null,null,null,null,null,null,"Lozneanu Mihai","Iasi"]
[null,null,null,null,null,null,null,null,null,null,null,null,null,null,null,null,null,null,null,"Luca Eugen","Aiud"]
[null,null,null,null,null,null,null,null,null,null,null,null,null,null,null,null,null,null,null,"Luca Florin","Ludus"]
[null,null,null,null,null,null,null,null,null,null,null,null,null,null,null,null,null,null,null,"Luca Gheorghe","Boldesti Scaeni"]
[null,null,null,null,null,null,null,null,null,null,null,null,null,null,null,null,null,null,null,"Luca Ioan","Bucuresti"]
[null,null,null,null,null,null,null,null,null,null,null,null,null,null,null,null,null,null,null,"Luca Ioan","Sibiu"]
[null,null,null,null,null,null,null,null,null,null,null,null,null,null,null,null,null,null,null,"Luca Ioan Iacob","Hunedoara"]
[null,null,null,null,null,null,null,null,null,null,null,null,null,null,null,null,null,null,null,"Luca Ionut","Sibiu"]
[null,null,null,null,null,null,null,null,null,null,null,null,null,null,null,null,null,null,null,"Luca Irinel","Calan"]
[null,null,null,null,null,null,null,null,null,null,null,null,null,null,null,null,null,null,null,"Luca Marius","Mogosesti"]
[null,null,null,null,null,null,null,null,null,null,null,null,null,null,null,null,null,null,null,"Luca Octavian","Tulcea"]
[null,null,null,null,null,null,null,null,null,null,null,null,null,null,null,null,null,null,null,"Luca Sorin","Arad"]
[null,null,null,null,null,null,null,null,null,null,null,null,null,null,null,null,null,null,null,"Lucaci Adrian","Bucuresti"]
[null,null,null,null,null,null,null,null,null,null,null,null,null,null,null,null,null,null,null,"Lucaciu Raul","Oradea"]
[null,null,null,null,null,null,null,null,null,null,null,null,null,null,null,null,null,null,null,"Lucas Ionut","Botosani"]
[null,null,null,null,null,null,null,null,null,null,null,null,null,null,null,null,null,null,null,"Lucic Corneliu","Suceava"]
[null,null,null,null,null,null,null,null,null,null,null,null,null,null,null,null,null,null,null,"Lucineti Gabriel","Sighetu Marmatiei"]
[null,null,null,null,null,null,null,null,null,null,null,null,null,null,null,null,null,null,null,"Lucky Cristina","Comanesti"]
[null,null,null,null,null,null,null,null,null,null,null,null,null,null,null,null,null,null,null,"Lulciuc Dumitru","Timisoara"]
[null,null,null,null,null,null,null,null,null,null,null,null,null,null,null,null,null,null,null,"Lumezeanu Adelina","Bucuresti"]
[null,null,null,null,null,null,null,null,null,null,null,null,null,null,null,null,null,null,null,"Lumezeanu Cristian","Bucuresti"]
[null,null,null,null,null,null,null,null,null,null,null,null,null,null,null,null,null,null,null,"Lungan Mihai","Bucuresti"]
[null,null,null,null,null,null,null,null,null,null,null,null,null,null,null,null,null,null,null,"Lungoci Mihai","Craiova"]
[null,null,null,null,null,null,null,null,null,null,null,null,null,null,null,null,null,null,null,"Lungu Cristian","Oradea"]
[null,null,null,null,null,null,null,null,null,null,null,null,null,null,null,null,null,null,null,"Lungu Doru","Drobeta Tr Severin"]
[null,null,null,null,null,null,null,null,null,null,null,null,null,null,null,null,null,null,null,"Lungu Lucian","Onesti"]
[null,null,null,null,null,null,null,null,null,null,null,null,null,null,null,null,null,null,null,"Lungu Marius","Oravita"]
[null,null,null,null,null,null,null,null,null,null,null,null,null,null,null,null,null,null,null,"Lungu Mihai","Iasi"]
[null,null,null,null,null,null,null,null,null,null,null,null,null,null,null,null,null,null,null,"Lungu Raul","Tecuci"]
[null,null,null,null,null,null,null,null,null,null,null,null,null,null,null,null,null,null,null,"Lungu Tudorel","Tecuci"]
[null,null,null,null,null,null,null,null,null,null,null,null,null,null,null,null,null,null,null,"Luntraru Andrei","Iasi"]
[null,null,null,null,null,null,null,null,null,null,null,null,null,null,null,null,null,null,null,"Luntraru Mihai","Iasi"]
[null,null,null,null,null,null,null,null,null,null,null,null,null,null,null,null,null,null,null,"Luntraru Ovidiu","Iasi"]
[null,null,null,null,null,null,null,null,null,null,null,null,null,null,null,null,null,null,null,"Lup Levi","Dumbravita"]
[null,null,null,null,null,null,null,null,null,null,null,null,null,null,null,null,null,null,null,"Lup Silviu","Oradea"]
[null,null,null,null,null,null,null,null,null,null,null,null,null,null,null,null,null,null,null,"Lupchian Alin","Suceava"]
[null,null,null,null,null,null,null,null,null,null,null,null,null,null,null,null,null,null,null,"Lupchian Elisa","Suceava"]
[null,null,null,null,null,null,null,null,null,null,null,null,null,null,null,null,null,null,null,"Lupean Dumitru","Alba Iulia"]
[null,null,null,null,null,null,null,null,null,null,null,null,null,null,null,null,null,null,null,"Lupescu Nicolae","Reghin"]
[null,null,null,null,null,null,null,null,null,null,null,null,null,null,null,null,null,null,null,"Lupu Claudiu","Brasov"]
[null,null,null,null,null,null,null,null,null,null,null,null,null,null,null,null,null,null,null,"Lupu Cristian","Botosani"]
[null,null,null,null,null,null,null,null,null,null,null,null,null,null,null,null,null,null,null,"Lupu Dan","Pascani"]
[null,null,null,null,null,null,null,null,null,null,null,null,null,null,null,null,null,null,null,"Lupu Darius","Bucuresti"]
[null,null,null,null,null,null,null,null,null,null,null,null,null,null,null,null,null,null,null,"Lupu Gheorghe","Navodari"]
[null,null,null,null,null,null,null,null,null,null,null,null,null,null,null,null,null,null,null,"Lupu Marius","Bucuresti"]
[null,null,null,null,null,null,null,null,null,null,null,null,null,null,null,null,null,null,null,"Lupu Mihai","Bucuresti"]
[null,null,null,null,null,null,null,null,null,null,null,null,null,null,null,null,null,null,null,"Lupu Rares","Navodari"]
[null,null,null,null,null,null,null,null,null,null,null,null,null,null,null,null,null,null,null,"Lupu Vladimir Nicolas","Brasov"]
[null,null,null,null,null,null,null,null,null,null,null,null,null,null,null,null,null,null,null,"Macabinski Lucian","Bucuresti"]
[null,null,null,null,null,null,null,null,null,null,null,null,null,null,null,null,null,null,null,"Macari Ion","Iasi"]
[null,null,null,null,null,null,null,null,null,null,null,null,null,null,null,null,null,null,null,"Macarie Alexandru","Mioveni"]
[null,null,null,null,null,null,null,null,null,null,null,null,null,null,null,null,null,null,null,"Macelaru Eugen","Bucuresti"]
[null,null,null,null,null,null,null,null,null,null,null,null,null,null,null,null,null,null,null,"Maciuc Sorin","Suceava"]
[null,null,null,null,null,null,null,null,null,null,null,null,null,null,null,null,null,null,null,"Macovei Cristi","Iasi"]
[null,null,null,null,null,null,null,null,null,null,null,null,null,null,null,null,null,null,null,"Macovei Liviu","Brasov"]
[null,null,null,null,null,null,null,null,null,null,null,null,null,null,null,null,null,null,null,"Macovei Tudor","Bucuresti"]
[null,null,null,null,null,null,null,null,null,null,null,null,null,null,null,null,null,null,null,"Macuc Adrian","Bucuresti"]
[null,null,null,null,null,null,null,null,null,null,null,null,null,null,null,null,null,null,null,"Maerean Claudiu","Bistrita"]
[null,null,null,null,null,null,null,null,null,null,null,null,null,null,null,null,null,null,null,"Maftei Catalin Doru","Asau"]
[null,null,null,null,null,null,null,null,null,null,null,null,null,null,null,null,null,null,null,"Maftei Danut","Buzau"]
[null,null,null,null,null,null,null,null,null,null,null,null,null,null,null,null,null,null,null,"Maftei Ervin","Iasi"]
[null,null,null,null,null,null,null,null,null,null,null,null,null,null,null,null,null,null,null,"Maftei Robert","Brasov"]
[null,null,null,null,null,null,null,null,null,null,null,null,null,null,null,null,null,null,null,"Maftei Ticu","Iasi"]
[null,null,null,null,null,null,null,null,null,null,null,null,null,null,null,null,null,null,null,"Mag Bujor","Simleu Silvaniei"]
[null,null,null,null,null,null,null,null,null,null,null,null,null,null,null,null,null,null,null,"Magercu Alexandru","Bucuresti"]
[null,null,null,null,null,null,null,null,null,null,null,null,null,null,null,null,null,null,null,"Magura Larian","Constanta"]
[null,null,null,null,null,null,null,null,null,null,null,null,null,null,null,null,null,null,null,"Mahu Bogdan","Pascani"]
[null,null,null,null,null,null,null,null,null,null,null,null,null,null,null,null,null,null,null,"Maier Ciprian","Sebes"]
[null,null,null,null,null,null,null,null,null,null,null,null,null,null,null,null,null,null,null,"Majai Lehel","Sovata"]
[null,null,null,null,null,null,null,null,null,null,null,null,null,null,null,null,null,null,null,"Majeri Adrian","Bistrita"]
[null,null,null,null,null,null,null,null,null,null,null,null,null,null,null,null,null,null,null,"Majeru Gabriel","Radauti"]
[null,null,null,null,null,null,null,null,null,null,null,null,null,null,null,null,null,null,null,"Maksymov Oleksandr","Ucraina"]
[null,null,null,null,null,null,null,null,null,null,null,null,null,null,null,null,null,null,null,"Makszem Szabolcs","Gheorgheni"]
[null,null,null,null,null,null,null,null,null,null,null,null,null,null,null,null,null,null,null,"Mal Calin","Baia Mare"]
[null,null,null,null,null,null,null,null,null,null,null,null,null,null,null,null,null,null,null,"Malacopol Tatiana","Bucuresti"]
[null,null,null,null,null,null,null,null,null,null,null,null,null,null,null,null,null,null,null,"Malai Stanislav","Moldova-Cahul"]
[null,null,null,null,null,null,null,null,null,null,null,null,null,null,null,null,null,null,null,"Maldaianu Stefan","Alexandria"]
[null,null,null,null,null,null,null,null,null,null,null,null,null,null,null,null,null,null,null,"Malene Petru","Fagaras"]
[null,null,null,null,null,null,null,null,null,null,null,null,null,null,null,null,null,null,null,"Mali Robert","Vama"]
[null,null,null,null,null,null,null,null,null,null,null,null,null,null,null,null,null,null,null,"Malureanu Grigore","Focsani"]
[null,null,null,null,null,null,null,null,null,null,null,null,null,null,null,null,null,null,null,"Malutan Corneliu","Chiuza"]
[null,null,null,null,null,null,null,null,null,null,null,null,null,null,null,null,null,null,null,"Mamoun Taha","Arad"]
[null,null,null,null,null,null,null,null,null,null,null,null,null,null,null,null,null,null,null,"Man Adelin","Targu Mures"]
[null,null,null,null,null,null,null,null,null,null,null,null,null,null,null,null,null,null,null,"Man Cristina","Targu Mures"]
[null,null,null,null,null,null,null,null,null,null,null,null,null,null,null,null,null,null,null,"Man Eusebiu","Targu Mures"]
[null,null,null,null,null,null,null,null,null,null,null,null,null,null,null,null,null,null,null,"Man Ionut","Dej"]
[null,null,null,null,null,null,null,null,null,null,null,null,null,null,null,null,null,null,null,"Man Petrica","Dej"]
[null,null,null,null,null,null,null,null,null,null,null,null,null,null,null,null,null,null,null,"Man Sebastian","Cluj Napoca"]
[null,null,null,null,null,null,null,null,null,null,null,null,null,null,null,null,null,null,null,"Manastireanu Andrei","Botosani"]
[null,null,null,null,null,null,null,null,null,null,null,null,null,null,null,null,null,null,null,"Manciu George","Cluj Napoca"]
[null,null,null,null,null,null,null,null,null,null,null,null,null,null,null,null,null,null,null,"Manda Florin","Arad"]
[null,null,null,null,null,null,null,null,null,null,null,null,null,null,null,null,null,null,null,"Mandrean Gabriel","Hunedoara"]
[null,null,null,null,null,null,null,null,null,null,null,null,null,null,null,null,null,null,null,"Mandrescu Catalin","Buhusi"]
[null,null,null,null,null,null,null,null,null,null,null,null,null,null,null,null,null,null,null,"Mandru Aurel","Sarmas"]
[null,null,null,null,null,null,null,null,null,null,null,null,null,null,null,null,null,null,null,"Mandru Bogdan","Hunedoara"]
[null,null,null,null,null,null,null,null,null,null,null,null,null,null,null,null,null,null,null,"Manea Alexandru","Comarnic"]
[null,null,null,null,null,null,null,null,null,null,null,null,null,null,null,null,null,null,null,"Manea Dorinel","Tecuci"]
[null,null,null,null,null,null,null,null,null,null,null,null,null,null,null,null,null,null,null,"Manea Florian","Fetesti"]
[null,null,null,null,null,null,null,null,null,null,null,null,null,null,null,null,null,null,null,"Manea Florin","Fetesti"]
[null,null,null,null,null,null,null,null,null,null,null,null,null,null,null,null,null,null,null,"Manea Mihaita","Tulcea"]
[null,null,null,null,null,null,null,null,null,null,null,null,null,null,null,null,null,null,null,"Manescu Alexandru","Slatina"]
[null,null,null,null,null,null,null,null,null,null,null,null,null,null,null,null,null,null,null,"Manescu David","Bucuresti"]
[null,null,null,null,null,null,null,null,null,null,null,null,null,null,null,null,null,null,null,"Mangrau Nelu","Oradea"]
[null,null,null,null,null,null,null,null,null,null,null,null,null,null,null,null,null,null,null,"Manita Claudiu","Santamaria Orlea"]
[null,null,null,null,null,null,null,null,null,null,null,null,null,null,null,null,null,null,null,"Manitiu Florin","Sibiu"]
[null,null,null,null,null,null,null,null,null,null,null,null,null,null,null,null,null,null,null,"Manoila Adrian","Iasi"]
[null,null,null,null,null,null,null,null,null,null,null,null,null,null,null,null,null,null,null,"Manoiu Claudiu","Fieni"]
[null,null,null,null,null,null,null,null,null,null,null,null,null,null,null,null,null,null,null,"Manoiu Nicolae Sebastian","Fieni"]
[null,null,null,null,null,null,null,null,null,null,null,null,null,null,null,null,null,null,null,"Manolache Andrei","Iasi"]
[null,null,null,null,null,null,null,null,null,null,null,null,null,null,null,null,null,null,null,"Manolache Stefan","Boldesti Scaeni"]
[null,null,null,null,null,null,null,null,null,null,null,null,null,null,null,null,null,null,null,"Manole Dan","Braila"]
[null,null,null,null,null,null,null,null,null,null,null,null,null,null,null,null,null,null,null,"Manole Daria","Bucuresti"]
[null,null,null,null,null,null,null,null,null,null,null,null,null,null,null,null,null,null,null,"Manoliu Cristian","Bucuresti"]
[null,null,null,null,null,null,null,null,null,null,null,null,null,null,null,null,null,null,null,"Mantoiu Daniel","Pucioasa"]
[null,null,null,null,null,null,null,null,null,null,null,null,null,null,null,null,null,null,null,"Manu Flaviu","Ploiesti"]
[null,null,null,null,null,null,null,null,null,null,null,null,null,null,null,null,null,null,null,"Manzala Catalin","Buzau"]
[null,null,null,null,null,null,null,null,null,null,null,null,null,null,null,null,null,null,null,"Mara Cristina","Comanesti"]
[null,null,null,null,null,null,null,null,null,null,null,null,null,null,null,null,null,null,null,"Maran Petru","Sighetu Marmatiei"]
[null,null,null,null,null,null,null,null,null,null,null,null,null,null,null,null,null,null,null,"Maranceac Victoria","Moldova-Balti"]
[null,null,null,null,null,null,null,null,null,null,null,null,null,null,null,null,null,null,null,"Marcel Adam","Sighisoara"]
[null,null,null,null,null,null,null,null,null,null,null,null,null,null,null,null,null,null,null,"Marchis Alexandra","Cluj Napoca"]
[null,null,null,null,null,null,null,null,null,null,null,null,null,null,null,null,null,null,null,"Marchis Maximilian","Cluj Napoca"]
[null,null,null,null,null,null,null,null,null,null,null,null,null,null,null,null,null,null,null,"Marchitan Marius","Brasov"]
[null,null,null,null,null,null,null,null,null,null,null,null,null,null,null,null,null,null,null,"Marcu Bogdan Alexandru","Bucuresti"]
[null,null,null,null,null,null,null,null,null,null,null,null,null,null,null,null,null,null,null,"Marcu Catalin","Moinesti"]
[null,null,null,null,null,null,null,null,null,null,null,null,null,null,null,null,null,null,null,"Marcu Ciprian","Targu Mures"]
[null,null,null,null,null,null,null,null,null,null,null,null,null,null,null,null,null,null,null,"Marcu Cristian","Alba Iulia"]
[null,null,null,null,null,null,null,null,null,null,null,null,null,null,null,null,null,null,null,"Marcu David","Iasi"]
[null,null,null,null,null,null,null,null,null,null,null,null,null,null,null,null,null,null,null,"Marcu Florin Radu","Manasturu Romanesc"]
[null,null,null,null,null,null,null,null,null,null,null,null,null,null,null,null,null,null,null,"Marcu Nicolae","Bucuresti"]
[null,null,null,null,null,null,null,null,null,null,null,null,null,null,null,null,null,null,null,"Marcu Paul","Sibiu"]
[null,null,null,null,null,null,null,null,null,null,null,null,null,null,null,null,null,null,null,"Marcu Rares","Iasi"]
[null,null,null,null,null,null,null,null,null,null,null,null,null,null,null,null,null,null,null,"Marcu Vasile","Vatra Dornei"]
[null,null,null,null,null,null,null,null,null,null,null,null,null,null,null,null,null,null,null,"Mardale Radu","Galati"]
[null,null,null,null,null,null,null,null,null,null,null,null,null,null,null,null,null,null,null,"Mardare Adrian","Tulcea"]
[null,null,null,null,null,null,null,null,null,null,null,null,null,null,null,null,null,null,null,"Mares Andrei","Bucuresti"]
[null,null,null,null,null,null,null,null,null,null,null,null,null,null,null,null,null,null,null,"Maresi Cristian","Targu Jiu"]
[null,null,null,null,null,null,null,null,null,null,null,null,null,null,null,null,null,null,null,"Marginean Catalin","Aiud"]
[null,null,null,null,null,null,null,null,null,null,null,null,null,null,null,null,null,null,null,"Marginean Cornel","Cluj Napoca"]
[null,null,null,null,null,null,null,null,null,null,null,null,null,null,null,null,null,null,null,"Marginean Mihai","Luna CJ"]
[null,null,null,null,null,null,null,null,null,null,null,null,null,null,null,null,null,null,null,"Marginean Ovidiu","Aiud"]
[null,null,null,null,null,null,null,null,null,null,null,null,null,null,null,null,null,null,null,"Marian Alin","Lipova"]
[null,null,null,null,null,null,null,null,null,null,null,null,null,null,null,null,null,null,null,"Marian Bogdan","Ploiesti"]
[null,null,null,null,null,null,null,null,null,null,null,null,null,null,null,null,null,null,null,"Marian Florin","Reghin"]
[null,null,null,null,null,null,null,null,null,null,null,null,null,null,null,null,null,null,null,"Marian Ioan","Alba Iulia"]
[null,null,null,null,null,null,null,null,null,null,null,null,null,null,null,null,null,null,null,"Marian Mihaescu","Ramnicu Valcea"]
[null,null,null,null,null,null,null,null,null,null,null,null,null,null,null,null,null,null,null,"Marian Ovidiu","Reghin"]
[null,null,null,null,null,null,null,null,null,null,null,null,null,null,null,null,null,null,null,"Marin Adrian","Cateasca"]
[null,null,null,null,null,null,null,null,null,null,null,null,null,null,null,null,null,null,null,"Marin Alexandru","Bucuresti"]
[null,null,null,null,null,null,null,null,null,null,null,null,null,null,null,null,null,null,null,"Marin Alexandru","Cateasca"]
[null,null,null,null,null,null,null,null,null,null,null,null,null,null,null,null,null,null,null,"Marin Bogdan","Iasi"]
[null,null,null,null,null,null,null,null,null,null,null,null,null,null,null,null,null,null,null,"Marin Catalin","Fenes"]
[null,null,null,null,null,null,null,null,null,null,null,null,null,null,null,null,null,null,null,"Marin Catalin","Targoviste"]
[null,null,null,null,null,null,null,null,null,null,null,null,null,null,null,null,null,null,null,"Marin Catalin","Cateasca"]
[null,null,null,null,null,null,null,null,null,null,null,null,null,null,null,null,null,null,null,"Marin Costel","Cateasca"]
[null,null,null,null,null,null,null,null,null,null,null,null,null,null,null,null,null,null,null,"Marin Florin Cornel","Targu Mures"]
[null,null,null,null,null,null,null,null,null,null,null,null,null,null,null,null,null,null,null,"Marin George Remus","Tulcea"]
[null,null,null,null,null,null,null,null,null,null,null,null,null,null,null,null,null,null,null,"Marin Iulian","Campina"]
[null,null,null,null,null,null,null,null,null,null,null,null,null,null,null,null,null,null,null,"Marin Marcel","Fenes"]
[null,null,null,null,null,null,null,null,null,null,null,null,null,null,null,null,null,null,null,"Marin Mihai","Ploiesti"]
[null,null,null,null,null,null,null,null,null,null,null,null,null,null,null,null,null,null,null,"Marin Mircea","Bucuresti"]
[null,null,null,null,null,null,null,null,null,null,null,null,null,null,null,null,null,null,null,"Marin Robert","Pitesti"]
[null,null,null,null,null,null,null,null,null,null,null,null,null,null,null,null,null,null,null,"Marinas Lucian","Bucuresti"]
[null,null,null,null,null,null,null,null,null,null,null,null,null,null,null,null,null,null,null,"Marinescu Bogdan","Bucuresti"]
[null,null,null,null,null,null,null,null,null,null,null,null,null,null,null,null,null,null,null,"Marinescu Dan","Ramnicu Valcea"]
[null,null,null,null,null,null,null,null,null,null,null,null,null,null,null,null,null,null,null,"Marinescu Marius","Craiova"]
[null,null,null,null,null,null,null,null,null,null,null,null,null,null,null,null,null,null,null,"Marinescu Nelu","Targoviste"]
[null,null,null,null,null,null,null,null,null,null,null,null,null,null,null,null,null,null,null,"Marinescu Stefan","Bucuresti"]
[null,null,null,null,null,null,null,null,null,null,null,null,null,null,null,null,null,null,null,"Marinov Mihail","Moldova-Avdarma"]
[null,null,null,null,null,null,null,null,null,null,null,null,null,null,null,null,null,null,null,"Maris Andrei","Piatra Neamt"]
[null,null,null,null,null,null,null,null,null,null,null,null,null,null,null,null,null,null,null,"Marius Andrei","Bucuresti"]
[null,null,null,null,null,null,null,null,null,null,null,null,null,null,null,null,null,null,null,"Markos Hunor","Targu Mures"]
[null,null,null,null,null,null,null,null,null,null,null,null,null,null,null,null,null,null,null,"Marola Mihai","Bacau"]
[null,null,null,null,null,null,null,null,null,null,null,null,null,null,null,null,null,null,null,"Marta Silviu","Husi"]
[null,null,null,null,null,null,null,null,null,null,null,null,null,null,null,null,null,null,null,"Martin Sergiu","Buhusi"]
[null,null,null,null,null,null,null,null,null,null,null,null,null,null,null,null,null,null,null,"Martinas Marius","Iasi"]
[null,null,null,null,null,null,null,null,null,null,null,null,null,null,null,null,null,null,null,"Martinescu Alessio","Barlad"]
[null,null,null,null,null,null,null,null,null,null,null,null,null,null,null,null,null,null,null,"Martiniuc Cosmin","Viseu"]
[null,null,null,null,null,null,null,null,null,null,null,null,null,null,null,null,null,null,null,"Martoiu Gabriel","Targu Jiu"]
[null,null,null,null,null,null,null,null,null,null,null,null,null,null,null,null,null,null,null,"Masgras Iulian","Tecuci"]
[null,null,null,null,null,null,null,null,null,null,null,null,null,null,null,null,null,null,null,"Maslennicov Anatolie","Moldova-Cahul"]
[null,null,null,null,null,null,null,null,null,null,null,null,null,null,null,null,null,null,null,"Masnita Andrei","Viseu"]
[null,null,null,null,null,null,null,null,null,null,null,null,null,null,null,null,null,null,null,"Mate Gellert Gergo","Micfalau"]
[null,null,null,null,null,null,null,null,null,null,null,null,null,null,null,null,null,null,null,"Mateescu Florin","Hunedoara"]
[null,null,null,null,null,null,null,null,null,null,null,null,null,null,null,null,null,null,null,"Matei Alexandru","Focsani"]
[null,null,null,null,null,null,null,null,null,null,null,null,null,null,null,null,null,null,null,"Matei Alexandru","Pitesti"]
[null,null,null,null,null,null,null,null,null,null,null,null,null,null,null,null,null,null,null,"Matei Catalin","Sibiu"]
[null,null,null,null,null,null,null,null,null,null,null,null,null,null,null,null,null,null,null,"Matei Daniel","Targoviste"]
[null,null,null,null,null,null,null,null,null,null,null,null,null,null,null,null,null,null,null,"Matei Daniel","Pitesti"]
[null,null,null,null,null,null,null,null,null,null,null,null,null,null,null,null,null,null,null,"Matei Eugen","Barlad"]
[null,null,null,null,null,null,null,null,null,null,null,null,null,null,null,null,null,null,null,"Matei Marius","Galati"]
[null,null,null,null,null,null,null,null,null,null,null,null,null,null,null,null,null,null,null,"Matei Mircea","Targoviste"]
[null,null,null,null,null,null,null,null,null,null,null,null,null,null,null,null,null,null,null,"Matei Razvan","Bucuresti"]
[null,null,null,null,null,null,null,null,null,null,null,null,null,null,null,null,null,null,null,"Matei Sorin","Buzau"]
[null,null,null,null,null,null,null,null,null,null,null,null,null,null,null,null,null,null,null,"Matei Victor","Urlati"]
[null,null,null,null,null,null,null,null,null,null,null,null,null,null,null,null,null,null,null,"Mateiu Cristian","Floresti"]
[null,null,null,null,null,null,null,null,null,null,null,null,null,null,null,null,null,null,null,"Mates Flavius","Arad"]
[null,null,null,null,null,null,null,null,null,null,null,null,null,null,null,null,null,null,null,"Mateut Dan","Apahida"]
[null,null,null,null,null,null,null,null,null,null,null,null,null,null,null,null,null,null,null,"Mateut David Jr","Apahida"]
[null,null,null,null,null,null,null,null,null,null,null,null,null,null,null,null,null,null,null,"Mateut Vasile","Zalau"]
[null,null,null,null,null,null,null,null,null,null,null,null,null,null,null,null,null,null,null,"Mathe Attila","Bistrita"]
[null,null,null,null,null,null,null,null,null,null,null,null,null,null,null,null,null,null,null,"Mathe Mihai","Ludus"]
[null,null,null,null,null,null,null,null,null,null,null,null,null,null,null,null,null,null,null,"Mato Petru","Timisoara"]
[null,null,null,null,null,null,null,null,null,null,null,null,null,null,null,null,null,null,null,"Matveev Victor Nicolae","Bucuresti"]
[null,null,null,null,null,null,null,null,null,null,null,null,null,null,null,null,null,null,null,"Matyas Balazs","Bretcu"]
[null,null,null,null,null,null,null,null,null,null,null,null,null,null,null,null,null,null,null,"Mavrodin Cristian","Oltenita"]
[null,null,null,null,null,null,null,null,null,null,null,null,null,null,null,null,null,null,null,"Mavrodineanu Gabriel","Alexandria"]
[null,null,null,null,null,null,null,null,null,null,null,null,null,null,null,null,null,null,null,"Maxim Andrei","Iasi"]
[null,null,null,null,null,null,null,null,null,null,null,null,null,null,null,null,null,null,null,"Maxim Costel","Moinesti"]
[null,null,null,null,null,null,null,null,null,null,null,null,null,null,null,null,null,null,null,"Maxim Valentin","Cluj Napoca"]
[null,null,null,null,null,null,null,null,null,null,null,null,null,null,null,null,null,null,null,"Maximciuc Felix","Baia Mare"]
[null,null,null,null,null,null,null,null,null,null,null,null,null,null,null,null,null,null,null,"Mazilu Dumitru","Bucuresti"]
[null,null,null,null,null,null,null,null,null,null,null,null,null,null,null,null,null,null,null,"Mechetiuc Daniel","Viseu"]
[null,null,null,null,null,null,null,null,null,null,null,null,null,null,null,null,null,null,null,"Megan Alexandra","Bucuresti"]
[null,null,null,null,null,null,null,null,null,null,null,null,null,null,null,null,null,null,null,"Meggyes Andras","Sovata"]
[null,null,null,null,null,null,null,null,null,null,null,null,null,null,null,null,null,null,null,"Melicut Sarmis","Hunedoara"]
[null,null,null,null,null,null,null,null,null,null,null,null,null,null,null,null,null,null,null,"Melinte Gabriel","Iasi"]
[null,null,null,null,null,null,null,null,null,null,null,null,null,null,null,null,null,null,null,"Melintii Vladimir","Moldova-Comrat"]
[null,null,null,null,null,null,null,null,null,null,null,null,null,null,null,null,null,null,null,"Melnerovici Daniel","Stefanesti Arges"]
[null,null,null,null,null,null,null,null,null,null,null,null,null,null,null,null,null,null,null,"Melniciuc Elena","Vatra Dornei"]
[null,null,null,null,null,null,null,null,null,null,null,null,null,null,null,null,null,null,null,"Meltschoh Marius Ionut","Timisoara"]
[null,null,null,null,null,null,null,null,null,null,null,null,null,null,null,null,null,null,null,"Mentel Nicole","Constanta"]
[null,null,null,null,null,null,null,null,null,null,null,null,null,null,null,null,null,null,null,"Merai Janos","Oradea"]
[null,null,null,null,null,null,null,null,null,null,null,null,null,null,null,null,null,null,null,"Merezeanu Gabriel","Bucuresti"]
[null,null,null,null,null,null,null,null,null,null,null,null,null,null,null,null,null,null,null,"Merlici Daniel","Bucuresti"]
[null,null,null,null,null,null,null,null,null,null,null,null,null,null,null,null,null,null,null,"Mermezan Sergiu","Timisoara"]
[null,null,null,null,null,null,null,null,null,null,null,null,null,null,null,null,null,null,null,"Mesaros Horea Cristin","Ludus"]
[null,null,null,null,null,null,null,null,null,null,null,null,null,null,null,null,null,null,null,"Mesca Dorel","Matca"]
[null,null,null,null,null,null,null,null,null,null,null,null,null,null,null,null,null,null,null,"Meszaros Mircea","Oradea"]
[null,null,null,null,null,null,null,null,null,null,null,null,null,null,null,null,null,null,null,"Metairie Benjamin","Cluj Napoca"]
[null,null,null,null,null,null,null,null,null,null,null,null,null,null,null,null,null,null,null,"Metes Doru","Cluj Napoca"]
[null,null,null,null,null,null,null,null,null,null,null,null,null,null,null,null,null,null,null,"Mezei Mihai","Sarmas"]
[null,null,null,null,null,null,null,null,null,null,null,null,null,null,null,null,null,null,null,"Mialau Marius","Zalau"]
[null,null,null,null,null,null,null,null,null,null,null,null,null,null,null,null,null,null,null,"Michis Razvan","Baia Mare"]
[null,null,null,null,null,null,null,null,null,null,null,null,null,null,null,null,null,null,null,"Miclea Bogdan","Cluj Napoca"]
[null,null,null,null,null,null,null,null,null,null,null,null,null,null,null,null,null,null,null,"Miclos Andrei","Dej"]
[null,null,null,null,null,null,null,null,null,null,null,null,null,null,null,null,null,null,null,"Micu Catalin","Valenii de Munte"]
[null,null,null,null,null,null,null,null,null,null,null,null,null,null,null,null,null,null,null,"Miculaiciuc Daniel Ioan","Ileanda"]
[null,null,null,null,null,null,null,null,null,null,null,null,null,null,null,null,null,null,null,"Miculici Vlad","Floresti"]
[null,null,null,null,null,null,null,null,null,null,null,null,null,null,null,null,null,null,null,"Miculit Alberto","Lipova"]
[null,null,null,null,null,null,null,null,null,null,null,null,null,null,null,null,null,null,null,"Miculita Ovidiu","Lipova"]
[null,null,null,null,null,null,null,null,null,null,null,null,null,null,null,null,null,null,null,"Mihaes Tudor","Adjud"]
[null,null,null,null,null,null,null,null,null,null,null,null,null,null,null,null,null,null,null,"Mihai Adrian","Botosani"]
[null,null,null,null,null,null,null,null,null,null,null,null,null,null,null,null,null,null,null,"Mihai Alexandru","Braila"]
[null,null,null,null,null,null,null,null,null,null,null,null,null,null,null,null,null,null,null,"Mihai Andrei","Bucuresti"]
[null,null,null,null,null,null,null,null,null,null,null,null,null,null,null,null,null,null,null,"Mihai Ion","Bucuresti"]
[null,null,null,null,null,null,null,null,null,null,null,null,null,null,null,null,null,null,null,"Mihai Markus","Deva"]
[null,null,null,null,null,null,null,null,null,null,null,null,null,null,null,null,null,null,null,"Mihaila George","Bucuresti"]
[null,null,null,null,null,null,null,null,null,null,null,null,null,null,null,null,null,null,null,"Mihaila George","Vulcana Pandele"]
[null,null,null,null,null,null,null,null,null,null,null,null,null,null,null,null,null,null,null,"Mihaila Maia","Vulcana Pandele"]
[null,null,null,null,null,null,null,null,null,null,null,null,null,null,null,null,null,null,null,"Mihaila Mihai","Radauti"]
[null,null,null,null,null,null,null,null,null,null,null,null,null,null,null,null,null,null,null,"Mihaila Radu","Timisoara"]
[null,null,null,null,null,null,null,null,null,null,null,null,null,null,null,null,null,null,null,"Mihaila Robert","Breaza"]
[null,null,null,null,null,null,null,null,null,null,null,null,null,null,null,null,null,null,null,"Mihaila Romeo","Pucioasa"]
[null,null,null,null,null,null,null,null,null,null,null,null,null,null,null,null,null,null,null,"Mihailescu Andrei","Bucuresti"]
[null,null,null,null,null,null,null,null,null,null,null,null,null,null,null,null,null,null,null,"Mihailov Serghei","Moldova-Balti"]
[null,null,null,null,null,null,null,null,null,null,null,null,null,null,null,null,null,null,null,"Mihailov Valentin","Moldova-Balti"]
[null,null,null,null,null,null,null,null,null,null,null,null,null,null,null,null,null,null,null,"Mihaita Nicolae","Bucuresti"]
[null,null,null,null,null,null,null,null,null,null,null,null,null,null,null,null,null,null,null,"Mihaiuc Beniamin","Radauti"]
[null,null,null,null,null,null,null,null,null,null,null,null,null,null,null,null,null,null,null,"Mihaiuc Matei","Radauti"]
[null,null,null,null,null,null,null,null,null,null,null,null,null,null,null,null,null,null,null,"Mihalache Andrei","Buzau"]
[null,null,null,null,null,null,null,null,null,null,null,null,null,null,null,null,null,null,null,"Mihalache Dario","Plopeni SV"]
[null,null,null,null,null,null,null,null,null,null,null,null,null,null,null,null,null,null,null,"Mihalache Remus","Plopeni SV"]
[null,null,null,null,null,null,null,null,null,null,null,null,null,null,null,null,null,null,null,"Mihalachi Luca","Mogosesti"]
[null,null,null,null,null,null,null,null,null,null,null,null,null,null,null,null,null,null,null,"Mihalcea David","Galati"]
[null,null,null,null,null,null,null,null,null,null,null,null,null,null,null,null,null,null,null,"Mihalcea Stefan Tiberiu","Snagov"]
[null,null,null,null,null,null,null,null,null,null,null,null,null,null,null,null,null,null,null,"Mihalescu Dinu","Timisoara"]
[null,null,null,null,null,null,null,null,null,null,null,null,null,null,null,null,null,null,null,"Mihali Fabian","Timisoara"]
[null,null,null,null,null,null,null,null,null,null,null,null,null,null,null,null,null,null,null,"Mihoc Cristian Stefan","Iasi"]
[null,null,null,null,null,null,null,null,null,null,null,null,null,null,null,null,null,null,null,"Mihu Dorel","Medias"]
[null,null,null,null,null,null,null,null,null,null,null,null,null,null,null,null,null,null,null,"Mihu Florin","Mioveni"]
[null,null,null,null,null,null,null,null,null,null,null,null,null,null,null,null,null,null,null,"Mihut Doru","Dej"]
[null,null,null,null,null,null,null,null,null,null,null,null,null,null,null,null,null,null,null,"Mija Gheorghe","Fagaras"]
[null,null,null,null,null,null,null,null,null,null,null,null,null,null,null,null,null,null,null,"Milas Andrei","Zalau"]
[null,null,null,null,null,null,null,null,null,null,null,null,null,null,null,null,null,null,null,"Milcica Andrei","Brasov"]
[null,null,null,null,null,null,null,null,null,null,null,null,null,null,null,null,null,null,null,"Milentijevic Isidora","Vlajkovac"]
[null,null,null,null,null,null,null,null,null,null,null,null,null,null,null,null,null,null,null,"Milian Iulian","Hunedoara"]
[null,null,null,null,null,null,null,null,null,null,null,null,null,null,null,null,null,null,null,"Milna Sorin","Ludus"]
[null,null,null,null,null,null,null,null,null,null,null,null,null,null,null,null,null,null,null,"Milojkovic Matija","Novi Sad"]
[null,null,null,null,null,null,null,null,null,null,null,null,null,null,null,null,null,null,null,"Milos Alexandru","Alexandria"]
[null,null,null,null,null,null,null,null,null,null,null,null,null,null,null,null,null,null,null,"Milos Andrei","Bocsa"]
[null,null,null,null,null,null,null,null,null,null,null,null,null,null,null,null,null,null,null,"Milos Cristian","Alexandria"]
[null,null,null,null,null,null,null,null,null,null,null,null,null,null,null,null,null,null,null,"Milos Eugen","Alexandria"]
[null,null,null,null,null,null,null,null,null,null,null,null,null,null,null,null,null,null,null,"Milos Stefan","Alexandria"]
[null,null,null,null,null,null,null,null,null,null,null,null,null,null,null,null,null,null,null,"Milosevic Goran","Zajecar Serbia"]
[null,null,null,null,null,null,null,null,null,null,null,null,null,null,null,null,null,null,null,"Minca Liviu","Videle"]
[null,null,null,null,null,null,null,null,null,null,null,null,null,null,null,null,null,null,null,"Minca Paul","Comanesti"]
[null,null,null,null,null,null,null,null,null,null,null,null,null,null,null,null,null,null,null,"Mincu Marian","Tulcea"]
[null,null,null,null,null,null,null,null,null,null,null,null,null,null,null,null,null,null,null,"Mindru Marin","Sarmas"]
[null,null,null,null,null,null,null,null,null,null,null,null,null,null,null,null,null,null,null,"Minecan Flavius","Falticeni"]
[null,null,null,null,null,null,null,null,null,null,null,null,null,null,null,null,null,null,null,"Minghiras Anamaria","Constanta"]
[null,null,null,null,null,null,null,null,null,null,null,null,null,null,null,null,null,null,null,"Minica Belemet","Brasov"]
[null,null,null,null,null,null,null,null,null,null,null,null,null,null,null,null,null,null,null,"Minica Rares","Giurgiu"]
[null,null,null,null,null,null,null,null,null,null,null,null,null,null,null,null,null,null,null,"Minza Alexandru","Bucuresti"]
[null,null,null,null,null,null,null,null,null,null,null,null,null,null,null,null,null,null,null,"Minzat Mircea","Saliste"]
[null,null,null,null,null,null,null,null,null,null,null,null,null,null,null,null,null,null,null,"Mirauta Darius","Moinesti"]
[null,null,null,null,null,null,null,null,null,null,null,null,null,null,null,null,null,null,null,"Mirauta Mihai","Moinesti"]
[null,null,null,null,null,null,null,null,null,null,null,null,null,null,null,null,null,null,null,"Mirciu Serghei","Moldova-Chisinau"]
[null,null,null,null,null,null,null,null,null,null,null,null,null,null,null,null,null,null,null,"Mirea George","Bucuresti"]
[null,null,null,null,null,null,null,null,null,null,null,null,null,null,null,null,null,null,null,"Miron Adrian Ovidiu","Bucuresti"]
[null,null,null,null,null,null,null,null,null,null,null,null,null,null,null,null,null,null,null,"Miron Cristi","Onesti"]
[null,null,null,null,null,null,null,null,null,null,null,null,null,null,null,null,null,null,null,"Miron Gheorghe","Bucuresti"]
[null,null,null,null,null,null,null,null,null,null,null,null,null,null,null,null,null,null,null,"Miron Liviu","Campina"]
[null,null,null,null,null,null,null,null,null,null,null,null,null,null,null,null,null,null,null,"Miron Viorel","Iasi"]
[null,null,null,null,null,null,null,null,null,null,null,null,null,null,null,null,null,null,null,"Mironescu Adrian","Botosani"]
[null,null,null,null,null,null,null,null,null,null,null,null,null,null,null,null,null,null,null,"Mirt Alexandru","Pascani"]
[null,null,null,null,null,null,null,null,null,null,null,null,null,null,null,null,null,null,null,"Mirutoi Toader","Campulung Mold"]
[null,null,null,null,null,null,null,null,null,null,null,null,null,null,null,null,null,null,null,"Mita Augustin","Dorohoi"]
[null,null,null,null,null,null,null,null,null,null,null,null,null,null,null,null,null,null,null,"Mitar Marius Tiberiu","Sannicolau Mare"]
[null,null,null,null,null,null,null,null,null,null,null,null,null,null,null,null,null,null,null,"Mitic Gabriel","Moldova-Singerei"]
[null,null,null,null,null,null,null,null,null,null,null,null,null,null,null,null,null,null,null,"Mititelu Daniel","Botosani"]
[null,null,null,null,null,null,null,null,null,null,null,null,null,null,null,null,null,null,null,"Mitoi Alin","Bals"]
[null,null,null,null,null,null,null,null,null,null,null,null,null,null,null,null,null,null,null,"Mitrache Simion","Timisoara"]
[null,null,null,null,null,null,null,null,null,null,null,null,null,null,null,null,null,null,null,"Mitrea Silviu","Navodari"]
[null,null,null,null,null,null,null,null,null,null,null,null,null,null,null,null,null,null,null,"Mitrica Gheorghe","Gostavatu"]
[null,null,null,null,null,null,null,null,null,null,null,null,null,null,null,null,null,null,null,"Mitrofan Petrica","Brasov"]
[null,null,null,null,null,null,null,null,null,null,null,null,null,null,null,null,null,null,null,"Mitroi Florin","Bucuresti"]
[null,null,null,null,null,null,null,null,null,null,null,null,null,null,null,null,null,null,null,"Mitzea Alexandru","Sibiu"]
[null,null,null,null,null,null,null,null,null,null,null,null,null,null,null,null,null,null,null,"Miu Maria","Bucuresti"]
[null,null,null,null,null,null,null,null,null,null,null,null,null,null,null,null,null,null,null,"Mladin Rahela","Valenii de Munte"]
[null,null,null,null,null,null,null,null,null,null,null,null,null,null,null,null,null,null,null,"Mladin Stefan","Valenii de Munte"]
[null,null,null,null,null,null,null,null,null,null,null,null,null,null,null,null,null,null,null,"Mladin Vasile","Calan"]
[null,null,null,null,null,null,null,null,null,null,null,null,null,null,null,null,null,null,null,"Mladinoi Ion","Iasi"]
[null,null,null,null,null,null,null,null,null,null,null,null,null,null,null,null,null,null,null,"Moasa Gabriel","Bucuresti"]
[null,null,null,null,null,null,null,null,null,null,null,null,null,null,null,null,null,null,null,"Moca Alexandru","Ludus"]
[null,null,null,null,null,null,null,null,null,null,null,null,null,null,null,null,null,null,null,"Mocan Betuel","Stei"]
[null,null,null,null,null,null,null,null,null,null,null,null,null,null,null,null,null,null,null,"Mocan Elias","Stei"]
[null,null,null,null,null,null,null,null,null,null,null,null,null,null,null,null,null,null,null,"Mocanu Adrian","Targoviste"]
[null,null,null,null,null,null,null,null,null,null,null,null,null,null,null,null,null,null,null,"Mocanu Aurelian","Constanta"]
[null,null,null,null,null,null,null,null,null,null,null,null,null,null,null,null,null,null,null,"Mocanu Constantin","Muncel"]
[null,null,null,null,null,null,null,null,null,null,null,null,null,null,null,null,null,null,null,"Mocanu David","Bucuresti"]
[null,null,null,null,null,null,null,null,null,null,null,null,null,null,null,null,null,null,null,"Mocanu Gabriel Iustin","Bacau"]
[null,null,null,null,null,null,null,null,null,null,null,null,null,null,null,null,null,null,null,"Mocanu Georgian","Filipestii de Targ"]
[null,null,null,null,null,null,null,null,null,null,null,null,null,null,null,null,null,null,null,"Mocanu Luca","Filipestii de Targ"]
[null,null,null,null,null,null,null,null,null,null,null,null,null,null,null,null,null,null,null,"Mocanu Lucian","Roman"]
[null,null,null,null,null,null,null,null,null,null,null,null,null,null,null,null,null,null,null,"Mocanu Radu","Ramnicu Valcea"]
[null,null,null,null,null,null,null,null,null,null,null,null,null,null,null,null,null,null,null,"Mocean Dan","Cluj Napoca"]
[null,null,null,null,null,null,null,null,null,null,null,null,null,null,null,null,null,null,null,"Modiga Patrick","Arad"]
[null,null,null,null,null,null,null,null,null,null,null,null,null,null,null,null,null,null,null,"Modirca Daniel","Ucraina"]
[null,null,null,null,null,null,null,null,null,null,null,null,null,null,null,null,null,null,null,"Modog Octavian","Alesd"]
[null,null,null,null,null,null,null,null,null,null,null,null,null,null,null,null,null,null,null,"Mohonea Angel","Braila"]
[null,null,null,null,null,null,null,null,null,null,null,null,null,null,null,null,null,null,null,"Moisa Costel","Tecuci"]
[null,null,null,null,null,null,null,null,null,null,null,null,null,null,null,null,null,null,null,"Moise Cristian","Brasov"]
[null,null,null,null,null,null,null,null,null,null,null,null,null,null,null,null,null,null,null,"Moise Daniel","Mioveni"]
[null,null,null,null,null,null,null,null,null,null,null,null,null,null,null,null,null,null,null,"Moise Mihai","Alexandria"]
[null,null,null,null,null,null,null,null,null,null,null,null,null,null,null,null,null,null,null,"Moise Valentin","Ploiesti"]
[null,null,null,null,null,null,null,null,null,null,null,null,null,null,null,null,null,null,null,"Moise Vasile","Bucuresti"]
[null,null,null,null,null,null,null,null,null,null,null,null,null,null,null,null,null,null,null,"Moiseanu Teodor","Buzau"]
[null,null,null,null,null,null,null,null,null,null,null,null,null,null,null,null,null,null,null,"Moisuc Alexandru","Radauti"]
[null,null,null,null,null,null,null,null,null,null,null,null,null,null,null,null,null,null,null,"Moisuc Catalin","Fratautii Noi"]
[null,null,null,null,null,null,null,null,null,null,null,null,null,null,null,null,null,null,null,"Moldovan Alexandru","Tarnaveni"]
[null,null,null,null,null,null,null,null,null,null,null,null,null,null,null,null,null,null,null,"Moldovan Alexandru Radu","Cluj Napoca"]
[null,null,null,null,null,null,null,null,null,null,null,null,null,null,null,null,null,null,null,"Moldovan Alin","Bistrita"]
[null,null,null,null,null,null,null,null,null,null,null,null,null,null,null,null,null,null,null,"Moldovan Andrei","Oradea"]
[null,null,null,null,null,null,null,null,null,null,null,null,null,null,null,null,null,null,null,"Moldovan Andrei","Bucuresti"]
[null,null,null,null,null,null,null,null,null,null,null,null,null,null,null,null,null,null,null,"Moldovan Claudiu","Dej"]
[null,null,null,null,null,null,null,null,null,null,null,null,null,null,null,null,null,null,null,"Moldovan Cristian","Bistrita"]
[null,null,null,null,null,null,null,null,null,null,null,null,null,null,null,null,null,null,null,"Moldovan Cristian","Tarnaveni"]
[null,null,null,null,null,null,null,null,null,null,null,null,null,null,null,null,null,null,null,"Moldovan Cristian","Alba Iulia"]
[null,null,null,null,null,null,null,null,null,null,null,null,null,null,null,null,null,null,null,"Moldovan Dorel","Bistrita"]
[null,null,null,null,null,null,null,null,null,null,null,null,null,null,null,null,null,null,null,"Moldovan Doru","Dej"]
[null,null,null,null,null,null,null,null,null,null,null,null,null,null,null,null,null,null,null,"Moldovan Horvath Csaba","Targu Mures"]
[null,null,null,null,null,null,null,null,null,null,null,null,null,null,null,null,null,null,null,"Moldovan Ionut","Agnita"]
[null,null,null,null,null,null,null,null,null,null,null,null,null,null,null,null,null,null,null,"Moldovan Laszlo","Praid"]
[null,null,null,null,null,null,null,null,null,null,null,null,null,null,null,null,null,null,null,"Moldovan Matei","Cluj Napoca"]
[null,null,null,null,null,null,null,null,null,null,null,null,null,null,null,null,null,null,null,"Moldovan Nicolae Ioan","Poienita"]
[null,null,null,null,null,null,null,null,null,null,null,null,null,null,null,null,null,null,null,"Moldovan Ovidiu","Cluj Napoca"]
[null,null,null,null,null,null,null,null,null,null,null,null,null,null,null,null,null,null,null,"Moldovan Petrut Sorin","Beclean"]
[null,null,null,null,null,null,null,null,null,null,null,null,null,null,null,null,null,null,null,"Moldovan Radu","Alba Iulia"]
[null,null,null,null,null,null,null,null,null,null,null,null,null,null,null,null,null,null,null,"Moldovan Tudor","Cluj Napoca"]
[null,null,null,null,null,null,null,null,null,null,null,null,null,null,null,null,null,null,null,"Moldovean Valer","Calan"]
[null,null,null,null,null,null,null,null,null,null,null,null,null,null,null,null,null,null,null,"Moldoveanu Rares","Bucuresti"]
[null,null,null,null,null,null,null,null,null,null,null,null,null,null,null,null,null,null,null,"Moldoveanu Sorin Florian","Hunedoara"]
[null,null,null,null,null,null,null,null,null,null,null,null,null,null,null,null,null,null,null,"Mondoaca Matteo","Rosiori de Vede"]
[null,null,null,null,null,null,null,null,null,null,null,null,null,null,null,null,null,null,null,"Monu Claudiu","Tarnaveni"]
[null,null,null,null,null,null,null,null,null,null,null,null,null,null,null,null,null,null,null,"Morar Aurel Ovidiu","Tarnaveni"]
[null,null,null,null,null,null,null,null,null,null,null,null,null,null,null,null,null,null,null,"Morar Bogdan","Dumbraveni SB"]
[null,null,null,null,null,null,null,null,null,null,null,null,null,null,null,null,null,null,null,"Morar Marcel","Campulung Mold"]
[null,null,null,null,null,null,null,null,null,null,null,null,null,null,null,null,null,null,null,"Morar Ovidiu","Tarnaveni"]
[null,null,null,null,null,null,null,null,null,null,null,null,null,null,null,null,null,null,null,"Morariu Catalin","Alba Iulia"]
[null,null,null,null,null,null,null,null,null,null,null,null,null,null,null,null,null,null,null,"Morariu Costel","Gherla"]
[null,null,null,null,null,null,null,null,null,null,null,null,null,null,null,null,null,null,null,"Morariu Ioan","Saliste"]
[null,null,null,null,null,null,null,null,null,null,null,null,null,null,null,null,null,null,null,"Morariu Marius","Sibiu"]
[null,null,null,null,null,null,null,null,null,null,null,null,null,null,null,null,null,null,null,"Moraru Constantin","Bucuresti"]
[null,null,null,null,null,null,null,null,null,null,null,null,null,null,null,null,null,null,null,"Moraru David","Constanta"]
[null,null,null,null,null,null,null,null,null,null,null,null,null,null,null,null,null,null,null,"Moraru Marcel","Timisoara"]
[null,null,null,null,null,null,null,null,null,null,null,null,null,null,null,null,null,null,null,"Moraru Marius","Bucuresti"]
[null,null,null,null,null,null,null,null,null,null,null,null,null,null,null,null,null,null,null,"Moraru Ramona Cosmina","Drobeta Tr Severin"]
[null,null,null,null,null,null,null,null,null,null,null,null,null,null,null,null,null,null,null,"Moreno Valentin","Bucuresti"]
[null,null,null,null,null,null,null,null,null,null,null,null,null,null,null,null,null,null,null,"Moroldi Gabriel","Targu Mures"]
[null,null,null,null,null,null,null,null,null,null,null,null,null,null,null,null,null,null,null,"Morosan Alexandru","Horodnic de Sus"]
[null,null,null,null,null,null,null,null,null,null,null,null,null,null,null,null,null,null,null,"Morosan Dana","Vatra Dornei"]
[null,null,null,null,null,null,null,null,null,null,null,null,null,null,null,null,null,null,null,"Morosan Gabriel","Satumare"]
[null,null,null,null,null,null,null,null,null,null,null,null,null,null,null,null,null,null,null,"Morosan Ionel","Radauti"]
[null,null,null,null,null,null,null,null,null,null,null,null,null,null,null,null,null,null,null,"Morosan Marian","Suceava"]
[null,null,null,null,null,null,null,null,null,null,null,null,null,null,null,null,null,null,null,"Morosan Mihai","Granicesti"]
[null,null,null,null,null,null,null,null,null,null,null,null,null,null,null,null,null,null,null,"Morosan Sara","Horodnic de Sus"]
[null,null,null,null,null,null,null,null,null,null,null,null,null,null,null,null,null,null,null,"Morun Angel","Galati"]
[null,null,null,null,null,null,null,null,null,null,null,null,null,null,null,null,null,null,null,"Morun Marian","Braila"]
[null,null,null,null,null,null,null,null,null,null,null,null,null,null,null,null,null,null,null,"Mos Cristian","Tampa"]
[null,null,null,null,null,null,null,null,null,null,null,null,null,null,null,null,null,null,null,"Mos Florin","Arad"]
[null,null,null,null,null,null,null,null,null,null,null,null,null,null,null,null,null,null,null,"Mosgoreanu Codrut","Bucuresti"]
[null,null,null,null,null,null,null,null,null,null,null,null,null,null,null,null,null,null,null,"Moshinsky Oleg","Bucuresti"]
[null,null,null,null,null,null,null,null,null,null,null,null,null,null,null,null,null,null,null,"Mosneagu Mario","Partestii de Jos"]
[null,null,null,null,null,null,null,null,null,null,null,null,null,null,null,null,null,null,null,"Mosneagu Marius","Falticeni"]
[null,null,null,null,null,null,null,null,null,null,null,null,null,null,null,null,null,null,null,"Mosneagu Mihnea","Falticeni"]
[null,null,null,null,null,null,null,null,null,null,null,null,null,null,null,null,null,null,null,"Mosnegutu Laurentiu","Dorohoi"]
[null,null,null,null,null,null,null,null,null,null,null,null,null,null,null,null,null,null,null,"Motorga Dorin","Targu Mures"]
[null,null,null,null,null,null,null,null,null,null,null,null,null,null,null,null,null,null,null,"Movileanu Neculae","Brasov"]
[null,null,null,null,null,null,null,null,null,null,null,null,null,null,null,null,null,null,null,"Mozes Andrei","Santamaria Orlea"]
[null,null,null,null,null,null,null,null,null,null,null,null,null,null,null,null,null,null,null,"Mozes Florin","Sibiu"]
[null,null,null,null,null,null,null,null,null,null,null,null,null,null,null,null,null,null,null,"Muhin Andrei","Moldova-Balti"]
[null,null,null,null,null,null,null,null,null,null,null,null,null,null,null,null,null,null,null,"Muntean Alin","Tarnaveni"]
[null,null,null,null,null,null,null,null,null,null,null,null,null,null,null,null,null,null,null,"Muntean Gabriel","Dorohoi"]
[null,null,null,null,null,null,null,null,null,null,null,null,null,null,null,null,null,null,null,"Muntean Mihai","Sibiu"]
[null,null,null,null,null,null,null,null,null,null,null,null,null,null,null,null,null,null,null,"Muntean Radu","Floresti"]
[null,null,null,null,null,null,null,null,null,null,null,null,null,null,null,null,null,null,null,"Muntean Tudor","Floresti"]
[null,null,null,null,null,null,null,null,null,null,null,null,null,null,null,null,null,null,null,"Munteanu Constantin","Ramnicu Sarat"]
[null,null,null,null,null,null,null,null,null,null,null,null,null,null,null,null,null,null,null,"Munteanu Corneliu","Vaslui"]
[null,null,null,null,null,null,null,null,null,null,null,null,null,null,null,null,null,null,null,"Munteanu Dragos","Bucuresti"]
[null,null,null,null,null,null,null,null,null,null,null,null,null,null,null,null,null,null,null,"Munteanu Dragos","Tulcea"]
[null,null,null,null,null,null,null,null,null,null,null,null,null,null,null,null,null,null,null,"Munteanu Ion","Brasov"]
[null,null,null,null,null,null,null,null,null,null,null,null,null,null,null,null,null,null,null,"Munteanu Ion","Comanesti"]
[null,null,null,null,null,null,null,null,null,null,null,null,null,null,null,null,null,null,null,"Munteanu Ion","Moldova-Balti"]
[null,null,null,null,null,null,null,null,null,null,null,null,null,null,null,null,null,null,null,"Munteanu Mariana","Moldova-Cahul"]
[null,null,null,null,null,null,null,null,null,null,null,null,null,null,null,null,null,null,null,"Munteanu Petrisor","Iasi"]
[null,null,null,null,null,null,null,null,null,null,null,null,null,null,null,null,null,null,null,"Munteanu Sebastian","Bacau"]
[null,null,null,null,null,null,null,null,null,null,null,null,null,null,null,null,null,null,null,"Munteanu Sorin","Baia Mare"]
[null,null,null,null,null,null,null,null,null,null,null,null,null,null,null,null,null,null,null,"Munteanu Stefan","Piatra Neamt"]
[null,null,null,null,null,null,null,null,null,null,null,null,null,null,null,null,null,null,null,"Murariu Ciprian","Bucuresti"]
[null,null,null,null,null,null,null,null,null,null,null,null,null,null,null,null,null,null,null,"Murariu Miruna","Moinesti"]
[null,null,null,null,null,null,null,null,null,null,null,null,null,null,null,null,null,null,null,"Muresan Adrian","Brasov"]
[null,null,null,null,null,null,null,null,null,null,null,null,null,null,null,null,null,null,null,"Muresan Alexandra","Cluj Napoca"]
[null,null,null,null,null,null,null,null,null,null,null,null,null,null,null,null,null,null,null,"Muresan Alexandru","Apahida"]
[null,null,null,null,null,null,null,null,null,null,null,null,null,null,null,null,null,null,null,"Muresan Ana Maria","Cluj Napoca"]
[null,null,null,null,null,null,null,null,null,null,null,null,null,null,null,null,null,null,null,"Muresan Carmen","Zalau"]
[null,null,null,null,null,null,null,null,null,null,null,null,null,null,null,null,null,null,null,"Muresan Codrean","Targu Mures"]
[null,null,null,null,null,null,null,null,null,null,null,null,null,null,null,null,null,null,null,"Muresan Dorel","Cluj Napoca"]
[null,null,null,null,null,null,null,null,null,null,null,null,null,null,null,null,null,null,null,"Muresan Florin","Deva"]
[null,null,null,null,null,null,null,null,null,null,null,null,null,null,null,null,null,null,null,"Muresan Iulian","Surduc"]
[null,null,null,null,null,null,null,null,null,null,null,null,null,null,null,null,null,null,null,"Muresan Marian","Dej"]
[null,null,null,null,null,null,null,null,null,null,null,null,null,null,null,null,null,null,null,"Muresan Mihai","Malut"]
[null,null,null,null,null,null,null,null,null,null,null,null,null,null,null,null,null,null,null,"Muresan Nicolaie","Cluj Napoca"]
[null,null,null,null,null,null,null,null,null,null,null,null,null,null,null,null,null,null,null,"Muresan Paul","Uriu"]
[null,null,null,null,null,null,null,null,null,null,null,null,null,null,null,null,null,null,null,"Muresan Robert","Surduc"]
[null,null,null,null,null,null,null,null,null,null,null,null,null,null,null,null,null,null,null,"Murvai Bela","Delenii"]
[null,null,null,null,null,null,null,null,null,null,null,null,null,null,null,null,null,null,null,"Musat Aurel","Bucuresti"]
[null,null,null,null,null,null,null,null,null,null,null,null,null,null,null,null,null,null,null,"Musat Catalin","Alexandria"]
[null,null,null,null,null,null,null,null,null,null,null,null,null,null,null,null,null,null,null,"Musat Filip","Lipanesti"]
[null,null,null,null,null,null,null,null,null,null,null,null,null,null,null,null,null,null,null,"Musat Tudor","Lipanesti"]
[null,null,null,null,null,null,null,null,null,null,null,null,null,null,null,null,null,null,null,"Musceleanu Stefan","Buftea"]
[null,null,null,null,null,null,null,null,null,null,null,null,null,null,null,null,null,null,null,"Mutu Mario","Deva"]
[null,null,null,null,null,null,null,null,null,null,null,null,null,null,null,null,null,null,null,"Nacu Iustinian Andrei","Piatra Neamt"]
[null,null,null,null,null,null,null,null,null,null,null,null,null,null,null,null,null,null,null,"Nadejde Andrei","Cluj Napoca"]
[null,null,null,null,null,null,null,null,null,null,null,null,null,null,null,null,null,null,null,"Nadejde George","Cluj Napoca"]
[null,null,null,null,null,null,null,null,null,null,null,null,null,null,null,null,null,null,null,"Nadoleanu Pavel","Tulcea"]
[null,null,null,null,null,null,null,null,null,null,null,null,null,null,null,null,null,null,null,"Naghi Bianca","Lunca Muresului"]
[null,null,null,null,null,null,null,null,null,null,null,null,null,null,null,null,null,null,null,"Naghi Vlad","Hunedoara"]
[null,null,null,null,null,null,null,null,null,null,null,null,null,null,null,null,null,null,null,"Naghiu Ioan","Zalau"]
[null,null,null,null,null,null,null,null,null,null,null,null,null,null,null,null,null,null,null,"Nagy Arpad","Suseni"]
[null,null,null,null,null,null,null,null,null,null,null,null,null,null,null,null,null,null,null,"Nagy Attila","Suseni"]
[null,null,null,null,null,null,null,null,null,null,null,null,null,null,null,null,null,null,null,"Nagy Eduard","Deva"]
[null,null,null,null,null,null,null,null,null,null,null,null,null,null,null,null,null,null,null,"Nagy Iosif","Arad"]
[null,null,null,null,null,null,null,null,null,null,null,null,null,null,null,null,null,null,null,"Nagy Kristof","Targu Mures"]
[null,null,null,null,null,null,null,null,null,null,null,null,null,null,null,null,null,null,null,"Nalboiu David","Craiova"]
[null,null,null,null,null,null,null,null,null,null,null,null,null,null,null,null,null,null,null,"Nan Luca","Oradea"]
[null,null,null,null,null,null,null,null,null,null,null,null,null,null,null,null,null,null,null,"Nan Marius","Tarnaveni"]
[null,null,null,null,null,null,null,null,null,null,null,null,null,null,null,null,null,null,null,"Nascu Horea","Cluj Napoca"]
[null,null,null,null,null,null,null,null,null,null,null,null,null,null,null,null,null,null,null,"Nascu Serban","Cluj Napoca"]
[null,null,null,null,null,null,null,null,null,null,null,null,null,null,null,null,null,null,null,"Nastase George","Bucuresti"]
[null,null,null,null,null,null,null,null,null,null,null,null,null,null,null,null,null,null,null,"Nastase Laurentiu","Arad"]
[null,null,null,null,null,null,null,null,null,null,null,null,null,null,null,null,null,null,null,"Nastase Marius","Suceava"]
[null,null,null,null,null,null,null,null,null,null,null,null,null,null,null,null,null,null,null,"Nastase Sergiu","Iasi"]
[null,null,null,null,null,null,null,null,null,null,null,null,null,null,null,null,null,null,null,"Nasui Gavrila","Cluj Napoca"]
[null,null,null,null,null,null,null,null,null,null,null,null,null,null,null,null,null,null,null,"Nazaret Alexandru","Bacau"]
[null,null,null,null,null,null,null,null,null,null,null,null,null,null,null,null,null,null,null,"Neacsu Radu","Bucuresti"]
[null,null,null,null,null,null,null,null,null,null,null,null,null,null,null,null,null,null,null,"Neag Ioan","Timisoara"]
[null,null,null,null,null,null,null,null,null,null,null,null,null,null,null,null,null,null,null,"Neagoe Catalin","Timisoara"]
[null,null,null,null,null,null,null,null,null,null,null,null,null,null,null,null,null,null,null,"Neagoe Costin","Bucuresti"]
[null,null,null,null,null,null,null,null,null,null,null,null,null,null,null,null,null,null,null,"Neagu Alexandru","Targoviste"]
[null,null,null,null,null,null,null,null,null,null,null,null,null,null,null,null,null,null,null,"Neagu Alexandru","Bucuresti"]
[null,null,null,null,null,null,null,null,null,null,null,null,null,null,null,null,null,null,null,"Neagu Costin","Targoviste"]
[null,null,null,null,null,null,null,null,null,null,null,null,null,null,null,null,null,null,null,"Neagu Darius","Bucuresti"]
[null,null,null,null,null,null,null,null,null,null,null,null,null,null,null,null,null,null,null,"Neagu Dumitru","Branceni"]
[null,null,null,null,null,null,null,null,null,null,null,null,null,null,null,null,null,null,null,"Neagu George","Cernavoda"]
[null,null,null,null,null,null,null,null,null,null,null,null,null,null,null,null,null,null,null,"Neagu Ioan Adrian","Slatina Timis"]
[null,null,null,null,null,null,null,null,null,null,null,null,null,null,null,null,null,null,null,"Neagu Mihai","Iasi"]
[null,null,null,null,null,null,null,null,null,null,null,null,null,null,null,null,null,null,null,"Neagu Mircea","Iasi"]
[null,null,null,null,null,null,null,null,null,null,null,null,null,null,null,null,null,null,null,"Neagu Nicolae Valentin","Alexandria"]
[null,null,null,null,null,null,null,null,null,null,null,null,null,null,null,null,null,null,null,"Neamt Doru","Arad"]
[null,null,null,null,null,null,null,null,null,null,null,null,null,null,null,null,null,null,null,"Neamtu Alin","Arad"]
[null,null,null,null,null,null,null,null,null,null,null,null,null,null,null,null,null,null,null,"Neamtu Marius","Campia Turzii"]
[null,null,null,null,null,null,null,null,null,null,null,null,null,null,null,null,null,null,null,"Nechifor Constantin","Navodari"]
[null,null,null,null,null,null,null,null,null,null,null,null,null,null,null,null,null,null,null,"Nechita Victor","Pascani"]
[null,null,null,null,null,null,null,null,null,null,null,null,null,null,null,null,null,null,null,"Necsoiu Georgiana","Videle"]
[null,null,null,null,null,null,null,null,null,null,null,null,null,null,null,null,null,null,null,"Necula Andrei","Arad"]
[null,null,null,null,null,null,null,null,null,null,null,null,null,null,null,null,null,null,null,"Necula Florin","Straoane"]
[null,null,null,null,null,null,null,null,null,null,null,null,null,null,null,null,null,null,null,"Neculaes Francisc","Halaucesti"]
[null,null,null,null,null,null,null,null,null,null,null,null,null,null,null,null,null,null,null,"Neculai Alexandru","Videle"]
[null,null,null,null,null,null,null,null,null,null,null,null,null,null,null,null,null,null,null,"Neculai Robert Haisuc","Iasi"]
[null,null,null,null,null,null,null,null,null,null,null,null,null,null,null,null,null,null,null,"Neculai Valentin","Focsani"]
[null,null,null,null,null,null,null,null,null,null,null,null,null,null,null,null,null,null,null,"Neculcea Alexandru","Moreni"]
[null,null,null,null,null,null,null,null,null,null,null,null,null,null,null,null,null,null,null,"Neculcea Alexandru","Suceava"]
[null,null,null,null,null,null,null,null,null,null,null,null,null,null,null,null,null,null,null,"Nedealcova Daria","Moldova-Avdarma"]
[null,null,null,null,null,null,null,null,null,null,null,null,null,null,null,null,null,null,null,"Nedelcu Daniel","Timisoara"]
[null,null,null,null,null,null,null,null,null,null,null,null,null,null,null,null,null,null,null,"Nedelcu Marian","Sinaia"]
[null,null,null,null,null,null,null,null,null,null,null,null,null,null,null,null,null,null,null,"Nedescu Adrian","Ramnicu Valcea"]
[null,null,null,null,null,null,null,null,null,null,null,null,null,null,null,null,null,null,null,"Negoita Gheorghe","Marasesti"]
[null,null,null,null,null,null,null,null,null,null,null,null,null,null,null,null,null,null,null,"Negoita Ionut Silviu","Bucuresti"]
[null,null,null,null,null,null,null,null,null,null,null,null,null,null,null,null,null,null,null,"Negrea Olimpiu","Otelu Rosu"]
[null,null,null,null,null,null,null,null,null,null,null,null,null,null,null,null,null,null,null,"Negrea Petrut","Comanesti"]
[null,null,null,null,null,null,null,null,null,null,null,null,null,null,null,null,null,null,null,"Negrila Cristian","Caracal"]
[null,null,null,null,null,null,null,null,null,null,null,null,null,null,null,null,null,null,null,"Negrila Marius","Mioveni"]
[null,null,null,null,null,null,null,null,null,null,null,null,null,null,null,null,null,null,null,"Negru Marius","Deva"]
[null,null,null,null,null,null,null,null,null,null,null,null,null,null,null,null,null,null,null,"Negrut Cristian","Alesd"]
[null,null,null,null,null,null,null,null,null,null,null,null,null,null,null,null,null,null,null,"Negulescu Florin Adrian","Bucuresti"]
[null,null,null,null,null,null,null,null,null,null,null,null,null,null,null,null,null,null,null,"Negulescu Ioan","Ramnicu Valcea"]
[null,null,null,null,null,null,null,null,null,null,null,null,null,null,null,null,null,null,null,"Neiconi Florin","Hateg"]
[null,null,null,null,null,null,null,null,null,null,null,null,null,null,null,null,null,null,null,"Neiconi Sabin","Hateg"]
[null,null,null,null,null,null,null,null,null,null,null,null,null,null,null,null,null,null,null,"Neicovcen Vadim","Moldova-Comrat"]
[null,null,null,null,null,null,null,null,null,null,null,null,null,null,null,null,null,null,null,"Neicu Gheorghe","Bucuresti"]
[null,null,null,null,null,null,null,null,null,null,null,null,null,null,null,null,null,null,null,"Nemes Calin","Cluj Napoca"]
[null,null,null,null,null,null,null,null,null,null,null,null,null,null,null,null,null,null,null,"Nemes Iasmina","Lunca Muresului"]
[null,null,null,null,null,null,null,null,null,null,null,null,null,null,null,null,null,null,null,"Nemet Istvan Levente","Delenii"]
[null,null,null,null,null,null,null,null,null,null,null,null,null,null,null,null,null,null,null,"Nemeth Alesia","Dumbravita"]
[null,null,null,null,null,null,null,null,null,null,null,null,null,null,null,null,null,null,null,"Nesta Claudiu","Bucuresti"]
[null,null,null,null,null,null,null,null,null,null,null,null,null,null,null,null,null,null,null,"Nesterov Roman","Moldova-Drochia"]
[null,null,null,null,null,null,null,null,null,null,null,null,null,null,null,null,null,null,null,"Nica Alexandru","Iasi"]
[null,null,null,null,null,null,null,null,null,null,null,null,null,null,null,null,null,null,null,"Nica Sebastian","Bucuresti"]
[null,null,null,null,null,null,null,null,null,null,null,null,null,null,null,null,null,null,null,"Nica Vladimir","Branesti DB"]
[null,null,null,null,null,null,null,null,null,null,null,null,null,null,null,null,null,null,null,"Nichita Petru","Sibiu"]
[null,null,null,null,null,null,null,null,null,null,null,null,null,null,null,null,null,null,null,"Nicik Ilia","Moldova-Balti"]
[null,null,null,null,null,null,null,null,null,null,null,null,null,null,null,null,null,null,null,"Nicoara Doru","Arad"]
[null,null,null,null,null,null,null,null,null,null,null,null,null,null,null,null,null,null,null,"Nicoara Ovidiu","Curtea de Arges"]
[null,null,null,null,null,null,null,null,null,null,null,null,null,null,null,null,null,null,null,"Nicola Gabriela","Timisoara"]
[null,null,null,null,null,null,null,null,null,null,null,null,null,null,null,null,null,null,null,"Nicolae Alyn","Bucuresti"]
[null,null,null,null,null,null,null,null,null,null,null,null,null,null,null,null,null,null,null,"Nicolae Dana Gabriela","Brasov"]
[null,null,null,null,null,null,null,null,null,null,null,null,null,null,null,null,null,null,null,"Nicolae Daniel","Bucuresti"]
[null,null,null,null,null,null,null,null,null,null,null,null,null,null,null,null,null,null,null,"Nicolae Darius","Bucuresti"]
[null,null,null,null,null,null,null,null,null,null,null,null,null,null,null,null,null,null,null,"Nicolae Paul","Bucuresti"]
[null,null,null,null,null,null,null,null,null,null,null,null,null,null,null,null,null,null,null,"Nicolae Sorin","Targoviste"]
[null,null,null,null,null,null,null,null,null,null,null,null,null,null,null,null,null,null,null,"Nicolaev Toma","Bulgaria"]
[null,null,null,null,null,null,null,null,null,null,null,null,null,null,null,null,null,null,null,"Nicolaev Valerii","Moldova-Taraclia"]
[null,null,null,null,null,null,null,null,null,null,null,null,null,null,null,null,null,null,null,"Nicolaiciuc Ovidiu Sebastian","Iasi"]
[null,null,null,null,null,null,null,null,null,null,null,null,null,null,null,null,null,null,null,"Nicu Constantin","Iasi"]
[null,null,null,null,null,null,null,null,null,null,null,null,null,null,null,null,null,null,null,"Nicu Luca Stefan","Ramnicu Valcea"]
[null,null,null,null,null,null,null,null,null,null,null,null,null,null,null,null,null,null,null,"Nicula Florin","Constanta"]
[null,null,null,null,null,null,null,null,null,null,null,null,null,null,null,null,null,null,null,"Niculache Chirica","Tulcea"]
[null,null,null,null,null,null,null,null,null,null,null,null,null,null,null,null,null,null,null,"Niculescu Daniel","Pitesti"]
[null,null,null,null,null,null,null,null,null,null,null,null,null,null,null,null,null,null,null,"Nicusan Claudiu","Sibiu"]
[null,null,null,null,null,null,null,null,null,null,null,null,null,null,null,null,null,null,null,"Nicusan Razvan","Targu Mures"]
[null,null,null,null,null,null,null,null,null,null,null,null,null,null,null,null,null,null,null,"Nicusor Dan","Bucuresti"]
[null,null,null,null,null,null,null,null,null,null,null,null,null,null,null,null,null,null,null,"Nicut Andrei","Curtea de Arges"]
[null,null,null,null,null,null,null,null,null,null,null,null,null,null,null,null,null,null,null,"Niga Corneliu Filaret","Campulung Mold"]
[null,null,null,null,null,null,null,null,null,null,null,null,null,null,null,null,null,null,null,"Nistor Alex","Falticeni"]
[null,null,null,null,null,null,null,null,null,null,null,null,null,null,null,null,null,null,null,"Nistor Andreea","Botosani"]
[null,null,null,null,null,null,null,null,null,null,null,null,null,null,null,null,null,null,null,"Nistor Costel","Galati"]
[null,null,null,null,null,null,null,null,null,null,null,null,null,null,null,null,null,null,null,"Nistor Dorel","Bistrita"]
[null,null,null,null,null,null,null,null,null,null,null,null,null,null,null,null,null,null,null,"Nistor Florin","Comanesti"]
[null,null,null,null,null,null,null,null,null,null,null,null,null,null,null,null,null,null,null,"Nistor Mirela","Cisnadie"]
[null,null,null,null,null,null,null,null,null,null,null,null,null,null,null,null,null,null,null,"Nita Alin","Bucuresti"]
[null,null,null,null,null,null,null,null,null,null,null,null,null,null,null,null,null,null,null,"Nita Dorel","Urleta"]
[null,null,null,null,null,null,null,null,null,null,null,null,null,null,null,null,null,null,null,"Nita Ion","Ploiesti"]
[null,null,null,null,null,null,null,null,null,null,null,null,null,null,null,null,null,null,null,"Nita Matei","Buzau"]
[null,null,null,null,null,null,null,null,null,null,null,null,null,null,null,null,null,null,null,"Nitu Gheorghe","Craiova"]
[null,null,null,null,null,null,null,null,null,null,null,null,null,null,null,null,null,null,null,"Nitu Victor","Slobozia"]
[null,null,null,null,null,null,null,null,null,null,null,null,null,null,null,null,null,null,null,"Nitulescu Bogdan","Sibiu"]
[null,null,null,null,null,null,null,null,null,null,null,null,null,null,null,null,null,null,null,"Nitulescu Matei","Bucuresti"]
[null,null,null,null,null,null,null,null,null,null,null,null,null,null,null,null,null,null,null,"Nopcea Marius","Hateg"]
[null,null,null,null,null,null,null,null,null,null,null,null,null,null,null,null,null,null,null,"Novitchi Daniel","Moldova-Cahul"]
[null,null,null,null,null,null,null,null,null,null,null,null,null,null,null,null,null,null,null,"Nuta Mario","Pitesti"]
[null,null,null,null,null,null,null,null,null,null,null,null,null,null,null,null,null,null,null,"Nutiu Alexandru","Oradea"]
[null,null,null,null,null,null,null,null,null,null,null,null,null,null,null,null,null,null,null,"Nutu Catalin","Targu Neamt"]
[null,null,null,null,null,null,null,null,null,null,null,null,null,null,null,null,null,null,null,"Nyaradi Attila","Sighisoara"]
[null,null,null,null,null,null,null,null,null,null,null,null,null,null,null,null,null,null,null,"Oana Alexandru","Barlad"]
[null,null,null,null,null,null,null,null,null,null,null,null,null,null,null,null,null,null,null,"Oana Ion","Bucuresti"]
[null,null,null,null,null,null,null,null,null,null,null,null,null,null,null,null,null,null,null,"Oana Ion Petru","Cernavoda"]
[null,null,null,null,null,null,null,null,null,null,null,null,null,null,null,null,null,null,null,"Oancea Marian","Bacau"]
[null,null,null,null,null,null,null,null,null,null,null,null,null,null,null,null,null,null,null,"Oancea Vasile","Buzau"]
[null,null,null,null,null,null,null,null,null,null,null,null,null,null,null,null,null,null,null,"Oanta Flavian","Alexandria"]
[null,null,null,null,null,null,null,null,null,null,null,null,null,null,null,null,null,null,null,"Obis Akos","Berveni"]
[null,null,null,null,null,null,null,null,null,null,null,null,null,null,null,null,null,null,null,"Ochian Andrei","Botosani"]
[null,null,null,null,null,null,null,null,null,null,null,null,null,null,null,null,null,null,null,"Ocu Ioan","Botosani"]
[null,null,null,null,null,null,null,null,null,null,null,null,null,null,null,null,null,null,null,"Oeru Valentin","Bucuresti"]
[null,null,null,null,null,null,null,null,null,null,null,null,null,null,null,null,null,null,null,"Ogrinji Nicu","Iasi"]
[null,null,null,null,null,null,null,null,null,null,null,null,null,null,null,null,null,null,null,"Ogrutan Marius","Cluj Napoca"]
[null,null,null,null,null,null,null,null,null,null,null,null,null,null,null,null,null,null,null,"Ogutai Ibadula","Constanta"]
[null,null,null,null,null,null,null,null,null,null,null,null,null,null,null,null,null,null,null,"Olah Remus","Arad"]
[null,null,null,null,null,null,null,null,null,null,null,null,null,null,null,null,null,null,null,"Olaru Aurel","Medias"]
[null,null,null,null,null,null,null,null,null,null,null,null,null,null,null,null,null,null,null,"Olaru Costin","Filipestii de Targ"]
[null,null,null,null,null,null,null,null,null,null,null,null,null,null,null,null,null,null,null,"Olaru Costin","Bucuresti"]
[null,null,null,null,null,null,null,null,null,null,null,null,null,null,null,null,null,null,null,"Olaru Dragos","Bucuresti"]
[null,null,null,null,null,null,null,null,null,null,null,null,null,null,null,null,null,null,null,"Olaru Miruna Andreea","Comanesti"]
[null,null,null,null,null,null,null,null,null,null,null,null,null,null,null,null,null,null,null,"Oleinic Denis","Moldova-Edinet"]
[null,null,null,null,null,null,null,null,null,null,null,null,null,null,null,null,null,null,null,"Oliusceac Arina","Moldova-Balti"]
[null,null,null,null,null,null,null,null,null,null,null,null,null,null,null,null,null,null,null,"Oliva Ioan David","Bulgaria"]
[null,null,null,null,null,null,null,null,null,null,null,null,null,null,null,null,null,null,null,"Oltean Octavian","Targu Mures"]
[null,null,null,null,null,null,null,null,null,null,null,null,null,null,null,null,null,null,null,"Olteanu Claudiu","Galati"]
[null,null,null,null,null,null,null,null,null,null,null,null,null,null,null,null,null,null,null,"Olteanu Dorel","Bucuresti"]
[null,null,null,null,null,null,null,null,null,null,null,null,null,null,null,null,null,null,null,"Olteanu Gabriel","Vaslui"]
[null,null,null,null,null,null,null,null,null,null,null,null,null,null,null,null,null,null,null,"Olteanu Stefan","Sighisoara"]
[null,null,null,null,null,null,null,null,null,null,null,null,null,null,null,null,null,null,null,"Onet Denis","Utvin"]
[null,null,null,null,null,null,null,null,null,null,null,null,null,null,null,null,null,null,null,"Onet Nicolae","Sighisoara"]
[null,null,null,null,null,null,null,null,null,null,null,null,null,null,null,null,null,null,null,"Oniga Florin","Alba Iulia"]
[null,null,null,null,null,null,null,null,null,null,null,null,null,null,null,null,null,null,null,"Oniga Paul","Blaj"]
[null,null,null,null,null,null,null,null,null,null,null,null,null,null,null,null,null,null,null,"Oniscu Amalia","Constanta"]
[null,null,null,null,null,null,null,null,null,null,null,null,null,null,null,null,null,null,null,"Onofrei Andrei","Medgidia"]
[null,null,null,null,null,null,null,null,null,null,null,null,null,null,null,null,null,null,null,"Onofrei Ionut","Iasi"]
[null,null,null,null,null,null,null,null,null,null,null,null,null,null,null,null,null,null,null,"Onofrei Petru","Gherla"]
[null,null,null,null,null,null,null,null,null,null,null,null,null,null,null,null,null,null,null,"Onose Iulian","Galati"]
[null,null,null,null,null,null,null,null,null,null,null,null,null,null,null,null,null,null,null,"Ontoiu Catalin","Pitesti"]
[null,null,null,null,null,null,null,null,null,null,null,null,null,null,null,null,null,null,null,"Onute Marius","Zalau"]
[null,null,null,null,null,null,null,null,null,null,null,null,null,null,null,null,null,null,null,"Opran Gavril","Bucuresti"]
[null,null,null,null,null,null,null,null,null,null,null,null,null,null,null,null,null,null,null,"Oprea Adrian","Lugoj"]
[null,null,null,null,null,null,null,null,null,null,null,null,null,null,null,null,null,null,null,"Oprea Adrian","Bucuresti"]
[null,null,null,null,null,null,null,null,null,null,null,null,null,null,null,null,null,null,null,"Oprea Bogdan Andrei","Cluj Napoca"]
[null,null,null,null,null,null,null,null,null,null,null,null,null,null,null,null,null,null,null,"Oprea Cosmin","Calan"]
[null,null,null,null,null,null,null,null,null,null,null,null,null,null,null,null,null,null,null,"Oprea Emanuel","Bucuresti"]
[null,null,null,null,null,null,null,null,null,null,null,null,null,null,null,null,null,null,null,"Oprea Ionela","Pitesti"]
[null,null,null,null,null,null,null,null,null,null,null,null,null,null,null,null,null,null,null,"Oprea Marian","Bucuresti"]
[null,null,null,null,null,null,null,null,null,null,null,null,null,null,null,null,null,null,null,"Oprea Mihai","Cluj Napoca"]
[null,null,null,null,null,null,null,null,null,null,null,null,null,null,null,null,null,null,null,"Oprea Ramona","Brasov"]
[null,null,null,null,null,null,null,null,null,null,null,null,null,null,null,null,null,null,null,"Oprea Raul","Dobrotesti"]
[null,null,null,null,null,null,null,null,null,null,null,null,null,null,null,null,null,null,null,"Oprea Sorin","Galati"]
[null,null,null,null,null,null,null,null,null,null,null,null,null,null,null,null,null,null,null,"Oprea Tiberiu","Brasov"]
[null,null,null,null,null,null,null,null,null,null,null,null,null,null,null,null,null,null,null,"Oprean Andrei","Brad"]
[null,null,null,null,null,null,null,null,null,null,null,null,null,null,null,null,null,null,null,"Oprinca Mariana","Targu Mures"]
[null,null,null,null,null,null,null,null,null,null,null,null,null,null,null,null,null,null,null,"Opris Andrei","Zalau"]
[null,null,null,null,null,null,null,null,null,null,null,null,null,null,null,null,null,null,null,"Opris Marius","Arad"]
[null,null,null,null,null,null,null,null,null,null,null,null,null,null,null,null,null,null,null,"Oprita Miruna","Nasaud"]
[null,null,null,null,null,null,null,null,null,null,null,null,null,null,null,null,null,null,null,"Oproi Eugen","Sannicolau Mare"]
[null,null,null,null,null,null,null,null,null,null,null,null,null,null,null,null,null,null,null,"Oravecz Csaba","Tomesti"]
[null,null,null,null,null,null,null,null,null,null,null,null,null,null,null,null,null,null,null,"Orban Adrian","Apahida"]
[null,null,null,null,null,null,null,null,null,null,null,null,null,null,null,null,null,null,null,"Orban Alexandru","Lugoj"]
[null,null,null,null,null,null,null,null,null,null,null,null,null,null,null,null,null,null,null,"Orban Alin","Siret"]
[null,null,null,null,null,null,null,null,null,null,null,null,null,null,null,null,null,null,null,"Orban Koppany","Sovata"]
[null,null,null,null,null,null,null,null,null,null,null,null,null,null,null,null,null,null,null,"Orban Levente","Sovata"]
[null,null,null,null,null,null,null,null,null,null,null,null,null,null,null,null,null,null,null,"Orban Madalina","Siret"]
[null,null,null,null,null,null,null,null,null,null,null,null,null,null,null,null,null,null,null,"Orban Marius","Lugoj"]
[null,null,null,null,null,null,null,null,null,null,null,null,null,null,null,null,null,null,null,"Orbocea Alesia","Navodari"]
[null,null,null,null,null,null,null,null,null,null,null,null,null,null,null,null,null,null,null,"Orga Adrian","Ludus"]
[null,null,null,null,null,null,null,null,null,null,null,null,null,null,null,null,null,null,null,"Orga Denis","Gligoresti"]
[null,null,null,null,null,null,null,null,null,null,null,null,null,null,null,null,null,null,null,"Orha Andrei","Targu Mures"]
[null,null,null,null,null,null,null,null,null,null,null,null,null,null,null,null,null,null,null,"Orosanu Alexandru","Pitesti"]
[null,null,null,null,null,null,null,null,null,null,null,null,null,null,null,null,null,null,null,"Orosz Attila","Miercurea Ciuc"]
[null,null,null,null,null,null,null,null,null,null,null,null,null,null,null,null,null,null,null,"Orosz Silviu","Dumbraveni SB"]
[null,null,null,null,null,null,null,null,null,null,null,null,null,null,null,null,null,null,null,"Orza Catalin","Suceava"]
[null,null,null,null,null,null,null,null,null,null,null,null,null,null,null,null,null,null,null,"Orza Razvan","Suceava"]
[null,null,null,null,null,null,null,null,null,null,null,null,null,null,null,null,null,null,null,"Osan George","Floresti"]
[null,null,null,null,null,null,null,null,null,null,null,null,null,null,null,null,null,null,null,"Osman Levent","Constanta"]
[null,null,null,null,null,null,null,null,null,null,null,null,null,null,null,null,null,null,null,"Osman Metin","Tulcea"]
[null,null,null,null,null,null,null,null,null,null,null,null,null,null,null,null,null,null,null,"Ostrovanu Cosmin","Suceava"]
[null,null,null,null,null,null,null,null,null,null,null,null,null,null,null,null,null,null,null,"Oteleanu Aurel","Bucuresti"]
[null,null,null,null,null,null,null,null,null,null,null,null,null,null,null,null,null,null,null,"Pachitu Dan","Vaslui"]
[null,null,null,null,null,null,null,null,null,null,null,null,null,null,null,null,null,null,null,"Pacurar Cosmin","Blaj"]
[null,null,null,null,null,null,null,null,null,null,null,null,null,null,null,null,null,null,null,"Pacuraru Cristian","Suceava"]
[null,null,null,null,null,null,null,null,null,null,null,null,null,null,null,null,null,null,null,"Pacuret Geraldina","Pitesti"]
[null,null,null,null,null,null,null,null,null,null,null,null,null,null,null,null,null,null,null,"Padurariu Ciprian","Roman"]
[null,null,null,null,null,null,null,null,null,null,null,null,null,null,null,null,null,null,null,"Padurariu Costel","Brasov"]
[null,null,null,null,null,null,null,null,null,null,null,null,null,null,null,null,null,null,null,"Paduraru Giani","Vaslui"]
[null,null,null,null,null,null,null,null,null,null,null,null,null,null,null,null,null,null,null,"Paduraru Mihnea","Brasov"]
[null,null,null,null,null,null,null,null,null,null,null,null,null,null,null,null,null,null,null,"Paduraru Riana","Bacau"]
[null,null,null,null,null,null,null,null,null,null,null,null,null,null,null,null,null,null,null,"Padure Andrei","Agnita"]
[null,null,null,null,null,null,null,null,null,null,null,null,null,null,null,null,null,null,null,"Paduret Andrei","Bacau"]
[null,null,null,null,null,null,null,null,null,null,null,null,null,null,null,null,null,null,null,"Paius Vlad","Hunedoara"]
[null,null,null,null,null,null,null,null,null,null,null,null,null,null,null,null,null,null,null,"Paizs Sandor","Targu Mures"]
[null,null,null,null,null,null,null,null,null,null,null,null,null,null,null,null,null,null,null,"Pal Abel","Sfantu Gheorghe"]
[null,null,null,null,null,null,null,null,null,null,null,null,null,null,null,null,null,null,null,"Pal Attila","Sfantu Gheorghe"]
[null,null,null,null,null,null,null,null,null,null,null,null,null,null,null,null,null,null,null,"Pal Marius","Halaucesti"]
[null,null,null,null,null,null,null,null,null,null,null,null,null,null,null,null,null,null,null,"Palade Victor","Bucuresti"]
[null,null,null,null,null,null,null,null,null,null,null,null,null,null,null,null,null,null,null,"Paladuta Victor","Timisoara"]
[null,null,null,null,null,null,null,null,null,null,null,null,null,null,null,null,null,null,null,"Palagheanu Elvis","Plopeni SV"]
[null,null,null,null,null,null,null,null,null,null,null,null,null,null,null,null,null,null,null,"Palagheanu Luis","Plopeni SV"]
[null,null,null,null,null,null,null,null,null,null,null,null,null,null,null,null,null,null,null,"Palaghianu Mattia","Salcea"]
[null,null,null,null,null,null,null,null,null,null,null,null,null,null,null,null,null,null,null,"Palaina Nicolae","Curtea de Arges"]
[null,null,null,null,null,null,null,null,null,null,null,null,null,null,null,null,null,null,null,"Palamariuc Mihai","Onesti"]
[null,null,null,null,null,null,null,null,null,null,null,null,null,null,null,null,null,null,null,"Palangean Iris","Giurgiu"]
[null,null,null,null,null,null,null,null,null,null,null,null,null,null,null,null,null,null,null,"Palfi Zsolt","Oradea"]
[null,null,null,null,null,null,null,null,null,null,null,null,null,null,null,null,null,null,null,"Palici Eduard","Cluj Napoca"]
[null,null,null,null,null,null,null,null,null,null,null,null,null,null,null,null,null,null,null,"Pamfilie Horatiu","Ludus"]
[null,null,null,null,null,null,null,null,null,null,null,null,null,null,null,null,null,null,null,"Pana Bogdan","Ploiesti"]
[null,null,null,null,null,null,null,null,null,null,null,null,null,null,null,null,null,null,null,"Panait Adrian","Braila"]
[null,null,null,null,null,null,null,null,null,null,null,null,null,null,null,null,null,null,null,"Panait Genu","Teisani"]
[null,null,null,null,null,null,null,null,null,null,null,null,null,null,null,null,null,null,null,"Pancaricean Emil","Sibiu"]
[null,null,null,null,null,null,null,null,null,null,null,null,null,null,null,null,null,null,null,"Pancevac Ivan","Pancevo"]
[null,null,null,null,null,null,null,null,null,null,null,null,null,null,null,null,null,null,null,"Pancrat Cristian","Tulcea"]
[null,null,null,null,null,null,null,null,null,null,null,null,null,null,null,null,null,null,null,"Panczel Jozsef","Cluj Napoca"]
[null,null,null,null,null,null,null,null,null,null,null,null,null,null,null,null,null,null,null,"Pandelescu Eduard","Bucuresti"]
[null,null,null,null,null,null,null,null,null,null,null,null,null,null,null,null,null,null,null,"Pandelescu Romulus","Bucuresti"]
[null,null,null,null,null,null,null,null,null,null,null,null,null,null,null,null,null,null,null,"Panduru Liviu","Calarasi"]
[null,null,null,null,null,null,null,null,null,null,null,null,null,null,null,null,null,null,null,"Panea Ovidiu","Bucuresti"]
[null,null,null,null,null,null,null,null,null,null,null,null,null,null,null,null,null,null,null,"Pantea Gratian","Arad"]
[null,null,null,null,null,null,null,null,null,null,null,null,null,null,null,null,null,null,null,"Pantecan Alex","Bucuresti"]
[null,null,null,null,null,null,null,null,null,null,null,null,null,null,null,null,null,null,null,"Pantelimon Sorin","Craiova"]
[null,null,null,null,null,null,null,null,null,null,null,null,null,null,null,null,null,null,null,"Pap Gyula","Gheorgheni"]
[null,null,null,null,null,null,null,null,null,null,null,null,null,null,null,null,null,null,null,"Pap Teteny","Targu Mures"]
[null,null,null,null,null,null,null,null,null,null,null,null,null,null,null,null,null,null,null,"Papacu Bejoli","Bucuresti"]
[null,null,null,null,null,null,null,null,null,null,null,null,null,null,null,null,null,null,null,"Papp Ernest","Cluj Napoca"]
[null,null,null,null,null,null,null,null,null,null,null,null,null,null,null,null,null,null,null,"Paran Alex","Hateg"]
[null,null,null,null,null,null,null,null,null,null,null,null,null,null,null,null,null,null,null,"Parasca Dumitru","Radauti"]
[null,null,null,null,null,null,null,null,null,null,null,null,null,null,null,null,null,null,null,"Paraschiv Florin","Dobrotesti"]
[null,null,null,null,null,null,null,null,null,null,null,null,null,null,null,null,null,null,null,"Parcalab Mihai","Bistrita"]
[null,null,null,null,null,null,null,null,null,null,null,null,null,null,null,null,null,null,null,"Paris Ianis Nicolas","Navodari"]
[null,null,null,null,null,null,null,null,null,null,null,null,null,null,null,null,null,null,null,"Parjol Rares","Cluj Napoca"]
[null,null,null,null,null,null,null,null,null,null,null,null,null,null,null,null,null,null,null,"Parlog Florin","Bucuresti"]
[null,null,null,null,null,null,null,null,null,null,null,null,null,null,null,null,null,null,null,"Parota Mircea","Alexandria"]
[null,null,null,null,null,null,null,null,null,null,null,null,null,null,null,null,null,null,null,"Parpauta Gabriel","Iasi"]
[null,null,null,null,null,null,null,null,null,null,null,null,null,null,null,null,null,null,null,"Parus Lilian","Oradea"]
[null,null,null,null,null,null,null,null,null,null,null,null,null,null,null,null,null,null,null,"Parvan Dumitru","Deva"]
[null,null,null,null,null,null,null,null,null,null,null,null,null,null,null,null,null,null,null,"Pasaila Marius George","Timisoara"]
[null,null,null,null,null,null,null,null,null,null,null,null,null,null,null,null,null,null,null,"Pasca Lucian","Targu Mures"]
[null,null,null,null,null,null,null,null,null,null,null,null,null,null,null,null,null,null,null,"Pasca Vlad","Targu Mures"]
[null,null,null,null,null,null,null,null,null,null,null,null,null,null,null,null,null,null,null,"Pascal Igor","Moldova"]
[null,null,null,null,null,null,null,null,null,null,null,null,null,null,null,null,null,null,null,"Pascal Ion","Moldova"]
[null,null,null,null,null,null,null,null,null,null,null,null,null,null,null,null,null,null,null,"Pascal Raul","Targoviste"]
[null,null,null,null,null,null,null,null,null,null,null,null,null,null,null,null,null,null,null,"Pascariu Andrei Razvan","Iasi"]
[null,null,null,null,null,null,null,null,null,null,null,null,null,null,null,null,null,null,null,"Pascaru Mihai","Barlad"]
[null,null,null,null,null,null,null,null,null,null,null,null,null,null,null,null,null,null,null,"Pascaru Tudor Andrei","Iasi"]
[null,null,null,null,null,null,null,null,null,null,null,null,null,null,null,null,null,null,null,"Pasconi Anton","Mintia"]
[null,null,null,null,null,null,null,null,null,null,null,null,null,null,null,null,null,null,null,"Pascov Stepan","Moldova-Tvardita"]
[null,null,null,null,null,null,null,null,null,null,null,null,null,null,null,null,null,null,null,"Pascu Gabriel","Braila"]
[null,null,null,null,null,null,null,null,null,null,null,null,null,null,null,null,null,null,null,"Pascu Marian","Bucuresti"]
[null,null,null,null,null,null,null,null,null,null,null,null,null,null,null,null,null,null,null,"Pascu Marius","Campulung Mold"]
[null,null,null,null,null,null,null,null,null,null,null,null,null,null,null,null,null,null,null,"Pascu Mihai","Arad"]
[null,null,null,null,null,null,null,null,null,null,null,null,null,null,null,null,null,null,null,"Pascu Paul","Tecuci"]
[null,null,null,null,null,null,null,null,null,null,null,null,null,null,null,null,null,null,null,"Pascu Razvan","Magureni"]
[null,null,null,null,null,null,null,null,null,null,null,null,null,null,null,null,null,null,null,"Paskals Ivans","Moldova-Cahul"]
[null,null,null,null,null,null,null,null,null,null,null,null,null,null,null,null,null,null,null,"Pasoveanu Silvian","Bucuresti"]
[null,null,null,null,null,null,null,null,null,null,null,null,null,null,null,null,null,null,null,"Pastiu Sorin","Cugir"]
[null,null,null,null,null,null,null,null,null,null,null,null,null,null,null,null,null,null,null,"Pastrama Tudor","Medgidia"]
[null,null,null,null,null,null,null,null,null,null,null,null,null,null,null,null,null,null,null,"Pastusoc Cornel","Moldova-Edinet"]
[null,null,null,null,null,null,null,null,null,null,null,null,null,null,null,null,null,null,null,"Pastusoc Cristi","Moldova-Edinet"]
[null,null,null,null,null,null,null,null,null,null,null,null,null,null,null,null,null,null,null,"Pasztor Gyorgy","Sovata"]
[null,null,null,null,null,null,null,null,null,null,null,null,null,null,null,null,null,null,null,"Patapi Alexandru","Moldova-Balti"]
[null,null,null,null,null,null,null,null,null,null,null,null,null,null,null,null,null,null,null,"Patapi Alexandru Sr","Moldova-Edinet"]
[null,null,null,null,null,null,null,null,null,null,null,null,null,null,null,null,null,null,null,"Patras Claudiu","Iasi"]
[null,null,null,null,null,null,null,null,null,null,null,null,null,null,null,null,null,null,null,"Patrascu Alin","Slatina"]
[null,null,null,null,null,null,null,null,null,null,null,null,null,null,null,null,null,null,null,"Patrascu Cristian","Iasi"]
[null,null,null,null,null,null,null,null,null,null,null,null,null,null,null,null,null,null,null,"Patrascu Dorin","Pitesti"]
[null,null,null,null,null,null,null,null,null,null,null,null,null,null,null,null,null,null,null,"Patrascu George","Tulcea"]
[null,null,null,null,null,null,null,null,null,null,null,null,null,null,null,null,null,null,null,"Patrascu Marius","Piatra Neamt"]
[null,null,null,null,null,null,null,null,null,null,null,null,null,null,null,null,null,null,null,"Patrascuta Octavian","Drobeta Tr Severin"]
[null,null,null,null,null,null,null,null,null,null,null,null,null,null,null,null,null,null,null,"Patrascuta Tiberiu","Drobeta Tr Severin"]
[null,null,null,null,null,null,null,null,null,null,null,null,null,null,null,null,null,null,null,"Patru Alin","Curtea de Arges"]
[null,null,null,null,null,null,null,null,null,null,null,null,null,null,null,null,null,null,null,"Patru Gabriel","Popesti Leordeni"]
[null,null,null,null,null,null,null,null,null,null,null,null,null,null,null,null,null,null,null,"Pauca Cosmin","Botosani"]
[null,null,null,null,null,null,null,null,null,null,null,null,null,null,null,null,null,null,null,"Paul Alin Sabin","Sandra"]
[null,null,null,null,null,null,null,null,null,null,null,null,null,null,null,null,null,null,null,"Paul Cosmin Sebastian","Bucuresti"]
[null,null,null,null,null,null,null,null,null,null,null,null,null,null,null,null,null,null,null,"Paul Horatiu","Alba Iulia"]
[null,null,null,null,null,null,null,null,null,null,null,null,null,null,null,null,null,null,null,"Paulette Briana","Blaj"]
[null,null,null,null,null,null,null,null,null,null,null,null,null,null,null,null,null,null,null,"Paulette Radu","Blaj"]
[null,null,null,null,null,null,null,null,null,null,null,null,null,null,null,null,null,null,null,"Pauliuc Alesia","Timisoara"]
[null,null,null,null,null,null,null,null,null,null,null,null,null,null,null,null,null,null,null,"Paun Carmen","Alexandria"]
[null,null,null,null,null,null,null,null,null,null,null,null,null,null,null,null,null,null,null,"Pauna Bogdan","Craiova"]
[null,null,null,null,null,null,null,null,null,null,null,null,null,null,null,null,null,null,null,"Paunas Raul","Navodari"]
[null,null,null,null,null,null,null,null,null,null,null,null,null,null,null,null,null,null,null,"Paunescu David","Bucuresti"]
[null,null,null,null,null,null,null,null,null,null,null,null,null,null,null,null,null,null,null,"Paval Mihai","Iasi"]
[null,null,null,null,null,null,null,null,null,null,null,null,null,null,null,null,null,null,null,"Paval Vlad Florin","Harlau"]
[null,null,null,null,null,null,null,null,null,null,null,null,null,null,null,null,null,null,null,"Pavel Calin","Hunedoara"]
[null,null,null,null,null,null,null,null,null,null,null,null,null,null,null,null,null,null,null,"Pavel Ovidiu","Botosani"]
[null,null,null,null,null,null,null,null,null,null,null,null,null,null,null,null,null,null,null,"Pavliuc Daria","Moldova-Briceni"]
[null,null,null,null,null,null,null,null,null,null,null,null,null,null,null,null,null,null,null,"Pavlov Valentin","Moldova-Cahul"]
[null,null,null,null,null,null,null,null,null,null,null,null,null,null,null,null,null,null,null,"Pavunev Dan","Bucuresti"]
[null,null,null,null,null,null,null,null,null,null,null,null,null,null,null,null,null,null,null,"Peiu Cosmin","Babadag"]
[null,null,null,null,null,null,null,null,null,null,null,null,null,null,null,null,null,null,null,"Pelaghie Ioan","Targu Mures"]
[null,null,null,null,null,null,null,null,null,null,null,null,null,null,null,null,null,null,null,"Pelcea Alexandru","Bucuresti"]
[null,null,null,null,null,null,null,null,null,null,null,null,null,null,null,null,null,null,null,"Pena Marian","Bucuresti"]
[null,null,null,null,null,null,null,null,null,null,null,null,null,null,null,null,null,null,null,"Pentescu Adrian","Constanta"]
[null,null,null,null,null,null,null,null,null,null,null,null,null,null,null,null,null,null,null,"Peptea Ionut","Bucuresti"]
[null,null,null,null,null,null,null,null,null,null,null,null,null,null,null,null,null,null,null,"Perju Cosmin","Constanta"]
[null,null,null,null,null,null,null,null,null,null,null,null,null,null,null,null,null,null,null,"Persa Florin","Sfantu Gheorghe"]
[null,null,null,null,null,null,null,null,null,null,null,null,null,null,null,null,null,null,null,"Peta Octavian","Cluj Napoca"]
[null,null,null,null,null,null,null,null,null,null,null,null,null,null,null,null,null,null,null,"Petcu Marius","Bucuresti"]
[null,null,null,null,null,null,null,null,null,null,null,null,null,null,null,null,null,null,null,"Petcu Nicolas","Buhusi"]
[null,null,null,null,null,null,null,null,null,null,null,null,null,null,null,null,null,null,null,"Petcu Sorin","Sibiu"]
[null,null,null,null,null,null,null,null,null,null,null,null,null,null,null,null,null,null,null,"Petculescu Giani","Ploiesti"]
[null,null,null,null,null,null,null,null,null,null,null,null,null,null,null,null,null,null,null,"Peter Laszlo","Brasov"]
[null,null,null,null,null,null,null,null,null,null,null,null,null,null,null,null,null,null,null,"Petersi Nuri","Varset"]
[null,null,null,null,null,null,null,null,null,null,null,null,null,null,null,null,null,null,null,"Petho Katalin","Racosu de Sus"]
[null,null,null,null,null,null,null,null,null,null,null,null,null,null,null,null,null,null,null,"Petho Mihaly","Racosu de Sus"]
[null,null,null,null,null,null,null,null,null,null,null,null,null,null,null,null,null,null,null,"Petho Mihaly Jr","Racosu de Sus"]
[null,null,null,null,null,null,null,null,null,null,null,null,null,null,null,null,null,null,null,"Petra Ioan","Balan"]
[null,null,null,null,null,null,null,null,null,null,null,null,null,null,null,null,null,null,null,"Petrache Claudiu","Branesti"]
[null,null,null,null,null,null,null,null,null,null,null,null,null,null,null,null,null,null,null,"Petrache Lucian","Bucuresti"]
[null,null,null,null,null,null,null,null,null,null,null,null,null,null,null,null,null,null,null,"Petrache Matei","Buzau"]
[null,null,null,null,null,null,null,null,null,null,null,null,null,null,null,null,null,null,null,"Petrache Radu","Blaj"]
[null,null,null,null,null,null,null,null,null,null,null,null,null,null,null,null,null,null,null,"Petrache Stefan","Blaj"]
[null,null,null,null,null,null,null,null,null,null,null,null,null,null,null,null,null,null,null,"Petraro Francesco","Alesd"]
[null,null,null,null,null,null,null,null,null,null,null,null,null,null,null,null,null,null,null,"Petre Catalin","Bucuresti"]
[null,null,null,null,null,null,null,null,null,null,null,null,null,null,null,null,null,null,null,"Petre Cristian","Bucuresti"]
[null,null,null,null,null,null,null,null,null,null,null,null,null,null,null,null,null,null,null,"Petre Gabriel","Bucuresti"]
[null,null,null,null,null,null,null,null,null,null,null,null,null,null,null,null,null,null,null,"Petrea Bogdan Andrei","Caransebes"]
[null,null,null,null,null,null,null,null,null,null,null,null,null,null,null,null,null,null,null,"Petrean Calin Filip","Arad"]
[null,null,null,null,null,null,null,null,null,null,null,null,null,null,null,null,null,null,null,"Petrean Liviu","Zalau"]
[null,null,null,null,null,null,null,null,null,null,null,null,null,null,null,null,null,null,null,"Petrescu Alin","Hateg"]
[null,null,null,null,null,null,null,null,null,null,null,null,null,null,null,null,null,null,null,"Petrescu Liviu","Pitesti"]
[null,null,null,null,null,null,null,null,null,null,null,null,null,null,null,null,null,null,null,"Petrescu Ovidiu","Pitesti"]
[null,null,null,null,null,null,null,null,null,null,null,null,null,null,null,null,null,null,null,"Petrici Sergiu","Calan"]
[null,null,null,null,null,null,null,null,null,null,null,null,null,null,null,null,null,null,null,"Petrisor Alexandru","Craiova"]
[null,null,null,null,null,null,null,null,null,null,null,null,null,null,null,null,null,null,null,"Petrisor Mihai Marinel","Sibiu"]
[null,null,null,null,null,null,null,null,null,null,null,null,null,null,null,null,null,null,null,"Petroesc Emil","Hunedoara"]
[null,null,null,null,null,null,null,null,null,null,null,null,null,null,null,null,null,null,null,"Petrov Dan","Dobroesti"]
[null,null,null,null,null,null,null,null,null,null,null,null,null,null,null,null,null,null,null,"Petrov Marius","Lovrin"]
[null,null,null,null,null,null,null,null,null,null,null,null,null,null,null,null,null,null,null,"Petrovic Dusan","Belgrad"]
[null,null,null,null,null,null,null,null,null,null,null,null,null,null,null,null,null,null,null,"Petrovic Zeljko","Belgrad"]
[null,null,null,null,null,null,null,null,null,null,null,null,null,null,null,null,null,null,null,"Petrus Florin","Alba Iulia"]
[null,null,null,null,null,null,null,null,null,null,null,null,null,null,null,null,null,null,null,"Petruse Adrian","Zalau"]
[null,null,null,null,null,null,null,null,null,null,null,null,null,null,null,null,null,null,null,"Petrut Andrei","Chisoda"]
[null,null,null,null,null,null,null,null,null,null,null,null,null,null,null,null,null,null,null,"Petrut Luminita","Targu Mures"]
[null,null,null,null,null,null,null,null,null,null,null,null,null,null,null,null,null,null,null,"Pican Ion","Slatina"]
[null,null,null,null,null,null,null,null,null,null,null,null,null,null,null,null,null,null,null,"Pich Ioan","Viseu"]
[null,null,null,null,null,null,null,null,null,null,null,null,null,null,null,null,null,null,null,"Picu Patric","Dumbravita"]
[null,null,null,null,null,null,null,null,null,null,null,null,null,null,null,null,null,null,null,"Pietraru Dorian","Victoria"]
[null,null,null,null,null,null,null,null,null,null,null,null,null,null,null,null,null,null,null,"Piliponcic Vadim","Moldova-Chisinau"]
[null,null,null,null,null,null,null,null,null,null,null,null,null,null,null,null,null,null,null,"Pintea Larisa","Deva"]
[null,null,null,null,null,null,null,null,null,null,null,null,null,null,null,null,null,null,null,"Pintilie Cristi","Vaslui"]
[null,null,null,null,null,null,null,null,null,null,null,null,null,null,null,null,null,null,null,"Pintilie Maria","Iasi"]
[null,null,null,null,null,null,null,null,null,null,null,null,null,null,null,null,null,null,null,"Pintilie Vlad","Iasi"]
[null,null,null,null,null,null,null,null,null,null,null,null,null,null,null,null,null,null,null,"Pinzar Andrei","Medias"]
[null,null,null,null,null,null,null,null,null,null,null,null,null,null,null,null,null,null,null,"Piper Petru","Luna CJ"]
[null,null,null,null,null,null,null,null,null,null,null,null,null,null,null,null,null,null,null,"Piper Romeo","Luna CJ"]
[null,null,null,null,null,null,null,null,null,null,null,null,null,null,null,null,null,null,null,"Pirlea Dorin","Hunedoara"]
[null,null,null,null,null,null,null,null,null,null,null,null,null,null,null,null,null,null,null,"Pirta Sara","Oradea"]
[null,null,null,null,null,null,null,null,null,null,null,null,null,null,null,null,null,null,null,"Pirvanescu Daniel","Bucuresti"]
[null,null,null,null,null,null,null,null,null,null,null,null,null,null,null,null,null,null,null,"Pirvu Marian","Caracal"]
[null,null,null,null,null,null,null,null,null,null,null,null,null,null,null,null,null,null,null,"Piscoiu Viorel","Buzias"]
[null,null,null,null,null,null,null,null,null,null,null,null,null,null,null,null,null,null,null,"Pisica Fanica","Iasi"]
[null,null,null,null,null,null,null,null,null,null,null,null,null,null,null,null,null,null,null,"Pislari Ion","Moldova-Taraclia"]
[null,null,null,null,null,null,null,null,null,null,null,null,null,null,null,null,null,null,null,"Pislari Nicolae","Moldova-Drochia"]
[null,null,null,null,null,null,null,null,null,null,null,null,null,null,null,null,null,null,null,"Pitac Ovidiu","Brasov"]
[null,null,null,null,null,null,null,null,null,null,null,null,null,null,null,null,null,null,null,"Pizlaru Ionel","Focsani"]
[null,null,null,null,null,null,null,null,null,null,null,null,null,null,null,null,null,null,null,"Plaias Krisztian","Targu Mures"]
[null,null,null,null,null,null,null,null,null,null,null,null,null,null,null,null,null,null,null,"Plaiasu Ion","Plopeni"]
[null,null,null,null,null,null,null,null,null,null,null,null,null,null,null,null,null,null,null,"Plamada Iulian","Putna"]
[null,null,null,null,null,null,null,null,null,null,null,null,null,null,null,null,null,null,null,"Plamada Lucian","Iasi"]
[null,null,null,null,null,null,null,null,null,null,null,null,null,null,null,null,null,null,null,"Plesa Sorin","Targoviste"]
[null,null,null,null,null,null,null,null,null,null,null,null,null,null,null,null,null,null,null,"Plesca Andrei","Vicovu de Sus"]
[null,null,null,null,null,null,null,null,null,null,null,null,null,null,null,null,null,null,null,"Plesca Ionel","Vicovu de Jos"]
[null,null,null,null,null,null,null,null,null,null,null,null,null,null,null,null,null,null,null,"Plescan Catalin","Galati"]
[null,null,null,null,null,null,null,null,null,null,null,null,null,null,null,null,null,null,null,"Plesoianu Stefan","Constanta"]
[null,null,null,null,null,null,null,null,null,null,null,null,null,null,null,null,null,null,null,"Pletea Mihaela","Sibiu"]
[null,null,null,null,null,null,null,null,null,null,null,null,null,null,null,null,null,null,null,"Pletea Octavian","Sibiu"]
[null,null,null,null,null,null,null,null,null,null,null,null,null,null,null,null,null,null,null,"Ploia Marius","Sibiu"]
[null,null,null,null,null,null,null,null,null,null,null,null,null,null,null,null,null,null,null,"Plopisan Liviu","Sighetu Marmatiei"]
[null,null,null,null,null,null,null,null,null,null,null,null,null,null,null,null,null,null,null,"Ploscar Claudiu","Cluj Napoca"]
[null,null,null,null,null,null,null,null,null,null,null,null,null,null,null,null,null,null,null,"Plumb Gabriel","Comarnic"]
[null,null,null,null,null,null,null,null,null,null,null,null,null,null,null,null,null,null,null,"Pnacsek Alex","Lunca Muresului"]
[null,null,null,null,null,null,null,null,null,null,null,null,null,null,null,null,null,null,null,"Podar Horatiu","Turda"]
[null,null,null,null,null,null,null,null,null,null,null,null,null,null,null,null,null,null,null,"Podean Ion","Foeni"]
[null,null,null,null,null,null,null,null,null,null,null,null,null,null,null,null,null,null,null,"Podhora Paul","Alesd"]
[null,null,null,null,null,null,null,null,null,null,null,null,null,null,null,null,null,null,null,"Podrumar Casian","Arad"]
[null,null,null,null,null,null,null,null,null,null,null,null,null,null,null,null,null,null,null,"Poenariu Darius","Arad"]
[null,null,null,null,null,null,null,null,null,null,null,null,null,null,null,null,null,null,null,"Pogorevici Mircea","Gura Humorului"]
[null,null,null,null,null,null,null,null,null,null,null,null,null,null,null,null,null,null,null,"Pojoni Oliver","Orastie"]
[null,null,null,null,null,null,null,null,null,null,null,null,null,null,null,null,null,null,null,"Polen Costin","Comarnic"]
[null,null,null,null,null,null,null,null,null,null,null,null,null,null,null,null,null,null,null,"Polocoser Cristian","Suceava"]
[null,null,null,null,null,null,null,null,null,null,null,null,null,null,null,null,null,null,null,"Polotca Stefan","Sangeorgiu de Padure"]
[null,null,null,null,null,null,null,null,null,null,null,null,null,null,null,null,null,null,null,"Pop Alexandru","Bucuresti"]
[null,null,null,null,null,null,null,null,null,null,null,null,null,null,null,null,null,null,null,"Pop Alexandru","Viseu"]
[null,null,null,null,null,null,null,null,null,null,null,null,null,null,null,null,null,null,null,"Pop Alexia","Lugoj"]
[null,null,null,null,null,null,null,null,null,null,null,null,null,null,null,null,null,null,null,"Pop Claudiu","Arad"]
[null,null,null,null,null,null,null,null,null,null,null,null,null,null,null,null,null,null,null,"Pop Cornel Nicusor","Baia Mare"]
[null,null,null,null,null,null,null,null,null,null,null,null,null,null,null,null,null,null,null,"Pop Crina Julieta","Cluj Napoca"]
[null,null,null,null,null,null,null,null,null,null,null,null,null,null,null,null,null,null,null,"Pop Daniel","Cluj Napoca"]
[null,null,null,null,null,null,null,null,null,null,null,null,null,null,null,null,null,null,null,"Pop Daniel Ghe","Cluj Napoca"]
[null,null,null,null,null,null,null,null,null,null,null,null,null,null,null,null,null,null,null,"Pop Danut","Dej"]
[null,null,null,null,null,null,null,null,null,null,null,null,null,null,null,null,null,null,null,"Pop Dumitru","Oradea"]
[null,null,null,null,null,null,null,null,null,null,null,null,null,null,null,null,null,null,null,"Pop Eugen","Bistrita"]
[null,null,null,null,null,null,null,null,null,null,null,null,null,null,null,null,null,null,null,"Pop Florian Iustin","Constanta"]
[null,null,null,null,null,null,null,null,null,null,null,null,null,null,null,null,null,null,null,"Pop Gabriel","Oradea"]
[null,null,null,null,null,null,null,null,null,null,null,null,null,null,null,null,null,null,null,"Pop Gabriel","Eforie"]
[null,null,null,null,null,null,null,null,null,null,null,null,null,null,null,null,null,null,null,"Pop Ioan","Baia Mare"]
[null,null,null,null,null,null,null,null,null,null,null,null,null,null,null,null,null,null,null,"Pop Ioan","Giroc"]
[null,null,null,null,null,null,null,null,null,null,null,null,null,null,null,null,null,null,null,"Pop Ioan Florin","Lugoj"]
[null,null,null,null,null,null,null,null,null,null,null,null,null,null,null,null,null,null,null,"Pop Ioan Sorin","Dej"]
[null,null,null,null,null,null,null,null,null,null,null,null,null,null,null,null,null,null,null,"Pop Nicolae","Orastie"]
[null,null,null,null,null,null,null,null,null,null,null,null,null,null,null,null,null,null,null,"Pop Norbert","Cluj Napoca"]
[null,null,null,null,null,null,null,null,null,null,null,null,null,null,null,null,null,null,null,"Pop Raul","Zalau"]
[null,null,null,null,null,null,null,null,null,null,null,null,null,null,null,null,null,null,null,"Pop Sorin","Bistrita"]
[null,null,null,null,null,null,null,null,null,null,null,null,null,null,null,null,null,null,null,"Pop Stefan","Zalau"]
[null,null,null,null,null,null,null,null,null,null,null,null,null,null,null,null,null,null,null,"Pop Stefan","Bistrita"]
[null,null,null,null,null,null,null,null,null,null,null,null,null,null,null,null,null,null,null,"Pop Victor","Bucuresti"]
[null,null,null,null,null,null,null,null,null,null,null,null,null,null,null,null,null,null,null,"Pop Virgil","Cluj Napoca"]
[null,null,null,null,null,null,null,null,null,null,null,null,null,null,null,null,null,null,null,"Pop Vlad","Viseu"]
[null,null,null,null,null,null,null,null,null,null,null,null,null,null,null,null,null,null,null,"Pop Zoltan","Dej"]
[null,null,null,null,null,null,null,null,null,null,null,null,null,null,null,null,null,null,null,"Popa Alexandra","Sibiu"]
[null,null,null,null,null,null,null,null,null,null,null,null,null,null,null,null,null,null,null,"Popa Alexandru Arthur","Arad"]
[null,null,null,null,null,null,null,null,null,null,null,null,null,null,null,null,null,null,null,"Popa Alin","Drobeta Tr Severin"]
[null,null,null,null,null,null,null,null,null,null,null,null,null,null,null,null,null,null,null,"Popa Alin Andrei","Bacau"]
[null,null,null,null,null,null,null,null,null,null,null,null,null,null,null,null,null,null,null,"Popa Andrei Mihai","Ploiesti"]
[null,null,null,null,null,null,null,null,null,null,null,null,null,null,null,null,null,null,null,"Popa Bogdan","Bucuresti"]
[null,null,null,null,null,null,null,null,null,null,null,null,null,null,null,null,null,null,null,"Popa Catalin","Roman"]
[null,null,null,null,null,null,null,null,null,null,null,null,null,null,null,null,null,null,null,"Popa Constantin","Moldova"]
[null,null,null,null,null,null,null,null,null,null,null,null,null,null,null,null,null,null,null,"Popa Cosmin","Lipova"]
[null,null,null,null,null,null,null,null,null,null,null,null,null,null,null,null,null,null,null,"Popa Cristian Gabriel","Craiova"]
[null,null,null,null,null,null,null,null,null,null,null,null,null,null,null,null,null,null,null,"Popa David","Aiud"]
[null,null,null,null,null,null,null,null,null,null,null,null,null,null,null,null,null,null,null,"Popa Florin","Medias"]
[null,null,null,null,null,null,null,null,null,null,null,null,null,null,null,null,null,null,null,"Popa Florin","Oradea"]
[null,null,null,null,null,null,null,null,null,null,null,null,null,null,null,null,null,null,null,"Popa Gelu","Focsani"]
[null,null,null,null,null,null,null,null,null,null,null,null,null,null,null,null,null,null,null,"Popa Gheorghe","Brasov"]
[null,null,null,null,null,null,null,null,null,null,null,null,null,null,null,null,null,null,null,"Popa Ionut","Moreni"]
[null,null,null,null,null,null,null,null,null,null,null,null,null,null,null,null,null,null,null,"Popa Luca","Floresti"]
[null,null,null,null,null,null,null,null,null,null,null,null,null,null,null,null,null,null,null,"Popa Marius","Brasov"]
[null,null,null,null,null,null,null,null,null,null,null,null,null,null,null,null,null,null,null,"Popa Mihai","Sibiu"]
[null,null,null,null,null,null,null,null,null,null,null,null,null,null,null,null,null,null,null,"Popa Mihai Claudiu","Bucuresti"]
[null,null,null,null,null,null,null,null,null,null,null,null,null,null,null,null,null,null,null,"Popa Mircea","Brasov"]
[null,null,null,null,null,null,null,null,null,null,null,null,null,null,null,null,null,null,null,"Popa Nicolae","Cergau Mare"]
[null,null,null,null,null,null,null,null,null,null,null,null,null,null,null,null,null,null,null,"Popa Paul","Sibiu"]
[null,null,null,null,null,null,null,null,null,null,null,null,null,null,null,null,null,null,null,"Popa Radu","Deva"]
[null,null,null,null,null,null,null,null,null,null,null,null,null,null,null,null,null,null,null,"Popa Robert","Targoviste"]
[null,null,null,null,null,null,null,null,null,null,null,null,null,null,null,null,null,null,null,"Popa Romica","Pascani"]
[null,null,null,null,null,null,null,null,null,null,null,null,null,null,null,null,null,null,null,"Popa Vlad","Piatra Neamt"]
[null,null,null,null,null,null,null,null,null,null,null,null,null,null,null,null,null,null,null,"Popa Yannis","Pitesti"]
[null,null,null,null,null,null,null,null,null,null,null,null,null,null,null,null,null,null,null,"Popescu Adrian","Dumbravita"]
[null,null,null,null,null,null,null,null,null,null,null,null,null,null,null,null,null,null,null,"Popescu Adrian","Pitesti"]
[null,null,null,null,null,null,null,null,null,null,null,null,null,null,null,null,null,null,null,"Popescu Alex","Hateg"]
[null,null,null,null,null,null,null,null,null,null,null,null,null,null,null,null,null,null,null,"Popescu Andrei","Constanta"]
[null,null,null,null,null,null,null,null,null,null,null,null,null,null,null,null,null,null,null,"Popescu Andrei","Curtea de Arges"]
[null,null,null,null,null,null,null,null,null,null,null,null,null,null,null,null,null,null,null,"Popescu Apreotesei Mihai","Straoane"]
[null,null,null,null,null,null,null,null,null,null,null,null,null,null,null,null,null,null,null,"Popescu Cristina","Boldesti Scaeni"]
[null,null,null,null,null,null,null,null,null,null,null,null,null,null,null,null,null,null,null,"Popescu Dan","Craiova"]
[null,null,null,null,null,null,null,null,null,null,null,null,null,null,null,null,null,null,null,"Popescu Eugen","Bucuresti"]
[null,null,null,null,null,null,null,null,null,null,null,null,null,null,null,null,null,null,null,"Popescu Florian Catalin","Bucuresti"]
[null,null,null,null,null,null,null,null,null,null,null,null,null,null,null,null,null,null,null,"Popescu Horia","Sinaia"]
[null,null,null,null,null,null,null,null,null,null,null,null,null,null,null,null,null,null,null,"Popescu Ionut","Bucuresti"]
[null,null,null,null,null,null,null,null,null,null,null,null,null,null,null,null,null,null,null,"Popescu Manuela Camelia","Ramnicu Valcea"]
[null,null,null,null,null,null,null,null,null,null,null,null,null,null,null,null,null,null,null,"Popescu Mariana","Radauti"]
[null,null,null,null,null,null,null,null,null,null,null,null,null,null,null,null,null,null,null,"Popescu Marius","Suceava"]
[null,null,null,null,null,null,null,null,null,null,null,null,null,null,null,null,null,null,null,"Popescu Matei","Alexandria"]
[null,null,null,null,null,null,null,null,null,null,null,null,null,null,null,null,null,null,null,"Popescu Petre","Bucuresti"]
[null,null,null,null,null,null,null,null,null,null,null,null,null,null,null,null,null,null,null,"Popescu Radu","Arad"]
[null,null,null,null,null,null,null,null,null,null,null,null,null,null,null,null,null,null,null,"Popescu Razvan","Dumbravita"]
[null,null,null,null,null,null,null,null,null,null,null,null,null,null,null,null,null,null,null,"Popescu Remus","Ramnicu Valcea"]
[null,null,null,null,null,null,null,null,null,null,null,null,null,null,null,null,null,null,null,"Popescu Theo","Bucuresti"]
[null,null,null,null,null,null,null,null,null,null,null,null,null,null,null,null,null,null,null,"Popescu Tiberiu","Ploiesti"]
[null,null,null,null,null,null,null,null,null,null,null,null,null,null,null,null,null,null,null,"Popescu Tudor","Cluj Napoca"]
[null,null,null,null,null,null,null,null,null,null,null,null,null,null,null,null,null,null,null,"Popet Doru","Timisoara"]
[null,null,null,null,null,null,null,null,null,null,null,null,null,null,null,null,null,null,null,"Popoiu Ion","Motaieni"]
[null,null,null,null,null,null,null,null,null,null,null,null,null,null,null,null,null,null,null,"Popov Alexandr","Moldova-Balti"]
[null,null,null,null,null,null,null,null,null,null,null,null,null,null,null,null,null,null,null,"Popovici Mihai","Bucuresti"]
[null,null,null,null,null,null,null,null,null,null,null,null,null,null,null,null,null,null,null,"Popovici Mircea","Caracal"]
[null,null,null,null,null,null,null,null,null,null,null,null,null,null,null,null,null,null,null,"Popovici Rares Andrei","Brasov"]
[null,null,null,null,null,null,null,null,null,null,null,null,null,null,null,null,null,null,null,"Popovici Robert Gheorghe","Petrosani"]
[null,null,null,null,null,null,null,null,null,null,null,null,null,null,null,null,null,null,null,"Popute Remus","Oradea"]
[null,null,null,null,null,null,null,null,null,null,null,null,null,null,null,null,null,null,null,"Poraico Xenia","Moldova-Balti"]
[null,null,null,null,null,null,null,null,null,null,null,null,null,null,null,null,null,null,null,"Porcariu Gabriel","Barlad"]
[null,null,null,null,null,null,null,null,null,null,null,null,null,null,null,null,null,null,null,"Porojan Florin","Bucuresti"]
[null,null,null,null,null,null,null,null,null,null,null,null,null,null,null,null,null,null,null,"Portase Daria","Galati"]
[null,null,null,null,null,null,null,null,null,null,null,null,null,null,null,null,null,null,null,"Portik Erno","Hodosa"]
[null,null,null,null,null,null,null,null,null,null,null,null,null,null,null,null,null,null,null,"Portik Matyas","Miercurea Ciuc"]
[null,null,null,null,null,null,null,null,null,null,null,null,null,null,null,null,null,null,null,"Porumb Alexandru","Sibiu"]
[null,null,null,null,null,null,null,null,null,null,null,null,null,null,null,null,null,null,null,"Postelnicu Ciprian","Tecuci"]
[null,null,null,null,null,null,null,null,null,null,null,null,null,null,null,null,null,null,null,"Postelnicu Mihai","Sibiu"]
[null,null,null,null,null,null,null,null,null,null,null,null,null,null,null,null,null,null,null,"Postole Aurel","Buzau"]
[null,null,null,null,null,null,null,null,null,null,null,null,null,null,null,null,null,null,null,"Postole Luca","Buzau"]
[null,null,null,null,null,null,null,null,null,null,null,null,null,null,null,null,null,null,null,"Potarniche Bianca","Buzau"]
[null,null,null,null,null,null,null,null,null,null,null,null,null,null,null,null,null,null,null,"Potlog Nicolae","Viseu"]
[null,null,null,null,null,null,null,null,null,null,null,null,null,null,null,null,null,null,null,"Pralea Constantin","Alba Iulia"]
[null,null,null,null,null,null,null,null,null,null,null,null,null,null,null,null,null,null,null,"Pralea David Constantin","Alba Iulia"]
[null,null,null,null,null,null,null,null,null,null,null,null,null,null,null,null,null,null,null,"Pralea Eric","Vatra Dornei"]
[null,null,null,null,null,null,null,null,null,null,null,null,null,null,null,null,null,null,null,"Pralea Marius Dan","Botosani"]
[null,null,null,null,null,null,null,null,null,null,null,null,null,null,null,null,null,null,null,"Preda Antonia","Bals"]
[null,null,null,null,null,null,null,null,null,null,null,null,null,null,null,null,null,null,null,"Preda Codrin","Piatra Neamt"]
[null,null,null,null,null,null,null,null,null,null,null,null,null,null,null,null,null,null,null,"Preda Filip","Bucuresti"]
[null,null,null,null,null,null,null,null,null,null,null,null,null,null,null,null,null,null,null,"Preda Ion","Targoviste"]
[null,null,null,null,null,null,null,null,null,null,null,null,null,null,null,null,null,null,null,"Preda Leo","Targoviste"]
[null,null,null,null,null,null,null,null,null,null,null,null,null,null,null,null,null,null,null,"Preda Mark","Slatina"]
[null,null,null,null,null,null,null,null,null,null,null,null,null,null,null,null,null,null,null,"Preda Rares","Bals"]
[null,null,null,null,null,null,null,null,null,null,null,null,null,null,null,null,null,null,null,"Predoi Bogdan","Rosiori de Vede"]
[null,null,null,null,null,null,null,null,null,null,null,null,null,null,null,null,null,null,null,"Predus Florin Catalin","Dabuleni"]
[null,null,null,null,null,null,null,null,null,null,null,null,null,null,null,null,null,null,null,"Predutoiu Andrei","Pitesti"]
[null,null,null,null,null,null,null,null,null,null,null,null,null,null,null,null,null,null,null,"Pribeagu Bianca","Pitesti"]
[null,null,null,null,null,null,null,null,null,null,null,null,null,null,null,null,null,null,null,"Pribeagu Sebastian","Pitesti"]
[null,null,null,null,null,null,null,null,null,null,null,null,null,null,null,null,null,null,null,"Pricop Bianca Ivona","Harlau"]
[null,null,null,null,null,null,null,null,null,null,null,null,null,null,null,null,null,null,null,"Pricop Lucian","Stolniceni"]
[null,null,null,null,null,null,null,null,null,null,null,null,null,null,null,null,null,null,null,"Prisacaru Razvan","Iasi"]
[null,null,null,null,null,null,null,null,null,null,null,null,null,null,null,null,null,null,null,"Prisecariu Darius","Moinesti"]
[null,null,null,null,null,null,null,null,null,null,null,null,null,null,null,null,null,null,null,"Pristavu Bogdan Constantin","Iasi"]
[null,null,null,null,null,null,null,null,null,null,null,null,null,null,null,null,null,null,null,"Prodan Alexandru","Tarnaveni"]
[null,null,null,null,null,null,null,null,null,null,null,null,null,null,null,null,null,null,null,"Prodan Daniel","Campia Turzii"]
[null,null,null,null,null,null,null,null,null,null,null,null,null,null,null,null,null,null,null,"Prodan Daniel","Lunca Muresului"]
[null,null,null,null,null,null,null,null,null,null,null,null,null,null,null,null,null,null,null,"Prodan Tiberiu","Tarnaveni"]
[null,null,null,null,null,null,null,null,null,null,null,null,null,null,null,null,null,null,null,"Profir Alexandru","Tecuci"]
[null,null,null,null,null,null,null,null,null,null,null,null,null,null,null,null,null,null,null,"Profiroiu Dorel","Sfantu Gheorghe"]
[null,null,null,null,null,null,null,null,null,null,null,null,null,null,null,null,null,null,null,"Pruna Cristian","Ploiesti"]
[null,null,null,null,null,null,null,null,null,null,null,null,null,null,null,null,null,null,null,"Pruna Stefan Cristian","Pitesti"]
[null,null,null,null,null,null,null,null,null,null,null,null,null,null,null,null,null,null,null,"Pufic Darko","Kladovo Serbia"]
[null,null,null,null,null,null,null,null,null,null,null,null,null,null,null,null,null,null,null,"Pufulete Andrei Razvan","Bucuresti"]
[null,null,null,null,null,null,null,null,null,null,null,null,null,null,null,null,null,null,null,"Puia Darius","Stremt"]
[null,null,null,null,null,null,null,null,null,null,null,null,null,null,null,null,null,null,null,"Puisoru Victor","Bucuresti"]
[null,null,null,null,null,null,null,null,null,null,null,null,null,null,null,null,null,null,null,"Puiu Andrei","Botosani"]
[null,null,null,null,null,null,null,null,null,null,null,null,null,null,null,null,null,null,null,"Puiu Viorel","Moldova-Balti"]
[null,null,null,null,null,null,null,null,null,null,null,null,null,null,null,null,null,null,null,"Punga Ovidiu","Bucuresti"]
[null,null,null,null,null,null,null,null,null,null,null,null,null,null,null,null,null,null,null,"Purcarea Radu","Constanta"]
[null,null,null,null,null,null,null,null,null,null,null,null,null,null,null,null,null,null,null,"Purendea Olimpia","Bucuresti"]
[null,null,null,null,null,null,null,null,null,null,null,null,null,null,null,null,null,null,null,"Pushkarevska Masha","Odesa"]
[null,null,null,null,null,null,null,null,null,null,null,null,null,null,null,null,null,null,null,"Puskas Attila","Sovata"]
[null,null,null,null,null,null,null,null,null,null,null,null,null,null,null,null,null,null,null,"Pustianu Raul","Lunca Muresului"]
[null,null,null,null,null,null,null,null,null,null,null,null,null,null,null,null,null,null,null,"Put Gabriel","Oravita"]
[null,null,null,null,null,null,null,null,null,null,null,null,null,null,null,null,null,null,null,"Putineanu Gabriel","Alexandria"]
[null,null,null,null,null,null,null,null,null,null,null,null,null,null,null,null,null,null,null,"Putnik Tiberiu","Varset"]
[null,null,null,null,null,null,null,null,null,null,null,null,null,null,null,null,null,null,null,"Racean Claudiu","Sibiu"]
[null,null,null,null,null,null,null,null,null,null,null,null,null,null,null,null,null,null,null,"Racic Pera","Zrenjanin"]
[null,null,null,null,null,null,null,null,null,null,null,null,null,null,null,null,null,null,null,"Racz Peter","Targu Mures"]
[null,null,null,null,null,null,null,null,null,null,null,null,null,null,null,null,null,null,null,"Rad Solomon","Viseu"]
[null,null,null,null,null,null,null,null,null,null,null,null,null,null,null,null,null,null,null,"Rada Matei","Oradea"]
[null,null,null,null,null,null,null,null,null,null,null,null,null,null,null,null,null,null,null,"Radief Cristian Dan","Constanta"]
[null,null,null,null,null,null,null,null,null,null,null,null,null,null,null,null,null,null,null,"Radoi Ianis","Alexandria"]
[null,null,null,null,null,null,null,null,null,null,null,null,null,null,null,null,null,null,null,"Radoi Marius","Bals"]
[null,null,null,null,null,null,null,null,null,null,null,null,null,null,null,null,null,null,null,"Radovan Dusan","Timisoara"]
[null,null,null,null,null,null,null,null,null,null,null,null,null,null,null,null,null,null,null,"Radovan Goran","Timisoara"]
[null,null,null,null,null,null,null,null,null,null,null,null,null,null,null,null,null,null,null,"Radovan Radu","Sannicolau Mare"]
[null,null,null,null,null,null,null,null,null,null,null,null,null,null,null,null,null,null,null,"Radu Adrian","Ploiesti"]
[null,null,null,null,null,null,null,null,null,null,null,null,null,null,null,null,null,null,null,"Radu Albert","Brasov"]
[null,null,null,null,null,null,null,null,null,null,null,null,null,null,null,null,null,null,null,"Radu Aurel","Bucuresti"]
[null,null,null,null,null,null,null,null,null,null,null,null,null,null,null,null,null,null,null,"Radu Constantin","Sibiu"]
[null,null,null,null,null,null,null,null,null,null,null,null,null,null,null,null,null,null,null,"Radu Corvin","Sibiu"]
[null,null,null,null,null,null,null,null,null,null,null,null,null,null,null,null,null,null,null,"Radu Cosmin","Ludus"]
[null,null,null,null,null,null,null,null,null,null,null,null,null,null,null,null,null,null,null,"Radu Daniel","Bucuresti"]
[null,null,null,null,null,null,null,null,null,null,null,null,null,null,null,null,null,null,null,"Radu Eric","Brasov"]
[null,null,null,null,null,null,null,null,null,null,null,null,null,null,null,null,null,null,null,"Radu Florin","Ploiesti"]
[null,null,null,null,null,null,null,null,null,null,null,null,null,null,null,null,null,null,null,"Radu Gabriel Bogdan","Sibiu"]
[null,null,null,null,null,null,null,null,null,null,null,null,null,null,null,null,null,null,null,"Radu George","Targoviste"]
[null,null,null,null,null,null,null,null,null,null,null,null,null,null,null,null,null,null,null,"Radu Lucian","Bucuresti"]
[null,null,null,null,null,null,null,null,null,null,null,null,null,null,null,null,null,null,null,"Radu Mihaela","Targoviste"]
[null,null,null,null,null,null,null,null,null,null,null,null,null,null,null,null,null,null,null,"Raducan Florian","Calarasi"]
[null,null,null,null,null,null,null,null,null,null,null,null,null,null,null,null,null,null,null,"Raducan Ionut","Iasi"]
[null,null,null,null,null,null,null,null,null,null,null,null,null,null,null,null,null,null,null,"Raducanu Kevin Ionut","Targoviste"]
[null,null,null,null,null,null,null,null,null,null,null,null,null,null,null,null,null,null,null,"Raducioiu Daniel","Bucuresti"]
[null,null,null,null,null,null,null,null,null,null,null,null,null,null,null,null,null,null,null,"Radulescu Catalin","Ploiesti"]
[null,null,null,null,null,null,null,null,null,null,null,null,null,null,null,null,null,null,null,"Radulescu Dan","Bucuresti"]
[null,null,null,null,null,null,null,null,null,null,null,null,null,null,null,null,null,null,null,"Radulescu Eugeniu","Turda"]
[null,null,null,null,null,null,null,null,null,null,null,null,null,null,null,null,null,null,null,"Radulescu Marius","Iasi"]
[null,null,null,null,null,null,null,null,null,null,null,null,null,null,null,null,null,null,null,"Raduly Marius","Sfantu Gheorghe"]
[null,null,null,null,null,null,null,null,null,null,null,null,null,null,null,null,null,null,null,"Raduly Ovidiu","Fantanele"]
[null,null,null,null,null,null,null,null,null,null,null,null,null,null,null,null,null,null,null,"Raduta Alexandra","Targoviste"]
[null,null,null,null,null,null,null,null,null,null,null,null,null,null,null,null,null,null,null,"Raduta Luis","Darmanesti"]
[null,null,null,null,null,null,null,null,null,null,null,null,null,null,null,null,null,null,null,"Raicu Ion","Alexandria"]
[null,null,null,null,null,null,null,null,null,null,null,null,null,null,null,null,null,null,null,"Raicu Nicolae","Tulcea"]
[null,null,null,null,null,null,null,null,null,null,null,null,null,null,null,null,null,null,null,"Rajic Borislav","Novi Sad"]
[null,null,null,null,null,null,null,null,null,null,null,null,null,null,null,null,null,null,null,"Rajic Dalibor","Novi Sad"]
[null,null,null,null,null,null,null,null,null,null,null,null,null,null,null,null,null,null,null,"Rajovic Zoran","Pancevo"]
[null,null,null,null,null,null,null,null,null,null,null,null,null,null,null,null,null,null,null,"Rakosi Adrian","Floresti"]
[null,null,null,null,null,null,null,null,null,null,null,null,null,null,null,null,null,null,null,"Ranca Mihai","Aiud"]
[null,null,null,null,null,null,null,null,null,null,null,null,null,null,null,null,null,null,null,"Rapan Mihai","Bucuresti"]
[null,null,null,null,null,null,null,null,null,null,null,null,null,null,null,null,null,null,null,"Raportaru Viorel","Bucuresti"]
[null,null,null,null,null,null,null,null,null,null,null,null,null,null,null,null,null,null,null,"Rarinca Claudiu","Matca"]
[null,null,null,null,null,null,null,null,null,null,null,null,null,null,null,null,null,null,null,"Rasnoveanu Daniel","Slobozia"]
[null,null,null,null,null,null,null,null,null,null,null,null,null,null,null,null,null,null,null,"Rastau Iustinian","Timisoara"]
[null,null,null,null,null,null,null,null,null,null,null,null,null,null,null,null,null,null,null,"Rastoaca Victor","Bucuresti"]
[null,null,null,null,null,null,null,null,null,null,null,null,null,null,null,null,null,null,null,"Ratiu Adrian","Oradea"]
[null,null,null,null,null,null,null,null,null,null,null,null,null,null,null,null,null,null,null,"Rauh Victor","Moldova-Balti"]
[null,null,null,null,null,null,null,null,null,null,null,null,null,null,null,null,null,null,null,"Rausche Valentin","Tulcea"]
[null,null,null,null,null,null,null,null,null,null,null,null,null,null,null,null,null,null,null,"Rebegea Vasile","Barlad"]
[null,null,null,null,null,null,null,null,null,null,null,null,null,null,null,null,null,null,null,"Rebrisorean Daniel","Cluj Napoca"]
[null,null,null,null,null,null,null,null,null,null,null,null,null,null,null,null,null,null,null,"Redkov Oleksandr","Ucraina"]
[null,null,null,null,null,null,null,null,null,null,null,null,null,null,null,null,null,null,null,"Repede Calin","Cluj Napoca"]
[null,null,null,null,null,null,null,null,null,null,null,null,null,null,null,null,null,null,null,"Retegan Cosmin","Ploiesti"]
[null,null,null,null,null,null,null,null,null,null,null,null,null,null,null,null,null,null,null,"Rezus Oana","Sibiu"]
[null,null,null,null,null,null,null,null,null,null,null,null,null,null,null,null,null,null,null,"Rica Marius","Giroc"]
[null,null,null,null,null,null,null,null,null,null,null,null,null,null,null,null,null,null,null,"Richea Adela","Sibiu"]
[null,null,null,null,null,null,null,null,null,null,null,null,null,null,null,null,null,null,null,"Rifat Bislimi","Alibunar"]
[null,null,null,null,null,null,null,null,null,null,null,null,null,null,null,null,null,null,null,"Ripan Vasile","Targu Mures"]
[null,null,null,null,null,null,null,null,null,null,null,null,null,null,null,null,null,null,null,"Risteiu Paul","Alba Iulia"]
[null,null,null,null,null,null,null,null,null,null,null,null,null,null,null,null,null,null,null,"Ristica Alexandru","Craiova"]
[null,null,null,null,null,null,null,null,null,null,null,null,null,null,null,null,null,null,null,"Rizescu David","Ramnicu Valcea"]
[null,null,null,null,null,null,null,null,null,null,null,null,null,null,null,null,null,null,null,"Roatis Gheorghe","Oradea"]
[null,null,null,null,null,null,null,null,null,null,null,null,null,null,null,null,null,null,null,"Robu Sergiu","Iasi"]
[null,null,null,null,null,null,null,null,null,null,null,null,null,null,null,null,null,null,null,"Roca Claudiu","Satu Mare"]
[null,null,null,null,null,null,null,null,null,null,null,null,null,null,null,null,null,null,null,"Roca Liliana","Tarnaveni"]
[null,null,null,null,null,null,null,null,null,null,null,null,null,null,null,null,null,null,null,"Roghina Cosmin","Sibiu"]
[null,null,null,null,null,null,null,null,null,null,null,null,null,null,null,null,null,null,null,"Rognean Rafael Alex","Oravita"]
[null,null,null,null,null,null,null,null,null,null,null,null,null,null,null,null,null,null,null,"Rogojina Titus","Cosna"]
[null,null,null,null,null,null,null,null,null,null,null,null,null,null,null,null,null,null,null,"Rogoz Nicoleta","Bucuresti"]
[null,null,null,null,null,null,null,null,null,null,null,null,null,null,null,null,null,null,null,"Rojnita Sebastian","Bacau"]
[null,null,null,null,null,null,null,null,null,null,null,null,null,null,null,null,null,null,null,"Roman David","Arad"]
[null,null,null,null,null,null,null,null,null,null,null,null,null,null,null,null,null,null,null,"Roman Iulian","Brasov"]
[null,null,null,null,null,null,null,null,null,null,null,null,null,null,null,null,null,null,null,"Roman Jon","Vlajkovac"]
[null,null,null,null,null,null,null,null,null,null,null,null,null,null,null,null,null,null,null,"Roman Lionel","Vlajkovac"]
[null,null,null,null,null,null,null,null,null,null,null,null,null,null,null,null,null,null,null,"Roman Nesterov","Moldova-Drochia"]
[null,null,null,null,null,null,null,null,null,null,null,null,null,null,null,null,null,null,null,"Roman Ovidiu","Maieru"]
[null,null,null,null,null,null,null,null,null,null,null,null,null,null,null,null,null,null,null,"Roman Raisa","Alexandria"]
[null,null,null,null,null,null,null,null,null,null,null,null,null,null,null,null,null,null,null,"Romanova Daria","Ucraina-Umani"]
[null,null,null,null,null,null,null,null,null,null,null,null,null,null,null,null,null,null,null,"Romascan Victor","Suceava"]
[null,null,null,null,null,null,null,null,null,null,null,null,null,null,null,null,null,null,null,"Ropotan Iulian","Bucuresti"]
[null,null,null,null,null,null,null,null,null,null,null,null,null,null,null,null,null,null,null,"Rosca Adela","Galanesti"]
[null,null,null,null,null,null,null,null,null,null,null,null,null,null,null,null,null,null,null,"Rosca Matei","Vicov"]
[null,null,null,null,null,null,null,null,null,null,null,null,null,null,null,null,null,null,null,"Rosca Niculai","Galanesti"]
[null,null,null,null,null,null,null,null,null,null,null,null,null,null,null,null,null,null,null,"Rosenbaum Vladimir","Timisoara"]
[null,null,null,null,null,null,null,null,null,null,null,null,null,null,null,null,null,null,null,"Rosoga Ana","Constanta"]
[null,null,null,null,null,null,null,null,null,null,null,null,null,null,null,null,null,null,null,"Rosoga Liviu","Cluj Napoca"]
[null,null,null,null,null,null,null,null,null,null,null,null,null,null,null,null,null,null,null,"Rosu David Mugurel","Comanesti"]
[null,null,null,null,null,null,null,null,null,null,null,null,null,null,null,null,null,null,null,"Rosu Gabriel","Comanesti"]
[null,null,null,null,null,null,null,null,null,null,null,null,null,null,null,null,null,null,null,"Rosu Ioan","Sibiu"]
[null,null,null,null,null,null,null,null,null,null,null,null,null,null,null,null,null,null,null,"Rosu Ionut","Bucuresti"]
[null,null,null,null,null,null,null,null,null,null,null,null,null,null,null,null,null,null,null,"Rosu Victor","Nasaud"]
[null,null,null,null,null,null,null,null,null,null,null,null,null,null,null,null,null,null,null,"Rotari Mihai","Moldova-Chisinau"]
[null,null,null,null,null,null,null,null,null,null,null,null,null,null,null,null,null,null,null,"Rotariu Andrei","Sibiu"]
[null,null,null,null,null,null,null,null,null,null,null,null,null,null,null,null,null,null,null,"Rotaru Ianis","Galati"]
[null,null,null,null,null,null,null,null,null,null,null,null,null,null,null,null,null,null,null,"Roxin Andrei","Arad"]
[null,null,null,null,null,null,null,null,null,null,null,null,null,null,null,null,null,null,null,"Roye Itzik","Israel"]
[null,null,null,null,null,null,null,null,null,null,null,null,null,null,null,null,null,null,null,"Rudy Vrany","Targu Jiu"]
[null,null,null,null,null,null,null,null,null,null,null,null,null,null,null,null,null,null,null,"Rugina Adrian","Botosani"]
[null,null,null,null,null,null,null,null,null,null,null,null,null,null,null,null,null,null,null,"Rujan Paul Adrian","Braila"]
[null,null,null,null,null,null,null,null,null,null,null,null,null,null,null,null,null,null,null,"Rujoiu Teodor","Azuga"]
[null,null,null,null,null,null,null,null,null,null,null,null,null,null,null,null,null,null,null,"Rus Mihai","Bistrita"]
[null,null,null,null,null,null,null,null,null,null,null,null,null,null,null,null,null,null,null,"Rus Partenie","Santimbru AB"]
[null,null,null,null,null,null,null,null,null,null,null,null,null,null,null,null,null,null,null,"Rus Teofil","Jibou"]
[null,null,null,null,null,null,null,null,null,null,null,null,null,null,null,null,null,null,null,"Rus Traian","Cluj Napoca"]
[null,null,null,null,null,null,null,null,null,null,null,null,null,null,null,null,null,null,null,"Rusanovschi Andrei","Moldova-Edinet"]
[null,null,null,null,null,null,null,null,null,null,null,null,null,null,null,null,null,null,null,"Rusea Gheorghe","Breaza"]
[null,null,null,null,null,null,null,null,null,null,null,null,null,null,null,null,null,null,null,"Rusin Iaroslav","Ucraina"]
[null,null,null,null,null,null,null,null,null,null,null,null,null,null,null,null,null,null,null,"Ruslan Borsci","Moldova-Drochia"]
[null,null,null,null,null,null,null,null,null,null,null,null,null,null,null,null,null,null,null,"Rusti Catalin","Suceava"]
[null,null,null,null,null,null,null,null,null,null,null,null,null,null,null,null,null,null,null,"Rusti Denis","Arad"]
[null,null,null,null,null,null,null,null,null,null,null,null,null,null,null,null,null,null,null,"Rusti Radu Vasile","Arad"]
[null,null,null,null,null,null,null,null,null,null,null,null,null,null,null,null,null,null,null,"Rusu Adrian","Aiud"]
[null,null,null,null,null,null,null,null,null,null,null,null,null,null,null,null,null,null,null,"Rusu Alin Adrian","Bacau"]
[null,null,null,null,null,null,null,null,null,null,null,null,null,null,null,null,null,null,null,"Rusu Anatol","Moldova-Briceni"]
[null,null,null,null,null,null,null,null,null,null,null,null,null,null,null,null,null,null,null,"Rusu Andrei","Cluj Napoca"]
[null,null,null,null,null,null,null,null,null,null,null,null,null,null,null,null,null,null,null,"Rusu Andrei","Strejnicu"]
[null,null,null,null,null,null,null,null,null,null,null,null,null,null,null,null,null,null,null,"Rusu Bogdan","Aiud"]
[null,null,null,null,null,null,null,null,null,null,null,null,null,null,null,null,null,null,null,"Rusu Bogdan","Cluj Napoca"]
[null,null,null,null,null,null,null,null,null,null,null,null,null,null,null,null,null,null,null,"Rusu Ion","Vaslui"]
[null,null,null,null,null,null,null,null,null,null,null,null,null,null,null,null,null,null,null,"Rusu Lucian","Suceava"]
[null,null,null,null,null,null,null,null,null,null,null,null,null,null,null,null,null,null,null,"Rusu Lucian","Iasi"]
[null,null,null,null,null,null,null,null,null,null,null,null,null,null,null,null,null,null,null,"Rusu Paul Iulian","Bilca"]
[null,null,null,null,null,null,null,null,null,null,null,null,null,null,null,null,null,null,null,"Rusu Stefan","Deva"]
[null,null,null,null,null,null,null,null,null,null,null,null,null,null,null,null,null,null,null,"Rusu Tudor","Suceava"]
[null,null,null,null,null,null,null,null,null,null,null,null,null,null,null,null,null,null,null,"Sabadas Dinu","Oradea"]
[null,null,null,null,null,null,null,null,null,null,null,null,null,null,null,null,null,null,null,"Sabau Alex Aurelian","Tarnaveni"]
[null,null,null,null,null,null,null,null,null,null,null,null,null,null,null,null,null,null,null,"Sabau Aurel","Tarnaveni"]
[null,null,null,null,null,null,null,null,null,null,null,null,null,null,null,null,null,null,null,"Sabau Claudiu","Bistrita"]
[null,null,null,null,null,null,null,null,null,null,null,null,null,null,null,null,null,null,null,"Sabau Gheorghe","Tarnaveni"]
[null,null,null,null,null,null,null,null,null,null,null,null,null,null,null,null,null,null,null,"Sabau Liviu","Oradea"]
[null,null,null,null,null,null,null,null,null,null,null,null,null,null,null,null,null,null,null,"Sabau Mircea","Tarnaveni"]
[null,null,null,null,null,null,null,null,null,null,null,null,null,null,null,null,null,null,null,"Sabau Radu","Cluj Napoca"]
[null,null,null,null,null,null,null,null,null,null,null,null,null,null,null,null,null,null,null,"Sabo Otto","Berveni"]
[null,null,null,null,null,null,null,null,null,null,null,null,null,null,null,null,null,null,null,"Sabou Edmond","Cluj Napoca"]
[null,null,null,null,null,null,null,null,null,null,null,null,null,null,null,null,null,null,null,"Sacadat Marcel","Ludus"]
[null,null,null,null,null,null,null,null,null,null,null,null,null,null,null,null,null,null,null,"Saceleanu Bogdan","Targu Jiu"]
[null,null,null,null,null,null,null,null,null,null,null,null,null,null,null,null,null,null,null,"Saftoiu Claudiu","Bucuresti"]
[null,null,null,null,null,null,null,null,null,null,null,null,null,null,null,null,null,null,null,"Sagau Damian","Brasov"]
[null,null,null,null,null,null,null,null,null,null,null,null,null,null,null,null,null,null,null,"Sala Eduard","Vizejdia"]
[null,null,null,null,null,null,null,null,null,null,null,null,null,null,null,null,null,null,null,"Salari Mihai","Iasi"]
[null,null,null,null,null,null,null,null,null,null,null,null,null,null,null,null,null,null,null,"Salavastru Petru","Botosani"]
[null,null,null,null,null,null,null,null,null,null,null,null,null,null,null,null,null,null,null,"Salgau Viorel","Barlad"]
[null,null,null,null,null,null,null,null,null,null,null,null,null,null,null,null,null,null,null,"Saloman David","Pitesti"]
[null,null,null,null,null,null,null,null,null,null,null,null,null,null,null,null,null,null,null,"Salvari Marcel","Campulung Mold"]
[null,null,null,null,null,null,null,null,null,null,null,null,null,null,null,null,null,null,null,"Samoila Catalin","Tulcea"]
[null,null,null,null,null,null,null,null,null,null,null,null,null,null,null,null,null,null,null,"Samoila Georgel","Bucuresti"]
[null,null,null,null,null,null,null,null,null,null,null,null,null,null,null,null,null,null,null,"Samsonescu Catalin","Falticeni"]
[null,null,null,null,null,null,null,null,null,null,null,null,null,null,null,null,null,null,null,"Sancu Ianis","Dumbraveni SB"]
[null,null,null,null,null,null,null,null,null,null,null,null,null,null,null,null,null,null,null,"Sandescu Florin","Bucuresti"]
[null,null,null,null,null,null,null,null,null,null,null,null,null,null,null,null,null,null,null,"Sandor Bela","Sfantu Gheorghe"]
[null,null,null,null,null,null,null,null,null,null,null,null,null,null,null,null,null,null,null,"Sandu Adrian","Calarasi"]
[null,null,null,null,null,null,null,null,null,null,null,null,null,null,null,null,null,null,null,"Sandu Adrian","Sfantu Gheorghe"]
[null,null,null,null,null,null,null,null,null,null,null,null,null,null,null,null,null,null,null,"Sandu Andrei","Sibiu"]
[null,null,null,null,null,null,null,null,null,null,null,null,null,null,null,null,null,null,null,"Sandu Antonio","Timisoara"]
[null,null,null,null,null,null,null,null,null,null,null,null,null,null,null,null,null,null,null,"Sandu Danut","Cluj Napoca"]
[null,null,null,null,null,null,null,null,null,null,null,null,null,null,null,null,null,null,null,"Sandu Dragos","Nasaud"]
[null,null,null,null,null,null,null,null,null,null,null,null,null,null,null,null,null,null,null,"Sandu Eugen","Husi"]
[null,null,null,null,null,null,null,null,null,null,null,null,null,null,null,null,null,null,null,"Sandu Gheorghe","Nasaud"]
[null,null,null,null,null,null,null,null,null,null,null,null,null,null,null,null,null,null,null,"Sandu Ionut","Moinesti"]
[null,null,null,null,null,null,null,null,null,null,null,null,null,null,null,null,null,null,null,"Sandu Ionut","Bucuresti"]
[null,null,null,null,null,null,null,null,null,null,null,null,null,null,null,null,null,null,null,"Sandu Marcel","Sighisoara"]
[null,null,null,null,null,null,null,null,null,null,null,null,null,null,null,null,null,null,null,"Sandu Mihai","Braila"]
[null,null,null,null,null,null,null,null,null,null,null,null,null,null,null,null,null,null,null,"Sandu Octav Emilian","Cluj Napoca"]
[null,null,null,null,null,null,null,null,null,null,null,null,null,null,null,null,null,null,null,"Sandu Petru Adrian","Buhusi"]
[null,null,null,null,null,null,null,null,null,null,null,null,null,null,null,null,null,null,null,"Sandu Tudor Daniel","Bucuresti"]
[null,null,null,null,null,null,null,null,null,null,null,null,null,null,null,null,null,null,null,"Santa Robert","Miercurea Ciuc"]
[null,null,null,null,null,null,null,null,null,null,null,null,null,null,null,null,null,null,null,"Sarbu Bogdan","Gligoresti"]
[null,null,null,null,null,null,null,null,null,null,null,null,null,null,null,null,null,null,null,"Sarbu Dan","Ploiesti"]
[null,null,null,null,null,null,null,null,null,null,null,null,null,null,null,null,null,null,null,"Sarca Ovidiu","Marghita"]
[null,null,null,null,null,null,null,null,null,null,null,null,null,null,null,null,null,null,null,"Sarcani Andrei","Targu Mures"]
[null,null,null,null,null,null,null,null,null,null,null,null,null,null,null,null,null,null,null,"Sargu David","Moldova-Balti"]
[null,null,null,null,null,null,null,null,null,null,null,null,null,null,null,null,null,null,null,"Saric Artiom","Moldova-Balti"]
[null,null,null,null,null,null,null,null,null,null,null,null,null,null,null,null,null,null,null,"Saric Leonid","Moldova-Balti"]
[null,null,null,null,null,null,null,null,null,null,null,null,null,null,null,null,null,null,null,"Sarov Daniel","Bucuresti"]
[null,null,null,null,null,null,null,null,null,null,null,null,null,null,null,null,null,null,null,"Sas Gabriel","Timisoara"]
[null,null,null,null,null,null,null,null,null,null,null,null,null,null,null,null,null,null,null,"Sas Tibor","Oradea"]
[null,null,null,null,null,null,null,null,null,null,null,null,null,null,null,null,null,null,null,"Saucan Victor","Timisoara"]
[null,null,null,null,null,null,null,null,null,null,null,null,null,null,null,null,null,null,null,"Sauciuc Cosmin","Barlad"]
[null,null,null,null,null,null,null,null,null,null,null,null,null,null,null,null,null,null,null,"Sauciuc Eduard","Barlad"]
[null,null,null,null,null,null,null,null,null,null,null,null,null,null,null,null,null,null,null,"Sava Andrei","Iasi"]
[null,null,null,null,null,null,null,null,null,null,null,null,null,null,null,null,null,null,null,"Sava Catalin","Iasi"]
[null,null,null,null,null,null,null,null,null,null,null,null,null,null,null,null,null,null,null,"Sava Codrin","Buhusi"]
[null,null,null,null,null,null,null,null,null,null,null,null,null,null,null,null,null,null,null,"Sava Dumitru","Fetesti"]
[null,null,null,null,null,null,null,null,null,null,null,null,null,null,null,null,null,null,null,"Sava Elena","Bucuresti"]
[null,null,null,null,null,null,null,null,null,null,null,null,null,null,null,null,null,null,null,"Sava Harold","Bucuresti"]
[null,null,null,null,null,null,null,null,null,null,null,null,null,null,null,null,null,null,null,"Sava Ionut","Bacau"]
[null,null,null,null,null,null,null,null,null,null,null,null,null,null,null,null,null,null,null,"Sava Sergiu","Cluj Napoca"]
[null,null,null,null,null,null,null,null,null,null,null,null,null,null,null,null,null,null,null,"Sava Sinel","Focsani"]
[null,null,null,null,null,null,null,null,null,null,null,null,null,null,null,null,null,null,null,"Savescu Mihai","Videle"]
[null,null,null,null,null,null,null,null,null,null,null,null,null,null,null,null,null,null,null,"Savin Alexandru","Galati"]
[null,null,null,null,null,null,null,null,null,null,null,null,null,null,null,null,null,null,null,"Savina Dan","Piatra Neamt"]
[null,null,null,null,null,null,null,null,null,null,null,null,null,null,null,null,null,null,null,"Savu Andrei","Targoviste"]
[null,null,null,null,null,null,null,null,null,null,null,null,null,null,null,null,null,null,null,"Savu Cristian","Oradea"]
[null,null,null,null,null,null,null,null,null,null,null,null,null,null,null,null,null,null,null,"Savu George Eusebiu","Vulcana Bai"]
[null,null,null,null,null,null,null,null,null,null,null,null,null,null,null,null,null,null,null,"Savu Maria Cornelia","Bilca"]
[null,null,null,null,null,null,null,null,null,null,null,null,null,null,null,null,null,null,null,"Scalat Luca","Bucuresti"]
[null,null,null,null,null,null,null,null,null,null,null,null,null,null,null,null,null,null,null,"Scanteie Iulian","Buzau"]
[null,null,null,null,null,null,null,null,null,null,null,null,null,null,null,null,null,null,null,"Scerra Ercole","Agnita"]
[null,null,null,null,null,null,null,null,null,null,null,null,null,null,null,null,null,null,null,"Schiau Dan","Hunedoara"]
[null,null,null,null,null,null,null,null,null,null,null,null,null,null,null,null,null,null,null,"Schibinschi Artiom","Bucuresti"]
[null,null,null,null,null,null,null,null,null,null,null,null,null,null,null,null,null,null,null,"Schimbeschi Marian","Tulcea"]
[null,null,null,null,null,null,null,null,null,null,null,null,null,null,null,null,null,null,null,"Schiopulescu Ion","Lugoj"]
[null,null,null,null,null,null,null,null,null,null,null,null,null,null,null,null,null,null,null,"Schnepp Michael","Brasov"]
[null,null,null,null,null,null,null,null,null,null,null,null,null,null,null,null,null,null,null,"Scirlet Stelian","Jaristea"]
[null,null,null,null,null,null,null,null,null,null,null,null,null,null,null,null,null,null,null,"Scripet Ovidiu","Bistrita"]
[null,null,null,null,null,null,null,null,null,null,null,null,null,null,null,null,null,null,null,"Scurtu Nicolae","Bistrita"]
[null,null,null,null,null,null,null,null,null,null,null,null,null,null,null,null,null,null,null,"Scutaru Iulian","Bucuresti"]
[null,null,null,null,null,null,null,null,null,null,null,null,null,null,null,null,null,null,null,"Scutaru Marius","Cernavoda"]
[null,null,null,null,null,null,null,null,null,null,null,null,null,null,null,null,null,null,null,"Sebestyen Tiberiu","Deva"]
[null,null,null,null,null,null,null,null,null,null,null,null,null,null,null,null,null,null,null,"Secareanu Adrian","Barlad"]
[null,null,null,null,null,null,null,null,null,null,null,null,null,null,null,null,null,null,null,"Sechel Vasile","Viseu"]
[null,null,null,null,null,null,null,null,null,null,null,null,null,null,null,null,null,null,null,"Secrii Sergiu","Moldova-Cahul"]
[null,null,null,null,null,null,null,null,null,null,null,null,null,null,null,null,null,null,null,"Secu Valeriu","Bucuresti"]
[null,null,null,null,null,null,null,null,null,null,null,null,null,null,null,null,null,null,null,"Secu Virgil","Drobeta Tr Severin"]
[null,null,null,null,null,null,null,null,null,null,null,null,null,null,null,null,null,null,null,"Seer Zoltan","Gheorgheni"]
[null,null,null,null,null,null,null,null,null,null,null,null,null,null,null,null,null,null,null,"Segall Dan","Iasi"]
[null,null,null,null,null,null,null,null,null,null,null,null,null,null,null,null,null,null,null,"Seica Gheorghe","Oradea"]
[null,null,null,null,null,null,null,null,null,null,null,null,null,null,null,null,null,null,null,"Seiche Lucian","Oravita"]
[null,null,null,null,null,null,null,null,null,null,null,null,null,null,null,null,null,null,null,"Selaru Victoras","Adjud"]
[null,null,null,null,null,null,null,null,null,null,null,null,null,null,null,null,null,null,null,"Selejan Laurentiu","Arad"]
[null,null,null,null,null,null,null,null,null,null,null,null,null,null,null,null,null,null,null,"Sencu Victor","Targoviste"]
[null,null,null,null,null,null,null,null,null,null,null,null,null,null,null,null,null,null,null,"Seniuc Radu","Arad"]
[null,null,null,null,null,null,null,null,null,null,null,null,null,null,null,null,null,null,null,"Senturk Barboros","Germania"]
[null,null,null,null,null,null,null,null,null,null,null,null,null,null,null,null,null,null,null,"Serban Adi Iulian","Ramnicu Sarat"]
[null,null,null,null,null,null,null,null,null,null,null,null,null,null,null,null,null,null,null,"Serban Andrei","Bucuresti"]
[null,null,null,null,null,null,null,null,null,null,null,null,null,null,null,null,null,null,null,"Serban Bogdan","Bucuresti"]
[null,null,null,null,null,null,null,null,null,null,null,null,null,null,null,null,null,null,null,"Serban Felix","Panciu"]
[null,null,null,null,null,null,null,null,null,null,null,null,null,null,null,null,null,null,null,"Serban Florin","Fratautii Noi"]
[null,null,null,null,null,null,null,null,null,null,null,null,null,null,null,null,null,null,null,"Serban Liviu","Onesti"]
[null,null,null,null,null,null,null,null,null,null,null,null,null,null,null,null,null,null,null,"Serban Marian","Orastie"]
[null,null,null,null,null,null,null,null,null,null,null,null,null,null,null,null,null,null,null,"Serban Marin","Tulcea"]
[null,null,null,null,null,null,null,null,null,null,null,null,null,null,null,null,null,null,null,"Serban Marius","Vaslui"]
[null,null,null,null,null,null,null,null,null,null,null,null,null,null,null,null,null,null,null,"Serban Mircea","Brasov"]
[null,null,null,null,null,null,null,null,null,null,null,null,null,null,null,null,null,null,null,"Serbanescu Bogdan","Bucuresti"]
[null,null,null,null,null,null,null,null,null,null,null,null,null,null,null,null,null,null,null,"Serbanovici Milen","Braila"]
[null,null,null,null,null,null,null,null,null,null,null,null,null,null,null,null,null,null,null,"Seres Szabolcs","Crasna"]
[null,null,null,null,null,null,null,null,null,null,null,null,null,null,null,null,null,null,null,"Sevastita Sebastian","Buzau"]
[null,null,null,null,null,null,null,null,null,null,null,null,null,null,null,null,null,null,null,"Sexton Antonio Sorin","Kentucky USA"]
[null,null,null,null,null,null,null,null,null,null,null,null,null,null,null,null,null,null,null,"Sfera Mihai","Lokve"]
[null,null,null,null,null,null,null,null,null,null,null,null,null,null,null,null,null,null,null,"Sfrenti Cosmin","Drobeta Tr Severin"]
[null,null,null,null,null,null,null,null,null,null,null,null,null,null,null,null,null,null,null,"Sibotean Calin","Sibot"]
[null,null,null,null,null,null,null,null,null,null,null,null,null,null,null,null,null,null,null,"Siclovan Gabriel","Arad"]
[null,null,null,null,null,null,null,null,null,null,null,null,null,null,null,null,null,null,null,"Silaghi Adrian","Deva"]
[null,null,null,null,null,null,null,null,null,null,null,null,null,null,null,null,null,null,null,"Silaghi Marc","Dumbravita"]
[null,null,null,null,null,null,null,null,null,null,null,null,null,null,null,null,null,null,null,"Silaghi Matei","Dumbravita"]
[null,null,null,null,null,null,null,null,null,null,null,null,null,null,null,null,null,null,null,"Silivestru Nicu","Tulcea"]
[null,null,null,null,null,null,null,null,null,null,null,null,null,null,null,null,null,null,null,"Silobad Marko","Belgrad"]
[null,null,null,null,null,null,null,null,null,null,null,null,null,null,null,null,null,null,null,"Silviu Niculae","Bucuresti"]
[null,null,null,null,null,null,null,null,null,null,null,null,null,null,null,null,null,null,null,"Sima Beniamin","Giurgiu"]
[null,null,null,null,null,null,null,null,null,null,null,null,null,null,null,null,null,null,null,"Sima Daniel","Mioveni"]
[null,null,null,null,null,null,null,null,null,null,null,null,null,null,null,null,null,null,null,"Simandi Cosmin","Alba Iulia"]
[null,null,null,null,null,null,null,null,null,null,null,null,null,null,null,null,null,null,null,"Simic Milovan","Belgrad"]
[null,null,null,null,null,null,null,null,null,null,null,null,null,null,null,null,null,null,null,"Similean Alexandru","Bucuresti"]
[null,null,null,null,null,null,null,null,null,null,null,null,null,null,null,null,null,null,null,"Simion Boby","Cluj Napoca"]
[null,null,null,null,null,null,null,null,null,null,null,null,null,null,null,null,null,null,null,"Simion Cristi","Targu Jiu"]
[null,null,null,null,null,null,null,null,null,null,null,null,null,null,null,null,null,null,null,"Simion Dan","Resita"]
[null,null,null,null,null,null,null,null,null,null,null,null,null,null,null,null,null,null,null,"Simion Luana","Cluj Napoca"]
[null,null,null,null,null,null,null,null,null,null,null,null,null,null,null,null,null,null,null,"Simion Mircea","Targu Jiu"]
[null,null,null,null,null,null,null,null,null,null,null,null,null,null,null,null,null,null,null,"Simion Robert","Bucuresti"]
[null,null,null,null,null,null,null,null,null,null,null,null,null,null,null,null,null,null,null,"Simion Silviu","Cocorastii Mislii"]
[null,null,null,null,null,null,null,null,null,null,null,null,null,null,null,null,null,null,null,"Simionese Ovidiu","Granicesti"]
[null,null,null,null,null,null,null,null,null,null,null,null,null,null,null,null,null,null,null,"Simionov Iura","Hunedoara"]
[null,null,null,null,null,null,null,null,null,null,null,null,null,null,null,null,null,null,null,"Simionov Sebastian","Navodari"]
[null,null,null,null,null,null,null,null,null,null,null,null,null,null,null,null,null,null,null,"Simo Elias Mate","Miercurea Ciuc"]
[null,null,null,null,null,null,null,null,null,null,null,null,null,null,null,null,null,null,null,"Simo Pal Levente","Sighisoara"]
[null,null,null,null,null,null,null,null,null,null,null,null,null,null,null,null,null,null,null,"Simoc Paul","Stei"]
[null,null,null,null,null,null,null,null,null,null,null,null,null,null,null,null,null,null,null,"Simon Andrei","Popesti Leordeni"]
[null,null,null,null,null,null,null,null,null,null,null,null,null,null,null,null,null,null,null,"Simon Bence","Targu Mures"]
[null,null,null,null,null,null,null,null,null,null,null,null,null,null,null,null,null,null,null,"Simon Csongor","Targu Mures"]
[null,null,null,null,null,null,null,null,null,null,null,null,null,null,null,null,null,null,null,"Simon Dani","Arad"]
[null,null,null,null,null,null,null,null,null,null,null,null,null,null,null,null,null,null,null,"Simon Ioan","Giroc"]
[null,null,null,null,null,null,null,null,null,null,null,null,null,null,null,null,null,null,null,"Simon Robert","Cluj Napoca"]
[null,null,null,null,null,null,null,null,null,null,null,null,null,null,null,null,null,null,null,"Simonfi Maghiar","Jibou"]
[null,null,null,null,null,null,null,null,null,null,null,null,null,null,null,null,null,null,null,"Simota Florin","Radauti"]
[null,null,null,null,null,null,null,null,null,null,null,null,null,null,null,null,null,null,null,"Simulescu Adrian","Focsani"]
[null,null,null,null,null,null,null,null,null,null,null,null,null,null,null,null,null,null,null,"Simulescu Dumitru","Craiova"]
[null,null,null,null,null,null,null,null,null,null,null,null,null,null,null,null,null,null,null,"Singeorzan Corneliu","Bistrita"]
[null,null,null,null,null,null,null,null,null,null,null,null,null,null,null,null,null,null,null,"Sinpetrean Comsa Gheorghe","Cluj Napoca"]
[null,null,null,null,null,null,null,null,null,null,null,null,null,null,null,null,null,null,null,"Sipos Ina","Arad"]
[null,null,null,null,null,null,null,null,null,null,null,null,null,null,null,null,null,null,null,"Sirbu David Alexandru","Targoviste"]
[null,null,null,null,null,null,null,null,null,null,null,null,null,null,null,null,null,null,null,"Sirbu Lucian","Drobeta Tr Severin"]
[null,null,null,null,null,null,null,null,null,null,null,null,null,null,null,null,null,null,null,"Sirbu Moise","Baile Herculane"]
[null,null,null,null,null,null,null,null,null,null,null,null,null,null,null,null,null,null,null,"Sirbu Nicolae","Aiud"]
[null,null,null,null,null,null,null,null,null,null,null,null,null,null,null,null,null,null,null,"Sisu Florian","Alexandria"]
[null,null,null,null,null,null,null,null,null,null,null,null,null,null,null,null,null,null,null,"Sivu Cosmin","Bucuresti"]
[null,null,null,null,null,null,null,null,null,null,null,null,null,null,null,null,null,null,null,"Sivu Leonard","Bucuresti"]
[null,null,null,null,null,null,null,null,null,null,null,null,null,null,null,null,null,null,null,"Slavov Vitali","Moldova-Taraclia"]
[null,null,null,null,null,null,null,null,null,null,null,null,null,null,null,null,null,null,null,"Slupetchi Victor Gabriel","Brasov"]
[null,null,null,null,null,null,null,null,null,null,null,null,null,null,null,null,null,null,null,"Smadici Cristian","Milisauti"]
[null,null,null,null,null,null,null,null,null,null,null,null,null,null,null,null,null,null,null,"Smisleaeva Liudmila","Moldova-Balti"]
[null,null,null,null,null,null,null,null,null,null,null,null,null,null,null,null,null,null,null,"Smit Aurel","Craiova"]
[null,null,null,null,null,null,null,null,null,null,null,null,null,null,null,null,null,null,null,"Soare Andrei","Bucuresti"]
[null,null,null,null,null,null,null,null,null,null,null,null,null,null,null,null,null,null,null,"Soare Bogdan","Targoviste"]
[null,null,null,null,null,null,null,null,null,null,null,null,null,null,null,null,null,null,null,"Soare Valentin","Valenii de Munte"]
[null,null,null,null,null,null,null,null,null,null,null,null,null,null,null,null,null,null,null,"Sobetkii Arcadii","Bucuresti"]
[null,null,null,null,null,null,null,null,null,null,null,null,null,null,null,null,null,null,null,"Socaci Marian","Braila"]
[null,null,null,null,null,null,null,null,null,null,null,null,null,null,null,null,null,null,null,"Socaci Silviu","Lugoj"]
[null,null,null,null,null,null,null,null,null,null,null,null,null,null,null,null,null,null,null,"Socaci Sorin","Panciu"]
[null,null,null,null,null,null,null,null,null,null,null,null,null,null,null,null,null,null,null,"Socaciu Dan Catalin","Floresti"]
[null,null,null,null,null,null,null,null,null,null,null,null,null,null,null,null,null,null,null,"Soceanu Bogdan","Bucuresti"]
[null,null,null,null,null,null,null,null,null,null,null,null,null,null,null,null,null,null,null,"Sofian Corneliu","Suceava"]
[null,null,null,null,null,null,null,null,null,null,null,null,null,null,null,null,null,null,null,"Soficaru George","Brasov"]
[null,null,null,null,null,null,null,null,null,null,null,null,null,null,null,null,null,null,null,"Soimusan Tudor","Cluj Napoca"]
[null,null,null,null,null,null,null,null,null,null,null,null,null,null,null,null,null,null,null,"Soki Viktor","Arad"]
[null,null,null,null,null,null,null,null,null,null,null,null,null,null,null,null,null,null,null,"Soldan Asael","Cajvana"]
[null,null,null,null,null,null,null,null,null,null,null,null,null,null,null,null,null,null,null,"Soldan Gica","Cajvana"]
[null,null,null,null,null,null,null,null,null,null,null,null,null,null,null,null,null,null,null,"Soldan Iacob","Cajvana"]
[null,null,null,null,null,null,null,null,null,null,null,null,null,null,null,null,null,null,null,"Soldan Ionatan","Cajvana"]
[null,null,null,null,null,null,null,null,null,null,null,null,null,null,null,null,null,null,null,"Solomon David","Cluj Napoca"]
[null,null,null,null,null,null,null,null,null,null,null,null,null,null,null,null,null,null,null,"Solomon Milan","Cluj Napoca"]
[null,null,null,null,null,null,null,null,null,null,null,null,null,null,null,null,null,null,null,"Solovastru Gabriel","Gura Humorului"]
[null,null,null,null,null,null,null,null,null,null,null,null,null,null,null,null,null,null,null,"Solovian Arina","Moldova-Balti"]
[null,null,null,null,null,null,null,null,null,null,null,null,null,null,null,null,null,null,null,"Sonoc Cristian","Arad"]
[null,null,null,null,null,null,null,null,null,null,null,null,null,null,null,null,null,null,null,"Sopterean Ioan","Bistrita"]
[null,null,null,null,null,null,null,null,null,null,null,null,null,null,null,null,null,null,null,"Sora Sorin","Craiova"]
[null,null,null,null,null,null,null,null,null,null,null,null,null,null,null,null,null,null,null,"Sorescu Deian","Resita"]
[null,null,null,null,null,null,null,null,null,null,null,null,null,null,null,null,null,null,null,"Sorescu Mircea","Paulesti"]
[null,null,null,null,null,null,null,null,null,null,null,null,null,null,null,null,null,null,null,"Sorin Inu Moise","Stei"]
[null,null,null,null,null,null,null,null,null,null,null,null,null,null,null,null,null,null,null,"Sosa Sebastian","Aiud"]
[null,null,null,null,null,null,null,null,null,null,null,null,null,null,null,null,null,null,null,"Sosoaca Diana","Ramnicu Valcea"]
[null,null,null,null,null,null,null,null,null,null,null,null,null,null,null,null,null,null,null,"Souca Liviu","Bucuresti"]
[null,null,null,null,null,null,null,null,null,null,null,null,null,null,null,null,null,null,null,"Sovea Sorin","Suceava"]
[null,null,null,null,null,null,null,null,null,null,null,null,null,null,null,null,null,null,null,"Spaller Tiberiu","Nasaud"]
[null,null,null,null,null,null,null,null,null,null,null,null,null,null,null,null,null,null,null,"Span Adrian","Bistrita"]
[null,null,null,null,null,null,null,null,null,null,null,null,null,null,null,null,null,null,null,"Span Maria","Sibiu"]
[null,null,null,null,null,null,null,null,null,null,null,null,null,null,null,null,null,null,null,"Spancioc Ciprian","Cluj Napoca"]
[null,null,null,null,null,null,null,null,null,null,null,null,null,null,null,null,null,null,null,"Spasic Dejan","Belgrad"]
[null,null,null,null,null,null,null,null,null,null,null,null,null,null,null,null,null,null,null,"Spatar Denis","Agnita"]
[null,null,null,null,null,null,null,null,null,null,null,null,null,null,null,null,null,null,null,"Spatar Narcis","Dumbraveni SB"]
[null,null,null,null,null,null,null,null,null,null,null,null,null,null,null,null,null,null,null,"Spatar Peter","Agnita"]
[null,null,null,null,null,null,null,null,null,null,null,null,null,null,null,null,null,null,null,"Spereatu Darius","Dobrotesti"]
[null,null,null,null,null,null,null,null,null,null,null,null,null,null,null,null,null,null,null,"Spermezan Dorel","Nasaud"]
[null,null,null,null,null,null,null,null,null,null,null,null,null,null,null,null,null,null,null,"Spoiala Cristinel","Focsani"]
[null,null,null,null,null,null,null,null,null,null,null,null,null,null,null,null,null,null,null,"Spulber Bogdan Andrei","Bacau"]
[null,null,null,null,null,null,null,null,null,null,null,null,null,null,null,null,null,null,null,"Srbulj Branislav","Pancevo"]
[null,null,null,null,null,null,null,null,null,null,null,null,null,null,null,null,null,null,null,"Staicu Ovidiu","Targoviste"]
[null,null,null,null,null,null,null,null,null,null,null,null,null,null,null,null,null,null,null,"Staicu Vasile","Cernavoda"]
[null,null,null,null,null,null,null,null,null,null,null,null,null,null,null,null,null,null,null,"Stamat Ilia","Moldova-Comrat"]
[null,null,null,null,null,null,null,null,null,null,null,null,null,null,null,null,null,null,null,"Stamate Eduard","Tecuci"]
[null,null,null,null,null,null,null,null,null,null,null,null,null,null,null,null,null,null,null,"Stamate Eduard","Bucuresti"]
[null,null,null,null,null,null,null,null,null,null,null,null,null,null,null,null,null,null,null,"Stan Adrian","Brasov"]
[null,null,null,null,null,null,null,null,null,null,null,null,null,null,null,null,null,null,null,"Stan Constantin","Caragiale DB"]
[null,null,null,null,null,null,null,null,null,null,null,null,null,null,null,null,null,null,null,"Stan Marius","Galati"]
[null,null,null,null,null,null,null,null,null,null,null,null,null,null,null,null,null,null,null,"Stan Tiberiu Dan","Iasi"]
[null,null,null,null,null,null,null,null,null,null,null,null,null,null,null,null,null,null,null,"Stanamirescu Ianis","Hateg"]
[null,null,null,null,null,null,null,null,null,null,null,null,null,null,null,null,null,null,null,"Stancalie Doru","Craiova"]
[null,null,null,null,null,null,null,null,null,null,null,null,null,null,null,null,null,null,null,"Stancila Luca","Iasi"]
[null,null,null,null,null,null,null,null,null,null,null,null,null,null,null,null,null,null,null,"Stanciu Alexander","Vatra Dornei"]
[null,null,null,null,null,null,null,null,null,null,null,null,null,null,null,null,null,null,null,"Stanciu Constantin","Brasov"]
[null,null,null,null,null,null,null,null,null,null,null,null,null,null,null,null,null,null,null,"Stanciu Constantin","Timisoara"]
[null,null,null,null,null,null,null,null,null,null,null,null,null,null,null,null,null,null,null,"Stanciu Dumitru","Simeria"]
[null,null,null,null,null,null,null,null,null,null,null,null,null,null,null,null,null,null,null,"Stanciu Marian","Bucuresti"]
[null,null,null,null,null,null,null,null,null,null,null,null,null,null,null,null,null,null,null,"Stanciu Mario Andrei","Fieni"]
[null,null,null,null,null,null,null,null,null,null,null,null,null,null,null,null,null,null,null,"Stanciu Mugur","Videle"]
[null,null,null,null,null,null,null,null,null,null,null,null,null,null,null,null,null,null,null,"Stanciu Silviu","Calarasi"]
[null,null,null,null,null,null,null,null,null,null,null,null,null,null,null,null,null,null,null,"Stanciu Stefan","Urlati"]
[null,null,null,null,null,null,null,null,null,null,null,null,null,null,null,null,null,null,null,"Stanciu Teodor","Sighisoara"]
[null,null,null,null,null,null,null,null,null,null,null,null,null,null,null,null,null,null,null,"Stanciu Viorel","Ploiesti"]
[null,null,null,null,null,null,null,null,null,null,null,null,null,null,null,null,null,null,null,"Stanciulescu Bogdan","Brasov"]
[null,null,null,null,null,null,null,null,null,null,null,null,null,null,null,null,null,null,null,"Stancu Andrea","Buzau"]
[null,null,null,null,null,null,null,null,null,null,null,null,null,null,null,null,null,null,null,"Stancu Gheorghe","Brazi"]
[null,null,null,null,null,null,null,null,null,null,null,null,null,null,null,null,null,null,null,"Stancu Marian","Constanta"]
[null,null,null,null,null,null,null,null,null,null,null,null,null,null,null,null,null,null,null,"Stancu Maricel","Focsani"]
[null,null,null,null,null,null,null,null,null,null,null,null,null,null,null,null,null,null,null,"Stancu Octavian","Tulcea"]
[null,null,null,null,null,null,null,null,null,null,null,null,null,null,null,null,null,null,null,"Stanescu Fabian","Hunedoara"]
[null,null,null,null,null,null,null,null,null,null,null,null,null,null,null,null,null,null,null,"Stanescu Ladislau","Hunedoara"]
[null,null,null,null,null,null,null,null,null,null,null,null,null,null,null,null,null,null,null,"Stanescu Maria","Iasi"]
[null,null,null,null,null,null,null,null,null,null,null,null,null,null,null,null,null,null,null,"Stanescu Romeo","Hunedoara"]
[null,null,null,null,null,null,null,null,null,null,null,null,null,null,null,null,null,null,null,"Stanica Ciprian","Pitesti"]
[null,null,null,null,null,null,null,null,null,null,null,null,null,null,null,null,null,null,null,"Stanila Eugen","Faurei"]
[null,null,null,null,null,null,null,null,null,null,null,null,null,null,null,null,null,null,null,"Stankovic Stefan","Ram"]
[null,null,null,null,null,null,null,null,null,null,null,null,null,null,null,null,null,null,null,"Stankovic Zikica","Kumane"]
[null,null,null,null,null,null,null,null,null,null,null,null,null,null,null,null,null,null,null,"Starcz Adrian","Lupeni"]
[null,null,null,null,null,null,null,null,null,null,null,null,null,null,null,null,null,null,null,"Staricov Alexandru","Moldova-Balti"]
[null,null,null,null,null,null,null,null,null,null,null,null,null,null,null,null,null,null,null,"State Malin","Bucuresti"]
[null,null,null,null,null,null,null,null,null,null,null,null,null,null,null,null,null,null,null,"State Orlando","Bucuresti"]
[null,null,null,null,null,null,null,null,null,null,null,null,null,null,null,null,null,null,null,"Stavarache Andrei","Iasi"]
[null,null,null,null,null,null,null,null,null,null,null,null,null,null,null,null,null,null,null,"Stavarache Cornel","Targoviste"]
[null,null,null,null,null,null,null,null,null,null,null,null,null,null,null,null,null,null,null,"Steau Dan","Santimbru AB"]
[null,null,null,null,null,null,null,null,null,null,null,null,null,null,null,null,null,null,null,"Stefan Adrian","Bucuresti"]
[null,null,null,null,null,null,null,null,null,null,null,null,null,null,null,null,null,null,null,"Stefan Andrei","Iasi"]
[null,null,null,null,null,null,null,null,null,null,null,null,null,null,null,null,null,null,null,"Stefan Frosin","Vaslui"]
[null,null,null,null,null,null,null,null,null,null,null,null,null,null,null,null,null,null,null,"Stefan Mihai","Craiova"]
[null,null,null,null,null,null,null,null,null,null,null,null,null,null,null,null,null,null,null,"Stefan Narcis","Botosani"]
[null,null,null,null,null,null,null,null,null,null,null,null,null,null,null,null,null,null,null,"Stefan Patrick","Brasov"]
[null,null,null,null,null,null,null,null,null,null,null,null,null,null,null,null,null,null,null,"Stefan Sorin","Brasov"]
[null,null,null,null,null,null,null,null,null,null,null,null,null,null,null,null,null,null,null,"Stefanescu Alin","Sucevita"]
[null,null,null,null,null,null,null,null,null,null,null,null,null,null,null,null,null,null,null,"Stefanescu Eugen","Bucuresti"]
[null,null,null,null,null,null,null,null,null,null,null,null,null,null,null,null,null,null,null,"Stefurac Marius","Ploiesti"]
[null,null,null,null,null,null,null,null,null,null,null,null,null,null,null,null,null,null,null,"Stegariu Vladut","Iasi"]
[null,null,null,null,null,null,null,null,null,null,null,null,null,null,null,null,null,null,null,"Stepanov Petre","Tulcea"]
[null,null,null,null,null,null,null,null,null,null,null,null,null,null,null,null,null,null,null,"Sterczer Sandor","Sanzieni"]
[null,null,null,null,null,null,null,null,null,null,null,null,null,null,null,null,null,null,null,"Sterpu Gabriel","Navodari"]
[null,null,null,null,null,null,null,null,null,null,null,null,null,null,null,null,null,null,null,"Stetco Teodor","Sighetu Marmatiei"]
[null,null,null,null,null,null,null,null,null,null,null,null,null,null,null,null,null,null,null,"Stinea Adrian","Cluj Napoca"]
[null,null,null,null,null,null,null,null,null,null,null,null,null,null,null,null,null,null,null,"Stinga Ion","Ploiesti"]
[null,null,null,null,null,null,null,null,null,null,null,null,null,null,null,null,null,null,null,"Stinga Ovidiu","Tecuci"]
[null,null,null,null,null,null,null,null,null,null,null,null,null,null,null,null,null,null,null,"Stir Andrei","Baicoi"]
[null,null,null,null,null,null,null,null,null,null,null,null,null,null,null,null,null,null,null,"Stir Bogdan","Telega"]
[null,null,null,null,null,null,null,null,null,null,null,null,null,null,null,null,null,null,null,"Stirbu Daniel","Braila"]
[null,null,null,null,null,null,null,null,null,null,null,null,null,null,null,null,null,null,null,"Stiuca Sorin","Arad"]
[null,null,null,null,null,null,null,null,null,null,null,null,null,null,null,null,null,null,null,"Stoean Mircea","Bacau"]
[null,null,null,null,null,null,null,null,null,null,null,null,null,null,null,null,null,null,null,"Stoia Alesia","Timisoara"]
[null,null,null,null,null,null,null,null,null,null,null,null,null,null,null,null,null,null,null,"Stoia Florin","Timisoara"]
[null,null,null,null,null,null,null,null,null,null,null,null,null,null,null,null,null,null,null,"Stoian Alexandra","Constanta"]
[null,null,null,null,null,null,null,null,null,null,null,null,null,null,null,null,null,null,null,"Stoian Gabriel","Alexandria"]
[null,null,null,null,null,null,null,null,null,null,null,null,null,null,null,null,null,null,null,"Stoian Mihnea","Alexandria"]
[null,null,null,null,null,null,null,null,null,null,null,null,null,null,null,null,null,null,null,"Stoian Narcis","Braila"]
[null,null,null,null,null,null,null,null,null,null,null,null,null,null,null,null,null,null,null,"Stoian Sebastian","Slobozia"]
[null,null,null,null,null,null,null,null,null,null,null,null,null,null,null,null,null,null,null,"Stoian Sorin","Curtea de Arges"]
[null,null,null,null,null,null,null,null,null,null,null,null,null,null,null,null,null,null,null,"Stoica Adrian","Bucuresti"]
[null,null,null,null,null,null,null,null,null,null,null,null,null,null,null,null,null,null,null,"Stoica Ayana Maria","Slobozia"]
[null,null,null,null,null,null,null,null,null,null,null,null,null,null,null,null,null,null,null,"Stoica Dan","Galati"]
[null,null,null,null,null,null,null,null,null,null,null,null,null,null,null,null,null,null,null,"Stoica Denis Andrei","Alexandria"]
[null,null,null,null,null,null,null,null,null,null,null,null,null,null,null,null,null,null,null,"Stoica Flavia","Lunca Muresului"]
[null,null,null,null,null,null,null,null,null,null,null,null,null,null,null,null,null,null,null,"Stoica Florin","Bucuresti"]
[null,null,null,null,null,null,null,null,null,null,null,null,null,null,null,null,null,null,null,"Stoica Grigore","Iasi"]
[null,null,null,null,null,null,null,null,null,null,null,null,null,null,null,null,null,null,null,"Stoica Ioan Cristian","Targoviste"]
[null,null,null,null,null,null,null,null,null,null,null,null,null,null,null,null,null,null,null,"Stoica Iuri","Moldova-Cahul"]
[null,null,null,null,null,null,null,null,null,null,null,null,null,null,null,null,null,null,null,"Stoica Kewin","Dumbraveni SB"]
[null,null,null,null,null,null,null,null,null,null,null,null,null,null,null,null,null,null,null,"Stoica Liviu Andrei","Slobozia"]
[null,null,null,null,null,null,null,null,null,null,null,null,null,null,null,null,null,null,null,"Stoica Liviu Gabriel","Slobozia"]
[null,null,null,null,null,null,null,null,null,null,null,null,null,null,null,null,null,null,null,"Stoica Maxim","Moldova-Cahul"]
[null,null,null,null,null,null,null,null,null,null,null,null,null,null,null,null,null,null,null,"Stoica Mihai","Hateg"]
[null,null,null,null,null,null,null,null,null,null,null,null,null,null,null,null,null,null,null,"Stoica Mihai","Mihaesti"]
[null,null,null,null,null,null,null,null,null,null,null,null,null,null,null,null,null,null,null,"Stoica Nicolae","Hunedoara"]
[null,null,null,null,null,null,null,null,null,null,null,null,null,null,null,null,null,null,null,"Stoica Polina","Moldova-Cahul"]
[null,null,null,null,null,null,null,null,null,null,null,null,null,null,null,null,null,null,null,"Stoica Sandel","Focsani"]
[null,null,null,null,null,null,null,null,null,null,null,null,null,null,null,null,null,null,null,"Stoica Sebastian","Sibiu"]
[null,null,null,null,null,null,null,null,null,null,null,null,null,null,null,null,null,null,null,"Stoicescu Gheorghe","Iedera"]
[null,null,null,null,null,null,null,null,null,null,null,null,null,null,null,null,null,null,null,"Stoinea Mihai","Alexandria"]
[null,null,null,null,null,null,null,null,null,null,null,null,null,null,null,null,null,null,null,"Stolearenco Igor","Galati"]
[null,null,null,null,null,null,null,null,null,null,null,null,null,null,null,null,null,null,null,"Stoli Nicu","Tulcea"]
[null,null,null,null,null,null,null,null,null,null,null,null,null,null,null,null,null,null,null,"Stratiev Ivan","Moldova-Taraclia"]
[null,null,null,null,null,null,null,null,null,null,null,null,null,null,null,null,null,null,null,"Streche Andrei","Bucuresti"]
[null,null,null,null,null,null,null,null,null,null,null,null,null,null,null,null,null,null,null,"Strinu Paul","Drobeta Tr Severin"]
[null,null,null,null,null,null,null,null,null,null,null,null,null,null,null,null,null,null,null,"Strugar Ioan","Deda"]
[null,null,null,null,null,null,null,null,null,null,null,null,null,null,null,null,null,null,null,"Strugariu Ciprian","Radauti"]
[null,null,null,null,null,null,null,null,null,null,null,null,null,null,null,null,null,null,null,"Strugariu Ioan","Campulung Mold"]
[null,null,null,null,null,null,null,null,null,null,null,null,null,null,null,null,null,null,null,"Stupinean Mircea","Calan"]
[null,null,null,null,null,null,null,null,null,null,null,null,null,null,null,null,null,null,null,"Subtirelu Marius","Onesti"]
[null,null,null,null,null,null,null,null,null,null,null,null,null,null,null,null,null,null,null,"Suceava Raul","Targu Mures"]
[null,null,null,null,null,null,null,null,null,null,null,null,null,null,null,null,null,null,null,"Suci Sandor","Oradea"]
[null,null,null,null,null,null,null,null,null,null,null,null,null,null,null,null,null,null,null,"Sucilea Adrian","Cluj Napoca"]
[null,null,null,null,null,null,null,null,null,null,null,null,null,null,null,null,null,null,null,"Suciu Andrei","Borsec"]
[null,null,null,null,null,null,null,null,null,null,null,null,null,null,null,null,null,null,null,"Suciu Cristian","Dej"]
[null,null,null,null,null,null,null,null,null,null,null,null,null,null,null,null,null,null,null,"Suciu Dragos","Constanta"]
[null,null,null,null,null,null,null,null,null,null,null,null,null,null,null,null,null,null,null,"Suciu Florin","Sibiu"]
[null,null,null,null,null,null,null,null,null,null,null,null,null,null,null,null,null,null,null,"Suciu Gheorghe","Alba Iulia"]
[null,null,null,null,null,null,null,null,null,null,null,null,null,null,null,null,null,null,null,"Suciu Iacob","Blaj"]
[null,null,null,null,null,null,null,null,null,null,null,null,null,null,null,null,null,null,null,"Suciu Sergiu","Turda"]
[null,null,null,null,null,null,null,null,null,null,null,null,null,null,null,null,null,null,null,"Suhan George","Curtea de Arges"]
[null,null,null,null,null,null,null,null,null,null,null,null,null,null,null,null,null,null,null,"Suliman Florin","Lumina"]
[null,null,null,null,null,null,null,null,null,null,null,null,null,null,null,null,null,null,null,"Sultan Valentin","Craiova"]
[null,null,null,null,null,null,null,null,null,null,null,null,null,null,null,null,null,null,null,"Supciuc Apollinaria","Moldova-Balti"]
[null,null,null,null,null,null,null,null,null,null,null,null,null,null,null,null,null,null,null,"Suptirel Narcis","Agnita"]
[null,null,null,null,null,null,null,null,null,null,null,null,null,null,null,null,null,null,null,"Surdan Viorel","Oradea"]
[null,null,null,null,null,null,null,null,null,null,null,null,null,null,null,null,null,null,null,"Surdeanu Petrut Laurentiu","Bucuresti"]
[null,null,null,null,null,null,null,null,null,null,null,null,null,null,null,null,null,null,null,"Sursilov Constantin","Bucuresti"]
[null,null,null,null,null,null,null,null,null,null,null,null,null,null,null,null,null,null,null,"Suru Mihai","Hunedoara"]
[null,null,null,null,null,null,null,null,null,null,null,null,null,null,null,null,null,null,null,"Susanu Ion","Moldova-Cahul"]
[null,null,null,null,null,null,null,null,null,null,null,null,null,null,null,null,null,null,null,"Susman Alexandru","Alba Iulia"]
[null,null,null,null,null,null,null,null,null,null,null,null,null,null,null,null,null,null,null,"Susman Dan","Alba Iulia"]
[null,null,null,null,null,null,null,null,null,null,null,null,null,null,null,null,null,null,null,"Sutei Marian","Slobozia"]
[null,null,null,null,null,null,null,null,null,null,null,null,null,null,null,null,null,null,null,"Sutoris Cornel","Medias"]
[null,null,null,null,null,null,null,null,null,null,null,null,null,null,null,null,null,null,null,"Suvei Ioan","Bistrita"]
[null,null,null,null,null,null,null,null,null,null,null,null,null,null,null,null,null,null,null,"Svaia Bianca","Timisoara"]
[null,null,null,null,null,null,null,null,null,null,null,null,null,null,null,null,null,null,null,"Sylvester Sandor","Sfantu Gheorghe"]
[null,null,null,null,null,null,null,null,null,null,null,null,null,null,null,null,null,null,null,"Szabo Attila","Odorheiu Secuiesc"]
[null,null,null,null,null,null,null,null,null,null,null,null,null,null,null,null,null,null,null,"Szabo Luka Kazmer","Miercurea Ciuc"]
[null,null,null,null,null,null,null,null,null,null,null,null,null,null,null,null,null,null,null,"Szabo Szilard","Odorheiu Secuiesc"]
[null,null,null,null,null,null,null,null,null,null,null,null,null,null,null,null,null,null,null,"Szabo Tamas","Miercurea Ciuc"]
[null,null,null,null,null,null,null,null,null,null,null,null,null,null,null,null,null,null,null,"Szabo Zoltan","Cristuru Secuiesc"]
[null,null,null,null,null,null,null,null,null,null,null,null,null,null,null,null,null,null,null,"Szakacs Attila","Corunca"]
[null,null,null,null,null,null,null,null,null,null,null,null,null,null,null,null,null,null,null,"Szalay Liviu","Oradea"]
[null,null,null,null,null,null,null,null,null,null,null,null,null,null,null,null,null,null,null,"Szalisznyo Luca","Lugoj"]
[null,null,null,null,null,null,null,null,null,null,null,null,null,null,null,null,null,null,null,"Szalos Pal Ionut","Timisoara"]
[null,null,null,null,null,null,null,null,null,null,null,null,null,null,null,null,null,null,null,"Szanto Gyula","Ungaria"]
[null,null,null,null,null,null,null,null,null,null,null,null,null,null,null,null,null,null,null,"Szarvas Karoly","Satu Mare"]
[null,null,null,null,null,null,null,null,null,null,null,null,null,null,null,null,null,null,null,"Szasz Csongor","Gheorgheni"]
[null,null,null,null,null,null,null,null,null,null,null,null,null,null,null,null,null,null,null,"Szasz Zoltan","Gheorgheni"]
[null,null,null,null,null,null,null,null,null,null,null,null,null,null,null,null,null,null,null,"Szekely Attila","Arad"]
[null,null,null,null,null,null,null,null,null,null,null,null,null,null,null,null,null,null,null,"Szekely Gheorghe","Blaj"]
[null,null,null,null,null,null,null,null,null,null,null,null,null,null,null,null,null,null,null,"Szekely Karoly","Sangeorgiu de Mures"]
[null,null,null,null,null,null,null,null,null,null,null,null,null,null,null,null,null,null,null,"Szekeres Levente","Brasov"]
[null,null,null,null,null,null,null,null,null,null,null,null,null,null,null,null,null,null,null,"Szekeres Zoltan","Timisoara"]
[null,null,null,null,null,null,null,null,null,null,null,null,null,null,null,null,null,null,null,"Szemciuk Istvan","Deva"]
[null,null,null,null,null,null,null,null,null,null,null,null,null,null,null,null,null,null,null,"Szentmiklosi Bela","Oradea"]
[null,null,null,null,null,null,null,null,null,null,null,null,null,null,null,null,null,null,null,"Szep Octavian","Nasaud"]
[null,null,null,null,null,null,null,null,null,null,null,null,null,null,null,null,null,null,null,"Szilagyi Attila","Targu Mures"]
[null,null,null,null,null,null,null,null,null,null,null,null,null,null,null,null,null,null,null,"Szitar Mihai","Bucuresti"]
[null,null,null,null,null,null,null,null,null,null,null,null,null,null,null,null,null,null,null,"Szivery Adrian","Arad"]
[null,null,null,null,null,null,null,null,null,null,null,null,null,null,null,null,null,null,null,"Szocs Szilveszter","Borsec"]
[null,null,null,null,null,null,null,null,null,null,null,null,null,null,null,null,null,null,null,"Sztan Eric Traian","Buzau"]
[null,null,null,null,null,null,null,null,null,null,null,null,null,null,null,null,null,null,null,"Tabacaru Ciprian","Vaslui"]
[null,null,null,null,null,null,null,null,null,null,null,null,null,null,null,null,null,null,null,"Tabacaru Constantin","Piatra Neamt"]
[null,null,null,null,null,null,null,null,null,null,null,null,null,null,null,null,null,null,null,"Tabacila Lica","Tecuci"]
[null,null,null,null,null,null,null,null,null,null,null,null,null,null,null,null,null,null,null,"Tabara Lucian","Valenii de Munte"]
[null,null,null,null,null,null,null,null,null,null,null,null,null,null,null,null,null,null,null,"Taga Mario","Barlad"]
[null,null,null,null,null,null,null,null,null,null,null,null,null,null,null,null,null,null,null,"Tailbot Francois","Oradea"]
[null,null,null,null,null,null,null,null,null,null,null,null,null,null,null,null,null,null,null,"Takacs Csaba","Baia Mare"]
[null,null,null,null,null,null,null,null,null,null,null,null,null,null,null,null,null,null,null,"Tala Lenard","Micfalau"]
[null,null,null,null,null,null,null,null,null,null,null,null,null,null,null,null,null,null,null,"Talaba Mihai","Tecuci"]
[null,null,null,null,null,null,null,null,null,null,null,null,null,null,null,null,null,null,null,"Talalai Igor","Ucraina"]
[null,null,null,null,null,null,null,null,null,null,null,null,null,null,null,null,null,null,null,"Talmaciu Florin","Sibiu"]
[null,null,null,null,null,null,null,null,null,null,null,null,null,null,null,null,null,null,null,"Talos Cristian","Malut"]
[null,null,null,null,null,null,null,null,null,null,null,null,null,null,null,null,null,null,null,"Talpa Artiom","Moldova-Balti"]
[null,null,null,null,null,null,null,null,null,null,null,null,null,null,null,null,null,null,null,"Talpa Gheorghe","Moldova-Drochia"]
[null,null,null,null,null,null,null,null,null,null,null,null,null,null,null,null,null,null,null,"Taman Ioan","Cugir"]
[null,null,null,null,null,null,null,null,null,null,null,null,null,null,null,null,null,null,null,"Tamas Szilard","Miercurea Ciuc"]
[null,null,null,null,null,null,null,null,null,null,null,null,null,null,null,null,null,null,null,"Tamsa Titus","Resita"]
[null,null,null,null,null,null,null,null,null,null,null,null,null,null,null,null,null,null,null,"Tanasa Adrian","Resita"]
[null,null,null,null,null,null,null,null,null,null,null,null,null,null,null,null,null,null,null,"Tanase Adelina","Bucuresti"]
[null,null,null,null,null,null,null,null,null,null,null,null,null,null,null,null,null,null,null,"Tanase Antonia","Bucuresti"]
[null,null,null,null,null,null,null,null,null,null,null,null,null,null,null,null,null,null,null,"Tanase Horia","Bucuresti"]
[null,null,null,null,null,null,null,null,null,null,null,null,null,null,null,null,null,null,null,"Tanase Marian","Drobeta Tr Severin"]
[null,null,null,null,null,null,null,null,null,null,null,null,null,null,null,null,null,null,null,"Tanasov Marius","Tulcea"]
[null,null,null,null,null,null,null,null,null,null,null,null,null,null,null,null,null,null,null,"Tanc Florin","Oradea"]
[null,null,null,null,null,null,null,null,null,null,null,null,null,null,null,null,null,null,null,"Tanca Paul","Floresti"]
[null,null,null,null,null,null,null,null,null,null,null,null,null,null,null,null,null,null,null,"Tanu Mihai","Tecuci"]
[null,null,null,null,null,null,null,null,null,null,null,null,null,null,null,null,null,null,null,"Taran Narcis","Aiud"]
[null,null,null,null,null,null,null,null,null,null,null,null,null,null,null,null,null,null,null,"Taranu Nicusor","Tulcea"]
[null,null,null,null,null,null,null,null,null,null,null,null,null,null,null,null,null,null,null,"Tarnavean Robert","Cluj Napoca"]
[null,null,null,null,null,null,null,null,null,null,null,null,null,null,null,null,null,null,null,"Tarnavean Sorin","Cluj Napoca"]
[null,null,null,null,null,null,null,null,null,null,null,null,null,null,null,null,null,null,null,"Taroiu Alexandru","Videle"]
[null,null,null,null,null,null,null,null,null,null,null,null,null,null,null,null,null,null,null,"Tartu Tiberiu","Teius"]
[null,null,null,null,null,null,null,null,null,null,null,null,null,null,null,null,null,null,null,"Tascianu Cristian","Oradea"]
[null,null,null,null,null,null,null,null,null,null,null,null,null,null,null,null,null,null,null,"Tasedan Adrian","Arad"]
[null,null,null,null,null,null,null,null,null,null,null,null,null,null,null,null,null,null,null,"Tasedan Marcel","Arad"]
[null,null,null,null,null,null,null,null,null,null,null,null,null,null,null,null,null,null,null,"Tatar Dorel","Calan"]
[null,null,null,null,null,null,null,null,null,null,null,null,null,null,null,null,null,null,null,"Tatar Mihai","Simleu Silvaniei"]
[null,null,null,null,null,null,null,null,null,null,null,null,null,null,null,null,null,null,null,"Tataranu Daniel","Slatina"]
[null,null,null,null,null,null,null,null,null,null,null,null,null,null,null,null,null,null,null,"Tataru Alexandru","Vaslui"]
[null,null,null,null,null,null,null,null,null,null,null,null,null,null,null,null,null,null,null,"Tataru Nicolae","Vaslui"]
[null,null,null,null,null,null,null,null,null,null,null,null,null,null,null,null,null,null,null,"Tatarus Andrei","Bucuresti"]
[null,null,null,null,null,null,null,null,null,null,null,null,null,null,null,null,null,null,null,"Tatarus Daniel","Bucuresti"]
[null,null,null,null,null,null,null,null,null,null,null,null,null,null,null,null,null,null,null,"Taucci Anastasia","Moldova-Avdarma"]
[null,null,null,null,null,null,null,null,null,null,null,null,null,null,null,null,null,null,null,"Tauciuc Edi","Suceava"]
[null,null,null,null,null,null,null,null,null,null,null,null,null,null,null,null,null,null,null,"Taut Ciprian","Cluj Napoca"]
[null,null,null,null,null,null,null,null,null,null,null,null,null,null,null,null,null,null,null,"Taut Stefan","Cluj Napoca"]
[null,null,null,null,null,null,null,null,null,null,null,null,null,null,null,null,null,null,null,"Teaca Gabriel","Rosiori de Vede"]
[null,null,null,null,null,null,null,null,null,null,null,null,null,null,null,null,null,null,null,"Teaca Gheorghe","Moldova-Drochia"]
[null,null,null,null,null,null,null,null,null,null,null,null,null,null,null,null,null,null,null,"Teaca Vladimir","Moldova-Balti"]
[null,null,null,null,null,null,null,null,null,null,null,null,null,null,null,null,null,null,null,"Tebeica Ionut","Bucuresti"]
[null,null,null,null,null,null,null,null,null,null,null,null,null,null,null,null,null,null,null,"Tegher Tiberiu","Apahida"]
[null,null,null,null,null,null,null,null,null,null,null,null,null,null,null,null,null,null,null,"Tegzes Angela","Stejeris"]
[null,null,null,null,null,null,null,null,null,null,null,null,null,null,null,null,null,null,null,"Tegzes Robert","Stejeris"]
[null,null,null,null,null,null,null,null,null,null,null,null,null,null,null,null,null,null,null,"Teica Radu","Targu Jiu"]
[null,null,null,null,null,null,null,null,null,null,null,null,null,null,null,null,null,null,null,"Teleki Zsolt","Cluj Napoca"]
[null,null,null,null,null,null,null,null,null,null,null,null,null,null,null,null,null,null,null,"Telespan Elena","Sibiu"]
[null,null,null,null,null,null,null,null,null,null,null,null,null,null,null,null,null,null,null,"Telespan Konstantin","Sibiu"]
[null,null,null,null,null,null,null,null,null,null,null,null,null,null,null,null,null,null,null,"Telman Matei","Deva"]
[null,null,null,null,null,null,null,null,null,null,null,null,null,null,null,null,null,null,null,"Teodor Cristian","Bucuresti"]
[null,null,null,null,null,null,null,null,null,null,null,null,null,null,null,null,null,null,null,"Teodorad Valentin","Slatina"]
[null,null,null,null,null,null,null,null,null,null,null,null,null,null,null,null,null,null,null,"Teodorescu Cosmin","Bucuresti"]
[null,null,null,null,null,null,null,null,null,null,null,null,null,null,null,null,null,null,null,"Teodorescu Maria","Ramnicu Sarat"]
[null,null,null,null,null,null,null,null,null,null,null,null,null,null,null,null,null,null,null,"Teodorescu Marian","Bucuresti"]
[null,null,null,null,null,null,null,null,null,null,null,null,null,null,null,null,null,null,null,"Teodorescu Ovidiu","Sighisoara"]
[null,null,null,null,null,null,null,null,null,null,null,null,null,null,null,null,null,null,null,"Teodorescu Robert","Bucuresti"]
[null,null,null,null,null,null,null,null,null,null,null,null,null,null,null,null,null,null,null,"Teodorescu Sandica","Ramnicu Sarat"]
[null,null,null,null,null,null,null,null,null,null,null,null,null,null,null,null,null,null,null,"Teodoru Matei","Buzau"]
[null,null,null,null,null,null,null,null,null,null,null,null,null,null,null,null,null,null,null,"Teodoru Pavel","Buzau"]
[null,null,null,null,null,null,null,null,null,null,null,null,null,null,null,null,null,null,null,"Tepelea Ioana","Bucuresti"]
[null,null,null,null,null,null,null,null,null,null,null,null,null,null,null,null,null,null,null,"Tere Sergiu","Cluj Napoca"]
[null,null,null,null,null,null,null,null,null,null,null,null,null,null,null,null,null,null,null,"Terente Catalin","Piatra Neamt"]
[null,null,null,null,null,null,null,null,null,null,null,null,null,null,null,null,null,null,null,"Terentii Cristian","Bucuresti"]
[null,null,null,null,null,null,null,null,null,null,null,null,null,null,null,null,null,null,null,"Terhes George","Zalau"]
[null,null,null,null,null,null,null,null,null,null,null,null,null,null,null,null,null,null,null,"Teris Valeriu","Comanesti"]
[null,null,null,null,null,null,null,null,null,null,null,null,null,null,null,null,null,null,null,"Terna David","Moldova-Balti"]
[null,null,null,null,null,null,null,null,null,null,null,null,null,null,null,null,null,null,null,"Ternauciuc Adrian","Nadrag"]
[null,null,null,null,null,null,null,null,null,null,null,null,null,null,null,null,null,null,null,"Ternauciuc Mihai","Nadrag"]
[null,null,null,null,null,null,null,null,null,null,null,null,null,null,null,null,null,null,null,"Ternauciuc Octavian","Nadrag"]
[null,null,null,null,null,null,null,null,null,null,null,null,null,null,null,null,null,null,null,"Tertea Andrei","Moldova-Balti"]
[null,null,null,null,null,null,null,null,null,null,null,null,null,null,null,null,null,null,null,"Terteci Ilie Alin","Ramnicu Valcea"]
[null,null,null,null,null,null,null,null,null,null,null,null,null,null,null,null,null,null,null,"Terteci Ilie Lucian","Ramnicu Valcea"]
[null,null,null,null,null,null,null,null,null,null,null,null,null,null,null,null,null,null,null,"Terzi Vasili","Moldova-Ceadir-Lunga"]
[null,null,null,null,null,null,null,null,null,null,null,null,null,null,null,null,null,null,null,"Terzinov Dmitri","Moldova-Cazaclia"]
[null,null,null,null,null,null,null,null,null,null,null,null,null,null,null,null,null,null,null,"Tesleanu Catalin","Bucuresti"]
[null,null,null,null,null,null,null,null,null,null,null,null,null,null,null,null,null,null,null,"Thomas William Knobel","Bucuresti"]
[null,null,null,null,null,null,null,null,null,null,null,null,null,null,null,null,null,null,null,"Thouzard Adrian","Drobeta Tr Severin"]
[null,null,null,null,null,null,null,null,null,null,null,null,null,null,null,null,null,null,null,"Tianu Calin","Bucuresti"]
[null,null,null,null,null,null,null,null,null,null,null,null,null,null,null,null,null,null,null,"Tianu Gabriel","Bucuresti"]
[null,null,null,null,null,null,null,null,null,null,null,null,null,null,null,null,null,null,null,"Tibirna Andrei","Iasi"]
[null,null,null,null,null,null,null,null,null,null,null,null,null,null,null,null,null,null,null,"Tibirna Petru","Iasi"]
[null,null,null,null,null,null,null,null,null,null,null,null,null,null,null,null,null,null,null,"Tiboaca Daniel","Galati"]
[null,null,null,null,null,null,null,null,null,null,null,null,null,null,null,null,null,null,null,"Tibor Matei","Borla"]
[null,null,null,null,null,null,null,null,null,null,null,null,null,null,null,null,null,null,null,"Tibre Lucian","Cluj Napoca"]
[null,null,null,null,null,null,null,null,null,null,null,null,null,null,null,null,null,null,null,"Tic Ioan","Oradea"]
[null,null,null,null,null,null,null,null,null,null,null,null,null,null,null,null,null,null,null,"Tical Nicusor","Otopeni"]
[null,null,null,null,null,null,null,null,null,null,null,null,null,null,null,null,null,null,null,"Ticala Sorin","Aiud"]
[null,null,null,null,null,null,null,null,null,null,null,null,null,null,null,null,null,null,null,"Ticala Vasile Jr","Viseu"]
[null,null,null,null,null,null,null,null,null,null,null,null,null,null,null,null,null,null,null,"Ticlete Stefan Cosmin","Drobeta Tr Severin"]
[null,null,null,null,null,null,null,null,null,null,null,null,null,null,null,null,null,null,null,"Ticlos Cristian","Iasi"]
[null,null,null,null,null,null,null,null,null,null,null,null,null,null,null,null,null,null,null,"Ticu Dorin","Bacau"]
[null,null,null,null,null,null,null,null,null,null,null,null,null,null,null,null,null,null,null,"Ticu Mihai","Focsani"]
[null,null,null,null,null,null,null,null,null,null,null,null,null,null,null,null,null,null,null,"Ticu Razvan","Bucuresti"]
[null,null,null,null,null,null,null,null,null,null,null,null,null,null,null,null,null,null,null,"Tiganescu Ionut","Stulpicani"]
[null,null,null,null,null,null,null,null,null,null,null,null,null,null,null,null,null,null,null,"Tigau Dan","Bucuresti"]
[null,null,null,null,null,null,null,null,null,null,null,null,null,null,null,null,null,null,null,"Tilica Gabriel","Targoviste"]
[null,null,null,null,null,null,null,null,null,null,null,null,null,null,null,null,null,null,null,"Timar Alex","Targu Mures"]
[null,null,null,null,null,null,null,null,null,null,null,null,null,null,null,null,null,null,null,"Timaru Ilie","Sibiu"]
[null,null,null,null,null,null,null,null,null,null,null,null,null,null,null,null,null,null,null,"Timis Sandu","Vizejdia"]
[null,null,null,null,null,null,null,null,null,null,null,null,null,null,null,null,null,null,null,"Timoc Bogdan","Cluj Napoca"]
[null,null,null,null,null,null,null,null,null,null,null,null,null,null,null,null,null,null,null,"Timofei Alberto","Tulcea"]
[null,null,null,null,null,null,null,null,null,null,null,null,null,null,null,null,null,null,null,"Timplaru Catalin","Galati"]
[null,null,null,null,null,null,null,null,null,null,null,null,null,null,null,null,null,null,null,"Tin Catalin","Bucuresti"]
[null,null,null,null,null,null,null,null,null,null,null,null,null,null,null,null,null,null,null,"Tincu Adrian","Bucuresti"]
[null,null,null,null,null,null,null,null,null,null,null,null,null,null,null,null,null,null,null,"Tincu Laurentiu","Sibiu"]
[null,null,null,null,null,null,null,null,null,null,null,null,null,null,null,null,null,null,null,"Tini Alina Stefania","Constanta"]
[null,null,null,null,null,null,null,null,null,null,null,null,null,null,null,null,null,null,null,"Tintas Adrian","Sighetu Marmatiei"]
[null,null,null,null,null,null,null,null,null,null,null,null,null,null,null,null,null,null,null,"Tiosea Nicolae","Bucuresti"]
[null,null,null,null,null,null,null,null,null,null,null,null,null,null,null,null,null,null,null,"Tipa Aurel Maxim","Solonet"]
[null,null,null,null,null,null,null,null,null,null,null,null,null,null,null,null,null,null,null,"Tipser Gabriel","Sighisoara"]
[null,null,null,null,null,null,null,null,null,null,null,null,null,null,null,null,null,null,null,"Tipu Vlad","Iasi"]
[null,null,null,null,null,null,null,null,null,null,null,null,null,null,null,null,null,null,null,"Tira Viorel","Bistrita"]
[null,null,null,null,null,null,null,null,null,null,null,null,null,null,null,null,null,null,null,"Tirc Stelian","Apahida"]
[null,null,null,null,null,null,null,null,null,null,null,null,null,null,null,null,null,null,null,"Tirdea Ionut","Tecuci"]
[null,null,null,null,null,null,null,null,null,null,null,null,null,null,null,null,null,null,null,"Tirizica Ioan","Zalau"]
[null,null,null,null,null,null,null,null,null,null,null,null,null,null,null,null,null,null,null,"Tirla Madalin","Stei"]
[null,null,null,null,null,null,null,null,null,null,null,null,null,null,null,null,null,null,null,"Tirlea Gheorghe","Brasov"]
[null,null,null,null,null,null,null,null,null,null,null,null,null,null,null,null,null,null,null,"Tiron Marian","Iasi"]
[null,null,null,null,null,null,null,null,null,null,null,null,null,null,null,null,null,null,null,"Tirulnic Evgheni","Bucuresti"]
[null,null,null,null,null,null,null,null,null,null,null,null,null,null,null,null,null,null,null,"Tita Dan","Domnesti"]
[null,null,null,null,null,null,null,null,null,null,null,null,null,null,null,null,null,null,null,"Titiliuc Alesia","Dersca"]
[null,null,null,null,null,null,null,null,null,null,null,null,null,null,null,null,null,null,null,"Titirig Corneliu","Gura Humorului"]
[null,null,null,null,null,null,null,null,null,null,null,null,null,null,null,null,null,null,null,"Toader Andrei","Bucuresti"]
[null,null,null,null,null,null,null,null,null,null,null,null,null,null,null,null,null,null,null,"Toader Daniel Mihai","Alba Iulia"]
[null,null,null,null,null,null,null,null,null,null,null,null,null,null,null,null,null,null,null,"Toader George","Agnita"]
[null,null,null,null,null,null,null,null,null,null,null,null,null,null,null,null,null,null,null,"Toader Nicolae","Tulcea"]
[null,null,null,null,null,null,null,null,null,null,null,null,null,null,null,null,null,null,null,"Toader Ovidiu","Balan"]
[null,null,null,null,null,null,null,null,null,null,null,null,null,null,null,null,null,null,null,"Toader Petru","Mogosoaia"]
[null,null,null,null,null,null,null,null,null,null,null,null,null,null,null,null,null,null,null,"Toader Valentin","Agnita"]
[null,null,null,null,null,null,null,null,null,null,null,null,null,null,null,null,null,null,null,"Tobol Arsenii","Moldova-Balti"]
[null,null,null,null,null,null,null,null,null,null,null,null,null,null,null,null,null,null,null,"Tobosaru Gheorghe","Brasov"]
[null,null,null,null,null,null,null,null,null,null,null,null,null,null,null,null,null,null,null,"Tobosaru Stefan","Brasov"]
[null,null,null,null,null,null,null,null,null,null,null,null,null,null,null,null,null,null,null,"Tocaciu Septimiu","Beclean"]
[null,null,null,null,null,null,null,null,null,null,null,null,null,null,null,null,null,null,null,"Tocan Costin","Moreni"]
[null,null,null,null,null,null,null,null,null,null,null,null,null,null,null,null,null,null,null,"Todarcea Ioan","Sibiu"]
[null,null,null,null,null,null,null,null,null,null,null,null,null,null,null,null,null,null,null,"Todea Adrian","Apahida"]
[null,null,null,null,null,null,null,null,null,null,null,null,null,null,null,null,null,null,null,"Todea Alexandru","Cluj Napoca"]
[null,null,null,null,null,null,null,null,null,null,null,null,null,null,null,null,null,null,null,"Todea Ioan","Rasca"]
[null,null,null,null,null,null,null,null,null,null,null,null,null,null,null,null,null,null,null,"Todea Mircea","Cluj Napoca"]
[null,null,null,null,null,null,null,null,null,null,null,null,null,null,null,null,null,null,null,"Toderean Darius","Hunedoara"]
[null,null,null,null,null,null,null,null,null,null,null,null,null,null,null,null,null,null,null,"Toderita Catalina","Bucuresti"]
[null,null,null,null,null,null,null,null,null,null,null,null,null,null,null,null,null,null,null,"Todi Dumitru","Slobozia"]
[null,null,null,null,null,null,null,null,null,null,null,null,null,null,null,null,null,null,null,"Todireanu Valentin","Iasi"]
[null,null,null,null,null,null,null,null,null,null,null,null,null,null,null,null,null,null,null,"Todor Cristian","Oradea"]
[null,null,null,null,null,null,null,null,null,null,null,null,null,null,null,null,null,null,null,"Todor Csaba","Gheorgheni"]
[null,null,null,null,null,null,null,null,null,null,null,null,null,null,null,null,null,null,null,"Todorova Margarita","Moldova-Cahul"]
[null,null,null,null,null,null,null,null,null,null,null,null,null,null,null,null,null,null,null,"Todos Alexandru","Moldova-Cahul"]
[null,null,null,null,null,null,null,null,null,null,null,null,null,null,null,null,null,null,null,"Todos Dumitru","Moldova-Cahul"]
[null,null,null,null,null,null,null,null,null,null,null,null,null,null,null,null,null,null,null,"Tofalvi Erzsebet","Odorheiu Secuiesc"]
[null,null,null,null,null,null,null,null,null,null,null,null,null,null,null,null,null,null,null,"Tofan Sebastian","Lipova"]
[null,null,null,null,null,null,null,null,null,null,null,null,null,null,null,null,null,null,null,"Tofeni Florin","Nasaud"]
[null,null,null,null,null,null,null,null,null,null,null,null,null,null,null,null,null,null,null,"Tofeni Ovidiu","Cluj Napoca"]
[null,null,null,null,null,null,null,null,null,null,null,null,null,null,null,null,null,null,null,"Toma Adrian","Sfantu Gheorghe"]
[null,null,null,null,null,null,null,null,null,null,null,null,null,null,null,null,null,null,null,"Toma Adrian","Bucuresti"]
[null,null,null,null,null,null,null,null,null,null,null,null,null,null,null,null,null,null,null,"Toma Andrei","Reghin"]
[null,null,null,null,null,null,null,null,null,null,null,null,null,null,null,null,null,null,null,"Toma Bianca","Slatina"]
[null,null,null,null,null,null,null,null,null,null,null,null,null,null,null,null,null,null,null,"Toma Calaraseanu","Bucuresti"]
[null,null,null,null,null,null,null,null,null,null,null,null,null,null,null,null,null,null,null,"Toma Casian","Targu Mures"]
[null,null,null,null,null,null,null,null,null,null,null,null,null,null,null,null,null,null,null,"Toma Cristian","Oradea"]
[null,null,null,null,null,null,null,null,null,null,null,null,null,null,null,null,null,null,null,"Toma Cristian","Balotesti"]
[null,null,null,null,null,null,null,null,null,null,null,null,null,null,null,null,null,null,null,"Toma Dan","Sfantu Gheorghe"]
[null,null,null,null,null,null,null,null,null,null,null,null,null,null,null,null,null,null,null,"Toma David","Bucuresti"]
[null,null,null,null,null,null,null,null,null,null,null,null,null,null,null,null,null,null,null,"Toma Florin","Pitesti"]
[null,null,null,null,null,null,null,null,null,null,null,null,null,null,null,null,null,null,null,"Toma Florin Augustin","Slobozia"]
[null,null,null,null,null,null,null,null,null,null,null,null,null,null,null,null,null,null,null,"Toma Iulian","Braila"]
[null,null,null,null,null,null,null,null,null,null,null,null,null,null,null,null,null,null,null,"Toma Sebastian","Ramnicu Sarat"]
[null,null,null,null,null,null,null,null,null,null,null,null,null,null,null,null,null,null,null,"Toma Viorel","Giurgiu"]
[null,null,null,null,null,null,null,null,null,null,null,null,null,null,null,null,null,null,null,"Tomer Hadar","Sofia"]
[null,null,null,null,null,null,null,null,null,null,null,null,null,null,null,null,null,null,null,"Tomoiaga Cosmin","Viseu"]
[null,null,null,null,null,null,null,null,null,null,null,null,null,null,null,null,null,null,null,"Tomoiaga Daniel","Viseu"]
[null,null,null,null,null,null,null,null,null,null,null,null,null,null,null,null,null,null,null,"Tomoiu Stefan","Hunedoara"]
[null,null,null,null,null,null,null,null,null,null,null,null,null,null,null,null,null,null,null,"Tonciu Costin","Branesti"]
[null,null,null,null,null,null,null,null,null,null,null,null,null,null,null,null,null,null,null,"Tonciu Mihai","Branesti"]
[null,null,null,null,null,null,null,null,null,null,null,null,null,null,null,null,null,null,null,"Tonghioiu Stefan","Campulung Muscel"]
[null,null,null,null,null,null,null,null,null,null,null,null,null,null,null,null,null,null,null,"Tonu Pavel","Moldova-Balti"]
[null,null,null,null,null,null,null,null,null,null,null,null,null,null,null,null,null,null,null,"Topada Ion","Moldova-Comrat"]
[null,null,null,null,null,null,null,null,null,null,null,null,null,null,null,null,null,null,null,"Topala Alexandru","Moldova-Balti"]
[null,null,null,null,null,null,null,null,null,null,null,null,null,null,null,null,null,null,null,"Topciu David","Targu Mures"]
[null,null,null,null,null,null,null,null,null,null,null,null,null,null,null,null,null,null,null,"Topciu Ivan","Moldova-Chisinau"]
[null,null,null,null,null,null,null,null,null,null,null,null,null,null,null,null,null,null,null,"Toplician Mihai","Hunedoara"]
[null,null,null,null,null,null,null,null,null,null,null,null,null,null,null,null,null,null,null,"Topoleanu Dan","Bucuresti"]
[null,null,null,null,null,null,null,null,null,null,null,null,null,null,null,null,null,null,null,"Topsaneanu Valentin","Chitila"]
[null,null,null,null,null,null,null,null,null,null,null,null,null,null,null,null,null,null,null,"Toric Constantin","Bucuresti"]
[null,null,null,null,null,null,null,null,null,null,null,null,null,null,null,null,null,null,null,"Tose Cristian","Oradea"]
[null,null,null,null,null,null,null,null,null,null,null,null,null,null,null,null,null,null,null,"Tose Petre","Oradea"]
[null,null,null,null,null,null,null,null,null,null,null,null,null,null,null,null,null,null,null,"Toth Attila","Sfantu Gheorghe"]
[null,null,null,null,null,null,null,null,null,null,null,null,null,null,null,null,null,null,null,"Toth Geza","Sfantu Gheorghe"]
[null,null,null,null,null,null,null,null,null,null,null,null,null,null,null,null,null,null,null,"Toth Rezso","Sovata"]
[null,null,null,null,null,null,null,null,null,null,null,null,null,null,null,null,null,null,null,"Totos Ludovic","Marghita"]
[null,null,null,null,null,null,null,null,null,null,null,null,null,null,null,null,null,null,null,"Totpal Marius","Busteni"]
[null,null,null,null,null,null,null,null,null,null,null,null,null,null,null,null,null,null,null,"Tovis Levente","Cluj Napoca"]
[null,null,null,null,null,null,null,null,null,null,null,null,null,null,null,null,null,null,null,"Trajicevski Nikola","Pancevo"]
[null,null,null,null,null,null,null,null,null,null,null,null,null,null,null,null,null,null,null,"Trandafir Catalin","Slobozia"]
[null,null,null,null,null,null,null,null,null,null,null,null,null,null,null,null,null,null,null,"Trandafir Iosif","Galati"]
[null,null,null,null,null,null,null,null,null,null,null,null,null,null,null,null,null,null,null,"Trandafir Radu Catalin","Giurgiu"]
[null,null,null,null,null,null,null,null,null,null,null,null,null,null,null,null,null,null,null,"Trandafir Vasile","Targu Mures"]
[null,null,null,null,null,null,null,null,null,null,null,null,null,null,null,null,null,null,null,"Traneci Andrei Valentin","Bucuresti"]
[null,null,null,null,null,null,null,null,null,null,null,null,null,null,null,null,null,null,null,"Tranoiu Sandel","Hateg"]
[null,null,null,null,null,null,null,null,null,null,null,null,null,null,null,null,null,null,null,"Trascau Ovidiu","Bucuresti"]
[null,null,null,null,null,null,null,null,null,null,null,null,null,null,null,null,null,null,null,"Trebel Robert","Bocsa"]
[null,null,null,null,null,null,null,null,null,null,null,null,null,null,null,null,null,null,null,"Tricolici Anton","Bistrita"]
[null,null,null,null,null,null,null,null,null,null,null,null,null,null,null,null,null,null,null,"Trif Florin","Cocorastii Mislii"]
[null,null,null,null,null,null,null,null,null,null,null,null,null,null,null,null,null,null,null,"Trif Marius","Atintis"]
[null,null,null,null,null,null,null,null,null,null,null,null,null,null,null,null,null,null,null,"Trif Mihai","Cluj Napoca"]
[null,null,null,null,null,null,null,null,null,null,null,null,null,null,null,null,null,null,null,"Trif Radu","Ludus"]
[null,null,null,null,null,null,null,null,null,null,null,null,null,null,null,null,null,null,null,"Trifan Stefan","Galati"]
[null,null,null,null,null,null,null,null,null,null,null,null,null,null,null,null,null,null,null,"Trifan Valentin","Galati"]
[null,null,null,null,null,null,null,null,null,null,null,null,null,null,null,null,null,null,null,"Triff Raul","Deva"]
[null,null,null,null,null,null,null,null,null,null,null,null,null,null,null,null,null,null,null,"Trifon Sara","Lokve"]
[null,null,null,null,null,null,null,null,null,null,null,null,null,null,null,null,null,null,null,"Trip Darius","Oradea"]
[null,null,null,null,null,null,null,null,null,null,null,null,null,null,null,null,null,null,null,"Triteanu Ovidiu","Cluj Napoca"]
[null,null,null,null,null,null,null,null,null,null,null,null,null,null,null,null,null,null,null,"Trocan Nicolae","Mioveni"]
[null,null,null,null,null,null,null,null,null,null,null,null,null,null,null,null,null,null,null,"Trocaru Remus","Tulcea"]
[null,null,null,null,null,null,null,null,null,null,null,null,null,null,null,null,null,null,null,"Trofin Cristian","Brasov"]
[null,null,null,null,null,null,null,null,null,null,null,null,null,null,null,null,null,null,null,"Trohonel Daniel","Bucuresti"]
[null,null,null,null,null,null,null,null,null,null,null,null,null,null,null,null,null,null,null,"Tronciu Gabriel","Roman"]
[null,null,null,null,null,null,null,null,null,null,null,null,null,null,null,null,null,null,null,"Truica Robert","Sibiu"]
[null,null,null,null,null,null,null,null,null,null,null,null,null,null,null,null,null,null,null,"Trusca Claudiu","Drobeta Tr Severin"]
[null,null,null,null,null,null,null,null,null,null,null,null,null,null,null,null,null,null,null,"Truta Andrei","Bucuresti"]
[null,null,null,null,null,null,null,null,null,null,null,null,null,null,null,null,null,null,null,"Truta Andrei","Reghin"]
[null,null,null,null,null,null,null,null,null,null,null,null,null,null,null,null,null,null,null,"Tsubera Ion","Sighetu Marmatiei"]
[null,null,null,null,null,null,null,null,null,null,null,null,null,null,null,null,null,null,null,"Tuca Cristi","Slatina"]
[null,null,null,null,null,null,null,null,null,null,null,null,null,null,null,null,null,null,null,"Tuchiulus Emanoil","Galati"]
[null,null,null,null,null,null,null,null,null,null,null,null,null,null,null,null,null,null,null,"Tucuina Dragos","Dumbravita"]
[null,null,null,null,null,null,null,null,null,null,null,null,null,null,null,null,null,null,null,"Tudor Aurel","Harsova"]
[null,null,null,null,null,null,null,null,null,null,null,null,null,null,null,null,null,null,null,"Tudor Cosmin","Buzau"]
[null,null,null,null,null,null,null,null,null,null,null,null,null,null,null,null,null,null,null,"Tudor Emil","Bucuresti"]
[null,null,null,null,null,null,null,null,null,null,null,null,null,null,null,null,null,null,null,"Tudor Florian","Bucuresti"]
[null,null,null,null,null,null,null,null,null,null,null,null,null,null,null,null,null,null,null,"Tudor Ilie","Bucuresti"]
[null,null,null,null,null,null,null,null,null,null,null,null,null,null,null,null,null,null,null,"Tudor Mihai Maximilian","Alexandria"]
[null,null,null,null,null,null,null,null,null,null,null,null,null,null,null,null,null,null,null,"Tudor Raisa","Pitesti"]
[null,null,null,null,null,null,null,null,null,null,null,null,null,null,null,null,null,null,null,"Tudor Theodor","Roman"]
[null,null,null,null,null,null,null,null,null,null,null,null,null,null,null,null,null,null,null,"Tudor Valeriu","Ploiesti"]
[null,null,null,null,null,null,null,null,null,null,null,null,null,null,null,null,null,null,null,"Tudorache Ciprian","Ploiesti"]
[null,null,null,null,null,null,null,null,null,null,null,null,null,null,null,null,null,null,null,"Tudorache Constantin","Targoviste"]
[null,null,null,null,null,null,null,null,null,null,null,null,null,null,null,null,null,null,null,"Tudorache Cornel","Bucuresti"]
[null,null,null,null,null,null,null,null,null,null,null,null,null,null,null,null,null,null,null,"Tudoran Catalin","Timisoara"]
[null,null,null,null,null,null,null,null,null,null,null,null,null,null,null,null,null,null,null,"Tudorascu Mircea","Orastie"]
[null,null,null,null,null,null,null,null,null,null,null,null,null,null,null,null,null,null,null,"Tudorica Ionut","Bucuresti"]
[null,null,null,null,null,null,null,null,null,null,null,null,null,null,null,null,null,null,null,"Tudose David","Boldesti Scaeni"]
[null,null,null,null,null,null,null,null,null,null,null,null,null,null,null,null,null,null,null,"Tudose Ilariu","Dragasani"]
[null,null,null,null,null,null,null,null,null,null,null,null,null,null,null,null,null,null,null,"Tudose Iulian","Galati"]
[null,null,null,null,null,null,null,null,null,null,null,null,null,null,null,null,null,null,null,"Tudose Laurentiu","Comanesti"]
[null,null,null,null,null,null,null,null,null,null,null,null,null,null,null,null,null,null,null,"Tudose Marius","Galati"]
[null,null,null,null,null,null,null,null,null,null,null,null,null,null,null,null,null,null,null,"Tudosi Petru","Suceava"]
[null,null,null,null,null,null,null,null,null,null,null,null,null,null,null,null,null,null,null,"Tudosie David","Ploiesti"]
[null,null,null,null,null,null,null,null,null,null,null,null,null,null,null,null,null,null,null,"Tudosie Marcel","Ploiesti"]
[null,null,null,null,null,null,null,null,null,null,null,null,null,null,null,null,null,null,null,"Tufeanu Bogdan","Slatina"]
[null,null,null,null,null,null,null,null,null,null,null,null,null,null,null,null,null,null,null,"Tufis Razvan","Bucuresti"]
[null,null,null,null,null,null,null,null,null,null,null,null,null,null,null,null,null,null,null,"Tulei Marius","Iasi"]
[null,null,null,null,null,null,null,null,null,null,null,null,null,null,null,null,null,null,null,"Tulei Stefan","Iasi"]
[null,null,null,null,null,null,null,null,null,null,null,null,null,null,null,null,null,null,null,"Tulpan George Laurentiu","Targu Jiu"]
[null,null,null,null,null,null,null,null,null,null,null,null,null,null,null,null,null,null,null,"Turbatu Rares","Fieni"]
[null,null,null,null,null,null,null,null,null,null,null,null,null,null,null,null,null,null,null,"Turburan Ion","Resita"]
[null,null,null,null,null,null,null,null,null,null,null,null,null,null,null,null,null,null,null,"Turcescu Stefan","Pitesti"]
[null,null,null,null,null,null,null,null,null,null,null,null,null,null,null,null,null,null,null,"Turcinschi Serghei","Moldova-Balti"]
[null,null,null,null,null,null,null,null,null,null,null,null,null,null,null,null,null,null,null,"Turcu Viorel","Piatra Neamt"]
[null,null,null,null,null,null,null,null,null,null,null,null,null,null,null,null,null,null,null,"Turlui Rares","Bals"]
[null,null,null,null,null,null,null,null,null,null,null,null,null,null,null,null,null,null,null,"Turtoi Costin","Tulcea"]
[null,null,null,null,null,null,null,null,null,null,null,null,null,null,null,null,null,null,null,"Tuta Radu Ionut","Pitesti"]
[null,null,null,null,null,null,null,null,null,null,null,null,null,null,null,null,null,null,null,"Tutos Csaba","Oradea"]
[null,null,null,null,null,null,null,null,null,null,null,null,null,null,null,null,null,null,null,"Tutoveanu Razvan","Brasov"]
[null,null,null,null,null,null,null,null,null,null,null,null,null,null,null,null,null,null,null,"Tutuianu Radu","Timisoara"]
[null,null,null,null,null,null,null,null,null,null,null,null,null,null,null,null,null,null,null,"Udila Emanuel","Bucuresti"]
[null,null,null,null,null,null,null,null,null,null,null,null,null,null,null,null,null,null,null,"Uglea Mihai","Cluj Napoca"]
[null,null,null,null,null,null,null,null,null,null,null,null,null,null,null,null,null,null,null,"Ulea Andrei","Moinesti"]
[null,null,null,null,null,null,null,null,null,null,null,null,null,null,null,null,null,null,null,"Ulesan Alexandru","Sibiu"]
[null,null,null,null,null,null,null,null,null,null,null,null,null,null,null,null,null,null,null,"Ulesan Traian","Sibiu"]
[null,null,null,null,null,null,null,null,null,null,null,null,null,null,null,null,null,null,null,"Ungur Florin Tiberiu","Fundu Moldovei"]
[null,null,null,null,null,null,null,null,null,null,null,null,null,null,null,null,null,null,null,"Ungureanu Adrian","Piatra Neamt"]
[null,null,null,null,null,null,null,null,null,null,null,null,null,null,null,null,null,null,null,"Ungureanu Costinel","Drobeta Tr Severin"]
[null,null,null,null,null,null,null,null,null,null,null,null,null,null,null,null,null,null,null,"Ungureanu David","Pitesti"]
[null,null,null,null,null,null,null,null,null,null,null,null,null,null,null,null,null,null,null,"Ungureanu Doru","Focsani"]
[null,null,null,null,null,null,null,null,null,null,null,null,null,null,null,null,null,null,null,"Ungureanu Gheorghita","Focsani"]
[null,null,null,null,null,null,null,null,null,null,null,null,null,null,null,null,null,null,null,"Ungureanu Petrica","Pascani"]
[null,null,null,null,null,null,null,null,null,null,null,null,null,null,null,null,null,null,null,"Ungureanu Rares","Pascani"]
[null,null,null,null,null,null,null,null,null,null,null,null,null,null,null,null,null,null,null,"Ungureanu Stefan Radu","Ploiesti"]
[null,null,null,null,null,null,null,null,null,null,null,null,null,null,null,null,null,null,null,"Ungvari Kriszta","Targu Mures"]
[null,null,null,null,null,null,null,null,null,null,null,null,null,null,null,null,null,null,null,"Untea Costel","Ramnicu Sarat"]
[null,null,null,null,null,null,null,null,null,null,null,null,null,null,null,null,null,null,null,"Untu Adrian","Iasi"]
[null,null,null,null,null,null,null,null,null,null,null,null,null,null,null,null,null,null,null,"Uram Mihai","Tulcea"]
[null,null,null,null,null,null,null,null,null,null,null,null,null,null,null,null,null,null,null,"Urcan Lucian","Timisoara"]
[null,null,null,null,null,null,null,null,null,null,null,null,null,null,null,null,null,null,null,"Urdes Florentina Ruxandra","Tulcea"]
[null,null,null,null,null,null,null,null,null,null,null,null,null,null,null,null,null,null,null,"Urdes Marian","Tulcea"]
[null,null,null,null,null,null,null,null,null,null,null,null,null,null,null,null,null,null,null,"Ureche Vasi","Cajvana"]
[null,null,null,null,null,null,null,null,null,null,null,null,null,null,null,null,null,null,null,"Urian Nicusor","Alba Iulia"]
[null,null,null,null,null,null,null,null,null,null,null,null,null,null,null,null,null,null,null,"Urs Lucian","Nasaud"]
[null,null,null,null,null,null,null,null,null,null,null,null,null,null,null,null,null,null,null,"Ursache Ciprian Jean","Focsani"]
[null,null,null,null,null,null,null,null,null,null,null,null,null,null,null,null,null,null,null,"Ursan Stefan","Manastireni"]
[null,null,null,null,null,null,null,null,null,null,null,null,null,null,null,null,null,null,null,"Ursescu Iuliu","Radauti"]
[null,null,null,null,null,null,null,null,null,null,null,null,null,null,null,null,null,null,null,"Ursu Ciprian","Calan"]
[null,null,null,null,null,null,null,null,null,null,null,null,null,null,null,null,null,null,null,"Ursu Cristi","Muncel"]
[null,null,null,null,null,null,null,null,null,null,null,null,null,null,null,null,null,null,null,"Ursu Laurentiu","Galati"]
[null,null,null,null,null,null,null,null,null,null,null,null,null,null,null,null,null,null,null,"Ursu Silviu","Timisoara"]
[null,null,null,null,null,null,null,null,null,null,null,null,null,null,null,null,null,null,null,"Ursu Teodor","Bucuresti"]
[null,null,null,null,null,null,null,null,null,null,null,null,null,null,null,null,null,null,null,"Ursulean Vasile","Straja"]
[null,null,null,null,null,null,null,null,null,null,null,null,null,null,null,null,null,null,null,"Ursulescu Ioan","Bacau"]
[null,null,null,null,null,null,null,null,null,null,null,null,null,null,null,null,null,null,null,"Ursulescu Octavian","Curtea"]
[null,null,null,null,null,null,null,null,null,null,null,null,null,null,null,null,null,null,null,"Urzica Ioan","Toplita"]
[null,null,null,null,null,null,null,null,null,null,null,null,null,null,null,null,null,null,null,"Urzica Pavel","Piatra Neamt"]
[null,null,null,null,null,null,null,null,null,null,null,null,null,null,null,null,null,null,null,"Usatenco Igori","Ucraina"]
[null,null,null,null,null,null,null,null,null,null,null,null,null,null,null,null,null,null,null,"Usatenco Lev","Ucraina"]
[null,null,null,null,null,null,null,null,null,null,null,null,null,null,null,null,null,null,null,"Usatiuc Toader","Radauti"]
[null,null,null,null,null,null,null,null,null,null,null,null,null,null,null,null,null,null,null,"Uta David","Bucuresti"]
[null,null,null,null,null,null,null,null,null,null,null,null,null,null,null,null,null,null,null,"Uta Gheorghe","Bucuresti"]
[null,null,null,null,null,null,null,null,null,null,null,null,null,null,null,null,null,null,null,"Uzun Alexandr","Moldova-Cazaclia"]
[null,null,null,null,null,null,null,null,null,null,null,null,null,null,null,null,null,null,null,"Uzun Andrei","Moldova-Cazaclia"]
[null,null,null,null,null,null,null,null,null,null,null,null,null,null,null,null,null,null,null,"Vacaru Liviu","Victoria"]
[null,null,null,null,null,null,null,null,null,null,null,null,null,null,null,null,null,null,null,"Vaculisteanu Ionut","Botosani"]
[null,null,null,null,null,null,null,null,null,null,null,null,null,null,null,null,null,null,null,"Vaduva David","Bucuresti"]
[null,null,null,null,null,null,null,null,null,null,null,null,null,null,null,null,null,null,null,"Vaduva Ionut","Pitesti"]
[null,null,null,null,null,null,null,null,null,null,null,null,null,null,null,null,null,null,null,"Vaida Alin","Cluj Napoca"]
[null,null,null,null,null,null,null,null,null,null,null,null,null,null,null,null,null,null,null,"Vaida Gheorghe","Sibiu"]
[null,null,null,null,null,null,null,null,null,null,null,null,null,null,null,null,null,null,null,"Vaida Sorin","Oradea"]
[null,null,null,null,null,null,null,null,null,null,null,null,null,null,null,null,null,null,null,"Vaida Szilard","Bistrita"]
[null,null,null,null,null,null,null,null,null,null,null,null,null,null,null,null,null,null,null,"Vaideanu Fabiana","Vatra Dornei"]
[null,null,null,null,null,null,null,null,null,null,null,null,null,null,null,null,null,null,null,"Vaireanu Danut Ionel","Bucuresti"]
[null,null,null,null,null,null,null,null,null,null,null,null,null,null,null,null,null,null,null,"Vajda Erno","Reghin"]
[null,null,null,null,null,null,null,null,null,null,null,null,null,null,null,null,null,null,null,"Vajeu Ionut","Busteni"]
[null,null,null,null,null,null,null,null,null,null,null,null,null,null,null,null,null,null,null,"Valache Viorel","Galati"]
[null,null,null,null,null,null,null,null,null,null,null,null,null,null,null,null,null,null,null,"Valcea Daniel","Pitesti"]
[null,null,null,null,null,null,null,null,null,null,null,null,null,null,null,null,null,null,null,"Valcea Vlad","Constanta"]
[null,null,null,null,null,null,null,null,null,null,null,null,null,null,null,null,null,null,null,"Valcica Antonio","Slatina"]
[null,null,null,null,null,null,null,null,null,null,null,null,null,null,null,null,null,null,null,"Valcica Raul Ginno","Uricani"]
[null,null,null,null,null,null,null,null,null,null,null,null,null,null,null,null,null,null,null,"Valcica Razvan Daniel","Uricani"]
[null,null,null,null,null,null,null,null,null,null,null,null,null,null,null,null,null,null,null,"Valcu Alin","Botosani"]
[null,null,null,null,null,null,null,null,null,null,null,null,null,null,null,null,null,null,null,"Vale Nelu","Zalau"]
[null,null,null,null,null,null,null,null,null,null,null,null,null,null,null,null,null,null,null,"Valea Claudiu","Targu Mures"]
[null,null,null,null,null,null,null,null,null,null,null,null,null,null,null,null,null,null,null,"Valea Valentin","Petrosani"]
[null,null,null,null,null,null,null,null,null,null,null,null,null,null,null,null,null,null,null,"Valean Adrian","Bistrita"]
[null,null,null,null,null,null,null,null,null,null,null,null,null,null,null,null,null,null,null,"Vancsa Zoltan","Miercurea Ciuc"]
[null,null,null,null,null,null,null,null,null,null,null,null,null,null,null,null,null,null,null,"Varachin Vitalie","Moldova-Cahul"]
[null,null,null,null,null,null,null,null,null,null,null,null,null,null,null,null,null,null,null,"Varady Mark","Oradea"]
[null,null,null,null,null,null,null,null,null,null,null,null,null,null,null,null,null,null,null,"Varbanescu Petre","Giurgiu"]
[null,null,null,null,null,null,null,null,null,null,null,null,null,null,null,null,null,null,null,"Varga Bianca","Luna CJ"]
[null,null,null,null,null,null,null,null,null,null,null,null,null,null,null,null,null,null,null,"Varga Codrut","Luna CJ"]
[null,null,null,null,null,null,null,null,null,null,null,null,null,null,null,null,null,null,null,"Varga Florin","Cluj Napoca"]
[null,null,null,null,null,null,null,null,null,null,null,null,null,null,null,null,null,null,null,"Varga Istvan","Targu Mures"]
[null,null,null,null,null,null,null,null,null,null,null,null,null,null,null,null,null,null,null,"Varga Zoltan","Bucuresti"]
[null,null,null,null,null,null,null,null,null,null,null,null,null,null,null,null,null,null,null,"Vargyas Karoly","Joseni"]
[null,null,null,null,null,null,null,null,null,null,null,null,null,null,null,null,null,null,null,"Varzaru Alexandru","Bucuresti"]
[null,null,null,null,null,null,null,null,null,null,null,null,null,null,null,null,null,null,null,"Vasi Daniel","Arad"]
[null,null,null,null,null,null,null,null,null,null,null,null,null,null,null,null,null,null,null,"Vasilache Andrei","Medias"]
[null,null,null,null,null,null,null,null,null,null,null,null,null,null,null,null,null,null,null,"Vasilache Geoni","Matca"]
[null,null,null,null,null,null,null,null,null,null,null,null,null,null,null,null,null,null,null,"Vasilache Lucica","Barlad"]
[null,null,null,null,null,null,null,null,null,null,null,null,null,null,null,null,null,null,null,"Vasilache Sebastian","Iasi"]
[null,null,null,null,null,null,null,null,null,null,null,null,null,null,null,null,null,null,null,"Vasilache Valentin","Medias"]
[null,null,null,null,null,null,null,null,null,null,null,null,null,null,null,null,null,null,null,"Vasile Adrian Cristian","Bucuresti"]
[null,null,null,null,null,null,null,null,null,null,null,null,null,null,null,null,null,null,null,"Vasile Augustin","Brasov"]
[null,null,null,null,null,null,null,null,null,null,null,null,null,null,null,null,null,null,null,"Vasile Cristian","Brasov"]
[null,null,null,null,null,null,null,null,null,null,null,null,null,null,null,null,null,null,null,"Vasile Gelu Iulian","Bucuresti"]
[null,null,null,null,null,null,null,null,null,null,null,null,null,null,null,null,null,null,null,"Vasile Gica","Vulcana Bai"]
[null,null,null,null,null,null,null,null,null,null,null,null,null,null,null,null,null,null,null,"Vasile Iancu","Navodari"]
[null,null,null,null,null,null,null,null,null,null,null,null,null,null,null,null,null,null,null,"Vasile Marian","Bucuresti"]
[null,null,null,null,null,null,null,null,null,null,null,null,null,null,null,null,null,null,null,"Vasile Raducu","Jebel"]
[null,null,null,null,null,null,null,null,null,null,null,null,null,null,null,null,null,null,null,"Vasile Victor","Videle"]
[null,null,null,null,null,null,null,null,null,null,null,null,null,null,null,null,null,null,null,"Vasilescu Emil","Calarasi"]
[null,null,null,null,null,null,null,null,null,null,null,null,null,null,null,null,null,null,null,"Vasilescu Florin","Ploiesti"]
[null,null,null,null,null,null,null,null,null,null,null,null,null,null,null,null,null,null,null,"Vasilescu Remus","Curtea de Arges"]
[null,null,null,null,null,null,null,null,null,null,null,null,null,null,null,null,null,null,null,"Vasiliu Alin","Panciu"]
[null,null,null,null,null,null,null,null,null,null,null,null,null,null,null,null,null,null,null,"Vasiliu Aurel","Barlad"]
[null,null,null,null,null,null,null,null,null,null,null,null,null,null,null,null,null,null,null,"Vasiliu Bogdan","Panciu"]
[null,null,null,null,null,null,null,null,null,null,null,null,null,null,null,null,null,null,null,"Vasiliu Remus","Mioveni"]
[null,null,null,null,null,null,null,null,null,null,null,null,null,null,null,null,null,null,null,"Vasiljevic Jakov","Zajecar Serbia"]
[null,null,null,null,null,null,null,null,null,null,null,null,null,null,null,null,null,null,null,"Vasiloiu Mihai","Focsani"]
[null,null,null,null,null,null,null,null,null,null,null,null,null,null,null,null,null,null,null,"Vasiloiu Sebastian","Pitesti"]
[null,null,null,null,null,null,null,null,null,null,null,null,null,null,null,null,null,null,null,"Vasiloiu Stefan","Pitesti"]
[null,null,null,null,null,null,null,null,null,null,null,null,null,null,null,null,null,null,null,"Vasincu Octavian Laurentiu","Iasi"]
[null,null,null,null,null,null,null,null,null,null,null,null,null,null,null,null,null,null,null,"Vasiu Stefan","Alba Iulia"]
[null,null,null,null,null,null,null,null,null,null,null,null,null,null,null,null,null,null,null,"Vasla Mihai","Constanta"]
[null,null,null,null,null,null,null,null,null,null,null,null,null,null,null,null,null,null,null,"Vass Sandor","Beclean"]
[null,null,null,null,null,null,null,null,null,null,null,null,null,null,null,null,null,null,null,"Vaszi Denes","Miercurea Ciuc"]
[null,null,null,null,null,null,null,null,null,null,null,null,null,null,null,null,null,null,null,"Vatamanu Silviu","Fratautii Vechi"]
[null,null,null,null,null,null,null,null,null,null,null,null,null,null,null,null,null,null,null,"Vatavu Eduard","Coarnele Caprei"]
[null,null,null,null,null,null,null,null,null,null,null,null,null,null,null,null,null,null,null,"Vavura Narcis","Targu Jiu"]
[null,null,null,null,null,null,null,null,null,null,null,null,null,null,null,null,null,null,null,"Vela Gabriel","Timisoara"]
[null,null,null,null,null,null,null,null,null,null,null,null,null,null,null,null,null,null,null,"Velcea George","Bucuresti"]
[null,null,null,null,null,null,null,null,null,null,null,null,null,null,null,null,null,null,null,"Velcea Rebeca","Bucuresti"]
[null,null,null,null,null,null,null,null,null,null,null,null,null,null,null,null,null,null,null,"Velea Alin","Bucuresti"]
[null,null,null,null,null,null,null,null,null,null,null,null,null,null,null,null,null,null,null,"Velicescu Dragos","Pitesti"]
[null,null,null,null,null,null,null,null,null,null,null,null,null,null,null,null,null,null,null,"Velicu Damian Laurentiu","Bucuresti"]
[null,null,null,null,null,null,null,null,null,null,null,null,null,null,null,null,null,null,null,"Venczel Antoniu","Giroc"]
[null,null,null,null,null,null,null,null,null,null,null,null,null,null,null,null,null,null,null,"Venter Liviu","Resita"]
[null,null,null,null,null,null,null,null,null,null,null,null,null,null,null,null,null,null,null,"Venture Taras","Ucraina"]
[null,null,null,null,null,null,null,null,null,null,null,null,null,null,null,null,null,null,null,"Vera Esteban","Sibiu"]
[null,null,null,null,null,null,null,null,null,null,null,null,null,null,null,null,null,null,null,"Verciuc Alexandru","Suceava"]
[null,null,null,null,null,null,null,null,null,null,null,null,null,null,null,null,null,null,null,"Verciuc Florin","Suceava"]
[null,null,null,null,null,null,null,null,null,null,null,null,null,null,null,null,null,null,null,"Verdes Laurentiu","Baia Mare"]
[null,null,null,null,null,null,null,null,null,null,null,null,null,null,null,null,null,null,null,"Verdet Adrian","Timisoara"]
[null,null,null,null,null,null,null,null,null,null,null,null,null,null,null,null,null,null,null,"Veres Adrian","Timisoara"]
[null,null,null,null,null,null,null,null,null,null,null,null,null,null,null,null,null,null,null,"Veres Francisc","Oravita"]
[null,null,null,null,null,null,null,null,null,null,null,null,null,null,null,null,null,null,null,"Veres Iulian Cristian","Petrila"]
[null,null,null,null,null,null,null,null,null,null,null,null,null,null,null,null,null,null,null,"Veres Janos","Targu Mures"]
[null,null,null,null,null,null,null,null,null,null,null,null,null,null,null,null,null,null,null,"Verescu Dumitru","Ianca"]
[null,null,null,null,null,null,null,null,null,null,null,null,null,null,null,null,null,null,null,"Veress Csaba","Sovata"]
[null,null,null,null,null,null,null,null,null,null,null,null,null,null,null,null,null,null,null,"Verman Stefan","Brasov"]
[null,null,null,null,null,null,null,null,null,null,null,null,null,null,null,null,null,null,null,"Vescan Adrian","Cluj Napoca"]
[null,null,null,null,null,null,null,null,null,null,null,null,null,null,null,null,null,null,null,"Vescan Lucian","Cluj Napoca"]
[null,null,null,null,null,null,null,null,null,null,null,null,null,null,null,null,null,null,null,"Vescan Radu","Cluj Napoca"]
[null,null,null,null,null,null,null,null,null,null,null,null,null,null,null,null,null,null,null,"Vestineanu Ionut","Slobozia"]
[null,null,null,null,null,null,null,null,null,null,null,null,null,null,null,null,null,null,null,"Vidrut Ioan","Apahida"]
[null,null,null,null,null,null,null,null,null,null,null,null,null,null,null,null,null,null,null,"Vieriu Mirel","Focsani"]
[null,null,null,null,null,null,null,null,null,null,null,null,null,null,null,null,null,null,null,"Vieriu Teodora","Vatra Dornei"]
[null,null,null,null,null,null,null,null,null,null,null,null,null,null,null,null,null,null,null,"Vieriu Tudorel","Suceava"]
[null,null,null,null,null,null,null,null,null,null,null,null,null,null,null,null,null,null,null,"Vieru Costica","Botosani"]
[null,null,null,null,null,null,null,null,null,null,null,null,null,null,null,null,null,null,null,"Vig Andrei","Simleu Silvaniei"]
[null,null,null,null,null,null,null,null,null,null,null,null,null,null,null,null,null,null,null,"Vigh Marton","Cluj Napoca"]
[null,null,null,null,null,null,null,null,null,null,null,null,null,null,null,null,null,null,null,"Vigu Cristian","Cluj Napoca"]
[null,null,null,null,null,null,null,null,null,null,null,null,null,null,null,null,null,null,null,"Vigu Emanuel","Cluj Napoca"]
[null,null,null,null,null,null,null,null,null,null,null,null,null,null,null,null,null,null,null,"Vijaica Florin","Drobeta Tr Severin"]
[null,null,null,null,null,null,null,null,null,null,null,null,null,null,null,null,null,null,null,"Vilcea Lucian","Brasov"]
[null,null,null,null,null,null,null,null,null,null,null,null,null,null,null,null,null,null,null,"Vilceanu Andrei","Timisoara"]
[null,null,null,null,null,null,null,null,null,null,null,null,null,null,null,null,null,null,null,"Vilceanu Cosmin","Rovinari"]
[null,null,null,null,null,null,null,null,null,null,null,null,null,null,null,null,null,null,null,"Vilcu Dragos","Bucuresti"]
[null,null,null,null,null,null,null,null,null,null,null,null,null,null,null,null,null,null,null,"Vilculescu Vlad","Timisoara"]
[null,null,null,null,null,null,null,null,null,null,null,null,null,null,null,null,null,null,null,"Vintila Antonio","Videle"]
[null,null,null,null,null,null,null,null,null,null,null,null,null,null,null,null,null,null,null,"Vintila George Daniel","Braila"]
[null,null,null,null,null,null,null,null,null,null,null,null,null,null,null,null,null,null,null,"Vintila Marius","Sibiu"]
[null,null,null,null,null,null,null,null,null,null,null,null,null,null,null,null,null,null,null,"Vintilescu Adelin","Slatina"]
[null,null,null,null,null,null,null,null,null,null,null,null,null,null,null,null,null,null,null,"Vioreanu Cristian","Dumbraveni SB"]
[null,null,null,null,null,null,null,null,null,null,null,null,null,null,null,null,null,null,null,"Virla Teodor","Pitesti"]
[null,null,null,null,null,null,null,null,null,null,null,null,null,null,null,null,null,null,null,"Virlan Liviu","Timisoara"]
[null,null,null,null,null,null,null,null,null,null,null,null,null,null,null,null,null,null,null,"Virtea Gheorghe","Targu Neamt"]
[null,null,null,null,null,null,null,null,null,null,null,null,null,null,null,null,null,null,null,"Virticosu Teodor","Pascani"]
[null,null,null,null,null,null,null,null,null,null,null,null,null,null,null,null,null,null,null,"Virtopeanu Andrei","Bucuresti"]
[null,null,null,null,null,null,null,null,null,null,null,null,null,null,null,null,null,null,null,"Virtopeanu Daniel","Bucuresti"]
[null,null,null,null,null,null,null,null,null,null,null,null,null,null,null,null,null,null,null,"Virvorea Mihai","Sibiu"]
[null,null,null,null,null,null,null,null,null,null,null,null,null,null,null,null,null,null,null,"Visan Bogdan","Targoviste"]
[null,null,null,null,null,null,null,null,null,null,null,null,null,null,null,null,null,null,null,"Visan Daniel","Ploiesti"]
[null,null,null,null,null,null,null,null,null,null,null,null,null,null,null,null,null,null,null,"Visan Daniel Stanga","Ploiesti"]
[null,null,null,null,null,null,null,null,null,null,null,null,null,null,null,null,null,null,null,"Visan Victor","Slobozia"]
[null,null,null,null,null,null,null,null,null,null,null,null,null,null,null,null,null,null,null,"Vita Zsolt","Gheorgheni"]
[null,null,null,null,null,null,null,null,null,null,null,null,null,null,null,null,null,null,null,"Vitan Andrei","Giurgiu"]
[null,null,null,null,null,null,null,null,null,null,null,null,null,null,null,null,null,null,null,"Vitan Victor","Giurgiu"]
[null,null,null,null,null,null,null,null,null,null,null,null,null,null,null,null,null,null,null,"Viziniuc Madalin","Bucuresti"]
[null,null,null,null,null,null,null,null,null,null,null,null,null,null,null,null,null,null,null,"Vizitiu Andrei","Buhusi"]
[null,null,null,null,null,null,null,null,null,null,null,null,null,null,null,null,null,null,null,"Vizoli Alexandru","Fagaras"]
[null,null,null,null,null,null,null,null,null,null,null,null,null,null,null,null,null,null,null,"Vlad Alexandru","Barlad"]
[null,null,null,null,null,null,null,null,null,null,null,null,null,null,null,null,null,null,null,"Vlad Enache","Bucuresti"]
[null,null,null,null,null,null,null,null,null,null,null,null,null,null,null,null,null,null,null,"Vlad Florin","Arad"]
[null,null,null,null,null,null,null,null,null,null,null,null,null,null,null,null,null,null,null,"Vladescu Adrian","Cluj Napoca"]
[null,null,null,null,null,null,null,null,null,null,null,null,null,null,null,null,null,null,null,"Vladianu Marian","Iasi"]
[null,null,null,null,null,null,null,null,null,null,null,null,null,null,null,null,null,null,null,"Vladoiu Gelu","Brasov"]
[null,null,null,null,null,null,null,null,null,null,null,null,null,null,null,null,null,null,null,"Vladu Daniel","Bucuresti"]
[null,null,null,null,null,null,null,null,null,null,null,null,null,null,null,null,null,null,null,"Vladu Nicolae","Pitesti"]
[null,null,null,null,null,null,null,null,null,null,null,null,null,null,null,null,null,null,null,"Vlah Dmitrii","Moldova-Cazaclia"]
[null,null,null,null,null,null,null,null,null,null,null,null,null,null,null,null,null,null,null,"Vlaicu Daniel","Marghita"]
[null,null,null,null,null,null,null,null,null,null,null,null,null,null,null,null,null,null,null,"Vlaicu Victor","Zalau"]
[null,null,null,null,null,null,null,null,null,null,null,null,null,null,null,null,null,null,null,"Vlaisan Georgica","Vicovu de Jos"]
[null,null,null,null,null,null,null,null,null,null,null,null,null,null,null,null,null,null,null,"Vlaisan Raluca","Vicovu de Jos"]
[null,null,null,null,null,null,null,null,null,null,null,null,null,null,null,null,null,null,null,"Vlaisan Vasile","Vicovu de Jos"]
[null,null,null,null,null,null,null,null,null,null,null,null,null,null,null,null,null,null,null,"Vlasceanu Valentin","Darmanesti"]
[null,null,null,null,null,null,null,null,null,null,null,null,null,null,null,null,null,null,null,"Vlase Adrian","Iasi"]
[null,null,null,null,null,null,null,null,null,null,null,null,null,null,null,null,null,null,null,"Vlase Nicolae","Slobozia"]
[null,null,null,null,null,null,null,null,null,null,null,null,null,null,null,null,null,null,null,"Vlasin Adrian","Viseu"]
[null,null,null,null,null,null,null,null,null,null,null,null,null,null,null,null,null,null,null,"Vlasin Marian","Viseu"]
[null,null,null,null,null,null,null,null,null,null,null,null,null,null,null,null,null,null,null,"Voica Dragos","Timisoara"]
[null,null,null,null,null,null,null,null,null,null,null,null,null,null,null,null,null,null,null,"Voica Larisa","Filipestii de Targ"]
[null,null,null,null,null,null,null,null,null,null,null,null,null,null,null,null,null,null,null,"Voicila Adrian","Ploiesti"]
[null,null,null,null,null,null,null,null,null,null,null,null,null,null,null,null,null,null,null,"Voicila Albertino","Urlati"]
[null,null,null,null,null,null,null,null,null,null,null,null,null,null,null,null,null,null,null,"Voicu Adrian","Videle"]
[null,null,null,null,null,null,null,null,null,null,null,null,null,null,null,null,null,null,null,"Voicu Denis","Navodari"]
[null,null,null,null,null,null,null,null,null,null,null,null,null,null,null,null,null,null,null,"Voicu Florin","Arad"]
[null,null,null,null,null,null,null,null,null,null,null,null,null,null,null,null,null,null,null,"Voicu Ion","Amarastii de Jos"]
[null,null,null,null,null,null,null,null,null,null,null,null,null,null,null,null,null,null,null,"Voicu Ionut","Ploiesti"]
[null,null,null,null,null,null,null,null,null,null,null,null,null,null,null,null,null,null,null,"Voicu Mihai","Bucuresti"]
[null,null,null,null,null,null,null,null,null,null,null,null,null,null,null,null,null,null,null,"Voicu Mihai","Ploiesti"]
[null,null,null,null,null,null,null,null,null,null,null,null,null,null,null,null,null,null,null,"Voicu Ovidiu","Strejnicu"]
[null,null,null,null,null,null,null,null,null,null,null,null,null,null,null,null,null,null,null,"Voicu Sergiu","Bucuresti"]
[null,null,null,null,null,null,null,null,null,null,null,null,null,null,null,null,null,null,null,"Voin Doru","Bucuresti"]
[null,null,null,null,null,null,null,null,null,null,null,null,null,null,null,null,null,null,null,"Voinea Emil","Pitesti"]
[null,null,null,null,null,null,null,null,null,null,null,null,null,null,null,null,null,null,null,"Voinea Emil","Braila"]
[null,null,null,null,null,null,null,null,null,null,null,null,null,null,null,null,null,null,null,"Voinea Ionut","Harsova"]
[null,null,null,null,null,null,null,null,null,null,null,null,null,null,null,null,null,null,null,"Voinescu Bianca","Lugoj"]
[null,null,null,null,null,null,null,null,null,null,null,null,null,null,null,null,null,null,null,"Voinescu Dan","Lugoj"]
[null,null,null,null,null,null,null,null,null,null,null,null,null,null,null,null,null,null,null,"Voinescu Ecaterina","Bucuresti"]
[null,null,null,null,null,null,null,null,null,null,null,null,null,null,null,null,null,null,null,"Voivod Mihai","Cluj Napoca"]
[null,null,null,null,null,null,null,null,null,null,null,null,null,null,null,null,null,null,null,"Volanin Rares","Sibiu"]
[null,null,null,null,null,null,null,null,null,null,null,null,null,null,null,null,null,null,null,"Volvovics Adrian","Oradea"]
[null,null,null,null,null,null,null,null,null,null,null,null,null,null,null,null,null,null,null,"Von Gamm Kevin","Cluj Napoca"]
[null,null,null,null,null,null,null,null,null,null,null,null,null,null,null,null,null,null,null,"Vonea Andrei","Tarnaveni"]
[null,null,null,null,null,null,null,null,null,null,null,null,null,null,null,null,null,null,null,"Vonhaz Stefan","Oradea"]
[null,null,null,null,null,null,null,null,null,null,null,null,null,null,null,null,null,null,null,"Vrasti Ioan","Ploiesti"]
[null,null,null,null,null,null,null,null,null,null,null,null,null,null,null,null,null,null,null,"Vrasti Iulian","Ploiesti"]
[null,null,null,null,null,null,null,null,null,null,null,null,null,null,null,null,null,null,null,"Vrasti Timeea","Ploiesti"]
[null,null,null,null,null,null,null,null,null,null,null,null,null,null,null,null,null,null,null,"Vrinceanu Vladut","Caransebes"]
[null,null,null,null,null,null,null,null,null,null,null,null,null,null,null,null,null,null,null,"Vuca Adrian","Berzovia"]
[null,null,null,null,null,null,null,null,null,null,null,null,null,null,null,null,null,null,null,"Vucetic Ivan","Vlajkovac"]
[null,null,null,null,null,null,null,null,null,null,null,null,null,null,null,null,null,null,null,"Vukovic Nemanja","Varset"]
[null,null,null,null,null,null,null,null,null,null,null,null,null,null,null,null,null,null,null,"Vukovic Zoran","Varset"]
[null,null,null,null,null,null,null,null,null,null,null,null,null,null,null,null,null,null,null,"Vulpescu Emanuel","Caianu Mic"]
[null,null,null,null,null,null,null,null,null,null,null,null,null,null,null,null,null,null,null,"Vulpescu Radu","Iasi"]
[null,null,null,null,null,null,null,null,null,null,null,null,null,null,null,null,null,null,null,"Vurst Laszlo","Oradea"]
[null,null,null,null,null,null,null,null,null,null,null,null,null,null,null,null,null,null,null,"Vuta Bogdan","Curtea de Arges"]
[null,null,null,null,null,null,null,null,null,null,null,null,null,null,null,null,null,null,null,"Wagner Max","Arad"]
[null,null,null,null,null,null,null,null,null,null,null,null,null,null,null,null,null,null,null,"Wagner Radu","Bucuresti"]
[null,null,null,null,null,null,null,null,null,null,null,null,null,null,null,null,null,null,null,"Weiss Simona","Cisnadie"]
[null,null,null,null,null,null,null,null,null,null,null,null,null,null,null,null,null,null,null,"Welker Ivan","Sfantu Gheorghe"]
[null,null,null,null,null,null,null,null,null,null,null,null,null,null,null,null,null,null,null,"Wengritsky Zsuzsanna","Joseni"]
[null,null,null,null,null,null,null,null,null,null,null,null,null,null,null,null,null,null,null,"Wischegg Nela","Galati"]
[null,null,null,null,null,null,null,null,null,null,null,null,null,null,null,null,null,null,null,"Yali Zagori","Israel"]
[null,null,null,null,null,null,null,null,null,null,null,null,null,null,null,null,null,null,null,"Yarden Shacham","Israel"]
[null,null,null,null,null,null,null,null,null,null,null,null,null,null,null,null,null,null,null,"Yosef Atia","Israel"]
[null,null,null,null,null,null,null,null,null,null,null,null,null,null,null,null,null,null,null,"Zagorac Novak","Lokve"]
[null,null,null,null,null,null,null,null,null,null,null,null,null,null,null,null,null,null,null,"Zaha Vasile","Satu Mare"]
[null,null,null,null,null,null,null,null,null,null,null,null,null,null,null,null,null,null,null,"Zaharia Ciprian","Piatra Neamt"]
[null,null,null,null,null,null,null,null,null,null,null,null,null,null,null,null,null,null,null,"Zaharia Danut","Braila"]
[null,null,null,null,null,null,null,null,null,null,null,null,null,null,null,null,null,null,null,"Zaharia Dorin","Targu Mures"]
[null,null,null,null,null,null,null,null,null,null,null,null,null,null,null,null,null,null,null,"Zaharia Iulian","Iasi"]
[null,null,null,null,null,null,null,null,null,null,null,null,null,null,null,null,null,null,null,"Zaharia Puiu","Bucuresti"]
[null,null,null,null,null,null,null,null,null,null,null,null,null,null,null,null,null,null,null,"Zaharia Titi","Fetesti"]
[null,null,null,null,null,null,null,null,null,null,null,null,null,null,null,null,null,null,null,"Zaharia Tudor","Suceava"]
[null,null,null,null,null,null,null,null,null,null,null,null,null,null,null,null,null,null,null,"Zaharie Elisa","Radauti"]
[null,null,null,null,null,null,null,null,null,null,null,null,null,null,null,null,null,null,null,"Zaharie Sofia","Radauti"]
[null,null,null,null,null,null,null,null,null,null,null,null,null,null,null,null,null,null,null,"Zaharii Narcis","Falticeni"]
[null,null,null,null,null,null,null,null,null,null,null,null,null,null,null,null,null,null,null,"Zainescu Corneliu","Galati"]
[null,null,null,null,null,null,null,null,null,null,null,null,null,null,null,null,null,null,null,"Zakarias Szabolcs","Odorheiu Secuiesc"]
[null,null,null,null,null,null,null,null,null,null,null,null,null,null,null,null,null,null,null,"Zalar Marian","Tarnaveni"]
[null,null,null,null,null,null,null,null,null,null,null,null,null,null,null,null,null,null,null,"Zamblau Arsenie","Floresti"]
[null,null,null,null,null,null,null,null,null,null,null,null,null,null,null,null,null,null,null,"Zamblau Ionut","Cluj Napoca"]
[null,null,null,null,null,null,null,null,null,null,null,null,null,null,null,null,null,null,null,"Zamcu Ciprian","Suceava"]
[null,null,null,null,null,null,null,null,null,null,null,null,null,null,null,null,null,null,null,"Zamfir Ionel","Bucuresti"]
[null,null,null,null,null,null,null,null,null,null,null,null,null,null,null,null,null,null,null,"Zamfir Robert","Constanta"]
[null,null,null,null,null,null,null,null,null,null,null,null,null,null,null,null,null,null,null,"Zamfir Stefan","Urlati"]
[null,null,null,null,null,null,null,null,null,null,null,null,null,null,null,null,null,null,null,"Zamfirache Ioan","Botosani"]
[null,null,null,null,null,null,null,null,null,null,null,null,null,null,null,null,null,null,null,"Zamfiroaia Sorin","Falticeni"]
[null,null,null,null,null,null,null,null,null,null,null,null,null,null,null,null,null,null,null,"Zara Dinu","Suceava"]
[null,null,null,null,null,null,null,null,null,null,null,null,null,null,null,null,null,null,null,"Zarinschi Catalin","Galati"]
[null,null,null,null,null,null,null,null,null,null,null,null,null,null,null,null,null,null,null,"Zavate Silviu","Bucuresti"]
[null,null,null,null,null,null,null,null,null,null,null,null,null,null,null,null,null,null,null,"Zavricescu George","Curtea de Arges"]
[null,null,null,null,null,null,null,null,null,null,null,null,null,null,null,null,null,null,null,"Zbancu Leo","Deva"]
[null,null,null,null,null,null,null,null,null,null,null,null,null,null,null,null,null,null,null,"Zdravkovic Milos","Kovin"]
[null,null,null,null,null,null,null,null,null,null,null,null,null,null,null,null,null,null,null,"Zedler Csaba","Agnita"]
[null,null,null,null,null,null,null,null,null,null,null,null,null,null,null,null,null,null,null,"Zelariu Petru","Tarnaveni"]
[null,null,null,null,null,null,null,null,null,null,null,null,null,null,null,null,null,null,null,"Zgadan Iustin","Moldova-Cahul"]
[null,null,null,null,null,null,null,null,null,null,null,null,null,null,null,null,null,null,null,"Zgardan Iustin","Moldova-Cahul"]
[null,null,null,null,null,null,null,null,null,null,null,null,null,null,null,null,null,null,null,"Zgardan Razvan","Moldova-Balti"]
[null,null,null,null,null,null,null,null,null,null,null,null,null,null,null,null,null,null,null,"Zidar Victor","Reghin"]
[null,null,null,null,null,null,null,null,null,null,null,null,null,null,null,null,null,null,null,"Zlata Alex","Focsani"]
[null,null,null,null,null,null,null,null,null,null,null,null,null,null,null,null,null,null,null,"Zlatic Sinisa","Belgrad"]
[null,null,null,null,null,null,null,null,null,null,null,null,null,null,null,null,null,null,null,"Zolotaryk George","Suceava"]
[null,null,null,null,null,null,null,null,null,null,null,null,null,null,null,null,null,null,null,"Zorfie Daniel","Baru"]
[null,null,null,null,null,null,null,null,null,null,null,null,null,null,null,null,null,null,null,"Zorila Marcel","Moldova-Riscani"]
[null,null,null,null,null,null,null,null,null,null,null,null,null,null,null,null,null,null,null,"Zorila Victor","Craiova"]
[null,null,null,null,null,null,null,null,null,null,null,null,null,null,null,null,null,null,null,"Zorilla Andrei","Moldova-Ceadir-Lunga"]
[null,null,null,null,null,null,null,null,null,null,null,null,null,null,null,null,null,null,null,"Zsigmond Tamas","Gheorgheni"]
[null,null,null,null,null,null,null,null,null,null,null,null,null,null,null,null,null,null,null,"Zsok Arcadie","Deva"]
[null,null,null,null,null,null,null,null,null,null,null,null,null,null,null,null,null,null,null,"Zsolt Kovacs","Bretcu"]
[null,null,null,null,null,null,null,null,null,null,null,null,null,null,null,null,null,null,null,"Zugravu Alexandru","Barlad"]
[null,null,null,null,null,null,null,null,null,null,null,null,null,null,null,null,null,null,null,"Zugravu Luca","Barlad"]
[null,null,null,null,null,null,null,null,null,null,null,null,null,null,null,null,null,null,null,"Zugravu Mircea","Barlad"]

{"sheet":"Inscrieri","index":5,"n_rows":5595,"n_cols":26,"rows_kept":5595,"cut":false,"hidden":false,"merged":[]}
["Loc","Nume_si_prenume","Localitate","Pct","MP","Cat",{"$f":"COUNTA(G2:G6001)","v":0},null,null,null,null,null,{"$f":"COUNTA(N:N)","v":0},null,null,"x","x","x","x","x",{"$f":"COUNTA(V:V)","v":0},null,"A"]
[939,"Farcas Dan","Zalau",191.7,64.599999999999994,"EL",null,null,null,{"$f":"catp","v":1},null,null,null,null,null,null,null,null,null,null,null,null,null,null,null,"Se foloseste Formularul pentru inscrieri/retrageri sau se urmeaza instructiunile de mai jos pentru alte operatiuni:"]
[545,"Marchis Maximilian","Cluj Napoca",322.7,64.44,"E",null,null,null,{"$f":"catp","v":1}]
[351,"Sorescu Deian","Resita",433.7,63.96,"E",null,null,null,{"$f":"catp","v":1},null,null,null,null,null,null,null,null,null,null,null,null,null,null,null,"Adaugare inscriere:"]
[100,"Cristanus Cristian","Timisoara",683,62.94,"EL",null,null,null,{"$f":"catp","v":1},null,null,null,null,null,null,null,null,null,null,null,null,null,null,null,"Se completeaza manual in coloanele 21-22 jucatorii (21-Nume Prenume, 22-Localitate), pot fi copiati din alt fisier"]
[2,"Neculai Alexandru","Videle",1088.8,61.93,"EL",null,null,null,{"$f":"catp","v":1},null,null,null,null,null,null,null,null,null,null,null,null,null,null,null,"Click pe Plus."]
[82,"Tibirna Andrei","Iasi",728.4,60.87,"ELJ",null,null,null,{"$f":"catp","v":1},null,null,null,null,null,null,null,null,null,null,null,null,null,null,null,"Automat in coloana 7 se bifeaza cu \"1\" jucatorii din coloana 21."]
[1942,"Hurloi Vlad","Cluj Napoca",60.8,60.8,"E",null,null,null,{"$f":"catp","v":1},null,null,null,null,null,null,null,null,null,null,null,null,null,null,null,"Daca exista jucatori noi acestia apar la sfarsitul clasamentului."]
[366,"Boaca Valentin","Branesti",420.8,59.98,"E",null,null,null,{"$f":"catp","v":1},null,null,null,null,null,null,null,null,null,null,null,null,null,null,null,"Stergere inscriere:"]
[663,"Roman Iulian","Brasov",270.8,59.93,"ELW",null,null,null,{"$f":"catp","v":1},null,null,null,null,null,null,null,null,null,null,null,null,null,null,null,"Se selecteaza jucatorul in coloana 21."]
[3,"Mocean Dan","Cluj Napoca",1088,59.91,"EL",null,null,null,{"$f":"catp","v":1},null,null,null,null,null,null,null,null,null,null,null,null,null,null,null,"Click pe Minus, N (absent - penalizare 3p) sau r2 (retragere dupa termen - penalizare 2p)."]
[1,"Moldovan Horvath Csaba","Targu Mures",1113.4000000000001,59.77,"ELW",null,null,null,{"$f":"catp","v":1},null,null,null,null,null,null,null,null,null,null,null,null,null,null,null,"Automat in coloana 21 se va sterge jucatorul selectat, iar in coloana 7 i se va sterge inscrierea."]
[1334,"Fejer Konnert Andras","Sovata",119.5,59.75,"ELW",null,null,null,{"$f":"catp","v":1},null,null,null,null,null,null,null,null,null,null,null,null,null,null,null,"Daca exista lista de asteptare, primul de pe lista va fi bifat automat."]
[264,"Fratila Robert","Filipestii de Targ",494.2,59.68,"EL",null,null,null,{"$f":"catp","v":1},null,null,null,null,null,null,null,null,null,null,null,null,null,null,null,"Inserare (de exemplu, in cazul in care, copiind de pe forum, ati uitat pe cineva)"]
[835,"Margin Andrei","Cluj Napoca",217,59.47,"E",null,null,null,{"$f":"catp","v":1},null,null,null,null,null,null,null,null,null,null,null,null,null,null,null,"Click in coloana 21 pe pozitia in care vrem sa inseram un jucator"]
[1963,"Radonjic Stefan","Varset",59.4,59.4,"E",null,null,null,{"$f":"catp","v":1},null,null,null,null,null,null,null,null,null,null,null,null,null,null,null,"Click pe Insert"]
[1970,"Neagu Mircea","Constanta",59.1,59.1,"EL",null,null,null,{"$f":"catp","v":1},null,null,null,null,null,null,null,null,null,null,null,null,null,null,null,"Automat se creeaza o pozitie goala, ultimul jucator din lista principala va fi trecut pe lista de asteptare, daca exista"]
[191,"Anatolii Zamkovyi","Baia Mare",551.79999999999995,59.04,"EL",null,null,null,{"$f":"catp","v":1},null,null,null,null,null,null,null,null,null,null,null,null,null,null,null,"Se adauga un jucator pe pozitia goala cu Formularul de inscrieri."]
[1977,"Iordan Alexandru Constantin","Bucuresti",58.9,58.9,"E",null,null,null,{"$f":"catp","v":1},null,null,null,null,null,null,null,null,null,null,null,null,null,null,null,"Inlocuire (de exemplu, in cazul in care ati gresit vreun nume sau a fost postat gresit pe forum)"]
[8,"Galos Alexandru","Bucuresti",1032.4000000000001,58.72,"EL",null,null,null,{"$f":"catp","v":1},null,null,null,null,null,null,null,null,null,null,null,null,null,null,null,"Click in coloana 21 pe pozitia in care vrem sa inlocuim un jucator"]
[1981,"Idan Ofer","Israel",58.7,58.7,"E",null,null,null,{"$f":"catp","v":1},null,null,null,null,null,null,null,null,null,null,null,null,null,null,null,"Click pe Replace"]
[383,"Gabudean Dorin","Cluj Napoca",402.1,58.44,"EL",null,null,null,{"$f":"catp","v":1},null,null,null,null,null,null,null,null,null,null,null,null,null,null,null,"Jucatorul va fi sters si se creeaza o pozitie goala."]
[1988,"Litovcenco Gheorghe","Iasi",58.4,58.4,"E",null,null,null,{"$f":"catp","v":1},null,null,null,null,null,null,null,null,null,null,null,null,null,null,null,"Se adauga un jucator nou pe locul eliberat cu Formularul de inscrieri."]
[1359,"Caminschi Mihai","Constanta",116.5,58.25,"E",null,null,null,{"$f":"catp","v":1}]
[1999,"Carpaci Szanto Edmond","Ludus",58,58,"E",null,null,null,{"$f":"catp","v":1},null,null,null,null,null,null,null,null,null,null,null,null,null,null,null,"Periodic se actioneaza butonul Lista pentru actualizarea listei …"]
[966,"Iana Remus","Timisoara",183.9,57.83,"EL",null,null,null,{"$f":"catp","v":1},null,null,null,null,null,null,null,null,null,null,null,null,null,null,null,"… iar apoi butonul Copy ... urmat de Paste pe forum (cu Ctrl Shift V) pentru postarea listei de inscrieri."]
[37,"Aga Alexandru","Botosani",839.7,57.81,"EL",null,null,null,{"$f":"catp","v":1}]
[734,"Ghinda Mihai","Iasi",248.8,57.75,"E",null,null,null,{"$f":"catp","v":1},null,null,null,null,null,null,null,null,null,null,null,null,null,null,null,"In coloana 5 - MP - se poate modifica media unui jucator nou ... click pe Sort MP apoi, pentru reordonarea listei"]
[693,"Hasna Cosmin","Straja",261.89999999999998,57.6,"EL",null,null,null,{"$f":"catp","v":1}]
[2006,"Tonghioiu Stefan","Campulung Muscel",57.6,57.6,"E",null,null,null,{"$f":"catp","v":1},null,null,null,null,null,null,null,null,null,null,null,null,null,null,null,"In coloanele 23 si 24 se pot trece ceva informatii (wildcard, meniu etc) ... care vor aparea si pe listele de inscrieri"]
[2007,"Vasilache Sebastian","Iasi",57.6,57.6,"E",null,null,null,{"$f":"catp","v":1}]
[1480,"Maran Alin","Faget",102.2,57.55,"E",null,null,null,{"$f":"catp","v":1}]
[1380,"Durdun George","Bucuresti",115,57.5,"EL",null,null,null,{"$f":"catp","v":1}]
[2011,"Georginov Vanja","Lokve",57.4,57.4,"E",null,null,null,{"$f":"catp","v":1}]
[11,"Neagoe Costin","Bucuresti",991.8,57.34,"E",null,null,null,{"$f":"catp","v":1}]
[4,"Verdet Adrian","Timisoara",1070.4000000000001,57.31,"EW",null,null,null,{"$f":"catp","v":1}]
[513,"Gergely Anton","Oradea",335.2,57.28,"E",null,null,null,{"$f":"catp","v":1}]
[2280,"Amran Alkerim","Bucuresti",42.8,57,"E",null,null,null,{"$f":"catp","v":1}]
[2026,"Corburean Ioan","Dumbraveni SB",56.8,56.8,"E",null,null,null,{"$f":"catp","v":1}]
[5,"Ursu Teodor","Bucuresti",1054.4000000000001,56.23,"EL",null,null,null,{"$f":"catp","v":1}]
[6,"Alexandru Constantin","Bucuresti",1052.5999999999999,56.05,"EL",null,null,null,{"$f":"catp","v":1}]
[432,"Toader Valentin","Agnita",376.3,56.04,"EL",null,null,null,{"$f":"catp","v":1}]
[182,"Sima Vlad","Giurgiu",560.79999999999995,55.96,"EL",null,null,null,{"$f":"catp","v":1}]
[18,"Galban Calin","Viseu",933,55.88,"EL",null,null,null,{"$f":"catp","v":1}]
[20,"Baciu Gabriel","Tarnaveni",922.5,55.84,"E",null,null,null,{"$f":"catp","v":1}]
[530,"Grigore Cosmin","Slatina",329.2,55.8,"EL",null,null,null,{"$f":"catp","v":1}]
[2033,"Talalai Igor","Ucraina",55.8,55.8,"E",null,null,null,{"$f":"catp","v":1}]
[1075,"Piliponcic Vadim","Moldova-Chisinau",161,55.75,"E",null,null,null,{"$f":"catp","v":1}]
[1509,"Moldovan Cristian","Bistrita",98.4,55.75,"E",null,null,null,{"$f":"catp","v":1}]
[153,"Vitan Andrei","Giurgiu",584.6,55.74,"EL",null,null,null,{"$f":"catp","v":1}]
[2036,"Anca Octavian","Ludus",55.6,55.6,"E",null,null,null,{"$f":"catp","v":1}]
[35,"Jurje Alex Doru","Almasu Mare",851.8,55.55,"E",null,null,null,{"$f":"catp","v":1}]
[2042,"Rajic Borislav","Novi Sad",55.4,55.4,"E",null,null,null,{"$f":"catp","v":1}]
[7,"Sumanaru Catalin","Iasi",1043,55.36,"EL",null,null,null,{"$f":"catp","v":1}]
[1192,"Virtopeanu Andrei","Bucuresti",140.4,55.35,"E",null,null,null,{"$f":"catp","v":1}]
[26,"Albu Vlad","Iasi",895.4,54.83,"EL",null,null,null,{"$f":"catp","v":1}]
[2052,"Yali Zagori","Israel",54.7,54.7,"E",null,null,null,{"$f":"catp","v":1}]
[2056,"Spiridonov Kiril","Bulgaria",54.6,54.6,"E",null,null,null,{"$f":"catp","v":1}]
[585,"Mitrache Simion","Timisoara",303.3,54.58,"E",null,null,null,{"$f":"catp","v":1}]
[945,"Pribeagu Sebastian","Pitesti",190.1,54.5,"EL",null,null,null,{"$f":"catp","v":1}]
[2323,"Pop Sorin","Bistrita",40.9,54.5,"E",null,null,null,{"$f":"catp","v":1}]
[497,"Gheorghe Dragos","Ploiesti",346.2,54.38,"E",null,null,null,{"$f":"catp","v":1}]
[19,"Kis Robert","Cluj Napoca",923,54.31,"EL",null,null,null,{"$f":"catp","v":1}]
[9,"Mutrescu Eugen","Timisoara",1030.4000000000001,54.23,"EW",null,null,null,{"$f":"catp","v":1}]
[41,"Pavel Calin","Hunedoara",825.8,53.86,"EL",null,null,null,{"$f":"catp","v":1}]
[12,"Simion Boby","Cluj Napoca",985.5,53.56,"ED",null,null,null,{"$f":"catp","v":1}]
[196,"Retegan Cosmin","Ploiesti",545,53.53,"EL",null,null,null,{"$f":"catp","v":1}]
[1439,"Chiraches Eric Stefan","Bucuresti",106.7,53.35,"EL",null,null,null,{"$f":"catp","v":1}]
[10,"Toma Adrian","Sfantu Gheorghe",1001.8,53.23,"EL",null,null,null,{"$f":"catp","v":1}]
[21,"Bercea Alex","Drobeta Tr Severin",912.8,53.22,"E",null,null,null,{"$f":"catp","v":1}]
[212,"Enciu Alexandru","Slobozia",534.1,53.2,"ELW",null,null,null,{"$f":"catp","v":1}]
[342,"Buzatu Vasile","Buftea",442.9,53.17,"EW",null,null,null,{"$f":"catp","v":1}]
[829,"Luntraru Andrei","Iasi",219,53.03,"E",null,null,null,{"$f":"catp","v":1}]
[169,"Mosneagu Marius","Falticeni",569.5,53,"ELW",null,null,null,{"$f":"catp","v":1}]
[2080,"Mirea George","Bucuresti",53,53,"EL",null,null,null,{"$f":"catp","v":1}]
[34,"Badea Mihai","Targoviste",854,52.99,"E",null,null,null,{"$f":"catp","v":1}]
[904,"Jobb Levente","Odorheiu Secuiesc",201,52.97,"EL",null,null,null,{"$f":"catp","v":1}]
[14,"Petrus Florin","Zalau",959.8,52.73,"E",null,null,null,{"$f":"catp","v":1}]
[2089,"Schmidt Miroslav","Bulgaria",52.6,52.6,"E",null,null,null,{"$f":"catp","v":1}]
[32,"Nascu Serban","Cluj Napoca",861.8,52.51,"ELW",null,null,null,{"$f":"catp","v":1}]
[974,"Maslennicov Anatolie","Moldova-Cahul",182.5,52.35,"E",null,null,null,{"$f":"catp","v":1}]
[1460,"Costache Claudiu","Calarasi",104.6,52.3,"E",null,null,null,{"$f":"catp","v":1}]
[2357,"Spanu Vasile","Vicovu de Jos",39.299999999999997,52.3,"E",null,null,null,{"$f":"catp","v":1}]
[791,"Teodor Cristian","Bucuresti",230.3,52.05,"E",null,null,null,{"$f":"catp","v":1}]
[15,"Gogu Gabriel","Cluj Napoca",941.6,51.99,"EW",null,null,null,{"$f":"catp","v":1}]
[104,"Roman Bogdan","Arad",669.5,51.82,"E",null,null,null,{"$f":"catp","v":1}]
[143,"Saceleanu Bogdan","Targu Jiu",594,51.78,"EL",null,null,null,{"$f":"catp","v":1}]
[13,"Nistor Dorel","Bistrita",969.9,51.75,"ELW",null,null,null,{"$f":"catp","v":1}]
[105,"Molnar Tihamer","Tarnaveni",664.8,51.58,"E",null,null,null,{"$f":"catp","v":1}]
[2374,"Marton Adam","Sfantu Gheorghe",38.700000000000003,51.5,"EL",null,null,null,{"$f":"catp","v":1}]
[774,"Avram Victor","Arad",235.8,51.3,"E",null,null,null,{"$f":"catp","v":1}]
[2105,"Ionel Alexandru","Bistrita",51.2,51.2,"E",null,null,null,{"$f":"catp","v":1}]
[2106,"Resavac Predrag","Smederevo",51.2,51.2,"E",null,null,null,{"$f":"catp","v":1}]
[2107,"Ilic Marko","Nova Varos",51.2,51.2,"E",null,null,null,{"$f":"catp","v":1}]
[2108,"Rajic Dalibor","Novi Sad",51.2,51.2,"E",null,null,null,{"$f":"catp","v":1}]
[131,"Albu Catalin","Pascani",616.6,51.13,"EL",null,null,null,{"$f":"catp","v":1}]
[768,"Ion Marius","Braila",237.1,51.07,"E",null,null,null,{"$f":"catp","v":1}]
[988,"Redkov Oleksandr","Ucraina",179.6,51.03,"E",null,null,null,{"$f":"catp","v":1}]
[2116,"Anghel Alexandru","Iasi",50.9,50.9,"E",null,null,null,{"$f":"catp","v":1}]
[2117,"Bectas Igor","Moldova-Hincesti",50.9,50.9,"E",null,null,null,{"$f":"catp","v":1}]
[1594,"Badea Ionut","Bucuresti",89.5,50.85,"E",null,null,null,{"$f":"catp","v":1}]
[1215,"Neag Ioan","Timisoara",137.1,50.8,"E",null,null,null,{"$f":"catp","v":1}]
[1486,"Visan Daniel","Ploiesti",101.5,50.75,"E",null,null,null,{"$f":"catp","v":1}]
[2123,"Burlacel Ionut","Bucuresti",50.6,50.6,"E",null,null,null,{"$f":"catp","v":1}]
[426,"Hamza Catalin","Satu Mare",379.5,50.35,"EL",null,null,null,{"$f":"catp","v":1}]
[16,"Vilceanu Andrei","Timisoara",938.7,50.33,"E",null,null,null,{"$f":"catp","v":1}]
[29,"Petrescu Liviu","Pitesti",874.1,50.3,"EW",null,null,null,{"$f":"catp","v":1}]
[50,"Leric David","Lipova",791.7,50.17,"E",null,null,null,{"$f":"catp","v":1}]
[525,"Bondoc Alexandru","Brasov",331.4,50.15,"EL",null,null,null,{"$f":"catp","v":1}]
[1605,"Has Alin","Drobeta Tr Severin",88.5,50.05,"E",null,null,null,{"$f":"catp","v":1}]
[31,"Moldovan Alexandru","Tarnaveni",863,50.02,"EL",null,null,null,{"$f":"catp","v":1}]
[112,"Anca Valentin","Ludus",653.6,50,"E",null,null,null,{"$f":"catp","v":1}]
[17,"Farkas Gabor","Targu Mures",933.7,49.87,"EDW",null,null,null,{"$f":"catp","v":1}]
[830,"Iacubenco Arsenii","Moldova-Balti",218.7,49.87,"E",null,null,null,{"$f":"catp","v":1}]
[2137,"Bauer Lajos","Targu Mures",49.8,49.8,"EW",null,null,null,{"$f":"catp","v":1}]
[135,"Zbancu Leo","Deva",611.6,49.7,"EW",null,null,null,{"$f":"catp","v":1}]
[1010,"Simo Elias Mate","Miercurea Ciuc",174.1,49.65,"EL",null,null,null,{"$f":"catp","v":1}]
[218,"Rus Traian","Cluj Napoca",529.9,49.64,"EW",null,null,null,{"$f":"catp","v":1}]
[1504,"Labo Alexandru","Zalau",99.2,49.6,"E",null,null,null,{"$f":"catp","v":1}]
[22,"Teleki Zsolt","Cluj Napoca",911.3,49.53,"E",null,null,null,{"$f":"catp","v":1}]
[294,"Curut Gabriel","Timisoara",473.2,49.42,"E",null,null,null,{"$f":"catp","v":1}]
[121,"Bodnar Cosmin","Vicovu de Sus",635.29999999999995,49.37,"EL",null,null,null,{"$f":"catp","v":1}]
[473,"Takacs Csaba","Baia Mare",358.2,49.32,"EL",null,null,null,{"$f":"catp","v":1}]
[662,"Corbu Mihai Cosmin","Pitesti",271,49.2,"EL",null,null,null,{"$f":"catp","v":1}]
[25,"Craiu Catalin","Videle",901.8,49.07,"E",null,null,null,{"$f":"catp","v":1}]
[1634,"Kravchenko Daniel Mark","Israel",85,48.85,"E",null,null,null,{"$f":"catp","v":1}]
[386,"Irsai Istvan","Targu Mures",400.5,48.82,"EW",null,null,null,{"$f":"catp","v":1}]
[23,"Toma Florin","Pitesti",907.5,48.79,"EW",null,null,null,{"$f":"catp","v":1}]
[474,"Dinca Alexandru","Calarasi",357.9,48.75,"E",null,null,null,{"$f":"catp","v":1}]
[126,"Balan Mihai","Ploiesti",627.4,48.73,"E",null,null,null,{"$f":"catp","v":1}]
[1120,"Ropotan Iulian","Bucuresti",153.69999999999999,48.7,"EW",null,null,null,{"$f":"catp","v":1}]
[1231,"Orosanu Alexandru","Pitesti",132.9,48.7,"E",null,null,null,{"$f":"catp","v":1}]
[2426,"Mateiu Cristian","Floresti",36.6,48.7,"E",null,null,null,{"$f":"catp","v":1}]
[307,"Cruceru Sergiu","Targu Jiu",463.3,48.6,"ELW",null,null,null,{"$f":"catp","v":1}]
[1769,"Bokor Zoltan Jr","Brasov",72.900000000000006,48.55,"EL",null,null,null,{"$f":"catp","v":1}]
[40,"Buhai Andrii","Stefanestii de Jos",831.9,48.44,"E",null,null,null,{"$f":"catp","v":1}]
[2435,"Buciu Catalin","Bals",36.299999999999997,48.4,"E",null,null,null,{"$f":"catp","v":1}]
[127,"Pascu Rares","Targu Mures",623.70000000000005,48.35,"E",null,null,null,{"$f":"catp","v":1}]
[24,"Aparaschive Paul","Botosani",903.3,48.28,"E",null,null,null,{"$f":"catp","v":1}]
[96,"Ionescu Mihai","Bucuresti",694.8,48.25,"E",null,null,null,{"$f":"catp","v":1}]
[53,"Maxim Valentin","Cluj Napoca",789.4,48.2,"EW",null,null,null,{"$f":"catp","v":1}]
[1778,"Dombi Tihamer","Miercurea Ciuc",72.2,48.1,"E",null,null,null,{"$f":"catp","v":1}]
[66,"Firu Marian","Vatra Dornei",762.1,48.01,"E",null,null,null,{"$f":"catp","v":1}]
[27,"Savu Cristian","Oradea",889.8,47.99,"E",null,null,null,{"$f":"catp","v":1}]
[71,"Orban Madalina","Siret",753.8,47.99,"EF",null,null,null,{"$f":"catp","v":1}]
[379,"Hagatis Andrei","Vatra Dornei",406.8,47.98,"E",null,null,null,{"$f":"catp","v":1}]
[1537,"Lotokha Sergey","Odesa",95.8,47.9,"E",null,null,null,{"$f":"catp","v":1}]
[449,"Grosu Alexandru","Botosani",369.4,47.8,"E",null,null,null,{"$f":"catp","v":1}]
[365,"Rogoz Nicoleta","Bucuresti",423.2,47.6,"EF",null,null,null,{"$f":"catp","v":1}]
[710,"Rebrisorean Daniel","Cluj Napoca",255.2,47.53,"E",null,null,null,{"$f":"catp","v":1}]
[155,"State Malin","Bucuresti",582.1,47.5,"EL",null,null,null,{"$f":"catp","v":1}]
[839,"Iacubenco Artemii","Moldova-Balti",216.3,47.5,"E",null,null,null,{"$f":"catp","v":1}]
[1477,"Grunfeld Tomy","Israel",102.8,47.5,"E",null,null,null,{"$f":"catp","v":1}]
[1000,"Varbanescu Petre","Giurgiu",176.4,47.4,"EL",null,null,null,{"$f":"catp","v":1}]
[1205,"Tamas Vivien","Miercurea Ciuc",139,47.4,"ELF",null,null,null,{"$f":"catp","v":1}]
[570,"Marinescu Sasha","Craiova",309.39999999999998,47.28,"E",null,null,null,{"$f":"catp","v":1}]
[200,"Sirbu Nicolae","Aiud",542,47.27,"EJ",null,null,null,{"$f":"catp","v":1}]
[2188,"Precup Iarina","Cluj Napoca",47.2,47.2,"ELF",null,null,null,{"$f":"catp","v":1}]
[287,"Curtea Lucas","Viseu",478.1,47.16,"E",null,null,null,{"$f":"catp","v":1}]
[1352,"Parus Lilian","Oradea",117.4,47.03,"E",null,null,null,{"$f":"catp","v":1}]
[453,"Manea Mihaita","Tulcea",366.1,47,"EL",null,null,null,{"$f":"catp","v":1}]
[2464,"Moshinsky Oleg","Bucuresti",35.299999999999997,47,"E",null,null,null,{"$f":"catp","v":1}]
[28,"Govoreanu Florin","Cisnadie",880.6,46.99,"EW",null,null,null,{"$f":"catp","v":1}]
[1668,"Petcu Marius","Bucuresti",81.599999999999994,46.75,"E",null,null,null,{"$f":"catp","v":1}]
[875,"Thouzard Adrian","Drobeta Tr Severin",207.1,46.73,"E",null,null,null,{"$f":"catp","v":1}]
[778,"Mathe Mihai","Ludus",234.1,46.7,"E",null,null,null,{"$f":"catp","v":1}]
[2470,"Tsubera Ion","Sighetu Marmatiei",35.1,46.7,"E",null,null,null,{"$f":"catp","v":1}]
[367,"Dumitru Rares","Pitesti",418.4,46.63,"EL",null,null,null,{"$f":"catp","v":1}]
[114,"Dinca Dorinel","Calarasi",645.29999999999995,46.52,"EW",null,null,null,{"$f":"catp","v":1}]
[589,"Persa Florin","Sfantu Gheorghe",302,46.48,"E",null,null,null,{"$f":"catp","v":1}]
[989,"Secu Valeriu","Bucuresti",179.4,46.43,"E",null,null,null,{"$f":"catp","v":1}]
[43,"Pantelimon Andi","Bucuresti",818.3,46.35,"EL",null,null,null,{"$f":"catp","v":1}]
[2475,"Anghel Bogdan","Buzau",34.799999999999997,46.3,"EL",null,null,null,{"$f":"catp","v":1}]
[2476,"Nita Maria","Buzau",34.799999999999997,46.3,"ELF",null,null,null,{"$f":"catp","v":1}]
[721,"Tamas Szilard","Miercurea Ciuc",253.4,46.28,"E",null,null,null,{"$f":"catp","v":1}]
[33,"Apian Florin","Bistrita",857.5,46.25,"EW",null,null,null,{"$f":"catp","v":1}]
[883,"Gradinaru Alin","Sibiu",205.8,46.25,"E",null,null,null,{"$f":"catp","v":1}]
[145,"Szemciuk Istvan","Deva",593.29999999999995,46.23,"E",null,null,null,{"$f":"catp","v":1}]
[197,"Cindea Cristian","Medias",543.79999999999995,46.23,"EL",null,null,null,{"$f":"catp","v":1}]
[476,"Balogh Attila","Oradea",356.1,46.22,"E",null,null,null,{"$f":"catp","v":1}]
[81,"Codau Vlad","Oradea",728.5,46.17,"E",null,null,null,{"$f":"catp","v":1}]
[231,"Ticala Vasile Jr","Viseu",519,46.06,"E",null,1,null,{"$f":"catp","v":1}]
[2209,"Pauliuc Alesia","Timisoara",46,46,"E",null,null,null,{"$f":"catp","v":1}]
[88,"Dragomir Iuliu","Turnu Magurele",713.3,45.96,"E",null,null,null,{"$f":"catp","v":1}]
[1581,"Stanciu Silviu","Calarasi",91.6,45.8,"EW",null,null,null,{"$f":"catp","v":1}]
[30,"Dumitru Gheorghe","Bucuresti",864.4,45.71,"ED",null,null,null,{"$f":"catp","v":1}]
[158,"Faur Laurentiu","Calarasi",578.4,45.71,"E",null,null,null,{"$f":"catp","v":1}]
[873,"Welker Ivan","Sfantu Gheorghe",208.4,45.7,"E",null,null,null,{"$f":"catp","v":1}]
[110,"Symonenko Yaroslav","Odesa",654.4,45.65,"E",null,null,null,{"$f":"catp","v":1}]
[733,"Ceausescu Rares","Pitesti",249,45.65,"E",null,null,null,{"$f":"catp","v":1}]
[638,"Mihai Andrei","Bucuresti",283.2,45.6,"E",null,null,null,{"$f":"catp","v":1}]
[946,"Jozsa Zoltan","Odorheiu Secuiesc",189.7,45.6,"E",null,null,null,{"$f":"catp","v":1}]
[154,"Matsumoto Paul","Brasov",583.6,45.59,"EL",null,null,null,{"$f":"catp","v":1}]
[579,"Zamblau Ionut","Cluj Napoca",306,45.56,"EL",null,null,null,{"$f":"catp","v":1}]
[55,"Mican Nicolae","Dej",788.4,45.54,"E",null,null,null,{"$f":"catp","v":1}]
[52,"Parjol Rares","Cluj Napoca",790.5,45.53,"E",null,null,null,{"$f":"catp","v":1}]
[171,"Pascu Razvan","Magureni",568.9,45.33,"E",null,null,null,{"$f":"catp","v":1}]
[46,"Rosioara Razvan","Alexandria",809.5,45.32,"E",null,null,null,{"$f":"catp","v":1}]
[744,"Petho Mihaly Jr","Racosu de Sus",245,45.23,"E",null,null,null,{"$f":"catp","v":1}]
[783,"Dobrin Adrian","Targoviste",233,45.23,"E",null,null,null,{"$f":"catp","v":1}]
[2225,"Surdu Marcel","Iasi",45.1,45.1,"E",null,null,null,{"$f":"catp","v":1}]
[39,"Damian Alin","Campia Turzii",834.8,45.07,"EL",null,null,null,{"$f":"catp","v":1}]
[92,"Constantin Teodor","Bucuresti",700,45.06,"E",null,null,null,{"$f":"catp","v":1}]
[1588,"Kiraly Pongratz","Salonta",90.1,45.05,"E",null,null,null,{"$f":"catp","v":1}]
[837,"Giol Mihai","Braila",216.4,45.03,"EL",null,null,null,{"$f":"catp","v":1}]
[546,"Bobeico Igor","Moldova",321.3,45.02,"E",null,null,null,{"$f":"catp","v":1}]
[328,"Ankar Wasim","Timisoara",451.8,45,"E",null,null,null,{"$f":"catp","v":1}]
[747,"Cojocaru Stefan","Suceava",244.6,44.98,"E",null,null,null,{"$f":"catp","v":1}]
[260,"Bulgari Serghei","Moldova-Briceni",498.4,44.96,"E",null,null,null,{"$f":"catp","v":1}]
[36,"Zamfir Ionel","Bucuresti",847.5,44.92,"EW",null,null,null,{"$f":"catp","v":1}]
[491,"Taranu Nicusor","Tulcea",348.7,44.9,"EL",null,null,null,{"$f":"catp","v":1}]
[1705,"Ciubotariu Andrei","Moinesti",78.400000000000006,44.9,"EL",null,null,null,{"$f":"catp","v":1}]
[542,"Hutanu Alin","Brasov",324.2,44.88,"E",null,null,null,{"$f":"catp","v":1}]
[1592,"Pinzar Andrei","Medias",89.7,44.85,"E",null,null,null,{"$f":"catp","v":1}]
[125,"Popa Radu","Deva",632.4,44.83,"EW",null,null,null,{"$f":"catp","v":1}]
[1009,"Onufrei Ciprian","Botosani",174.3,44.8,"E",null,null,null,{"$f":"catp","v":1}]
[1389,"Truta Andrei","Bucuresti",113.6,44.8,"E",null,null,null,{"$f":"catp","v":1}]
[1601,"Mitoi Alin","Bals",89,44.8,"E",null,null,null,{"$f":"catp","v":1}]
[38,"Baican Alexandru","Bucuresti",836.5,44.75,"E",null,null,null,{"$f":"catp","v":1}]
[924,"Badulescu Teodor","Ramnicu Valcea",194.6,44.75,"E",null,null,null,{"$f":"catp","v":1}]
[2237,"Borbely Karoly","Miercurea Ciuc",44.7,44.7,"E",null,null,null,{"$f":"catp","v":1}]
[275,"Corbu Darius","Valenii de Munte",488.3,44.69,"E",null,null,null,{"$f":"catp","v":1}]
[494,"Put Gabriel","Oravita",347.6,44.65,"EW",null,null,null,{"$f":"catp","v":1}]
[563,"Metairie Benjamin","Cluj Napoca",312.7,44.58,"E",null,null,null,{"$f":"catp","v":1}]
[1241,"Bularda Iulian","Barlad",131.9,44.55,"EW",null,null,null,{"$f":"catp","v":1}]
[119,"Mihalache Dario","Plopeni SV",637.20000000000005,44.49,"EJ",null,null,null,{"$f":"catp","v":1}]
[917,"Dimitriu Vasile","Bacau",197.2,44.48,"E",null,null,null,{"$f":"catp","v":1}]
[1065,"Bodeanu Mihai","Bucuresti",162.5,44.47,"E",null,null,null,{"$f":"catp","v":1}]
[936,"Delev Andreea","Moldova-Balti",192.4,44.43,"EF",null,null,null,{"$f":"catp","v":1}]
[562,"Uglea Mihai","Cluj Napoca",313.7,44.42,"E",null,null,null,{"$f":"catp","v":1}]
[1709,"Mandru Bogdan","Hunedoara",78.099999999999994,44.4,"EL",null,null,null,{"$f":"catp","v":1}]
[1041,"Orza Catalin","Suceava",168.3,44.3,"EW",null,null,null,{"$f":"catp","v":1}]
[1316,"Mihailov Valentin","Moldova-Balti",121.5,44.25,"E",null,null,null,{"$f":"catp","v":1}]
[1121,"Stoica Kewin","Dumbraveni SB",153.69999999999999,44.23,"EJ",null,null,null,{"$f":"catp","v":1}]
[281,"Spatariu Daniel","Arad",481.7,44.21,"EW",null,null,null,{"$f":"catp","v":1}]
[2248,"Gyorgy Nicolett","Targu Mures",44.2,44.2,"EF",null,null,null,{"$f":"catp","v":1}]
[2525,"Rusin Iaroslav","Ucraina",33.200000000000003,44.2,"E",null,null,null,{"$f":"catp","v":1}]
[78,"Daneliuc Gabi","Selimbar",740.3,44.19,"EW",null,null,null,{"$f":"catp","v":1}]
[451,"Botezatu Onelus","Galati",367.3,44.19,"E",null,null,null,{"$f":"catp","v":1}]
[42,"Muresan Robert","Surduc",823.8,44.15,"E",null,null,null,{"$f":"catp","v":1}]
[2252,"Postole Aurel","Buzau",44.1,44.1,"E",null,null,null,{"$f":"catp","v":1}]
[133,"Bendescu Matei","Iasi",613.4,44.03,"EL",null,null,null,{"$f":"catp","v":1}]
[2256,"Popescu Ionut","Bucuresti",44,44,"E",null,null,null,{"$f":"catp","v":1}]
[887,"Stefan Patrick","Brasov",205.4,43.98,"E",null,null,null,{"$f":"catp","v":1}]
[1326,"Didu Gabriel","Moldova",120.1,43.97,"E",null,null,null,{"$f":"catp","v":1}]
[97,"Triff Raul","Deva",692.6,43.95,"EL",null,null,null,{"$f":"catp","v":1}]
[442,"Bleoca Marius","Tarnaveni",372.2,43.92,"E",null,null,null,{"$f":"catp","v":1}]
[524,"Alexandru Vasile","Iasi",331.8,43.92,"E",null,null,null,{"$f":"catp","v":1}]
[979,"Galiu Mihai","Brasov",181.1,43.9,"E",null,null,null,{"$f":"catp","v":1}]
[279,"Butnaru Andrei","Iasi",482.6,43.79,"E",null,null,null,{"$f":"catp","v":1}]
[129,"Morosan Alexandru","Horodnic de Sus",622.6,43.74,"EL",null,null,null,{"$f":"catp","v":1}]
[424,"Stoica Laura","Bucuresti",380.3,43.73,"EF",null,null,null,{"$f":"catp","v":1}]
[735,"Panea Ovidiu","Bucuresti",247.9,43.7,"E",null,null,null,{"$f":"catp","v":1}]
[1613,"Cozma David","Moldova-Comrat",87.4,43.7,"E",null,null,null,{"$f":"catp","v":1}]
[79,"Miclos Andrei","Dej",739.2,43.67,"E",null,null,null,{"$f":"catp","v":1}]
[1161,"Tomer Hadar","Sofia",144.69999999999999,43.67,"E",null,null,null,{"$f":"catp","v":1}]
[548,"Colda Dorin","Lupeni",320.39999999999998,43.66,"EW",null,null,null,{"$f":"catp","v":1}]
[132,"Stefan Alexandru","Vaslui",616.1,43.58,"E",null,null,null,{"$f":"catp","v":1}]
[144,"Daroti Florin","Lipova",593.79999999999995,43.54,"E",null,null,null,{"$f":"catp","v":1}]
[982,"Voicu Ionut","Ploiesti",180.8,43.53,"E",null,null,null,{"$f":"catp","v":1}]
[1338,"Hotico Ciprian","Sighetu Marmatiei",119,43.5,"E",null,null,null,{"$f":"catp","v":1}]
[1423,"Kiss Janos","Miercurea Ciuc",108.7,43.5,"E",null,null,null,{"$f":"catp","v":1}]
[179,"Dranca David","Aiud",565.79999999999995,43.48,"EJ",null,null,null,{"$f":"catp","v":1}]
[1130,"Pascal Raul","Targoviste",151.9,43.48,"EW",null,null,null,{"$f":"catp","v":1}]
[44,"Borcila Alexandru","Targu Neamt",816.6,43.45,"E",null,null,null,{"$f":"catp","v":1}]
[413,"Irimia Sorin Jr","Cluj Napoca",386,43.42,"E",null,null,null,{"$f":"catp","v":1}]
[1732,"Iovdi Vasile","Ucraina",76.3,43.4,"E",null,null,null,{"$f":"catp","v":1}]
[45,"Kaposta Victor","Arad",810.5,43.39,"E",null,null,null,{"$f":"catp","v":1}]
[1346,"Capus Giani","Galati",118.4,43.37,"E",null,null,null,{"$f":"catp","v":1}]
[1111,"Muraru Ioana","Vatra Dornei",155.6,43.3,"EF",null,null,null,{"$f":"catp","v":1}]
[1738,"Muntean Alin","Tarnaveni",76,43.3,"EW",null,null,null,{"$f":"catp","v":1}]
[56,"Popescu Apreotesei Mihai","Straoane",788,43.15,"E",null,null,null,{"$f":"catp","v":1}]
[111,"Costache Rosioru Cristian","Timisoara",653.9,43.15,"E",null,null,null,{"$f":"catp","v":1}]
[47,"Avram Nicolae","Nedelea",802.6,43.05,"E",null,null,null,{"$f":"catp","v":1}]
[335,"Tira Viorel","Bistrita",445.8,43,"EW",null,null,null,{"$f":"catp","v":1}]
[1103,"Bora Nicolae","Alba Iulia",156.30000000000001,43,"E",null,null,null,{"$f":"catp","v":1}]
[48,"Gherasim Iulian","Tulcea",802.6,42.93,"E",null,null,null,{"$f":"catp","v":1}]
[49,"Stoica Mihai","Hateg",801,42.93,"E",null,null,null,{"$f":"catp","v":1}]
[1240,"Sora Sorin","Craiova",132,42.93,"E",null,null,null,{"$f":"catp","v":1}]
[64,"Frunza Alexandru","Timisoara",763.6,42.9,"E",null,null,null,{"$f":"catp","v":1}]
[1249,"Vonhaz Stefan","Oradea",131,42.9,"E",null,null,null,{"$f":"catp","v":1}]
[1626,"Doncea Catalin","Giurgiu",85.7,42.85,"E",null,null,null,{"$f":"catp","v":1}]
[490,"Megan Alexandra","Bucuresti",348.9,42.82,"EF",null,null,null,{"$f":"catp","v":1}]
[89,"Catana Claudiu","Bucuresti",713,42.81,"E",null,null,null,{"$f":"catp","v":1}]
[59,"Georgescu Constantin","Orastie",778.3,42.8,"EW",null,null,null,{"$f":"catp","v":1}]
[1047,"Nitu Victor","Slobozia",167.6,42.8,"E",null,null,null,{"$f":"catp","v":1}]
[337,"Polocoser Cristian","Suceava",445.3,42.79,"EW",null,null,null,{"$f":"catp","v":1}]
[382,"Zamfiroaia Sorin","Falticeni",402.5,42.77,"EW",null,null,null,{"$f":"catp","v":1}]
[1628,"Tepelea Ioana","Bucuresti",85.5,42.75,"EF",null,null,null,{"$f":"catp","v":1}]
[120,"Laszlo Levente","Miercurea Ciuc",636.20000000000005,42.74,"EW",null,null,null,{"$f":"catp","v":1}]
[101,"Sylvester Sandor","Sfantu Gheorghe",677.8,42.71,"E",null,null,null,{"$f":"catp","v":1}]
[1141,"Dragomir Cristian","Bucuresti",148.69999999999999,42.7,"E",null,null,null,{"$f":"catp","v":1}]
[1309,"Szekeres Zoltan","Timisoara",122.4,42.7,"E",null,null,null,{"$f":"catp","v":1}]
[658,"Totpal Marius","Busteni",273.2,42.63,"E",null,null,null,{"$f":"catp","v":1}]
[54,"Boteanu Nicu","Bucuresti",789.3,42.59,"E",null,null,null,{"$f":"catp","v":1}]
[276,"Anca Ana Maria","Ludus",487.5,42.58,"EJF",null,null,null,{"$f":"catp","v":1}]
[1115,"Craciun Calin","Oradea",155.1,42.55,"E",null,null,null,{"$f":"catp","v":1}]
[69,"Toma Iulian","Braila",759.4,42.45,"EW",null,null,null,{"$f":"catp","v":1}]
[415,"Cimponeriu Ianis","Lugoj",385.2,42.43,"E",null,null,null,{"$f":"catp","v":1}]
[2289,"Golubev Aleksey","Odesa",42.4,42.4,"E",null,null,null,{"$f":"catp","v":1}]
[1378,"Valcu Alin","Botosani",115.1,42.37,"E",null,null,null,{"$f":"catp","v":1}]
[1638,"Boka Norbert","Arad",84.7,42.35,"EL",null,null,null,{"$f":"catp","v":1}]
[1296,"Teodorescu Sandica","Ramnicu Sarat",123.9,42.3,"ELF",null,null,null,{"$f":"catp","v":1}]
[1048,"Vasile Gelu Iulian","Bucuresti",167.6,42.28,"E",null,null,null,{"$f":"catp","v":1}]
[376,"Pop Zoltan","Dej",408.6,42.21,"EW",null,null,null,{"$f":"catp","v":1}]
[57,"Tic Ioan","Oradea",784.6,42.19,"E",null,null,null,{"$f":"catp","v":1}]
[1369,"Dumitru Bogdan","Constanta",115.6,42.17,"E",null,null,null,{"$f":"catp","v":1}]
[62,"Ciortescu Cristi","Popeni",767.5,42.16,"E",null,null,null,{"$f":"catp","v":1}]
[108,"Tanc Florin","Oradea",661.1,42.15,"E",null,null,null,{"$f":"catp","v":1}]
[361,"Geamanu Robert","Drobeta Tr Severin",427.4,42.13,"E",null,null,null,{"$f":"catp","v":1}]
[2291,"Djan Branislav","Varset",42.1,42.1,"E",null,null,null,{"$f":"catp","v":1}]
[2292,"Gojkov Teodora","Varset",42.1,42.1,"EF",null,null,null,{"$f":"catp","v":1}]
[2293,"Trajicevski Nikola","Pancevo",42.1,42.1,"E",null,null,null,{"$f":"catp","v":1}]
[2294,"Jovanovic Milos","Trstenik",42.1,42.1,"E",null,null,null,{"$f":"catp","v":1}]
[167,"Spoiala Cristinel","Focsani",572.29999999999995,42.09,"E",null,null,null,{"$f":"catp","v":1}]
[899,"Grosan Mircea","Dej",202.7,42.08,"EW",null,null,null,{"$f":"catp","v":1}]
[428,"Niculache Chirica","Tulcea",378.4,42.02,"E",null,null,null,{"$f":"catp","v":1}]
[2295,"Murariu Ciprian","Bucuresti",42,42,"E",null,null,null,{"$f":"catp","v":1}]
[180,"Dracea Gabriel","Sinaia",564.5,41.98,"E",null,null,null,{"$f":"catp","v":1}]
[647,"Dezso Lorand","Dej",278.10000000000002,41.98,"E",null,null,null,{"$f":"catp","v":1}]
[51,"Mitrea Silviu","Navodari",790.6,41.9,"EW",null,null,null,{"$f":"catp","v":1}]
[74,"Lazaroiu Adrian","Lucieni",748.5,41.9,"EW",null,null,null,{"$f":"catp","v":1}]
[297,"Pizlaru Ionel","Focsani",472.4,41.9,"E",null,null,null,{"$f":"catp","v":1}]
[2299,"Czigler Albert","Supuru de jos",41.9,41.9,"E",null,null,null,{"$f":"catp","v":1}]
[536,"Vizoli Alexandru","Fagaras",327.9,41.78,"E",null,null,null,{"$f":"catp","v":1}]
[115,"Ionescu Mihai","Targoviste",645.29999999999995,41.76,"E",null,null,null,{"$f":"catp","v":1}]
[460,"Nicolaiciuc Ovidiu Sebastian","Iasi",363.3,41.76,"E",null,null,null,{"$f":"catp","v":1}]
[792,"Carpovici Boris","Falticeni",230.2,41.75,"EW",null,null,null,{"$f":"catp","v":1}]
[1383,"Neculcea Alexandru","Moreni",114.8,41.73,"E",null,null,null,{"$f":"catp","v":1}]
[528,"Hoancea Eugen","Deva",330.9,41.7,"EW",null,null,null,{"$f":"catp","v":1}]
[117,"Rojnita Sebastian","Bacau",640.4,41.69,"EW",null,null,null,{"$f":"catp","v":1}]
[1097,"Petrus Florin","Alba Iulia",156.80000000000001,41.63,"E",null,null,null,{"$f":"catp","v":1}]
[272,"Mirt Alexandru","Pascani",491.2,41.62,"E",null,null,null,{"$f":"catp","v":1}]
[1917,"Chirea Laurentiu","Targu Jiu",62.4,41.6,"E",null,null,null,{"$f":"catp","v":1}]
[2304,"Szanto Gyula","Ungaria",41.6,41.6,"E",null,null,null,{"$f":"catp","v":1}]
[58,"Stancescu Sebastian","Ploiesti",780,41.58,"E",null,null,null,{"$f":"catp","v":1}]
[1122,"Atomei Armand","Piatra Neamt",153.4,41.53,"EW",null,null,null,{"$f":"catp","v":1}]
[537,"Zarinschi Catalin","Galati",327.7,41.52,"E",null,null,null,{"$f":"catp","v":1}]
[661,"Mihalescu Dinu","Timisoara",271.5,41.5,"EW",null,null,null,{"$f":"catp","v":1}]
[2308,"Macarie Alexandru","Mioveni",41.5,41.5,"E",null,null,null,{"$f":"catp","v":1}]
[439,"Buga Adrian","Cluj Napoca",373,41.48,"E",null,null,null,{"$f":"catp","v":1}]
[995,"Baiburi Levent","Tulcea",177.6,41.43,"E",null,null,null,{"$f":"catp","v":1}]
[518,"Capusa Bogdan","Bacau",334.5,41.4,"EL",null,null,null,{"$f":"catp","v":1}]
[1921,"Evtei Vasile","Tulcea",62.1,41.4,"E",null,null,null,{"$f":"catp","v":1}]
[60,"Badaluta Marian","Vatra Dornei",777.5,41.36,"EW",null,null,null,{"$f":"catp","v":1}]
[1022,"Morariu Mircea","Iasi",171,41.35,"E",null,null,null,{"$f":"catp","v":1}]
[2312,"Angelescu Mihai","Bucuresti",41.3,41.3,"EL",null,null,null,{"$f":"catp","v":1}]
[377,"Pintilie Carol","Iasi",407.5,41.21,"EL",null,null,null,{"$f":"catp","v":1}]
[2314,"Sava Gabriel","Buzau",41.2,41.2,"E",null,null,null,{"$f":"catp","v":1}]
[574,"Craciun David Mihai","Bucuresti",307.8,41.15,"E",null,null,null,{"$f":"catp","v":1}]
[1222,"Neagu George","Cernavoda",135.4,41.13,"E",null,null,null,{"$f":"catp","v":1}]
[1475,"Paul Cosmin Sebastian","Bucuresti",103.1,41.13,"E",null,null,null,{"$f":"catp","v":1}]
[165,"Radu Daniel","Bucuresti",574,41.11,"E",null,null,null,{"$f":"catp","v":1}]
[67,"Polotca Stefan","Sangeorgiu de Padure",761.9,41.09,"EW",null,null,null,{"$f":"catp","v":1}]
[592,"Bardas Mark","Dumbraveni SB",300.5,41.05,"EJ",null,null,null,{"$f":"catp","v":1}]
[83,"Ghizdavescu Adrian","Navodari",728.3,41.03,"E",null,null,null,{"$f":"catp","v":1}]
[250,"Vuca Adrian","Berzovia",503,41.03,"E",null,null,null,{"$f":"catp","v":1}]
[116,"Gheorghita Vasile","Buzau",642.6,41.02,"E",null,null,null,{"$f":"catp","v":1}]
[118,"Popovici Ciprian","Hunedoara",639.4,41.01,"E",null,null,null,{"$f":"catp","v":1}]
[61,"Fratea Aurel","Constanta",775.6,40.99,"EW",null,null,null,{"$f":"catp","v":1}]
[72,"Moraru Ramona Cosmina","Drobeta Tr Severin",753.5,40.99,"EF",null,null,null,{"$f":"catp","v":1}]
[220,"Bucur Andrei","Blaj",527.79999999999995,40.94,"E",null,null,null,{"$f":"catp","v":1}]
[462,"Tatar Mihai","Simleu Silvaniei",363,40.94,"E",null,null,null,{"$f":"catp","v":1}]
[128,"Cozma Catalin","Falticeni",623,40.92,"EW",null,null,null,{"$f":"catp","v":1}]
[2595,"Bolea Catalin","Bucuresti",30.7,40.9,"E",null,null,null,{"$f":"catp","v":1}]
[2596,"Baran Virgil","Bucuresti",30.7,40.9,"E",null,null,null,{"$f":"catp","v":1}]
[247,"Curinnoi Andrei","Moldova-Balti",504.8,40.880000000000003,"E",null,null,null,{"$f":"catp","v":1}]
[1164,"Rasid Aihan","Constanta",143.80000000000001,40.880000000000003,"E",null,null,null,{"$f":"catp","v":1}]
[2600,"Ciure Alin","Baia Mare",30.6,40.799999999999997,"E",null,null,null,{"$f":"catp","v":1}]
[222,"Draganescu Viorel","Ploiesti",523.5,40.75,"E",null,null,null,{"$f":"catp","v":1}]
[581,"Lacatis Ghita","Maderat",305.60000000000002,40.75,"E",null,null,null,{"$f":"catp","v":1}]
[1401,"Jimmy Lu","Bucuresti",111.9,40.729999999999997,"E",null,null,null,{"$f":"catp","v":1}]
[1481,"Olaru Dragos","Bucuresti",102.2,40.729999999999997,"E",null,null,null,{"$f":"catp","v":1}]
[75,"Gheorghe Nicolae","Calarasi",746.2,40.71,"EW",null,null,null,{"$f":"catp","v":1}]
[2326,"Anghel Liviu","Ploiesti",40.700000000000003,40.700000000000003,"E",null,null,null,{"$f":"catp","v":1}]
[76,"Tofeni Ovidiu","Cluj Napoca",745.5,40.69,"E",null,null,null,{"$f":"catp","v":1}]
[1206,"Tiron Marian","Iasi",138.9,40.68,"E",null,null,null,{"$f":"catp","v":1}]
[271,"Postelnicu Mihai","Sibiu",491.4,40.67,"EW",null,null,null,{"$f":"catp","v":1}]
[68,"Bejan Alexandru","Tecuci",760.6,40.65,"E",null,null,null,{"$f":"catp","v":1}]
[86,"Morosanu Vasile","Suceava",716.9,40.65,"EW",null,null,null,{"$f":"catp","v":1}]
[487,"Halasz Peter","Oradea",350.6,40.65,"E",null,null,null,{"$f":"catp","v":1}]
[84,"Ilie Octavian Marius","Brasov",724.2,40.64,"E",null,null,null,{"$f":"catp","v":1}]
[1228,"Cojanu Ciprian","Bucuresti",133.80000000000001,40.630000000000003,"EL",null,null,null,{"$f":"catp","v":1}]
[63,"Gotca Adrian","Iasi",764.5,40.619999999999997,"E",null,null,null,{"$f":"catp","v":1}]
[1799,"Popa Ionut","Moreni",70.8,40.6,"E",null,null,null,{"$f":"catp","v":1}]
[65,"Jurescu Sorin","Timisoara",763.2,40.590000000000003,"EW",null,null,null,{"$f":"catp","v":1}]
[1781,"Orosz Attila","Miercurea Ciuc",72,40.549999999999997,"E",null,null,null,{"$f":"catp","v":1}]
[70,"Negrea Olimpiu","Otelu Rosu",754,40.53,"E",null,null,null,{"$f":"catp","v":1}]
[824,"Sandu Andrei","Sibiu",220.4,40.53,"E",null,null,null,{"$f":"catp","v":1}]
[1178,"Lescinscaia Inna","Moldova-Balti",142.1,40.53,"EF",null,null,null,{"$f":"catp","v":1}]
[1339,"Coroiu Andrei","Roman",118.9,40.5,"E",null,null,null,{"$f":"catp","v":1}]
[2331,"Wischegg Nela","Galati",40.5,40.5,"EF",null,null,null,{"$f":"catp","v":1}]
[1414,"Firica Lucian","Constanta",110.1,40.47,"E",null,null,null,{"$f":"catp","v":1}]
[156,"Carpaci Alexandru","Ludus",581.5,40.450000000000003,"EW",null,null,null,{"$f":"catp","v":1}]
[436,"Zidar Victor","Reghin",374.1,40.450000000000003,"EW",null,null,null,{"$f":"catp","v":1}]
[77,"Burghelea Florin","Piatra Neamt",743.9,40.4,"EW",null,null,null,{"$f":"catp","v":1}]
[802,"Boroleanu Robert","Bucuresti",226.2,40.36,"E",null,null,null,{"$f":"catp","v":1}]
[617,"Nicula Florin","Constanta",291.39999999999998,40.33,"EW",null,null,null,{"$f":"catp","v":1}]
[1186,"Musat Catalin","Alexandria",141,40.299999999999997,"E",null,null,null,{"$f":"catp","v":1}]
[256,"Sencu Victor","Targoviste",500.5,40.28,"E",null,null,null,{"$f":"catp","v":1}]
[239,"Lesnic Bogdan","Moldova-Briceni",509.3,40.270000000000003,"E",null,null,null,{"$f":"catp","v":1}]
[1683,"Makszem Szabolcs","Gheorgheni",80.5,40.25,"E",null,null,null,{"$f":"catp","v":1}]
[278,"Decsei Emma","Ludus",483.9,40.229999999999997,"ELJF",null,null,null,{"$f":"catp","v":1}]
[890,"Crainic Adrian","Orastie",204.4,40.200000000000003,"E",null,null,null,{"$f":"catp","v":1}]
[1684,"Hogas Flaviu Alexandru","Barlad",80.400000000000006,40.200000000000003,"E",null,null,null,{"$f":"catp","v":1}]
[2336,"Dimitrov Alexandr","Bulgaria",40.200000000000003,40.200000000000003,"E",null,null,null,{"$f":"catp","v":1}]
[73,"Hancig Mircea","Timisoara",751,40.19,"E",null,null,null,{"$f":"catp","v":1}]
[219,"Badea Stefan","Targoviste",529.4,40.18,"E",null,null,null,{"$f":"catp","v":1}]
[789,"Ferenczy Zita","Cluj Napoca",231.2,40.18,"EF",null,null,null,{"$f":"catp","v":1}]
[261,"Georgiu Dragos","Vatra Dornei",498.4,40.159999999999997,"E",null,null,null,{"$f":"catp","v":1}]
[469,"Bucur Mario","Bucuresti",359.6,40.15,"E",null,null,null,{"$f":"catp","v":1}]
[1337,"Stoica Maxim","Moldova-Cahul",119.1,40.15,"E",null,null,null,{"$f":"catp","v":1}]
[90,"Vaida Sorin","Oradea",710.7,40.130000000000003,"EW",null,null,null,{"$f":"catp","v":1}]
[1484,"Horvath Tibor","Oradea",101.8,40.1,"E",null,null,null,{"$f":"catp","v":1}]
[138,"Grigore Alexandru","Campina",605,40.090000000000003,"E",null,null,null,{"$f":"catp","v":1}]
[226,"Vasilescu Remus","Curtea de Arges",521.4,40.090000000000003,"E",null,null,null,{"$f":"catp","v":1}]
[696,"Ciucioiu Dorin","Timisoara",261.5,40.03,"E",null,null,null,{"$f":"catp","v":1}]
[1098,"Parnica Leonid","Moinesti",156.80000000000001,40.03,"EW",null,null,null,{"$f":"catp","v":1}]
[1514,"Sorin Inu Moise","Stei",98.2,40.03,"E",null,null,null,{"$f":"catp","v":1}]
[87,"Pancrat Cristian","Tulcea",716.7,40.020000000000003,"E",null,null,null,{"$f":"catp","v":1}]
[698,"Tailbot Francois","Oradea",260,40,"E",null,null,null,{"$f":"catp","v":1}]
[1370,"Cebotari Alexandru","Iasi",115.6,40,"E",null,null,null,{"$f":"catp","v":1}]
[2609,"Patrascu Alin","Slatina",30,40,"E",null,null,null,{"$f":"catp","v":1}]
[103,"Ciuca Dan","Pitesti",675.8,39.979999999999997,"EW",null,null,null,{"$f":"catp","v":1}]
[1011,"Toader George","Agnita",173.9,39.97,"E",null,null,null,{"$f":"catp","v":1}]
[123,"Popescu Eugen","Bucuresti",634.5,39.9,"EW",null,null,null,{"$f":"catp","v":1}]
[1030,"Minica Rares","Giurgiu",169.5,39.9,"E",null,null,null,{"$f":"catp","v":1}]
[1176,"Grapina Florin","Roman",142.4,39.9,"E",null,null,null,{"$f":"catp","v":1}]
[2342,"Moldovan Cristian","Tarnaveni",39.9,39.9,"E",null,null,null,{"$f":"catp","v":1}]
[80,"Istrate Cristian","Bucuresti",737.4,39.89,"EW",null,null,null,{"$f":"catp","v":1}]
[391,"Andone Claudiu","Cugir",398.2,39.82,"EW",null,null,null,{"$f":"catp","v":1}]
[394,"Pavunev Dan","Bucuresti",395.7,39.82,"E",null,null,null,{"$f":"catp","v":1}]
[1812,"Stanciulescu Bogdan","Brasov",69.8,39.799999999999997,"E",null,null,null,{"$f":"catp","v":1}]
[2344,"Tipu Vlad","Iasi",39.799999999999997,39.799999999999997,"E",null,null,null,{"$f":"catp","v":1}]
[91,"Grubacichi Marius","Timisoara",701.4,39.78,"E",null,null,null,{"$f":"catp","v":1}]
[773,"Puiu Dragos","Ploiesti",236.1,39.78,"E",null,null,null,{"$f":"catp","v":1}]
[1961,"Tascianu Cristian","Oradea",59.7,39.75,"E",null,null,null,{"$f":"catp","v":1}]
[178,"Muresan Florin","Deva",566.4,39.74,"E",null,null,null,{"$f":"catp","v":1}]
[777,"Soare Valentin","Valenii de Munte",234.8,39.700000000000003,"EW",null,null,null,{"$f":"catp","v":1}]
[2347,"Petrovic Zeljko","Belgrad",39.700000000000003,39.700000000000003,"E",null,null,null,{"$f":"catp","v":1}]
[2348,"Bugarcic Ivan","Belgrad",39.700000000000003,39.700000000000003,"E",null,null,null,{"$f":"catp","v":1}]
[2349,"Simic Milovan","Belgrad",39.700000000000003,39.700000000000003,"E",null,null,null,{"$f":"catp","v":1}]
[2350,"Dragoljevic Branko","Novi Sad",39.700000000000003,39.700000000000003,"E",null,null,null,{"$f":"catp","v":1}]
[2615,"Shon Eiikhenbaum","Israel",29.8,39.700000000000003,"E",null,null,null,{"$f":"catp","v":1}]
[403,"Drinceanu Lilian","Oravita",391.8,39.67,"E",null,null,null,{"$f":"catp","v":1}]
[932,"Raileanu Raissa","Bucuresti",193.1,39.67,"ELF",null,null,null,{"$f":"catp","v":1}]
[1051,"Mardale Radu","Galati",165.9,39.67,"E",null,null,null,{"$f":"catp","v":1}]
[85,"Voin Doru","Bucuresti",721.5,39.65,"EW",null,null,null,{"$f":"catp","v":1}]
[504,"Iordache Vlad","Bucuresti",340.6,39.619999999999997,"E",null,null,null,{"$f":"catp","v":1}]
[193,"Botanel Eduard","Rovinari",548.9,39.6,"E",null,null,null,{"$f":"catp","v":1}]
[1816,"Matei Marius","Galati",69.599999999999994,39.6,"E",null,null,null,{"$f":"catp","v":1}]
[159,"Radu Liviu","Bucov",576.20000000000005,39.590000000000003,"E",null,null,null,{"$f":"catp","v":1}]
[531,"Tataru Tiberiu","Targu Jiu",329.1,39.549999999999997,"E",null,null,null,{"$f":"catp","v":1}]
[911,"Ionascu Gabriel","Bucuresti",198.8,39.479999999999997,"E",null,null,null,{"$f":"catp","v":1}]
[1969,"Filip Gabriel","Bucuresti",59.2,39.450000000000003,"E",null,null,null,{"$f":"catp","v":1}]
[205,"Buruiana Petru","Piatra Neamt",539.70000000000005,39.43,"E",null,null,null,{"$f":"catp","v":1}]
[1150,"Badescu Andrei","Bucuresti",146.69999999999999,39.4,"ELJ",null,null,null,{"$f":"catp","v":1}]
[1698,"Ilies Ioan","Radauti",78.8,39.4,"E",null,null,null,{"$f":"catp","v":1}]
[1808,"Potarniche Bianca","Buzau",70,39.4,"EF",null,null,null,{"$f":"catp","v":1}]
[1974,"Badea Marian","Buftea",59,39.299999999999997,"E",null,null,null,{"$f":"catp","v":1}]
[1975,"Barsa Ioan","Moinesti",59,39.299999999999997,"E",null,null,null,{"$f":"catp","v":1}]
[2358,"Constantinescu Marius","Bucuresti",39.299999999999997,39.299999999999997,"EW",null,null,null,{"$f":"catp","v":1}]
[1182,"Iordan Marc Gabriel","Bucuresti",141.4,39.229999999999997,"EL",null,null,null,{"$f":"catp","v":1}]
[1007,"Pylypenko Vladyslav","Ucraina",174.8,39.200000000000003,"E",null,null,null,{"$f":"catp","v":1}]
[1510,"Trohonel Daniel","Bucuresti",98.4,39.200000000000003,"E",null,null,null,{"$f":"catp","v":1}]
[202,"Candea Ana Nasta","Bucuresti",541.6,39.1,"EF",null,null,null,{"$f":"catp","v":1}]
[549,"Popet Doru","Timisoara",319.89999999999998,39.1,"EW",null,null,null,{"$f":"catp","v":1}]
[1446,"Laszlo Barna","Cristuru Secuiesc",106.2,39.1,"EL",null,null,null,{"$f":"catp","v":1}]
[1822,"Pop Stefan","Zalau",69.2,39.1,"E",null,null,null,{"$f":"catp","v":1}]
[1851,"Kolumban David","Targu Mures",67.099999999999994,39.1,"E",null,null,null,{"$f":"catp","v":1}]
[2363,"Macovei Liviu","Brasov",39.1,39.1,"E",null,null,null,{"$f":"catp","v":1}]
[2364,"Florescu Bogdan","Bucuresti",39.1,39.1,"EL",null,null,null,{"$f":"catp","v":1}]
[2365,"Chira Camelia","Baia Mare",39.1,39.1,"EF",null,null,null,{"$f":"catp","v":1}]
[456,"Trocaru Remus","Tulcea",364.5,39.07,"EW",null,null,null,{"$f":"catp","v":1}]
[552,"Avram Antonio","Pitesti",318.89999999999998,39.04,"EL",null,null,null,{"$f":"catp","v":1}]
[632,"Cherhat Dumitru","Cluj Napoca",286.60000000000002,39,"E",null,null,null,{"$f":"catp","v":1}]
[726,"Plamada Lucian","Iasi",251.6,39,"E",null,null,null,{"$f":"catp","v":1}]
[1426,"Buciu Cristina","Bucuresti",108.3,39,"EF",null,null,null,{"$f":"catp","v":1}]
[2369,"Dragan Florin","Targu Mures",39,39,"E",null,null,null,{"$f":"catp","v":1}]
[2370,"Topada Ion","Moldova-Comrat",39,39,"E",null,null,null,{"$f":"catp","v":1}]
[1317,"Gavrila Aurel","Bucuresti",121.2,38.97,"EDW",null,null,null,{"$f":"catp","v":1}]
[198,"Paduret Andrei","Bacau",543.6,38.96,"E",null,null,null,{"$f":"catp","v":1}]
[237,"Motorga Dorin","Targu Mures",512.4,38.93,"EW",null,null,null,{"$f":"catp","v":1}]
[452,"Szekely Karoly","Sangeorgiu de Mures",367.3,38.93,"E",null,null,null,{"$f":"catp","v":1}]
[660,"Benderschi Alexandru","Moldova-Briceni",272.2,38.9,"E",null,null,null,{"$f":"catp","v":1}]
[1524,"Cristache George","Bucuresti",96.6,38.9,"E",null,null,null,{"$f":"catp","v":1}]
[1530,"Oprea Adrian","Lugoj",96.1,38.9,"E",null,null,null,{"$f":"catp","v":1}]
[2371,"Pascal Igor","Moldova",38.9,38.9,"E",null,null,null,{"$f":"catp","v":1}]
[113,"Naghi Vlad","Hunedoara",652.79999999999995,38.86,"E",null,null,null,{"$f":"catp","v":1}]
[301,"Butura Vasile","Alba Iulia",468,38.85,"E",null,null,null,{"$f":"catp","v":1}]
[521,"Dicu Vlad","Vaslui",333.4,38.840000000000003,"E",null,null,null,{"$f":"catp","v":1}]
[94,"Bilt Catalin","Suceava",695.9,38.83,"E",null,null,null,{"$f":"catp","v":1}]
[95,"Alexandru Marius","Bucuresti",695.4,38.82,"E",null,null,null,{"$f":"catp","v":1}]
[170,"Ardelean Raul","Lipova",569.1,38.799999999999997,"E",null,null,null,{"$f":"catp","v":1}]
[1068,"Toader Nicolae","Tulcea",162.1,38.799999999999997,"E",null,null,null,{"$f":"catp","v":1}]
[2640,"Melnicenco Beniamin","Timisoara",29.1,38.799999999999997,"E",null,null,null,{"$f":"catp","v":1}]
[2641,"Arabagiu Marius","Bucuresti",29.1,38.799999999999997,"E",null,null,null,{"$f":"catp","v":1}]
[350,"Marola Mihai","Bacau",435.2,38.78,"E",null,null,null,{"$f":"catp","v":1}]
[532,"Gecse Alpar","Chibed",328.9,38.78,"E",null,null,null,{"$f":"catp","v":1}]
[315,"Degianschi Obrad","Resita",456.5,38.770000000000003,"E",null,null,null,{"$f":"catp","v":1}]
[122,"Balauca Cornel","Botosani",634.6,38.76,"E",null,null,null,{"$f":"catp","v":1}]
[137,"Nistor Iosif","Miercurea Ciuc",607.79999999999995,38.76,"EDW",null,null,null,{"$f":"catp","v":1}]
[1835,"Patapi Alexandru","Moldova-Balti",68,38.75,"E",null,null,null,{"$f":"catp","v":1}]
[1165,"Zakarias Szabolcs","Odorheiu Secuiesc",143.80000000000001,38.729999999999997,"EL",null,null,null,{"$f":"catp","v":1}]
[465,"Dumitrescu Cornel","Bucuresti",361.2,38.700000000000003,"EW",null,null,null,{"$f":"catp","v":1}]
[1996,"Raducanu Ioana","Bucuresti",58.1,38.700000000000003,"ELF",null,null,null,{"$f":"catp","v":1}]
[184,"Dimache Maria","Brasov",558.79999999999995,38.61,"EF",null,null,null,{"$f":"catp","v":1}]
[767,"Dumbrava Doru","Bucuresti",237.5,38.549999999999997,"EW",null,null,null,{"$f":"catp","v":1}]
[215,"Sorescu Mircea","Paulesti",532.1,38.54,"EW",null,null,null,{"$f":"catp","v":1}]
[856,"Benyi Crinel","Tarnaveni",212.5,38.5,"E",null,null,null,{"$f":"catp","v":1}]
[186,"Dirlea Ioan","Aiud",557.29999999999995,38.479999999999997,"ED",null,null,null,{"$f":"catp","v":1}]
[1056,"Bocaniala Norocel","Bucuresti",163.9,38.479999999999997,"E",null,null,null,{"$f":"catp","v":1}]
[1468,"Aron Darie","Sibiu",103.8,38.43,"EW",null,null,null,{"$f":"catp","v":1}]
[814,"Kovacs Istvan","Miercurea Ciuc",223.1,38.4,"E",null,null,null,{"$f":"catp","v":1}]
[318,"Baca Stefan","Bucuresti",455.2,38.39,"E",null,null,null,{"$f":"catp","v":1}]
[1409,"Calenciuc Dumitru","Radauti",110.8,38.35,"E",null,null,null,{"$f":"catp","v":1}]
[2382,"Orha Andrei","Targu Mures",38.299999999999997,38.299999999999997,"E",null,null,null,{"$f":"catp","v":1}]
[903,"Florescu Eleodor","Deva",201.6,38.25,"E",null,null,null,{"$f":"catp","v":1}]
[926,"Croitoru Alin","Brasov",194.5,38.25,"E",null,null,null,{"$f":"catp","v":1}]
[93,"Ursulescu Ioan","Bacau",697.1,38.24,"EW",null,null,null,{"$f":"catp","v":1}]
[1193,"Fritea Raul","Marghita",140.4,38.229999999999997,"E",null,null,null,{"$f":"catp","v":1}]
[408,"Weiss Simona","Cisnadie",391.2,38.18,"EF",null,null,null,{"$f":"catp","v":1}]
[739,"Leorda Rares","Reghin",246,38.18,"E",null,null,null,{"$f":"catp","v":1}]
[717,"Tigau Dan","Bucuresti",254.4,38.159999999999997,"EW",null,null,null,{"$f":"catp","v":1}]
[1735,"Stoica Iuri","Moldova-Cahul",76.2,38.1,"E",null,null,null,{"$f":"catp","v":1}]
[1852,"Iancu Sorin","Sibiu",67.099999999999994,38.1,"E",null,null,null,{"$f":"catp","v":1}]
[2651,"Ilie Marian","Rascaeti",28.6,38.1,"E"]
[107,"Palencsar Nicolae","Satu Mare",662.5,38.07,"EW",null,null,null,{"$f":"catp","v":1}]
[258,"Jichici Svetozar","Timisoara",499.6,38.06,"EW",null,null,null,{"$f":"catp","v":1}]
[1189,"Tincu Laurentiu","Sibiu",140.6,38.03,"E",null,null,null,{"$f":"catp","v":1}]
[150,"Toma David","Bucuresti",587.4,38,"EL",null,null,null,{"$f":"catp","v":1}]
[162,"Toplician Mihai","Hunedoara",574.6,38,"EL",null,null,null,{"$f":"catp","v":1}]
[446,"Dangulea Tudor","Dumbraveni SB",370.4,38,"EL",null,null,null,{"$f":"catp","v":1}]
[580,"Cristea Daniel","Bistrita",305.7,38,"EL",null,null,null,{"$f":"catp","v":1}]
[600,"Crisan Alexandru","Cluj Napoca",296.8,38,"EL",null,null,null,{"$f":"catp","v":1}]
[852,"Acatrinei Lucian","Bucuresti",213.6,38,"E",null,null,null,{"$f":"catp","v":1}]
[1195,"Pandele Ionel","Giurgiu",140.1,38,"ELW",null,null,null,{"$f":"catp","v":1}]
[1271,"Luca Octavian","Tulcea",127.5,38,"EL",null,null,null,{"$f":"catp","v":1}]
[1525,"Vitan Victor","Giurgiu",96.6,38,"EL",null,null,null,{"$f":"catp","v":1}]
[1646,"Marchis Alexandra","Cluj Napoca",83.8,38,"ELF",null,null,null,{"$f":"catp","v":1}]
[2014,"Palangean Iris","Giurgiu",57.3,38,"ELF",null,null,null,{"$f":"catp","v":1}]
[2671,"Tuta Radu Ionut","Pitesti",28,38,"EL",null,null,null,{"$f":"catp","v":1}]
[2880,"Popescu Adrian","Dumbravita",22.5,38,"EL",null,null,null,{"$f":"catp","v":1}]
[1008,"Singeorzan Corneliu","Bistrita",174.4,37.97,"O",null,null,null,{"$f":"catp","v":2}]
[176,"Braniste George","Bacau",566.70000000000005,37.950000000000003,"O",null,null,null,{"$f":"catp","v":2}]
[534,"Lup Silviu","Oradea",328.3,37.950000000000003,"O",null,null,null,{"$f":"catp","v":2}]
[310,"Papacu Bejoli","Bucuresti",461.6,37.93,"OW",null,null,null,{"$f":"catp","v":2}]
[1090,"Popescu Mihai Sorin","Straja",157.6,37.93,"O",null,null,null,{"$f":"catp","v":2}]
[252,"Sovea Sorin","Suceava",502.6,37.9,"O",null,null,null,{"$f":"catp","v":2}]
[1859,"Banescu Dragos","Pitesti",66.3,37.9,"O",null,null,null,{"$f":"catp","v":2}]
[2392,"Corocaescu Cristian","Suceava",37.9,37.9,"O",null,null,null,{"$f":"catp","v":2}]
[203,"Preda Codrin","Piatra Neamt",540.5,37.86,"O",null,null,null,{"$f":"catp","v":2}]
[676,"Nagy Eduard","Deva",267,37.75,"O",null,null,null,{"$f":"catp","v":2}]
[1867,"Nuta Mario","Pitesti",65.7,37.75,"O",null,null,null,{"$f":"catp","v":2}]
[402,"Simulescu Adrian","Focsani",391.9,37.74,"OW",null,null,null,{"$f":"catp","v":2}]
[1168,"Todor Cristian","Oradea",143.1,37.729999999999997,"OW",null,null,null,{"$f":"catp","v":2}]
[864,"Boznea Daniel","Deva",209.6,37.700000000000003,"O",null,null,null,{"$f":"catp","v":2}]
[1868,"Lepadatu Marius","Priboieni",65.7,37.700000000000003,"O",null,null,null,{"$f":"catp","v":2}]
[2657,"Dogaru Teodor","Bucuresti",28.3,37.700000000000003,"O",null,null,null,{"$f":"catp","v":2}]
[109,"Migea Cornel","Sibiu",658.2,37.619999999999997,"OW",null,null,null,{"$f":"catp","v":2}]
[384,"Ene Dragos","Ploiesti",401.4,37.619999999999997,"O",null,null,null,{"$f":"catp","v":2}]
[106,"Peta Octavian","Cluj Napoca",664.6,37.6,"OW",null,null,null,{"$f":"catp","v":2}]
[435,"Orban Adrian","Apahida",375.3,37.6,"O",null,null,null,{"$f":"catp","v":2}]
[1871,"Tudosi Petru","Suceava",65.599999999999994,37.6,"O",null,null,null,{"$f":"catp","v":2}]
[1838,"Murariu Miruna","Moinesti",67.900000000000006,37.549999999999997,"OF",null,null,null,{"$f":"catp","v":2}]
[2031,"Paun Daniel","Bucuresti",56.4,37.549999999999997,"O",null,null,null,{"$f":"catp","v":2}]
[775,"Kiraly Florin","Satu Mare",235.5,37.520000000000003,"O",null,null,null,{"$f":"catp","v":2}]
[433,"Andrei Radu Alexandru","Iasi",375.9,37.51,"O",null,null,null,{"$f":"catp","v":2}]
[1570,"Chirila Robert","Bucuresti",92.7,37.5,"O",null,null,null,{"$f":"catp","v":2}]
[2399,"Ardeljan Marinel","Varset",37.5,37.5,"O",null,null,null,{"$f":"catp","v":2}]
[2400,"Vucetic Ivan","Vlajkovac",37.5,37.5,"O",null,null,null,{"$f":"catp","v":2}]
[2401,"Zagorac Novak","Lokve",37.5,37.5,"O",null,null,null,{"$f":"catp","v":2}]
[2662,"Iordache Marian","Ramnicu Valcea",28.2,37.5,"O",null,null,null,{"$f":"catp","v":2}]
[1860,"Tanase Adelina","Bucuresti",66,37.450000000000003,"OLF",null,null,null,{"$f":"catp","v":2}]
[1887,"Dabija Razvan","Iasi",64.2,37.450000000000003,"O",null,null,null,{"$f":"catp","v":2}]
[293,"Patrascu Dorin","Pitesti",474,37.4,"O",null,null,null,{"$f":"catp","v":2}]
[2404,"Finaru Razvan","Bucuresti",37.4,37.4,"O",null,null,null,{"$f":"catp","v":2}]
[2405,"Caminschi Vlad","Moldova-Cahul",37.4,37.4,"O",null,null,null,{"$f":"catp","v":2}]
[760,"Acsinte Oana","Bucuresti",239.2,37.380000000000003,"OF",null,null,null,{"$f":"catp","v":2}]
[1101,"Todarcea Ioan","Sibiu",156.4,37.380000000000003,"O",null,null,null,{"$f":"catp","v":2}]
[418,"Pasoveanu Silvian","Bucuresti",384.6,37.299999999999997,"O",null,null,null,{"$f":"catp","v":2}]
[971,"Maxim Alexandru","Oradea",183,37.299999999999997,"O",null,null,null,{"$f":"catp","v":2}]
[2407,"Morar Alin","Alba Iulia",37.299999999999997,37.299999999999997,"O",null,null,null,{"$f":"catp","v":2}]
[1219,"Dumitru Traian","Bucuresti",135.69999999999999,37.270000000000003,"OW",null,null,null,{"$f":"catp","v":2}]
[559,"Kincses Jozsef","Praid",316.3,37.229999999999997,"O",null,null,null,{"$f":"catp","v":2}]
[124,"Husa Gelu","Zalau",632.79999999999995,37.21,"ODW",null,null,null,{"$f":"catp","v":2}]
[1755,"Pop Claudiu","Arad",74.3,37.15,"O",null,null,null,{"$f":"catp","v":2}]
[1052,"Croitoru Alexandru","Iasi",165.9,37.1,"O",null,null,null,{"$f":"catp","v":2}]
[1482,"Iosip Radu Gabriel","Barlad",102.2,37.1,"O",null,null,null,{"$f":"catp","v":2}]
[1756,"Sima Daniel","Mioveni",74.099999999999994,37.049999999999997,"OJ",null,null,null,{"$f":"catp","v":2}]
[102,"Albescu Constantin Ionut","Bucuresti",676.3,37.020000000000003,"O",null,null,null,{"$f":"catp","v":2}]
[266,"Ghilan Romeo","Targu Neamt",493.6,37,"O",null,null,null,{"$f":"catp","v":2}]
[1880,"Bujoi Emanuel","Braila",64.5,36.950000000000003,"O",null,null,null,{"$f":"catp","v":2}]
[98,"Orban Alexandru","Lugoj",690.8,36.94,"O",null,null,null,{"$f":"catp","v":2}]
[389,"Morosan Marian","Suceava",399.9,36.9,"O",null,null,null,{"$f":"catp","v":2}]
[151,"Sirbu Lucian","Drobeta Tr Severin",587,36.86,"O",null,null,null,{"$f":"catp","v":2}]
[249,"Mahu Bogdan","Pascani",503.2,36.82,"O",null,null,null,{"$f":"catp","v":2}]
[640,"Prodan Alexandru","Tarnaveni",280.10000000000002,36.82,"O",null,null,null,{"$f":"catp","v":2}]
[1083,"Cudalbu Ciprian","Ploiesti",159.69999999999999,36.799999999999997,"O",null,null,null,{"$f":"catp","v":2}]
[211,"Bubulac Cristi","Piatra Neamt",534.5,36.78,"O",null,null,null,{"$f":"catp","v":2}]
[688,"Ivan Sorin Ioan","Targoviste",263,36.78,"O",null,null,null,{"$f":"catp","v":2}]
[157,"Sterczer Sandor","Sanzieni",580.70000000000005,36.74,"O",null,null,null,{"$f":"catp","v":2}]
[254,"Stroe Ionel","Bacau",500.6,36.72,"O",null,null,null,{"$f":"catp","v":2}]
[728,"Scutaru Iulian","Bucuresti",251.3,36.72,"O",null,null,null,{"$f":"catp","v":2}]
[736,"Vieriu Teodora","Vatra Dornei",247,36.700000000000003,"OF",null,null,null,{"$f":"catp","v":2}]
[1076,"Coiov Nicolae","Arad",160.80000000000001,36.700000000000003,"O",null,null,null,{"$f":"catp","v":2}]
[1763,"Martinas Marius","Iasi",73.400000000000006,36.700000000000003,"O",null,null,null,{"$f":"catp","v":2}]
[1764,"Picioroga Lucian","Galati",73.400000000000006,36.700000000000003,"O",null,null,null,{"$f":"catp","v":2}]
[2682,"Munteanu Petrisor","Iasi",27.6,36.700000000000003,"O",null,null,null,{"$f":"catp","v":2}]
[354,"Poenariu Darius","Arad",431.4,36.69,"O",null,null,null,{"$f":"catp","v":2}]
[603,"Ciobanu Daniel","Blaj",296.5,36.6,"OW",null,null,null,{"$f":"catp","v":2}]
[467,"Vlaisan Vasile","Vicovu de Jos",360.8,36.56,"O",null,null,null,{"$f":"catp","v":2}]
[639,"Petrescu Claudiu","Putna",282.89999999999998,36.5,"O",null,null,null,{"$f":"catp","v":2}]
[881,"Marcu Rares","Iasi",206.4,36.5,"O",null,null,null,{"$f":"catp","v":2}]
[2429,"Baiu Costel","Iasi",36.5,36.5,"O",null,null,null,{"$f":"catp","v":2}]
[2696,"Nicolae Paul","Bucuresti",27.4,36.5,"O",null,null,null,{"$f":"catp","v":2}]
[2697,"Roman Ovidiu","Maieru",27.4,36.5,"O",null,null,null,{"$f":"catp","v":2}]
[2698,"Valean Adrian","Bistrita",27.4,36.5,"O",null,null,null,{"$f":"catp","v":2}]
[434,"Holban Dumitru","Buzau",375.9,36.46,"O",null,null,null,{"$f":"catp","v":2}]
[1479,"Stanciu Stelian","Calarasi",102.7,36.450000000000003,"OW",null,null,null,{"$f":"catp","v":2}]
[861,"Vlaisan Georgica","Vicovu de Jos",210.3,36.43,"O",null,null,null,{"$f":"catp","v":2}]
[192,"Palaghianu Mattia","Salcea",549.5,36.409999999999997,"O",null,null,null,{"$f":"catp","v":2}]
[1889,"Nicoara Ovidiu","Curtea de Arges",64.099999999999994,36.4,"O",null,null,null,{"$f":"catp","v":2}]
[409,"Vioreanu Cristian","Dumbraveni SB",391.1,36.369999999999997,"O",null,null,null,{"$f":"catp","v":2}]
[520,"Denes Ferenc","Praid",333.7,36.36,"OW",null,null,null,{"$f":"catp","v":2}]
[164,"Lita Gabriel","Bucuresti",574.1,36.35,"O",null,null,null,{"$f":"catp","v":2}]
[99,"Sursilov Constantin","Bucuresti",690.4,36.340000000000003,"O",null,null,null,{"$f":"catp","v":2}]
[2436,"Dragoi Andrei","Azuga",36.299999999999997,36.299999999999997,"O",null,null,null,{"$f":"catp","v":2}]
[1221,"Totos Ludovic","Marghita",135.5,36.25,"O",null,null,null,{"$f":"catp","v":2}]
[2702,"Chicou Nikita","Franta",27.2,36.200000000000003,"OF",null,null,null,{"$f":"catp","v":2}]
[183,"Marin Puiu","Amarastii de Sus",560.4,36.18,"OW",null,null,null,{"$f":"catp","v":2}]
[291,"Man Cristina","Targu Mures",475.4,36.18,"OF",null,null,null,{"$f":"catp","v":2}]
[331,"Cazac Victor","Moldova-Briceni",450.7,36.17,"O",null,null,null,{"$f":"catp","v":2}]
[690,"Gyorfi Szabolcs","Gheorgheni",262.60000000000002,36.17,"O",null,null,null,{"$f":"catp","v":2}]
[1232,"Simion Cristi","Targu Jiu",132.80000000000001,36.17,"O",null,null,null,{"$f":"catp","v":2}]
[1220,"Nicolae Alyn","Bucuresti",135.6,36.130000000000003,"O",null,null,null,{"$f":"catp","v":2}]
[225,"Kriszta Arpad Lorand","Sanpaul",522.20000000000005,36.11,"O",null,null,null,{"$f":"catp","v":2}]
[622,"Usatenco Igori","Ucraina",290,36.1,"O",null,null,null,{"$f":"catp","v":2}]
[1457,"Manta Viorel","Baicoi",105,36.1,"OW",null,null,null,{"$f":"catp","v":2}]
[1779,"Bruma Ovidiu","Popesti Leordeni",72.2,36.1,"O",null,null,null,{"$f":"catp","v":2}]
[896,"Merai Janos","Oradea",203.2,36.049999999999997,"O",null,null,null,{"$f":"catp","v":2}]
[529,"Curtea Daniel","Viseu",329.7,36.04,"O",null,null,null,{"$f":"catp","v":2}]
[1040,"Sargu David","Moldova-Balti",168.4,36,"O",null,null,null,{"$f":"catp","v":2}]
[598,"Mihaila Nicolae","Breaza",298.89999999999998,35.979999999999997,"OW",null,null,null,{"$f":"catp","v":2}]
[1295,"Groza Florin","Cluj Napoca",124,35.9,"OW",null,null,null,{"$f":"catp","v":2}]
[1900,"Fonariuc Denis","Iasi",63.4,35.9,"O",null,null,null,{"$f":"catp","v":2}]
[1281,"Rosca Niculai","Galanesti",125.9,35.880000000000003,"OW",null,null,null,{"$f":"catp","v":2}]
[950,"Badea Daniel","Targoviste",188.5,35.799999999999997,"O",null,null,null,{"$f":"catp","v":2}]
[2707,"Radu Aurel","Bucuresti",26.9,35.799999999999997,"O",null,null,null,{"$f":"catp","v":2}]
[1791,"Mirauta Darius","Moinesti",71.5,35.75,"O",null,null,null,{"$f":"catp","v":2}]
[344,"Cazacu Florin","Vatra Dornei",438.8,35.72,"O",null,null,null,{"$f":"catp","v":2}]
[447,"Bardas Patrick","Dumbraveni SB",369.9,35.71,"O",null,null,null,{"$f":"catp","v":2}]
[214,"Zavricescu George","Curtea de Arges",533,35.67,"OW",null,null,null,{"$f":"catp","v":2}]
[769,"Costea Constantin","Oradea",237,35.65,"O",null,null,null,{"$f":"catp","v":2}]
[2453,"Nicolaev Toma","Bulgaria",35.6,35.6,"O",null,null,null,{"$f":"catp","v":2}]
[512,"Vilculescu Vlad","Timisoara",335.8,35.58,"O",null,null,null,{"$f":"catp","v":2}]
[684,"Sas Tibor","Oradea",264.10000000000002,35.58,"O",null,null,null,{"$f":"catp","v":2}]
[1596,"Rosu Adrian","Timisoara",89.4,35.53,"O",null,null,null,{"$f":"catp","v":2}]
[1897,"Anghele Cristinel","Galati",63.5,35.5,"OW",null,null,null,{"$f":"catp","v":2}]
[2455,"Panic Dejan","Ram",35.5,35.5,"O",null,null,null,{"$f":"catp","v":2}]
[1798,"Mihailov Victoria","Moldova-Balti",70.900000000000006,35.450000000000003,"OF",null,null,null,{"$f":"catp","v":2}]
[888,"Sarca Ovidiu","Marghita",204.8,35.4,"O",null,null,null,{"$f":"catp","v":2}]
[1529,"Ionescu Vlad","Buzau",96.3,35.4,"OJ",null,null,null,{"$f":"catp","v":2}]
[2458,"Aiben Robert","Tasnad",35.4,35.4,"O",null,null,null,{"$f":"catp","v":2}]
[2459,"Grimaldi Alesio","Italia",35.4,35.4,"O",null,null,null,{"$f":"catp","v":2}]
[2460,"Demjen Eszter","Zalau",35.4,35.4,"OF",null,null,null,{"$f":"catp","v":2}]
[2714,"Ionescu Bogdan","Buzau",26.6,35.4,"O",null,null,null,{"$f":"catp","v":2}]
[2715,"Graniceru Andra","Buzau",26.6,35.4,"OF",null,null,null,{"$f":"catp","v":2}]
[730,"Turcescu Stefan","Pitesti",250.2,35.299999999999997,"O",null,null,null,{"$f":"catp","v":2}]
[1802,"Medve Mihai","Reghin",70.599999999999994,35.299999999999997,"O",null,null,null,{"$f":"catp","v":2}]
[804,"Bothazan Florin","Dej",225.8,35.28,"OD",null,null,null,{"$f":"catp","v":2}]
[712,"Deak Valentin","Sebis",255,35.24,"O",null,null,null,{"$f":"catp","v":2}]
[243,"Vaszi Denes","Miercurea Ciuc",506.3,35.200000000000003,"OW",null,null,null,{"$f":"catp","v":2}]
[2467,"Colcer Nicolae","Toplita",35.200000000000003,35.200000000000003,"OW",null,null,null,{"$f":"catp","v":2}]
[246,"Butoi Aurel","Caracal",505.2,35.18,"O",null,null,null,{"$f":"catp","v":2}]
[1541,"Nastase Sergiu","Iasi",95.5,35.17,"O",null,null,null,{"$f":"catp","v":2}]
[892,"Kovacs Eduard","Balan",204.1,35.15,"O",null,null,null,{"$f":"catp","v":2}]
[1237,"Padurariu Costel","Brasov",132.19999999999999,35.1,"O",null,null,null,{"$f":"catp","v":2}]
[1606,"Vale Nelu","Zalau",88.4,35.07,"O",null,null,null,{"$f":"catp","v":2}]
[1246,"Popescu Remus","Ramnicu Valcea",131.5,35.049999999999997,"OW",null,null,null,{"$f":"catp","v":2}]
[1038,"Badescu Stefan","Campulung Muscel",168.5,35.03,"O",null,null,null,{"$f":"catp","v":2}]
[284,"Ghiorghiu Dragos","Iasi",480,35.01,"O",null,null,null,{"$f":"catp","v":2}]
[1515,"Ionita Valentin","Galati",98,35,"O",null,null,null,{"$f":"catp","v":2}]
[1939,"Varady Mark","Oradea",60.9,35,"O",null,null,null,{"$f":"catp","v":2}]
[763,"Liahu Doru","Botosani",238.1,34.96,"O",null,null,null,{"$f":"catp","v":2}]
[1926,"Gelei Kristof","Odorheiu Secuiesc",61.8,34.950000000000003,"O",null,null,null,{"$f":"catp","v":2}]
[1962,"Tintas Adrian","Sighetu Marmatiei",59.5,34.950000000000003,"O",null,null,null,{"$f":"catp","v":2}]
[267,"Lovin Eusebiu","Comanesti",493,34.94,"OW",null,null,null,{"$f":"catp","v":2}]
[1142,"Gheorghe Nicu","Drobeta Tr Severin",148.69999999999999,34.93,"OW",null,null,null,{"$f":"catp","v":2}]
[347,"Munteanu Sebastian","Bacau",436.7,34.92,"O",null,null,null,{"$f":"catp","v":2}]
[352,"Veres Francisc","Oravita",433.1,34.909999999999997,"O",null,null,null,{"$f":"catp","v":2}]
[166,"Bunea Adrian","Baicoi",573,34.9,"O",null,null,null,{"$f":"catp","v":2}]
[1817,"Pufic Darko","Kladovo Serbia",69.599999999999994,34.799999999999997,"O",null,null,null,{"$f":"catp","v":2}]
[509,"Balla Peter","Toplita",336.2,34.71,"O",null,null,null,{"$f":"catp","v":2}]
[707,"Gorum Adrian","Topoloveni",257,34.6,"OW",null,null,null,{"$f":"catp","v":2}]
[1823,"Urzica Ioan","Toplita",69.2,34.6,"O",null,null,null,{"$f":"catp","v":2}]
[2738,"Hauptkorn Martin","Germania",26,34.6,"O",null,null,null,{"$f":"catp","v":2}]
[1465,"Volvovics Adrian","Oradea",103.9,34.57,"O",null,null,null,{"$f":"catp","v":2}]
[1034,"Bogdan Raul","Deva",169,34.53,"O",null,null,null,{"$f":"catp","v":2}]
[934,"Seres Szabolcs","Crasna",192.6,34.5,"O",null,null,null,{"$f":"catp","v":2}]
[2484,"Mihai Gabriel","Galati",34.5,34.5,"O",null,null,null,{"$f":"catp","v":2}]
[540,"Negrean Ioan","Sibiu",327.2,34.479999999999997,"O",null,null,null,{"$f":"catp","v":2}]
[244,"Radu Cosmin","Ludus",506,34.46,"O",null,null,null,{"$f":"catp","v":2}]
[591,"Dragos Matei","Brasov",301.10000000000002,34.42,"O",null,null,null,{"$f":"catp","v":2}]
[1629,"Burucenco Vadim","Moldova-Chisinau",85.5,34.4,"O",null,null,null,{"$f":"catp","v":2}]
[1825,"Marian Florin","Reghin",68.8,34.4,"O",null,null,null,{"$f":"catp","v":2}]
[571,"Miron Mihai","Cluj Napoca",309.3,34.380000000000003,"OD",null,null,null,{"$f":"catp","v":2}]
[626,"Cozma Gheorghe","Bistrita",288.2,34.36,"O",null,null,null,{"$f":"catp","v":2}]
[273,"Leolea Andrei","Constanta",490,34.35,"OW",null,null,null,{"$f":"catp","v":2}]
[716,"Enculescu Mihaita","Dobroesti",254.7,34.32,"OW",null,null,null,{"$f":"catp","v":2}]
[2492,"Pascu Paul","Tecuci",34.299999999999997,34.299999999999997,"O",null,null,null,{"$f":"catp","v":2}]
[2493,"Sabou Edmond","Cluj Napoca",34.299999999999997,34.299999999999997,"O",null,null,null,{"$f":"catp","v":2}]
[448,"Rausche Valentin","Tulcea",369.6,34.26,"O",null,null,null,{"$f":"catp","v":2}]
[985,"Majai Lehel","Sovata",180.1,34.200000000000003,"O",null,null,null,{"$f":"catp","v":2}]
[1079,"Cotca Dacian","Oradea",160.30000000000001,34.200000000000003,"OW",null,null,null,{"$f":"catp","v":2}]
[1522,"Cazacu Valentin","Pitesti",96.9,34.200000000000003,"O",null,null,null,{"$f":"catp","v":2}]
[2494,"Koteles Antonio","Cluj Napoca",34.200000000000003,34.200000000000003,"O",null,null,null,{"$f":"catp","v":2}]
[2495,"Arcusa Andrei","Ucraina-Umani",34.200000000000003,34.200000000000003,"O",null,null,null,{"$f":"catp","v":2}]
[136,"Ojog Petrisor","Bacau",611.1,34.11,"OW",null,null,null,{"$f":"catp","v":2}]
[2499,"Ciuca Sorin","Iasi",34.1,34.1,"O",null,null,null,{"$f":"catp","v":2}]
[706,"Szanto Lajos","Miercurea Ciuc",257.60000000000002,34.049999999999997,"O",null,null,null,{"$f":"catp","v":2}]
[1313,"Avadanoaei Petuel","Bucuresti",121.8,34,"O",null,null,null,{"$f":"catp","v":2}]
[163,"Borsan David","Cluj Napoca",574.4,33.979999999999997,"O",null,null,null,{"$f":"catp","v":2}]
[1586,"Vasilescu Emil","Calarasi",90.2,33.9,"O",null,null,null,{"$f":"catp","v":2}]
[139,"Bratescu Adrian","Targoviste",600.4,33.869999999999997,"ODW",null,null,null,{"$f":"catp","v":2}]
[746,"Runceanu David","Pitesti",244.7,33.82,"O",null,null,null,{"$f":"catp","v":2}]
[922,"Tipser Gabriel","Sighisoara",195.1,33.799999999999997,"OW",null,null,null,{"$f":"catp","v":2}]
[2758,"Sandu Antonio","Timisoara",25.4,33.799999999999997,"O",null,null,null,{"$f":"catp","v":2}]
[841,"Hruban Andrei","Dej",216.1,33.75,"O",null,null,null,{"$f":"catp","v":2}]
[1743,"Pop Ioan Florin","Lugoj",75.7,33.700000000000003,"O",null,null,null,{"$f":"catp","v":2}]
[2513,"Keresztes Arpad","Miercurea Ciuc",33.700000000000003,33.700000000000003,"O",null,null,null,{"$f":"catp","v":2}]
[942,"Zgardan Razvan","Moldova-Balti",190.8,33.68,"O",null,null,null,{"$f":"catp","v":2}]
[906,"Iorgoiu Constantin","Drajna de Jos",200.8,33.630000000000003,"O",null,null,null,{"$f":"catp","v":2}]
[253,"Bucur Dan","Cisnadie",501.5,33.6,"OW",null,null,null,{"$f":"catp","v":2}]
[919,"Krisan Iuliu","Viseu",195.9,33.6,"O",null,null,null,{"$f":"catp","v":2}]
[420,"Dabacan Dorin","Tarnaveni",382.8,33.57,"O",null,null,null,{"$f":"catp","v":2}]
[1627,"Mocanu Luca","Filipestii de Targ",85.6,33.5,"O",null,null,null,{"$f":"catp","v":2}]
[2517,"Racic Pera","Zrenjanin",33.5,33.5,"O",null,null,null,{"$f":"catp","v":2}]
[2766,"Baceanu Constantin","Buzau",25.2,33.5,"O",null,null,null,{"$f":"catp","v":2}]
[1856,"Badea Ionel","Oltenita",66.400000000000006,33.450000000000003,"O",null,null,null,{"$f":"catp","v":2}]
[1053,"Axinte Tiberius","Iasi",165.6,33.4,"O",null,null,null,{"$f":"catp","v":2}]
[1429,"Hariuc Costica","Vaslui",107.9,33.4,"O",null,null,null,{"$f":"catp","v":2}]
[1070,"Blaga Mircea","Simleu Silvaniei",161.9,33.380000000000003,"OW",null,null,null,{"$f":"catp","v":2}]
[1016,"Borosoiu Laurentiu","Sinaia",173.5,33.35,"O",null,null,null,{"$f":"catp","v":2}]
[1044,"Purendea Olimpia","Bucuresti",167.8,33.35,"OF",null,null,null,{"$f":"catp","v":2}]
[1020,"Gherghel Cristian","Fagaras",171.3,33.299999999999997,"O",null,null,null,{"$f":"catp","v":2}]
[1417,"Duceac Catalin","Botosani",109.8,33.270000000000003,"O",null,null,null,{"$f":"catp","v":2}]
[1644,"Aihan Velula","Constanta",84,33.270000000000003,"O",null,null,null,{"$f":"catp","v":2}]
[832,"Panait Genu","Teisani",217.9,33.26,"O",null,null,null,{"$f":"catp","v":2}]
[1642,"Acu Paul","Bucuresti",84.2,33.229999999999997,"O",null,null,null,{"$f":"catp","v":2}]
[755,"Timaru Ilie","Sibiu",241.2,33.22,"O",null,null,null,{"$f":"catp","v":2}]
[2526,"Milojkovic Matija","Novi Sad",33.200000000000003,33.200000000000003,"O",null,null,null,{"$f":"catp","v":2}]
[147,"Petculescu Giani","Ploiesti",593,33.19,"O",null,null,null,{"$f":"catp","v":2}]
[236,"Stanciu Dumitru","Simeria",513.6,33.130000000000003,"O",null,null,null,{"$f":"catp","v":2}]
[582,"Balaj Roland","Arad",305.39999999999998,33.130000000000003,"O",null,null,null,{"$f":"catp","v":2}]
[2530,"Dontu Ionut","Calarasi",33.1,33.1,"O",null,null,null,{"$f":"catp","v":2}]
[130,"Orban Marius","Lugoj",616.79999999999995,33.090000000000003,"OW",null,null,null,{"$f":"catp","v":2}]
[392,"Cioboiu Dan","Craiova",398.1,33.06,"O",null,null,null,{"$f":"catp","v":2}]
[1190,"Lucaci Adrian","Bucuresti",140.5,33.049999999999997,"O",null,null,null,{"$f":"catp","v":2}]
[2143,"Serban Leonard","Bucuresti",49.6,33.049999999999997,"O",null,null,null,{"$f":"catp","v":2}]
[373,"Tocaciu Septimiu","Beclean",411.6,33.04,"O",null,null,null,{"$f":"catp","v":2}]
[486,"Cretu Ionut","Bucuresti",351,33,"O",null,null,null,{"$f":"catp","v":2}]
[1148,"Ursulean Vasile","Straja",147.30000000000001,33,"OW",null,null,null,{"$f":"catp","v":2}]
[2780,"Stoian Alexandra","Constanta",24.8,33,"OLF",null,null,null,{"$f":"catp","v":2}]
[2781,"Nita Matei","Buzau",24.8,33,"O",null,null,null,{"$f":"catp","v":2}]
[2782,"Moiseanu Teodor","Buzau",24.8,33,"OL",null,null,null,{"$f":"catp","v":2}]
[270,"Trocan Nicolae","Mioveni",492.1,32.96,"OW",null,null,null,{"$f":"catp","v":2}]
[1078,"Ailioaie Ionut","Comanesti",160.69999999999999,32.93,"O",null,null,null,{"$f":"catp","v":2}]
[189,"Brulea Petre","Paulesti",553.79999999999995,32.909999999999997,"OW",null,null,null,{"$f":"catp","v":2}]
[431,"Ivan Valentin","Campina",376.7,32.909999999999997,"OW",null,null,null,{"$f":"catp","v":2}]
[2001,"Moise Mihai","Alexandria",57.9,32.9,"OW",null,null,null,{"$f":"catp","v":2}]
[703,"Trandafir Vasile","Targu Mures",258.60000000000002,32.880000000000003,"O",null,null,null,{"$f":"catp","v":2}]
[1657,"Marin Bogdan","Iasi",83,32.869999999999997,"O",null,null,null,{"$f":"catp","v":2}]
[341,"Androne Daniel","Petrila",444,32.83,"O",null,null,null,{"$f":"catp","v":2}]
[1123,"Turburan Ion","Resita",153,32.83,"OW",null,null,null,{"$f":"catp","v":2}]
[2543,"Minza Alexandru","Bucuresti",32.799999999999997,32.799999999999997,"O",null,null,null,{"$f":"catp","v":2}]
[282,"Birtalan Bence","Sovata",481.2,32.79,"O",null,null,null,{"$f":"catp","v":2}]
[303,"Guluta Florin","Bucuresti",466.7,32.78,"O",null,null,null,{"$f":"catp","v":2}]
[134,"Mitar Marius Tiberiu","Sannicolau Mare",612.70000000000005,32.75,"OW",null,null,null,{"$f":"catp","v":2}]
[2785,"Kalman Csaba","Timisoara",24.6,32.700000000000003,"O",null,null,null,{"$f":"catp","v":2}]
[1872,"Ungureanu Stefan Radu","Ploiesti",65.2,32.6,"O",null,null,null,{"$f":"catp","v":2}]
[140,"Popescu Radu","Arad",598.70000000000005,32.56,"O",null,null,null,{"$f":"catp","v":2}]
[152,"Botosneanu Ionut","Videle",586.4,32.54,"O",null,null,null,{"$f":"catp","v":2}]
[223,"Baicu Claudiu","Bucuresti",523,32.520000000000003,"O",null,null,null,{"$f":"catp","v":2}]
[1336,"Croitoru Gabriel","Craiova",119.3,32.5,"O",null,null,null,{"$f":"catp","v":2}]
[711,"Visan Bogdan","Targoviste",255.2,32.46,"OW",null,null,null,{"$f":"catp","v":2}]
[853,"Boata Edgar","Arad",213.6,32.46,"O",null,null,null,{"$f":"catp","v":2}]
[232,"Bozosan Petre","Sibiu",516.1,32.409999999999997,"OW",null,null,null,{"$f":"catp","v":2}]
[539,"Lazar Vasile","Pufesti",327.39999999999998,32.4,"OW",null,null,null,{"$f":"catp","v":2}]
[2548,"Peiu Cosmin","Babadag",32.4,32.4,"OW",null,null,null,{"$f":"catp","v":2}]
[2795,"Olaru Costin","Filipestii de Targ",24.3,32.4,"O",null,null,null,{"$f":"catp","v":2}]
[2796,"Ciorasteanu Ionut","Brasov",24.3,32.4,"O",null,null,null,{"$f":"catp","v":2}]
[1105,"Dragan Petru Ioan","Iasi",156.19999999999999,32.369999999999997,"O",null,null,null,{"$f":"catp","v":2}]
[149,"Traneci Andrei Valentin","Bucuresti",589.9,32.340000000000003,"O",null,null,null,{"$f":"catp","v":2}]
[305,"Csibi Arpad","Ditrau",465.1,32.299999999999997,"O",null,null,null,{"$f":"catp","v":2}]
[2551,"Marian Calin","Reghin",32.299999999999997,32.299999999999997,"O",null,null,null,{"$f":"catp","v":2}]
[148,"Panaitescu Stefan","Izvoarele",592.5,32.28,"OW",null,null,null,{"$f":"catp","v":2}]
[1191,"Turcu Viorel","Piatra Neamt",140.5,32.28,"OW",null,null,null,{"$f":"catp","v":2}]
[343,"Bajko Attila","Sfantu Gheorghe",442.2,32.270000000000003,"OW",null,null,null,{"$f":"catp","v":2}]
[230,"Maxim Andrei","Iasi",519.6,32.26,"O",null,null,null,{"$f":"catp","v":2}]
[478,"Botez Radu","Targu Mures",355.3,32.26,"O",null,null,null,{"$f":"catp","v":2}]
[1765,"Caranda Alexandru","Bucuresti",73.400000000000006,32.25,"O",null,null,null,{"$f":"catp","v":2}]
[323,"Iliuta Marius Iustin","Videle",454.3,32.24,"O",null,null,null,{"$f":"catp","v":2}]
[793,"Postole Luca","Buzau",229.7,32.24,"O",null,null,null,{"$f":"catp","v":2}]
[263,"Munteanu Octavian","Tecuci",495.8,32.200000000000003,"OW",null,null,null,{"$f":"catp","v":2}]
[2555,"Iancu George","Ploiesti",32.200000000000003,32.200000000000003,"OW",null,null,null,{"$f":"catp","v":2}]
[2556,"Gadzinscaia Maria","Ucraina-Okny",32.200000000000003,32.200000000000003,"O",null,null,null,{"$f":"catp","v":2}]
[811,"Constantin Gabriela","Bucuresti",224.5,32.18,"OFD",null,null,null,{"$f":"catp","v":2}]
[1885,"Casim Igor","Moldova-Avdarma",64.3,32.15,"O",null,null,null,{"$f":"catp","v":2}]
[308,"Socaci Sorin","Panciu",463,32.130000000000003,"OW",null,null,null,{"$f":"catp","v":2}]
[575,"Rosu Gabriel","Comanesti",307.8,32.1,"O",null,null,null,{"$f":"catp","v":2}]
[2804,"Herghelegiu Rodica","Galati",24.1,32.1,"OF",null,null,null,{"$f":"catp","v":2}]
[543,"Chirica Alexandru","Bucuresti",324.10000000000002,32.049999999999997,"OW",null,null,null,{"$f":"catp","v":2}]
[1577,"Lozov Dima","Moldova-Avdarma",92.1,32.049999999999997,"O",null,null,null,{"$f":"catp","v":2}]
[289,"Mihalcea Stefan Tiberiu","Snagov",476.7,32.04,"O",null,null,null,{"$f":"catp","v":2}]
[729,"Sass Imre","Miercurea Ciuc",251.3,32.04,"O",null,null,null,{"$f":"catp","v":2}]
[161,"Darmaz Ion","Targoviste",575.29999999999995,32.03,"OW",null,null,null,{"$f":"catp","v":2}]
[842,"Marinescu Marius","Craiova",216,32,"O",null,null,null,{"$f":"catp","v":2}]
[1636,"Pristavu Bogdan Constantin","Iasi",84.8,32,"O",null,null,null,{"$f":"catp","v":2}]
[1976,"But Victor","Moldova-Comrat",59,32,"O",null,null,null,{"$f":"catp","v":2}]
[2560,"Berescu Gheorghe","Iasi",32,32,"O",null,null,null,{"$f":"catp","v":2}]
[2561,"Chernev Anatolii","Moldova-Taraclia",32,32,"O",null,null,null,{"$f":"catp","v":2}]
[207,"Marin Florin Cornel","Targu Mures",537.79999999999995,31.99,"O",null,null,null,{"$f":"catp","v":2}]
[898,"Pal Albert","Satu Mare",202.8,31.98,"O",null,null,null,{"$f":"catp","v":2}]
[1449,"Tutos Csaba","Oradea",105.8,31.93,"O",null,null,null,{"$f":"catp","v":2}]
[141,"Jinga Vlad","Bucuresti",598.20000000000005,31.91,"O",null,null,null,{"$f":"catp","v":2}]
[2047,"Iordache Eugen","Braila",55.1,31.9,"O",null,null,null,{"$f":"catp","v":2}]
[2811,"Dica Danut","Caracal",24,31.9,"O",null,null,null,{"$f":"catp","v":2}]
[1381,"Mitzea Alexandru","Sibiu",115,31.87,"OW",null,null,null,{"$f":"catp","v":2}]
[368,"Boboc Viorel","Slobozia",416.9,31.86,"OW",null,null,null,{"$f":"catp","v":2}]
[2180,"Mal Calin","Baia Mare",47.8,31.85,"O",null,null,null,{"$f":"catp","v":2}]
[1187,"Beschiu Daniel","Sibiu",140.9,31.83,"O",null,null,null,{"$f":"catp","v":2}]
[1302,"Marcu Nicolae","Bucuresti",123.2,31.83,"O",null,null,null,{"$f":"catp","v":2}]
[930,"Ciobanu Gabriel","Cluj Napoca",193.3,31.8,"OW",null,null,null,{"$f":"catp","v":2}]
[2053,"Ivanov Sorin","Piatra Neamt",54.7,31.8,"O",null,null,null,{"$f":"catp","v":2}]
[2817,"Toma Bianca","Slatina",23.9,31.8,"OF",null,null,null,{"$f":"catp","v":2}]
[2818,"Brunshtein Yehudit","Israel",23.9,31.8,"O",null,null,null,{"$f":"catp","v":2}]
[2819,"Yosef Atia","Israel",23.9,31.8,"O",null,null,null,{"$f":"catp","v":2}]
[422,"Deac Octavian","Dumbraveni SB",381.4,31.77,"OJ",null,null,null,{"$f":"catp","v":2}]
[185,"Nicu Constantin","Iasi",558.29999999999995,31.74,"OW",null,null,null,{"$f":"catp","v":2}]
[387,"Trebel Robert","Bocsa",400.5,31.74,"O",null,null,null,{"$f":"catp","v":2}]
[1152,"Alboiu Robert","Botosani",146.6,31.73,"O",null,null,null,{"$f":"catp","v":2}]
[1213,"Nicik Ilia","Moldova-Balti",137.4,31.73,"OF",null,null,null,{"$f":"catp","v":2}]
[262,"Bara Radu","Floresti",497.1,31.72,"O",null,null,null,{"$f":"catp","v":2}]
[816,"Dramba Daniel Dumitru","Bucuresti",222.2,31.7,"O",null,null,null,{"$f":"catp","v":2}]
[912,"Gered Ferenc","Miercurea Ciuc",198.6,31.7,"O",null,null,null,{"$f":"catp","v":2}]
[1323,"Musat Irina","Targoviste",120.4,31.7,"OF",null,null,null,{"$f":"catp","v":2}]
[1703,"Liuba Alin","Oravita",78.5,31.7,"O",null,null,null,{"$f":"catp","v":2}]
[146,"Campean Adrian","Bucuresti",593.20000000000005,31.66,"OW",null,null,null,{"$f":"catp","v":2}]
[606,"Georgescu Costin","Bucuresti",294.8,31.66,"O",null,null,null,{"$f":"catp","v":2}]
[1049,"Bartha Zsolt Attila","Aita Mare",167.3,31.63,"O",null,null,null,{"$f":"catp","v":2}]
[1069,"Simo Jozsef Tibor","Miercurea Ciuc",162.1,31.63,"O",null,null,null,{"$f":"catp","v":2}]
[240,"Szalay Liviu","Oradea",509.1,31.62,"OW",null,null,null,{"$f":"catp","v":2}]
[544,"Lungu Adrian","Nasaud",323.7,31.6,"O",null,null,null,{"$f":"catp","v":2}]
[173,"Enache Ciprian","Ploiesti",568.1,31.55,"O",null,null,null,{"$f":"catp","v":2}]
[325,"Demian Daniel","Arad",453.2,31.5,"O",null,null,null,{"$f":"catp","v":2}]
[2062,"Pintilie Vlad","Iasi",54.2,31.5,"O",null,null,null,{"$f":"catp","v":2}]
[2574,"Oprea Emanuel","Bucuresti",31.5,31.5,"O",null,null,null,{"$f":"catp","v":2}]
[976,"Cobeanu Marius","Breaza",182.1,31.48,"O",null,null,null,{"$f":"catp","v":2}]
[142,"Neamt Doru","Arad",594.1,31.43,"OW",null,null,null,{"$f":"catp","v":2}]
[1256,"Alexandroaie Emanuel","Bucuresti",130,31.43,"O",null,null,null,{"$f":"catp","v":2}]
[604,"Aparaschivei Bogdan","Iasi",296,31.41,"O",null,null,null,{"$f":"catp","v":2}]
[489,"Dascalasu Viorel","Bucuresti",349,31.4,"OW",null,null,null,{"$f":"catp","v":2}]
[1713,"Manoiu Claudiu","Fieni",77.8,31.4,"O",null,null,null,{"$f":"catp","v":2}]
[329,"Pralea Marius Dan","Botosani",451.6,31.36,"OW",null,null,null,{"$f":"catp","v":2}]
[1909,"Moldovan Laszlo","Praid",62.7,31.35,"O",null,null,null,{"$f":"catp","v":2}]
[822,"Bobos Marius","Apahida",220.7,31.33,"O",null,null,null,{"$f":"catp","v":2}]
[306,"Valcea Daniel","Pitesti",463.4,31.29,"O",null,null,null,{"$f":"catp","v":2}]
[221,"Fulop Oscar","Reghin",524.6,31.28,"O",null,null,null,{"$f":"catp","v":2}]
[302,"Matei Mircea","Targoviste",467.6,31.2,"OW",null,null,null,{"$f":"catp","v":2}]
[172,"Kiss Attila","Crasna",568.4,31.17,"O",null,null,null,{"$f":"catp","v":2}]
[204,"Durac Viorel","Constanta",540.5,31.14,"OW",null,null,null,{"$f":"catp","v":2}]
[324,"Barac Marius","Sibiu",454,31.11,"OW",null,null,null,{"$f":"catp","v":2}]
[477,"Marginean Mihai","Luna CJ",355.5,31.1,"O",null,null,null,{"$f":"catp","v":2}]
[1368,"Dani Leo","Arad",115.7,31.1,"OD",null,null,null,{"$f":"catp","v":2}]
[1704,"Saitan Claudiu","Bucuresti",78.5,31.1,"O",null,null,null,{"$f":"catp","v":2}]
[951,"Ciocirlan Mircea","Tulcea",188.3,31.03,"O",null,null,null,{"$f":"catp","v":2}]
[369,"Codreanu Laurentiu","Buzau",414.8,31.02,"O",null,null,null,{"$f":"catp","v":2}]
[1017,"Botea Fabian","Hunedoara",173.2,31,"O",null,null,null,{"$f":"catp","v":2}]
[1841,"Bote Tudor","Dej",67.8,31,"O",null,null,null,{"$f":"catp","v":2}]
[177,"Lorincz Zoltan","Miercurea Ciuc",566.70000000000005,30.98,"O",null,null,null,{"$f":"catp","v":2}]
[1428,"Bondar Leontin","Oradea",108,30.98,"O",null,null,null,{"$f":"catp","v":2}]
[181,"Popovici Robert Gheorghe","Petrosani",561.5,30.97,"O",null,null,null,{"$f":"catp","v":2}]
[2073,"Birtalan Robert","Oradea",53.3,30.95,"O",null,null,null,{"$f":"catp","v":2}]
[1156,"Bria Vitalie","Bucuresti",145.30000000000001,30.93,"O",null,null,null,{"$f":"catp","v":2}]
[1199,"Handlery Viktor","Oradea",139.4,30.9,"O",null,null,null,{"$f":"catp","v":2}]
[952,"Pop Gabriel","Oradea",188.3,30.88,"O",null,null,null,{"$f":"catp","v":2}]
[160,"Dusan Marcel","Arad",576,30.86,"OW",null,null,null,{"$f":"catp","v":2}]
[867,"Ciobanu Adrian","Pitesti",209.5,30.86,"O",null,null,null,{"$f":"catp","v":2}]
[2037,"Uta Gheorghe","Bucuresti",55.5,30.85,"O",null,null,null,{"$f":"catp","v":2}]
[2057,"Mititelu Daniel","Botosani",54.6,30.85,"O",null,null,null,{"$f":"catp","v":2}]
[338,"Tamsa Titus","Resita",445,30.82,"O",null,null,null,{"$f":"catp","v":2}]
[358,"Carata Catalin","Tulcea",428.6,30.82,"OW",null,null,null,{"$f":"catp","v":2}]
[1733,"Ignatescu Bogdan Ionut","Iasi",76.3,30.8,"O",null,null,null,{"$f":"catp","v":2}]
[498,"Fekete Istvan","Arad",346.2,30.75,"OW",null,null,null,{"$f":"catp","v":2}]
[819,"Telespan Konstantin","Sibiu",221.5,30.7,"O",null,null,null,{"$f":"catp","v":2}]
[1630,"Buruiana Mihai","Marasesti",85.2,30.7,"OW",null,null,null,{"$f":"catp","v":2}]
[1656,"Anton Cristian","Tulcea",83.1,30.7,"O",null,null,null,{"$f":"catp","v":2}]
[2855,"Mocanu Aurelian","Constanta",23.1,30.7,"O",null,null,null,{"$f":"catp","v":2}]
[423,"Gaitan Tiberiu","Braila",380.8,30.69,"OW",null,null,null,{"$f":"catp","v":2}]
[1265,"Vijaica Florin","Drobeta Tr Severin",129,30.67,"O",null,null,null,{"$f":"catp","v":2}]
[915,"Budescu Marian","Galati",197.6,30.63,"O",null,null,null,{"$f":"catp","v":2}]
[1019,"Schiopulescu Ion","Lugoj",171.7,30.6,"O",null,null,null,{"$f":"catp","v":2}]
[1458,"Lica George","Eforie",104.9,30.6,"OW",null,null,null,{"$f":"catp","v":2}]
[429,"Moise Vasile","Bucuresti",378.1,30.57,"O",null,null,null,{"$f":"catp","v":2}]
[174,"Fulop Attila","Aiud",567.29999999999995,30.56,"OW",null,null,null,{"$f":"catp","v":2}]
[283,"Corneanu Sorin","Botosani",480.3,30.53,"OW",null,null,null,{"$f":"catp","v":2}]
[348,"Petho Mihaly","Racosu de Sus",435.6,30.48,"O",null,null,null,{"$f":"catp","v":2}]
[794,"Strugar Ioan","Deda",229.7,30.48,"O",null,null,null,{"$f":"catp","v":2}]
[1725,"Ciobanu Adrian","Brasov",76.7,30.43,"O",null,null,null,{"$f":"catp","v":2}]
[2603,"Biro Attila","Miercurea Ciuc",30.4,30.4,"O",null,null,null,{"$f":"catp","v":2}]
[242,"Sandu Adrian","Calarasi",507,30.38,"O",null,null,null,{"$f":"catp","v":2}]
[175,"Kromek Iulian","Cugir",567.1,30.36,"OW",null,null,null,{"$f":"catp","v":2}]
[188,"Andrei Iordan","Tulcea",555,30.36,"O",null,null,null,{"$f":"catp","v":2}]
[565,"Csulak Jozsef","Sfantu Gheorghe",311.89999999999998,30.36,"O",null,null,null,{"$f":"catp","v":2}]
[410,"Boariu Timofte Danut","Borsec",389.7,30.34,"OW",null,null,null,{"$f":"catp","v":2}]
[1505,"Vlase Nicolae","Slobozia",99.2,30.3,"O",null,null,null,{"$f":"catp","v":2}]
[1946,"Mandru Ionel","Calarasi",60.6,30.3,"O",null,null,null,{"$f":"catp","v":2}]
[224,"Ursulescu Octavian","Curtea",522.79999999999995,30.29,"O",null,null,null,{"$f":"catp","v":2}]
[1257,"Teodoru Matei","Buzau",129.80000000000001,30.28,"O",null,null,null,{"$f":"catp","v":2}]
[1272,"Osman Metin","Tulcea",127.4,30.25,"OW",null,null,null,{"$f":"catp","v":2}]
[586,"Silivestru Nicu","Tulcea",303,30.23,"O",null,null,null,{"$f":"catp","v":2}]
[962,"Gaspar Cecilia","Targu Mures",185.5,30.2,"OF",null,null,null,{"$f":"catp","v":2}]
[977,"Croitoru Daniel","Craiova",181.7,30.2,"O",null,null,null,{"$f":"catp","v":2}]
[1087,"Ivan Adrian","Tulcea",158.5,30.2,"OW",null,null,null,{"$f":"catp","v":2}]
[578,"Nistor Florin","Comanesti",306.5,30.18,"O",null,null,null,{"$f":"catp","v":2}]
[1431,"Stancu Marian","Constanta",107.5,30.18,"O",null,null,null,{"$f":"catp","v":2}]
[541,"Ceuca Gavrila","Satu Mare",324.39999999999998,30.16,"O",null,null,null,{"$f":"catp","v":2}]
[968,"Buzila Adrian","Botosani",183.8,30.16,"OW",null,null,null,{"$f":"catp","v":2}]
[1031,"Vonea Andrei","Tarnaveni",169.5,30.15,"O",null,null,null,{"$f":"catp","v":2}]
[1635,"Rasnoveanu Daniel","Slobozia",84.9,30.15,"O",null,null,null,{"$f":"catp","v":2}]
[1641,"Nacu Iustinian Andrei","Piatra Neamt",84.3,30.15,"O",null,null,null,{"$f":"catp","v":2}]
[599,"Nechifor Constantin","Navodari",297.8,30.13,"O",null,null,null,{"$f":"catp","v":2}]
[168,"Loghin Florin","Brasov",570,30.12,"O",null,null,null,{"$f":"catp","v":2}]
[195,"Mihu Florin","Mioveni",545.79999999999995,30.1,"OW",null,null,null,{"$f":"catp","v":2}]
[187,"Biciin Mitica","Faurei",555.29999999999995,30.08,"OW",null,null,null,{"$f":"catp","v":2}]
[2063,"Badescu Vicentiu","Campulung Muscel",54.2,30.05,"O",null,null,null,{"$f":"catp","v":2}]
[1198,"Bradea Lucian","Arad",139.9,30.03,"O",null,null,null,{"$f":"catp","v":2}]
[238,"Botanel Grigore","Rovinari",509.9,30.02,"O",null,null,null,{"$f":"catp","v":2}]
[2071,"Aden Erduan","Constanta",53.4,30,"O",null,null,null,{"$f":"catp","v":2}]
[2610,"Balanean David","Zalau",30,30,"O",null,null,null,{"$f":"catp","v":2}]
[2881,"Popa Alexandru Iulian","Buzau",22.5,30,"O",null,null,null,{"$f":"catp","v":2}]
[228,"Tanasa Gabriel","Suceava",520.79999999999995,29.98,"OW",null,null,null,{"$f":"catp","v":2}]
[298,"Birtalan Levente","Sovata",471.1,29.98,"O",null,null,null,{"$f":"catp","v":2}]
[199,"Acriva Marian","Mizil",542.1,29.95,"O",null,null,null,{"$f":"catp","v":2}]
[1663,"Dimeny Sanyi","Crasna",82,29.95,"O",null,null,null,{"$f":"catp","v":2}]
[430,"Samoila Ion","Babadag",376.9,29.94,"O",null,null,null,{"$f":"catp","v":2}]
[235,"Barca George","Pitesti",513.9,29.92,"O",null,null,null,{"$f":"catp","v":2}]
[2098,"Sobetkii Arcadii","Bucuresti",51.7,29.9,"O",null,null,null,{"$f":"catp","v":2}]
[2612,"Brazdau Bogdan","Zalau",29.9,29.9,"O",null,null,null,{"$f":"catp","v":2}]
[2882,"Mateescu Florin","Hunedoara",22.5,29.9,"O",null,null,null,{"$f":"catp","v":2}]
[280,"Gatea Marius","Piatra Neamt",482.6,29.85,"OW",null,null,null,{"$f":"catp","v":2}]
[332,"Plaiasu Ion","Plopeni",450.4,29.83,"O",null,null,null,{"$f":"catp","v":2}]
[517,"Cavasdan Doru","Oradea",334.6,29.83,"O",null,null,null,{"$f":"catp","v":2}]
[313,"Fancsali Kalman","Miercurea Ciuc",457.1,29.82,"OW",null,null,null,{"$f":"catp","v":2}]
[576,"Todireanu Valentin","Iasi",307.7,29.81,"O",null,null,null,{"$f":"catp","v":2}]
[1411,"Mirza Sorin","Arad",110.4,29.8,"O",null,null,null,{"$f":"catp","v":2}]
[1419,"Pomirleanu Radu","Iasi",109.6,29.8,"O",null,null,null,{"$f":"catp","v":2}]
[216,"Dumitru George","Targoviste",531.1,29.79,"O",null,null,null,{"$f":"catp","v":2}]
[227,"Balan Viorel","Bistrita",521.29999999999995,29.77,"O",null,null,null,{"$f":"catp","v":2}]
[644,"Stanila Eugen","Faurei",279.2,29.77,"O",null,null,null,{"$f":"catp","v":2}]
[437,"Tuca Cristi","Slatina",374.1,29.7,"O",null,null,null,{"$f":"catp","v":2}]
[709,"Minca Gabriel","Videle",255.4,29.7,"O",null,null,null,{"$f":"catp","v":2}]
[1077,"Bartha Dezso","Sovata",160.80000000000001,29.7,"O",null,null,null,{"$f":"catp","v":2}]
[2617,"Szabo Szilard","Odorheiu Secuiesc",29.7,29.7,"O",null,null,null,{"$f":"catp","v":2}]
[900,"Goia Alina","Cluj Napoca",202.6,29.68,"OF",null,null,null,{"$f":"catp","v":2}]
[311,"Roca Claudiu","Satu Mare",460.6,29.65,"O",null,null,null,{"$f":"catp","v":2}]
[488,"Boca Timotei","Salcea",350.1,29.65,"O",null,null,null,{"$f":"catp","v":2}]
[831,"Pelcea Alexandru","Bucuresti",218.1,29.65,"O",null,null,null,{"$f":"catp","v":2}]
[1906,"Lenart Kendi Istvan","Targu Secuiesc",62.9,29.65,"O",null,null,null,{"$f":"catp","v":2}]
[1967,"Bozga Dan","Arad",59.3,29.65,"O",null,null,null,{"$f":"catp","v":2}]
[876,"Alexandrescu Marius","Voluntari",206.8,29.64,"O",null,null,null,{"$f":"catp","v":2}]
[1251,"Tomoiaga Cosmin","Viseu",130.30000000000001,29.63,"O",null,null,null,{"$f":"catp","v":2}]
[678,"Ticu Dorin","Bacau",266.5,29.61,"OW",null,null,null,{"$f":"catp","v":2}]
[1341,"Covalciuc Bogdan","Iasi",118.8,29.6,"O",null,null,null,{"$f":"catp","v":2}]
[826,"Gagea Marian","Botosani",220,29.58,"O",null,null,null,{"$f":"catp","v":2}]
[1770,"Toth Geza","Sfantu Gheorghe",72.900000000000006,29.57,"OW",null,null,null,{"$f":"catp","v":2}]
[927,"Lovasz Vilmos","Gheorgheni",194.3,29.55,"O",null,null,null,{"$f":"catp","v":2}]
[194,"Kis Istvan","Brasov",547.29999999999995,29.51,"OW",null,null,null,{"$f":"catp","v":2}]
[245,"Constantin Cristina","Bucuresti",505.8,29.51,"OF",null,null,null,{"$f":"catp","v":2}]
[290,"Csaky Tiberiu","Resita",475.7,29.51,"OW",null,null,null,{"$f":"catp","v":2}]
[363,"Lungoci Mihai","Craiova",423.6,29.51,"O",null,null,null,{"$f":"catp","v":2}]
[1402,"Mladinoi Ion","Iasi",111.9,29.5,"O",null,null,null,{"$f":"catp","v":2}]
[1631,"Balan Ionel","Calarasi",85.2,29.5,"O",null,null,null,{"$f":"catp","v":2}]
[1690,"Vladianu Marian","Iasi",79.599999999999994,29.45,"O",null,null,null,{"$f":"catp","v":2}]
[210,"Heja Zoltan","Ditrau",535,29.44,"OW",null,null,null,{"$f":"catp","v":2}]
[233,"Dumitrache Gabriel","Giurgiu",515.1,29.44,"O",null,null,null,{"$f":"catp","v":2}]
[317,"Dena Corneliu","Giurgiu",455.8,29.44,"OW",null,null,null,{"$f":"catp","v":2}]
[784,"Moldovan Andrei","Oradea",232.9,29.43,"O",null,null,null,{"$f":"catp","v":2}]
[1518,"Grigorenco Daria","Constanta",97.7,29.43,"OLF",null,null,null,{"$f":"catp","v":2}]
[1538,"Munteanu Silviu","Suceava",95.8,29.43,"OW",null,null,null,{"$f":"catp","v":2}]
[241,"Voinescu Ecaterina","Bucuresti",507.8,29.42,"OF"]
[742,"Fedot Valentin","Tulcea",245.4,29.42,"O",null,null,null,{"$f":"catp","v":2}]
[2902,"Ilie Gheorghe Eugen","Timisoara",22.1,29.4,"O",null,null,null,{"$f":"catp","v":2}]
[248,"Grumeza Lucian","Bucuresti",504,29.39,"OW",null,null,null,{"$f":"catp","v":2}]
[419,"Cristea Virgil","Cugir",383.3,29.39,"O",null,null,null,{"$f":"catp","v":2}]
[1385,"Croitoru Adrian Nicolae","Brasov",114.7,29.37,"O",null,null,null,{"$f":"catp","v":2}]
[454,"Mita Augustin","Dorohoi",365.5,29.35,"OW",null,null,null,{"$f":"catp","v":2}]
[1520,"Ciublea Vichente","Oravita",97.4,29.35,"O",null,null,null,{"$f":"catp","v":2}]
[425,"Rusu Bogdan","Aiud",379.7,29.34,"O",null,null,null,{"$f":"catp","v":2}]
[190,"Fotia Iulian","Bacau",552.70000000000005,29.31,"O",null,null,null,{"$f":"catp","v":2}]
[1454,"Breje Marin","Zalau",105.1,29.27,"O",null,null,null,{"$f":"catp","v":2}]
[208,"Birtalan Laszlo","Oradea",537.6,29.26,"OW",null,null,null,{"$f":"catp","v":2}]
[538,"Ifrosa Petru","Cluj Napoca",327.7,29.26,"OD",null,null,null,{"$f":"catp","v":2}]
[1985,"Venter Liviu","Resita",58.5,29.25,"OW",null,null,null,{"$f":"catp","v":2}]
[2127,"Bank Vadim","Bucuresti",50.5,29.25,"O",null,null,null,{"$f":"catp","v":2}]
[593,"Maftei Catalin Doru","Asau",300.39999999999998,29.23,"OW",null,null,null,{"$f":"catp","v":2}]
[865,"Ursache Ciprian Jean","Focsani",209.6,29.23,"O",null,null,null,{"$f":"catp","v":2}]
[812,"Plamada Iulian","Putna",223.9,29.22,"O",null,null,null,{"$f":"catp","v":2}]
[201,"Banu Dan","Ploiesti",541.70000000000005,29.21,"O",null,null,null,{"$f":"catp","v":2}]
[213,"Janosi Attila","Targu Mures",534,29.2,"OW",null,null,null,{"$f":"catp","v":2}]
[395,"Cozma Ioan","Buhusi",395.4,29.2,"O",null,null,null,{"$f":"catp","v":2}]
[482,"Baisan Paul","Roman",352.3,29.2,"OW",null,null,null,{"$f":"catp","v":2}]
[1767,"Sabadas Dinu","Oradea",73.099999999999994,29.2,"O",null,null,null,{"$f":"catp","v":2}]
[1772,"Davydov Valerii","Ucraina-Kiev",72.8,29.2,"O",null,null,null,{"$f":"catp","v":2}]
[2631,"Carabas Cosmin","Timisoara",29.2,29.2,"O",null,null,null,{"$f":"catp","v":2}]
[2632,"Stankovic Stefan","Ram",29.2,29.2,"O",null,null,null,{"$f":"catp","v":2}]
[2633,"Rajovic Zoran","Pancevo",29.2,29.2,"O",null,null,null,{"$f":"catp","v":2}]
[2634,"Petrovic Dusan","Belgrad",29.2,29.2,"O",null,null,null,{"$f":"catp","v":2}]
[2635,"Stankovic Zikica","Kumane",29.2,29.2,"O",null,null,null,{"$f":"catp","v":2}]
[206,"Burcea Daniel","Bucuresti",538.79999999999995,29.19,"O",null,null,null,{"$f":"catp","v":2}]
[648,"Aherghelegitei Mihai","Dumbraveni SB",277.5,29.19,"OL",null,null,null,{"$f":"catp","v":2}]
[527,"Manea Dorinel","Tecuci",331.2,29.07,"O",null,null,null,{"$f":"catp","v":2}]
[1672,"Dragu Fanel","Slobozia",81.400000000000006,29.05,"O",null,null,null,{"$f":"catp","v":2}]
[312,"Stoica Mihai","Mihaesti",459.8,29.03,"OW",null,null,null,{"$f":"catp","v":2}]
[1088,"Vasiloiu Mihai","Focsani",158.1,29.03,"O",null,null,null,{"$f":"catp","v":2}]
[635,"Balazs Imre Florin","Apahida",284.39999999999998,29,"O",null,null,null,{"$f":"catp","v":2}]
[2000,"Vasiliu Remus","Mioveni",58,29,"O",null,null,null,{"$f":"catp","v":2}]
[2644,"Szekeres Levente","Brasov",29,29,"O",null,null,null,{"$f":"catp","v":2}]
[608,"Vescan Radu","Cluj Napoca",294.60000000000002,28.98,"O",null,null,null,{"$f":"catp","v":2}]
[393,"Puscas Darius","Gherla",396.6,28.96,"O",null,null,null,{"$f":"catp","v":2}]
[209,"Vera Esteban","Sibiu",536.29999999999995,28.95,"O",null,null,null,{"$f":"catp","v":2}]
[326,"Petrov Dan","Dobroesti",453,28.95,"OW",null,null,null,{"$f":"catp","v":2}]
[381,"Serban Adi Iulian","Ramnicu Sarat",404.7,28.93,"O",null,null,null,{"$f":"catp","v":2}]
[1163,"Balog Mihai","Timisoara",144.19999999999999,28.9,"O",null,null,null,{"$f":"catp","v":2}]
[2646,"Chetronie Liviu","Tecuci",28.9,28.9,"OW",null,null,null,{"$f":"catp","v":2}]
[2917,"Vig Andrei","Simleu Silvaniei",21.7,28.9,"O",null,null,null,{"$f":"catp","v":2}]
[265,"Bivolaru Stelian","Targoviste",494.1,28.89,"OW",null,null,null,{"$f":"catp","v":2}]
[380,"Iachimov Gheorghe","Moldova-Briceni",406.8,28.89,"O",null,null,null,{"$f":"catp","v":2}]
[340,"Docan Cristian","Bucuresti",444.5,28.88,"O",null,null,null,{"$f":"catp","v":2}]
[1074,"Cont Cosmin","Gherla",161.19999999999999,28.85,"O",null,null,null,{"$f":"catp","v":2}]
[1113,"Nagy Iosif","Arad",155.30000000000001,28.8,"OW",null,null,null,{"$f":"catp","v":2}]
[2267,"Teica Radu","Targu Jiu",43.2,28.8,"OW",null,null,null,{"$f":"catp","v":2}]
[2268,"Sosoaca Diana","Ramnicu Valcea",43.2,28.8,"OF",null,null,null,{"$f":"catp","v":2}]
[877,"Gaborean Bogdan","Cluj Napoca",206.6,28.78,"O",null,null,null,{"$f":"catp","v":2}]
[1108,"Marcus Mihai","Zalau",155.80000000000001,28.77,"O",null,null,null,{"$f":"catp","v":2}]
[411,"Crasnoscec Alexandr","Moldova-Vulcanesti",389,28.76,"OW",null,null,null,{"$f":"catp","v":2}]
[269,"Santa Robert","Miercurea Ciuc",492.2,28.74,"ODW",null,null,null,{"$f":"catp","v":2}]
[983,"Ochian Andrei","Botosani",180.7,28.74,"O",null,null,null,{"$f":"catp","v":2}]
[1200,"Camarasiu Tiberiu","Cluj Napoca",139.19999999999999,28.7,"O",null,null,null,{"$f":"catp","v":2}]
[1252,"Vajda Erno","Reghin",130.30000000000001,28.7,"OW",null,null,null,{"$f":"catp","v":2}]
[2650,"Jazadji Marina","Moldova-Avdarma",28.7,28.7,"OF",null,null,null,{"$f":"catp","v":2}]
[1502,"Kovacs Zsolt Peter","Gheorgheni",99.3,28.67,"O",null,null,null,{"$f":"catp","v":2}]
[2015,"Todi Dumitru","Slobozia",57.3,28.65,"O",null,null,null,{"$f":"catp","v":2}]
[2162,"Suciu Cristian","Dej",48.5,28.65,"O",null,null,null,{"$f":"catp","v":2}]
[406,"Draganescu Stefan","Pascani",391.5,28.63,"O",null,null,null,{"$f":"catp","v":2}]
[493,"Mihalache Remus","Plopeni SV",347.7,28.61,"O",null,null,null,{"$f":"catp","v":2}]
[2923,"Uta David","Bucuresti",21.5,28.6,"O",null,null,null,{"$f":"catp","v":2}]
[229,"Enache Puiu Adrian","Ploiesti",520.79999999999995,28.58,"O",null,null,null,{"$f":"catp","v":2}]
[217,"Piper Petru","Luna CJ",531.1,28.55,"ODW",null,null,null,{"$f":"catp","v":2}]
[2019,"Gargalic Marina","Moldova-Avdarma",57.1,28.55,"OF",null,null,null,{"$f":"catp","v":2}]
[274,"Pelaghie Ioan","Targu Mures",488.5,28.53,"O",null,null,null,{"$f":"catp","v":2}]
[450,"Popa Alin","Drobeta Tr Severin",368.5,28.52,"O",null,null,null,{"$f":"catp","v":2}]
[327,"Minca Liviu","Videle",452.1,28.51,"O",null,null,null,{"$f":"catp","v":2}]
[699,"Panczel Jozsef","Cluj Napoca",259.10000000000002,28.51,"O",null,null,null,{"$f":"catp","v":2}]
[766,"Mermezan Sergiu","Timisoara",237.6,28.51,"O",null,null,null,{"$f":"catp","v":2}]
[1297,"Suteu Bela","Sovata",123.4,28.5,"O",null,null,null,{"$f":"catp","v":2}]
[2654,"Jeflea Calin","Sibiu",28.5,28.5,"O"]
[286,"Stanescu Tiberiu","Slatina",478.5,28.49,"O",null,null,null,{"$f":"catp","v":2}]
[1154,"Marcu Vasile","Vatra Dornei",145.6,28.45,"OW",null,null,null,{"$f":"catp","v":2}]
[779,"Negrila Cristian","Caracal",233.4,28.4,"O",null,null,null,{"$f":"catp","v":2}]
[806,"Popescu Alex","Bucuresti",225.5,28.4,"O",null,null,null,{"$f":"catp","v":2}]
[1106,"Voicu Ovidiu","Strejnicu",156.19999999999999,28.4,"O",null,null,null,{"$f":"catp","v":2}]
[1785,"Tauciuc Edi","Suceava",71.8,28.4,"O",null,null,null,{"$f":"catp","v":2}]
[682,"Dumbrava Daniel","Focsani",265,28.39,"OW",null,null,null,{"$f":"catp","v":2}]
[445,"Botoc Ovidiu","Paulesti",371.1,28.37,"O",null,null,null,{"$f":"catp","v":2}]
[1303,"Nicolae Sorinel","Targoviste",123.1,28.37,"O",null,null,null,{"$f":"catp","v":2}]
[304,"Canea Kocsis Andras","Targu Secuiesc",466.3,28.36,"O",null,null,null,{"$f":"catp","v":2}]
[1412,"Postelnicu Ciprian","Tecuci",110.4,28.35,"O",null,null,null,{"$f":"catp","v":2}]
[1084,"Niculescu Daniel","Pitesti",159.4,28.33,"OW",null,null,null,{"$f":"catp","v":2}]
[810,"Ivan Ioan","Medias",224.8,28.3,"OW",null,null,null,{"$f":"catp","v":2}]
[1714,"Similean Alexandru","Bucuresti",77.8,28.3,"O",null,null,null,{"$f":"catp","v":2}]
[2658,"Pop Gabriel","Eforie",28.3,28.3,"O",null,null,null,{"$f":"catp","v":2}]
[2932,"Grigoriu Vlad","Suceava",21.3,28.3,"O",null,null,null,{"$f":"catp","v":2}]
[869,"Ignuta Sebastian","Voiteg",209,28.28,"OW",null,null,null,{"$f":"catp","v":2}]
[336,"Diaconescu Lucian","Targoviste",445.4,28.27,"O",null,null,null,{"$f":"catp","v":2}]
[1158,"Sorescu Gabriel","Pitesti",144.9,28.27,"O",null,null,null,{"$f":"catp","v":2}]
[672,"Dehelean Octavian","Timisoara",267.89999999999998,28.26,"O",null,null,null,{"$f":"catp","v":2}]
[1647,"Radu Adrian","Ploiesti",83.7,28.25,"O",null,null,null,{"$f":"catp","v":2}]
[320,"Spaller Tiberiu","Nasaud",454.6,28.24,"OW",null,null,null,{"$f":"catp","v":2}]
[339,"Visan Victor","Slobozia",445,28.23,"O",null,null,null,{"$f":"catp","v":2}]
[455,"Gagiu Remus","Pitesti",365.5,28.23,"O",null,null,null,{"$f":"catp","v":2}]
[334,"Baltatu Marius","Pitesti",446.8,28.21,"OW",null,null,null,{"$f":"catp","v":2}]
[296,"Colesniuc Romeo","Botosani",472.5,28.19,"OW",null,null,null,{"$f":"catp","v":2}]
[894,"Tiboaca Daniel","Galati",203.7,28.18,"O",null,null,null,{"$f":"catp","v":2}]
[1728,"Tabacaru Constantin","Piatra Neamt",76.599999999999994,28.13,"O",null,null,null,{"$f":"catp","v":2}]
[2664,"Gazsi Adam","Marghita",28.1,28.1,"O",null,null,null,{"$f":"catp","v":2}]
[1314,"Repede Calin","Cluj Napoca",121.8,28.08,"O",null,null,null,{"$f":"catp","v":2}]
[353,"Tovis Levente","Cluj Napoca",432,28.06,"O",null,null,null,{"$f":"catp","v":2}]
[1081,"Vladoiu Gelu","Brasov",160.1,28.05,"OW",null,null,null,{"$f":"catp","v":2}]
[795,"Ianos Valentin","Suceava",229.2,28.03,"O",null,null,null,{"$f":"catp","v":2}]
[1600,"Hamzescu Adrian Rosu","Craiova",89.1,28.03,"O",null,null,null,{"$f":"catp","v":2}]
[1821,"Lucian Peter","Sighetu Marmatiei",69.3,28.03,"O",null,null,null,{"$f":"catp","v":2}]
[1803,"Bekesi Zsolt","Arad",70.599999999999994,28,"O",null,null,null,{"$f":"catp","v":2}]
[2032,"Bodin Ion","Tecuci",56,28,"OW",null,null,null,{"$f":"catp","v":2}]
[2296,"Alexe Dan","Bucuresti",42,28,"O",null,null,null,{"$f":"catp","v":2}]
[2672,"Craciunica Gabriel","Calarasi",28,28,"OW",null,null,null,{"$f":"catp","v":2}]
[2673,"Iordan Mihai","Bucuresti",28,28,"O",null,null,null,{"$f":"catp","v":2}]
[2674,"Spermezan Dorel","Nasaud",28,28,"OW",null,null,null,{"$f":"catp","v":2}]
[2675,"Gutiu Adrian","Satu Mare",28,28,"O",null,null,null,{"$f":"catp","v":2}]
[2940,"Fazakas Gergely","Miercurea Ciuc",21,28,"O",null,null,null,{"$f":"catp","v":2}]
[1180,"Ailioaie Bogdan","Comanesti",141.9,27.98,"O",null,null,null,{"$f":"catp","v":2}]
[558,"Dumitriu Vitalie","Moldova-Larga",316.60000000000002,27.96,"O",null,null,null,{"$f":"catp","v":2}]
[1002,"Petersi Nuri","Varset",176.2,27.96,"O",null,null,null,{"$f":"catp","v":2}]
[1059,"Cocolos Alexandru","Bucuresti",163.1,27.95,"O",null,null,null,{"$f":"catp","v":2}]
[309,"Berbecar Alin","Zalau",462.8,27.93,"O",null,null,null,{"$f":"catp","v":2}]
[396,"Taut Stefan","Cluj Napoca",395.4,27.9,"OJ",null,null,null,{"$f":"catp","v":2}]
[681,"Voinea Emil","Pitesti",265.10000000000002,27.9,"OW",null,null,null,{"$f":"catp","v":2}]
[268,"Vieru Costica","Botosani",492.4,27.87,"OW",null,null,null,{"$f":"catp","v":2}]
[818,"Vasile Victor","Videle",221.6,27.83,"O",null,null,null,{"$f":"catp","v":2}]
[1183,"Busuioc Robert","Radauti",141.4,27.83,"O",null,null,null,{"$f":"catp","v":2}]
[234,"Iancu Marius","Brasov",515.1,27.81,"O",null,null,null,{"$f":"catp","v":2}]
[2173,"Tap Maia","Moldova-Balti",48,27.8,"OF",null,null,null,{"$f":"catp","v":2}]
[1171,"Ianculovici Svetozar","Bucuresti",142.9,27.78,"O",null,null,null,{"$f":"catp","v":2}]
[727,"Popescu Andrei","Constanta",251.4,27.77,"O",null,null,null,{"$f":"catp","v":2}]
[1584,"Serban Bogdan","Bucuresti",90.5,27.77,"OW",null,null,null,{"$f":"catp","v":2}]
[255,"Sirbu David Alexandru","Targoviste",500.6,27.75,"OJ",null,null,null,{"$f":"catp","v":2}]
[1512,"Suvei Ioan","Bistrita",98.3,27.75,"O",null,null,null,{"$f":"catp","v":2}]
[1726,"Nedescu Adrian","Ramnicu Valcea",76.7,27.75,"O",null,null,null,{"$f":"catp","v":2}]
[257,"Erdely Andras","Targu Mures",500.3,27.74,"O",null,null,null,{"$f":"catp","v":2}]
[1304,"Soficaru George","Brasov",123,27.73,"O",null,null,null,{"$f":"catp","v":2}]
[1818,"Raduly Ovidiu","Fantanele",69.599999999999994,27.73,"O",null,null,null,{"$f":"catp","v":2}]
[300,"Gorbe David","Satu Mare",468.7,27.7,"O",null,null,null,{"$f":"catp","v":2}]
[1664,"Vaduva David","Bucuresti",81.900000000000006,27.7,"OL",null,null,null,{"$f":"catp","v":2}]
[1739,"Florea Marin","Filipestii de Targ",75.8,27.7,"O",null,null,null,{"$f":"catp","v":2}]
[2043,"Hrehoret Adrian","Ramnicu Valcea",55.4,27.7,"O",null,null,null,{"$f":"catp","v":2}]
[2679,"Stir Andrei","Baicoi",27.7,27.7,"O",null,null,null,{"$f":"catp","v":2}]
[466,"Manole Dan","Braila",360.9,27.68,"O",null,null,null,{"$f":"catp","v":2}]
[472,"Cecan Vasile","Timisoara",359,27.68,"O",null,null,null,{"$f":"catp","v":2}]
[666,"Salari Mihai","Iasi",269.7,27.64,"O",null,null,null,{"$f":"catp","v":2}]
[691,"Curelea Petre","Lehliu Gara",262.2,27.64,"O",null,null,null,{"$f":"catp","v":2}]
[907,"Negulescu Ioan","Ramnicu Valcea",200.7,27.64,"O",null,null,null,{"$f":"catp","v":2}]
[1253,"Boboc Cosmin","Targu Neamt",130.30000000000001,27.6,"O",null,null,null,{"$f":"catp","v":2}]
[1744,"Cojocaru Mitica","Braila",75.7,27.6,"OW",null,null,null,{"$f":"catp","v":2}]
[2683,"Dumitriu Florin","Iasi",27.6,27.6,"O",null,null,null,{"$f":"catp","v":2}]
[2684,"Beganu Mihai","Buzau",27.6,27.6,"O",null,null,null,{"$f":"catp","v":2}]
[2955,"Minica Belemet","Brasov",20.7,27.6,"O",null,null,null,{"$f":"catp","v":2}]
[333,"Borsan Petru","Cluj Napoca",447.4,27.56,"OJ",null,null,null,{"$f":"catp","v":2}]
[1716,"Pastrama Tudor","Medgidia",77.599999999999994,27.55,"O",null,null,null,{"$f":"catp","v":2}]
[321,"Baciu Stefan","Mioveni",454.6,27.53,"OW",null,null,null,{"$f":"catp","v":2}]
[390,"Georgescu Florin","Bucuresti",399.7,27.52,"OW",null,null,null,{"$f":"catp","v":2}]
[561,"Barbuta Ioan","Dej",314.60000000000002,27.52,"OW",null,null,null,{"$f":"catp","v":2}]
[251,"Kelemen Miklos","Miercurea Ciuc",502.9,27.5,"O",null,null,null,{"$f":"catp","v":2}]
[2132,"Rusu Andreea","Bucuresti",50.2,27.5,"OF",null,null,null,{"$f":"catp","v":2}]
[2956,"Kelemen Laszlo","Miercurea Ciuc",20.7,27.5,"O",null,null,null,{"$f":"catp","v":2}]
[345,"Szakacs Sandor","Sfantu Gheorghe",437.9,27.49,"O",null,null,null,{"$f":"catp","v":2}]
[948,"Chirtoaca Sergiu","Ploiesti",189.2,27.48,"O",null,null,null,{"$f":"catp","v":2}]
[1085,"Bacosca Catalin","Sabaoani",159.1,27.48,"O",null,null,null,{"$f":"catp","v":2}]
[1188,"Herteg Dorinel","Arad",140.80000000000001,27.48,"O",null,null,null,{"$f":"catp","v":2}]
[754,"Szakacs Attila","Corunca",241.3,27.47,"O",null,null,null,{"$f":"catp","v":2}]
[756,"Popa Paul","Sibiu",240.9,27.47,"OW",null,null,null,{"$f":"catp","v":2}]
[1305,"Dragomir Dan","Bucuresti",123,27.45,"O",null,null,null,{"$f":"catp","v":2}]
[1915,"Minzat Mircea","Saliste",62.5,27.45,"O",null,null,null,{"$f":"catp","v":2}]
[610,"Cuna Gheorghe","Buzau",294.5,27.43,"O",null,null,null,{"$f":"catp","v":2}]
[1045,"Oancea Marian","Bacau",167.8,27.43,"O",null,null,null,{"$f":"catp","v":2}]
[667,"Manea Alexandru","Comarnic",268.7,27.4,"O",null,null,null,{"$f":"catp","v":2}]
[1492,"Simion Silviu","Cocorastii Mislii",100.9,27.4,"O",null,null,null,{"$f":"catp","v":2}]
[2699,"Nestor Dragos","Bucuresti",27.4,27.4,"O",null,null,null,{"$f":"catp","v":2}]
[947,"Barbu Tiberiu","Deva",189.5,27.35,"O",null,null,null,{"$f":"catp","v":2}]
[2135,"Rada Florin","Pitesti",50,27.35,"O",null,null,null,{"$f":"catp","v":2}]
[2317,"Grama Mihai","Azuga",41.1,27.35,"OW",null,null,null,{"$f":"catp","v":2}]
[375,"Valcica Raul Ginno","Uricani",408.9,27.32,"O",null,null,null,{"$f":"catp","v":2}]
[1001,"Anani Mihaita","Galati",176.3,27.32,"O",null,null,null,{"$f":"catp","v":2}]
[761,"Cirstea Toni","Targu Jiu",239.1,27.3,"O",null,null,null,{"$f":"catp","v":2}]
[840,"Malacopol Tatiana","Bucuresti",216.2,27.28,"OF",null,null,null,{"$f":"catp","v":2}]
[918,"Stancu Tiberiu","Deva",196.9,27.26,"OW",null,null,null,{"$f":"catp","v":2}]
[2158,"Popa Cristian Gabriel","Craiova",48.9,27.25,"O",null,null,null,{"$f":"catp","v":2}]
[901,"Banceanu Radu","Hunedoara",202.6,27.24,"O",null,null,null,{"$f":"catp","v":2}]
[259,"Anchidin Cosmin","Lugoj",498.5,27.22,"O",null,null,null,{"$f":"catp","v":2}]
[551,"Chivu Cornel","Craiova",319.3,27.21,"O",null,null,null,{"$f":"catp","v":2}]
[461,"Bodeanu Dan","Bucuresti",363.2,27.2,"OW",null,null,null,{"$f":"catp","v":2}]
[1298,"Zainescu Corneliu","Galati",123.4,27.2,"OW",null,null,null,{"$f":"catp","v":2}]
[2060,"Taucci Anastasia","Moldova-Avdarma",54.4,27.2,"OF",null,null,null,{"$f":"catp","v":2}]
[2215,"Plamada Aurelian","Botosani",45.5,27.2,"O",null,null,null,{"$f":"catp","v":2}]
[2325,"Goleanu Remus","Marginea",40.799999999999997,27.2,"O",null,null,null,{"$f":"catp","v":2}]
[2703,"Ionita Fabian","Ploiesti",27.2,27.2,"O",null,null,null,{"$f":"catp","v":2}]
[2704,"Chirtoaca Ion","Ploiesti",27.2,27.2,"O",null,null,null,{"$f":"catp","v":2}]
[1046,"Bartha Istvan Zsolt","Aita Mare",167.8,27.14,"OW",null,null,null,{"$f":"catp","v":2}]
[1751,"Onute Marius","Zalau",75,27.13,"O",null,null,null,{"$f":"catp","v":2}]
[372,"Dascalu Cristian","Bucuresti",411.8,27.12,"O",null,null,null,{"$f":"catp","v":2}]
[848,"Vajeu Ionut","Busteni",214.5,27.07,"O",null,null,null,{"$f":"catp","v":2}]
[285,"Vasile Gica","Vulcana Bai",478.7,27.06,"OD",null,null,null,{"$f":"catp","v":2}]
[2064,"Hodis Tudor","Bucuresti",54.1,27.05,"OL",null,null,null,{"$f":"catp","v":2}]
[277,"Bondrea Attila","Gheorgheni",486.3,27.02,"O",null,null,null,{"$f":"catp","v":2}]
[475,"Konti Florin","Apahida",357.9,27,"O",null,null,null,{"$f":"catp","v":2}]
[1127,"Morosan Ionel","Granicesti",152.4,27,"O",null,null,null,{"$f":"catp","v":2}]
[2065,"Mocanu David","Bucuresti",54,27,"O",null,null,null,{"$f":"catp","v":2}]
[1172,"Rusti Catalin","Suceava",142.9,26.98,"OW",null,null,null,{"$f":"catp","v":2}]
[2067,"Brinza Constantin","Harlau",53.8,26.9,"O",null,null,null,{"$f":"catp","v":2}]
[2708,"Orac Teodor","Slobozia",26.9,26.9,"OW",null,null,null,{"$f":"catp","v":2}]
[388,"Ciubotaru Dan","Piatra Neamt",400.3,26.88,"O",null,null,null,{"$f":"catp","v":2}]
[1342,"Kramarsic Milos","Belgrad",118.7,26.85,"O",null,null,null,{"$f":"catp","v":2}]
[1353,"Danalache Daniel","Navodari",117.4,26.85,"O",null,null,null,{"$f":"catp","v":2}]
[1493,"Digolean Alexandru","Moldova-Larga",100.7,26.85,"O",null,null,null,{"$f":"catp","v":2}]
[656,"Manitiu Florin","Sibiu",273.7,26.84,"O",null,null,null,{"$f":"catp","v":2}]
[314,"Galca Andrei","Bucuresti",456.8,26.82,"O",null,null,null,{"$f":"catp","v":2}]
[601,"Birtalan Hunor","Sovata",296.8,26.82,"O",null,null,null,{"$f":"catp","v":2}]
[2984,"Pal Attila","Sfantu Gheorghe",20.100000000000001,26.8,"OW",null,null,null,{"$f":"catp","v":2}]
[557,"Kadar Josif","Oradea",316.7,26.78,"O",null,null,null,{"$f":"catp","v":2}]
[956,"Iordachi Adrian","Adjud",186.4,26.78,"OW",null,null,null,{"$f":"catp","v":2}]
[815,"Vladescu Adrian","Cluj Napoca",222.8,26.77,"O",null,null,null,{"$f":"catp","v":2}]
[1924,"Stan Marius","Galati",62,26.75,"O",null,null,null,{"$f":"catp","v":2}]
[2189,"Hristea Iulian","Galati",47,26.75,"O",null,null,null,{"$f":"catp","v":2}]
[441,"Soimusan Tudor","Cluj Napoca",372.4,26.73,"O",null,null,null,{"$f":"catp","v":2}]
[1420,"Costin Bogdan","Iasi",109.3,26.73,"O",null,null,null,{"$f":"catp","v":2}]
[659,"Costeant Tiberiu","Margina",272.3,26.7,"O",null,null,null,{"$f":"catp","v":2}]
[1361,"Toth Attila","Sfantu Gheorghe",116.3,26.7,"O",null,null,null,{"$f":"catp","v":2}]
[2711,"Secu Virgil","Drobeta Tr Severin",26.7,26.7,"O",null,null,null,{"$f":"catp","v":2}]
[1523,"Grigore Dumitru Valentin","Ramnicu Sarat",96.9,26.67,"O",null,null,null,{"$f":"catp","v":2}]
[1126,"Starcz Adrian","Lupeni",152.69999999999999,26.65,"O",null,null,null,{"$f":"catp","v":2}]
[1499,"Trif Florin","Cocorastii Mislii",99.8,26.65,"O",null,null,null,{"$f":"catp","v":2}]
[1060,"Lascu Marius","Timisoara",163,26.63,"O",null,null,null,{"$f":"catp","v":2}]
[1310,"Damoc George","Pildesti",122.3,26.63,"O",null,null,null,{"$f":"catp","v":2}]
[1332,"Cojocaru Alexandru","Arad",119.6,26.6,"O",null,null,null,{"$f":"catp","v":2}]
[1375,"Campean Eugen","Dej",115.3,26.6,"O",null,null,null,{"$f":"catp","v":2}]
[1736,"Marian Bogdan","Ploiesti",76.099999999999994,26.6,"OW",null,null,null,{"$f":"catp","v":2}]
[2716,"Danila Alexandru","Cugir",26.6,26.6,"O",null,null,null,{"$f":"catp","v":2}]
[322,"Chivaran Alin","Timisoara",454.4,26.57,"O",null,null,null,{"$f":"catp","v":2}]
[421,"Vigu Emanuel","Cluj Napoca",382.7,26.56,"OJ",null,null,null,{"$f":"catp","v":2}]
[2112,"Sabau Liviu","Oradea",51.1,26.55,"O",null,null,null,{"$f":"catp","v":2}]
[1247,"Subtirelu Marius","Onesti",131.5,26.53,"O",null,null,null,{"$f":"catp","v":2}]
[1320,"Florea Ionut","Vatra Dornei",120.7,26.5,"O",null,null,null,{"$f":"catp","v":2}]
[2081,"Murgu Ioan","Oravita",53,26.5,"O",null,null,null,{"$f":"catp","v":2}]
[2718,"Algeorge Pop Eduard","Arad",26.5,26.5,"O",null,null,null,{"$f":"catp","v":2}]
[1543,"Mates Flavius","Arad",95.3,26.47,"O",null,null,null,{"$f":"catp","v":2}]
[374,"Tical Nicusor","Otopeni",411.5,26.46,"O",null,null,null,{"$f":"catp","v":2}]
[651,"Anghel George","Targoviste",276.2,26.43,"O",null,null,null,{"$f":"catp","v":2}]
[357,"Marcu Ciprian","Targu Mures",430.7,26.42,"O",null,null,null,{"$f":"catp","v":2}]
[1287,"Urian Nicusor","Alba Iulia",124.8,26.4,"OW",null,null,null,{"$f":"catp","v":2}]
[2084,"Prodan Tiberiu","Tarnaveni",52.8,26.4,"O",null,null,null,{"$f":"catp","v":2}]
[292,"Nitu Serban","Ploiesti",474.7,26.38,"OW",null,null,null,{"$f":"catp","v":2}]
[385,"Popa Gelu","Focsani",401.2,26.35,"O",null,null,null,{"$f":"catp","v":2}]
[547,"Gereb Istvan Attila","Miercurea Ciuc",321.3,26.33,"O",null,null,null,{"$f":"catp","v":2}]
[1306,"Jurj Sorin","Calan",122.9,26.3,"O",null,null,null,{"$f":"catp","v":2}]
[2726,"Nemaciuc Ovidiu","Suceava",26.3,26.3,"O",null,null,null,{"$f":"catp","v":2}]
[2727,"Crutarciuc Alexandru Sr","Moldova-Lipcani",26.3,26.3,"O",null,null,null,{"$f":"catp","v":2}]
[572,"Nistor Alexandru","Sighetu Marmatiei",308.60000000000002,26.27,"O",null,null,null,{"$f":"catp","v":2}]
[1873,"Barbu Alexandru","Bucuresti",65.099999999999994,26.25,"O",null,null,null,{"$f":"catp","v":2}]
[986,"Faur Claudiu","Timisoara",179.9,26.22,"O",null,null,null,{"$f":"catp","v":2}]
[2198,"Maerean Claudiu","Bistrita",46.6,26.2,"O",null,null,null,{"$f":"catp","v":2}]
[2730,"Spasic Dejan","Belgrad",26.2,26.2,"O",null,null,null,{"$f":"catp","v":2}]
[3000,"Ciurca Sorin","Tarnaveni",19.7,26.2,"O",null,null,null,{"$f":"catp","v":2}]
[817,"Costea Stefan","Tarnaveni",222.1,26.17,"O",null,null,null,{"$f":"catp","v":2}]
[288,"Cotet Nicolae","Braila",477.1,26.16,"OW",null,null,null,{"$f":"catp","v":2}]
[594,"Ionita Nicu","Focsani",300.2,26.15,"O",null,null,null,{"$f":"catp","v":2}]
[1498,"Stancu Maricel","Focsani",99.9,26.15,"O",null,null,null,{"$f":"catp","v":2}]
[1372,"Leteanu Marius","Bacau",115.4,26.13,"O",null,null,null,{"$f":"catp","v":2}]
[967,"Stoinea Iulian","Bucuresti",183.9,26.06,"O",null,null,null,{"$f":"catp","v":2}]
[757,"Popa Florin","Medias",240,26.05,"O",null,null,null,{"$f":"catp","v":2}]
[1722,"Vuta Bogdan","Curtea de Arges",77,26.05,"O",null,null,null,{"$f":"catp","v":2}]
[463,"Oprea Bogdan","Videle",361.9,26.03,"O",null,null,null,{"$f":"catp","v":2}]
[602,"Tirdea Ionut","Tecuci",296.60000000000002,26.02,"O",null,null,null,{"$f":"catp","v":2}]
[2239,"Zaharia Iulian","Iasi",44.6,26,"O",null,null,null,{"$f":"catp","v":2}]
[870,"Mihaiuc Beniamin","Radauti",208.9,25.94,"O",null,null,null,{"$f":"catp","v":2}]
[2253,"Ceobotaru Daniel","Galati",44.1,25.9,"O",null,null,null,{"$f":"catp","v":2}]
[2739,"Stoia Florin","Timisoara",25.9,25.9,"O",null,null,null,{"$f":"catp","v":2}]
[295,"Ternauciuc Adrian","Nadrag",472.6,25.88,"O",null,null,null,{"$f":"catp","v":2}]
[362,"Vrinceanu Vladut","Caransebes",426.7,25.88,"O",null,null,null,{"$f":"catp","v":2}]
[481,"Vass Sandor","Beclean",352.9,25.87,"OW",null,null,null,{"$f":"catp","v":2}]
[1559,"Ciocau Viorel","Bucuresti",93.8,25.87,"O",null,null,null,{"$f":"catp","v":2}]
[1787,"Andreievici Vuk","Dumbravita",71.599999999999994,25.87,"O",null,null,null,{"$f":"catp","v":2}]
[401,"Hutanu Adrian","Slobozia",392.8,25.86,"O",null,null,null,{"$f":"catp","v":2}]
[713,"Stepanov Petre","Tulcea",255,25.85,"O",null,null,null,{"$f":"catp","v":2}]
[554,"Popa Nicolae","Cergau Mare",317.39999999999998,25.83,"O",null,null,null,{"$f":"catp","v":2}]
[412,"Solyom Sandor","Cluj Napoca",387.6,25.8,"O",null,null,null,{"$f":"catp","v":2}]
[664,"Dumitru Florin","Slobozia",270.7,25.8,"O",null,null,null,{"$f":"catp","v":2}]
[2745,"Jusca Sorin","Lugoj",25.8,25.8,"O",null,null,null,{"$f":"catp","v":2}]
[653,"Bardas Ioan","Dumbraveni SB",275.39999999999998,25.79,"O",null,null,null,{"$f":"catp","v":2}]
[330,"Necsoiu Georgiana","Videle",450.8,25.78,"OF",null,null,null,{"$f":"catp","v":2}]
[825,"Dragomir Marius","Targu Mures",220.3,25.77,"O",null,null,null,{"$f":"catp","v":2}]
[1745,"Bucsoiu Vlad","Brasov",75.7,25.77,"O",null,null,null,{"$f":"catp","v":2}]
[2204,"Bleoca Lucas","Tarnaveni",46.1,25.75,"O",null,null,null,{"$f":"catp","v":2}]
[1782,"Demeter Attila","Campia Turzii",72,25.73,"O",null,null,null,{"$f":"catp","v":2}]
[620,"Vlasceanu Valentin","Darmanesti",290.39999999999998,25.71,"O",null,null,null,{"$f":"catp","v":2}]
[851,"Bordeianu Marius","Bucuresti",213.7,25.7,"O",null,null,null,{"$f":"catp","v":2}]
[925,"Comsa Dan","Sibiu",194.6,25.7,"OW",null,null,null,{"$f":"catp","v":2}]
[2247,"Valea Claudiu","Targu Mures",44.3,25.7,"OW",null,null,null,{"$f":"catp","v":2}]
[1333,"Rugina Adrian","Botosani",119.6,25.67,"O",null,null,null,{"$f":"catp","v":2}]
[1881,"Zelariu Petru","Tarnaveni",64.5,25.67,"OW",null,null,null,{"$f":"catp","v":2}]
[1015,"Horotan Catalin","Baia Mare",173.6,25.66,"OW",null,null,null,{"$f":"catp","v":2}]
[1343,"Baltatu Eduard Laurentiu","Bucuresti",118.6,25.65,"O",null,null,null,{"$f":"catp","v":2}]
[1536,"Eotvos Flavius","Tarnaveni",95.9,25.65,"O",null,null,null,{"$f":"catp","v":2}]
[933,"Mihai Ion","Bucuresti",193,25.64,"O",null,null,null,{"$f":"catp","v":2}]
[1382,"Ardeleanu Bogdan","Resita",115,25.63,"O",null,null,null,{"$f":"catp","v":2}]
[1805,"Amarinei Sorin","Galati",70.400000000000006,25.63,"OW",null,null,null,{"$f":"catp","v":2}]
[359,"Vieriu Tudorel","Suceava",428.1,25.6,"O",null,null,null,{"$f":"catp","v":2}]
[1177,"Gaciu Gabriel","Gherla",142.4,25.6,"O",null,null,null,{"$f":"catp","v":2}]
[2219,"Chibulcutean Bogdan","Tarnaveni",45.4,25.6,"O",null,null,null,{"$f":"catp","v":2}]
[2748,"Melintii Vladimir","Moldova-Comrat",25.6,25.6,"O",null,null,null,{"$f":"catp","v":2}]
[3017,"Chis Mihai","Techirghiol",19.2,25.6,"O",null,null,null,{"$f":"catp","v":2}]
[577,"Sabau Gheorghe","Tarnaveni",306.89999999999998,25.58,"OW",null,null,null,{"$f":"catp","v":2}]
[319,"Oniga Constantin","Iasi",454.9,25.57,"O",null,null,null,{"$f":"catp","v":2}]
[299,"Jupanschi Adrian","Hunedoara",470.9,25.53,"O",null,null,null,{"$f":"catp","v":2}]
[349,"Cobzaru Radu","Deva",435.4,25.5,"O",null,null,null,{"$f":"catp","v":2}]
[1831,"Aldea Eduard","Buzau",68.3,25.5,"O",null,null,null,{"$f":"catp","v":2}]
[1847,"Nazaret Alexandru","Bacau",67.400000000000006,25.5,"O",null,null,null,{"$f":"catp","v":2}]
[2332,"Manolache Florin","Ploiesti",40.5,25.5,"O",null,null,null,{"$f":"catp","v":2}]
[457,"Panait Adrian","Braila",364.2,25.47,"OW",null,null,null,{"$f":"catp","v":2}]
[2118,"Tanu Mihai","Tecuci",50.9,25.45,"O",null,null,null,{"$f":"catp","v":2}]
[2146,"Neagu Mihai","Iasi",49.4,25.45,"O",null,null,null,{"$f":"catp","v":2}]
[1245,"Irimia Silviu Marius","Cernavoda",131.69999999999999,25.43,"O",null,null,null,{"$f":"catp","v":2}]
[1623,"Magura Larian","Constanta",86,25.43,"O",null,null,null,{"$f":"catp","v":2}]
[1878,"Lup Claudiu","Bistrita",64.7,25.43,"O",null,null,null,{"$f":"catp","v":2}]
[378,"Dinu Gheorghe","Bucuresti",407.2,25.41,"OW",null,null,null,{"$f":"catp","v":2}]
[1143,"Virvorea Mihai","Sibiu",148.69999999999999,25.38,"O",null,null,null,{"$f":"catp","v":2}]
[813,"Barbulescu Dan","Sibiu",223.9,25.36,"OW",null,null,null,{"$f":"catp","v":2}]
[1012,"Bodea Flaviu","Simleu Silvaniei",173.8,25.36,"O",null,null,null,{"$f":"catp","v":2}]
[356,"Damian Mircea","Bistrita",430.9,25.31,"O",null,null,null,{"$f":"catp","v":2}]
[1094,"Decean Darian","Sibiu",157.19999999999999,25.3,"O",null,null,null,{"$f":"catp","v":2}]
[1377,"Glavan Radu","Timisoara",115.2,25.3,"O",null,null,null,{"$f":"catp","v":2}]
[1616,"Capotescu Tiberiu","Faget",87.1,25.3,"O",null,null,null,{"$f":"catp","v":2}]
[2763,"Clapa Danut","Bucuresti",25.3,25.3,"O",null,null,null,{"$f":"catp","v":2}]
[1839,"Furtuna Adrian","Brasov",67.900000000000006,25.25,"O",null,null,null,{"$f":"catp","v":2}]
[2128,"Radulescu Eugeniu","Turda",50.5,25.25,"O",null,null,null,{"$f":"catp","v":2}]
[2129,"Tarlev Roman","Moldova-Comrat",50.5,25.25,"O",null,null,null,{"$f":"catp","v":2}]
[360,"Racean Claudiu","Sibiu",428.1,25.24,"O",null,null,null,{"$f":"catp","v":2}]
[929,"Bustiuc Razvan","Iasi",193.6,25.22,"O",null,null,null,{"$f":"catp","v":2}]
[2395,"Veres Adrian","Timisoara",37.799999999999997,25.2,"O",null,null,null,{"$f":"catp","v":2}]
[2767,"Imecs Attila","Miercurea Ciuc",25.2,25.2,"OW",null,null,null,{"$f":"catp","v":2}]
[2768,"Ticu Mihai","Focsani",25.2,25.2,"O",null,null,null,{"$f":"catp","v":2}]
[1325,"Bordas Zsolt","Santionlunca",120.2,25.18,"O",null,null,null,{"$f":"catp","v":2}]
[1319,"Szabo Tamas","Miercurea Ciuc",120.8,25.15,"O",null,null,null,{"$f":"catp","v":2}]
[1452,"Pogorevici Mircea","Gura Humorului",105.7,25.15,"O",null,null,null,{"$f":"catp","v":2}]
[2240,"Mocanu Georgian","Filipestii de Targ",44.6,25.15,"O",null,null,null,{"$f":"catp","v":2}]
[346,"Nicola Marian","Constanta",437.5,25.13,"O",null,null,null,{"$f":"catp","v":2}]
[417,"Muresan Dorel","Cluj Napoca",385,25.12,"OD",null,null,null,{"$f":"catp","v":2}]
[568,"Ilie Aurelian","Botosani",309.89999999999998,25.12,"O",null,null,null,{"$f":"catp","v":2}]
[990,"Antal Laszlo","Miercurea Ciuc",179.4,25.12,"O",null,null,null,{"$f":"catp","v":2}]
[668,"Stolearenco Igor","Galati",268.60000000000002,25.1,"O",null,null,null,{"$f":"catp","v":2}]
[718,"Topsaneanu Valentin","Chitila",253.9,25.1,"O",null,null,null,{"$f":"catp","v":2}]
[2048,"Boureanu Ionel","Iasi",55.1,25.1,"O",null,null,null,{"$f":"catp","v":2}]
[495,"Georgescu Robert Stefan","Bucuresti",347.4,25.08,"O",null,null,null,{"$f":"catp","v":2}]
[641,"Pop Danut","Dej",280.10000000000002,25.04,"OW",null,null,null,{"$f":"catp","v":2}]
[1517,"Sarbu Dan","Ploiesti",97.8,25.03,"OW",null,null,null,{"$f":"catp","v":2}]
[1905,"Radoi Marius","Bals",63,25.03,"O",null,null,null,{"$f":"catp","v":2}]
[1955,"Brisc Nelu","Timisoara",60.1,25.03,"O",null,null,null,{"$f":"catp","v":2}]
[669,"Peiciu Vasile","Tulcea",268.3,25.02,"O",null,null,null,{"$f":"catp","v":2}]
[1132,"Clej Alexandru","Arad",151.1,25.02,"O",null,null,null,{"$f":"catp","v":2}]
[1621,"Dascalu Cosmin Stefan","Cluj Napoca",86.3,25,"O",null,null,null,{"$f":"catp","v":2}]
[1757,"Prodan Daniel","Campia Turzii",74.099999999999994,25,"O",null,null,null,{"$f":"catp","v":2}]
[2773,"Tanase Horia","Bucuresti",25,25,"O",null,null,null,{"$f":"catp","v":2}]
[2774,"Raportaru Viorel","Bucuresti",25,25,"O",null,null,null,{"$f":"catp","v":2}]
[3038,"State Orlando","Bucuresti",18.8,25,"O",null,null,null,{"$f":"catp","v":2}]
[741,"Ferenczi Robert","Suseni",245.6,24.97,"O",null,null,null,{"$f":"catp","v":2}]
[1573,"Rusu Andrei","Cluj Napoca",92.4,24.97,"O",null,null,null,{"$f":"catp","v":2}]
[732,"Chetan Laurean","Reghin",249.5,24.95,"OW",null,null,null,{"$f":"catp","v":2}]
[1209,"Serban Marin","Tulcea",138.69999999999999,24.95,"OW",null,null,null,{"$f":"catp","v":2}]
[1876,"Andreica Daniel","Viseu",64.900000000000006,24.95,"O",null,null,null,{"$f":"catp","v":2}]
[1979,"Georgescu Vlad","Bucuresti",58.8,24.95,"O",null,null,null,{"$f":"catp","v":2}]
[2776,"Cilcic Evgeni","Moldova-Taraclia",24.9,24.9,"O",null,null,null,{"$f":"catp","v":2}]
[3044,"Vaida Gheorghe","Sibiu",18.7,24.9,"O",null,null,null,{"$f":"catp","v":2}]
[785,"Sandu Petru Adrian","Buhusi",232.4,24.88,"O",null,null,null,{"$f":"catp","v":2}]
[1027,"Roatis Gheorghe","Oradea",170,24.85,"O",null,null,null,{"$f":"catp","v":2}]
[2139,"Gherman Romulus","Arad",49.7,24.85,"O",null,null,null,{"$f":"catp","v":2}]
[1254,"Ardelean Alex","Ineu",130.30000000000001,24.83,"O",null,null,null,{"$f":"catp","v":2}]
[1561,"Gorneanu Andrei","Bucuresti",93.6,24.83,"O",null,null,null,{"$f":"catp","v":2}]
[1129,"Coste Rafael","Lupeni",152.30000000000001,24.82,"O",null,null,null,{"$f":"catp","v":2}]
[2144,"Ciripan Camelia","Bucuresti",49.6,24.8,"OF",null,null,null,{"$f":"catp","v":2}]
[3053,"Lulciuc Dumitru","Timisoara",18.600000000000001,24.8,"O",null,null,null,{"$f":"catp","v":2}]
[3054,"Svaia Bianca","Timisoara",18.600000000000001,24.8,"OF",null,null,null,{"$f":"catp","v":2}]
[510,"Alexandru David Gabriel","Bucuresti",336.2,24.79,"O",null,null,null,{"$f":"catp","v":2}]
[1315,"Buicea Rares","Pitesti",121.7,24.78,"O",null,null,null,{"$f":"catp","v":2}]
[762,"Velicescu Dragos","Pitesti",238.6,24.75,"O",null,null,null,{"$f":"catp","v":2}]
[1773,"Ion Radu","Slobozia",72.8,24.75,"O",null,null,null,{"$f":"catp","v":2}]
[2145,"Zaha Vasile","Satu Mare",49.5,24.75,"OW",null,null,null,{"$f":"catp","v":2}]
[1506,"Gogu Ionut","Roman",99.2,24.73,"O",null,null,null,{"$f":"catp","v":2}]
[743,"Veres Janos","Targu Mures",245.4,24.71,"OW",null,null,null,{"$f":"catp","v":2}]
[2285,"Brabete Danut","Deva",42.6,24.7,"O",null,null,null,{"$f":"catp","v":2}]
[2351,"Sonoc Cristian","Arad",39.700000000000003,24.7,"O"]
[316,"Marginean Catalin","Aiud",456.4,24.68,"O",null,null,null,{"$f":"catp","v":2}]
[522,"Mihaila George","Bucuresti",332.3,24.68,"O",null,null,null,{"$f":"catp","v":2}]
[1639,"Pacuraru Cristian","Suceava",84.7,24.67,"O",null,null,null,{"$f":"catp","v":2}]
[725,"Clesiu Florin","Deva",251.8,24.66,"O",null,null,null,{"$f":"catp","v":2}]
[1217,"Rogin Florin","Piatra Neamt",136.5,24.63,"O",null,null,null,{"$f":"catp","v":2}]
[443,"Bran Florin","Tulcea",372.2,24.62,"O",null,null,null,{"$f":"catp","v":2}]
[2020,"Topala Alexandru","Moldova-Balti",57.1,24.6,"O",null,null,null,{"$f":"catp","v":2}]
[2786,"Apostoaiei Andrei","Bucuresti",24.6,24.6,"O",null,null,null,{"$f":"catp","v":2}]
[940,"Foris Dana","Baia Mare",191.3,24.55,"OF",null,null,null,{"$f":"catp","v":2}]
[621,"Stefan Narcis","Botosani",290.10000000000002,24.54,"OW",null,null,null,{"$f":"catp","v":2}]
[1362,"Aldea Andrei","Roman",116.3,24.53,"O",null,null,null,{"$f":"catp","v":2}]
[1371,"Curaciuc Claudiu","Resita",115.5,24.53,"O",null,null,null,{"$f":"catp","v":2}]
[607,"Filipics Zoli","Timisoara",294.8,24.52,"O",null,null,null,{"$f":"catp","v":2}]
[704,"Kesmarki Laszlo","Tarnaveni",258.39999999999998,24.5,"O",null,null,null,{"$f":"catp","v":2}]
[2420,"Simu Marius","Oradea",36.799999999999997,24.5,"O",null,null,null,{"$f":"catp","v":2}]
[3065,"Dima Victor","Azuga",18.399999999999999,24.5,"O",null,null,null,{"$f":"catp","v":2}]
[878,"Chibulcutean Ioan","Tarnaveni",206.6,24.49,"OW",null,null,null,{"$f":"catp","v":2}]
[1335,"Neagu Alexandru","Targoviste",119.5,24.48,"O",null,null,null,{"$f":"catp","v":2}]
[949,"Bal Adrian","Gherla",188.6,24.46,"O",null,null,null,{"$f":"catp","v":2}]
[364,"Dimache Marian","Braila",423.6,24.43,"OW",null,null,null,{"$f":"catp","v":2}]
[1609,"Dima Alexia","Pitesti",88,24.43,"OF",null,null,null,{"$f":"catp","v":2}]
[954,"Chirila Laurentiu","Braila",187,24.4,"O",null,null,null,{"$f":"catp","v":2}]
[1066,"Ghiurutan Razvan","Bucuresti",162.4,24.4,"O",null,null,null,{"$f":"catp","v":2}]
[2793,"Dicu Mircea","Vaslui",24.4,24.4,"O",null,null,null,{"$f":"catp","v":2}]
[3069,"Balllo Szabolcs","Miercurea Ciuc",18.3,24.4,"O",null,null,null,{"$f":"catp","v":2}]
[2160,"Dinu Cristian","Mizil",48.7,24.35,"O",null,null,null,{"$f":"catp","v":2}]
[670,"Saucan Victor","Timisoara",268.2,24.31,"O",null,null,null,{"$f":"catp","v":2}]
[860,"Lazar Dumitru","Mizil",210.6,24.3,"OW",null,null,null,{"$f":"catp","v":2}]
[2797,"Roman Radu Dan","Arad",24.3,24.3,"O",null,null,null,{"$f":"catp","v":2}]
[634,"Baicu Cristian","Bucuresti",285.2,24.28,"O",null,null,null,{"$f":"catp","v":2}]
[1436,"Culda Andrei","Oradea",107,24.28,"O",null,null,null,{"$f":"catp","v":2}]
[1379,"Morariu Marius","Sibiu",115.1,24.27,"OW",null,null,null,{"$f":"catp","v":2}]
[1035,"Olah Remus","Arad",169,24.25,"OW",null,null,null,{"$f":"catp","v":2}]
[1391,"Sfrenti Cosmin","Drobeta Tr Severin",113.4,24.25,"O",null,null,null,{"$f":"catp","v":2}]
[1526,"Pasca Nelu","Oradea",96.6,24.25,"O",null,null,null,{"$f":"catp","v":2}]
[1166,"Rusea Gheorghe","Breaza",143.5,24.23,"O",null,null,null,{"$f":"catp","v":2}]
[627,"Vasiliu Bogdan","Panciu",288.2,24.21,"O",null,null,null,{"$f":"catp","v":2}]
[1430,"Soki Viktor","Arad",107.6,24.2,"O",null,null,null,{"$f":"catp","v":2}]
[3074,"Petrof Florin","Bucuresti",18.2,24.2,"O",null,null,null,{"$f":"catp","v":2}]
[1092,"Kovacs Levente","Oradea",157.5,24.18,"O",null,null,null,{"$f":"catp","v":2}]
[2165,"Barbu Daniel","Buftea",48.3,24.15,"O",null,null,null,{"$f":"catp","v":2}]
[398,"Puiu Andrei","Botosani",393.6,24.11,"O",null,null,null,{"$f":"catp","v":2}]
[2005,"Filip Dan","Comanesti",57.7,24.1,"OW",null,null,null,{"$f":"catp","v":2}]
[2168,"Diaconu Dan","Hunedoara",48.2,24.1,"O",null,null,null,{"$f":"catp","v":2}]
[2244,"Rus Mihai","Bistrita",44.5,24.1,"O",null,null,null,{"$f":"catp","v":2}]
[2805,"Voinea Emil","Braila",24.1,24.1,"OW",null,null,null,{"$f":"catp","v":2}]
[2806,"Albu Constantin","Suceava",24.1,24.1,"OW",null,null,null,{"$f":"catp","v":2}]
[3078,"Sandu Mihai","Braila",18.100000000000001,24.1,"O",null,null,null,{"$f":"catp","v":2}]
[3079,"Chivari Sebastian","Arad",18.100000000000001,24.1,"O",null,null,null,{"$f":"catp","v":2}]
[897,"Daraba Gabriel","Botosani",202.9,24.08,"O",null,null,null,{"$f":"catp","v":2}]
[1394,"Cretu Marian","Craiova",113.1,24.07,"O",null,null,null,{"$f":"catp","v":2}]
[2171,"Sivu Cosmin","Bucuresti",48.1,24.05,"O",null,null,null,{"$f":"catp","v":2}]
[629,"Robu Mihai","Mogosesti",287.2,24.04,"OW",null,null,null,{"$f":"catp","v":2}]
[2812,"Munteanu Constantin","Resita",24,24,"O",null,null,null,{"$f":"catp","v":2}]
[3083,"Naghiu Ioan","Zalau",18,24,"O",null,null,null,{"$f":"catp","v":2}]
[665,"Lazar Cristian","Cluj Napoca",270.2,23.99,"A",null,null,null,{"$f":"catp","v":3}]
[1223,"Varga Florin","Cluj Napoca",135.4,23.95,"A",null,null,null,{"$f":"catp","v":3}]
[2175,"Ilie Cristian","Constanta",47.9,23.95,"A",null,null,null,{"$f":"catp","v":3}]
[371,"Plesoianu Stefan","Constanta",412,23.94,"AW",null,null,null,{"$f":"catp","v":3}]
[2287,"Lupu Darius","Bucuresti",42.5,23.9,"A",null,null,null,{"$f":"catp","v":3}]
[2820,"Danila Florin","Cugir",23.9,23.9,"A",null,null,null,{"$f":"catp","v":3}]
[596,"Grusca Narcis","Gura Humorului",299.7,23.89,"AW",null,null,null,{"$f":"catp","v":3}]
[615,"Curpas Ioan","Oradea",292.5,23.89,"AW",null,null,null,{"$f":"catp","v":3}]
[1432,"Cranta Andrei","Bucuresti",107.5,23.88,"A",null,null,null,{"$f":"catp","v":3}]
[1395,"Donisan Costel","Pascani",113.1,23.87,"AW",null,null,null,{"$f":"catp","v":3}]
[623,"Bene Alexandru","Cluj Napoca",290,23.84,"A",null,null,null,{"$f":"catp","v":3}]
[1602,"Dragomir Mitica","Sibiu",89,23.83,"AW",null,null,null,{"$f":"catp","v":3}]
[633,"Golai Gheorghe","Piatra Neamt",286.2,23.81,"AW",null,null,null,{"$f":"catp","v":3}]
[535,"Bozga Stefan","Beclean",328.3,23.78,"A",null,null,null,{"$f":"catp","v":3}]
[1901,"Marko Gabor","Sibiu",63.2,23.75,"A",null,null,null,{"$f":"catp","v":3}]
[1869,"Macari Ion","Iasi",65.7,23.73,"A",null,null,null,{"$f":"catp","v":3}]
[1960,"Jeler Nicolae","Orastie",59.8,23.73,"A",null,null,null,{"$f":"catp","v":3}]
[556,"Sucilea Victor","Cluj Napoca",317.2,23.7,"AJ",null,null,null,{"$f":"catp","v":3}]
[654,"Tatar Dorel","Calan",274.3,23.7,"AW",null,null,null,{"$f":"catp","v":3}]
[1327,"Maran Petru","Sighetu Marmatiei",120,23.7,"AW",null,null,null,{"$f":"catp","v":3}]
[1669,"Cojocaru Didi","Ramnicu Valcea",81.599999999999994,23.7,"A",null,null,null,{"$f":"catp","v":3}]
[1866,"Constantin Eduard","Bucuresti",65.8,23.7,"A",null,null,null,{"$f":"catp","v":3}]
[2830,"Lotokha Daniel","Odesa",23.7,23.7,"A",null,null,null,{"$f":"catp","v":3}]
[414,"Radu Constantin","Sibiu",385.4,23.66,"AW",null,null,null,{"$f":"catp","v":3}]
[1289,"Munteanu Ion","Brasov",124.6,23.65,"A",null,null,null,{"$f":"catp","v":3}]
[483,"Cristofor Razvan","Moinesti",352.2,23.64,"AW",null,null,null,{"$f":"catp","v":3}]
[1036,"Gorasciuc Marius","Hurjuieni",169,23.62,"A",null,null,null,{"$f":"catp","v":3}]
[1673,"Padurariu Ciprian","Roman",81.400000000000006,23.6,"AW",null,null,null,{"$f":"catp","v":3}]
[399,"Matei Dumitru","Deva",393.5,23.55,"AW",null,null,null,{"$f":"catp","v":3}]
[1167,"Curelea Andrei","Bucuresti",143.5,23.54,"A",null,null,null,{"$f":"catp","v":3}]
[1229,"Sava Andrei","Iasi",133.6,23.5,"A",null,null,null,{"$f":"catp","v":3}]
[1674,"Negrea Petrut","Comanesti",81.400000000000006,23.5,"A",null,null,null,{"$f":"catp","v":3}]
[1689,"Staicu Sorin","Dor Marunt",79.8,23.5,"A",null,null,null,{"$f":"catp","v":3}]
[3096,"Perju Cosmin","Constanta",17.7,23.5,"A",null,null,null,{"$f":"catp","v":3}]
[3097,"Mitic Gabriel","Moldova-Singerei",17.7,23.5,"A",null,null,null,{"$f":"catp","v":3}]
[427,"Lucic Corneliu","Suceava",378.8,23.48,"ADW",null,null,null,{"$f":"catp","v":3}]
[1724,"Stancalie Doru","Craiova",76.900000000000006,23.45,"AW",null,null,null,{"$f":"catp","v":3}]
[1870,"Casim Milena","Moldova-Avdarma",65.7,23.45,"AF",null,null,null,{"$f":"catp","v":3}]
[2030,"Munteanu Ion","Comanesti",56.5,23.45,"AW",null,null,null,{"$f":"catp","v":3}]
[2193,"Stoli Nicu","Tulcea",46.9,23.45,"A",null,null,null,{"$f":"catp","v":3}]
[471,"Oprea Bogdan Andrei","Cluj Napoca",359.1,23.44,"A",null,null,null,{"$f":"catp","v":3}]
[444,"Marinescu Nelu","Targoviste",371.9,23.4,"A",null,null,null,{"$f":"catp","v":3}]
[787,"Oancea Vasile","Buzau",232.1,23.4,"A",null,null,null,{"$f":"catp","v":3}]
[1398,"Mironescu Adrian","Botosani",112.6,23.4,"A",null,null,null,{"$f":"catp","v":3}]
[2841,"Dirdala Catalin","Focsani",23.4,23.4,"A",null,null,null,{"$f":"catp","v":3}]
[3103,"Mathe Attila","Bistrita",17.600000000000001,23.4,"A",null,null,null,{"$f":"catp","v":3}]
[3104,"Pal Abel","Sfantu Gheorghe",17.600000000000001,23.4,"A",null,null,null,{"$f":"catp","v":3}]
[3105,"Moreno Valentin","Bucuresti",17.600000000000001,23.4,"A",null,null,null,{"$f":"catp","v":3}]
[3106,"Hegedus Aaron","Brasov",17.600000000000001,23.4,"A",null,null,null,{"$f":"catp","v":3}]
[1145,"Pop Norbert","Cluj Napoca",147.69999999999999,23.38,"A",null,null,null,{"$f":"catp","v":3}]
[1124,"Ionescu Ioana","Bucuresti",152.9,23.35,"ALF",null,null,null,{"$f":"catp","v":3}]
[2197,"Constantin Mihaela","Bucuresti",46.7,23.35,"AF",null,null,null,{"$f":"catp","v":3}]
[355,"Ene Florin","Ploiesti",431.4,23.34,"A",null,null,null,{"$f":"catp","v":3}]
[1910,"Constantin Daniel","Filipestii de Targ",62.7,23.33,"A",null,null,null,{"$f":"catp","v":3}]
[506,"Milos Adrian","Bocsa",338.7,23.3,"A",null,null,null,{"$f":"catp","v":3}]
[884,"Badescu Tudor","Cluj Napoca",205.8,23.3,"A",null,null,null,{"$f":"catp","v":3}]
[1235,"Mihaila Gabriel","Radauti",132.30000000000001,23.3,"A",null,null,null,{"$f":"catp","v":3}]
[2847,"Groza Alexandru","Cisnadie",23.3,23.3,"A",null,null,null,{"$f":"catp","v":3}]
[771,"Ipate Virgil","Bucuresti",236.6,23.24,"A",null,null,null,{"$f":"catp","v":3}]
[405,"Dospinescu George","Sibiu",391.7,23.23,"AW",null,null,null,{"$f":"catp","v":3}]
[370,"Popovici Sandu","Sibiu",414.4,23.2,"A",null,null,null,{"$f":"catp","v":3}]
[2477,"Husar Toader","Sapanta",34.799999999999997,23.2,"A",null,null,null,{"$f":"catp","v":3}]
[3115,"Garabet Dan","Iasi",17.399999999999999,23.2,"A",null,null,null,{"$f":"catp","v":3}]
[677,"Iobagiu Ionut","Bistrita",266.60000000000002,23.16,"A",null,null,null,{"$f":"catp","v":3}]
[1267,"Cioca Raul","Agnita",128.1,23.15,"A",null,null,null,{"$f":"catp","v":3}]
[1874,"Balanescu Boby","Ploiesti",65.099999999999994,23.1,"A",null,null,null,{"$f":"catp","v":3}]
[3116,"Nicolae Ionut","Ploiesti",17.399999999999999,23.1,"A",null,null,null,{"$f":"catp","v":3}]
[874,"Mihut Doru","Dej",208,23.07,"A",null,null,null,{"$f":"catp","v":3}]
[1299,"Tegher Tiberiu","Apahida",123.4,23.05,"A",null,null,null,{"$f":"catp","v":3}]
[2205,"Olaru Aurel","Medias",46.1,23.05,"A",null,null,null,{"$f":"catp","v":3}]
[2233,"Dragut Tudor","Moinesti",44.8,23.05,"AL",null,null,null,{"$f":"catp","v":3}]
[1902,"Calin Cristian","Bucuresti",63.1,23.03,"A",null,null,null,{"$f":"catp","v":3}]
[502,"Sarcani Andrei","Targu Mures",342.5,23,"AW",null,null,null,{"$f":"catp","v":3}]
[2858,"Oliva Ioan David","Bulgaria",23,23,"A",null,null,null,{"$f":"catp","v":3}]
[2859,"Arcusa Dmitrii","Ucraina-Umani",23,23,"A",null,null,null,{"$f":"catp","v":3}]
[3122,"Ciobanu Marius","Iasi",17.3,23,"A",null,null,null,{"$f":"catp","v":3}]
[683,"Cheregi Nelu","Oradea",265,22.96,"A",null,null,null,{"$f":"catp","v":3}]
[645,"Negru Marius","Deva",278.5,22.91,"A",null,null,null,{"$f":"catp","v":3}]
[1435,"Zaharia Puiu","Bucuresti",107.3,22.9,"A",null,null,null,{"$f":"catp","v":3}]
[2860,"Alupoaie Dumitru","Iasi",22.9,22.9,"A",null,null,null,{"$f":"catp","v":3}]
[2861,"Tasedan Adrian","Arad",22.9,22.9,"A",null,null,null,{"$f":"catp","v":3}]
[2862,"Dumitras Cosmin","Barlad",22.9,22.9,"A",null,null,null,{"$f":"catp","v":3}]
[1169,"Bartos Csongor","Miercurea Ciuc",143.1,22.88,"A",null,null,null,{"$f":"catp","v":3}]
[1494,"Hortolomei Andrei","Husi",100.7,22.87,"A",null,null,null,{"$f":"catp","v":3}]
[569,"Buie Laurentiu","Arad",309.60000000000002,22.86,"A",null,null,null,{"$f":"catp","v":3}]
[630,"Serban Liviu","Onesti",287.2,22.84,"A",null,null,null,{"$f":"catp","v":3}]
[1091,"Duca Marius","Sibiu",157.6,22.83,"A",null,null,null,{"$f":"catp","v":3}]
[1908,"Carnu Eugen","Bacau",62.8,22.83,"AW",null,null,null,{"$f":"catp","v":3}]
[1989,"Ilie Florian","Voluntari",58.4,22.83,"A",null,null,null,{"$f":"catp","v":3}]
[1018,"Popescu Sorin","Ploiesti",172.9,22.8,"A",null,null,null,{"$f":"catp","v":3}]
[1884,"Badulescu Rafael","Giurgiu",64.400000000000006,22.8,"A",null,null,null,{"$f":"catp","v":3}]
[2213,"Melintii Victoria","Moldova-Avdarma",45.6,22.8,"A",null,null,null,{"$f":"catp","v":3}]
[891,"Dragotescu Iulian Darius","Deva",204.4,22.79,"A",null,null,null,{"$f":"catp","v":3}]
[1095,"Istrate Ghiorghita","Suceava",157.1,22.77,"A",null,null,null,{"$f":"catp","v":3}]
[1400,"Kreider Helmuth","Germania",112.5,22.77,"A",null,null,null,{"$f":"catp","v":3}]
[404,"Tobosaru Gheorghe","Brasov",391.8,22.74,"AW",null,null,null,{"$f":"catp","v":3}]
[2220,"Chiriac Petru","Roman",45.4,22.7,"A",null,null,null,{"$f":"catp","v":3}]
[2500,"Raicu Nicolae","Tulcea",34.1,22.7,"A",null,null,null,{"$f":"catp","v":3}]
[2022,"Paladuta Victor","Timisoara",57,22.67,"A",null,null,null,{"$f":"catp","v":3}]
[786,"Ianovici Florin","Brasov",232.4,22.66,"AW",null,null,null,{"$f":"catp","v":3}]
[514,"Coclea Ionel","Braila",335.2,22.64,"AW",null,null,null,{"$f":"catp","v":3}]
[1438,"Podar Horatiu","Turda",106.8,22.6,"A",null,null,null,{"$f":"catp","v":3}]
[2875,"Rusti Radu Vasile","Arad",22.6,22.6,"A",null,null,null,{"$f":"catp","v":3}]
[3133,"Chicaros Lilian","Moldova-Briceni",17,22.6,"A",null,null,null,{"$f":"catp","v":3}]
[2226,"Tudorache Constantin","Targoviste",45.1,22.55,"A",null,null,null,{"$f":"catp","v":3}]
[583,"Coltau Aurica","Salonta",305.39999999999998,22.53,"AF",null,null,null,{"$f":"catp","v":3}]
[616,"Sofian Corneliu","Suceava",291.8,22.52,"AW",null,null,null,{"$f":"catp","v":3}]
[1554,"Badea Catalin","Dumbravita",94.1,22.5,"A",null,null,null,{"$f":"catp","v":3}]
[2228,"Popa Alin Andrei","Bacau",45,22.5,"A",null,null,null,{"$f":"catp","v":3}]
[2402,"Ivascu Cosmin","Viseu",37.5,22.5,"A",null,null,null,{"$f":"catp","v":3}]
[2883,"Pascu Marius","Campulung Mold",22.5,22.5,"A",null,null,null,{"$f":"catp","v":3}]
[2884,"Craiovan Victor","Resita",22.5,22.5,"A",null,null,null,{"$f":"catp","v":3}]
[590,"Gipsy King","Hunedoara",301.8,22.49,"AW",null,null,null,{"$f":"catp","v":3}]
[400,"Barabancea Lili","Iasi",393.1,22.48,"AF",null,null,null,{"$f":"catp","v":3}]
[895,"Vancsa Zoltan","Miercurea Ciuc",203.7,22.48,"A",null,null,null,{"$f":"catp","v":3}]
[1788,"Klepp Lucas","Lipova",71.599999999999994,22.47,"A",null,null,null,{"$f":"catp","v":3}]
[673,"Lungu Lucian","Onesti",267.7,22.45,"A",null,null,null,{"$f":"catp","v":3}]
[2232,"Ivanco Arteom","Moldova-Cahul",44.9,22.45,"A",null,null,null,{"$f":"catp","v":3}]
[1300,"Florea Cristian","Constanta",123.3,22.43,"A",null,null,null,{"$f":"catp","v":3}]
[909,"Maximciuc Felix","Baia Mare",199.2,22.42,"A",null,null,null,{"$f":"catp","v":3}]
[1911,"Boian Vlad","Bucuresti",62.7,22.4,"A",null,null,null,{"$f":"catp","v":3}]
[2045,"Casim Alina","Moldova-Avdarma",55.2,22.4,"AF",null,null,null,{"$f":"catp","v":3}]
[3140,"Valache Viorel","Galati",16.8,22.4,"A",null,null,null,{"$f":"catp","v":3}]
[3141,"Fulop Laszlo","Targu Mures",16.8,22.4,"A",null,null,null,{"$f":"catp","v":3}]
[597,"Rusu Anatol","Moldova-Briceni",299.10000000000002,22.39,"A",null,null,null,{"$f":"catp","v":3}]
[1073,"Stoian Sorin","Curtea de Arges",161.4,22.38,"A",null,null,null,{"$f":"catp","v":3}]
[1321,"Milos Cristian","Alexandria",120.6,22.38,"A",null,null,null,{"$f":"catp","v":3}]
[1100,"Ficleanu Gabriel","Giurgiu",156.5,22.36,"AW",null,null,null,{"$f":"catp","v":3}]
[567,"Crisan Cristian","Oradea",311.10000000000002,22.35,"A",null,null,null,{"$f":"catp","v":3}]
[2238,"Pop Ioan","Baia Mare",44.7,22.35,"A",null,null,null,{"$f":"catp","v":3}]
[1759,"Asteleanu Lucian","Cluj Napoca",73.8,22.3,"A",null,null,null,{"$f":"catp","v":3}]
[2893,"Martinas Ioan","Iasi",22.3,22.3,"A",null,null,null,{"$f":"catp","v":3}]
[416,"Vulpescu Radu","Iasi",385.1,22.29,"A",null,null,null,{"$f":"catp","v":3}]
[931,"Terentii Cristian","Bucuresti",193.3,22.26,"A",null,null,null,{"$f":"catp","v":3}]
[799,"Neiconi Sabin","Hateg",227.2,22.25,"AW",null,null,null,{"$f":"catp","v":3}]
[2024,"Moldovan Alin","Bistrita",56.9,22.25,"A",null,null,null,{"$f":"catp","v":3}]
[2359,"Cristea Alexandru Costin","Bucuresti",39.299999999999997,22.25,"A",null,null,null,{"$f":"catp","v":3}]
[624,"Magercu Alexandru","Bucuresti",289.7,22.23,"A",null,null,null,{"$f":"catp","v":3}]
[1681,"Palici Eduard","Cluj Napoca",80.8,22.23,"A",null,null,null,{"$f":"catp","v":3}]
[560,"Munteanu Corneliu","Vaslui",315.39999999999998,22.22,"A",null,null,null,{"$f":"catp","v":3}]
[440,"Bej Sergiu","Arad",372.5,22.21,"A",null,null,null,{"$f":"catp","v":3}]
[957,"Preda Nicolae","Curtea de Arges",186.4,22.2,"AW",null,null,null,{"$f":"catp","v":3}]
[1283,"Mihaila Robert","Breaza",125.6,22.2,"A",null,null,null,{"$f":"catp","v":3}]
[2895,"Greonjanc Marinel","Vlajkovac",22.2,22.2,"A",null,null,null,{"$f":"catp","v":3}]
[2896,"Tulpan George Laurentiu","Targu Jiu",22.2,22.2,"A",null,null,null,{"$f":"catp","v":3}]
[2897,"Silobad Marko","Belgrad",22.2,22.2,"A",null,null,null,{"$f":"catp","v":3}]
[2898,"Bakos Miklos","Zrenjanin",22.2,22.2,"A",null,null,null,{"$f":"catp","v":3}]
[2899,"Zlatic Sinisa","Belgrad",22.2,22.2,"A",null,null,null,{"$f":"catp","v":3}]
[797,"Bujoreanu Neculai","Falticeni",227.9,22.17,"AW",null,null,null,{"$f":"catp","v":3}]
[1545,"Bolboaca Flaviu","Cluj Napoca",95.2,22.15,"A",null,null,null,{"$f":"catp","v":3}]
[1720,"Mihai Markus","Deva",77.099999999999994,22.13,"A",null,null,null,{"$f":"catp","v":3}]
[2009,"Biber Adrian","Iasi",57.5,22.1,"A",null,null,null,{"$f":"catp","v":3}]
[2249,"Simon Gheorghe","Roman",44.2,22.1,"A",null,null,null,{"$f":"catp","v":3}]
[2903,"Cramba Cristinel","Iasi",22.1,22.1,"A",null,null,null,{"$f":"catp","v":3}]
[3155,"Stan Constantin","Caragiale DB",16.600000000000001,22.1,"A",null,null,null,{"$f":"catp","v":3}]
[555,"Aron Valentin","Fenes",317.39999999999998,22.09,"A",null,null,null,{"$f":"catp","v":3}]
[1350,"Szekely Zoltan","Gheorgheni",117.5,22.05,"A",null,null,null,{"$f":"catp","v":3}]
[2254,"Simionese Ovidiu","Granicesti",44.1,22.05,"A",null,null,null,{"$f":"catp","v":3}]
[1715,"Balauca Daniel","Constanta",77.7,22,"A",null,null,null,{"$f":"catp","v":3}]
[1800,"Barbu Dan","Cluj Napoca",70.7,22,"AW",null,null,null,{"$f":"catp","v":3}]
[2383,"Bodnari Nicolai","Moldova-Balti",38.200000000000003,22,"A",null,null,null,{"$f":"catp","v":3}]
[2909,"Masgras Iulian","Tecuci",22,22,"A",null,null,null,{"$f":"catp","v":3}]
[3160,"Truica Robert","Sibiu",16.5,22,"A",null,null,null,{"$f":"catp","v":3}]
[2050,"Gora Madalin","Radauti",54.9,21.9,"A",null,null,null,{"$f":"catp","v":3}]
[3161,"Jaouir Khaled","Bucuresti",16.5,21.9,"AW",null,null,null,{"$f":"catp","v":3}]
[752,"Buliga Cornel","Galati",242.6,21.88,"A",null,null,null,{"$f":"catp","v":3}]
[941,"Bendris Nicu","Targu Mures",191.2,21.88,"A",null,null,null,{"$f":"catp","v":3}]
[1662,"Popa Mircea","Brasov",82.1,21.83,"AW",null,null,null,{"$f":"catp","v":3}]
[972,"Cristoiu Cozmin","Bucuresti",183,21.8,"A",null,null,null,{"$f":"catp","v":3}]
[1766,"Novitchi Daniel","Moldova-Cahul",73.2,21.8,"A",null,null,null,{"$f":"catp","v":3}]
[1731,"Virlan Liviu","Timisoara",76.400000000000006,21.77,"A",null,null,null,{"$f":"catp","v":3}]
[749,"Terente Catalin","Piatra Neamt",243.3,21.74,"AW",null,null,null,{"$f":"catp","v":3}]
[1218,"David Marian","Braila",136.1,21.73,"A",null,null,null,{"$f":"catp","v":3}]
[1740,"Effler Stefan","Arad",75.8,21.7,"A",null,null,null,{"$f":"catp","v":3}]
[2430,"Matei Razvan","Bucuresti",36.5,21.7,"AW",null,null,null,{"$f":"catp","v":3}]
[3167,"Budes Alin","Timisoara",16.3,21.7,"A",null,null,null,{"$f":"catp","v":3}]
[3168,"Dunavat Radu","Bucuresti",16.3,21.7,"A",null,null,null,{"$f":"catp","v":3}]
[1948,"Portase Daria","Galati",60.4,21.67,"AF",null,null,null,{"$f":"catp","v":3}]
[1615,"Belgun Ionut","Timisoara",87.3,21.65,"A",null,null,null,{"$f":"catp","v":3}]
[397,"Orban Mark","Sovata",393.9,21.61,"A",null,null,null,{"$f":"catp","v":3}]
[1527,"Balasoiu Liviu","Novaci",96.4,21.6,"A",null,null,null,{"$f":"catp","v":3}]
[2269,"Arnaut Alexandr","Moldova-Avdarma",43.2,21.6,"A",null,null,null,{"$f":"catp","v":3}]
[2427,"Chirita Nicolae","Curtea de Arges",36.6,21.6,"A",null,null,null,{"$f":"catp","v":3}]
[1107,"Balasa Andrei","Bucuresti",156.1,21.52,"A",null,null,null,{"$f":"catp","v":3}]
[1491,"Muresan Carmen","Zalau",101,21.5,"AF",null,null,null,{"$f":"catp","v":3}]
[2262,"Popute Remus","Oradea",43.5,21.5,"AW",null,null,null,{"$f":"catp","v":3}]
[2552,"Zedler Csaba","Agnita",32.299999999999997,21.5,"AW",null,null,null,{"$f":"catp","v":3}]
[2924,"Sexton Antonio Sorin","Kentucky USA",21.5,21.5,"A",null,null,null,{"$f":"catp","v":3}]
[3173,"Parcalab Mihai","Bistrita",16.2,21.5,"AW",null,null,null,{"$f":"catp","v":3}]
[3174,"Orban Alin","Siret",16.2,21.5,"A",null,null,null,{"$f":"catp","v":3}]
[3175,"Roye Itzik","Israel",16.2,21.5,"A",null,null,null,{"$f":"catp","v":3}]
[3176,"Yarden Shacham","Israel",16.2,21.5,"A",null,null,null,{"$f":"catp","v":3}]
[1406,"Ion Catalin","Alexandria",111,21.48,"A",null,null,null,{"$f":"catp","v":3}]
[913,"Lupu Mihai","Bucuresti",198.4,21.47,"AW",null,null,null,{"$f":"catp","v":3}]
[2002,"Moraru Dumitru","Moldova-Cahul",57.9,21.45,"A",null,null,null,{"$f":"catp","v":3}]
[2362,"Glavan Niculae","Constanta",39.200000000000003,21.45,"AW",null,null,null,{"$f":"catp","v":3}]
[2413,"Ionel Ovidiu","Bistrita",37.1,21.45,"A",null,null,null,{"$f":"catp","v":3}]
[407,"Damian Gelu","Comanesti",391.4,21.43,"A",null,null,null,{"$f":"catp","v":3}]
[1470,"Preda Mark","Slatina",103.5,21.43,"A",null,null,null,{"$f":"catp","v":3}]
[955,"Vescan Adrian","Cluj Napoca",187,21.4,"A",null,null,null,{"$f":"catp","v":3}]
[2431,"Miron Liviu","Campina",36.4,21.4,"AW",null,null,null,{"$f":"catp","v":3}]
[500,"Petrut Patrick","Aiud",345.1,21.39,"A",null,null,null,{"$f":"catp","v":3}]
[1376,"Haran Alexandru","Sibiu",115.3,21.3,"A",null,null,null,{"$f":"catp","v":3}]
[2933,"Stancu Andrea","Buzau",21.3,21.3,"AF",null,null,null,{"$f":"catp","v":3}]
[1747,"Purcarea Radu","Constanta",75.5,21.23,"A",null,null,null,{"$f":"catp","v":3}]
[753,"Moldovan Flavia","Tarnaveni",241.7,21.21,"AF",null,null,null,{"$f":"catp","v":3}]
[1118,"Petrariu Sorin","Brasov",154.6,21.2,"A",null,null,null,{"$f":"catp","v":3}]
[1399,"Ariciu George","Cocorastii Mislii",112.6,21.2,"A",null,null,null,{"$f":"catp","v":3}]
[2439,"Mocanu Adrian","Targoviste",36.200000000000003,21.2,"A",null,null,null,{"$f":"catp","v":3}]
[2440,"Ivascu Gavrila","Viseu",36.200000000000003,21.2,"A",null,null,null,{"$f":"catp","v":3}]
[2935,"Filip Ioan","Sighetu Marmatiei",21.2,21.2,"A",null,null,null,{"$f":"catp","v":3}]
[2936,"Mirisan Dorin","Baia Mare",21.2,21.2,"A",null,null,null,{"$f":"catp","v":3}]
[3188,"Moanta Andrei","Bucuresti",15.9,21.2,"A",null,null,null,{"$f":"catp","v":3}]
[588,"Moca Alexandru","Ludus",302.5,21.18,"A",null,null,null,{"$f":"catp","v":3}]
[459,"Dina Alexandru","Bucuresti",363.4,21.17,"A",null,null,null,{"$f":"catp","v":3}]
[516,"Palaghianu David","Salcea",334.9,21.17,"A",null,null,null,{"$f":"catp","v":3}]
[1086,"Urcan Lucian","Timisoara",158.69999999999999,21.16,"A",null,null,null,{"$f":"catp","v":3}]
[637,"Orban Levente","Sovata",283.8,21.13,"A",null,null,null,{"$f":"catp","v":3}]
[965,"Galanton Yanis","Suceava",184.9,21.13,"A",null,null,null,{"$f":"catp","v":3}]
[2290,"Tianu Gabriel","Bucuresti",42.2,21.1,"A",null,null,null,{"$f":"catp","v":3}]
[2096,"Ispas Victor","Turnu Magurele",51.8,21.05,"AW",null,null,null,{"$f":"catp","v":3}]
[619,"Marin Catalin","Fenes",290.89999999999998,21.03,"A",null,null,null,{"$f":"catp","v":3}]
[2421,"Gasca Toader","Hunedoara",36.799999999999997,21,"AW",null,null,null,{"$f":"catp","v":3}]
[438,"Volanin Rares","Sibiu",373.5,20.99,"A",null,null,null,{"$f":"catp","v":3}]
[1501,"Stanciu Olimpiu","Chitila",99.7,20.98,"A",null,null,null,{"$f":"catp","v":3}]
[1997,"Rusanovschi Andrei","Moldova-Edinet",58.1,20.97,"A",null,null,null,{"$f":"catp","v":3}]
[1947,"Vlaicu Daniel","Marghita",60.6,20.95,"A",null,null,null,{"$f":"catp","v":3}]
[2575,"Sandu Ionut","Moinesti",31.5,20.95,"A",null,null,null,{"$f":"catp","v":3}]
[1286,"Daineanu Paul","Constanta",125.1,20.94,"A",null,null,null,{"$f":"catp","v":3}]
[2945,"Pop Cornel","Zalau",20.9,20.9,"A",null,null,null,{"$f":"catp","v":3}]
[2425,"Manu Flaviu","Ploiesti",36.700000000000003,20.85,"A",null,null,null,{"$f":"catp","v":3}]
[1356,"Vasilescu Florin","Ploiesti",116.8,20.83,"A",null,null,null,{"$f":"catp","v":3}]
[1531,"Sabau Aurel","Tarnaveni",96.1,20.83,"AW",null,null,null,{"$f":"catp","v":3}]
[2949,"Sivu Leonard","Bucuresti",20.8,20.8,"A",null,null,null,{"$f":"catp","v":3}]
[2950,"Cir Florin","Razboieni",20.8,20.8,"A",null,null,null,{"$f":"catp","v":3}]
[2951,"Cardas Andrei","Dumbravita",20.8,20.8,"A",null,null,null,{"$f":"catp","v":3}]
[748,"Catana Gabriel","Bucuresti",243.6,20.77,"A",null,null,null,{"$f":"catp","v":3}]
[2450,"Onofrei Andrei","Medgidia",35.799999999999997,20.7,"A",null,null,null,{"$f":"catp","v":3}]
[2957,"Csiki Sandor","Cluj Napoca",20.7,20.7,"AW",null,null,null,{"$f":"catp","v":3}]
[2958,"Ionita Dragos Iulian","Piatra Neamt",20.7,20.7,"A",null,null,null,{"$f":"catp","v":3}]
[2959,"Arcusa Aliona","Ucraina-Umani",20.7,20.7,"AF",null,null,null,{"$f":"catp","v":3}]
[2960,"Rotari Mihai","Moldova-Chisinau",20.7,20.7,"A",null,null,null,{"$f":"catp","v":3}]
[3204,"Parpauta Gabriel","Iasi",15.6,20.7,"A",null,null,null,{"$f":"catp","v":3}]
[464,"Ciubotaru Leonas","Iasi",361.7,20.67,"A",null,null,null,{"$f":"catp","v":3}]
[652,"Moroldi Gabriel","Targu Mures",275.5,20.67,"A",null,null,null,{"$f":"catp","v":3}]
[613,"Pacurar Teodor","Gherla",294,20.66,"A",null,null,null,{"$f":"catp","v":3}]
[566,"Ionescu Cristian","Ulmi",311.2,20.64,"A",null,null,null,{"$f":"catp","v":3}]
[612,"Cernat Cristian","Iasi",294.2,20.64,"A",null,null,null,{"$f":"catp","v":3}]
[1608,"Babos Ioan","Sarmasag",88.2,20.6,"A",null,null,null,{"$f":"catp","v":3}]
[1796,"Stoica Florin","Bucuresti",71.099999999999994,20.6,"A",null,null,null,{"$f":"catp","v":3}]
[1861,"Szilagyi Attila","Targu Mures",66,20.6,"A",null,null,null,{"$f":"catp","v":3}]
[2315,"Calin Alexandru","Focsani",41.2,20.6,"A",null,null,null,{"$f":"catp","v":3}]
[3209,"Grigorean Costel","Marginea",15.5,20.6,"A",null,null,null,{"$f":"catp","v":3}]
[3210,"Busuioc Stelian","Bucuresti",15.5,20.6,"A",null,null,null,{"$f":"catp","v":3}]
[1496,"Marin Alexandru","Bucuresti",100.4,20.55,"A",null,null,null,{"$f":"catp","v":3}]
[2161,"Rognean Rafael Alex","Oravita",48.6,20.55,"A",null,null,null,{"$f":"catp","v":3}]
[1387,"Bucurenciu Mihai","Fagaras",114.2,20.5,"A",null,null,null,{"$f":"catp","v":3}]
[2437,"Fecioru Alexandru","Salcea",36.299999999999997,20.5,"A",null,null,null,{"$f":"catp","v":3}]
[2967,"Hodis Andrei","Gherla",20.5,20.5,"A",null,null,null,{"$f":"catp","v":3}]
[2968,"Slavov Vitali","Moldova-Taraclia",20.5,20.5,"A",null,null,null,{"$f":"catp","v":3}]
[2969,"Paskals Ivans","Moldova-Cahul",20.5,20.5,"A",null,null,null,{"$f":"catp","v":3}]
[2016,"Ursescu Iuliu","Radauti",57.2,20.47,"AW",null,null,null,{"$f":"catp","v":3}]
[1534,"Chiron Adrian","Bucuresti",96,20.45,"A",null,null,null,{"$f":"catp","v":3}]
[2271,"Hidi Zoltan","Oradea",43.1,20.45,"A",null,null,null,{"$f":"catp","v":3}]
[2309,"Dilan Pavel","Iasi",41.5,20.45,"A",null,null,null,{"$f":"catp","v":3}]
[1157,"Caraus Sorin","Deva",145.19999999999999,20.399999999999999,"A",null,null,null,{"$f":"catp","v":3}]
[1422,"Suciu Iacob","Blaj",108.9,20.399999999999999,"A",null,null,null,{"$f":"catp","v":3}]
[2012,"Salavastru Petru","Botosani",57.4,20.399999999999999,"AW",null,null,null,{"$f":"catp","v":3}]
[2461,"Constantinovici Ciprian","Liteni",35.4,20.399999999999999,"A",null,null,null,{"$f":"catp","v":3}]
[2971,"Guzgan Valentin","Barlad",20.399999999999999,20.399999999999999,"A",null,null,null,{"$f":"catp","v":3}]
[1497,"Bucovszki Alexandru","Sighetu Marmatiei",100,20.38,"A",null,null,null,{"$f":"catp","v":3}]
[1589,"Dior Dorin","Bucuresti",90.1,20.38,"A",null,null,null,{"$f":"catp","v":3}]
[2124,"Maftei Robert","Brasov",50.6,20.37,"A",null,null,null,{"$f":"catp","v":3}]
[1173,"Toma Dan","Sfantu Gheorghe",142.80000000000001,20.329999999999998,"A",null,null,null,{"$f":"catp","v":3}]
[1528,"Tatar Iosua","Jimbolia",96.4,20.329999999999998,"A",null,null,null,{"$f":"catp","v":3}]
[1633,"Marin Robert","Pitesti",85.1,20.329999999999998,"A",null,null,null,{"$f":"catp","v":3}]
[1144,"Ispas Emil","Alba Iulia",148.6,20.3,"A",null,null,null,{"$f":"catp","v":3}]
[2027,"Teaca Vladimir","Moldova-Balti",56.8,20.3,"A",null,null,null,{"$f":"catp","v":3}]
[2496,"Covaci Vasile","Sighisoara",34.200000000000003,20.3,"A",null,null,null,{"$f":"catp","v":3}]
[885,"Cojocaru Ion","Ploiesti",205.6,20.29,"A",null,null,null,{"$f":"catp","v":3}]
[1134,"Vieriu Mirel","Focsani",150.1,20.28,"A",null,null,null,{"$f":"catp","v":3}]
[2333,"Oravecz Csaba","Tomesti",40.5,20.25,"A",null,null,null,{"$f":"catp","v":3}]
[507,"Joldes Adrian","Bistrita",337.8,20.239999999999998,"AW",null,null,null,{"$f":"catp","v":3}]
[1080,"Vasi Daniel","Arad",160.30000000000001,20.22,"A",null,null,null,{"$f":"catp","v":3}]
[2977,"Solcan Florin","Constanta",20.2,20.2,"AW",null,null,null,{"$f":"catp","v":3}]
[2978,"Lepadatu Gheorghe","Priboieni",20.2,20.2,"A",null,null,null,{"$f":"catp","v":3}]
[3223,"Stiuca Sorin","Arad",15.2,20.2,"A",null,null,null,{"$f":"catp","v":3}]
[2044,"Bodea Vasile","Panciu",55.3,20.149999999999999,"AW",null,null,null,{"$f":"catp","v":3}]
[1688,"Gheorghies Ovidiu","Iasi",79.900000000000006,20.100000000000001,"A",null,null,null,{"$f":"catp","v":3}]
[2985,"Catana Vlad","Targu Mures",20.100000000000001,20.100000000000001,"A",null,null,null,{"$f":"catp","v":3}]
[1863,"Irimia Sorin","Moinesti",65.900000000000006,20.07,"A",null,null,null,{"$f":"catp","v":3}]
[505,"Ileanu Bogdan","Targu Jiu",340,20.04,"A",null,null,null,{"$f":"catp","v":3}]
[468,"Lungu Mihai","Targoviste",360.6,20.010000000000002,"AW",null,null,null,{"$f":"catp","v":3}]
[526,"Dan Radu","Zalau",331.4,20.010000000000002,"A",null,null,null,{"$f":"catp","v":3}]
[695,"Hanu Viorel","Moreni",261.8,20.010000000000002,"A",null,null,null,{"$f":"catp","v":3}]
[2987,"Putnik Tiberiu","Varset",20,20,"A",null,null,null,{"$f":"catp","v":3}]
[2988,"Christova Raia","Bulgaria",20,20,"AF",null,null,null,{"$f":"catp","v":3}]
[2989,"Gradescov Piotr","Moldova-Taraclia",20,20,"A",null,null,null,{"$f":"catp","v":3}]
[2990,"Pislari Ion","Moldova-Taraclia",20,20,"A",null,null,null,{"$f":"catp","v":3}]
[2991,"Chiose Vladimir","Moldova-Taraclia",20,20,"A",null,null,null,{"$f":"catp","v":3}]
[720,"Tedi Ioja","Calan",253.5,19.98,"A",null,null,null,{"$f":"catp","v":3}]
[1440,"Rastoaca Victor","Bucuresti",106.6,19.98,"A",null,null,null,{"$f":"catp","v":3}]
[2068,"Titirig Corneliu","Gura Humorului",53.8,19.95,"A",null,null,null,{"$f":"catp","v":3}]
[1575,"Toader Daniel Mihai","Alba Iulia",92.2,19.93,"A",null,null,null,{"$f":"catp","v":3}]
[2505,"Monu Claudiu","Tarnaveni",33.9,19.899999999999999,"A",null,null,null,{"$f":"catp","v":3}]
[458,"Dinu Adrian","Darmanesti",364.1,19.89,"A",null,null,null,{"$f":"catp","v":3}]
[649,"Boros Mihaly","Crasna",276.7,19.88,"A",null,null,null,{"$f":"catp","v":3}]
[470,"Dobinda Alexandru","Arad",359.3,19.829999999999998,"AW",null,null,null,{"$f":"catp","v":3}]
[484,"Popa Robert","Targoviste",352,19.829999999999998,"A",null,null,null,{"$f":"catp","v":3}]
[2164,"Contiu Mircea","Brasov",48.4,19.829999999999998,"A",null,null,null,{"$f":"catp","v":3}]
[1149,"Mavrodin Cristian","Oltenita",146.9,19.82,"A",null,null,null,{"$f":"catp","v":3}]
[708,"Gherghel Petru","Gheraesti",256.2,19.809999999999999,"A",null,null,null,{"$f":"catp","v":3}]
[553,"Botea Mihai","Braila",318.2,19.8,"A",null,null,null,{"$f":"catp","v":3}]
[2501,"Olaru Costin","Bucuresti",34.1,19.8,"A",null,null,null,{"$f":"catp","v":3}]
[782,"Vasiliu Alin","Panciu",233.1,19.77,"A",null,null,null,{"$f":"catp","v":3}]
[1469,"Moisuc Alexandru","Radauti",103.8,19.75,"A",null,null,null,{"$f":"catp","v":3}]
[1548,"Csurulya Gyula","Miercurea Ciuc",94.8,19.75,"A",null,null,null,{"$f":"catp","v":3}]
[2119,"Sturz Daniel","Resita",50.9,19.75,"A",null,null,null,{"$f":"catp","v":3}]
[921,"Badiu Gavril","Rasca",195.6,19.739999999999998,"A",null,null,null,{"$f":"catp","v":3}]
[715,"Pasca Lucian","Targu Mures",254.8,19.7,"A",null,null,null,{"$f":"catp","v":3}]
[3001,"Chiscan Bogdan","Arad",19.7,19.7,"A",null,null,null,{"$f":"catp","v":3}]
[1833,"Topciu David","Targu Mures",68.099999999999994,19.670000000000002,"A",null,null,null,{"$f":"catp","v":3}]
[963,"Marchitan Marius","Brasov",185.4,19.649999999999999,"A",null,null,null,{"$f":"catp","v":3}]
[916,"Gisca Catalin","Bucuresti",197.3,19.64,"A",null,null,null,{"$f":"catp","v":3}]
[805,"Birtalan Casian","Dumbraveni SB",225.7,19.63,"AJ",null,null,null,{"$f":"catp","v":3}]
[1386,"Gal Farkas Arpad","Miercurea Ciuc",114.5,19.63,"A",null,null,null,{"$f":"catp","v":3}]
[2147,"Calin Anisoara","Bucuresti",49.4,19.63,"AF",null,null,null,{"$f":"catp","v":3}]
[714,"Ungureanu Gheorghita","Focsani",255,19.61,"A",null,null,null,{"$f":"catp","v":3}]
[1809,"Cranta Gabriel","Bucuresti",69.900000000000006,19.600000000000001,"A",null,null,null,{"$f":"catp","v":3}]
[2054,"Tertea Andrei","Moldova-Balti",54.7,19.600000000000001,"A",null,null,null,{"$f":"catp","v":3}]
[492,"Pascalau Cristian","Huedin",348.7,19.579999999999998,"A",null,null,null,{"$f":"catp","v":3}]
[1102,"Szivery Adrian","Arad",156.4,19.579999999999998,"A",null,null,null,{"$f":"catp","v":3}]
[1421,"Cornea Marian","Constanta",109,19.579999999999998,"A",null,null,null,{"$f":"catp","v":3}]
[1678,"Korodi Csaba","Aita Mare",81,19.53,"A",null,null,null,{"$f":"catp","v":3}]
[1137,"Vintila George Daniel","Braila",149.80000000000001,19.5,"A",null,null,null,{"$f":"catp","v":3}]
[1307,"Rusu Tudor","Suceava",122.9,19.5,"A",null,null,null,{"$f":"catp","v":3}]
[1845,"Nica Alexandru","Iasi",67.5,19.5,"A",null,null,null,{"$f":"catp","v":3}]
[3272,"Dumitru Ioan","Bistrita",14.7,19.5,"A",null,null,null,{"$f":"catp","v":3}]
[3273,"Serban Mircea","Brasov",14.7,19.5,"AW",null,null,null,{"$f":"catp","v":3}]
[3274,"Mitic Alexandru","Moldova-Singerei",14.7,19.5,"A",null,null,null,{"$f":"catp","v":3}]
[3275,"Mentel Nicole","Constanta",14.7,19.5,"AF",null,null,null,{"$f":"catp","v":3}]
[3276,"Baburea Alexandru Ionut","Alexandria",14.7,19.5,"A",null,null,null,{"$f":"catp","v":3}]
[485,"Toader Ovidiu","Balan",351.4,19.489999999999998,"A",null,null,null,{"$f":"catp","v":3}]
[722,"Lupu Cristian","Botosani",253.4,19.47,"A",null,null,null,{"$f":"catp","v":3}]
[2534,"Tanasov Marius","Tulcea",33,19.45,"A",null,null,null,{"$f":"catp","v":3}]
[1146,"Talmaciu Florin","Sibiu",147.6,19.440000000000001,"A",null,null,null,{"$f":"catp","v":3}]
[1450,"Usatenco Lev","Ucraina",105.8,19.399999999999999,"A",null,null,null,{"$f":"catp","v":3}]
[2138,"Pascaru Tudor Andrei","Iasi",49.8,19.399999999999999,"A",null,null,null,{"$f":"catp","v":3}]
[2373,"Pavlov Valentin","Moldova-Cahul",38.799999999999997,19.399999999999999,"A",null,null,null,{"$f":"catp","v":3}]
[719,"Chifor Vlad","Targu Mures",253.8,19.38,"A",null,null,null,{"$f":"catp","v":3}]
[1308,"Busuioc Andrei","Panciu",122.8,19.34,"A",null,null,null,{"$f":"catp","v":3}]
[2376,"Duca George","Curtea de Arges",38.6,19.3,"A",null,null,null,{"$f":"catp","v":3}]
[3012,"Macovei Cristi","Iasi",19.3,19.3,"A",null,null,null,{"$f":"catp","v":3}]
[3284,"Scraba Marius","Alexandria",14.5,19.3,"A",null,null,null,{"$f":"catp","v":3}]
[889,"Popoi Ionut","Moinesti",204.5,19.260000000000002,"A",null,null,null,{"$f":"catp","v":3}]
[501,"Cumpaniciu Alin","Barlad",342.9,19.25,"A",null,null,null,{"$f":"catp","v":3}]
[2199,"Boruga Alex","Drobeta Tr Severin",46.6,19.25,"A",null,null,null,{"$f":"catp","v":3}]
[1610,"Lungu Marius","Oravita",87.7,19.23,"A",null,null,null,{"$f":"catp","v":3}]
[1700,"Mocanu Lucian","Roman",78.7,19.23,"A",null,null,null,{"$f":"catp","v":3}]
[2093,"Banea Radu","Sibiu",52.1,19.23,"A",null,null,null,{"$f":"catp","v":3}]
[499,"Muntean Atila","Hunedoara",346.1,19.22,"A",null,null,null,{"$f":"catp","v":3}]
[479,"Balaban Daniel","Bucuresti",354.6,19.21,"A",null,null,null,{"$f":"catp","v":3}]
[846,"Radu Ciprian","Brasov",214.9,19.21,"A",null,null,null,{"$f":"catp","v":3}]
[595,"Gherman Vlad","Timisoara",299.8,19.2,"A",null,null,null,{"$f":"catp","v":3}]
[2223,"Campian Zoltan","Toplita",45.3,19.2,"A",null,null,null,{"$f":"catp","v":3}]
[2352,"Pauna Bogdan","Craiova",39.6,19.2,"A",null,null,null,{"$f":"catp","v":3}]
[2380,"Zalar Marian","Tarnaveni",38.4,19.2,"A",null,null,null,{"$f":"catp","v":3}]
[675,"Vidrut Ioan","Apahida",267.10000000000002,19.170000000000002,"A",null,null,null,{"$f":"catp","v":3}]
[2069,"Vlad Florin","Arad",53.8,19.170000000000002,"AW",null,null,null,{"$f":"catp","v":3}]
[2083,"Kis Valentin","Cluj Napoca",52.9,19.170000000000002,"A",null,null,null,{"$f":"catp","v":3}]
[587,"Rakosi Istvan","Zalau",303,19.14,"A",null,null,null,{"$f":"catp","v":3}]
[508,"Fusca Georgian","Targoviste",337.1,19.100000000000001,"A",null,null,null,{"$f":"catp","v":3}]
[3020,"Stoean Mircea","Bacau",19.100000000000001,19.100000000000001,"A",null,null,null,{"$f":"catp","v":3}]
[3021,"Bujor Laurentiu","Bacau",19.100000000000001,19.100000000000001,"A",null,null,null,{"$f":"catp","v":3}]
[496,"Seniuc Radu","Arad",347.1,19.079999999999998,"A",null,null,null,{"$f":"catp","v":3}]
[973,"Serbanovici Milen","Braila",182.6,19.079999999999998,"A",null,null,null,{"$f":"catp","v":3}]
[1207,"Maresi Cristian","Targu Jiu",138.9,19.079999999999998,"A",null,null,null,{"$f":"catp","v":3}]
[1567,"Busnatu Radu Andrei","Bucuresti",92.8,19.079999999999998,"A",null,null,null,{"$f":"catp","v":3}]
[636,"Pirvanescu Daniel","Bucuresti",284.39999999999998,19.07,"A",null,null,null,{"$f":"catp","v":3}]
[1727,"Keresztes Attila","Micfalau",76.7,19.05,"A",null,null,null,{"$f":"catp","v":3}]
[2388,"Toma Viorel","Giurgiu",38.1,19.05,"A",null,null,null,{"$f":"catp","v":3}]
[996,"Andrei Gheorghe","Petrosani",177.5,19.03,"AW",null,null,null,{"$f":"catp","v":3}]
[1607,"Bucur Alin Adrian","Targu Mures",88.3,19.03,"A",null,null,null,{"$f":"catp","v":3}]
[3028,"Cozma Ion","Moldova-Comrat",19,19,"A",null,null,null,{"$f":"catp","v":3}]
[1212,"Calasnicov Stanislav","Moldova-Cahul",137.69999999999999,18.97,"A",null,null,null,{"$f":"catp","v":3}]
[2202,"Chirca Alexandru","Mioveni",46.5,18.97,"A",null,null,null,{"$f":"catp","v":3}]
[781,"Mosneagu Maia","Falticeni",233.2,18.95,"AF",null,null,null,{"$f":"catp","v":3}]
[503,"Stinga Ovidiu","Tecuci",341,18.940000000000001,"A",null,null,null,{"$f":"catp","v":3}]
[1005,"Paul Alin Sabin","Sandra",175.1,18.93,"A",null,null,null,{"$f":"catp","v":3}]
[1363,"Ungureanu Petrica","Pascani",116.2,18.899999999999999,"A",null,null,null,{"$f":"catp","v":3}]
[2396,"Calinicenco Denis","Moldova-Basarabeasca",37.799999999999997,18.899999999999999,"A",null,null,null,{"$f":"catp","v":3}]
[2506,"Sandu Nicolae","Videle",33.9,18.899999999999999,"A",null,null,null,{"$f":"catp","v":3}]
[1196,"Bode Emil","Valcau",140.1,18.850000000000001,"A",null,null,null,{"$f":"catp","v":3}]
[1055,"Galca Cristian","Iasi",164.5,18.84,"A",null,null,null,{"$f":"catp","v":3}]
[618,"Lajos Mozes","Odorheiu Secuiesc",291.39999999999998,18.829999999999998,"AW",null,null,null,{"$f":"catp","v":3}]
[2200,"Tala Medard","Micfalau",46.6,18.829999999999998,"A",null,null,null,{"$f":"catp","v":3}]
[480,"Tofeni Florin","Nasaud",353.1,18.82,"A",null,null,null,{"$f":"catp","v":3}]
[1210,"Radovan Radu","Sannicolau Mare",138.19999999999999,18.8,"A",null,null,null,{"$f":"catp","v":3}]
[2502,"Sultan Valentin","Craiova",34,18.8,"A",null,null,null,{"$f":"catp","v":3}]
[3039,"Vasiljevic Jakov","Zajecar Serbia",18.8,18.8,"A",null,null,null,{"$f":"catp","v":3}]
[519,"Ionita Alexandru","Ploiesti",333.9,18.77,"A",null,null,null,{"$f":"catp","v":3}]
[628,"Diaconescu Cristian","Floresti",287.8,18.72,"A",null,null,null,{"$f":"catp","v":3}]
[1487,"Oniga Paul","Blaj",101.5,18.7,"A",null,null,null,{"$f":"catp","v":3}]
[3045,"Goretchi Claudiu","Bucuresti",18.7,18.7,"A",null,null,null,{"$f":"catp","v":3}]
[3046,"Cadar Ioan","Cluj Napoca",18.7,18.7,"AW",null,null,null,{"$f":"catp","v":3}]
[1262,"Andrei Ionut","Pitesti",129.30000000000001,18.68,"A",null,null,null,{"$f":"catp","v":3}]
[1322,"Alexanovici Bogdan","Brasov",120.5,18.68,"A",null,null,null,{"$f":"catp","v":3}]
[790,"Socaci Silviu","Lugoj",231.1,18.66,"A",null,null,null,{"$f":"catp","v":3}]
[750,"Toma Casian","Targu Mures",243.3,18.649999999999999,"A",null,null,null,{"$f":"catp","v":3}]
[2092,"Bradu Dan","Iasi",52.3,18.649999999999999,"A",null,null,null,{"$f":"catp","v":3}]
[701,"Angi Zoltan","Gheorgheni",258.89999999999998,18.63,"A",null,null,null,{"$f":"catp","v":3}]
[1043,"Neculaes Francisc","Halaucesti",167.9,18.63,"A",null,null,null,{"$f":"catp","v":3}]
[893,"Giuseppe Brancati","Bucuresti",203.8,18.600000000000001,"A",null,null,null,{"$f":"catp","v":3}]
[2034,"Tudose Iulian","Galati",55.8,18.600000000000001,"A",null,null,null,{"$f":"catp","v":3}]
[2557,"Sutoris Cornel","Medias",32.200000000000003,18.600000000000001,"AW",null,null,null,{"$f":"catp","v":3}]
[3055,"Balasa Nicolae","Spania",18.600000000000001,18.600000000000001,"A",null,null,null,{"$f":"catp","v":3}]
[3056,"Iordanov Ivailo","Bulgaria",18.600000000000001,18.600000000000001,"A",null,null,null,{"$f":"catp","v":3}]
[1619,"Dumbrava Gabriel","Bucuresti",86.6,18.579999999999998,"A",null,null,null,{"$f":"catp","v":3}]
[2120,"Draghia Ionel Eugen","Drobeta Tr Severin",50.9,18.57,"A",null,null,null,{"$f":"catp","v":3}]
[515,"Botas Constantin","Sannicolau Mare",335.2,18.559999999999999,"A",null,null,null,{"$f":"catp","v":3}]
[1153,"Pop Dan","Targu Mures",145.9,18.55,"A",null,null,null,{"$f":"catp","v":3}]
[2051,"Galfi Levente","Cluj Napoca",54.8,18.53,"AW",null,null,null,{"$f":"catp","v":3}]
[1637,"Saloman David","Pitesti",84.8,18.5,"A",null,null,null,{"$f":"catp","v":3}]
[2416,"Baciu Adrian","Pascani",37,18.5,"A",null,null,null,{"$f":"catp","v":3}]
[2417,"Balcu Laurentiu","Bocsa",37,18.5,"A",null,null,null,{"$f":"catp","v":3}]
[2523,"Schimbeschi Marian","Tulcea",33.299999999999997,18.5,"A",null,null,null,{"$f":"catp","v":3}]
[3315,"Sandu Adrian","Sfantu Gheorghe",13.9,18.5,"A",null,null,null,{"$f":"catp","v":3}]
[564,"Rus Teofil","Jibou",312,18.46,"A",null,null,null,{"$f":"catp","v":3}]
[692,"Sava Andrei","Cluj Napoca",262,18.45,"A",null,null,null,{"$f":"catp","v":3}]
[759,"Cuciureanu Daniel","Ploiesti",239.4,18.45,"A",null,null,null,{"$f":"catp","v":3}]
[1532,"Babes Razvan","Brasov",96.1,18.43,"A",null,null,null,{"$f":"catp","v":3}]
[1357,"Suptirel Narcis","Agnita",116.6,18.399999999999999,"A",null,null,null,{"$f":"catp","v":3}]
[2113,"Bompa Cosmin","Reghin",51.1,18.399999999999999,"A",null,null,null,{"$f":"catp","v":3}]
[3321,"Patrascu Cristian","Iasi",13.8,18.399999999999999,"A",null,null,null,{"$f":"catp","v":3}]
[3322,"Domokos Vitan","Targu Secuiesc",13.8,18.399999999999999,"A",null,null,null,{"$f":"catp","v":3}]
[686,"Dobinda Dinu","Arad",263.3,18.36,"A",null,null,null,{"$f":"catp","v":3}]
[863,"Gheozdan Daniel","Bucuresti",210,18.350000000000001,"A",null,null,null,{"$f":"catp","v":3}]
[631,"Garaz Mircea","Bistrita",286.89999999999998,18.34,"ADW",null,null,null,{"$f":"catp","v":3}]
[1351,"Paval Mihai","Iasi",117.5,18.3,"A",null,null,null,{"$f":"catp","v":3}]
[1489,"Nicolae Daniel","Bucuresti",101.4,18.28,"A",null,null,null,{"$f":"catp","v":3}]
[1893,"Boicu Liviu","Vatra Dornei",64,18.28,"A",null,null,null,{"$f":"catp","v":3}]
[702,"Ciuverca Adrian","Satu Mare",258.8,18.25,"A",null,null,null,{"$f":"catp","v":3}]
[975,"Cserei Stefan","Apahida",182.3,18.239999999999998,"A",null,null,null,{"$f":"catp","v":3}]
[605,"Orban Koppany","Sovata",295,18.23,"A",null,null,null,{"$f":"catp","v":3}]
[1810,"Craciun Mihaita","Brasov",69.900000000000006,18.23,"A",null,null,null,{"$f":"catp","v":3}]
[836,"Olteanu Gabriel","Vaslui",216.8,18.2,"A",null,null,null,{"$f":"catp","v":3}]
[1471,"Anton Dragos","Focsani",103.5,18.2,"A",null,null,null,{"$f":"catp","v":3}]
[2700,"Bora Paul","Cluj Napoca",27.3,18.2,"A",null,null,null,{"$f":"catp","v":3}]
[1089,"Ciobanu Cosmin","Cristian SB",157.9,18.190000000000001,"A",null,null,null,{"$f":"catp","v":3}]
[770,"Arimia Constantin","Azuga",237,18.14,"A",null,null,null,{"$f":"catp","v":3}]
[1331,"Sava Harold","Bucuresti",119.8,18.14,"A",null,null,null,{"$f":"catp","v":3}]
[1890,"Schiau Dan","Hunedoara",64.099999999999994,18.13,"A",null,null,null,{"$f":"catp","v":3}]
[1243,"Iacobut Catalin","Bacau",131.80000000000001,18.100000000000001,"A",null,null,null,{"$f":"catp","v":3}]
[1806,"Palfi Zsolt","Oradea",70.400000000000006,18.100000000000001,"A",null,null,null,{"$f":"catp","v":3}]
[3080,"Puia Darius","Stremt",18.100000000000001,18.100000000000001,"A",null,null,null,{"$f":"catp","v":3}]
[3081,"Petroesc Emil","Hunedoara",18.100000000000001,18.100000000000001,"A",null,null,null,{"$f":"catp","v":3}]
[650,"Cocan Mircea","Bucuresti",276.3,18.079999999999998,"A",null,null,null,{"$f":"catp","v":3}]
[1932,"Popa Vlad","Piatra Neamt",61.3,18.05,"A",null,null,null,{"$f":"catp","v":3}]
[2445,"Sdranca Mircea","Ploiesti",36.1,18.05,"A",null,null,null,{"$f":"catp","v":3}]
[838,"Teodorescu Andu","Curtea de Arges",216.4,18.03,"A",null,null,null,{"$f":"catp","v":3}]
[1242,"Cheta Victor","Zalau",131.9,18.03,"A",null,null,null,{"$f":"catp","v":3}]
[2097,"Tudor Valeriu","Ploiesti",51.8,18,"A",null,null,null,{"$f":"catp","v":3}]
[2553,"Chiriac Nastase","Galati",32.299999999999997,18,"A",null,null,null,{"$f":"catp","v":3}]
[3338,"Gherman Sorin","Hida",13.5,18,"A",null,null,null,{"$f":"catp","v":3}]
[511,"Stoicescu Gheorghe","Iedera",336.1,17.98,"A",null,null,null,{"$f":"catp","v":3}]
[694,"Dragan Marius","Hunedoara",261.89999999999998,17.98,"A",null,null,null,{"$f":"catp","v":3}]
[724,"Oprean Andrei","Brad",252,17.98,"AW",null,null,null,{"$f":"catp","v":3}]
[1282,"Petho Katalin","Racosu de Sus",125.9,17.95,"A",null,null,null,{"$f":"catp","v":3}]
[1266,"Nagy Attila","Suseni",128.5,17.940000000000001,"A",null,null,null,{"$f":"catp","v":3}]
[1998,"Zugravu Luca","Barlad",58.1,17.899999999999999,"A",null,null,null,{"$f":"catp","v":3}]
[2451,"Ivan Adriana","Buzau",35.799999999999997,17.899999999999999,"AF",null,null,null,{"$f":"catp","v":3}]
[3085,"Ischimgi Ivan","Moldova-Cantemir",17.899999999999999,17.899999999999999,"A",null,null,null,{"$f":"catp","v":3}]
[550,"Caranfilian Migo","Bucuresti",319.5,17.87,"AW",null,null,null,{"$f":"catp","v":3}]
[1661,"Ungureanu Doru","Focsani",82.4,17.87,"A",null,null,null,{"$f":"catp","v":3}]
[1706,"Rusu Alin Adrian","Bacau",78.400000000000006,17.87,"A",null,null,null,{"$f":"catp","v":3}]
[1236,"Furtuna Traian","Brasov",132.30000000000001,17.82,"A",null,null,null,{"$f":"catp","v":3}]
[533,"Tonciu Costin","Branesti",328.5,17.809999999999999,"A",null,null,null,{"$f":"catp","v":3}]
[2155,"Marin Adrian","Cateasca",49,17.8,"A",null,null,null,{"$f":"catp","v":3}]
[2587,"Melinte Gabriel","Iasi",31.1,17.8,"A",null,null,null,{"$f":"catp","v":3}]
[3088,"Moisa Costel","Tecuci",17.8,17.8,"A",null,null,null,{"$f":"catp","v":3}]
[3089,"Lungu Mihai","Iasi",17.8,17.8,"A",null,null,null,{"$f":"catp","v":3}]
[643,"Baican Cristian","Cluj Napoca",279.7,17.78,"A",null,null,null,{"$f":"catp","v":3}]
[1131,"Andras Nicolae","Oradea",151.80000000000001,17.78,"A",null,null,null,{"$f":"catp","v":3}]
[611,"Vaculisteanu Ionut","Botosani",294.5,17.760000000000002,"A",null,null,null,{"$f":"catp","v":3}]
[584,"Florea Mihai","Ludus",303.7,17.75,"A",null,null,null,{"$f":"catp","v":3}]
[671,"Darosi Alin","Bistrita",268,17.75,"A",null,null,null,{"$f":"catp","v":3}]
[1964,"Lupescu Nicolae","Reghin",59.4,17.75,"A",null,null,null,{"$f":"catp","v":3}]
[2109,"Petrea Bogdan Andrei","Caransebes",51.2,17.75,"A",null,null,null,{"$f":"catp","v":3}]
[689,"Milna Sorin","Ludus",262.8,17.73,"A",null,null,null,{"$f":"catp","v":3}]
[523,"Marian Ioan","Alba Iulia",332.1,17.71,"AW",null,null,null,{"$f":"catp","v":3}]
[800,"Avram Iancu","Petrosani",227,17.71,"A",null,null,null,{"$f":"catp","v":3}]
[3098,"Dinescu Mihai","Curtea de Arges",17.7,17.7,"A",null,null,null,{"$f":"catp","v":3}]
[3099,"Florea Lucian","Vaslui",17.7,17.7,"A",null,null,null,{"$f":"catp","v":3}]
[3100,"Pacurar Cosmin","Blaj",17.7,17.7,"A",null,null,null,{"$f":"catp","v":3}]
[1119,"Luca Eugen","Aiud",154.6,17.690000000000001,"A",null,null,null,{"$f":"catp","v":3}]
[1521,"Bistreanu Armand","Bucuresti",97.3,17.68,"A",null,null,null,{"$f":"catp","v":3}]
[1693,"Manescu Alexandru","Slatina",79,17.68,"A",null,null,null,{"$f":"catp","v":3}]
[844,"Suciu Florin","Sibiu",215.6,17.670000000000002,"A",null,null,null,{"$f":"catp","v":3}]
[905,"Moldovean Valer","Calan",200.9,17.66,"A",null,null,null,{"$f":"catp","v":3}]
[820,"Brateanu Liviu","Bacau",221.3,17.63,"AW",null,null,null,{"$f":"catp","v":3}]
[1617,"Suciu Sergiu","Turda",86.9,17.63,"AW",null,null,null,{"$f":"catp","v":3}]
[1729,"Ciocani Rafael","Sannicolau Mare",76.599999999999994,17.63,"A",null,null,null,{"$f":"catp","v":3}]
[1175,"Vaida Alin","Cluj Napoca",142.5,17.62,"A",null,null,null,{"$f":"catp","v":3}]
[935,"Hulea Calin","Alesd",192.6,17.61,"A",null,null,null,{"$f":"catp","v":3}]
[1328,"Tudose Marius","Galati",119.9,17.600000000000001,"A",null,null,null,{"$f":"catp","v":3}]
[1427,"Metes Doru","Cluj Napoca",108.2,17.600000000000001,"A",null,null,null,{"$f":"catp","v":3}]
[1488,"Bostinaru Filip","Curtea de Arges",101.5,17.600000000000001,"A",null,null,null,{"$f":"catp","v":3}]
[1549,"Preda Leo","Targoviste",94.8,17.600000000000001,"AW",null,null,null,{"$f":"catp","v":3}]
[2722,"Ilie Andreea","Voluntari",26.4,17.600000000000001,"AF",null,null,null,{"$f":"catp","v":3}]
[3107,"Nutu Catalin","Targu Neamt",17.600000000000001,17.600000000000001,"A",null,null,null,{"$f":"catp","v":3}]
[1814,"Magura Casian","Constanta",69.7,17.57,"A",null,null,null,{"$f":"catp","v":3}]
[687,"Pauca Cosmin","Botosani",263.3,17.55,"A",null,null,null,{"$f":"catp","v":3}]
[740,"Morosan Ionel","Radauti",245.8,17.54,"A",null,null,null,{"$f":"catp","v":3}]
[1170,"Gavriliuc Daniel","Botosani",143,17.510000000000002,"A",null,null,null,{"$f":"catp","v":3}]
[1882,"Socaciu Dan Catalin","Floresti",64.5,17.5,"A",null,null,null,{"$f":"catp","v":3}]
[1933,"Mitrofan Petrica","Brasov",61.3,17.5,"AW",null,null,null,{"$f":"catp","v":3}]
[3361,"Baloi Silviu","Alexandria",13.2,17.5,"A",null,null,null,{"$f":"catp","v":3}]
[3362,"Topoleanu Dan","Bucuresti",13.2,17.5,"A",null,null,null,{"$f":"catp","v":3}]
[3363,"Lungu Doru","Drobeta Tr Severin",13.2,17.5,"A",null,null,null,{"$f":"catp","v":3}]
[1117,"Farcas Raul","Targu Mures",154.80000000000001,17.47,"A",null,null,null,{"$f":"catp","v":3}]
[862,"Simandi Cosmin","Alba Iulia",210.2,17.43,"A",null,null,null,{"$f":"catp","v":3}]
[2087,"Surdan Viorel","Oradea",52.7,17.43,"A",null,null,null,{"$f":"catp","v":3}]
[834,"Zamcu Ciprian","Suceava",217.1,17.399999999999999,"A",null,null,null,{"$f":"catp","v":3}]
[998,"Simon Bence","Targu Mures",177,17.399999999999999,"A",null,null,null,{"$f":"catp","v":3}]
[1819,"Stoica Polina","Moldova-Cahul",69.400000000000006,17.399999999999999,"AF",null,null,null,{"$f":"catp","v":3}]
[2163,"Ambrus Arnold","Lazarea",48.5,17.399999999999999,"A",null,null,null,{"$f":"catp","v":3}]
[2478,"Raducan Florian","Calarasi",34.799999999999997,17.399999999999999,"A",null,null,null,{"$f":"catp","v":3}]
[3117,"Sinpetrean Comsa Gheorghe","Cluj Napoca",17.399999999999999,17.399999999999999,"AW",null,null,null,{"$f":"catp","v":3}]
[3118,"Sedda Stefano","Italia",17.399999999999999,17.399999999999999,"A",null,null,null,{"$f":"catp","v":3}]
[3119,"Adriana Beca","Cluj Napoca",17.399999999999999,17.399999999999999,"AF",null,null,null,{"$f":"catp","v":3}]
[3370,"Furca Alexandru","Hunedoara",13.1,17.399999999999999,"A",null,null,null,{"$f":"catp","v":3}]
[3371,"Vaideanu Fabiana","Vatra Dornei",13.1,17.399999999999999,"AJF",null,null,null,{"$f":"catp","v":3}]
[680,"Stanciu Constantin","Brasov",266.2,17.37,"AW",null,null,null,{"$f":"catp","v":3}]
[2176,"Vilcu Dragos","Bucuresti",47.9,17.37,"A",null,null,null,{"$f":"catp","v":3}]
[801,"Sandu Marcel","Sighisoara",226.3,17.36,"A",null,null,null,{"$f":"catp","v":3}]
[1535,"Coroiu Dan","Roman",96,17.350000000000001,"A",null,null,null,{"$f":"catp","v":3}]
[1694,"Burnoiu Costel","Bucuresti",79,17.350000000000001,"A",null,null,null,{"$f":"catp","v":3}]
[928,"Aluculesa Radu","Botosani",193.7,17.34,"AD",null,null,null,{"$f":"catp","v":3}]
[1366,"Budihala Raul","Hunedoara",115.9,17.3,"A",null,null,null,{"$f":"catp","v":3}]
[1943,"Parasca Dumitru","Radauti",60.8,17.3,"A",null,null,null,{"$f":"catp","v":3}]
[2263,"Capstramb Liviu","Radauti",43.5,17.3,"A",null,null,null,{"$f":"catp","v":3}]
[2288,"Dobrin David","Alexandria",42.5,17.3,"A",null,null,null,{"$f":"catp","v":3}]
[3378,"Lebada Mugur","Bucuresti",13,17.3,"A",null,null,null,{"$f":"catp","v":3}]
[2177,"Csorbai Lorand","Sanpaul",47.9,17.27,"A",null,null,null,{"$f":"catp","v":3}]
[1483,"Mihaila Mihai","Radauti",102.2,17.25,"A",null,null,null,{"$f":"catp","v":3}]
[821,"Stoica Sandel","Focsani",220.9,17.23,"A",null,null,null,{"$f":"catp","v":3}]
[1258,"Rusu Paul Iulian","Bilca",129.80000000000001,17.23,"A",null,null,null,{"$f":"catp","v":3}]
[1556,"Dragomir Marian","Slatina Timis",94,17.23,"A",null,null,null,{"$f":"catp","v":3}]
[1248,"Andries Ionut Alexandru","Iasi",131.5,17.22,"A",null,null,null,{"$f":"catp","v":3}]
[614,"Stanciu Viorel","Ploiesti",293.8,17.2,"A",null,null,null,{"$f":"catp","v":3}]
[1447,"Lupse Sorin","Baia Mare",106.1,17.2,"A",null,null,null,{"$f":"catp","v":3}]
[1862,"Moldovan Darian","Nasaud",66,17.2,"A",null,null,null,{"$f":"catp","v":3}]
[1284,"Kantor Imre Zoltan","Reghin",125.6,17.18,"AW",null,null,null,{"$f":"catp","v":3}]
[685,"Baluta Silviu","Bucuresti",263.89999999999998,17.16,"AW",null,null,null,{"$f":"catp","v":3}]
[1273,"Adam Florin","Targoviste",127,17.16,"AW",null,null,null,{"$f":"catp","v":3}]
[1388,"Ionita Marian","Bucuresti",114,17.16,"A",null,null,null,{"$f":"catp","v":3}]
[764,"Gihan Sefcati","Popesti Leordeni",238.1,17.149999999999999,"A",null,null,null,{"$f":"catp","v":3}]
[1550,"Danescu Marius","Dumbraveni SB",94.7,17.149999999999999,"A",null,null,null,{"$f":"catp","v":3}]
[2626,"Trandafir Radu Catalin","Giurgiu",29.5,17.149999999999999,"A",null,null,null,{"$f":"catp","v":3}]
[2636,"Cuntan Ioan","Saliste",29.2,17.149999999999999,"A",null,null,null,{"$f":"catp","v":3}]
[2257,"Stanciu Constantin","Timisoara",43.9,17.13,"A",null,null,null,{"$f":"catp","v":3}]
[849,"Cibotariu Bogdan","Piatra Neamt",214.1,17.12,"A",null,null,null,{"$f":"catp","v":3}]
[1795,"Vrasti Iulian","Ploiesti",71.2,17.100000000000001,"A",null,null,null,{"$f":"catp","v":3}]
[3129,"Curtis Petru","Moldova-Coteala",17.100000000000001,17.100000000000001,"A",null,null,null,{"$f":"catp","v":3}]
[1516,"Floricel Alexandru","Bucuresti",98,17.079999999999998,"A",null,null,null,{"$f":"catp","v":3}]
[1789,"Serban Marian","Orastie",71.599999999999994,17.079999999999998,"A",null,null,null,{"$f":"catp","v":3}]
[2234,"Popa Liviu","Bucuresti",44.8,17.05,"A",null,null,null,{"$f":"catp","v":3}]
[700,"Popescu Theo","Bucuresti",259.10000000000002,17.04,"A",null,null,null,{"$f":"catp","v":3}]
[2186,"Stoica Liviu Gabriel","Slobozia",47.3,17.03,"A",null,null,null,{"$f":"catp","v":3}]
[796,"Parlog Florin","Bucuresti",229.2,17.02,"A",null,null,null,{"$f":"catp","v":3}]
[1244,"Nyaradi Attila","Sighisoara",131.80000000000001,17.02,"A",null,null,null,{"$f":"catp","v":3}]
[1571,"Bujenita Mihai","Galati",92.7,17,"A",null,null,null,{"$f":"catp","v":3}]
[2503,"Avram Razvan","Focsani",34,17,"A",null,null,null,{"$f":"catp","v":3}]
[2627,"Blaga Radu","Zalau",29.5,17,"A",null,null,null,{"$f":"catp","v":3}]
[2910,"Taman Ioan","Cugir",22,17,"A",null,null,null,{"$f":"catp","v":3}]
[3134,"Vestineanu Ionut","Slobozia",17,17,"A",null,null,null,{"$f":"catp","v":3}]
[3135,"Trandafir Catalin","Slobozia",17,17,"A",null,null,null,{"$f":"catp","v":3}]
[3136,"Tronciu Gabriel","Roman",17,17,"A",null,null,null,{"$f":"catp","v":3}]
[3137,"Pasconi Anton","Mintia",17,17,"A",null,null,null,{"$f":"catp","v":3}]
[3386,"Pavel Ovidiu","Botosani",12.8,17,"A",null,null,null,{"$f":"catp","v":3}]
[850,"Marin Marcel","Fenes",214.1,16.98,"A",null,null,null,{"$f":"catp","v":3}]
[1710,"Majeru Gabriel","Radauti",78.099999999999994,16.98,"A",null,null,null,{"$f":"catp","v":3}]
[808,"Corabian Daniel","Cluj Napoca",225.3,16.97,"A",null,null,null,{"$f":"catp","v":3}]
[866,"Negulescu Cristi","Sinaia",209.6,16.95,"A",null,null,null,{"$f":"catp","v":3}]
[1840,"Galan Andreea","Vatra Dornei",67.900000000000006,16.95,"AJF",null,null,null,{"$f":"catp","v":3}]
[2172,"Stanescu Romeo","Hunedoara",48.1,16.95,"A",null,null,null,{"$f":"catp","v":3}]
[2235,"Oprea Tiberiu","Brasov",44.8,16.95,"A",null,null,null,{"$f":"catp","v":3}]
[1886,"Duta Ion","Craiova",64.3,16.93,"A",null,null,null,{"$f":"catp","v":3}]
[999,"Constantin Filip","Sinaia",176.8,16.899999999999999,"A",null,null,null,{"$f":"catp","v":3}]
[2148,"Bokor Zsolt","Sovata",49.3,16.899999999999999,"A",null,null,null,{"$f":"catp","v":3}]
[2185,"Duka Peter","Marghita",47.5,16.899999999999999,"A",null,null,null,{"$f":"catp","v":3}]
[2216,"Andreescu Liviu","Urlati",45.5,16.899999999999999,"A",null,null,null,{"$f":"catp","v":3}]
[3138,"Kuti Istvan","Targu Mures",16.899999999999999,16.899999999999999,"A",null,null,null,{"$f":"catp","v":3}]
[573,"Susman Dan","Alba Iulia",308.3,16.88,"A",null,null,null,{"$f":"catp","v":3}]
[1587,"Stirbu Daniel","Braila",90.2,16.88,"A",null,null,null,{"$f":"catp","v":3}]
[1666,"Rusu Lucian","Suceava",81.7,16.88,"AW",null,null,null,{"$f":"catp","v":3}]
[745,"Avramescu Bogdan","Bucuresti",244.9,16.8,"A",null,null,null,{"$f":"catp","v":3}]
[1185,"Stoian Nicolae","Braila",141.30000000000001,16.8,"A",null,null,null,{"$f":"catp","v":3}]
[1797,"Cojocaru Adrian","Suceava",71.099999999999994,16.8,"AW",null,null,null,{"$f":"catp","v":3}]
[2514,"State Constantin","Targu Neamt",33.6,16.8,"A",null,null,null,{"$f":"catp","v":3}]
[2515,"Ruslan Borsci","Moldova-Drochia",33.6,16.8,"A",null,null,null,{"$f":"catp","v":3}]
[3142,"Simon Dani","Arad",16.8,16.8,"A",null,null,null,{"$f":"catp","v":3}]
[1986,"Hollo Istvan","Danesti",58.5,16.77,"A",null,null,null,{"$f":"catp","v":3}]
[780,"Morosan Sara","Horodnic de Sus",233.3,16.760000000000002,"AF",null,null,null,{"$f":"catp","v":3}]
[854,"Socaci Valentin","Lugoj",213.1,16.760000000000002,"A",null,null,null,{"$f":"catp","v":3}]
[1956,"Moldovan Doru","Dej",60.1,16.75,"A",null,null,null,{"$f":"catp","v":3}]
[1753,"Kovacs Lehel","Zabala",74.400000000000006,16.73,"A",null,null,null,{"$f":"catp","v":3}]
[1365,"Rosoga Ana","Constanta",116.1,16.7,"AF",null,null,null,{"$f":"catp","v":3}]
[1813,"Paduraru Riana","Bacau",69.8,16.7,"AF",null,null,null,{"$f":"catp","v":3}]
[2618,"Darosi Robert","Bistrita",29.7,16.7,"A",null,null,null,{"$f":"catp","v":3}]
[2647,"Marin Catalin","Targoviste",28.9,16.7,"A",null,null,null,{"$f":"catp","v":3}]
[3147,"Stan Ionut","Bucuresti",16.7,16.7,"A",null,null,null,{"$f":"catp","v":3}]
[3148,"Silivestru Sebastian","Tarnaveni",16.7,16.7,"A",null,null,null,{"$f":"catp","v":3}]
[3399,"Plesca Andrei","Vicovu de Sus",12.6,16.7,"A",null,null,null,{"$f":"catp","v":3}]
[859,"Stavarache Florentin","Pascani",211.4,16.670000000000002,"A",null,null,null,{"$f":"catp","v":3}]
[1224,"Melicut Sarmis","Hunedoara",135.4,16.670000000000002,"A",null,null,null,{"$f":"catp","v":3}]
[2221,"Muresan Codrean","Targu Mures",45.4,16.670000000000002,"A",null,null,null,{"$f":"catp","v":3}]
[657,"Taut Ciprian","Cluj Napoca",273.60000000000002,16.64,"A",null,null,null,{"$f":"catp","v":3}]
[1696,"Neagu Mircea","Iasi",78.900000000000006,16.63,"A",null,null,null,{"$f":"catp","v":3}]
[1836,"Ababei Razvan","Iasi",68,16.63,"A",null,null,null,{"$f":"catp","v":3}]
[2210,"Lebada Doru","Arad",46,16.63,"A",null,null,null,{"$f":"catp","v":3}]
[723,"Tudor Aurel","Harsova",252.6,16.62,"A",null,null,null,{"$f":"catp","v":3}]
[827,"Andrea Simion","Cluj Napoca",219.8,16.61,"A",null,null,null,{"$f":"catp","v":3}]
[2527,"Gavrilei Constantin","Pascani",33.200000000000003,16.600000000000001,"A",null,null,null,{"$f":"catp","v":3}]
[3156,"Senturk Barboros","Germania",16.600000000000001,16.600000000000001,"A",null,null,null,{"$f":"catp","v":3}]
[1028,"Podean Ion","Foeni",170,16.59,"A",null,null,null,{"$f":"catp","v":3}]
[2637,"Dumitrache Marius Jr","Galati",29.2,16.55,"A",null,null,null,{"$f":"catp","v":3}]
[1013,"Baricz Dezso","Joseni",173.7,16.510000000000002,"A",null,null,null,{"$f":"catp","v":3}]
[886,"Tabacaru Jenica","Focsani",205.5,16.5,"A",null,null,null,{"$f":"catp","v":3}]
[1462,"Ioan Filip","Bucuresti",104.4,16.5,"A",null,null,null,{"$f":"catp","v":3}]
[1898,"Neculai Valentin","Focsani",63.5,16.5,"A",null,null,null,{"$f":"catp","v":3}]
[2324,"Popescu Dan","Craiova",40.9,16.5,"A",null,null,null,{"$f":"catp","v":3}]
[2535,"Bobeica Eduard","Focsani",33,16.5,"A",null,null,null,{"$f":"catp","v":3}]
[2628,"Untea Costel","Ramnicu Sarat",29.5,16.5,"A",null,null,null,{"$f":"catp","v":3}]
[2211,"Kreitler Zoltan","Arad",46,16.47,"A",null,null,null,{"$f":"catp","v":3}]
[2540,"Pascaru Mihai","Barlad",32.9,16.45,"A",null,null,null,{"$f":"catp","v":3}]
[1965,"Mitrica Gheorghe","Gostavatu",59.4,16.43,"A",null,null,null,{"$f":"catp","v":3}]
[1136,"Biciin Alexandru","Faurei",149.9,16.420000000000002,"A",null,null,null,{"$f":"catp","v":3}]
[807,"Bolozan Laurentiu","Braila",225.4,16.399999999999999,"AW",null,null,null,{"$f":"catp","v":3}]
[1699,"Neagu Ioan Adrian","Slatina Timis",78.8,16.399999999999999,"A",null,null,null,{"$f":"catp","v":3}]
[2638,"Ciobanu Sabin","Pascani",29.2,16.399999999999999,"A",null,null,null,{"$f":"catp","v":3}]
[3165,"Dehelean Alexandru","Dumbravita",16.399999999999999,16.399999999999999,"A",null,null,null,{"$f":"catp","v":3}]
[3419,"Rusu Radu","Falticeni",12.3,16.399999999999999,"A",null,null,null,{"$f":"catp","v":3}]
[1179,"Teodorescu Maria","Ramnicu Sarat",142,16.37,"AF",null,null,null,{"$f":"catp","v":3}]
[1603,"Gunzilovici Stanislav","Moldova-Cahul",88.7,16.350000000000001,"A",null,null,null,{"$f":"catp","v":3}]
[1260,"Marcu Florin Radu","Manasturu Romanesc",129.6,16.34,"A",null,null,null,{"$f":"catp","v":3}]
[943,"Vaireanu Danut Ionel","Bucuresti",190.4,16.309999999999999,"AW",null,null,null,{"$f":"catp","v":3}]
[828,"Moldoveanu Sorin Florian","Hunedoara",219.3,16.3,"A",null,null,null,{"$f":"catp","v":3}]
[2753,"Crisan Matei","Focsani",25.5,16.3,"A",null,null,null,{"$f":"catp","v":3}]
[2789,"Peter Laszlo","Brasov",24.5,16.3,"A",null,null,null,{"$f":"catp","v":3}]
[3169,"Preda Daniel","Cocorastii Mislii",16.3,16.3,"A",null,null,null,{"$f":"catp","v":3}]
[3170,"Avram Matei","Barcea",16.3,16.3,"A",null,null,null,{"$f":"catp","v":3}]
[3420,"Ciobanu Marius","Bucuresti",12.3,16.3,"A",null,null,null,{"$f":"catp","v":3}]
[2794,"Cimbru Andrei","Moinesti",24.4,16.25,"A",null,null,null,{"$f":"catp","v":3}]
[1455,"Rusu Bogdan","Cluj Napoca",105.1,16.22,"A",null,null,null,{"$f":"catp","v":3}]
[1114,"Dobre Elisei","Jimbolia",155.30000000000001,16.21,"A",null,null,null,{"$f":"catp","v":3}]
[1348,"Sandu Eugen","Husi",117.9,16.2,"A",null,null,null,{"$f":"catp","v":3}]
[1612,"Simon Alexandru","Roman",87.5,16.2,"A",null,null,null,{"$f":"catp","v":3}]
[1949,"Zugravu Mircea","Barlad",60.4,16.2,"A",null,null,null,{"$f":"catp","v":3}]
[2166,"Todos Dumitru","Moldova-Cahul",48.3,16.2,"A",null,null,null,{"$f":"catp","v":3}]
[2798,"Bondila Adrian","Targoviste",24.3,16.2,"A",null,null,null,{"$f":"catp","v":3}]
[3177,"Cervicescu Laurentiu","Botosani",16.2,16.2,"A",null,null,null,{"$f":"catp","v":3}]
[697,"Kondort Dan","Sibiu",260.7,16.190000000000001,"A",null,null,null,{"$f":"catp","v":3}]
[938,"Nicusan Razvan","Targu Mures",191.9,16.18,"A",null,null,null,{"$f":"catp","v":3}]
[2028,"Bradean Toma","Arad",56.8,16.170000000000002,"A",null,null,null,{"$f":"catp","v":3}]
[2264,"Ionita Daniel","Berceni",43.4,16.170000000000002,"A",null,null,null,{"$f":"catp","v":3}]
[1208,"Sacadat Marcel","Ludus",138.9,16.16,"A",null,null,null,{"$f":"catp","v":3}]
[1553,"Gutulescu Marian","Drobeta Tr Severin",94.3,16.16,"A",null,null,null,{"$f":"catp","v":3}]
[1093,"Tilica Gabriel","Targoviste",157.30000000000001,16.149999999999999,"A",null,null,null,{"$f":"catp","v":3}]
[803,"Darie Gabriel","Comanesti",225.9,16.100000000000001,"A",null,null,null,{"$f":"catp","v":3}]
[1677,"Ionica Marius","Comanesti",81.3,16.100000000000001,"A",null,null,null,{"$f":"catp","v":3}]
[1832,"Cocos Claudiu","Calan",68.3,16.100000000000001,"A",null,null,null,{"$f":"catp","v":3}]
[2203,"Mihai Alexandru","Braila",46.5,16.100000000000001,"A",null,null,null,{"$f":"catp","v":3}]
[2659,"Boaca Danut","Buzau",28.3,16.100000000000001,"AW",null,null,null,{"$f":"catp","v":3}]
[2685,"Graur Robert","Focsani",27.6,16.100000000000001,"A",null,null,null,{"$f":"catp","v":3}]
[3182,"Aprodu Lucian","Bacau",16.100000000000001,16.100000000000001,"AW",null,null,null,{"$f":"catp","v":3}]
[3433,"Lungan Mihai","Bucuresti",12.1,16.100000000000001,"A",null,null,null,{"$f":"catp","v":3}]
[1023,"Dodu Costica","Focsani",170.7,16.09,"AW",null,null,null,{"$f":"catp","v":3}]
[625,"Illes Akos","Gheorgheni",289.3,16.079999999999998,"A",null,null,null,{"$f":"catp","v":3}]
[674,"Paulette Briana","Blaj",267.7,16.07,"AJF",null,null,null,{"$f":"catp","v":3}]
[731,"Csiszer Tibor","Sighisoara",249.7,16.07,"A",null,null,null,{"$f":"catp","v":3}]
[902,"Domokos Andras","Targu Mures",201.9,16.05,"A",null,null,null,{"$f":"catp","v":3}]
[1058,"Dumitrascu Cristi","Brasov",163.30000000000001,16.05,"A",null,null,null,{"$f":"catp","v":3}]
[758,"Ailioaie Gheorghe","Comanesti",239.8,16.03,"AW",null,null,null,{"$f":"catp","v":3}]
[1194,"Morosan Mihai","Granicesti",140.4,16.03,"A",null,null,null,{"$f":"catp","v":3}]
[798,"Muresan Marian","Dej",227.8,16.010000000000002,"A",null,null,null,{"$f":"catp","v":3}]
[1576,"Moisuc Catalin","Fratautii Noi",92.2,16,"A",null,null,null,{"$f":"catp","v":3}]
[2649,"Bucur Sorin","Ploiesti",28.8,16,"A",null,null,null,{"$f":"catp","v":3}]
[1061,"Scutaru Marius","Cernavoda",163,15.95,"A",null,null,null,{"$f":"catp","v":3}]
[2660,"Nastaca Catalin","Falticeni",28.3,15.95,"A",null,null,null,{"$f":"catp","v":3}]
[1978,"Andoni Marian","Hunedoara",58.9,15.93,"A",null,null,null,{"$f":"catp","v":3}]
[609,"Stancu Octavian","Tulcea",294.60000000000002,15.91,"A",null,null,null,{"$f":"catp","v":3}]
[679,"Balasa Mihai","Sibiu",266.5,15.91,"A",null,null,null,{"$f":"catp","v":3}]
[1347,"Paduraru Mihnea","Brasov",118,15.9,"A",null,null,null,{"$f":"catp","v":3}]
[2567,"Polen Costin","Comarnic",31.8,15.9,"A",null,null,null,{"$f":"catp","v":3}]
[3189,"Belba Caius Petrica","Baile Herculane",15.9,15.9,"AF",null,null,null,{"$f":"catp","v":3}]
[737,"Dumitrescu Robert Nicolae","Bucuresti",246.5,15.88,"A",null,null,null,{"$f":"catp","v":3}]
[751,"Mateut Vasile","Zalau",243.2,15.88,"A",null,null,null,{"$f":"catp","v":3}]
[997,"Meggyes Andras","Sovata",177.5,15.88,"A",null,null,null,{"$f":"catp","v":3}]
[1854,"Baltat Sebastian","Arad",67,15.88,"A",null,null,null,{"$f":"catp","v":3}]
[1025,"Tirlea Gheorghe","Brasov",170.4,15.87,"A",null,null,null,{"$f":"catp","v":3}]
[2282,"Banuta Dumitru","Ploiesti",42.7,15.87,"A",null,null,null,{"$f":"catp","v":3}]
[1425,"Mandrescu Catalin","Buhusi",108.4,15.85,"A",null,null,null,{"$f":"catp","v":3}]
[1478,"Cioloca Stefan","Reghin",102.8,15.84,"A",null,null,null,{"$f":"catp","v":3}]
[1614,"Alamorean Viorel","Blaj",87.4,15.83,"A",null,null,null,{"$f":"catp","v":3}]
[1846,"Enache Leo","Ramnicu Valcea",67.5,15.83,"A",null,null,null,{"$f":"catp","v":3}]
[1226,"Todea Alexandru","Cluj Napoca",134.5,15.81,"A",null,null,null,{"$f":"catp","v":3}]
[2229,"Urdes Florentina Ruxandra","Tulcea",45,15.8,"AF",null,null,null,{"$f":"catp","v":3}]
[3195,"Mihai Adrian","Botosani",15.8,15.8,"A",null,null,null,{"$f":"catp","v":3}]
[1211,"Halasz Lorant","Satu Mare",137.80000000000001,15.79,"A",null,null,null,{"$f":"catp","v":3}]
[1373,"Ionescu Cristi","Ploiesti",115.4,15.78,"A",null,null,null,{"$f":"catp","v":3}]
[1912,"Enache Doru","Cobadin",62.7,15.77,"A",null,null,null,{"$f":"catp","v":3}]
[646,"Cristescu Cristian","Bucuresti",278.39999999999998,15.76,"AW",null,null,null,{"$f":"catp","v":3}]
[958,"Ciocan Ion","Chiajna",186.4,15.76,"A",null,null,null,{"$f":"catp","v":3}]
[1891,"Blehoianu Laurentiu","Galati",64.099999999999994,15.75,"A",null,null,null,{"$f":"catp","v":3}]
[2206,"Susanu Ion","Moldova-Cahul",46.1,15.75,"A",null,null,null,{"$f":"catp","v":3}]
[2576,"Pletea Octavian","Sibiu",31.5,15.75,"A",null,null,null,{"$f":"catp","v":3}]
[2577,"Sandu Emanuel","Husi",31.5,15.75,"A",null,null,null,{"$f":"catp","v":3}]
[2578,"Strugariu Ioan","Campulung Mold",31.5,15.75,"A",null,null,null,{"$f":"catp","v":3}]
[1329,"Moraru Constantin","Bucuresti",119.9,15.74,"AW",null,null,null,{"$f":"catp","v":3}]
[2130,"Curtut Cezar","Arad",50.3,15.73,"A",null,null,null,{"$f":"catp","v":3}]
[1014,"Pruna Petre Adelin","Ramnicu Valcea",173.7,15.7,"AJ",null,null,null,{"$f":"catp","v":3}]
[1595,"Bozga Viorel","Dobric",89.5,15.7,"A",null,null,null,{"$f":"catp","v":3}]
[2241,"Muresan Iulian","Surduc",44.6,15.7,"A",null,null,null,{"$f":"catp","v":3}]
[2961,"Matei Victor","Urlati",20.7,15.7,"A",null,null,null,{"$f":"catp","v":3}]
[3199,"Rapan Mihai","Bucuresti",15.7,15.7,"A",null,null,null,{"$f":"catp","v":3}]
[3200,"Cristea Ovidiu","Bucuresti",15.7,15.7,"A",null,null,null,{"$f":"catp","v":3}]
[3459,"Valcica Antonio","Slatina",11.8,15.7,"A",null,null,null,{"$f":"catp","v":3}]
[3460,"Gabor Sebastian","Sfantu Gheorghe",11.8,15.7,"A",null,null,null,{"$f":"catp","v":3}]
[3461,"Pascu Mihai","Arad",11.8,15.7,"A",null,null,null,{"$f":"catp","v":3}]
[3462,"Profiroiu Dorel","Sfantu Gheorghe",11.8,15.7,"A",null,null,null,{"$f":"catp","v":3}]
[3463,"Vasilache Valentin","Medias",11.8,15.7,"A",null,null,null,{"$f":"catp","v":3}]
[655,"Ilea Dorin","Oradea",273.8,15.69,"A",null,null,null,{"$f":"catp","v":3}]
[1125,"Borca Liviu","Targu Mures",152.80000000000001,15.67,"A",null,null,null,{"$f":"catp","v":3}]
[1042,"Enache Adrian","Tulcea",168.1,15.66,"A",null,null,null,{"$f":"catp","v":3}]
[1197,"Cojocaru Andru","Targoviste",140.1,15.66,"A",null,null,null,{"$f":"catp","v":3}]
[1624,"Cernat Gheorghe","Bucuresti",85.9,15.65,"A",null,null,null,{"$f":"catp","v":3}]
[2581,"Ardelean Stefan","Dumbravita",31.3,15.65,"A",null,null,null,{"$f":"catp","v":3}]
[2691,"Hales Teodor","Bistrita",27.5,15.65,"A",null,null,null,{"$f":"catp","v":3}]
[845,"Onofrei Petru","Gherla",215.4,15.64,"AW",null,null,null,{"$f":"catp","v":3}]
[1072,"Andrei Bogdan Ion","Targoviste",161.69999999999999,15.64,"A",null,null,null,{"$f":"catp","v":3}]
[872,"Borodi Claudiu","Dobric",208.5,15.63,"A",null,null,null,{"$f":"catp","v":3}]
[1274,"Bica Alexandru","Alesd",127,15.63,"A",null,null,null,{"$f":"catp","v":3}]
[1774,"Coroliuc Maria","Moldova-Balti",72.7,15.63,"AF",null,null,null,{"$f":"catp","v":3}]
[984,"Pavliuc Daria","Moldova-Briceni",180.3,15.6,"AF",null,null,null,{"$f":"catp","v":3}]
[1971,"Ghet Ionut","Gheraesti",59.1,15.6,"A",null,null,null,{"$f":"catp","v":3}]
[2584,"Botezatu Nicusor","Focsani",31.2,15.6,"A",null,null,null,{"$f":"catp","v":3}]
[2842,"Plesa Sorin","Targoviste",23.4,15.6,"A",null,null,null,{"$f":"catp","v":3}]
[3469,"Malene Petru","Fagaras",11.7,15.6,"A",null,null,null,{"$f":"catp","v":3}]
[3470,"Delca Aian","Constanta",11.7,15.6,"A",null,null,null,{"$f":"catp","v":3}]
[961,"Halasz Levente","Cluj Napoca",185.6,15.57,"A",null,null,null,{"$f":"catp","v":3}]
[1294,"Rica Marius","Giroc",124.1,15.55,"A",null,null,null,{"$f":"catp","v":3}]
[1701,"Stefan Frosin","Vaslui",78.7,15.55,"A",null,null,null,{"$f":"catp","v":3}]
[772,"Gavril Claudiu","Bucuresti",236.3,15.51,"A",null,null,null,{"$f":"catp","v":3}]
[705,"Bobu Stefan Minodor","Targu Neamt",257.8,15.5,"A",null,null,null,{"$f":"catp","v":3}]
[2454,"Ripan Vasile","Targu Mures",35.6,15.5,"A",null,null,null,{"$f":"catp","v":3}]
[1301,"Cocotan Vasile","Oltenita",123.3,15.47,"A",null,null,null,{"$f":"catp","v":3}]
[2085,"Loghin Sergiu","Pascani",52.8,15.47,"A",null,null,null,{"$f":"catp","v":3}]
[882,"Hodivoianu Marius","Bucuresti",206.4,15.46,"AW",null,null,null,{"$f":"catp","v":3}]
[1935,"Barbu Sara","Constanta",61.2,15.45,"AF",null,null,null,{"$f":"catp","v":3}]
[2589,"Ghita Dobre","Ograda",30.9,15.45,"A",null,null,null,{"$f":"catp","v":3}]
[2706,"Boroica Gheorghe","Bucuresti",27,15.45,"A",null,null,null,{"$f":"catp","v":3}]
[1546,"Saric Leonid","Moldova-Balti",95,15.44,"A",null,null,null,{"$f":"catp","v":3}]
[937,"Iojiban Gheorghe","Balan",192,15.43,"A",null,null,null,{"$f":"catp","v":3}]
[1544,"Staicu Vasile","Cernavoda",95.3,15.43,"A",null,null,null,{"$f":"catp","v":3}]
[1952,"Pietraru Dorian","Victoria",60.2,15.43,"AW",null,null,null,{"$f":"catp","v":3}]
[2017,"Tabacila Lica","Tecuci",57.2,15.4,"A",null,null,null,{"$f":"catp","v":3}]
[2270,"Bufetov Ilia","Moldova-Balti",43.2,15.4,"A",null,null,null,{"$f":"catp","v":3}]
[2490,"Balan Sebastian","Bucuresti",34.4,15.4,"A",null,null,null,{"$f":"catp","v":3}]
[2591,"Filep Attila","Gherla",30.8,15.4,"A",null,null,null,{"$f":"catp","v":3}]
[991,"Onet Nicolae","Sighisoara",179,15.38,"A",null,null,null,{"$f":"catp","v":3}]
[910,"Todor Csaba","Gheorgheni",199.2,15.35,"AD",null,null,null,{"$f":"catp","v":3}]
[1441,"Mandru Aurel","Sarmas",106.6,15.35,"A",null,null,null,{"$f":"catp","v":3}]
[1987,"Szarvas Karoly","Satu Mare",58.5,15.35,"A",null,null,null,{"$f":"catp","v":3}]
[1444,"Mitroi Florin","Bucuresti",106.5,15.34,"A",null,null,null,{"$f":"catp","v":3}]
[868,"Simiganovschi Codrut","Toplita",209.2,15.3,"A",null,null,null,{"$f":"catp","v":3}]
[2082,"Bardocz Ferenc","Ditrau",53,15.3,"A",null,null,null,{"$f":"catp","v":3}]
[3218,"Petre Cristian","Bucuresti",15.3,15.3,"A",null,null,null,{"$f":"catp","v":3}]
[3219,"Birlea Nichita","Moldova-Cahul",15.3,15.3,"A",null,null,null,{"$f":"catp","v":3}]
[3220,"Androne Luca","Bucuresti",15.3,15.3,"A",null,null,null,{"$f":"catp","v":3}]
[3487,"Korodi Krisztian","Aita Mare",11.5,15.3,"A",null,null,null,{"$f":"catp","v":3}]
[765,"Savina Dan","Piatra Neamt",237.7,15.27,"A",null,null,null,{"$f":"catp","v":3}]
[1160,"Florea Bogdan","Caracal",144.80000000000001,15.27,"A",null,null,null,{"$f":"catp","v":3}]
[776,"Suciu Andrei","Borsec",234.9,15.26,"AW",null,null,null,{"$f":"catp","v":3}]
[642,"Cosau Toader","Targu Neamt",280,15.23,"A",null,null,null,{"$f":"catp","v":3}]
[969,"Kovacs Lajos","Odorheiu Secuiesc",183.6,15.22,"A",null,null,null,{"$f":"catp","v":3}]
[833,"Gog Vasile","Salciua",217.5,15.21,"A",null,null,null,{"$f":"catp","v":3}]
[1311,"Mezei Mihai","Sarmas",122.3,15.2,"A",null,null,null,{"$f":"catp","v":3}]
[2174,"Tudor Emil","Bucuresti",48,15.2,"AW",null,null,null,{"$f":"catp","v":3}]
[2283,"Enache Ionel Gabriel","Oniceni",42.7,15.2,"A",null,null,null,{"$f":"catp","v":3}]
[2462,"Bartha David","Sovata",35.4,15.2,"A",null,null,null,{"$f":"catp","v":3}]
[2524,"Vintila Marius","Sibiu",33.299999999999997,15.2,"A",null,null,null,{"$f":"catp","v":3}]
[2979,"Nemes Calin","Cluj Napoca",20.2,15.2,"A",null,null,null,{"$f":"catp","v":3}]
[3224,"Srbulj Branislav","Pancevo",15.2,15.2,"A",null,null,null,{"$f":"catp","v":3}]
[3493,"Tricolici Anton","Bistrita",11.4,15.2,"A",null,null,null,{"$f":"catp","v":3}]
[738,"Radu Dragos","Targoviste",246.3,15.18,"AW",null,null,null,{"$f":"catp","v":3}]
[1792,"Susan Mircea","Alba Iulia",71.5,15.18,"A",null,null,null,{"$f":"catp","v":3}]
[1922,"Pop Ioan","Giroc",62.1,15.18,"A",null,null,null,{"$f":"catp","v":3}]
[880,"Toric Constantin","Bucuresti",206.5,15.17,"A",null,null,null,{"$f":"catp","v":3}]
[1404,"Cojocaru Nicusor","Brasov",111.2,15.16,"ADW",null,null,null,{"$f":"catp","v":3}]
[2409,"Tatu Ion","Ramnicu Sarat",37.200000000000003,15.15,"A",null,null,null,{"$f":"catp","v":3}]
[1354,"Anton Calin","Sibiu",117.4,15.11,"AW",null,null,null,{"$f":"catp","v":3}]
[1620,"Filea Adonis","Sibiu",86.4,15.1,"AW",null,null,null,{"$f":"catp","v":3}]
[2245,"Verescu Dumitru","Ianca",44.5,15.1,"A",null,null,null,{"$f":"catp","v":3}]
[2272,"Visan Daniel Stanga","Ploiesti",43,15.1,"A",null,null,null,{"$f":"catp","v":3}]
[2318,"Petcu Sorin","Sibiu",41.1,15.1,"A",null,null,null,{"$f":"catp","v":3}]
[2986,"Baidoc Sergiu","Zalau",20.100000000000001,15.1,"A",null,null,null,{"$f":"catp","v":3}]
[3228,"Gindu Claudiu","Roman",15.1,15.1,"A",null,null,null,{"$f":"catp","v":3}]
[3229,"Kupas Erno","Sarmasag",15.1,15.1,"A",null,null,null,{"$f":"catp","v":3}]
[3230,"Szabo Attila","Odorheiu Secuiesc",15.1,15.1,"A",null,null,null,{"$f":"catp","v":3}]
[1225,"Colceru Paul","Comanesti",135.4,15.09,"A",null,null,null,{"$f":"catp","v":3}]
[1364,"Tianu Calin","Bucuresti",116.2,15.08,"A",null,null,null,{"$f":"catp","v":3}]
[2366,"Neicu Gheorghe","Bucuresti",39.1,15.07,"A",null,null,null,{"$f":"catp","v":3}]
[1064,"Galatean Mircea","Bistrita",162.6,15.06,"A",null,null,null,{"$f":"catp","v":3}]
[1288,"Galateanu Sorin","Suceava",124.7,15.04,"A",null,null,null,{"$f":"catp","v":3}]
[1312,"Pribeagu Bianca","Pitesti",122,15.03,"AF",null,null,null,{"$f":"catp","v":3}]
[2181,"Marandici Adrian","Brasov",47.8,15.03,"AW",null,null,null,{"$f":"catp","v":3}]
[2432,"Nistor Andreea","Botosani",36.4,15,"AF",null,null,null,{"$f":"catp","v":3}]
[2992,"Prodan Iosif Lucian","Tarnaveni",20,15,"A",null,null,null,{"$f":"catp","v":3}]
[3234,"Botian Radu","Sibiu",15,15,"A",null,null,null,{"$f":"catp","v":3}]
[3235,"Bivolaru Marius","Ploiesti",15,15,"A",null,null,null,{"$f":"catp","v":3}]
[3236,"Vlase Adrian","Iasi",15,15,"A",null,null,null,{"$f":"catp","v":3}]
[3237,"Chitic Paul","Iasi",15,15,"A",null,null,null,{"$f":"catp","v":3}]
[3238,"Rotariu Andrei","Sibiu",15,15,"A",null,null,null,{"$f":"catp","v":3}]
[3239,"Keszeg Lorand","Tarnaveni",15,15,"A",null,null,null,{"$f":"catp","v":3}]
[3240,"Mag Bujor","Simleu Silvaniei",15,15,"A",null,null,null,{"$f":"catp","v":3}]
[3241,"Malai Stanislav","Moldova-Cahul",15,15,"A",null,null,null,{"$f":"catp","v":3}]
[3242,"Pop Raul","Zalau",15,15,"A",null,null,null,{"$f":"catp","v":3}]
[3243,"Voicu Adrian","Videle",15,15,"A",null,null,null,{"$f":"catp","v":3}]
[3244,"Stefurac Marius","Ploiesti",15,15,"A",null,null,null,{"$f":"catp","v":3}]
[3245,"Colotin Catalin","Targu Frumos",15,15,"A",null,null,null,{"$f":"catp","v":3}]
[3246,"Pascal Ion","Moldova",15,15,"A",null,null,null,{"$f":"catp","v":3}]
[3247,"Anhelov Mykhalo","Ucraina",15,15,"A",null,null,null,{"$f":"catp","v":3}]
[3248,"Caramila Igor","Moldova-Vulcanesti",15,15,"A",null,null,null,{"$f":"catp","v":3}]
[3249,"Von Gamm Kevin","Cluj Napoca",15,15,"A",null,null,null,{"$f":"catp","v":3}]
[3250,"Carja Florin","Cotoroaia",15,15,"A",null,null,null,{"$f":"catp","v":3}]
[3251,"Ababii Ghenadie","Moldova-Drochia",15,15,"A",null,null,null,{"$f":"catp","v":3}]
[3252,"Maslincov Iuri","Moldova-Cantemir",15,15,"A",null,null,null,{"$f":"catp","v":3}]
[3253,"Bjelanovic Milojko","Nova Varos",15,15,"A",null,null,null,{"$f":"catp","v":3}]
[3254,"Romanova Daria","Ucraina-Umani",15,15,"AF",null,null,null,{"$f":"catp","v":3}]
[3255,"Omeliciuc Anastasia","Ucraina-Umani",15,15,"AF",null,null,null,{"$f":"catp","v":3}]
[3256,"Zorila Marcel","Moldova-Riscani",15,15,"A",null,null,null,{"$f":"catp","v":3}]
[3502,"Incze Levente","Miercurea Ciuc",11.3,15,"A",null,null,null,{"$f":"catp","v":3}]
[3503,"Nagy Istvan","Micfalau",11.3,15,"A",null,null,null,{"$f":"catp","v":3}]
[3504,"Rosca Adela","Galanesti",11.3,15,"AF",null,null,null,{"$f":"catp","v":3}]
[3505,"Plopisan Liviu","Sighetu Marmatiei",11.3,15,"A",null,null,null,{"$f":"catp","v":3}]
[3506,"Florea Marian","Targoviste",11.3,15,"AW",null,null,null,{"$f":"catp","v":3}]
[3507,"Apostol Cristian","Bucuresti",11.3,15,"A",null,null,null,{"$f":"catp","v":3}]
[3508,"Antal Csaba","Miercurea Ciuc",11.3,15,"A",null,null,null,{"$f":"catp","v":3}]
[3509,"Iliuta Adrian","Sannicolau Mare",11.3,15,"A",null,null,null,{"$f":"catp","v":3}]
[3510,"Beican Razvan","Bistrita",11.3,15,"A",null,null,null,{"$f":"catp","v":3}]
[3511,"Cirja Florin","Cotoroaia",11.3,15,"A",null,null,null,{"$f":"catp","v":3}]
[3512,"Apatiei Andrei","Botosani",11.3,15,"A",null,null,null,{"$f":"catp","v":3}]
[1476,"Besliu Alexandru","Suceava",103.1,14.98,"A",null,null,null,{"$f":"catp","v":3}]
[1937,"Olaru Cristian","Targoviste",61,14.97,"A",null,null,null,{"$f":"catp","v":3}]
[1691,"Bartha Lorant","Micfalau",79.099999999999994,14.95,"A",null,null,null,{"$f":"catp","v":3}]
[2613,"Piperea Florin","Campina",29.9,14.95,"A",null,null,null,{"$f":"catp","v":3}]
[1293,"Nistor Costel","Galati",124.3,14.93,"A",null,null,null,{"$f":"catp","v":3}]
[1653,"Milos Gianni","Alexandria",83.2,14.93,"AW",null,null,null,{"$f":"catp","v":3}]
[2384,"Farkas Gabor","Miercurea Ciuc",38.200000000000003,14.93,"A",null,null,null,{"$f":"catp","v":3}]
[1029,"Marin Doru","Iasi",169.6,14.92,"A",null,null,null,{"$f":"catp","v":3}]
[1233,"Petra Ioan","Balan",132.69999999999999,14.91,"A",null,null,null,{"$f":"catp","v":3}]
[1442,"Pop Alexandru","Bucuresti",106.6,14.9,"A",null,null,null,{"$f":"catp","v":3}]
[2152,"Bucurel Ion","Comanesti",49.1,14.9,"A",null,null,null,{"$f":"catp","v":3}]
[3261,"Badea Aida","Alesd",14.9,14.9,"AF",null,null,null,{"$f":"catp","v":3}]
[3518,"Coaja Andrei","Iasi",11.2,14.9,"A",null,null,null,{"$f":"catp","v":3}]
[2250,"Bozuc Paul","Tulcea",44.2,14.87,"A",null,null,null,{"$f":"catp","v":3}]
[2339,"Budea Andra","Galati",40.1,14.87,"AF",null,null,null,{"$f":"catp","v":3}]
[2619,"Dolis Narcis","Comanesti",29.7,14.85,"AW",null,null,null,{"$f":"catp","v":3}]
[2620,"Constantin Ionut","Odobesti",29.7,14.85,"A",null,null,null,{"$f":"catp","v":3}]
[2621,"Batrinu Valentin","Bucuresti",29.7,14.85,"A",null,null,null,{"$f":"catp","v":3}]
[914,"Popescu Florian Catalin","Bucuresti",198,14.84,"A",null,null,null,{"$f":"catp","v":3}]
[1181,"Constantin Adrian","Craiova",141.69999999999999,14.84,"A",null,null,null,{"$f":"catp","v":3}]
[1758,"Csaki Zsolt","Tomesti",74,14.83,"A",null,null,null,{"$f":"catp","v":3}]
[2297,"Buteanu Cristi","Beclean",42,14.83,"A",null,null,null,{"$f":"catp","v":3}]
[788,"Zamfirache Ioan","Botosani",231.6,14.81,"AW",null,null,null,{"$f":"catp","v":3}]
[2101,"Florea Madalin","Bucuresti",51.6,14.8,"A",null,null,null,{"$f":"catp","v":3}]
[3264,"Cotoara Toader","Suceava",14.8,14.8,"A",null,null,null,{"$f":"catp","v":3}]
[3265,"Smit Aurel","Craiova",14.8,14.8,"A",null,null,null,{"$f":"catp","v":3}]
[1820,"Ionita Mihai","Lipanesti",69.400000000000006,14.77,"A",null,null,null,{"$f":"catp","v":3}]
[2018,"Boer Barna","Bordosiu",57.2,14.77,"A",null,null,null,{"$f":"catp","v":3}]
[1648,"Wengritsky Zsuzsanna","Joseni",83.6,14.75,"AF",null,null,null,{"$f":"catp","v":3}]
[1892,"Vurst Laszlo","Oradea",64.099999999999994,14.75,"A",null,null,null,{"$f":"catp","v":3}]
[960,"Batista Lucian","Sibiu",185.9,14.74,"A",null,null,null,{"$f":"catp","v":3}]
[2904,"Georgescu Cristi","Radauti",22.1,14.7,"A",null,null,null,{"$f":"catp","v":3}]
[3277,"Badulescu Eduard","Bucuresti",14.7,14.7,"A",null,null,null,{"$f":"catp","v":3}]
[1004,"Farcas Marius","Hunedoara",175.4,14.69,"A",null,null,null,{"$f":"catp","v":3}]
[2728,"Patlati Alexandra","Moldova-Balti",26.3,14.65,"AF",null,null,null,{"$f":"catp","v":3}]
[2790,"Craciun Roberto","Videle",24.5,14.65,"A",null,null,null,{"$f":"catp","v":3}]
[1096,"Vasiu Stefan","Alba Iulia",157,14.63,"A",null,null,null,{"$f":"catp","v":3}]
[1110,"Faur Lucian","Jimbolia",155.69999999999999,14.62,"AW",null,null,null,{"$f":"catp","v":3}]
[1128,"Moraru Marius","Bucuresti",152.4,14.6,"A",null,null,null,{"$f":"catp","v":3}]
[1857,"Pop Virgil","Cluj Napoca",66.400000000000006,14.6,"A",null,null,null,{"$f":"catp","v":3}]
[3280,"Kovacs Istvan","Cristuru Secuiesc",14.6,14.6,"A",null,null,null,{"$f":"catp","v":3}]
[3529,"Nastase Marius","Suceava",11,14.6,"A",null,null,null,{"$f":"catp","v":3}]
[959,"Stinga Ion","Ploiesti",186,14.59,"A",null,null,null,{"$f":"catp","v":3}]
[1557,"Balaban Adrian","Bucuresti",94,14.58,"A",null,null,null,{"$f":"catp","v":3}]
[1397,"Pavel Nicolae","Braila",112.9,14.55,"A",null,null,null,{"$f":"catp","v":3}]
[1485,"Nitu Gheorghe","Craiova",101.6,14.53,"A",null,null,null,{"$f":"catp","v":3}]
[1754,"Nadoleanu Pavel","Tulcea",74.400000000000006,14.53,"A",null,null,null,{"$f":"catp","v":3}]
[2114,"Becleanu Octavian","Bucuresti",51.1,14.5,"A",null,null,null,{"$f":"catp","v":3}]
[809,"Movileanu Neculae","Brasov",225.3,14.48,"A",null,null,null,{"$f":"catp","v":3}]
[920,"Grecu Cornel","Bistrita",195.7,14.45,"AW",null,null,null,{"$f":"catp","v":3}]
[1367,"Roventa Dan","Bucuresti",115.9,14.45,"A",null,null,null,{"$f":"catp","v":3}]
[2115,"Petrache Claudiu","Branesti",51.1,14.45,"A",null,null,null,{"$f":"catp","v":3}]
[1344,"Ocu Ioan","Botosani",118.6,14.44,"A",null,null,null,{"$f":"catp","v":3}]
[1466,"Arteni Sergiu","Bucuresti",103.9,14.43,"A",null,null,null,{"$f":"catp","v":3}]
[1864,"Alimareanu Raul","Dumbravita",65.900000000000006,14.43,"A",null,null,null,{"$f":"catp","v":3}]
[2140,"Toma Sebastian","Ramnicu Sarat",49.7,14.43,"A",null,null,null,{"$f":"catp","v":3}]
[1914,"Lepadatu Gheorghe","Pascani",62.6,14.4,"A",null,null,null,{"$f":"catp","v":3}]
[2159,"Balanean Andrei","Sibiu",48.9,14.4,"A",null,null,null,{"$f":"catp","v":3}]
[2178,"Ratiu Adrian","Oradea",47.9,14.4,"A",null,null,null,{"$f":"catp","v":3}]
[2353,"Moasa Gabriel","Bucuresti",39.6,14.4,"A",null,null,null,{"$f":"catp","v":3}]
[953,"Zaharia Ciprian","Piatra Neamt",187.7,14.39,"A",null,null,null,{"$f":"catp","v":3}]
[1418,"Elekes Tibor","Sebes",109.7,14.38,"A",null,null,null,{"$f":"catp","v":3}]
[1280,"Dalalau Dora","Targu Mures",126,14.35,"AF",null,null,null,{"$f":"catp","v":3}]
[2740,"Barbos Florin","Bistrita",25.9,14.35,"AW",null,null,null,{"$f":"catp","v":3}]
[2919,"Ivan Tiberiu","Bucuresti",21.6,14.35,"A",null,null,null,{"$f":"catp","v":3}]
[1643,"Flutur Ghita","Granicesti",84.2,14.33,"A",null,null,null,{"$f":"catp","v":3}]
[1951,"Tudorache Cornel","Bucuresti",60.3,14.33,"A",null,null,null,{"$f":"catp","v":3}]
[1405,"Belea Laurentiu","Galati",111.2,14.32,"A",null,null,null,{"$f":"catp","v":3}]
[855,"Dorcu Emanuel","Tamaseni",212.8,14.3,"A",null,null,null,{"$f":"catp","v":3}]
[2076,"Teaca Gheorghe","Moldova-Drochia",53.2,14.3,"A",null,null,null,{"$f":"catp","v":3}]
[2485,"Isopescu Vasile","Timisoara",34.5,14.3,"A",null,null,null,{"$f":"catp","v":3}]
[3290,"Marin Catalin","Cateasca",14.3,14.3,"A",null,null,null,{"$f":"catp","v":3}]
[3291,"Amariei Lucian","Piatra Neamt",14.3,14.3,"A",null,null,null,{"$f":"catp","v":3}]
[3292,"Jovanovic Slobodan","Zajecar Serbia",14.3,14.3,"A",null,null,null,{"$f":"catp","v":3}]
[3293,"Gorbatiuc Alexandr","Ucraina-Odessa",14.3,14.3,"A",null,null,null,{"$f":"catp","v":3}]
[3553,"Robu Sergiu","Iasi",10.8,14.3,"A",null,null,null,{"$f":"catp","v":3}]
[1783,"Franculescu Marius","Sinaia",71.900000000000006,14.28,"A",null,null,null,{"$f":"catp","v":3}]
[1433,"Balint Doru","Alesd",107.5,14.27,"A",null,null,null,{"$f":"catp","v":3}]
[1918,"Smadici Cristian","Milisauti",62.3,14.25,"A",null,null,null,{"$f":"catp","v":3}]
[1992,"Pralea Eric","Vatra Dornei",58.2,14.25,"A",null,null,null,{"$f":"catp","v":3}]
[1597,"Mihalcea Iulian","Galati",89.2,14.24,"A",null,null,null,{"$f":"catp","v":3}]
[1685,"Nedelcu Marian","Sinaia",80.400000000000006,14.22,"A",null,null,null,{"$f":"catp","v":3}]
[2320,"Foris Csaba","Bistrita",41,14.2,"A",null,null,null,{"$f":"catp","v":3}]
[2601,"Antonya Csaba","Brasov",30.5,14.2,"A",null,null,null,{"$f":"catp","v":3}]
[3301,"Duca Bebe","Curtea de Arges",14.2,14.2,"A",null,null,null,{"$f":"catp","v":3}]
[3302,"Ciolpan Doru","Iasi",14.2,14.2,"A",null,null,null,{"$f":"catp","v":3}]
[1598,"Seiche Lucian","Oravita",89.2,14.18,"A",null,null,null,{"$f":"catp","v":3}]
[1702,"Lates Dorin","Sighisoara",78.599999999999994,14.18,"A",null,null,null,{"$f":"catp","v":3}]
[2038,"Crisan Beniamin","Sighetu Marmatiei",55.5,14.17,"A",null,null,null,{"$f":"catp","v":3}]
[2337,"Melnerovici Daniel","Stefanesti Arges",40.200000000000003,14.15,"A",null,null,null,{"$f":"catp","v":3}]
[2486,"Milos Andrei","Bocsa",34.5,14.15,"A",null,null,null,{"$f":"catp","v":3}]
[2754,"Scurtu Nicolae","Bistrita",25.5,14.15,"A",null,null,null,{"$f":"catp","v":3}]
[978,"Firican Andrei","Deva",181.7,14.13,"A",null,null,null,{"$f":"catp","v":3}]
[1801,"Popa Catalin","Roman",70.7,14.13,"A",null,null,null,{"$f":"catp","v":3}]
[1811,"Mindru Marin","Sarmas",69.900000000000006,14.13,"A",null,null,null,{"$f":"catp","v":3}]
[2025,"Ursu Silviu","Timisoara",56.9,14.13,"A",null,null,null,{"$f":"catp","v":3}]
[1275,"Gologan Sorin Gabriel","Faurei",127,14.1,"A",null,null,null,{"$f":"catp","v":3}]
[1760,"Drumen Evelina","Vatra Dornei",73.599999999999994,14.1,"AJF",null,null,null,{"$f":"catp","v":3}]
[1826,"Luca Ioan","Bucuresti",68.599999999999994,14.1,"A",null,null,null,{"$f":"catp","v":3}]
[2187,"Capra Arthur","Vatra Dornei",47.3,14.1,"A",null,null,null,{"$f":"catp","v":3}]
[2327,"Iakab Ovidiu","Aiud",40.6,14.1,"A",null,null,null,{"$f":"catp","v":3}]
[2334,"Florescu Ionut","Craiova",40.4,14.1,"A",null,null,null,{"$f":"catp","v":3}]
[2807,"Fat Nicu","Sighetu Marmatiei",24.1,14.1,"A",null,null,null,{"$f":"catp","v":3}]
[2824,"Gelei Nimrod","Odorheiu Secuiesc",23.8,14.1,"A",null,null,null,{"$f":"catp","v":3}]
[3306,"Hanuleac Tamas","Joseni",14.1,14.1,"A",null,null,null,{"$f":"catp","v":3}]
[3307,"Morosan Gabriel","Satumare",14.1,14.1,"A",null,null,null,{"$f":"catp","v":3}]
[1611,"Boicu Eduard","Vaslui",87.6,14.08,"A",null,null,null,{"$f":"catp","v":3}]
[858,"Manoila Adrian","Iasi",211.5,14.07,"A",null,null,null,{"$f":"catp","v":3}]
[1916,"Pasztor Gyorgy","Sovata",62.5,14.07,"A",null,null,null,{"$f":"catp","v":3}]
[2665,"Burlica Cristian","Vicovu de Jos",28.1,14.05,"A",null,null,null,{"$f":"catp","v":3}]
[2791,"Damse Daniel","Oradea",24.5,14.05,"A",null,null,null,{"$f":"catp","v":3}]
[3573,"Hritcu Alin","Targu Mures",10.5,14,"A",null,null,null,{"$f":"catp","v":3}]
[847,"Constantin Valentin","Ploiesti",214.6,13.98,"A",null,null,null,{"$f":"catp","v":3}]
[1451,"Solovastru Gabriel","Gura Humorului",105.8,13.98,"A",null,null,null,{"$f":"catp","v":3}]
[1679,"Dragomanu Florin","Comanesti",81,13.98,"A",null,null,null,{"$f":"catp","v":3}]
[2207,"Breaza Theodor","Drobeta Tr Severin",46.1,13.97,"A",null,null,null,{"$f":"catp","v":3}]
[2385,"Vladu Daniel","Bucuresti",38.200000000000003,13.97,"A",null,null,null,{"$f":"catp","v":3}]
[1392,"Petrache Radu","Blaj",113.4,13.96,"A",null,null,null,{"$f":"catp","v":3}]
[2799,"Diaconescu Ion","Galati",24.3,13.95,"A",null,null,null,{"$f":"catp","v":3}]
[2941,"Havris Marius","Botosani",21,13.95,"A",null,null,null,{"$f":"catp","v":3}]
[1261,"Ciobanu David Florin","Gura Humorului",129.5,13.94,"A",null,null,null,{"$f":"catp","v":3}]
[1865,"Chironda Nica","Moldova-Balti",65.900000000000006,13.93,"A",null,null,null,{"$f":"catp","v":3}]
[1568,"Maladoi George","Tulcea",92.8,13.9,"A",null,null,null,{"$f":"catp","v":3}]
[2541,"Iasinschi Daniel","Suceava",32.9,13.9,"A",null,null,null,{"$f":"catp","v":3}]
[3035,"Sandu Gheorghe","Nasaud",18.899999999999999,13.9,"A",null,null,null,{"$f":"catp","v":3}]
[3316,"Lupu Marius","Bucuresti",13.9,13.9,"A",null,null,null,{"$f":"catp","v":3}]
[3574,"LI HONGLEI","Bucuresti",10.5,13.9,"A",null,null,null,{"$f":"catp","v":3}]
[1026,"Bairam Marcel","Harsova",170.1,13.87,"A",null,null,null,{"$f":"catp","v":3}]
[1345,"Timofei Alberto","Tulcea",118.6,13.87,"A",null,null,null,{"$f":"catp","v":3}]
[1227,"Baragan Vladimir","Moldova-Cahul",134,13.86,"A",null,null,null,{"$f":"catp","v":3}]
[2792,"Lungu Cristian","Oradea",24.5,13.85,"A",null,null,null,{"$f":"catp","v":3}]
[2446,"Flaut Liviu","Navodari",36.1,13.83,"A",null,null,null,{"$f":"catp","v":3}]
[2448,"Picu Patric","Dumbravita",35.9,13.83,"A",null,null,null,{"$f":"catp","v":3}]
[1407,"Gonta Viorel","Tecuci",111,13.8,"A",null,null,null,{"$f":"catp","v":3}]
[2393,"Ciutre Ioan","Zalau",37.9,13.8,"A",null,null,null,{"$f":"catp","v":3}]
[2962,"Sardeni Teodora","Moinesti",20.7,13.8,"AF",null,null,null,{"$f":"catp","v":3}]
[1775,"Luntraru Mihai","Iasi",72.3,13.78,"A",null,null,null,{"$f":"catp","v":3}]
[1966,"Predus Florin Catalin","Dabuleni",59.4,13.78,"A",null,null,null,{"$f":"catp","v":3}]
[2194,"Nechita Tudor","Cluj Napoca",46.8,13.75,"AJ",null,null,null,{"$f":"catp","v":3}]
[1214,"Jerebetchi Dumitru","Moldova-Cahul",137.4,13.74,"A",null,null,null,{"$f":"catp","v":3}]
[2090,"Jurgiu Marian","Botosani",52.6,13.73,"AW",null,null,null,{"$f":"catp","v":3}]
[1112,"Fratila Dan","Ocna Sibiului",155.6,13.71,"A",null,null,null,{"$f":"catp","v":3}]
[1443,"Bratosin Lica","Faurei",106.6,13.7,"A",null,null,null,{"$f":"catp","v":3}]
[1734,"Nicolae Darius","Bucuresti",76.3,13.7,"A",null,null,null,{"$f":"catp","v":3}]
[3328,"Trip Darius","Oradea",13.7,13.7,"A",null,null,null,{"$f":"catp","v":3}]
[3329,"Voinescu Bianca","Lugoj",13.7,13.7,"AF",null,null,null,{"$f":"catp","v":3}]
[3330,"Nicut Valentin","Curtea de Arges",13.7,13.7,"A",null,null,null,{"$f":"catp","v":3}]
[964,"Roman David","Arad",185.1,13.68,"A",null,null,null,{"$f":"catp","v":3}]
[1858,"Burtea Teodor Daniel","Galati",66.400000000000006,13.68,"A",null,null,null,{"$f":"catp","v":3}]
[981,"Man Ionut","Dej",180.9,13.64,"A",null,null,null,{"$f":"catp","v":3}]
[843,"Macuc Adrian","Bucuresti",216,13.61,"A",null,null,null,{"$f":"catp","v":3}]
[1067,"Dumitru Cristian","Bucuresti",162.30000000000001,13.6,"A",null,null,null,{"$f":"catp","v":3}]
[2558,"Lele Mihai","Alesd",32.200000000000003,13.6,"A",null,null,null,{"$f":"catp","v":3}]
[3333,"Osman Levent","Constanta",13.6,13.6,"A",null,null,null,{"$f":"catp","v":3}]
[1116,"Duman Iulian","Halaucesti",155,13.57,"AW",null,null,null,{"$f":"catp","v":3}]
[1746,"Maftei Ticu","Iasi",75.7,13.53,"A",null,null,null,{"$f":"catp","v":3}]
[1883,"Suciu Mihai","Borsec",64.5,13.53,"A",null,null,null,{"$f":"catp","v":3}]
[1931,"Anhelov Mihail","Moldova-Vulcanesti",61.4,13.53,"A",null,null,null,{"$f":"catp","v":3}]
[1062,"Blidariu Alin","Bucovat",162.9,13.52,"A",null,null,null,{"$f":"catp","v":3}]
[2410,"Munteanu Constantin","Ramnicu Sarat",37.200000000000003,13.5,"AW",null,null,null,{"$f":"catp","v":3}]
[2974,"Gabor Luca","Moinesti",20.3,13.5,"A",null,null,null,{"$f":"catp","v":3}]
[3059,"Bejan Nicolae","Iasi",18.5,13.5,"A",null,null,null,{"$f":"catp","v":3}]
[3339,"Pop Cornel Nicusor","Baia Mare",13.5,13.5,"A",null,null,null,{"$f":"catp","v":3}]
[871,"Dumitrache Ovidiu","Petrosani",208.7,13.48,"A",null,null,null,{"$f":"catp","v":3}]
[970,"Thomas William Knobel","Bucuresti",183.6,13.48,"AJ",null,null,null,{"$f":"catp","v":3}]
[2441,"Onofrei Ionut","Iasi",36.200000000000003,13.47,"A",null,null,null,{"$f":"catp","v":3}]
[2709,"Cecan Leonid","Moldova-Drochia",26.9,13.45,"A",null,null,null,{"$f":"catp","v":3}]
[2821,"Mirciu Serghei","Moldova-Chisinau",23.9,13.45,"A",null,null,null,{"$f":"catp","v":3}]
[2980,"Socaci Marian","Braila",20.2,13.45,"A",null,null,null,{"$f":"catp","v":3}]
[1138,"Kovacs Dorel","Remetea Mare",149.5,13.4,"A",null,null,null,{"$f":"catp","v":3}]
[2298,"Balasescu Ionut","Campina",42,13.4,"A",null,null,null,{"$f":"catp","v":3}]
[2452,"Bogdan Marian","Caransebes",35.700000000000003,13.4,"A",null,null,null,{"$f":"catp","v":3}]
[3347,"Baltateanu Cezar","Brasov",13.4,13.4,"A",null,null,null,{"$f":"catp","v":3}]
[3598,"Bitoiu Horia","Azuga",10.1,13.4,"A",null,null,null,{"$f":"catp","v":3}]
[1358,"Hidisan Ioan Lucian","Campia Turzii",116.6,13.37,"A",null,null,null,{"$f":"catp","v":3}]
[923,"Drulea Petru","Jimbolia",195.1,13.36,"A",null,null,null,{"$f":"catp","v":3}]
[1511,"Georgescu Cristian","Pitesti",98.4,13.35,"A",null,null,null,{"$f":"catp","v":3}]
[1671,"Bordas Laszlo","Santionlunca",81.5,13.32,"A",null,null,null,{"$f":"catp","v":3}]
[1159,"Mihu Dorel","Medias",144.9,13.3,"A",null,null,null,{"$f":"catp","v":3}]
[1919,"Iacob Gabriel","Iasi",62.2,13.3,"AW",null,null,null,{"$f":"catp","v":3}]
[2208,"Muresan Cristian","Cluj Napoca",46.1,13.3,"A",null,null,null,{"$f":"catp","v":3}]
[2236,"Benga Alin","Targu Jiu",44.8,13.3,"A",null,null,null,{"$f":"catp","v":3}]
[3353,"Boureanu Constantin","Iasi",13.3,13.3,"A",null,null,null,{"$f":"catp","v":3}]
[3354,"Pisica Fanica","Iasi",13.3,13.3,"A",null,null,null,{"$f":"catp","v":3}]
[3355,"Matei Alexandru","Focsani",13.3,13.3,"A",null,null,null,{"$f":"catp","v":3}]
[3356,"Matei Eugen","Barlad",13.3,13.3,"A",null,null,null,{"$f":"catp","v":3}]
[3357,"Trifon Sara","Lokve",13.3,13.3,"AF",null,null,null,{"$f":"catp","v":3}]
[3605,"Boicu Gabriel","Vatra Dornei",10,13.3,"A",null,null,null,{"$f":"catp","v":3}]
[1403,"Barladeanu Emil","Constanta",111.6,13.27,"A",null,null,null,{"$f":"catp","v":3}]
[1507,"Kristof Daniel","Oradea",98.6,13.26,"A",null,null,null,{"$f":"catp","v":3}]
[1622,"Anica Andrei","Buzau",86.1,13.25,"A",null,null,null,{"$f":"catp","v":3}]
[1686,"Szabo Ovidiu","Dej",80.400000000000006,13.25,"A",null,null,null,{"$f":"catp","v":3}]
[1761,"Mihaila George","Vulcana Pandele",73.599999999999994,13.25,"A",null,null,null,{"$f":"catp","v":3}]
[1793,"Timis Sandu","Vizejdia",71.400000000000006,13.23,"A",null,null,null,{"$f":"catp","v":3}]
[1151,"Dumitru Ovidiu","Buzau",146.69999999999999,13.21,"A",null,null,null,{"$f":"catp","v":3}]
[2286,"Marin Iulian","Campina",42.6,13.2,"AW",null,null,null,{"$f":"catp","v":3}]
[2422,"Barbu Cristian","Maneciu",36.799999999999997,13.2,"A",null,null,null,{"$f":"catp","v":3}]
[2723,"Nitulescu Matei","Bucuresti",26.4,13.2,"A",null,null,null,{"$f":"catp","v":3}]
[2997,"Drimus Mihai","Sighetu Marmatiei",19.8,13.2,"A",null,null,null,{"$f":"catp","v":3}]
[3075,"Kolumban Levente","Targu Mures",18.2,13.2,"A",null,null,null,{"$f":"catp","v":3}]
[3364,"Feier Leon","Reghin",13.2,13.2,"A",null,null,null,{"$f":"catp","v":3}]
[3365,"Gindele Szilard","Carei",13.2,13.2,"A",null,null,null,{"$f":"catp","v":3}]
[3623,"Onose Iulian","Galati",9.9,13.2,"A",null,null,null,{"$f":"catp","v":3}]
[3624,"Lascu Mihai","Timisoara",9.9,13.2,"A",null,null,null,{"$f":"catp","v":3}]
[3625,"Ielciu Stefan","Cluj Napoca",9.9,13.2,"A",null,null,null,{"$f":"catp","v":3}]
[879,"Toader Petru","Mogosoaia",206.6,13.19,"AW",null,null,null,{"$f":"catp","v":3}]
[1658,"Ifrosa Rebeca","Cluj Napoca",83,13.18,"AF",null,null,null,{"$f":"catp","v":3}]
[857,"Marias Laurentiu","Ploiesti",212.4,13.17,"A",null,null,null,{"$f":"catp","v":3}]
[2088,"Pop Victor","Bucuresti",52.7,13.17,"A",null,null,null,{"$f":"catp","v":3}]
[2835,"Raicu Ion","Alexandria",23.6,13.15,"A",null,null,null,{"$f":"catp","v":3}]
[2870,"Mihaila Romeo","Pucioasa",22.7,13.15,"A",null,null,null,{"$f":"catp","v":3}]
[823,"Voicila Adrian","Ploiesti",220.6,13.14,"A",null,null,null,{"$f":"catp","v":3}]
[1815,"Drugas Laurentiu Florin","Bucuresti",69.7,13.13,"A",null,null,null,{"$f":"catp","v":3}]
[1959,"Stefan Adrian","Bucuresti",59.9,13.13,"A",null,null,null,{"$f":"catp","v":3}]
[2546,"Balici Aurel","Radauti",32.5,13.13,"A",null,null,null,{"$f":"catp","v":3}]
[2217,"Huruba Cristian","Targu Mures",45.5,13.1,"A",null,null,null,{"$f":"catp","v":3}]
[2442,"Stanciu Marian","Bucuresti",36.200000000000003,13.1,"A",null,null,null,{"$f":"catp","v":3}]
[2519,"Constantin Rares","Focsani",33.4,13.1,"A",null,null,null,{"$f":"catp","v":3}]
[2731,"Macelaru Eugen","Bucuresti",26.2,13.1,"A",null,null,null,{"$f":"catp","v":3}]
[3372,"Aldea Sandrino","Comanesti",13.1,13.1,"A",null,null,null,{"$f":"catp","v":3}]
[3373,"Mihailescu Antonel","Slobozia",13.1,13.1,"A",null,null,null,{"$f":"catp","v":3}]
[3374,"Jianu Florin","Constanta",13.1,13.1,"A",null,null,null,{"$f":"catp","v":3}]
[3375,"Valcea Vlad","Constanta",13.1,13.1,"A",null,null,null,{"$f":"catp","v":3}]
[3376,"Barabas Ivan","Moldova-Tvardita",13.1,13.1,"A",null,null,null,{"$f":"catp","v":3}]
[1037,"Ghete Alexandru","Timisoara",168.6,13.08,"A",null,null,null,{"$f":"catp","v":3}]
[2086,"Marin Mihai","Ploiesti",52.8,13.08,"A",null,null,null,{"$f":"catp","v":3}]
[2734,"Stoica Dan","Galati",26.1,13.05,"A",null,null,null,{"$f":"catp","v":3}]
[1853,"Vasiloiu Sebastian","Pitesti",67.099999999999994,13.03,"A",null,null,null,{"$f":"catp","v":3}]
[1071,"Zara Dinu","Suceava",161.9,13.01,"A",null,null,null,{"$f":"catp","v":3}]
[1461,"Mutu Mario","Deva",104.5,13,"A",null,null,null,{"$f":"catp","v":3}]
[2218,"Angheloni Adrian","Nadrag",45.5,13,"A",null,null,null,{"$f":"catp","v":3}]
[1147,"Hogea Cristi","Piatra Neamt",147.4,12.98,"A",null,null,null,{"$f":"catp","v":3}]
[1748,"Balasoiu Maria","Novaci",75.400000000000006,12.98,"AF",null,null,null,{"$f":"catp","v":3}]
[1925,"Verman Stefan","Brasov",62,12.98,"A",null,null,null,{"$f":"catp","v":3}]
[1408,"Iordache Catalin","Comanesti",111,12.97,"AW",null,null,null,{"$f":"catp","v":3}]
[1437,"Sirbu Moise","Baile Herculane",106.9,12.97,"A",null,null,null,{"$f":"catp","v":3}]
[1050,"Rosu Ioan","Sibiu",167.1,12.96,"A",null,null,null,{"$f":"catp","v":3}]
[1776,"Criste Mihai Marius","Cluj Napoca",72.3,12.95,"A",null,null,null,{"$f":"catp","v":3}]
[2741,"Toma Cristian","Oradea",25.9,12.95,"A",null,null,null,{"$f":"catp","v":3}]
[2742,"Zgadan Iustin","Moldova-Cahul",25.9,12.95,"A",null,null,null,{"$f":"catp","v":3}]
[2905,"Patrascuta Tiberiu","Drobeta Tr Severin",22.1,12.95,"A",null,null,null,{"$f":"catp","v":3}]
[2456,"Fercalo Alin","Siret",35.5,12.93,"A",null,null,null,{"$f":"catp","v":3}]
[1580,"Anastasiu Constantin","Comanesti",91.9,12.9,"AW",null,null,null,{"$f":"catp","v":3}]
[2338,"Asmarandei Petru","Constanta",40.200000000000003,12.9,"AW",null,null,null,{"$f":"catp","v":3}]
[3381,"Dinic Jovica","Zajecar Serbia",12.9,12.9,"A",null,null,null,{"$f":"catp","v":3}]
[994,"Birtalan Attila","Crasna",177.7,12.88,"A",null,null,null,{"$f":"catp","v":3}]
[2746,"Hegyi Augustin","Cluj Napoca",25.7,12.85,"A",null,null,null,{"$f":"catp","v":3}]
[2747,"Ticala Sorin","Aiud",25.7,12.85,"A",null,null,null,{"$f":"catp","v":3}]
[2864,"Manoliu Cristian","Bucuresti",22.8,12.85,"A",null,null,null,{"$f":"catp","v":3}]
[1201,"Popescu Horia","Sinaia",139.19999999999999,12.84,"A",null,null,null,{"$f":"catp","v":3}]
[1263,"Avram Ionut","Galati",129.30000000000001,12.83,"A",null,null,null,{"$f":"catp","v":3}]
[1896,"Teris Valeriu","Comanesti",63.8,12.83,"A",null,null,null,{"$f":"catp","v":3}]
[2545,"Enciu Marcel","Bucuresti",32.700000000000003,12.83,"AW",null,null,null,{"$f":"catp","v":3}]
[3387,"Blaboli Dominik","Arad",12.8,12.8,"A",null,null,null,{"$f":"catp","v":3}]
[3388,"Ciucu Pavel","Pitesti",12.8,12.8,"A",null,null,null,{"$f":"catp","v":3}]
[3389,"Greceanu Alezandru","Macin",12.8,12.8,"A",null,null,null,{"$f":"catp","v":3}]
[2755,"Sandescu Florin","Bucuresti",25.5,12.75,"A",null,null,null,{"$f":"catp","v":3}]
[1054,"Ilie Costin","Bucuresti",165.1,12.74,"A",null,null,null,{"$f":"catp","v":3}]
[1410,"Joghiu Ovidiu","Focsani",110.6,12.73,"A",null,null,null,{"$f":"catp","v":3}]
[2479,"Petre Catalin","Bucuresti",34.700000000000003,12.73,"A",null,null,null,{"$f":"catp","v":3}]
[1737,"Geanta Tony","Braila",76.099999999999994,12.72,"A",null,null,null,{"$f":"catp","v":3}]
[1109,"Souca Liviu","Bucuresti",155.80000000000001,12.7,"A",null,null,null,{"$f":"catp","v":3}]
[1277,"Steau Dan","Santimbru AB",126.5,12.7,"AW",null,null,null,{"$f":"catp","v":3}]
[1604,"Petrut Andrei","Chisoda",88.7,12.7,"A",null,null,null,{"$f":"catp","v":3}]
[2255,"Zolotaryk George","Suceava",44.1,12.7,"A",null,null,null,{"$f":"catp","v":3}]
[2604,"Geamanu Pompiliu","Adjud",30.4,12.7,"A",null,null,null,{"$f":"catp","v":3}]
[2759,"Fulop Nimrod","Cristuru Secuiesc",25.4,12.7,"AL",null,null,null,{"$f":"catp","v":3}]
[2760,"Sabo Otto","Berveni",25.4,12.7,"A",null,null,null,{"$f":"catp","v":3}]
[1555,"Diaconescu Dragos","Craiova",94.1,12.68,"A",null,null,null,{"$f":"catp","v":3}]
[2764,"Delev Alexandru","Moldova-Edinet",25.3,12.65,"A",null,null,null,{"$f":"catp","v":3}]
[2876,"Stupinean Mircea","Calan",22.6,12.65,"A",null,null,null,{"$f":"catp","v":3}]
[2906,"Savin Alexandru","Galati",22.1,12.65,"A",null,null,null,{"$f":"catp","v":3}]
[3029,"Nita Alin","Bucuresti",19,12.65,"A",null,null,null,{"$f":"catp","v":3}]
[3036,"Gita Dan","Sfantu Gheorghe",18.899999999999999,12.6,"A",null,null,null,{"$f":"catp","v":3}]
[3400,"Lupu Gheorghe","Navodari",12.6,12.6,"A",null,null,null,{"$f":"catp","v":3}]
[3401,"Bercuci Lucian","Navodari",12.6,12.6,"A",null,null,null,{"$f":"catp","v":3}]
[2482,"Mihaila Radu","Timisoara",34.6,12.57,"A",null,null,null,{"$f":"catp","v":3}]
[1238,"Aresan David","Bistrita",132.19999999999999,12.56,"AD",null,null,null,{"$f":"catp","v":3}]
[1888,"Ogrinji Nicu","Iasi",64.2,12.55,"A",null,null,null,{"$f":"catp","v":3}]
[1355,"Mihalache Daniel","Buzau",116.9,12.52,"A",null,null,null,{"$f":"catp","v":3}]
[1003,"Leon Victor","Galati",176.2,12.51,"AJ",null,null,null,{"$f":"catp","v":3}]
[1162,"Gaman Alin","Marginenii de Jos",144.5,12.5,"A",null,null,null,{"$f":"catp","v":3}]
[2072,"Cruceru Ion","Ramnicu Sarat",53.4,12.5,"A",null,null,null,{"$f":"catp","v":3}]
[2900,"Lucaciu Raul","Oradea",22.2,12.5,"A",null,null,null,{"$f":"catp","v":3}]
[3040,"Daianu Ion","Timisoara",18.8,12.5,"A",null,null,null,{"$f":"catp","v":3}]
[3111,"Merezeanu Gabriel","Bucuresti",17.5,12.5,"A",null,null,null,{"$f":"catp","v":3}]
[3404,"Baldea Horia","Bucuresti",12.5,12.5,"A",null,null,null,{"$f":"catp","v":3}]
[3405,"Paunescu David","Bucuresti",12.5,12.5,"A",null,null,null,{"$f":"catp","v":3}]
[3656,"Neamtu Alin","Arad",9.4,12.5,"A",null,null,null,{"$f":"catp","v":3}]
[3657,"Maftei Leonard","Buhusi",9.4,12.5,"A",null,null,null,{"$f":"catp","v":3}]
[3658,"Pricop Lucian","Stolniceni",9.4,12.5,"A",null,null,null,{"$f":"catp","v":3}]
[2230,"Sentes Norbert","Timisoara",45,12.47,"A",null,null,null,{"$f":"catp","v":3}]
[1459,"Huica Petre","Bucuresti",104.7,12.46,"A",null,null,null,{"$f":"catp","v":3}]
[2153,"Barbinta Dan","Zalau",49.1,12.45,"A",null,null,null,{"$f":"catp","v":3}]
[2777,"Borbeiu Raul","Baia Mare",24.9,12.45,"A",null,null,null,{"$f":"catp","v":3}]
[2920,"Popa Cosmin","Lipova",21.6,12.45,"A",null,null,null,{"$f":"catp","v":3}]
[1723,"Costea Claudiu","Negresti Oas",77,12.42,"A",null,null,null,{"$f":"catp","v":3}]
[1551,"Alb Sorin","Alba Iulia",94.7,12.4,"A",null,null,null,{"$f":"catp","v":3}]
[2150,"Olaru Miruna Andreea","Comanesti",49.2,12.4,"AF",null,null,null,{"$f":"catp","v":3}]
[2273,"Hutanu Daniel","Iasi",43,12.4,"A",null,null,null,{"$f":"catp","v":3}]
[2921,"Matyas Balazs","Bretcu",21.6,12.4,"A",null,null,null,{"$f":"catp","v":3}]
[3414,"Baburea Alexandru Ionut","Alexandria",12.4,12.4,"A",null,null,null,{"$f":"catp","v":3}]
[3661,"Dumbrava Dan","Timisoara",9.3000000000000007,12.4,"A",null,null,null,{"$f":"catp","v":3}]
[3662,"Costea Dominic","Medias",9.3000000000000007,12.4,"A",null,null,null,{"$f":"catp","v":3}]
[2735,"Vela Gabriel","Timisoara",26.1,12.35,"A",null,null,null,{"$f":"catp","v":3}]
[1202,"Roghina Cosmin","Sibiu",139.19999999999999,12.34,"A",null,null,null,{"$f":"catp","v":3}]
[1390,"Serbanescu Bogdan","Bucuresti",113.6,12.33,"A",null,null,null,{"$f":"catp","v":3}]
[1618,"Soldan Asael","Cajvana",86.8,12.3,"A",null,null,null,{"$f":"catp","v":3}]
[1855,"Pop Dumitru","Oradea",66.599999999999994,12.3,"A",null,null,null,{"$f":"catp","v":3}]
[1875,"Cucereavaia Natalia","Moldova-Balti",65,12.3,"AF",null,null,null,{"$f":"catp","v":3}]
[2378,"Ghitu Liviu","Onesti",38.5,12.3,"AW",null,null,null,{"$f":"catp","v":3}]
[2624,"Lupu Dan","Pascani",29.6,12.3,"A",null,null,null,{"$f":"catp","v":3}]
[3663,"Tini Alina Stefania","Constanta",9.3000000000000007,12.3,"AF",null,null,null,{"$f":"catp","v":3}]
[3664,"Lazar Emil","Ocna Mures",9.3000000000000007,12.3,"A",null,null,null,{"$f":"catp","v":3}]
[3665,"Buhaciuc Crina","Constanta",9.3000000000000007,12.3,"AF",null,null,null,{"$f":"catp","v":3}]
[3666,"Chirilescu Crina","Constanta",9.3000000000000007,12.3,"AF",null,null,null,{"$f":"catp","v":3}]
[3667,"Minghiras Anamaria","Constanta",9.3000000000000007,12.3,"AF",null,null,null,{"$f":"catp","v":3}]
[3668,"Solomon David","Cluj Napoca",9.3000000000000007,12.3,"A",null,null,null,{"$f":"catp","v":3}]
[1255,"Juganaru Valentin","Bucuresti",130.1,12.29,"A",null,null,null,{"$f":"catp","v":3}]
[1649,"Grecu Gheorghe","Bistrita",83.6,12.28,"AW",null,null,null,{"$f":"catp","v":3}]
[2274,"Mali Robert","Vama",43,12.27,"A",null,null,null,{"$f":"catp","v":3}]
[2169,"Catuna Bogdan","Cluj Napoca",48.2,12.25,"A",null,null,null,{"$f":"catp","v":3}]
[2345,"Calciu Vasile","Craiova",39.799999999999997,12.23,"A",null,null,null,{"$f":"catp","v":3}]
[2611,"Iordan Marius","Bucuresti",30,12.2,"A",null,null,null,{"$f":"catp","v":3}]
[3428,"Nicolaev Valerii","Moldova-Taraclia",12.2,12.2,"A",null,null,null,{"$f":"catp","v":3}]
[3429,"Milosevic Goran","Zajecar Serbia",12.2,12.2,"A",null,null,null,{"$f":"catp","v":3}]
[3673,"Bontoi Mihai","Alexandria",9.1999999999999993,12.2,"A",null,null,null,{"$f":"catp","v":3}]
[3674,"Mija Gheorghe","Fagaras",9.1999999999999993,12.2,"A",null,null,null,{"$f":"catp","v":3}]
[1490,"Ionescu Andrei","Bucuresti",101.2,12.15,"A",null,null,null,{"$f":"catp","v":3}]
[2423,"Bodnari Mircea","Gura Humorului",36.799999999999997,12.15,"A",null,null,null,{"$f":"catp","v":3}]
[2346,"Dragan Alin","Bucuresti",39.799999999999997,12.13,"A",null,null,null,{"$f":"catp","v":3}]
[2710,"Rifat Bislimi","Alibunar",26.9,12.1,"A",null,null,null,{"$f":"catp","v":3}]
[2802,"Jantea Florin","Bucuresti",24.2,12.1,"A",null,null,null,{"$f":"catp","v":3}]
[3434,"Burducea Alexandru","Targoviste",12.1,12.1,"A",null,null,null,{"$f":"catp","v":3}]
[3435,"Puiu Viorel","Moldova-Balti",12.1,12.1,"A",null,null,null,{"$f":"catp","v":3}]
[3678,"Petrescu Ovidiu","Pitesti",9.1,12.1,"A",null,null,null,{"$f":"catp","v":3}]
[2340,"Popescu Cristi","Slatina",40.1,12.07,"A",null,null,null,{"$f":"catp","v":3}]
[1024,"Geodescu Cosmin","Cluj Napoca",170.7,12.06,"A",null,null,null,{"$f":"catp","v":3}]
[1578,"Bratu Aurel","Constanta",92.1,12.04,"A",null,null,null,{"$f":"catp","v":3}]
[1500,"Rusu Lucian","Iasi",99.8,12.01,"A",null,null,null,{"$f":"catp","v":3}]
[2813,"Jurovschi Andrei","Satumare",24,12,"A",null,null,null,{"$f":"catp","v":3}]
[2952,"Birloncea Mara","Medias",20.8,12,"AF",null,null,null,{"$f":"catp","v":3}]
[3443,"Marta Silviu","Husi",12,12,"A",null,null,null,{"$f":"catp","v":3}]
[3444,"Levinta Iurie","Moldova-Leova",12,12,"A",null,null,null,{"$f":"catp","v":3}]
[3686,"Simion Robert","Bucuresti",9,12,"A",null,null,null,{"$f":"catp","v":3}]
[2212,"Pislaru George Eduard","Iasi",45.7,11.97,"A",null,null,null,{"$f":"catp","v":3}]
[992,"Stanciu Mugur","Videle",178.5,11.93,"A",null,null,null,{"$f":"catp","v":3}]
[1495,"Balasa Adrian","Alexandria",100.7,11.92,"A",null,null,null,{"$f":"catp","v":3}]
[3451,"Iosim Dumitru","Slatina",11.9,11.9,"A",null,null,null,{"$f":"catp","v":3}]
[2579,"Patapi Alexandru Sr","Moldova-Edinet",31.5,11.87,"A",null,null,null,{"$f":"catp","v":3}]
[2554,"Ciufudean Lucian","Cluj Napoca",32.299999999999997,11.85,"A",null,null,null,{"$f":"catp","v":3}]
[1558,"Mania Gabriel","Paunesti",93.9,11.82,"A",null,null,null,{"$f":"catp","v":3}]
[1082,"Drapac Gheorghe","Brasov",160.1,11.81,"AD",null,null,null,{"$f":"catp","v":3}]
[1519,"Paulette Radu","Blaj",97.5,11.8,"A",null,null,null,{"$f":"catp","v":3}]
[3464,"Strugariu Ciprian","Radauti",11.8,11.8,"A",null,null,null,{"$f":"catp","v":3}]
[3465,"Ionita Cristian","Ploiesti",11.8,11.8,"A",null,null,null,{"$f":"catp","v":3}]
[1923,"Bisoc Razvan","Sabaoani",62.1,11.75,"AD",null,null,null,{"$f":"catp","v":3}]
[1665,"Danila Eugeniu","Bucuresti",81.900000000000006,11.73,"AW",null,null,null,{"$f":"catp","v":3}]
[2258,"Mamaliga Robert","Tulcea",43.8,11.73,"A",null,null,null,{"$f":"catp","v":3}]
[1907,"Filip Cristi","Comanesti",62.9,11.7,"AW",null,null,null,{"$f":"catp","v":3}]
[2843,"Gherman Constantin","Curtea de Arges",23.4,11.7,"A",null,null,null,{"$f":"catp","v":3}]
[3471,"Banciu Cristian","Buzau",11.7,11.7,"A",null,null,null,{"$f":"catp","v":3}]
[3472,"Popa Constantin","Moldova",11.7,11.7,"A",null,null,null,{"$f":"catp","v":3}]
[3473,"Dobai Stefan","Alesd",11.7,11.7,"A",null,null,null,{"$f":"catp","v":3}]
[3474,"Tranoiu Sandel","Hateg",11.7,11.7,"A",null,null,null,{"$f":"catp","v":3}]
[3475,"Samsonescu Catalin","Falticeni",11.7,11.7,"A",null,null,null,{"$f":"catp","v":3}]
[3713,"Gado Ramses","Oradea",8.8000000000000007,11.7,"A",null,null,null,{"$f":"catp","v":3}]
[1993,"Sala Eduard","Vizejdia",58.2,11.67,"A",null,null,null,{"$f":"catp","v":3}]
[2511,"Cangea Todor","Moldova-Cahul",33.799999999999997,11.67,"A",null,null,null,{"$f":"catp","v":3}]
[1574,"Tegzes Robert","Stejeris",92.3,11.63,"A",null,null,null,{"$f":"catp","v":3}]
[2360,"Savu Ionut","Bilca",39.299999999999997,11.63,"A",null,null,null,{"$f":"catp","v":3}]
[2851,"Patru Alin","Curtea de Arges",23.2,11.6,"A",null,null,null,{"$f":"catp","v":3}]
[2852,"Negoita Gheorghe","Marasesti",23.2,11.6,"A",null,null,null,{"$f":"catp","v":3}]
[3479,"Porcariu Gabriel","Barlad",11.6,11.6,"A",null,null,null,{"$f":"catp","v":3}]
[3480,"Gemeniuc Andrei","Suceava",11.6,11.6,"A",null,null,null,{"$f":"catp","v":3}]
[3481,"Ghelan Marius","Oradea",11.6,11.6,"A",null,null,null,{"$f":"catp","v":3}]
[3719,"Tudor Ilie","Bucuresti",8.6999999999999993,11.6,"A",null,null,null,{"$f":"catp","v":3}]
[3720,"Banaseanu Dorin","Alexandria",8.6999999999999993,11.6,"A",null,null,null,{"$f":"catp","v":3}]
[2300,"Hidisan Cornel","Campia Turzii",41.9,11.57,"A",null,null,null,{"$f":"catp","v":3}]
[2614,"Minu Cristian","Onesti",29.9,11.57,"A",null,null,null,{"$f":"catp","v":3}]
[2946,"Dobrin Dragos","Alexandria",20.9,11.55,"A",null,null,null,{"$f":"catp","v":3}]
[2302,"Atanasiu Alexone","Arad",41.8,11.53,"A",null,null,null,{"$f":"catp","v":3}]
[2562,"Florescu George","Bucuresti",32,11.5,"A",null,null,null,{"$f":"catp","v":3}]
[3488,"Biro Attila","Reghin",11.5,11.5,"A",null,null,null,{"$f":"catp","v":3}]
[3489,"Tudor Theodor","Roman",11.5,11.5,"A",null,null,null,{"$f":"catp","v":3}]
[1285,"Paul Horatiu","Alba Iulia",125.2,11.48,"A",null,null,null,{"$f":"catp","v":3}]
[2375,"Dinu Mihai","Moreni",38.700000000000003,11.47,"A",null,null,null,{"$f":"catp","v":3}]
[2769,"Muntean Gabriel","Dorohoi",25.2,11.45,"A",null,null,null,{"$f":"catp","v":3}]
[3060,"Onofrei Dan","Oradea",18.5,11.45,"AW",null,null,null,{"$f":"catp","v":3}]
[1982,"Avram Bogdan","Iasi",58.7,11.43,"A",null,null,null,{"$f":"catp","v":3}]
[2389,"Kiss Teofil","Oradea",38,11.43,"A",null,null,null,{"$f":"catp","v":3}]
[2559,"Labutin Dmitrii","Moldova-Balti",32.1,11.43,"A",null,null,null,{"$f":"catp","v":3}]
[1021,"Flueraru Gilbert","Iasi",171.3,11.42,"A",null,null,null,{"$f":"catp","v":3}]
[1899,"Popoiu Ion","Motaieni",63.5,11.4,"A",null,null,null,{"$f":"catp","v":3}]
[2571,"Sitarciuc Alexandr","Moldova-Balti",31.7,11.4,"A",null,null,null,{"$f":"catp","v":3}]
[3130,"Neagu Dorin Damian","Iasi",17.100000000000001,11.4,"A",null,null,null,{"$f":"catp","v":3}]
[3494,"Miron Cristi","Onesti",11.4,11.4,"A",null,null,null,{"$f":"catp","v":3}]
[3495,"Muresan Mihai","Surduc",11.4,11.4,"A",null,null,null,{"$f":"catp","v":3}]
[3496,"Demsa Damian","Brasov",11.4,11.4,"A",null,null,null,{"$f":"catp","v":3}]
[3729,"Oprea Ionela","Pitesti",8.6,11.4,"AF",null,null,null,{"$f":"catp","v":3}]
[2078,"Arama Gicu","Braila",53.1,11.37,"AW",null,null,null,{"$f":"catp","v":3}]
[2925,"Fagyura Leonardo","Tarnaveni",21.5,11.35,"A",null,null,null,{"$f":"catp","v":3}]
[2926,"Wagner Radu","Bucuresti",21.5,11.35,"A",null,null,null,{"$f":"catp","v":3}]
[1645,"Cercega Dani","Timisoara",83.9,11.33,"A",null,null,null,{"$f":"catp","v":3}]
[2275,"Szalos Pal Ionut","Timisoara",43,11.3,"A",null,null,null,{"$f":"catp","v":3}]
[2276,"Tiosea Nicolae","Bucuresti",43,11.3,"A",null,null,null,{"$f":"catp","v":3}]
[2877,"Simion Dan","Resita",22.6,11.3,"A",null,null,null,{"$f":"catp","v":3}]
[2878,"Haidau Alin","Cluj Napoca",22.6,11.3,"A",null,null,null,{"$f":"catp","v":3}]
[2970,"Radu Mihaela","Targoviste",20.5,11.3,"AF",null,null,null,{"$f":"catp","v":3}]
[3513,"Calin Narcis","Barlad",11.3,11.3,"A",null,null,null,{"$f":"catp","v":3}]
[3514,"Enache Leonardo","Ramnicu Valcea",11.3,11.3,"A",null,null,null,{"$f":"catp","v":3}]
[3515,"Zdravkovic Milos","Kovin",11.3,11.3,"A",null,null,null,{"$f":"catp","v":3}]
[3516,"Comanoiu Andrei","Bucuresti",11.3,11.3,"A",null,null,null,{"$f":"catp","v":3}]
[3738,"Maxim Cristian","Bistrita",8.5,11.3,"AW",null,null,null,{"$f":"catp","v":3}]
[3739,"Pop Ioan","Bistrita",8.5,11.3,"AW",null,null,null,{"$f":"catp","v":3}]
[1464,"Patru Gabriel","Popesti Leordeni",104.2,11.27,"A",null,null,null,{"$f":"catp","v":3}]
[1994,"Vlasin Marian","Viseu",58.2,11.25,"A",null,null,null,{"$f":"catp","v":3}]
[944,"Teodorescu Marian","Bucuresti",190.4,11.23,"A",null,null,null,{"$f":"catp","v":3}]
[1750,"Tirc Stelian","Apahida",75.099999999999994,11.23,"A",null,null,null,{"$f":"catp","v":3}]
[1250,"Aparaschivei Marcel","Botosani",130.4,11.21,"AW",null,null,null,{"$f":"catp","v":3}]
[2965,"Tatarus Andrei","Bucuresti",20.6,11.2,"A",null,null,null,{"$f":"catp","v":3}]
[3143,"Martoiu Gabriel","Targu Jiu",16.8,11.2,"A",null,null,null,{"$f":"catp","v":3}]
[3519,"Dascal Tiberiu","Cluj Napoca",11.2,11.2,"A",null,null,null,{"$f":"catp","v":3}]
[3752,"Ilie Georgian","Craiova",8.4,11.2,"A",null,null,null,{"$f":"catp","v":3}]
[1680,"Petrache Codrut Costin","Ploiesti",81,11.18,"A",null,null,null,{"$f":"catp","v":3}]
[1771,"Vaduva Ionut","Pitesti",72.900000000000006,11.16,"A",null,null,null,{"$f":"catp","v":3}]
[1340,"Untu Adrian","Iasi",118.9,11.15,"A",null,null,null,{"$f":"catp","v":3}]
[3525,"Neagu Viorel","Medias",11.1,11.1,"A",null,null,null,{"$f":"catp","v":3}]
[3526,"Avram Radu","Tarnaveni",11.1,11.1,"A",null,null,null,{"$f":"catp","v":3}]
[1940,"Crisan Alexandru","Oradea",60.9,11.08,"A",null,null,null,{"$f":"catp","v":3}]
[1140,"Coman Florin","Bucuresti",149.30000000000001,11.07,"A",null,null,null,{"$f":"catp","v":3}]
[2457,"Bungeanu Bogdan","Vaslui",35.5,11.07,"A",null,null,null,{"$f":"catp","v":3}]
[2099,"Neagu Nicolae Valentin","Alexandria",51.7,11.03,"A",null,null,null,{"$f":"catp","v":3}]
[2507,"Csokany Gheorghe","Sannicolau Mare",33.9,11.03,"A",null,null,null,{"$f":"catp","v":3}]
[908,"Antochi Iulian","Tamaseni",200.1,11.01,"A",null,null,null,{"$f":"catp","v":3}]
[2480,"Jimborean Dorinel","Apahida",34.700000000000003,11,"A",null,null,null,{"$f":"catp","v":3}]
[2642,"Ungureanu David","Pitesti",29.1,11,"A",null,null,null,{"$f":"catp","v":3}]
[3162,"Avram Alexandru","Brasov",16.5,11,"A",null,null,null,{"$f":"catp","v":3}]
[3186,"Lorinczi Bela","Gheorgheni",16,11,"AW",null,null,null,{"$f":"catp","v":3}]
[3530,"Romascan Victor","Suceava",11,11,"A",null,null,null,{"$f":"catp","v":3}]
[3531,"Taran Narcis","Aiud",11,11,"A",null,null,null,{"$f":"catp","v":3}]
[3532,"Nastic Branko","Ilandza",11,11,"A",null,null,null,{"$f":"catp","v":3}]
[3533,"Dobos Robert","Iasi",11,11,"A",null,null,null,{"$f":"catp","v":3}]
[3534,"Dani Darko","Pancevo",11,11,"A",null,null,null,{"$f":"catp","v":3}]
[1780,"Ciocan Ionut Cristian","Bacau",72.099999999999994,10.98,"A",null,null,null,{"$f":"catp","v":3}]
[2190,"Achim Paul","Arad",47,10.95,"A",null,null,null,{"$f":"catp","v":3}]
[1650,"Brodetchi Andrei","Sibiu",83.5,10.91,"A",null,null,null,{"$f":"catp","v":3}]
[3545,"Geanta Mihai","Slobozia",10.9,10.9,"A",null,null,null,{"$f":"catp","v":3}]
[3546,"Ghidiu Valer","Sighisoara",10.9,10.9,"A",null,null,null,{"$f":"catp","v":3}]
[1697,"Markos Hunor","Targu Mures",78.900000000000006,10.88,"A",null,null,null,{"$f":"catp","v":3}]
[2471,"Popa Bogdan","Bucuresti",35.1,10.87,"A",null,null,null,{"$f":"catp","v":3}]
[2822,"Budeanu Dan","Sannicolau Mare",23.9,10.85,"A",null,null,null,{"$f":"catp","v":3}]
[2606,"Oanta Daniel","Baia Mare",30.3,10.83,"A",null,null,null,{"$f":"catp","v":3}]
[1396,"Firanescu David","Dumbraveni SB",113.1,10.81,"AJ",null,null,null,{"$f":"catp","v":3}]
[2125,"Croitoru Carli","Craiova",50.6,10.8,"A",null,null,null,{"$f":"catp","v":3}]
[2686,"Imre David","Cluj Napoca",27.6,10.8,"A",null,null,null,{"$f":"catp","v":3}]
[3178,"Silviu Niculae","Bucuresti",16.2,10.8,"AW",null,null,null,{"$f":"catp","v":3}]
[3554,"Neghina Vasile","Selimbar",10.8,10.8,"AW",null,null,null,{"$f":"catp","v":3}]
[3555,"Voicu Ion","Amarastii de Jos",10.8,10.8,"A",null,null,null,{"$f":"catp","v":3}]
[3779,"Pap Teteny","Targu Mures",8.1,10.8,"A",null,null,null,{"$f":"catp","v":3}]
[1547,"Homana Marius","Stremt",94.9,10.78,"A",null,null,null,{"$f":"catp","v":3}]
[1564,"Patrascu Marius","Piatra Neamt",93.1,10.73,"A",null,null,null,{"$f":"catp","v":3}]
[1384,"Cojocariu Vasile","Comanesti",114.8,10.71,"A",null,null,null,{"$f":"catp","v":3}]
[2655,"Martin Sergiu","Buhusi",28.5,10.7,"A",null,null,null,{"$f":"catp","v":3}]
[2724,"Zsigmond Tamas","Gheorgheni",26.4,10.7,"A",null,null,null,{"$f":"catp","v":3}]
[3123,"Enache Viorel","Brad",17.3,10.7,"A",null,null,null,{"$f":"catp","v":3}]
[3564,"Todorova Margarita","Moldova-Cahul",10.7,10.7,"AF",null,null,null,{"$f":"catp","v":3}]
[3780,"Mateut Dan","Apahida",8.1,10.7,"A",null,null,null,{"$f":"catp","v":3}]
[1374,"Agache Sorin","Navodari",115.4,10.68,"AW",null,null,null,{"$f":"catp","v":3}]
[1950,"Bulinschi Alexandru","Hunedoara",60.4,10.68,"A",null,null,null,{"$f":"catp","v":3}]
[2021,"Bolota Marius","Sibiu",57.1,10.68,"A",null,null,null,{"$f":"catp","v":3}]
[2433,"Suliman Florin","Lumina",36.4,10.67,"A",null,null,null,{"$f":"catp","v":3}]
[1984,"Albu Gheorghe","Galati",58.6,10.65,"A",null,null,null,{"$f":"catp","v":3}]
[2414,"Samoila Catalin","Tulcea",37.1,10.65,"A",null,null,null,{"$f":"catp","v":3}]
[2934,"Fodor Ianis","Dej",21.3,10.65,"A",null,null,null,{"$f":"catp","v":3}]
[3041,"Mihoc Cristian Stefan","Iasi",18.8,10.65,"A",null,null,null,{"$f":"catp","v":3}]
[2035,"Borla Nicolae","Cluj Napoca",55.7,10.63,"A",null,null,null,{"$f":"catp","v":3}]
[2712,"Schibinschi Artiom","Bucuresti",26.7,10.63,"A",null,null,null,{"$f":"catp","v":3}]
[2732,"Raduly Marius","Sfantu Gheorghe",26.2,10.6,"A",null,null,null,{"$f":"catp","v":3}]
[2831,"Ichim Andrei","Iasi",23.7,10.6,"A",null,null,null,{"$f":"catp","v":3}]
[3190,"Blaga Mircea","Oradea",15.9,10.6,"A",null,null,null,{"$f":"catp","v":3}]
[3567,"Minca Paul","Comanesti",10.6,10.6,"A",null,null,null,{"$f":"catp","v":3}]
[3568,"Teodoru Pavel","Buzau",10.6,10.6,"A",null,null,null,{"$f":"catp","v":3}]
[3569,"Oleinic Denis","Moldova-Edinet",10.6,10.6,"A",null,null,null,{"$f":"catp","v":3}]
[3570,"Roman Nesterov","Moldova-Drochia",10.6,10.6,"A",null,null,null,{"$f":"catp","v":3}]
[3786,"Plesca Ionel","Vicovu de Jos",8,10.6,"A",null,null,null,{"$f":"catp","v":3}]
[1625,"Benko Jozsef","Reghin",85.8,10.59,"A",null,null,null,{"$f":"catp","v":3}]
[1139,"Marginean Cornel","Cluj Napoca",149.4,10.58,"AW",null,null,null,{"$f":"catp","v":3}]
[2110,"Morun Marian","Braila",51.2,10.58,"A",null,null,null,{"$f":"catp","v":3}]
[1291,"Tanase Valentin","Piatra Neamt",124.5,10.53,"A",null,null,null,{"$f":"catp","v":3}]
[1972,"Cimpanu Mihai","Roman",59.1,10.53,"A",null,null,null,{"$f":"catp","v":3}]
[2156,"Ciurlica Mugurel","Pascani",49,10.53,"A",null,null,null,{"$f":"catp","v":3}]
[2408,"Staricov Alexandru","Moldova-Balti",37.299999999999997,10.53,"A",null,null,null,{"$f":"catp","v":3}]
[1456,"Ceavdar Andrei","Moldova-Cahul",105.1,10.51,"A",null,null,null,{"$f":"catp","v":3}]
[1239,"Cojocaru Stefan","Targu Jiu",132.1,10.5,"A",null,null,null,{"$f":"catp","v":3}]
[3575,"Tutoveanu Razvan","Brasov",10.5,10.5,"AW",null,null,null,{"$f":"catp","v":3}]
[3576,"Banu Florentin","Timisoara",10.5,10.5,"AW",null,null,null,{"$f":"catp","v":3}]
[3577,"Zgardan Iustin","Moldova-Cahul",10.5,10.5,"A",null,null,null,{"$f":"catp","v":3}]
[3578,"Terzinov Dmitri","Moldova-Cazaclia",10.5,10.5,"A",null,null,null,{"$f":"catp","v":3}]
[3579,"Razgradschii Dmitrii","Moldova-Cazaclia",10.5,10.5,"A",null,null,null,{"$f":"catp","v":3}]
[3791,"Bolog Petrica","Bacau",7.9,10.5,"A",null,null,null,{"$f":"catp","v":3}]
[1063,"Anoiu Alexandru","Hunedoara",162.69999999999999,10.47,"A",null,null,null,{"$f":"catp","v":3}]
[2046,"Kovacs Iosif","Arad",55.2,10.45,"A",null,null,null,{"$f":"catp","v":3}]
[1270,"Gaia Mihai","Iasi",127.6,10.43,"A",null,null,null,{"$f":"catp","v":3}]
[2266,"Talaba Mihai","Tecuci",43.3,10.43,"A",null,null,null,{"$f":"catp","v":3}]
[1741,"Ivascu Ioan","Viseu",75.8,10.42,"A",null,null,null,{"$f":"catp","v":3}]
[1453,"Laza Gabriel","Piatra Neamt",105.4,10.41,"A",null,null,null,{"$f":"catp","v":3}]
[2630,"Chelan Catalin","Giroc",29.3,10.4,"A",null,null,null,{"$f":"catp","v":3}]
[3061,"Gherghina Raluca","Slatina",18.5,10.4,"AF",null,null,null,{"$f":"catp","v":3}]
[3212,"Cuiumju Victor","Moldova-Vulcanesti",15.4,10.4,"A",null,null,null,{"$f":"catp","v":3}]
[3582,"Portik Erno","Hodosa",10.4,10.4,"A",null,null,null,{"$f":"catp","v":3}]
[3583,"Mangrau Nelu","Oradea",10.4,10.4,"A",null,null,null,{"$f":"catp","v":3}]
[3794,"Popovici Mihai","Bucuresti",7.8,10.4,"A",null,null,null,{"$f":"catp","v":3}]
[3795,"Hegedus Simon","Brasov",7.8,10.4,"A",null,null,null,{"$f":"catp","v":3}]
[3796,"Vasile Marian","Bucuresti",7.8,10.4,"A",null,null,null,{"$f":"catp","v":3}]
[2836,"Matei Daniel","Targoviste",23.6,10.35,"A",null,null,null,{"$f":"catp","v":3}]
[1565,"Caraman Vitalie","Moldova-Cahul",93.1,10.33,"A",null,null,null,{"$f":"catp","v":3}]
[1929,"Vasiloiu Stefan","Pitesti",61.6,10.33,"A",null,null,null,{"$f":"catp","v":3}]
[1687,"Calinescu Mircea","Ploiesti",80.2,10.32,"A",null,null,null,{"$f":"catp","v":3}]
[2966,"Terteci Ilie Lucian","Ramnicu Valcea",20.6,10.3,"A",null,null,null,{"$f":"catp","v":3}]
[3108,"Aurica Gabriel","Tecuci",17.600000000000001,10.3,"A",null,null,null,{"$f":"catp","v":3}]
[3131,"Tirizica Ioan","Zalau",17.100000000000001,10.3,"A",null,null,null,{"$f":"catp","v":3}]
[3797,"Maftei Ervin","Iasi",7.8,10.3,"A",null,null,null,{"$f":"catp","v":3}]
[3798,"Benedek Alex","Brasov",7.8,10.3,"A",null,null,null,{"$f":"catp","v":3}]
[1894,"Mantoiu Daniel","Pucioasa",63.9,10.23,"A",null,null,null,{"$f":"catp","v":3}]
[2355,"Odajiu Alexandru","Moldova-Briceni",39.5,10.23,"A",null,null,null,{"$f":"catp","v":3}]
[2972,"Borbeiu Ciprian","Baia Mare",20.399999999999999,10.199999999999999,"A",null,null,null,{"$f":"catp","v":3}]
[3809,"Gheorghitoiu Andrei","Brasov",7.7,10.199999999999999,"A",null,null,null,{"$f":"catp","v":3}]
[1827,"Talos Cristian","Malut",68.599999999999994,10.18,"A",null,null,null,{"$f":"catp","v":3}]
[2356,"Popescu Marius","Suceava",39.5,10.17,"A",null,null,null,{"$f":"catp","v":3}]
[1259,"Dumitrescu Dan","Piatra Neamt",129.69999999999999,10.16,"AW",null,null,null,{"$f":"catp","v":3}]
[1503,"Soarice Danut","Faurei",99.3,10.16,"A",null,null,null,{"$f":"catp","v":3}]
[1099,"Marcu Cristian","Alba Iulia",156.80000000000001,10.15,"A",null,null,null,{"$f":"catp","v":3}]
[2447,"Forton Nicusor","Arad",36,10.15,"A",null,null,null,{"$f":"catp","v":3}]
[2975,"Giosan Adrian","Campulung Mold",20.3,10.15,"A",null,null,null,{"$f":"catp","v":3}]
[1829,"Pop Emanuel","Alesd",68.5,10.14,"A",null,null,null,{"$f":"catp","v":3}]
[2305,"Balan Codrin","Bucuresti",41.6,10.130000000000001,"A",null,null,null,{"$f":"catp","v":3}]
[1057,"Stefan Sorin","Brasov",163.69999999999999,10.11,"A",null,null,null,{"$f":"catp","v":3}]
[1445,"Alecu Ianis","Rosiori de Vede",106.4,10.1,"A",null,null,null,{"$f":"catp","v":3}]
[2170,"Croitoru Doru","Vaslui",48.2,10.1,"A",null,null,null,{"$f":"catp","v":3}]
[2465,"Porumb Alexandru","Sibiu",35.299999999999997,10.1,"A",null,null,null,{"$f":"catp","v":3}]
[3124,"Iorga Adrian","Videle",17.3,10.1,"A",null,null,null,{"$f":"catp","v":3}]
[3599,"Ionita Stefan","Macin",10.1,10.1,"A",null,null,null,{"$f":"catp","v":3}]
[3600,"Ulesan Traian","Sibiu",10.1,10.1,"A",null,null,null,{"$f":"catp","v":3}]
[1973,"Leurzeanu George","Bucuresti",59.1,10.08,"A",null,null,null,{"$f":"catp","v":3}]
[993,"Gheorghe Ion","Bucuresti",177.9,10.050000000000001,"AW",null,null,null,{"$f":"catp","v":3}]
[2227,"Bischin Gabriel","Cisnadie",45.1,10.029999999999999,"A",null,null,null,{"$f":"catp","v":3}]
[1104,"Pamfilie Horatiu","Ludus",156.30000000000001,10,"A",null,null,null,{"$f":"catp","v":3}]
[2783,"Apostol Stefan Leonard","Alexandria",24.7,10,"A",null,null,null,{"$f":"catp","v":3}]
[2993,"Stamate Eduard","Tecuci",20,10,"A",null,null,null,{"$f":"catp","v":3}]
[2994,"Oltean Octavian","Targu Mures",20,10,"A",null,null,null,{"$f":"catp","v":3}]
[3606,"Kosa Laszlo","Alesd",10,10,"A",null,null,null,{"$f":"catp","v":3}]
[3607,"Verciuc Alexandru","Suceava",10,10,"A",null,null,null,{"$f":"catp","v":3}]
[3608,"Mesca Dorel","Matca",10,10,"A",null,null,null,{"$f":"catp","v":3}]
[3609,"Michis Razvan","Baia Mare",10,10,"A",null,null,null,{"$f":"catp","v":3}]
[3610,"Coroi Sergiu","Moldova-Leova",10,10,"A",null,null,null,{"$f":"catp","v":3}]
[3611,"Barban Alexandr","Moldova-Cazaclia",10,10,"A",null,null,null,{"$f":"catp","v":3}]
[3612,"Barban Ivan","Moldova-Cazaclia",10,10,"A",null,null,null,{"$f":"catp","v":3}]
[3824,"Merca Remus","Arad",7.5,10,"A",null,null,null,{"$f":"catp","v":3}]
[3825,"Tudorica Ionut","Bucuresti",7.5,10,"A",null,null,null,{"$f":"catp","v":3}]
[1749,"Iordan Eduard","Bucuresti",75.400000000000006,9.98,"H",null,null,null,{"$f":"catp","v":4}]
[1843,"Vilceanu Cosmin","Rovinari",67.599999999999994,9.98,"H",null,null,null,{"$f":"catp","v":4}]
[2666,"Bacanu Paulian","Brasov",28.1,9.93,"HW",null,null,null,{"$f":"catp","v":4}]
[987,"Sabau Claudiu","Bistrita",179.9,9.91,"H",null,null,null,{"$f":"catp","v":4}]
[1230,"Dragu Raul","Focsani",133.1,9.91,"H",null,null,null,{"$f":"catp","v":4}]
[2058,"Lupchian Alin","Suceava",54.5,9.9,"H",null,null,null,{"$f":"catp","v":4}]
[2549,"Feodorov Gabriel","Tulcea",32.4,9.9,"H",null,null,null,{"$f":"catp","v":4}]
[3149,"Filip Alin","Medias",16.7,9.9,"H",null,null,null,{"$f":"catp","v":4}]
[3626,"Nastase Laurentiu","Arad",9.9,9.9,"H",null,null,null,{"$f":"catp","v":4}]
[3627,"Fedorciuc Gelu","Viseu",9.9,9.9,"H",null,null,null,{"$f":"catp","v":4}]
[2531,"Gurau Dan","Urlati",33.1,9.8699999999999992,"H",null,null,null,{"$f":"catp","v":4}]
[2800,"Cristea Alin Mihai","Bucuresti",24.3,9.8699999999999992,"H",null,null,null,{"$f":"catp","v":4}]
[1360,"Tibirna Petru","Iasi",116.5,9.86,"H",null,null,null,{"$f":"catp","v":4}]
[2468,"Neagoe Catalin","Timisoara",35.200000000000003,9.85,"HW",null,null,null,{"$f":"catp","v":4}]
[2564,"Caramarin Dumitru","Constanta",31.9,9.83,"H",null,null,null,{"$f":"catp","v":4}]
[1330,"Baicu Andrei","Sinaia",119.9,9.82,"H",null,null,null,{"$f":"catp","v":4}]
[1278,"Ionas Maria","Sibiu",126.3,9.8000000000000007,"HF",null,null,null,{"$f":"catp","v":4}]
[3632,"Codreanu George","Tecuci",9.8000000000000007,9.8000000000000007,"H",null,null,null,{"$f":"catp","v":4}]
[1039,"Suciu Daniel","Alba Iulia",168.5,9.7899999999999991,"HW",null,null,null,{"$f":"catp","v":4}]
[1006,"Badescu Lucian","Oradea",175.1,9.7799999999999994,"H",null,null,null,{"$f":"catp","v":4}]
[2677,"Telespan Ilie","Sibiu",27.9,9.77,"H",null,null,null,{"$f":"catp","v":4}]
[3007,"Delibaltov Gennadii","Moldova-Taraclia",19.5,9.75,"H",null,null,null,{"$f":"catp","v":4}]
[3278,"Venczel Antoniu","Giroc",14.7,9.75,"H",null,null,null,{"$f":"catp","v":4}]
[1990,"Nagy Arpad","Suseni",58.3,9.74,"H",null,null,null,{"$f":"catp","v":4}]
[2328,"Ciurca Ovidiu","Targu Mures",40.6,9.6999999999999993,"HW",null,null,null,{"$f":"catp","v":4}]
[2856,"Andrei Denisa","Deva",23.1,9.6999999999999993,"HF",null,null,null,{"$f":"catp","v":4}]
[3009,"Constantinescu Valentin","Vizejdia",19.399999999999999,9.6999999999999993,"H",null,null,null,{"$f":"catp","v":4}]
[3125,"Cojocaru Cosmin","Bucuresti",17.3,9.6999999999999993,"H",null,null,null,{"$f":"catp","v":4}]
[3636,"Orosz Jeno","Gheorgheni",9.6999999999999993,9.6999999999999993,"H",null,null,null,{"$f":"catp","v":4}]
[3840,"Neda Cosmin","Lipova",7.3,9.6999999999999993,"H",null,null,null,{"$f":"catp","v":4}]
[3841,"Boca Roman","Moldova-Balti",7.3,9.6999999999999993,"H",null,null,null,{"$f":"catp","v":4}]
[2222,"Vargyas Karoly","Joseni",45.4,9.68,"H",null,null,null,{"$f":"catp","v":4}]
[980,"Hradszky Sebastian","Sannicolau Mare",181,9.66,"H",null,null,null,{"$f":"catp","v":4}]
[2367,"Ardelean Ovidiu","Zalau",39.1,9.65,"H",null,null,null,{"$f":"catp","v":4}]
[3120,"Branzei Florin","Piatra Neamt",17.399999999999999,9.65,"H",null,null,null,{"$f":"catp","v":4}]
[1276,"Dumitru Paul","Bucuresti",127,9.6300000000000008,"H",null,null,null,{"$f":"catp","v":4}]
[2597,"Bodea Tudor","Cluj Napoca",30.7,9.6300000000000008,"H",null,null,null,{"$f":"catp","v":4}]
[1539,"Teodorescu Robert","Bucuresti",95.7,9.61,"H",null,null,null,{"$f":"catp","v":4}]
[2261,"Constantin Alexandru","Bucuresti",43.6,9.6,"H",null,null,null,{"$f":"catp","v":4}]
[2803,"Secu Alexandru","Sibiu",24.2,9.6,"H",null,null,null,{"$f":"catp","v":4}]
[3640,"Mazilu Dumitru","Bucuresti",9.6,9.6,"H",null,null,null,{"$f":"catp","v":4}]
[1135,"Toma Adrian","Bucuresti",150,9.5500000000000007,"H",null,null,null,{"$f":"catp","v":4}]
[2122,"Ontoiu Catalin","Pitesti",50.8,9.5500000000000007,"HW",null,null,null,{"$f":"catp","v":4}]
[3022,"Vasile Adrian Cristian","Bucuresti",19.100000000000001,9.5500000000000007,"H",null,null,null,{"$f":"catp","v":4}]
[3023,"Isopescu Ionut","Fratautii Noi",19.100000000000001,9.5500000000000007,"H",null,null,null,{"$f":"catp","v":4}]
[1184,"Gherasim Rares","Tulcea",141.4,9.5399999999999991,"H",null,null,null,{"$f":"catp","v":4}]
[1552,"Prigoana Cristian","Cluj Napoca",94.6,9.51,"H",null,null,null,{"$f":"catp","v":4}]
[1413,"Velicu Damian Laurentiu","Bucuresti",110.2,9.5,"H",null,null,null,{"$f":"catp","v":4}]
[3030,"Catana Vasile","Bacau",19,9.5,"HW",null,null,null,{"$f":"catp","v":4}]
[3144,"Vintila Antonio","Videle",16.8,9.5,"H",null,null,null,{"$f":"catp","v":4}]
[3157,"Raducan Ionut","Iasi",16.600000000000001,9.5,"H",null,null,null,{"$f":"catp","v":4}]
[3285,"Kosarus Alex","Bucuresti",14.5,9.5,"H",null,null,null,{"$f":"catp","v":4}]
[3646,"Zsok Arcadie","Deva",9.5,9.5,"H",null,null,null,{"$f":"catp","v":4}]
[3647,"Golea Dragos","Suceava",9.5,9.5,"H",null,null,null,{"$f":"catp","v":4}]
[1033,"Nicoara Doru","Arad",169.4,9.49,"H",null,null,null,{"$f":"catp","v":4}]
[1133,"Aizner Imre","Ludus",150.30000000000001,9.4600000000000009,"H",null,null,null,{"$f":"catp","v":4}]
[3037,"Moldovan Matei","Cluj Napoca",18.899999999999999,9.4499999999999993,"H",null,null,null,{"$f":"catp","v":4}]
[3303,"Cerciu Marius","Timisoara",14.2,9.4499999999999993,"H",null,null,null,{"$f":"catp","v":4}]
[3042,"Havas Peter","Reghin",18.8,9.4,"H",null,null,null,{"$f":"catp","v":4}]
[2246,"Ivan Marius","Buzau",44.4,9.3800000000000008,"H",null,null,null,{"$f":"catp","v":4}]
[2625,"Tomoiu Stefan","Hunedoara",29.6,9.3699999999999992,"H",null,null,null,{"$f":"catp","v":4}]
[2568,"Avramia Dan","Oniceni",31.8,9.33,"H",null,null,null,{"$f":"catp","v":4}]
[1032,"Radulescu Marius","Iasi",169.5,9.32,"H",null,null,null,{"$f":"catp","v":4}]
[3057,"Dumitru Cosmin","Pitesti",18.600000000000001,9.3000000000000007,"H",null,null,null,{"$f":"catp","v":4}]
[3294,"Faltisca Eugen","Viseu",14.3,9.3000000000000007,"HW",null,null,null,{"$f":"catp","v":4}]
[3311,"Coroncan Andrei","Targu Mures",14,9.3000000000000007,"H",null,null,null,{"$f":"catp","v":4}]
[3669,"Vukovic Nemanja","Varset",9.3000000000000007,9.3000000000000007,"H",null,null,null,{"$f":"catp","v":4}]
[2141,"Simon Ioan","Giroc",49.7,9.2799999999999994,"H",null,null,null,{"$f":"catp","v":4}]
[1762,"Selaru Romeo","Alba Iulia",73.5,9.27,"HW",null,null,null,{"$f":"catp","v":4}]
[1324,"Pohrib Danut","Matca",120.3,9.25,"H",null,null,null,{"$f":"catp","v":4}]
[2973,"Pop George","Sibiu",20.399999999999999,9.25,"H",null,null,null,{"$f":"catp","v":4}]
[3066,"Palade Victor","Bucuresti",18.399999999999999,9.25,"H",null,null,null,{"$f":"catp","v":4}]
[3225,"Sutei Marian","Slobozia",15.2,9.25,"H",null,null,null,{"$f":"catp","v":4}]
[2284,"Vulpescu Emanuel","Caianu Mic",42.7,9.1999999999999993,"H",null,null,null,{"$f":"catp","v":4}]
[2778,"Irimia Tudorel","Onesti",24.9,9.1999999999999993,"H",null,null,null,{"$f":"catp","v":4}]
[3166,"Layis Rita","Sighetu Marmatiei",16.399999999999999,9.1999999999999993,"HF",null,null,null,{"$f":"catp","v":4}]
[3865,"Trofin Cristian","Brasov",6.9,9.1999999999999993,"H",null,null,null,{"$f":"catp","v":4}]
[3866,"Tuchiulus Emanoil","Galati",6.9,9.1999999999999993,"H",null,null,null,{"$f":"catp","v":4}]
[3867,"Man Petrica","Dej",6.9,9.1999999999999993,"H",null,null,null,{"$f":"catp","v":4}]
[3868,"Rogojina Titus","Cosna",6.9,9.1999999999999993,"H",null,null,null,{"$f":"catp","v":4}]
[2592,"Popescu George","Bucuresti",30.8,9.17,"HW",null,null,null,{"$f":"catp","v":4}]
[2055,"Serban Florin","Fratautii Noi",54.7,9.1300000000000008,"H",null,null,null,{"$f":"catp","v":4}]
[2231,"Iulian Cristian Mihai","Cluj Napoca",45,9.1300000000000008,"H",null,null,null,{"$f":"catp","v":4}]
[2497,"Dumitru Stefan","Buzau",34.200000000000003,9.1,"H",null,null,null,{"$f":"catp","v":4}]
[2885,"Leon Dumitru","Moldova-Cahul",22.5,9.1,"H",null,null,null,{"$f":"catp","v":4}]
[3679,"Sandu Danut","Cluj Napoca",9.1,9.1,"H",null,null,null,{"$f":"catp","v":4}]
[3680,"Porosnicu Catalin","Onesti",9.1,9.1,"H",null,null,null,{"$f":"catp","v":4}]
[3681,"Stanciu Costin","Urlati",9.1,9.1,"H",null,null,null,{"$f":"catp","v":4}]
[3682,"Bereczki Peter","Gherla",9.1,9.1,"H",null,null,null,{"$f":"catp","v":4}]
[3869,"Elgazzar Nicolas","Constanta",6.9,9.1,"H",null,null,null,{"$f":"catp","v":4}]
[1508,"Hosu Andrei","Resita",98.6,9.08,"H",null,null,null,{"$f":"catp","v":4}]
[2279,"Bara Titus","Oradea",42.9,9.08,"H",null,null,null,{"$f":"catp","v":4}]
[2598,"Hategan Vlad","Cluj Napoca",30.7,9.08,"H",null,null,null,{"$f":"catp","v":4}]
[2865,"Munteanu Dragos","Bucuresti",22.8,9.07,"H",null,null,null,{"$f":"catp","v":4}]
[1695,"Bordeianu Marcel","Bucuresti",79,9.06,"H",null,null,null,{"$f":"catp","v":4}]
[2857,"Sima Beniamin","Giurgiu",23.1,9.0500000000000007,"H",null,null,null,{"$f":"catp","v":4}]
[1318,"Lozneanu Mihai","Iasi",121.1,9.0399999999999991,"H",null,null,null,{"$f":"catp","v":4}]
[1712,"Alexandrescu Robert","Alexandria",78,9.0399999999999991,"H",null,null,null,{"$f":"catp","v":4}]
[1941,"Harabagiu Tudor","Botosani",60.9,9.0399999999999991,"H",null,null,null,{"$f":"catp","v":4}]
[1204,"Sabau Mircea","Tarnaveni",139.1,9.0299999999999994,"H",null,null,null,{"$f":"catp","v":4}]
[2133,"Khashan Salem","Bucuresti",50.2,9.0299999999999994,"H",null,null,null,{"$f":"catp","v":4}]
[1660,"Man Florin","Dej",82.5,9.01,"H",null,null,null,{"$f":"catp","v":4}]
[3312,"Deli Iura","Moldova-Budjac",14,9,"H",null,null,null,{"$f":"catp","v":4}]
[3340,"Iancu Marius","Videle",13.5,9,"H",null,null,null,{"$f":"catp","v":4}]
[3687,"Voicila Albertino","Urlati",9,9,"H",null,null,null,{"$f":"catp","v":4}]
[3688,"Tanasa Adrian","Resita",9,9,"H",null,null,null,{"$f":"catp","v":4}]
[3689,"Silaghi Matei","Dumbravita",9,9,"H",null,null,null,{"$f":"catp","v":4}]
[3690,"Silaghi Marc","Dumbravita",9,9,"H",null,null,null,{"$f":"catp","v":4}]
[3691,"Dulca Raul","Dumbravita",9,9,"H",null,null,null,{"$f":"catp","v":4}]
[3692,"Cardas Alexandru","Dumbravita",9,9,"H",null,null,null,{"$f":"catp","v":4}]
[3693,"Cristian Vasile","Harsova",9,9,"H",null,null,null,{"$f":"catp","v":4}]
[3694,"Guta Claudiu","Pitesti",9,9,"H",null,null,null,{"$f":"catp","v":4}]
[3883,"Pitac Ovidiu","Brasov",6.8,9,"HW",null,null,null,{"$f":"catp","v":4}]
[3884,"Tudor Florian","Bucuresti",6.8,9,"H",null,null,null,{"$f":"catp","v":4}]
[3885,"Bolog Ioan","Targu Mures",6.8,9,"H",null,null,null,{"$f":"catp","v":4}]
[3886,"Jarebe Vasile","Iasi",6.8,9,"H",null,null,null,{"$f":"catp","v":4}]
[1268,"Voinea Ionut","Harsova",128.1,8.98,"H",null,null,null,{"$f":"catp","v":4}]
[2008,"Bostan Culita","Moinesti",57.6,8.98,"H",null,null,null,{"$f":"catp","v":4}]
[2483,"Gavre Augustin","Hateg",34.6,8.98,"H",null,null,null,{"$f":"catp","v":4}]
[2863,"Avram Marian","Alexandria",22.9,8.9700000000000006,"H",null,null,null,{"$f":"catp","v":4}]
[2329,"Horvath Mircea","Orastie",40.6,8.9499999999999993,"H",null,null,null,{"$f":"catp","v":4}]
[2853,"Tudor Mihai Maximilian","Alexandria",23.2,8.93,"H",null,null,null,{"$f":"catp","v":4}]
[2616,"Simoc Paul","Stei",29.8,8.9,"H",null,null,null,{"$f":"catp","v":4}]
[2886,"Gheorghe Viorel","Faurei",22.5,8.9,"H",null,null,null,{"$f":"catp","v":4}]
[3090,"Pop Florian Iustin","Constanta",17.8,8.9,"H",null,null,null,{"$f":"catp","v":4}]
[3091,"Calin Dragos","Focsani",17.8,8.9,"H",null,null,null,{"$f":"catp","v":4}]
[3703,"Olteanu Claudiu","Galati",8.9,8.9,"H",null,null,null,{"$f":"catp","v":4}]
[1768,"Nicusor Dan","Bucuresti",73,8.89,"H",null,null,null,{"$f":"catp","v":4}]
[2311,"Vigh Marton","Cluj Napoca",41.4,8.8800000000000008,"H",null,null,null,{"$f":"catp","v":4}]
[2808,"Dubrovin Evghenii","Moldova-Balti",24.1,8.8699999999999992,"H",null,null,null,{"$f":"catp","v":4}]
[2303,"Damian Sebastian","Paulesti",41.7,8.85,"H",null,null,null,{"$f":"catp","v":4}]
[3101,"Borisov David","Moldova-Drochia",17.7,8.85,"H",null,null,null,{"$f":"catp","v":4}]
[1473,"Rusu Discultu Ion","Iasi",103.3,8.84,"H",null,null,null,{"$f":"catp","v":4}]
[1675,"Matveev Victor Nicolae","Bucuresti",81.400000000000006,8.83,"H",null,null,null,{"$f":"catp","v":4}]
[2719,"Rusti Andrei","Bucuresti",26.5,8.83,"H",null,null,null,{"$f":"catp","v":4}]
[1572,"Hudyma Ihor","Odesa",92.5,8.81,"H",null,null,null,{"$f":"catp","v":4}]
[2844,"Morariu Catalin","Alba Iulia",23.4,8.8000000000000007,"H",null,null,null,{"$f":"catp","v":4}]
[3366,"Nicola Gabriela","Timisoara",13.2,8.8000000000000007,"HF",null,null,null,{"$f":"catp","v":4}]
[3896,"Talos Ioan","Malut",6.6,8.8000000000000007,"H",null,null,null,{"$f":"catp","v":4}]
[1752,"Ulea Andrei","Moinesti",74.900000000000006,8.7899999999999991,"H",null,null,null,{"$f":"catp","v":4}]
[1269,"Illes Kalman","Targu Mures",127.9,8.77,"H",null,null,null,{"$f":"catp","v":4}]
[3112,"Bayusz Zoltan","Arad",17.5,8.75,"H",null,null,null,{"$f":"catp","v":4}]
[3113,"Vita Zsolt","Gheorgheni",17.5,8.75,"H",null,null,null,{"$f":"catp","v":4}]
[2079,"Blaga Iulian","Deva",53.1,8.7200000000000006,"H",null,null,null,{"$f":"catp","v":4}]
[2928,"Paval Tudor","Iasi",21.4,8.6999999999999993,"H",null,null,null,{"$f":"catp","v":4}]
[2947,"Calota Cristian","Tulcea",20.9,8.6999999999999993,"H",null,null,null,{"$f":"catp","v":4}]
[3295,"Ban Adrian Florin","Lugoj",14.3,8.6999999999999993,"H",null,null,null,{"$f":"catp","v":4}]
[3721,"Ciuguianu Marian","Curtea de Arges",8.6999999999999993,8.6999999999999993,"H",null,null,null,{"$f":"catp","v":4}]
[1234,"Corodeanu Mihai","Tecuci",132.5,8.69,"H",null,null,null,{"$f":"catp","v":4}]
[1692,"Bobe Ionel","Faurei",79.099999999999994,8.68,"H",null,null,null,{"$f":"catp","v":4}]
[1953,"Cozma Dan","Dej",60.2,8.68,"H",null,null,null,{"$f":"catp","v":4}]
[2103,"Morar Ovidiu","Tarnaveni",51.4,8.66,"H",null,null,null,{"$f":"catp","v":4}]
[2837,"Tala Lenard","Micfalau",23.6,8.6300000000000008,"H",null,null,null,{"$f":"catp","v":4}]
[1174,"Mesaros Horea Cristin","Ludus",142.80000000000001,8.6199999999999992,"H",null,null,null,{"$f":"catp","v":4}]
[2066,"Kis Jancsi","Cluj Napoca",54,8.6199999999999992,"H",null,null,null,{"$f":"catp","v":4}]
[3024,"Dulgheru Alexandru","Bucuresti",19.100000000000001,8.6,"H",null,null,null,{"$f":"catp","v":4}]
[3382,"Serban Felix","Panciu",12.9,8.6,"H",null,null,null,{"$f":"catp","v":4}]
[3730,"Nascu Horea","Cluj Napoca",8.6,8.6,"H",null,null,null,{"$f":"catp","v":4}]
[3731,"Nesterov Roman","Moldova-Drochia",8.6,8.6,"H",null,null,null,{"$f":"catp","v":4}]
[3732,"Tataru Nicolae","Vaslui",8.6,8.6,"H",null,null,null,{"$f":"catp","v":4}]
[2074,"Andrei Marian","Barlad",53.3,8.58,"H",null,null,null,{"$f":"catp","v":4}]
[2201,"Sucilea Adrian","Cluj Napoca",46.6,8.58,"H",null,null,null,{"$f":"catp","v":4}]
[3213,"Crisan Romeo","Estelnic",15.4,8.5500000000000007,"H",null,null,null,{"$f":"catp","v":4}]
[3266,"Cojocaru Cosmin","Breaza",14.8,8.5500000000000007,"H",null,null,null,{"$f":"catp","v":4}]
[3267,"Matei Daniel","Pitesti",14.8,8.5500000000000007,"H",null,null,null,{"$f":"catp","v":4}]
[1264,"Moise Viorel","Braila",129.19999999999999,8.5299999999999994,"HW",null,null,null,{"$f":"catp","v":4}]
[2565,"Maftei Danut","Buzau",31.9,8.5299999999999994,"H",null,null,null,{"$f":"catp","v":4}]
[2838,"Drinc Ionut","Oradea",23.6,8.5299999999999994,"H",null,null,null,{"$f":"catp","v":4}]
[1448,"Dobrica Marius","Videle",106,8.5,"H",null,null,null,{"$f":"catp","v":4}]
[3740,"Damaschin Sorin","Suceava",8.5,8.5,"H",null,null,null,{"$f":"catp","v":4}]
[3741,"Ionescu Alexandru","Bucuresti",8.5,8.5,"H",null,null,null,{"$f":"catp","v":4}]
[3742,"Paius Vlad","Hunedoara",8.5,8.5,"H",null,null,null,{"$f":"catp","v":4}]
[3743,"Pop Nicolae","Orastie",8.5,8.5,"H",null,null,null,{"$f":"catp","v":4}]
[1563,"Popa Andrei Mihai","Ploiesti",93.3,8.48,"H",null,null,null,{"$f":"catp","v":4}]
[2149,"Hontaru Dan","Galati",49.3,8.48,"H",null,null,null,{"$f":"catp","v":4}]
[2301,"Dragomanu Ana Maria","Comanesti",41.9,8.48,"HF",null,null,null,{"$f":"catp","v":4}]
[1279,"Baidoc Marius Ionut","Zalau",126.2,8.4700000000000006,"H",null,null,null,{"$f":"catp","v":4}]
[1667,"Huszar Sabin Robert","Ocna Mures",81.7,8.4600000000000009,"H",null,null,null,{"$f":"catp","v":4}]
[3171,"Duma Daniel","Sighetu Marmatiei",16.3,8.4499999999999993,"H",null,null,null,{"$f":"catp","v":4}]
[3214,"Croitoru Bogdan","Constanta",15.4,8.4499999999999993,"H",null,null,null,{"$f":"catp","v":4}]
[3296,"Vizitiu Andrei","Buhusi",14.3,8.4499999999999993,"H",null,null,null,{"$f":"catp","v":4}]
[3392,"Maxim Costel","Moinesti",12.7,8.4499999999999993,"H",null,null,null,{"$f":"catp","v":4}]
[2814,"Bartic Stefan","Mogosesti",24,8.43,"H",null,null,null,{"$f":"catp","v":4}]
[1216,"Pop Daniel Ghe","Cluj Napoca",136.69999999999999,8.41,"H",null,null,null,{"$f":"catp","v":4}]
[3928,"Meltschoh Marius Ionut","Timisoara",6.3,8.4,"H",null,null,null,{"$f":"catp","v":4}]
[1652,"Sava Sinel","Focsani",83.4,8.36,"H",null,null,null,{"$f":"catp","v":4}]
[1879,"Lupean Dumitru","Alba Iulia",64.599999999999994,8.35,"H",null,null,null,{"$f":"catp","v":4}]
[3150,"Grama Aurel","Bistrita",16.7,8.35,"H",null,null,null,{"$f":"catp","v":4}]
[2094,"Pentescu Adrian","Constanta",52.1,8.3000000000000007,"H",null,null,null,{"$f":"catp","v":4}]
[3331,"Manciu George","Cluj Napoca",13.7,8.3000000000000007,"H",null,null,null,{"$f":"catp","v":4}]
[3406,"Coman Violeta","Brasov",12.5,8.3000000000000007,"HF",null,null,null,{"$f":"catp","v":4}]
[3760,"Neiconi Florin","Hateg",8.3000000000000007,8.3000000000000007,"H",null,null,null,{"$f":"catp","v":4}]
[3761,"Zlata Alex","Focsani",8.3000000000000007,8.3000000000000007,"H",null,null,null,{"$f":"catp","v":4}]
[3762,"Ionel Dragos","Bistrita",8.3000000000000007,8.3000000000000007,"H",null,null,null,{"$f":"catp","v":4}]
[3763,"Forna Andrei","Apahida",8.3000000000000007,8.3000000000000007,"H",null,null,null,{"$f":"catp","v":4}]
[3764,"Stanescu Maria","Iasi",8.3000000000000007,8.3000000000000007,"HF",null,null,null,{"$f":"catp","v":4}]
[3765,"Mitu Claudiu","Bucuresti",8.3000000000000007,8.3000000000000007,"H",null,null,null,{"$f":"catp","v":4}]
[3929,"Iancu Laurentiu","Constanta",6.3,8.3000000000000007,"H",null,null,null,{"$f":"catp","v":4}]
[2059,"Muresan Alexandru","Apahida",54.5,8.27,"H",null,null,null,{"$f":"catp","v":4}]
[1292,"Csiki Ioan","Targu Mures",124.5,8.26,"HW",null,null,null,{"$f":"catp","v":4}]
[2622,"Oproi Eugen","Sannicolau Mare",29.7,8.25,"H",null,null,null,{"$f":"catp","v":4}]
[2692,"Bujuleg Petre","Breaza",27.5,8.25,"H",null,null,null,{"$f":"catp","v":4}]
[3279,"Patrascuta Octavian","Drobeta Tr Severin",14.7,8.25,"H",null,null,null,{"$f":"catp","v":4}]
[2832,"Palaina Nicolae","Curtea de Arges",23.7,8.23,"H",null,null,null,{"$f":"catp","v":4}]
[1585,"Biraut Emil","Cluj Napoca",90.5,8.2200000000000006,"H",null,null,null,{"$f":"catp","v":4}]
[2687,"Ternauciuc Mihai","Nadrag",27.6,8.1999999999999993,"H",null,null,null,{"$f":"catp","v":4}]
[3421,"Pirvu Marian","Caracal",12.3,8.1999999999999993,"H",null,null,null,{"$f":"catp","v":4}]
[3773,"Oprisanescu Adrian","Ploiesti",8.1999999999999993,8.1999999999999993,"H",null,null,null,{"$f":"catp","v":4}]
[3774,"Gheorghica Petru","Pascani",8.1999999999999993,8.1999999999999993,"H",null,null,null,{"$f":"catp","v":4}]
[3775,"Blaga Mircea","Alesd",8.1999999999999993,8.1999999999999993,"H",null,null,null,{"$f":"catp","v":4}]
[2313,"Dogaru Iurie","Moldova-Cahul",41.3,8.18,"H",null,null,null,{"$f":"catp","v":4}]
[2629,"Ogutai Ibadula","Constanta",29.5,8.18,"H",null,null,null,{"$f":"catp","v":4}]
[1203,"Rus Partenie","Santimbru AB",139.19999999999999,8.16,"H",null,null,null,{"$f":"catp","v":4}]
[1474,"Soceanu Bogdan","Bucuresti",103.3,8.15,"H",null,null,null,{"$f":"catp","v":4}]
[2368,"Laczko Csongor","Joseni",39.1,8.15,"H",null,null,null,{"$f":"catp","v":4}]
[3308,"Ursu Laurentiu","Galati",14.1,8.15,"H",null,null,null,{"$f":"catp","v":4}]
[1824,"Nedelcu Daniel","Timisoara",69,8.14,"H",null,null,null,{"$f":"catp","v":4}]
[2547,"Barcan Adrian","Piatra Neamt",32.5,8.1300000000000008,"H",null,null,null,{"$f":"catp","v":4}]
[1927,"Cazac Iulia","Moldova-Briceni",61.8,8.1199999999999992,"HF",null,null,null,{"$f":"catp","v":4}]
[1654,"Burghelea Liviu","Bucuresti",83.2,8.11,"H",null,null,null,{"$f":"catp","v":4}]
[2854,"Bogdan Tiberiu","Alexandria",23.2,8.1,"H",null,null,null,{"$f":"catp","v":4}]
[3179,"Marin Alexandru","Cateasca",16.2,8.1,"H",null,null,null,{"$f":"catp","v":4}]
[3781,"Albu Iulian","Comanesti",8.1,8.1,"HW",null,null,null,{"$f":"catp","v":4}]
[3782,"Fritz Costel","Slobozia",8.1,8.1,"H",null,null,null,{"$f":"catp","v":4}]
[3941,"Florea Stelian","Bucuresti",6.1,8.1,"H",null,null,null,{"$f":"catp","v":4}]
[3942,"Szentmiklosi Bela","Oradea",6.1,8.1,"H",null,null,null,{"$f":"catp","v":4}]
[1290,"Creta Petru","Luna CJ",124.6,8.0500000000000007,"HW",null,null,null,{"$f":"catp","v":4}]
[3436,"Buciu Denis","Bals",12.1,8.0500000000000007,"H",null,null,null,{"$f":"catp","v":4}]
[1828,"Titiliuc Alesia","Dersca",68.599999999999994,8.0299999999999994,"HF",null,null,null,{"$f":"catp","v":4}]
[2608,"Dari Valeriu","Moldova-Cahul",30.1,8.0299999999999994,"H",null,null,null,{"$f":"catp","v":4}]
[1349,"Florida Alin Emil","Videle",117.6,8,"H",null,null,null,{"$f":"catp","v":4}]
[2866,"Oniga Florin","Alba Iulia",22.8,8,"H",null,null,null,{"$f":"catp","v":4}]
[3332,"Stavarache Andrei","Iasi",13.7,8,"H",null,null,null,{"$f":"catp","v":4}]
[3787,"Balanean Florin","Sibiu",8,8,"H",null,null,null,{"$f":"catp","v":4}]
[3788,"Sauciuc Eduard","Barlad",8,8,"H",null,null,null,{"$f":"catp","v":4}]
[3789,"Albert Szabolcs","Targu Mures",8,8,"H",null,null,null,{"$f":"catp","v":4}]
[3951,"Radu Florin","Ploiesti",6,8,"H",null,null,null,{"$f":"catp","v":4}]
[3952,"Pasaila Marius George","Timisoara",6,8,"H",null,null,null,{"$f":"catp","v":4}]
[2701,"Savciuc Alexandru","Moldova-Balti",27.3,7.97,"H",null,null,null,{"$f":"catp","v":4}]
[2929,"Vasile Cristian","Brasov",21.4,7.97,"H",null,null,null,{"$f":"catp","v":4}]
[1155,"Simion Luana","Cluj Napoca",145.4,7.96,"HF",null,null,null,{"$f":"catp","v":4}]
[2354,"Popa Mihai","Sibiu",39.6,7.93,"HW",null,null,null,{"$f":"catp","v":4}]
[2887,"Tin Catalin","Bucuresti",22.5,7.93,"H",null,null,null,{"$f":"catp","v":4}]
[3004,"Centea Daniel","Dej",19.600000000000001,7.93,"H",null,null,null,{"$f":"catp","v":4}]
[2693,"Paduraru Giani","Vaslui",27.5,7.9,"H",null,null,null,{"$f":"catp","v":4}]
[2845,"Galea Robert","Arad",23.4,7.9,"H",null,null,null,{"$f":"catp","v":4}]
[2867,"Hirsescu Cosmin","Bucuresti",22.8,7.9,"H",null,null,null,{"$f":"catp","v":4}]
[3792,"Leaua Fabian","Ramnicu Sarat",7.9,7.9,"H",null,null,null,{"$f":"catp","v":4}]
[2321,"Suci Sandor","Oradea",41,7.88,"H",null,null,null,{"$f":"catp","v":4}]
[1542,"Luca Ioan","Piatra Neamt",95.5,7.85,"H",null,null,null,{"$f":"catp","v":4}]
[1794,"Adamosi Klaudia","Targu Mures",71.400000000000006,7.85,"HF",null,null,null,{"$f":"catp","v":4}]
[2911,"Derbac Ivan","Caransebes",22,7.85,"H",null,null,null,{"$f":"catp","v":4}]
[3201,"Constantin Cristian","Curtea de Arges",15.7,7.85,"H",null,null,null,{"$f":"catp","v":4}]
[3231,"Dogaru Mihai","Drobeta Tr Severin",15.1,7.85,"H",null,null,null,{"$f":"catp","v":4}]
[1655,"Gota Florin","Santimbru AB",83.2,7.84,"HW",null,null,null,{"$f":"catp","v":4}]
[1599,"Muresan Adrian","Brasov",89.2,7.83,"H",null,null,null,{"$f":"catp","v":4}]
[1640,"Porojan Florin","Bucuresti",84.5,7.83,"H",null,null,null,{"$f":"catp","v":4}]
[2542,"Ferenczi Laszlo","Sighisoara",32.9,7.83,"H",null,null,null,{"$f":"catp","v":4}]
[2593,"Timplaru Catalin","Galati",30.8,7.83,"H",null,null,null,{"$f":"catp","v":4}]
[1790,"Giurgiu Andrei","Sibiu",71.599999999999994,7.81,"H",null,null,null,{"$f":"catp","v":4}]
[3799,"Denis Cismas Ionut","Sighisoara",7.8,7.8,"H",null,null,null,{"$f":"catp","v":4}]
[3800,"Mirutoi Toader","Campulung Mold",7.8,7.8,"H",null,null,null,{"$f":"catp","v":4}]
[1877,"Sebestyen Tiberiu","Deva",64.900000000000006,7.79,"H",null,null,null,{"$f":"catp","v":4}]
[1415,"Hutina Adrian","Targu Mures",109.9,7.78,"H",null,null,null,{"$f":"catp","v":4}]
[1424,"Sabau Radu","Cluj Napoca",108.6,7.78,"H",null,null,null,{"$f":"catp","v":4}]
[2942,"Mihalache Andrei","Buzau",21,7.75,"H",null,null,null,{"$f":"catp","v":4}]
[2100,"Spulber Bogdan Andrei","Bacau",51.7,7.72,"H",null,null,null,{"$f":"catp","v":4}]
[2182,"Stoian Narcis","Braila",47.8,7.72,"H",null,null,null,{"$f":"catp","v":4}]
[1533,"Sipos Claudiu","Gherla",96.1,7.71,"H",null,null,null,{"$f":"catp","v":4}]
[1718,"Sandru Rares","Dumbraveni SB",77.400000000000006,7.71,"HJ",null,null,null,{"$f":"catp","v":4}]
[3977,"Deac Vasile","Ianova",5.8,7.7,"H",null,null,null,{"$f":"catp","v":4}]
[1938,"Husarciuc Marc","Suceava",61,7.69,"HJ",null,null,null,{"$f":"catp","v":4}]
[2463,"Ciobescu Gabriel Radu","Targu Jiu",35.4,7.68,"H",null,null,null,{"$f":"catp","v":4}]
[1944,"Nicusan Claudiu","Sibiu",60.8,7.67,"H",null,null,null,{"$f":"catp","v":4}]
[2516,"Guita Robert","Cluj Napoca",33.6,7.67,"H",null,null,null,{"$f":"catp","v":4}]
[2743,"Peter Stefan","Arad",25.9,7.67,"H",null,null,null,{"$f":"catp","v":4}]
[2095,"Lungu Tudorel","Tecuci",52.1,7.66,"H",null,null,null,{"$f":"catp","v":4}]
[2183,"Putineanu Andrei","Alexandria",47.8,7.66,"H",null,null,null,{"$f":"catp","v":4}]
[2418,"Buta Raul","Petrosani",37,7.65,"H",null,null,null,{"$f":"catp","v":4}]
[2184,"Lazar Ionel","Pufesti",47.8,7.6,"H",null,null,null,{"$f":"catp","v":4}]
[3226,"Pletea Mihaela","Sibiu",15.2,7.6,"HF",null,null,null,{"$f":"catp","v":4}]
[3227,"Niga Corneliu Filaret","Campulung Mold",15.2,7.6,"H",null,null,null,{"$f":"catp","v":4}]
[3309,"Patras Claudiu","Iasi",14.1,7.6,"H",null,null,null,{"$f":"catp","v":4}]
[3813,"Busuioc Marian","Bucuresti",7.6,7.6,"H",null,null,null,{"$f":"catp","v":4}]
[3814,"Clontea Mircea","Victoria",7.6,7.6,"H",null,null,null,{"$f":"catp","v":4}]
[3815,"Vacaru Liviu","Victoria",7.6,7.6,"H",null,null,null,{"$f":"catp","v":4}]
[3816,"Taroiu Alexandru","Videle",7.6,7.6,"H",null,null,null,{"$f":"catp","v":4}]
[3817,"Lupea Mihai Emil","Sibiu",7.6,7.6,"H",null,null,null,{"$f":"catp","v":4}]
[2131,"Rusu Adrian","Aiud",50.3,7.58,"H",null,null,null,{"$f":"catp","v":4}]
[2260,"Nica Vladimir","Branesti DB",43.7,7.58,"H",null,null,null,{"$f":"catp","v":4}]
[2725,"Oprea Ramona","Brasov",26.4,7.58,"HF",null,null,null,{"$f":"catp","v":4}]
[2914,"Danciu Beatrice","Brasov",21.8,7.57,"HF",null,null,null,{"$f":"catp","v":4}]
[1850,"Morar Bogdan","Dumbraveni SB",67.2,7.55,"HJ",null,null,null,{"$f":"catp","v":4}]
[2474,"Mincu Marian","Tulcea",34.9,7.55,"H",null,null,null,{"$f":"catp","v":4}]
[3348,"Todea Adrian","Apahida",13.4,7.55,"H",null,null,null,{"$f":"catp","v":4}]
[2242,"Barla Catalin","Videle",44.6,7.54,"H",null,null,null,{"$f":"catp","v":4}]
[1742,"Popa Gheorghe","Medias",75.8,7.53,"H",null,null,null,{"$f":"catp","v":4}]
[2536,"Boldor Serban","Cluj Napoca",33,7.53,"H",null,null,null,{"$f":"catp","v":4}]
[1393,"Radulescu Dan","Bucuresti",113.4,7.52,"H",null,null,null,{"$f":"catp","v":4}]
[2504,"Baldan Ioana","Cluj Napoca",33.9,7.5,"HF",null,null,null,{"$f":"catp","v":4}]
[3205,"Gaga Ioan","Cluj Napoca",15.6,7.5,"H",null,null,null,{"$f":"catp","v":4}]
[3257,"Buzoianu Eduard","Oltenita",15,7.5,"H",null,null,null,{"$f":"catp","v":4}]
[3323,"Mitrea Madalina","Bucuresti",13.8,7.5,"HF",null,null,null,{"$f":"catp","v":4}]
[1830,"Spatar Narcis","Dumbraveni SB",68.5,7.48,"H",null,null,null,{"$f":"catp","v":4}]
[2582,"Vlasin Adrian","Viseu",31.3,7.47,"H",null,null,null,{"$f":"catp","v":4}]
[3407,"Simion Ionut","Bucuresti",12.5,7.45,"H",null,null,null,{"$f":"catp","v":4}]
[2306,"Loghin Claudiu","Iasi",41.6,7.43,"H",null,null,null,{"$f":"catp","v":4}]
[2948,"Hanes Onisie","Medias",20.9,7.43,"H",null,null,null,{"$f":"catp","v":4}]
[1582,"Simulescu Dumitru","Craiova",91.1,7.41,"HW",null,null,null,{"$f":"catp","v":4}]
[1434,"Toma Cristian","Balotesti",107.4,7.4,"H",null,null,null,{"$f":"catp","v":4}]
[2569,"Huzoni Viorel","Jibou",31.8,7.4,"H",null,null,null,{"$f":"catp","v":4}]
[2720,"Gavriluta Danut","Vadu Moldovei",26.5,7.4,"H",null,null,null,{"$f":"catp","v":4}]
[3268,"Talpa Gheorghe","Moldova-Drochia",14.8,7.4,"H",null,null,null,{"$f":"catp","v":4}]
[3997,"Pana Nicu","Bucuresti",5.6,7.4,"H",null,null,null,{"$f":"catp","v":4}]
[3998,"Pandelescu Eduard","Bucuresti",5.6,7.4,"H",null,null,null,{"$f":"catp","v":4}]
[1707,"Trif Marius","Atintis",78.3,7.37,"H",null,null,null,{"$f":"catp","v":4}]
[3092,"Hirlea Luca","Suceava",17.8,7.37,"H",null,null,null,{"$f":"catp","v":4}]
[2415,"Cozma Stefan","Apahida",37.1,7.35,"H",null,null,null,{"$f":"catp","v":4}]
[3422,"Moldovan Aurel","Timisoara",12.3,7.35,"H",null,null,null,{"$f":"catp","v":4}]
[1513,"Herban Cosmin","Hunedoara",98.3,7.34,"H",null,null,null,{"$f":"catp","v":4}]
[1842,"Andrei Cozmin Stefanut","Buzau",67.7,7.3,"H",null,null,null,{"$f":"catp","v":4}]
[3047,"Padureanu Costi","Craiova",18.7,7.3,"HW",null,null,null,{"$f":"catp","v":4}]
[3281,"Bolos Viorel","Hateg",14.6,7.3,"HW",null,null,null,{"$f":"catp","v":4}]
[3282,"Cutcovschi Damian","Moldova",14.6,7.3,"H",null,null,null,{"$f":"catp","v":4}]
[3535,"Adam Cristian","Navodari",11,7.3,"H",null,null,null,{"$f":"catp","v":4}]
[3536,"Ivancea Iustin","Videle",11,7.3,"H",null,null,null,{"$f":"catp","v":4}]
[3842,"Denes Ludovic","Varsolt",7.3,7.3,"H",null,null,null,{"$f":"catp","v":4}]
[3843,"Sauciuc Cosmin","Barlad",7.3,7.3,"H",null,null,null,{"$f":"catp","v":4}]
[2406,"Neagu Costin","Targoviste",37.4,7.28,"H",null,null,null,{"$f":"catp","v":4}]
[2570,"Lazar Mihai","Alexandria",31.8,7.28,"H",null,null,null,{"$f":"catp","v":4}]
[1786,"Curutiu Corin","Dumbraveni SB",71.8,7.27,"HJ",null,null,null,{"$f":"catp","v":4}]
[2243,"Dinescu Dan","Oradea",44.6,7.24,"H",null,null,null,{"$f":"catp","v":4}]
[1777,"Varachin Vitalie","Moldova-Cahul",72.3,7.23,"H",null,null,null,{"$f":"catp","v":4}]
[2307,"Matei Catalin","Sibiu",41.6,7.23,"H",null,null,null,{"$f":"catp","v":4}]
[1717,"Rosa Vasile","Salciua",77.5,7.21,"HD",null,null,null,{"$f":"catp","v":4}]
[1579,"Luca Ioan","Sibiu",92.1,7.2,"HW"]
[2678,"Rastau Iustinian","Timisoara",27.8,7.2,"H",null,null,null,{"$f":"catp","v":4}]
[3287,"Ivascu Stefan","Viseu",14.4,7.2,"H",null,null,null,{"$f":"catp","v":4}]
[3341,"Hostiuc Mitica","Botosani",13.5,7.2,"H",null,null,null,{"$f":"catp","v":4}]
[3423,"Marin Bogdan Mihail","Bacau",12.3,7.2,"H",null,null,null,{"$f":"catp","v":4}]
[3844,"Dragan Cristian","Bucuresti",7.2,7.2,"H",null,null,null,{"$f":"catp","v":4}]
[3845,"Oleinic Cosmin","Moldova-Edinet",7.2,7.2,"H",null,null,null,{"$f":"catp","v":4}]
[2394,"Ogrutan Marius","Cluj Napoca",37.9,7.18,"H",null,null,null,{"$f":"catp","v":4}]
[2419,"Bunduchi Mircea Andrei","Solont",36.9,7.18,"H",null,null,null,{"$f":"catp","v":4}]
[2680,"Craja Gina Alexandra","Bucuresti",27.7,7.18,"HF",null,null,null,{"$f":"catp","v":4}]
[1957,"Velcea George","Bucuresti",60.1,7.17,"H",null,null,null,{"$f":"catp","v":4}]
[1784,"Muresan Aris","Gherla",71.900000000000006,7.15,"H",null,null,null,{"$f":"catp","v":4}]
[2381,"Manolache Stefan","Boldesti Scaeni",38.4,7.15,"H",null,null,null,{"$f":"catp","v":4}]
[2310,"Csoka Andras","Hunedoara",41.5,7.13,"H",null,null,null,{"$f":"catp","v":4}]
[2434,"Popa Mihail","Bucuresti",36.4,7.13,"H",null,null,null,{"$f":"catp","v":4}]
[2572,"Pascu Ioan","Targu Mures",31.6,7.13,"H",null,null,null,{"$f":"catp","v":4}]
[1583,"Dan Popa","Tecuci",90.6,7.12,"H",null,null,null,{"$f":"catp","v":4}]
[1593,"Ion Robert","Bucuresti",89.6,7.12,"H",null,null,null,{"$f":"catp","v":4}]
[1566,"Scripet Ovidiu","Bistrita",93,7.11,"H",null,null,null,{"$f":"catp","v":4}]
[2428,"Vrasti Ioan","Ploiesti",36.6,7.1,"HJ",null,null,null,{"$f":"catp","v":4}]
[2825,"Homana Ioan","Stremt",23.8,7.1,"H",null,null,null,{"$f":"catp","v":4}]
[3008,"Tabacaru Ciprian","Vaslui",19.5,7.1,"H",null,null,null,{"$f":"catp","v":4}]
[3126,"Cucurigu Paul","Vatra Dornei",17.3,7.1,"H",null,null,null,{"$f":"catp","v":4}]
[3430,"Aprodu Mircea","Bacau",12.2,7.1,"H",null,null,null,{"$f":"catp","v":4}]
[4028,"Motoi Daniel","Craiova",5.4,7.1,"H",null,null,null,{"$f":"catp","v":4}]
[2157,"Gota Adrian","Santimbru AB",49,7.08,"H",null,null,null,{"$f":"catp","v":4}]
[2049,"Cserei Gabor","Sovata",55,7.07,"H",null,null,null,{"$f":"catp","v":4}]
[2998,"Cojocaru Cristian","Targu Jiu",19.8,7.07,"H",null,null,null,{"$f":"catp","v":4}]
[2372,"Pascu Marian","Bucuresti",38.9,7.05,"H",null,null,null,{"$f":"catp","v":4}]
[2487,"Prahoveanu Nicolae","Constanta",34.5,7.05,"H",null,null,null,{"$f":"catp","v":4}]
[2995,"Micu Catalin","Valenii de Munte",20,7.05,"H",null,null,null,{"$f":"catp","v":4}]
[1676,"Sandu Dragos","Nasaud",81.400000000000006,7.03,"H",null,null,null,{"$f":"catp","v":4}]
[3093,"Crisan Ovidiu","Cluj Napoca",17.8,7.03,"H",null,null,null,{"$f":"catp","v":4}]
[1540,"Marinescu Stefan","Bucuresti",95.7,7.02,"H",null,null,null,{"$f":"catp","v":4}]
[2003,"Suciu Gheorghe","Alba Iulia",57.9,7.02,"H",null,null,null,{"$f":"catp","v":4}]
[2224,"Pascu Gabriel","Braila",45.3,7,"HW",null,null,null,{"$f":"catp","v":4}]
[2386,"Lazar Viorel","Botosani",38.200000000000003,7,"H",null,null,null,{"$f":"catp","v":4}]
[2888,"Ferenczi Sandor","Targu Mures",22.5,7,"H",null,null,null,{"$f":"catp","v":4}]
[3043,"Oprea Sorin","Galati",18.8,7,"H",null,null,null,{"$f":"catp","v":4}]
[3058,"Szasz Zoltan","Gheorgheni",18.600000000000001,7,"H",null,null,null,{"$f":"catp","v":4}]
[3393,"Chirila Ovidiu","Hunedoara",12.7,7,"H",null,null,null,{"$f":"catp","v":4}]
[3437,"Goldis Marinel","Arad",12.1,7,"H",null,null,null,{"$f":"catp","v":4}]
[3466,"Dan Alexandru","Alexandria",11.8,7,"H",null,null,null,{"$f":"catp","v":4}]
[3854,"Dumitrana Catalin","Bucuresti",7,7,"H",null,null,null,{"$f":"catp","v":4}]
[3855,"Garbacea Ionut","Slobozia",7,7,"H",null,null,null,{"$f":"catp","v":4}]
[3856,"Oltean Tudor","Zalau",7,7,"H",null,null,null,{"$f":"catp","v":4}]
[3857,"Rusu Ion","Vaslui",7,7,"H",null,null,null,{"$f":"catp","v":4}]
[4038,"Elekes Csaba","Valea Scurta",5.3,7,"H",null,null,null,{"$f":"catp","v":4}]
[4039,"Kerekes Tibor","Bretcu",5.3,7,"H",null,null,null,{"$f":"catp","v":4}]
[1467,"Popa Cristian Vasile","Cluj Napoca",103.9,6.99,"H",null,null,null,{"$f":"catp","v":4}]
[1416,"Leon Cristi","Galati",109.9,6.98,"H",null,null,null,{"$f":"catp","v":4}]
[1807,"Pirlea Dorin","Hunedoara",70.099999999999994,6.98,"H",null,null,null,{"$f":"catp","v":4}]
[2191,"Ionescu Traian","Galati",47,6.98,"H",null,null,null,{"$f":"catp","v":4}]
[2667,"Minecan Flavius","Falticeni",28.1,6.97,"H",null,null,null,{"$f":"catp","v":4}]
[3180,"Pruna Stefan Cristian","Pitesti",16.2,6.97,"H",null,null,null,{"$f":"catp","v":4}]
[2013,"Huza Noris","Targu Mures",57.4,6.96,"H",null,null,null,{"$f":"catp","v":4}]
[2126,"Avram Alexandru","Dumbraveni SB",50.6,6.95,"HJ",null,null,null,{"$f":"catp","v":4}]
[3415,"Coman Gabriel","Bucuresti",12.4,6.95,"H",null,null,null,{"$f":"catp","v":4}]
[1954,"Dumitru Cosmin","Bucuresti",60.2,6.94,"H",null,null,null,{"$f":"catp","v":4}]
[3010,"Oana Ion Petru","Cernavoda",19.399999999999999,6.93,"H",null,null,null,{"$f":"catp","v":4}]
[1995,"Mos Cristian","Tampa",58.2,6.92,"H",null,null,null,{"$f":"catp","v":4}]
[2443,"Gergely Istvan","Ditrau",36.200000000000003,6.9,"H",null,null,null,{"$f":"catp","v":4}]
[3070,"Spancioc Ciprian","Cluj Napoca",18.3,6.9,"H",null,null,null,{"$f":"catp","v":4}]
[3416,"Tebeica Ionut","Bucuresti",12.4,6.9,"H",null,null,null,{"$f":"catp","v":4}]
[3584,"Dinu Ion","Bals",10.4,6.9,"H",null,null,null,{"$f":"catp","v":4}]
[3870,"Papp Ernest","Cluj Napoca",6.9,6.9,"H",null,null,null,{"$f":"catp","v":4}]
[3871,"Ionita Florian","Paulesti",6.9,6.9,"H",null,null,null,{"$f":"catp","v":4}]
[3872,"Ababii Gheorghe","Moldova-Drochia",6.9,6.9,"H",null,null,null,{"$f":"catp","v":4}]
[3873,"Cernat Radu","Moinesti",6.9,6.9,"H",null,null,null,{"$f":"catp","v":4}]
[3874,"Agavriloaie Costica","Moinesti",6.9,6.9,"H",null,null,null,{"$f":"catp","v":4}]
[4055,"Dulgheru Gheorghe","Buzau",5.2,6.9,"H",null,null,null,{"$f":"catp","v":4}]
[1682,"Vavura Narcis","Targu Jiu",80.7,6.89,"H",null,null,null,{"$f":"catp","v":4}]
[1569,"Benca Lucian","Balan",92.8,6.88,"H",null,null,null,{"$f":"catp","v":4}]
[2583,"Piper Romeo","Luna CJ",31.3,6.88,"H",null,null,null,{"$f":"catp","v":4}]
[2775,"Leseanu Mihaita","Alexandria",25,6.85,"H",null,null,null,{"$f":"catp","v":4}]
[2848,"Griga Cristian","Oradea",23.3,6.85,"H",null,null,null,{"$f":"catp","v":4}]
[2343,"Ilie Razvan","Ploiesti",39.9,6.83,"H",null,null,null,{"$f":"catp","v":4}]
[3887,"Dragomir Mihai","Armenis",6.8,6.8,"H",null,null,null,{"$f":"catp","v":4}]
[3888,"Sert Vitalii","Moldova-Ceadir-Lunga",6.8,6.8,"H",null,null,null,{"$f":"catp","v":4}]
[4065,"Gheorghita Robert","Cisnadie",5.0999999999999996,6.8,"H",null,null,null,{"$f":"catp","v":4}]
[4066,"Toderean Darius","Hunedoara",5.0999999999999996,6.8,"H",null,null,null,{"$f":"catp","v":4}]
[1590,"Iacob Augustin","Piatra Neamt",90,6.78,"H",null,null,null,{"$f":"catp","v":4}]
[2849,"Georgescu Marius","Sibiu",23.3,6.77,"H",null,null,null,{"$f":"catp","v":4}]
[2871,"Koncsag Csaba","Joseni",22.7,6.77,"H",null,null,null,{"$f":"catp","v":4}]
[3084,"Ratoi Dorin","Hunedoara",18,6.77,"H",null,null,null,{"$f":"catp","v":4}]
[2277,"Fleser Marian","Blaj",43,6.76,"H",null,null,null,{"$f":"catp","v":4}]
[2889,"Savescu Mihai","Videle",22.4,6.75,"H",null,null,null,{"$f":"catp","v":4}]
[3102,"Pislari Nicolae","Moldova-Drochia",17.7,6.75,"H",null,null,null,{"$f":"catp","v":4}]
[3342,"Andras Imre","Zetea",13.5,6.75,"H",null,null,null,{"$f":"catp","v":4}]
[3343,"Popescu Andrei","Curtea de Arges",13.5,6.75,"H",null,null,null,{"$f":"catp","v":4}]
[3424,"Dobre Alexandru","Bucuresti",12.3,6.75,"H",null,null,null,{"$f":"catp","v":4}]
[3445,"Furdui Anatol","Moldova-Balti",12,6.75,"H",null,null,null,{"$f":"catp","v":4}]
[2104,"Balint Andrei","Reghin",51.4,6.74,"H",null,null,null,{"$f":"catp","v":4}]
[2251,"Dinicescu Ion","Pitesti",44.2,6.74,"HW",null,null,null,{"$f":"catp","v":4}]
[2645,"Apostu Marius","Galati",29,6.73,"H",null,null,null,{"$f":"catp","v":4}]
[2661,"Soare Andrei","Bucuresti",28.3,6.73,"H",null,null,null,{"$f":"catp","v":4}]
[1472,"Durlan Andrei","Iasi",103.5,6.72,"H",null,null,null,{"$f":"catp","v":4}]
[2214,"Mate Gellert Gergo","Micfalau",45.6,6.7,"H",null,null,null,{"$f":"catp","v":4}]
[3601,"Marius Andrei","Bucuresti",10.1,6.7,"H",null,null,null,{"$f":"catp","v":4}]
[3890,"Galan Ionut","Barlad",6.7,6.7,"H",null,null,null,{"$f":"catp","v":4}]
[3891,"Opris Marius","Arad",6.7,6.7,"H",null,null,null,{"$f":"catp","v":4}]
[3892,"Balaban Dumitru","Barlad",6.7,6.7,"H",null,null,null,{"$f":"catp","v":4}]
[3893,"Vlad Alexandru","Barlad",6.7,6.7,"H",null,null,null,{"$f":"catp","v":4}]
[3894,"Andronache Petrica","Barlad",6.7,6.7,"H",null,null,null,{"$f":"catp","v":4}]
[4067,"Dragomir Mircea","Medias",5.0999999999999996,6.7,"H",null,null,null,{"$f":"catp","v":4}]
[4068,"Miron Adrian Ovidiu","Bucuresti",5.0999999999999996,6.7,"H",null,null,null,{"$f":"catp","v":4}]
[1895,"Ghica Marius","Craiova",63.9,6.67,"H",null,null,null,{"$f":"catp","v":4}]
[2833,"Macarie Ovidiu","Turda",23.7,6.67,"H",null,null,null,{"$f":"catp","v":4}]
[3109,"Turcinschi Serghei","Moldova-Balti",17.600000000000001,6.67,"H",null,null,null,{"$f":"catp","v":4}]
[2167,"Ilisan Costina","Toplita",48.3,6.66,"HF",null,null,null,{"$f":"catp","v":4}]
[2192,"Moldovan Radu","Alba Iulia",47,6.65,"H",null,null,null,{"$f":"catp","v":4}]
[3297,"Lengenfelder Johan","Giroc",14.3,6.65,"H",null,null,null,{"$f":"catp","v":4}]
[3358,"Popescu Ionut Bogdan","Ploiesti",13.3,6.65,"H",null,null,null,{"$f":"catp","v":4}]
[3438,"Musat Aurel","Bucuresti",12.1,6.65,"H",null,null,null,{"$f":"catp","v":4}]
[2472,"Chirita Daniel","Bucuresti",35.1,6.63,"H",null,null,null,{"$f":"catp","v":4}]
[2668,"Riclea George Eusebiu","Barlad",28.1,6.63,"H",null,null,null,{"$f":"catp","v":4}]
[2322,"Soldan Ionatan","Cajvana",41,6.62,"H",null,null,null,{"$f":"catp","v":4}]
[2943,"Padure Andrei","Agnita",21,6.6,"H",null,null,null,{"$f":"catp","v":4}]
[3367,"Grigore Catalin","Cocorastii Mislii",13.2,6.6,"H",null,null,null,{"$f":"catp","v":4}]
[3482,"Burian Ovidiu","Cluj Napoca",11.6,6.6,"H",null,null,null,{"$f":"catp","v":4}]
[3497,"Morar Aurel Ovidiu","Tarnaveni",11.4,6.6,"H",null,null,null,{"$f":"catp","v":4}]
[3897,"Teodorad Valentin","Slatina",6.6,6.6,"H",null,null,null,{"$f":"catp","v":4}]
[3898,"Ciulei Adrian","Movila",6.6,6.6,"HW",null,null,null,{"$f":"catp","v":4}]
[3899,"Dumitru George","Slobozia",6.6,6.6,"H",null,null,null,{"$f":"catp","v":4}]
[3900,"Dinu Catalin","Slobozia",6.6,6.6,"H",null,null,null,{"$f":"catp","v":4}]
[4084,"Buhaianu Bogdan","Bacau",5,6.6,"H",null,null,null,{"$f":"catp","v":4}]
[4085,"Ilie Alexandra","Voluntari",5,6.6,"HF",null,null,null,{"$f":"catp","v":4}]
[2039,"Grozavu Alexandru","Rovinari",55.5,6.58,"H",null,null,null,{"$f":"catp","v":4}]
[2040,"Mihalcea David","Galati",55.5,6.58,"H",null,null,null,{"$f":"catp","v":4}]
[2639,"Craciunescu Vlad","Bucuresti",29.2,6.58,"H",null,null,null,{"$f":"catp","v":4}]
[1848,"Vigu Cristian","Cluj Napoca",67.400000000000006,6.57,"H",null,null,null,{"$f":"catp","v":4}]
[2721,"Miculit Alberto","Lipova",26.5,6.55,"H",null,null,null,{"$f":"catp","v":4}]
[3018,"Podrumar Casian","Arad",19.2,6.55,"H",null,null,null,{"$f":"catp","v":4}]
[3377,"Toth Rezso","Sovata",13.1,6.55,"H",null,null,null,{"$f":"catp","v":4}]
[3498,"Filipescu Radu","Bucuresti",11.4,6.55,"H",null,null,null,{"$f":"catp","v":4}]
[2846,"Toma Florin Augustin","Slobozia",23.4,6.53,"H",null,null,null,{"$f":"catp","v":4}]
[3013,"Vilcea Lucian","Brasov",19.3,6.53,"H",null,null,null,{"$f":"catp","v":4}]
[2890,"Matei Alexandru","Iasi",22.4,6.5,"H",null,null,null,{"$f":"catp","v":4}]
[3379,"Uzun Alexandr","Moldova-Cazaclia",13,6.5,"H",null,null,null,{"$f":"catp","v":4}]
[3905,"Bacain Marian","Calarasi",6.5,6.5,"H",null,null,null,{"$f":"catp","v":4}]
[3906,"Dobrica Razvan","Videle",6.5,6.5,"H",null,null,null,{"$f":"catp","v":4}]
[3907,"Calonfirescu Sever","Manastireni",6.5,6.5,"H",null,null,null,{"$f":"catp","v":4}]
[3908,"Catana Marius Gabriel","Bucuresti",6.5,6.5,"H",null,null,null,{"$f":"catp","v":4}]
[3909,"Budean Daniel","Gherla",6.5,6.5,"H",null,null,null,{"$f":"catp","v":4}]
[1721,"Popescu Tiberiu","Ploiesti",77.099999999999994,6.48,"H",null,null,null,{"$f":"catp","v":4}]
[2136,"Dragomir Nicolae","Armenis",50,6.48,"H",null,null,null,{"$f":"catp","v":4}]
[3071,"Avronova Eva","Moldova-Balti",18.3,6.47,"HF",null,null,null,{"$f":"catp","v":4}]
[2520,"Vlaisan Raluca","Vicovu de Jos",33.4,6.45,"HF",null,null,null,{"$f":"catp","v":4}]
[3490,"Maniu Sorin","Sibiu",11.5,6.45,"H",null,null,null,{"$f":"catp","v":4}]
[3517,"Miu Maria","Bucuresti",11.3,6.45,"HF",null,null,null,{"$f":"catp","v":4}]
[1980,"Maksymov Oleksandr","Ucraina",58.8,6.42,"H",null,null,null,{"$f":"catp","v":4}]
[2488,"Babes Robin","Brasov",34.5,6.4,"H",null,null,null,{"$f":"catp","v":4}]
[3262,"Rujan Paul Adrian","Braila",14.9,6.4,"H",null,null,null,{"$f":"catp","v":4}]
[3499,"Truta Andrei","Reghin",11.4,6.4,"H",null,null,null,{"$f":"catp","v":4}]
[3920,"Stoica Grigore","Iasi",6.4,6.4,"H",null,null,null,{"$f":"catp","v":4}]
[3921,"Sandu Ionut","Bucuresti",6.4,6.4,"H",null,null,null,{"$f":"catp","v":4}]
[3922,"Mihordea Marius","Bucuresti",6.4,6.4,"H",null,null,null,{"$f":"catp","v":4}]
[3923,"Gavril Madalin","Bucuresti",6.4,6.4,"H",null,null,null,{"$f":"catp","v":4}]
[3924,"Marcu Bogdan Alexandru","Bucuresti",6.4,6.4,"H",null,null,null,{"$f":"catp","v":4}]
[3925,"Comanescu Marian","Branceni",6.4,6.4,"H",null,null,null,{"$f":"catp","v":4}]
[4195,"Mialau Marius","Zalau",4.8,6.4,"H",null,null,null,{"$f":"catp","v":4}]
[4196,"Opris Andrei","Zalau",4.8,6.4,"H",null,null,null,{"$f":"catp","v":4}]
[4197,"Petruse Adrian","Zalau",4.8,6.4,"H",null,null,null,{"$f":"catp","v":4}]
[4198,"Preda Filip","Bucuresti",4.8,6.4,"H",null,null,null,{"$f":"catp","v":4}]
[2335,"Mladin Stefan","Valenii de Munte",40.299999999999997,6.38,"H",null,null,null,{"$f":"catp","v":4}]
[2512,"Ghita Mihai","Bucuresti",33.799999999999997,6.38,"H",null,null,null,{"$f":"catp","v":4}]
[2868,"Bodea Aida","Alesd",22.8,6.37,"HF",null,null,null,{"$f":"catp","v":4}]
[3163,"Rusu Andrei","Strejnicu",16.5,6.35,"H",null,null,null,{"$f":"catp","v":4}]
[3187,"Surdeanu Petrut Laurentiu","Bucuresti",16,6.35,"H",null,null,null,{"$f":"catp","v":4}]
[3394,"Constantin Alexandru","Filipestii de Targ",12.7,6.35,"H",null,null,null,{"$f":"catp","v":4}]
[1903,"Szocs Szilveszter","Borsec",63.1,6.34,"H",null,null,null,{"$f":"catp","v":4}]
[2077,"Grancea Rares","Sibiu",53.2,6.33,"H",null,null,null,{"$f":"catp","v":4}]
[2121,"Apatachioae Augustin","Paunesti",50.9,6.33,"H",null,null,null,{"$f":"catp","v":4}]
[2872,"Dragan Razvan","Alexandria",22.7,6.33,"H",null,null,null,{"$f":"catp","v":4}]
[3094,"Lazaroff Filip","Suceava",17.8,6.33,"H",null,null,null,{"$f":"catp","v":4}]
[3151,"Raduly Eduard","Sfantu Gheorghe",16.7,6.33,"H",null,null,null,{"$f":"catp","v":4}]
[2729,"Man Eusebiu","Targu Mures",26.3,6.3,"H",null,null,null,{"$f":"catp","v":4}]
[3402,"Kali Victor","Cluj Napoca",12.6,6.3,"H",null,null,null,{"$f":"catp","v":4}]
[3930,"Morar Marcel","Campulung Mold",6.3,6.3,"H",null,null,null,{"$f":"catp","v":4}]
[3931,"Majnita Andrei","Viseu",6.3,6.3,"H",null,null,null,{"$f":"catp","v":4}]
[4199,"Cojocari Renat","Moldova-Briceni",4.8,6.3,"H",null,null,null,{"$f":"catp","v":4}]
[4200,"Dulap Marin","Moldova-Edinet",4.8,6.3,"H",null,null,null,{"$f":"catp","v":4}]
[1463,"Spaller Teodora","Nasaud",104.3,6.29,"HF",null,null,null,{"$f":"catp","v":4}]
[1920,"Drumen Dumitru","Vatra Dornei",62.2,6.29,"H",null,null,null,{"$f":"catp","v":4}]
[1651,"Lazar Adrian","Bucuresti",83.5,6.28,"H",null,null,null,{"$f":"catp","v":4}]
[2316,"Sarov Daniel","Bucuresti",41.2,6.28,"H",null,null,null,{"$f":"catp","v":4}]
[2749,"Cretan Radu","Bucuresti",25.6,6.28,"H",null,null,null,{"$f":"catp","v":4}]
[2550,"Marcu Dan Florin","Sibiu",32.4,6.25,"H",null,null,null,{"$f":"catp","v":4}]
[3152,"Iordache Valentin","Iasi",16.7,6.25,"H",null,null,null,{"$f":"catp","v":4}]
[3202,"Bunea Aurel","Salciua",15.7,6.25,"H",null,null,null,{"$f":"catp","v":4}]
[3408,"Darvasi Ibolya","Salonta",12.5,6.25,"HF",null,null,null,{"$f":"catp","v":4}]
[3409,"Stanciu Teodor","Sighisoara",12.5,6.25,"H",null,null,null,{"$f":"catp","v":4}]
[2801,"Cracanel Gerard","Agnita",24.3,6.23,"H",null,null,null,{"$f":"catp","v":4}]
[1562,"Heja Zsolt","Ditrau",93.5,6.2,"H",null,null,null,{"$f":"catp","v":4}]
[2915,"Postolache Valeriu","Pufesti",21.8,6.2,"H",null,null,null,{"$f":"catp","v":4}]
[3121,"Dragomir Ioan","Cristian SB",17.399999999999999,6.2,"HW",null,null,null,{"$f":"catp","v":4}]
[3417,"Edves Vasile","Alba Iulia",12.4,6.2,"H",null,null,null,{"$f":"catp","v":4}]
[3938,"Boteanu Alexandru","Constanta",6.2,6.2,"H",null,null,null,{"$f":"catp","v":4}]
[3939,"Miculita Ovidiu","Lipova",6.2,6.2,"H",null,null,null,{"$f":"catp","v":4}]
[4214,"Lulciuc Dumitru Cosmin","Timisoara",4.7,6.2,"H",null,null,null,{"$f":"catp","v":4}]
[2605,"Gheaburcu Romeo","Pucioasa",30.4,6.18,"H",null,null,null,{"$f":"catp","v":4}]
[2750,"Nadejde Mihai","Cluj Napoca",25.6,6.18,"H",null,null,null,{"$f":"catp","v":4}]
[2901,"Suciu Dragos","Constanta",22.2,6.18,"H",null,null,null,{"$f":"catp","v":4}]
[2010,"Sancu Ianis","Dumbraveni SB",57.5,6.16,"HJ",null,null,null,{"$f":"catp","v":4}]
[2528,"Marinescu Bogdan","Bucuresti",33.200000000000003,6.16,"H",null,null,null,{"$f":"catp","v":4}]
[1928,"Lupu Vasile","Cluj Napoca",61.7,6.15,"H",null,null,null,{"$f":"catp","v":4}]
[3425,"Sechel Vasile","Viseu",12.3,6.15,"H",null,null,null,{"$f":"catp","v":4}]
[3537,"Campean Traian","Apahida",11,6.15,"H",null,null,null,{"$f":"catp","v":4}]
[2770,"Ilie Victor","Medias",25.1,6.13,"H",null,null,null,{"$f":"catp","v":4}]
[3128,"Stamate Eduard","Bucuresti",17.2,6.13,"H",null,null,null,{"$f":"catp","v":4}]
[3196,"Irini Florin Lutu","Fratautii Vechi",15.8,6.13,"H",null,null,null,{"$f":"catp","v":4}]
[3211,"Tudose David","Boldesti Scaeni",15.5,6.13,"H",null,null,null,{"$f":"catp","v":4}]
[3269,"Androne Cristian","Braila",14.8,6.13,"H",null,null,null,{"$f":"catp","v":4}]
[1983,"Neculaiu Vasile","Braila",58.7,6.11,"H",null,null,null,{"$f":"catp","v":4}]
[2508,"Naghiu Raluca","Cluj Napoca",33.9,6.1,"HF",null,null,null,{"$f":"catp","v":4}]
[2907,"Mihali Fabian","Timisoara",22.1,6.1,"H",null,null,null,{"$f":"catp","v":4}]
[2937,"Porumb Cristian","Sibiu",21.2,6.1,"H",null,null,null,{"$f":"catp","v":4}]
[3431,"Pastiu Sorin","Cugir",12.2,6.1,"H",null,null,null,{"$f":"catp","v":4}]
[3432,"Bot Ioan","Uriu",12.2,6.1,"H",null,null,null,{"$f":"catp","v":4}]
[3585,"Ungur Florin Tiberiu","Fundu Moldovei",10.4,6.1,"H",null,null,null,{"$f":"catp","v":4}]
[3943,"Voicu Florin","Arad",6.1,6.1,"HW",null,null,null,{"$f":"catp","v":4}]
[3944,"Manda Florin","Arad",6.1,6.1,"H",null,null,null,{"$f":"catp","v":4}]
[3945,"Neculcea Alexandru","Suceava",6.1,6.1,"H",null,null,null,{"$f":"catp","v":4}]
[3946,"Badelita Ovidiu","Suceava",6.1,6.1,"H",null,null,null,{"$f":"catp","v":4}]
[3947,"Rizea Doru","Bucuresti",6.1,6.1,"H",null,null,null,{"$f":"catp","v":4}]
[3948,"Berentan Corneliu Petru","Campulung Mold",6.1,6.1,"H",null,null,null,{"$f":"catp","v":4}]
[4224,"Iordache Dragos Gabriel","Constanta",4.5999999999999996,6.1,"H",null,null,null,{"$f":"catp","v":4}]
[4225,"Cocea Adrian","Buhusi",4.5999999999999996,6.1,"H",null,null,null,{"$f":"catp","v":4}]
[1730,"Borodi Alin","Cluj Napoca",76.5,6.08,"H",null,null,null,{"$f":"catp","v":4}]
[2521,"Miclea Bogdan","Cluj Napoca",33.4,6.08,"H",null,null,null,{"$f":"catp","v":4}]
[3258,"Stanescu Fabian","Hunedoara",15,6.07,"H",null,null,null,{"$f":"catp","v":4}]
[1968,"Grigore Madalin","Cocorastii Mislii",59.3,6.06,"H",null,null,null,{"$f":"catp","v":4}]
[2411,"Morariu Costel","Gherla",37.200000000000003,6.05,"H",null,null,null,{"$f":"catp","v":4}]
[2736,"Sava Sergiu","Cluj Napoca",26.1,6.05,"H",null,null,null,{"$f":"catp","v":4}]
[2809,"Jarebe Massimo","Iasi",24.1,6.05,"H",null,null,null,{"$f":"catp","v":4}]
[3439,"Sirbu Ion","Bucuresti",12.1,6.05,"H",null,null,null,{"$f":"catp","v":4}]
[3440,"Cofari Eugen","Sovata",12.1,6.05,"H",null,null,null,{"$f":"catp","v":4}]
[3571,"Vasile Iancu","Navodari",10.6,6.05,"H",null,null,null,{"$f":"catp","v":4}]
[3683,"Tincu Adrian","Bucuresti",9.1,6.05,"H",null,null,null,{"$f":"catp","v":4}]
[3684,"Oteleanu Aurel","Bucuresti",9.1,6.05,"H",null,null,null,{"$f":"catp","v":4}]
[2390,"Nadejde Andrei","Cluj Napoca",38,6.04,"H",null,null,null,{"$f":"catp","v":4}]
[2976,"Zaharia Titi","Fetesti",20.3,6.03,"H",null,null,null,{"$f":"catp","v":4}]
[3298,"Valea Valentin","Petrosani",14.3,6.03,"H",null,null,null,{"$f":"catp","v":4}]
[1632,"Husarciuc Beniamin","Suceava",85.2,6.02,"H",null,null,null,{"$f":"catp","v":4}]
[2041,"Bistreanu Sorin","Bucuresti",55.5,6.02,"H",null,null,null,{"$f":"catp","v":4}]
[2944,"Milas Andrei","Zalau",21,6,"H",null,null,null,{"$f":"catp","v":4}]
[3313,"Munteanu Elisei","Moldova-Cahul",14,6,"H",null,null,null,{"$f":"catp","v":4}]
[3446,"Safta Marius","Pitesti",12,6,"H",null,null,null,{"$f":"catp","v":4}]
[3447,"Heresanu Mihai","Ludus",12,6,"H",null,null,null,{"$f":"catp","v":4}]
[3695,"Mircescu Alexandru","Bucuresti",9,6,"H",null,null,null,{"$f":"catp","v":4}]
[3953,"Pastor Marius","Tarnaveni",6,6,"H",null,null,null,{"$f":"catp","v":4}]
[3954,"Vasla Mihai","Constanta",6,6,"H",null,null,null,{"$f":"catp","v":4}]
[3955,"Ivanov Alexandru","Cluj Napoca",6,6,"H",null,null,null,{"$f":"catp","v":4}]
[1711,"Costea Mircea","Alba Iulia",78.099999999999994,5.99,"H",null,null,null,{"$f":"catp","v":4}]
[2787,"Babalean Sebastian","Galanesti",24.6,5.98,"H",null,null,null,{"$f":"catp","v":4}]
[1844,"Dumitrescu Marius","Timisoara",67.599999999999994,5.95,"H",null,null,null,{"$f":"catp","v":4}]
[3025,"Calasnicov Matvei","Moldova-Cahul",19.100000000000001,5.95,"H",null,null,null,{"$f":"catp","v":4}]
[3288,"Peptea Ionut","Bucuresti",14.4,5.95,"H",null,null,null,{"$f":"catp","v":4}]
[3452,"Rosu Ionut","Bucuresti",11.9,5.95,"H",null,null,null,{"$f":"catp","v":4}]
[3453,"Comsa Aurel","Nedelea",11.9,5.95,"H",null,null,null,{"$f":"catp","v":4}]
[3586,"Segall Dan","Iasi",10.4,5.95,"H",null,null,null,{"$f":"catp","v":4}]
[2102,"Rauh Victor","Moldova-Balti",51.5,5.94,"HW",null,null,null,{"$f":"catp","v":4}]
[2656,"Illes Sandor Ferenc","Targu Mures",28.5,5.93,"H",null,null,null,{"$f":"catp","v":4}]
[3139,"Scerra Ercole","Agnita",16.899999999999999,5.93,"H",null,null,null,{"$f":"catp","v":4}]
[1560,"Muresan Ana Maria","Cluj Napoca",93.8,5.9,"HF",null,null,null,{"$f":"catp","v":4}]
[2761,"Leonard Iulian","Arad",25.4,5.9,"H",null,null,null,{"$f":"catp","v":4}]
[3969,"Stefan Andrei","Iasi",5.9,5.9,"H",null,null,null,{"$f":"catp","v":4}]
[3970,"Luntraru Ovidiu","Iasi",5.9,5.9,"H",null,null,null,{"$f":"catp","v":4}]
[3971,"Bejinariu Valentin","Iasi",5.9,5.9,"H",null,null,null,{"$f":"catp","v":4}]
[3972,"Petraro Francesco","Alesd",5.9,5.9,"H",null,null,null,{"$f":"catp","v":4}]
[3973,"Farcas Dragos","Targu Mures",5.9,5.9,"H",null,null,null,{"$f":"catp","v":4}]
[2259,"Ticu Razvan","Bucuresti",43.8,5.88,"H",null,null,null,{"$f":"catp","v":4}]
[1991,"Luca Irinel","Calan",58.3,5.87,"H",null,null,null,{"$f":"catp","v":4}]
[2953,"Crisan Ovidiu","Sibiu",20.8,5.87,"H",null,null,null,{"$f":"catp","v":4}]
[3476,"Zamblau Arsenie","Floresti",11.7,5.85,"H",null,null,null,{"$f":"catp","v":4}]
[3477,"Salvari Marcel","Campulung Mold",11.7,5.85,"H",null,null,null,{"$f":"catp","v":4}]
[3547,"Miron Viorel","Iasi",10.9,5.85,"H",null,null,null,{"$f":"catp","v":4}]
[3556,"Dumitrascu Eduard","Bucuresti",10.8,5.85,"H",null,null,null,{"$f":"catp","v":4}]
[1837,"Busega Iulian","Bucuresti",68,5.84,"H",null,null,null,{"$f":"catp","v":4}]
[3095,"Vasile Raducu","Jebel",17.8,5.83,"H",null,null,null,{"$f":"catp","v":4}]
[3172,"Moldovan Cristian","Alba Iulia",16.3,5.83,"H",null,null,null,{"$f":"catp","v":4}]
[2826,"Timoc Bogdan","Cluj Napoca",23.8,5.8,"H",null,null,null,{"$f":"catp","v":4}]
[3019,"Tofalvi Erzsebet","Odorheiu Secuiesc",19.2,5.8,"H",null,null,null,{"$f":"catp","v":4}]
[3048,"Demian Radu","Oradea",18.7,5.8,"H",null,null,null,{"$f":"catp","v":4}]
[3206,"Dimitrov Claudiu Marian","Suceava",15.6,5.8,"H",null,null,null,{"$f":"catp","v":4}]
[3483,"Stoian Sebastian","Slobozia",11.6,5.8,"H",null,null,null,{"$f":"catp","v":4}]
[3484,"Lajtai Norbert","Brasov",11.6,5.8,"H",null,null,null,{"$f":"catp","v":4}]
[3485,"Fulop Laszlo","Zetea",11.6,5.8,"H",null,null,null,{"$f":"catp","v":4}]
[3722,"Gheorghe Dan","Constanta",8.6999999999999993,5.8,"H",null,null,null,{"$f":"catp","v":4}]
[3723,"Mardare Adrian","Tulcea",8.6999999999999993,5.8,"H",null,null,null,{"$f":"catp","v":4}]
[3978,"Hriscu Florentina","Cluj Napoca",5.8,5.8,"HFD",null,null,null,{"$f":"catp","v":4}]
[3979,"Dragutoiu Petre","Bucuresti",5.8,5.8,"H",null,null,null,{"$f":"catp","v":4}]
[3980,"Ilie Sebastian","Bucuresti",5.8,5.8,"H",null,null,null,{"$f":"catp","v":4}]
[3164,"Costache Dragos Valentin","Vadeni",16.5,5.77,"H",null,null,null,{"$f":"catp","v":4}]
[3310,"Bolovaneanu Vlad","Targoviste",14.1,5.77,"H",null,null,null,{"$f":"catp","v":4}]
[3613,"Solovian Arina","Moldova-Balti",10,5.75,"HF",null,null,null,{"$f":"catp","v":4}]
[3633,"Crisan Tihamer","Valea Scurta",9.8000000000000007,5.75,"H",null,null,null,{"$f":"catp","v":4}]
[3724,"Partene Andrei","Iasi",8.6999999999999993,5.75,"H",null,null,null,{"$f":"catp","v":4}]
[2091,"Dodon Sebastian","Dej",52.5,5.73,"H",null,null,null,{"$f":"catp","v":4}]
[2544,"Csatlos Bela","Toplita",32.799999999999997,5.73,"H",null,null,null,{"$f":"catp","v":4}]
[2873,"Anghel Valentin","Voluntari",22.7,5.73,"H",null,null,null,{"$f":"catp","v":4}]
[2713,"Boitos Rodica","Oradea",26.7,5.7,"HF",null,null,null,{"$f":"catp","v":4}]
[3289,"Popa Mihai Claudiu","Bucuresti",14.4,5.7,"H",null,null,null,{"$f":"catp","v":4}]
[3985,"Mihut Benone","Pascani",5.7,5.7,"H",null,null,null,{"$f":"catp","v":4}]
[3986,"Buraciuc Cornel","Nasaud",5.7,5.7,"H",null,null,null,{"$f":"catp","v":4}]
[3987,"Ovidiu Luca","Cluj Napoca",5.7,5.7,"H",null,null,null,{"$f":"catp","v":4}]
[3988,"Radulescu Bogdan","Iedera",5.7,5.7,"H",null,null,null,{"$f":"catp","v":4}]
[1659,"Virtopeanu Daniel","Bucuresti",83,5.68,"H",null,null,null,{"$f":"catp","v":4}]
[2930,"Grajdianu Constantin","Oniceni",21.4,5.67,"H",null,null,null,{"$f":"catp","v":4}]
[1670,"Dobai Sandor","Targu Mures",81.599999999999994,5.66,"H",null,null,null,{"$f":"catp","v":4}]
[2529,"Soldan Gica","Cajvana",33.200000000000003,5.65,"H",null,null,null,{"$f":"catp","v":4}]
[3349,"Bunea Raul","Targu Mures",13.4,5.65,"H",null,null,null,{"$f":"catp","v":4}]
[3593,"Dragomer Tamas","Bretcu",10.199999999999999,5.65,"H",null,null,null,{"$f":"catp","v":4}]
[2195,"Susman Alexandru","Alba Iulia",46.8,5.63,"H",null,null,null,{"$f":"catp","v":4}]
[2779,"Albu Cristian","Iasi",24.9,5.63,"H",null,null,null,{"$f":"catp","v":4}]
[2874,"Popa Florin","Oradea",22.7,5.63,"H",null,null,null,{"$f":"catp","v":4}]
[1904,"Cracana Ionut","Targu Neamt",63.1,5.6,"H",null,null,null,{"$f":"catp","v":4}]
[2669,"Craus Marian","Bucuresti",28.1,5.6,"H",null,null,null,{"$f":"catp","v":4}]
[3520,"Terna David","Moldova-Balti",11.2,5.6,"H",null,null,null,{"$f":"catp","v":4}]
[3628,"Spatar Peter","Agnita",9.9,5.6,"H",null,null,null,{"$f":"catp","v":4}]
[3637,"Apostol Ionut","Cluj Napoca",9.6999999999999993,5.6,"H",null,null,null,{"$f":"catp","v":4}]
[4281,"Bina Eduard","Dumbraveni SB",4.2,5.6,"H",null,null,null,{"$f":"catp","v":4}]
[4282,"Moldovan Ovidiu","Cluj Napoca",4.2,5.6,"H",null,null,null,{"$f":"catp","v":4}]
[2398,"Mirauta Mihai","Moinesti",37.6,5.58,"H",null,null,null,{"$f":"catp","v":4}]
[2981,"Bucse Stefan","Sibiu",20.2,5.58,"H",null,null,null,{"$f":"catp","v":4}]
[3072,"Leonte Toader","Solont",18.3,5.57,"H",null,null,null,{"$f":"catp","v":4}]
[3500,"Serban Andrei","Bucuresti",11.4,5.55,"H",null,null,null,{"$f":"catp","v":4}]
[3527,"Cisco Eldar","Moldova-Balti",11.1,5.55,"H",null,null,null,{"$f":"catp","v":4}]
[1834,"Burtumac Alin","Balotesti",68.099999999999994,5.54,"HW",null,null,null,{"$f":"catp","v":4}]
[2397,"Voica Dragos","Timisoara",37.799999999999997,5.54,"H",null,null,null,{"$f":"catp","v":4}]
[3049,"Ionescu Gabriel","Fetesti",18.7,5.5,"H",null,null,null,{"$f":"catp","v":4}]
[3538,"Loghin Dumitru","Pascani",11,5.5,"H",null,null,null,{"$f":"catp","v":4}]
[3539,"Carare Cristinel","Vaslui",11,5.5,"H",null,null,null,{"$f":"catp","v":4}]
[3614,"Garaz Razvan","Bistrita",10,5.5,"H",null,null,null,{"$f":"catp","v":4}]
[3634,"Nastase George","Bucuresti",9.8000000000000007,5.5,"H",null,null,null,{"$f":"catp","v":4}]
[3641,"Donosa Vasile","Braila",9.6,5.5,"H",null,null,null,{"$f":"catp","v":4}]
[4009,"Bragaru Marian","Valcau",5.5,5.5,"H",null,null,null,{"$f":"catp","v":4}]
[4010,"Alexandru Matei","Cluj Napoca",5.5,5.5,"H",null,null,null,{"$f":"catp","v":4}]
[4011,"Groapa Fane","Galati",5.5,5.5,"H",null,null,null,{"$f":"catp","v":4}]
[4012,"Paran Alex","Hateg",5.5,5.5,"H",null,null,null,{"$f":"catp","v":4}]
[4013,"Sibotean Calin","Sibot",5.5,5.5,"H",null,null,null,{"$f":"catp","v":4}]
[4283,"Abdi Shenol","Bucuresti",4.2,5.5,"H",null,null,null,{"$f":"catp","v":4}]
[4284,"Nadejde George","Cluj Napoca",4.2,5.5,"H",null,null,null,{"$f":"catp","v":4}]
[2840,"Nicut Andrei","Curtea de Arges",23.5,5.47,"H",null,null,null,{"$f":"catp","v":4}]
[3304,"Verdes Laurentiu","Baia Mare",14.2,5.47,"H",null,null,null,{"$f":"catp","v":4}]
[2663,"Ureche Vasi","Cajvana",28.2,5.45,"H",null,null,null,{"$f":"catp","v":4}]
[3548,"Fuleki Zoltan","Uriu",10.9,5.45,"H",null,null,null,{"$f":"catp","v":4}]
[2765,"Bregar Dan","Alba Iulia",25.3,5.43,"HW",null,null,null,{"$f":"catp","v":4}]
[3221,"Alexandrescu Ionica","Piatra Neamt",15.3,5.43,"H",null,null,null,{"$f":"catp","v":4}]
[1708,"Gheorghe Catalin","Ploiesti",78.2,5.42,"H",null,null,null,{"$f":"catp","v":4}]
[2509,"Fogarasi David","Baciu",33.9,5.4,"H",null,null,null,{"$f":"catp","v":4}]
[2585,"Giurgiu Alexandru","Sibiu",31.2,5.4,"H",null,null,null,{"$f":"catp","v":4}]
[3557,"Stoica Liviu Andrei","Slobozia",10.8,5.4,"H",null,null,null,{"$f":"catp","v":4}]
[3648,"Kovacs Paul","Apahida",9.5,5.4,"H",null,null,null,{"$f":"catp","v":4}]
[3659,"Vasilache Andrei","Medias",9.4,5.4,"H",null,null,null,{"$f":"catp","v":4}]
[4029,"Tucuina Dragos","Dumbravita",5.4,5.4,"H",null,null,null,{"$f":"catp","v":4}]
[4030,"Costea Adrian","Deva",5.4,5.4,"H",null,null,null,{"$f":"catp","v":4}]
[4031,"Gal Nicolae","Uriu",5.4,5.4,"H",null,null,null,{"$f":"catp","v":4}]
[4032,"Borceanu Paul Cristian","Pitesti",5.4,5.4,"H",null,null,null,{"$f":"catp","v":4}]
[4033,"Anghel Darius","Pitesti",5.4,5.4,"H",null,null,null,{"$f":"catp","v":4}]
[1945,"Puiac Elvis","Apahida",60.7,5.38,"H",null,null,null,{"$f":"catp","v":4}]
[2590,"Tonciu Mihai","Branesti",30.9,5.35,"H",null,null,null,{"$f":"catp","v":4}]
[1936,"Stoica Florin Cristian","Bucuresti",61.2,5.34,"H",null,null,null,{"$f":"catp","v":4}]
[2771,"Mihaiuc Matei","Radauti",25.1,5.33,"H",null,null,null,{"$f":"catp","v":4}]
[3014,"Gyorgy Adrienn","Targu Mures",19.3,5.33,"H",null,null,null,{"$f":"catp","v":4}]
[3153,"Simionov Iura","Hunedoara",16.7,5.33,"H",null,null,null,{"$f":"catp","v":4}]
[3283,"Iftime Costel","Arad",14.6,5.33,"H",null,null,null,{"$f":"catp","v":4}]
[2061,"Tudose Ilariu","Dragasani",54.3,5.3,"H",null,null,null,{"$f":"catp","v":4}]
[2607,"Aparaschive Iulian","Botosani",30.3,5.3,"H",null,null,null,{"$f":"catp","v":4}]
[2827,"Telespan Elena","Sibiu",23.8,5.3,"HF",null,null,null,{"$f":"catp","v":4}]
[3259,"Stoica Lucian Andrei","Barlad",15,5.3,"H",null,null,null,{"$f":"catp","v":4}]
[3334,"Bantush Mihaela","Moldova-Cahul",13.6,5.3,"HF",null,null,null,{"$f":"catp","v":4}]
[3359,"Ghiurca Gabriel","Bucuresti",13.3,5.3,"H",null,null,null,{"$f":"catp","v":4}]
[3594,"Ichim Cristian","Bucuresti",10.199999999999999,5.3,"H",null,null,null,{"$f":"catp","v":4}]
[3790,"Siclovan Gabriel","Arad",8,5.3,"H",null,null,null,{"$f":"catp","v":4}]
[4040,"Csiki Alexandru","Tarnaveni",5.3,5.3,"H",null,null,null,{"$f":"catp","v":4}]
[4041,"Tanase Marian","Drobeta Tr Severin",5.3,5.3,"H",null,null,null,{"$f":"catp","v":4}]
[4042,"Klein Ferenc","Reghin",5.3,5.3,"H",null,null,null,{"$f":"catp","v":4}]
[4043,"Pricop Bianca Ivona","Harlau",5.3,5.3,"H",null,null,null,{"$f":"catp","v":4}]
[4044,"Luca Florin","Ludus",5.3,5.3,"H",null,null,null,{"$f":"catp","v":4}]
[4045,"Hurduc Virgil","Barlad",5.3,5.3,"H",null,null,null,{"$f":"catp","v":4}]
[4046,"Berezan Sorin","Vaslui",5.3,5.3,"H",null,null,null,{"$f":"catp","v":4}]
[4047,"Breda Dan","Tarnaveni",5.3,5.3,"H",null,null,null,{"$f":"catp","v":4}]
[4048,"Cirneci Mihai Georgian","Drobeta Tr Severin",5.3,5.3,"H",null,null,null,{"$f":"catp","v":4}]
[4049,"Trusca Claudiu","Drobeta Tr Severin",5.3,5.3,"H",null,null,null,{"$f":"catp","v":4}]
[4050,"Buica Elisei","Hateg",5.3,5.3,"H",null,null,null,{"$f":"catp","v":4}]
[4312,"Alexa Cosmin","Cornetu",4,5.3,"H",null,null,null,{"$f":"catp","v":4}]
[4313,"Marian Mihaescu","Ramnicu Valcea",4,5.3,"H",null,null,null,{"$f":"catp","v":4}]
[2788,"Stoica Adrian","Bucuresti",24.6,5.28,"H",null,null,null,{"$f":"catp","v":4}]
[2341,"Bege Laszlo","Joseni",40,5.27,"H",null,null,null,{"$f":"catp","v":4}]
[1719,"Pralea Constantin","Alba Iulia",77.400000000000006,5.26,"HW",null,null,null,{"$f":"catp","v":4}]
[3675,"Enache Ion","Ramnicu Valcea",9.1999999999999993,5.25,"H",null,null,null,{"$f":"catp","v":4}]
[2377,"Pican Ion","Slatina",38.6,5.24,"H",null,null,null,{"$f":"catp","v":4}]
[2648,"Cucu Ioan Emanuel","Brasov",28.9,5.23,"H",null,null,null,{"$f":"catp","v":4}]
[2652,"Szekely Gheorghe","Blaj",28.6,5.23,"HW",null,null,null,{"$f":"catp","v":4}]
[2823,"Boca Radu Stefan","Bucuresti",23.9,5.23,"H",null,null,null,{"$f":"catp","v":4}]
[2996,"Mihaila Maia","Vulcana Pandele",19.899999999999999,5.23,"HF",null,null,null,{"$f":"catp","v":4}]
[3031,"Ungvari Kriszta","Targu Mures",19,5.23,"H",null,null,null,{"$f":"catp","v":4}]
[2387,"Popa Adrian","Hunedoara",38.200000000000003,5.22,"H",null,null,null,{"$f":"catp","v":4}]
[2537,"Morariu Ioan","Saliste",33,5.2,"H",null,null,null,{"$f":"catp","v":4}]
[2850,"Baltes Ovidiu","Ocna Sibiului",23.3,5.2,"H",null,null,null,{"$f":"catp","v":4}]
[3595,"Sava Elena","Bucuresti",10.199999999999999,5.2,"HF",null,null,null,{"$f":"catp","v":4}]
[4056,"Pap Gyula","Gheorgheni",5.2,5.2,"H",null,null,null,{"$f":"catp","v":4}]
[4057,"Flesariu Mihai","Agnita",5.2,5.2,"H",null,null,null,{"$f":"catp","v":4}]
[4058,"Irinariu Bianca","Vatra Dornei",5.2,5.2,"HF",null,null,null,{"$f":"catp","v":4}]
[4059,"Lucas Ionut","Botosani",5.2,5.2,"H",null,null,null,{"$f":"catp","v":4}]
[4060,"Oprea Vlad","Moldova-Ceadir-Lunga",5.2,5.2,"H",null,null,null,{"$f":"catp","v":4}]
[4061,"Marcu Alexandru","Sebes",5.2,5.2,"H",null,null,null,{"$f":"catp","v":4}]
[4062,"Ciobanu Emilian","Moldova-Cahul",5.2,5.2,"H",null,null,null,{"$f":"catp","v":4}]
[4351,"Dumitrache Marius","Galati",3.9,5.2,"H",null,null,null,{"$f":"catp","v":4}]
[1591,"Popescu Petre","Bucuresti",89.8,5.19,"H",null,null,null,{"$f":"catp","v":4}]
[2004,"Kantor Imre","Reghin",57.8,5.19,"H",null,null,null,{"$f":"catp","v":4}]
[2134,"Plaias Krisztian","Targu Mures",50.1,5.19,"H",null,null,null,{"$f":"catp","v":4}]
[2916,"Badea Cristian","Calarasi",21.8,5.18,"H",null,null,null,{"$f":"catp","v":4}]
[2438,"Hoca Bogdan","Lunca Muresului",36.299999999999997,5.16,"H",null,null,null,{"$f":"catp","v":4}]
[3222,"Marian Ovidiu","Reghin",15.3,5.15,"H",null,null,null,{"$f":"catp","v":4}]
[3558,"Moldovan Dorel","Bistrita",10.8,5.15,"H",null,null,null,{"$f":"catp","v":4}]
[3590,"Clisic Iosif","Sannicolau Mare",10.3,5.15,"H",null,null,null,{"$f":"catp","v":4}]
[3704,"Marcu Mario","Bucovat",8.9,5.15,"H",null,null,null,{"$f":"catp","v":4}]
[3744,"Frentiu Vasile","Dej",8.5,5.15,"H",null,null,null,{"$f":"catp","v":4}]
[2834,"Filip Gabriel","Cluj Napoca",23.7,5.13,"H",null,null,null,{"$f":"catp","v":4}]
[2599,"Acasandrei Cosmin","Mangalia",30.7,5.12,"H",null,null,null,{"$f":"catp","v":4}]
[2154,"Tudoran Catalin","Timisoara",49.1,5.0999999999999996,"H",null,null,null,{"$f":"catp","v":4}]
[2379,"Ianc Adrian","Floresti",38.5,5.0999999999999996,"H",null,null,null,{"$f":"catp","v":4}]
[2705,"Mosneagu Mario","Partestii de Jos",27.2,5.0999999999999996,"H",null,null,null,{"$f":"catp","v":4}]
[3305,"Danu Ion","Moldova-Balti",14.2,5.0999999999999996,"H",null,null,null,{"$f":"catp","v":4}]
[4069,"Buzila Marcel","Cluj Napoca",5.0999999999999996,5.0999999999999996,"H",null,null,null,{"$f":"catp","v":4}]
[4070,"Ploia Marius","Sibiu",5.0999999999999996,5.0999999999999996,"H",null,null,null,{"$f":"catp","v":4}]
[4071,"Cotos Maria","Straja",5.0999999999999996,5.0999999999999996,"HF",null,null,null,{"$f":"catp","v":4}]
[4072,"Jorga Viktorija","Vlajkovac",5.0999999999999996,5.0999999999999996,"H",null,null,null,{"$f":"catp","v":4}]
[4073,"Roman Lionel","Vlajkovac",5.0999999999999996,5.0999999999999996,"H",null,null,null,{"$f":"catp","v":4}]
[4074,"Dunca Cristian","Sighetu Marmatiei",5.0999999999999996,5.0999999999999996,"H",null,null,null,{"$f":"catp","v":4}]
[4075,"Alexandrov Iulian","Constanta",5.0999999999999996,5.0999999999999996,"H",null,null,null,{"$f":"catp","v":4}]
[4076,"Tibor Matei","Borla",5.0999999999999996,5.0999999999999996,"H",null,null,null,{"$f":"catp","v":4}]
[4077,"Anghel Adriana","Sibiu",5.0999999999999996,5.0999999999999996,"HF",null,null,null,{"$f":"catp","v":4}]
[4078,"Mihailescu Andrei","Bucuresti",5.0999999999999996,5.0999999999999996,"H",null,null,null,{"$f":"catp","v":4}]
[4079,"Petkovic Momcilo","Kovin",5.0999999999999996,5.0999999999999996,"H",null,null,null,{"$f":"catp","v":4}]
[1849,"Lumezeanu Cristian","Bucuresti",67.3,5.09,"H",null,null,null,{"$f":"catp","v":4}]
[2075,"Domokos Jozsef","Targu Mures",53.3,5.08,"H",null,null,null,{"$f":"catp","v":4}]
[2449,"Tose Cristian","Oradea",35.9,5.08,"H",null,null,null,{"$f":"catp","v":4}]
[2481,"Cheseli Rares","Bucuresti",34.700000000000003,5.08,"H",null,null,null,{"$f":"catp","v":4}]
[2810,"Campean Daniel","Santimbru AB",24.1,5.08,"H",null,null,null,{"$f":"catp","v":4}]
[2869,"Viziniuc Madalin","Bucuresti",22.8,5.08,"H",null,null,null,{"$f":"catp","v":4}]
[2029,"Orga Adrian","Ludus",56.8,5.07,"H",null,null,null,{"$f":"catp","v":4}]
[3132,"Richea Adela","Sibiu",17.100000000000001,5.07,"HF",null,null,null,{"$f":"catp","v":4}]
[2566,"Cristea Calin","Cluj Napoca",31.9,5.0599999999999996,"H",null,null,null,{"$f":"catp","v":4}]
[3596,"Duhan Regina Elena","Bucuresti",10.199999999999999,5.05,"HF",null,null,null,{"$f":"catp","v":4}]
[3602,"Virtea Gheorghe","Targu Neamt",10.1,5.05,"H",null,null,null,{"$f":"catp","v":4}]
[3696,"Alexoi Marius","Calan",9,5.05,"H",null,null,null,{"$f":"catp","v":4}]
[3733,"Marian Alin","Lipova",8.6,5.05,"H",null,null,null,{"$f":"catp","v":4}]
[3753,"Apostol Leonard","Alexandria",8.4,5.05,"H",null,null,null,{"$f":"catp","v":4}]
[1804,"Veres Iulian Cristian","Petrila",70.599999999999994,5.03,"H",null,null,null,{"$f":"catp","v":4}]
[2111,"Popa Raul","Dumbraveni SB",51.2,5.03,"HJ",null,null,null,{"$f":"catp","v":4}]
[2676,"Gal Csaby","Alesd",28,5.03,"H",null,null,null,{"$f":"catp","v":4}]
[2938,"Savu Andrei","Targoviste",21.2,5.03,"H",null,null,null,{"$f":"catp","v":4}]
[3344,"Feraru Stefan","Buzau",13.5,5.03,"H",null,null,null,{"$f":"catp","v":4}]
[2815,"Costea Costin","Bucuresti",24,5,"H",null,null,null,{"$f":"catp","v":4}]
[3324,"Pal Marius","Halaucesti",13.8,5,"H",null,null,null,{"$f":"catp","v":4}]
[3325,"Harmanescu Petrus","Falticeni",13.8,5,"H",null,null,null,{"$f":"catp","v":4}]
[3326,"Ioja Danut","Calan",13.8,5,"H",null,null,null,{"$f":"catp","v":4}]
[3410,"Teodorescu Cosmin","Bucuresti",12.5,5,"HJ",null,null,null,{"$f":"catp","v":4}]
[3411,"Trandafir Iosif","Galati",12.5,5,"H",null,null,null,{"$f":"catp","v":4}]
[3467,"Deak Sandor","Cluj Napoca",11.8,5,"H",null,null,null,{"$f":"catp","v":4}]
[3615,"Filimon Alexandru","Aiud",10,5,"H",null,null,null,{"$f":"catp","v":4}]
[3616,"Luca Ionut","Sibiu",10,5,"H",null,null,null,{"$f":"catp","v":4}]
[3617,"Bartha Arpad","Micfalau",10,5,"H",null,null,null,{"$f":"catp","v":4}]
[3618,"Amet Denis","Harsova",10,5,"H",null,null,null,{"$f":"catp","v":4}]
[3619,"Cecan Miroslav","Moldova-Glodeni",10,5,"H",null,null,null,{"$f":"catp","v":4}]
[3670,"Bora Robert","Constanta",9.3000000000000007,5,"H",null,null,null,{"$f":"catp","v":4}]
[3697,"Vlad Enache","Bucuresti",9,5,"H",null,null,null,{"$f":"catp","v":4}]
[3714,"Stoica Nicolae","Hunedoara",8.8000000000000007,5,"H",null,null,null,{"$f":"catp","v":4}]
[3715,"Radu Lucian","Bucuresti",8.8000000000000007,5,"H",null,null,null,{"$f":"catp","v":4}]
[3826,"Rosoga Liviu","Cluj Napoca",7.5,5,"H",null,null,null,{"$f":"catp","v":4}]
[3827,"Boboc Eva","Vatra Dornei",7.5,5,"HF",null,null,null,{"$f":"catp","v":4}]
[3828,"Ionita Daniel","Bucuresti",7.5,5,"H",null,null,null,{"$f":"catp","v":4}]
[3829,"Derzsi Lorand","Targu Mures",7.5,5,"H",null,null,null,{"$f":"catp","v":4}]
[3830,"Pirvulescu Catalin","Rovinari",7.5,5,"H",null,null,null,{"$f":"catp","v":4}]
[3858,"Secareanu Adrian","Barlad",7,5,"H",null,null,null,{"$f":"catp","v":4}]
[3859,"Tabara Lucian","Valenii de Munte",7,5,"H",null,null,null,{"$f":"catp","v":4}]
[4086,"Macabinski Lucian","Bucuresti",5,5,"H",null,null,null,{"$f":"catp","v":4}]
[4087,"Vladu Nicolae","Pitesti",5,5,"H",null,null,null,{"$f":"catp","v":4}]
[4088,"Droj Dumitru","Zalau",5,5,"H",null,null,null,{"$f":"catp","v":4}]
[4089,"Dosoftei Traian","Mangalia",5,5,"H",null,null,null,{"$f":"catp","v":4}]
[4090,"Szabo Zoltan","Cristuru Secuiesc",5,5,"H",null,null,null,{"$f":"catp","v":4}]
[4091,"Bud Adrian","Dej",5,5,"H",null,null,null,{"$f":"catp","v":4}]
[4092,"Scanteie Iulian","Buzau",5,5,"H",null,null,null,{"$f":"catp","v":4}]
[4093,"Sandu Octav Emilian","Cluj Napoca",5,5,"H",null,null,null,{"$f":"catp","v":4}]
[4094,"Kondort Arpad","Agnita",5,5,"H",null,null,null,{"$f":"catp","v":4}]
[4095,"Fuciu Alexandru","Sighetu Marmatiei",5,5,"H",null,null,null,{"$f":"catp","v":4}]
[4096,"Costescu Cezar","Galati",5,5,"H",null,null,null,{"$f":"catp","v":4}]
[4097,"Mosneagu Mihnea","Falticeni",5,5,"H",null,null,null,{"$f":"catp","v":4}]
[4098,"Baiu Teodor","Brasov",5,5,"H",null,null,null,{"$f":"catp","v":4}]
[4099,"Botea Marian","Fieni",5,5,"H",null,null,null,{"$f":"catp","v":4}]
[4100,"Buta Sebastian","Tarnaveni",5,5,"H",null,null,null,{"$f":"catp","v":4}]
[4101,"Czimbalmos Gyula","Lazarea",5,5,"H",null,null,null,{"$f":"catp","v":4}]
[4102,"Namolovan Calin","Iasi",5,5,"H",null,null,null,{"$f":"catp","v":4}]
[4103,"Popescu Razvan","Dumbravita",5,5,"H",null,null,null,{"$f":"catp","v":4}]
[4104,"Nichitean Narcis","Cluj Napoca",5,5,"H",null,null,null,{"$f":"catp","v":4}]
[4105,"Nemeth Alesia","Dumbravita",5,5,"HF",null,null,null,{"$f":"catp","v":4}]
[4106,"Selaru Victoras","Adjud",5,5,"H",null,null,null,{"$f":"catp","v":4}]
[4107,"Tanase Antonia","Bucuresti",5,5,"HF",null,null,null,{"$f":"catp","v":4}]
[4108,"Codreanu Daria","Bucuresti",5,5,"HF",null,null,null,{"$f":"catp","v":4}]
[4109,"Rosu Victor","Nasaud",5,5,"H",null,null,null,{"$f":"catp","v":4}]
[4110,"Mihaita Nicolae","Bucuresti",5,5,"H",null,null,null,{"$f":"catp","v":4}]
[4111,"Curcin Vladimir","Varset",5,5,"H",null,null,null,{"$f":"catp","v":4}]
[4112,"Cordun Eugen","Sibiu",5,5,"H",null,null,null,{"$f":"catp","v":4}]
[4113,"Milentijevic Isidora","Vlajkovac",5,5,"HF",null,null,null,{"$f":"catp","v":4}]
[4114,"Eva Alex","Sabaoani",5,5,"H",null,null,null,{"$f":"catp","v":4}]
[4115,"Olteanu Dorel","Bucuresti",5,5,"H",null,null,null,{"$f":"catp","v":4}]
[4116,"Pop Alexia","Lugoj",5,5,"HF",null,null,null,{"$f":"catp","v":4}]
[4117,"Buzenchi Constantin","Halaucesti",5,5,"H",null,null,null,{"$f":"catp","v":4}]
[4118,"Balhuc Rares","Halaucesti",5,5,"H",null,null,null,{"$f":"catp","v":4}]
[4119,"Larion Claudiu Stefan","Bucuresti",5,5,"H",null,null,null,{"$f":"catp","v":4}]
[4120,"Lazarescu Ioan","Caransebes",5,5,"H",null,null,null,{"$f":"catp","v":4}]
[4121,"Ticlete Stefan Cosmin","Drobeta Tr Severin",5,5,"H",null,null,null,{"$f":"catp","v":4}]
[4122,"Bedreiga Petrica Alin","Husi",5,5,"H",null,null,null,{"$f":"catp","v":4}]
[4123,"Stefanescu Serban","Harsova",5,5,"H",null,null,null,{"$f":"catp","v":4}]
[4124,"Cristea Calin","Targu Mures",5,5,"H",null,null,null,{"$f":"catp","v":4}]
[4125,"Bartha Szabolcs Gyula","Targu Mures",5,5,"H",null,null,null,{"$f":"catp","v":4}]
[4126,"Rarinca Claudiu","Matca",5,5,"H",null,null,null,{"$f":"catp","v":4}]
[4127,"Topciu Ivan","Moldova-Chisinau",5,5,"H",null,null,null,{"$f":"catp","v":4}]
[4128,"Cimpan Jozsef","Oradea",5,5,"H",null,null,null,{"$f":"catp","v":4}]
[4129,"Draghici Eduard","Apahida",5,5,"H",null,null,null,{"$f":"catp","v":4}]
[4130,"Uzun Andrei","Moldova-Cazaclia",5,5,"H",null,null,null,{"$f":"catp","v":4}]
[4131,"Vlah Dmitrii","Moldova-Cazaclia",5,5,"H",null,null,null,{"$f":"catp","v":4}]
[4132,"Cuiujuclu Piotr","Moldova-Cazaclia",5,5,"H",null,null,null,{"$f":"catp","v":4}]
[4133,"Mocanu Florin","Suceava",5,5,"H",null,null,null,{"$f":"catp","v":4}]
[4134,"Lovasz Vilmos Sr","Gheorgheni",5,5,"H",null,null,null,{"$f":"catp","v":4}]
[4135,"Bratu Bogdan","Boldesti Scaeni",5,5,"H",null,null,null,{"$f":"catp","v":4}]
[4136,"Zavate Silviu","Bucuresti",5,5,"H",null,null,null,{"$f":"catp","v":4}]
[4137,"Rebegea Vasile","Barlad",5,5,"H",null,null,null,{"$f":"catp","v":4}]
[4138,"Anton Viorel","Barlad",5,5,"H",null,null,null,{"$f":"catp","v":4}]
[4139,"Buica Petrica","Hateg",5,5,"H",null,null,null,{"$f":"catp","v":4}]
[4140,"Manita Claudiu","Santamaria Orlea",5,5,"H",null,null,null,{"$f":"catp","v":4}]
[4141,"Silaghi Adrian","Dumbravita",5,5,"H",null,null,null,{"$f":"catp","v":4}]
[4142,"Neamtu Marius","Campia Turzii",5,5,"H",null,null,null,{"$f":"catp","v":4}]
[4143,"Atasiei Bogdan","Floresti",5,5,"H",null,null,null,{"$f":"catp","v":4}]
[4144,"Rakosi Adrian","Floresti",5,5,"H",null,null,null,{"$f":"catp","v":4}]
[4145,"Ani Cosmin","Popesti CJ",5,5,"H",null,null,null,{"$f":"catp","v":4}]
[4146,"Ursan Stefan","Manastireni",5,5,"H",null,null,null,{"$f":"catp","v":4}]
[4147,"Enache Costel","Bucuresti",5,5,"H",null,null,null,{"$f":"catp","v":4}]
[4148,"Sas Florin","Oradea",5,5,"H",null,null,null,{"$f":"catp","v":4}]
[4149,"Parota Mircea","Alexandria",5,5,"H",null,null,null,{"$f":"catp","v":4}]
[4150,"Mihaes Tudor","Adjud",5,5,"H",null,null,null,{"$f":"catp","v":4}]
[4151,"Raducioiu Daniel","Bucuresti",5,5,"H",null,null,null,{"$f":"catp","v":4}]
[4152,"Savu George Eusebiu","Vulcana Bai",5,5,"H",null,null,null,{"$f":"catp","v":4}]
[4153,"Roca Liliana","Tarnaveni",5,5,"HF",null,null,null,{"$f":"catp","v":4}]
[4154,"Joneczek Sandra","Dumbravita",5,5,"HF",null,null,null,{"$f":"catp","v":4}]
[4155,"Ion Patrick","Bucuresti",5,5,"H",null,null,null,{"$f":"catp","v":4}]
[4156,"Demenciuc Iurie","Moldova-Balti",5,5,"H",null,null,null,{"$f":"catp","v":4}]
[4157,"Belea Beniamin","Cajvana",5,5,"H",null,null,null,{"$f":"catp","v":4}]
[4158,"Pancaricean Emil","Sibiu",5,5,"H",null,null,null,{"$f":"catp","v":4}]
[4159,"Arabadji Iurie","Iasi",5,5,"H",null,null,null,{"$f":"catp","v":4}]
[4160,"Leibold Angela","Germania",5,5,"HF",null,null,null,{"$f":"catp","v":4}]
[4161,"Huruiala Andrei","Ramnicu Valcea",5,5,"H",null,null,null,{"$f":"catp","v":4}]
[4162,"Macovei Costel","Iasi",5,5,"H",null,null,null,{"$f":"catp","v":4}]
[4163,"Buraga Emilian","Iasi",5,5,"H",null,null,null,{"$f":"catp","v":4}]
[4164,"Pancevac Ivan","Pancevo",5,5,"H",null,null,null,{"$f":"catp","v":4}]
[4165,"Nemet Istvan Levente","Delenii",5,5,"H",null,null,null,{"$f":"catp","v":4}]
[4166,"Bognean Adrian","Delenii",5,5,"H",null,null,null,{"$f":"catp","v":4}]
[4167,"Murvai Bela","Delenii",5,5,"H",null,null,null,{"$f":"catp","v":4}]
[4168,"Jelea Iulian","Aroneanu",5,5,"H",null,null,null,{"$f":"catp","v":4}]
[4169,"Plescan Dan","Aroneanu",5,5,"H",null,null,null,{"$f":"catp","v":4}]
[4170,"Stratiev Ivan","Moldova-Taraclia",5,5,"H",null,null,null,{"$f":"catp","v":4}]
[4171,"Dudun Ghenadi","Moldova-Taraclia",5,5,"H",null,null,null,{"$f":"catp","v":4}]
[4360,"Lupu Claudiu","Brasov",3.8,5,"H",null,null,null,{"$f":"catp","v":4}]
[4361,"Tudor Cosmin","Buzau",3.8,5,"H",null,null,null,{"$f":"catp","v":4}]
[4362,"Neagoe Samson","Timisoara",3.8,5,"H",null,null,null,{"$f":"catp","v":4}]
[4363,"Crisan Casian","Agnita",3.8,5,"H",null,null,null,{"$f":"catp","v":4}]
[4364,"Caranfilian Eduard","Bucuresti",3.8,5,"H",null,null,null,{"$f":"catp","v":4}]
[4365,"Kercedi Catalin","Tarnaveni",3.8,5,"H",null,null,null,{"$f":"catp","v":4}]
[4366,"Antonescu Dan","Bucuresti",3.8,5,"H",null,null,null,{"$f":"catp","v":4}]
[4367,"Catargiu Andrei","Bucuresti",3.8,5,"H",null,null,null,{"$f":"catp","v":4}]
[4368,"Udila Emanuel","Bucuresti",3.8,5,"H",null,null,null,{"$f":"catp","v":4}]
[4369,"Opran Gavril","Bucuresti",3.8,5,"H",null,null,null,{"$f":"catp","v":4}]
[4370,"Velea Alin","Bucuresti",3.8,5,"H",null,null,null,{"$f":"catp","v":4}]
[4371,"Marcu David","Iasi",3.8,5,"H",null,null,null,{"$f":"catp","v":4}]
[4372,"Prelipceanu Ciprian","Iasi",3.8,5,"H",null,null,null,{"$f":"catp","v":4}]
[4373,"Pushkarevska Masha","Odesa",3.8,5,"H",null,null,null,{"$f":"catp","v":4}]
[4374,"Plescan Catalin","Galati",3.8,5,"H",null,null,null,{"$f":"catp","v":4}]
[4375,"Sosa Sebastian","Aiud",3.8,5,"H",null,null,null,{"$f":"catp","v":4}]
[4376,"Vatamanu Silviu","Fratautii Vechi",3.8,5,"H",null,null,null,{"$f":"catp","v":4}]
[4377,"Coman Alexandru","Bucuresti",3.8,5,"H",null,null,null,{"$f":"catp","v":4}]
[4378,"Tita Dan","Domnesti",3.8,5,"H",null,null,null,{"$f":"catp","v":4}]
[4379,"Generosu Catalin","Alexandria",3.8,5,"H",null,null,null,{"$f":"catp","v":4}]
[4380,"Batrinu Florin Andrei Catalin","Alexandria",3.8,5,"H",null,null,null,{"$f":"catp","v":4}]
[4381,"Chebac Moiz","Galati",3.8,5,"H",null,null,null,{"$f":"catp","v":4}]
[4382,"Varga Zoltan","Bucuresti",3.8,5,"H",null,null,null,{"$f":"catp","v":4}]
[4383,"Bota Sergiu","Cluj Napoca",3.8,5,"H",null,null,null,{"$f":"catp","v":4}]
[4384,"Stan Tiberiu Dan","Iasi",3.8,5,"H",null,null,null,{"$f":"catp","v":4}]
[3327,"Hutan Cosmin","Salcea",13.8,4.97,"H",null,null,null,{"$f":"catp","v":4}]
[2573,"Duagi Ervin","Galati",31.6,4.96,"H",null,null,null,{"$f":"catp","v":4}]
[3454,"Ardeleanu Marcel","Focsani",11.9,4.95,"H",null,null,null,{"$f":"catp","v":4}]
[3629,"Brebu Liviu","Barlad",9.9,4.95,"H",null,null,null,{"$f":"catp","v":4}]
[3630,"Agbas Veaceslav","Moldova-Ceadir-Lunga",9.9,4.95,"H",null,null,null,{"$f":"catp","v":4}]
[3631,"Popescu Mariana","Radauti",9.9,4.95,"HF",null,null,null,{"$f":"catp","v":4}]
[2532,"Oprea Adrian","Bucuresti",33.1,4.93,"H",null,null,null,{"$f":"catp","v":4}]
[3082,"Leseanu Mihnea Gabriel","Alexandria",18.100000000000001,4.93,"H",null,null,null,{"$f":"catp","v":4}]
[2424,"Span Maria","Sibiu",36.799999999999997,4.92,"HF",null,null,null,{"$f":"catp","v":4}]
[3015,"Popa Bogdan","Sibiu",19.3,4.9000000000000004,"H",null,null,null,{"$f":"catp","v":4}]
[3350,"Oprea Cosmin","Calan",13.4,4.9000000000000004,"H",null,null,null,{"$f":"catp","v":4}]
[3426,"Popa David","Aiud",12.3,4.9000000000000004,"H",null,null,null,{"$f":"catp","v":4}]
[3734,"Laszlo Cristina","Arad",8.6,4.9000000000000004,"HF",null,null,null,{"$f":"catp","v":4}]
[3836,"Chirea Alex","Bals",7.4,4.9000000000000004,"H",null,null,null,{"$f":"catp","v":4}]
[4188,"Dezso Attila","Dej",4.9000000000000004,4.9000000000000004,"HW",null,null,null,{"$f":"catp","v":4}]
[4189,"Bors Marian","Barlad",4.9000000000000004,4.9000000000000004,"H",null,null,null,{"$f":"catp","v":4}]
[4190,"Podhora Paul","Alesd",4.9000000000000004,4.9000000000000004,"H",null,null,null,{"$f":"catp","v":4}]
[4191,"Serban Marius Catalin","Barlad",4.9000000000000004,4.9000000000000004,"H",null,null,null,{"$f":"catp","v":4}]
[4389,"Cosmin Alexa","Cornetu",3.7,4.9000000000000004,"H",null,null,null,{"$f":"catp","v":4}]
[2538,"David Sergiu Danut","Bucuresti",33,4.88,"H",null,null,null,{"$f":"catp","v":4}]
[2563,"Haralambescu Andrei","Bucuresti",32,4.88,"H",null,null,null,{"$f":"catp","v":4}]
[2319,"Rosu Nicolae","Sibiu",41.1,4.87,"H",null,null,null,{"$f":"catp","v":4}]
[2498,"Nemeti Zoltan","Oradea",34.200000000000003,4.8600000000000003,"H",null,null,null,{"$f":"catp","v":4}]
[1930,"Man Sebastian","Cluj Napoca",61.5,4.8499999999999996,"H",null,null,null,{"$f":"catp","v":4}]
[3638,"Dinu Cristian","Sotanga",9.6999999999999993,4.8499999999999996,"H",null,null,null,{"$f":"catp","v":4}]
[3639,"Zsolt Kovacs","Bretcu",9.6999999999999993,4.8499999999999996,"H",null,null,null,{"$f":"catp","v":4}]
[3676,"Andrei Bogdan","Targoviste",9.1999999999999993,4.8499999999999996,"H",null,null,null,{"$f":"catp","v":4}]
[2586,"Campian Vlad","Toplita",31.2,4.84,"H",null,null,null,{"$f":"catp","v":4}]
[1913,"Avadanei Maria","Cluj Napoca",62.7,4.83,"HF",null,null,null,{"$f":"catp","v":4}]
[2772,"Mosnegutu Laurentiu","Dorohoi",25.1,4.83,"H",null,null,null,{"$f":"catp","v":4}]
[3067,"Filat Maria","Bucuresti",18.399999999999999,4.83,"HF",null,null,null,{"$f":"catp","v":4}]
[3314,"Borsa Sorin","Bistrita",14,4.83,"H",null,null,null,{"$f":"catp","v":4}]
[1934,"Ene Daniel","Ploiesti",61.3,4.82,"H",null,null,null,{"$f":"catp","v":4}]
[2623,"Andrei Vasile Ilie","Ludus",29.7,4.82,"H",null,null,null,{"$f":"catp","v":4}]
[3572,"Simon Robert","Cluj Napoca",10.6,4.8,"H",null,null,null,{"$f":"catp","v":4}]
[3642,"Bigiu Florin","Tecuci",9.6,4.8,"H",null,null,null,{"$f":"catp","v":4}]
[3754,"Acsinte Andrei","Roman",8.4,4.8,"H",null,null,null,{"$f":"catp","v":4}]
[3766,"Konti Darius","Apahida",8.3000000000000007,4.8,"H",null,null,null,{"$f":"catp","v":4}]
[4201,"Bizo Virgil","Brad",4.8,4.8,"H",null,null,null,{"$f":"catp","v":4}]
[4202,"Barascu Andrei","Suceava",4.8,4.8,"H",null,null,null,{"$f":"catp","v":4}]
[4203,"Cutcovschi Ada","Moldova",4.8,4.8,"HF",null,null,null,{"$f":"catp","v":4}]
[4204,"Pestritu Stefan","Calarasi",4.8,4.8,"H",null,null,null,{"$f":"catp","v":4}]
[4205,"Sandu Tudor Daniel","Bucuresti",4.8,4.8,"H",null,null,null,{"$f":"catp","v":4}]
[4206,"Ghedreutan Gheorghe","Moldova-Drochia",4.8,4.8,"H",null,null,null,{"$f":"catp","v":4}]
[4207,"Barbu Denis","Bucuresti",4.8,4.8,"H",null,null,null,{"$f":"catp","v":4}]
[4208,"Stoica Ovidiu","Bucuresti",4.8,4.8,"H",null,null,null,{"$f":"catp","v":4}]
[4209,"Butusina Samuel","Arad",4.8,4.8,"H",null,null,null,{"$f":"catp","v":4}]
[4393,"Grigoras Andrei","Cluj Napoca",3.6,4.8,"H",null,null,null,{"$f":"catp","v":4}]
[4394,"Craciun Dragos","Filipestii de Targ",3.6,4.8,"H",null,null,null,{"$f":"catp","v":4}]
[4395,"Malos George","Marginea",3.6,4.8,"H",null,null,null,{"$f":"catp","v":4}]
[4396,"Bodnar Ioan","Vicovu de Sus",3.6,4.8,"H",null,null,null,{"$f":"catp","v":4}]
[4397,"Ienci Daniel","Targu Mures",3.6,4.8,"H",null,null,null,{"$f":"catp","v":4}]
[2142,"Stancu Gheorghe","Brazi",49.7,4.78,"H",null,null,null,{"$f":"catp","v":4}]
[2688,"Gales Ioan","Suceava",27.6,4.78,"H",null,null,null,{"$f":"catp","v":4}]
[2473,"Hoca Daniel","Lunca Muresului",35,4.7699999999999996,"H",null,null,null,{"$f":"catp","v":4}]
[3649,"Verciuc Florin","Suceava",9.5,4.75,"H",null,null,null,{"$f":"catp","v":4}]
[3755,"Muntean Mihai","Sibiu",8.4,4.75,"H",null,null,null,{"$f":"catp","v":4}]
[3767,"Zaharia Dorin","Targu Mures",8.3000000000000007,4.75,"H",null,null,null,{"$f":"catp","v":4}]
[3050,"Calin Stefan Daniel","Urlati",18.7,4.7300000000000004,"H",null,null,null,{"$f":"catp","v":4}]
[3154,"Kovacs Attila","Covasna",16.7,4.7300000000000004,"H",null,null,null,{"$f":"catp","v":4}]
[2281,"Tere Sergiu","Cluj Napoca",42.8,4.7,"H",null,null,null,{"$f":"catp","v":4}]
[2466,"Andrei Lucian","Nasaud",35.299999999999997,4.7,"H",null,null,null,{"$f":"catp","v":4}]
[2602,"Andrei Maria","Ludus",30.5,4.7,"HF",null,null,null,{"$f":"catp","v":4}]
[2784,"Bohotineanu Florin","Vaslui",24.7,4.7,"H",null,null,null,{"$f":"catp","v":4}]
[3068,"Moldovan Tudor","Cluj Napoca",18.399999999999999,4.7,"H",null,null,null,{"$f":"catp","v":4}]
[3455,"Funaru Raul","Cluj Napoca",11.9,4.7,"H",null,null,null,{"$f":"catp","v":4}]
[3660,"Katona Gellert","Targu Mures",9.4,4.7,"H",null,null,null,{"$f":"catp","v":4}]
[3768,"Bej Ioan","Arad",8.3000000000000007,4.7,"H",null,null,null,{"$f":"catp","v":4}]
[3769,"Iotu Mihaita Sorin","Alexandria",8.3000000000000007,4.7,"H",null,null,null,{"$f":"catp","v":4}]
[4215,"Caramit Arina","Moldova-Avdarma",4.7,4.7,"HF",null,null,null,{"$f":"catp","v":4}]
[4216,"Stamat Ilia","Moldova-Comrat",4.7,4.7,"H",null,null,null,{"$f":"catp","v":4}]
[4217,"Manzala Catalin","Buzau",4.7,4.7,"H",null,null,null,{"$f":"catp","v":4}]
[4218,"Capalnas Vasile","Bistrita",4.7,4.7,"H",null,null,null,{"$f":"catp","v":4}]
[4219,"Caradjov Stepan","Moldova-Leova",4.7,4.7,"H",null,null,null,{"$f":"catp","v":4}]
[4398,"Mosgoreanu Codrut","Bucuresti",3.6,4.7,"H",null,null,null,{"$f":"catp","v":4}]
[4399,"Dima Gabriel","Braila",3.6,4.7,"H",null,null,null,{"$f":"catp","v":4}]
[2954,"Boicu Victor","Vatra Dornei",20.8,4.68,"H",null,null,null,{"$f":"catp","v":4}]
[3360,"Iacoban Beniamin","Cajvana",13.3,4.67,"H",null,null,null,{"$f":"catp","v":4}]
[3183,"Savin Medeea","Plopeni SV",16.100000000000001,4.6500000000000004,"HF",null,null,null,{"$f":"catp","v":4}]
[3345,"Szasz Csongor","Gheorgheni",13.5,4.6500000000000004,"H",null,null,null,{"$f":"catp","v":4}]
[3756,"Bucsa Eugen Marcel","Apahida",8.4,4.6500000000000004,"H",null,null,null,{"$f":"catp","v":4}]
[3783,"Simionescu Robert","Alexandria",8.1,4.6500000000000004,"H",null,null,null,{"$f":"catp","v":4}]
[3860,"Bizau Robin","Chisoda",7,4.6500000000000004,"H",null,null,null,{"$f":"catp","v":4}]
[2265,"Bruzan Cosmin","Calan",43.4,4.62,"H",null,null,null,{"$f":"catp","v":4}]
[2694,"Bozga Luisa","Dobric",27.5,4.5999999999999996,"HF",null,null,null,{"$f":"catp","v":4}]
[2982,"Gliga Lavinia","Reghin",20.2,4.5999999999999996,"HF",null,null,null,{"$f":"catp","v":4}]
[3076,"Bzovii Elena","Moldova-Cahul",18.2,4.5999999999999996,"HF",null,null,null,{"$f":"catp","v":4}]
[3677,"Moldovan Mihai","Toplita",9.1999999999999993,4.5999999999999996,"H",null,null,null,{"$f":"catp","v":4}]
[3875,"Rosenbaum Vladimir","Timisoara",6.9,4.5999999999999996,"H",null,null,null,{"$f":"catp","v":4}]
[3876,"Schnepp Michael","Brasov",6.9,4.5999999999999996,"H",null,null,null,{"$f":"catp","v":4}]
[3877,"Nicolae Sorin","Targoviste",6.9,4.5999999999999996,"H",null,null,null,{"$f":"catp","v":4}]
[3878,"Dancioiu Antonio","Targoviste",6.9,4.5999999999999996,"H",null,null,null,{"$f":"catp","v":4}]
[3879,"Raduta Alexandra","Targoviste",6.9,4.5999999999999996,"HF",null,null,null,{"$f":"catp","v":4}]
[3880,"Bolovaneanu Vlad","Bucuresti",6.9,4.5999999999999996,"H",null,null,null,{"$f":"catp","v":4}]
[4226,"Berchi Ioan","Arad",4.5999999999999996,4.5999999999999996,"H",null,null,null,{"$f":"catp","v":4}]
[4227,"Damian Vasile","Nasaud",4.5999999999999996,4.5999999999999996,"H",null,null,null,{"$f":"catp","v":4}]
[4228,"Both David","Deva",4.5999999999999996,4.5999999999999996,"H",null,null,null,{"$f":"catp","v":4}]
[4229,"Pasconi Carmen","Mintia",4.5999999999999996,4.5999999999999996,"HF",null,null,null,{"$f":"catp","v":4}]
[4230,"Silaghi Adrian","Deva",4.5999999999999996,4.5999999999999996,"H",null,null,null,{"$f":"catp","v":4}]
[4231,"Bilibok Csongor","Gheorgheni",4.5999999999999996,4.5999999999999996,"H",null,null,null,{"$f":"catp","v":4}]
[4232,"Feraru Alexandru","Deva",4.5999999999999996,4.5999999999999996,"H",null,null,null,{"$f":"catp","v":4}]
[4233,"Mamoun Taha","Arad",4.5999999999999996,4.5999999999999996,"H",null,null,null,{"$f":"catp","v":4}]
[4234,"Tartu Tiberiu","Teius",4.5999999999999996,4.5999999999999996,"H",null,null,null,{"$f":"catp","v":4}]
[4235,"Bucin Claudiu","Targu Mures",4.5999999999999996,4.5999999999999996,"H",null,null,null,{"$f":"catp","v":4}]
[4236,"Toma Andrei","Reghin",4.5999999999999996,4.5999999999999996,"H",null,null,null,{"$f":"catp","v":4}]
[4409,"Ganga Alexandru","Suceava",3.5,4.5999999999999996,"H",null,null,null,{"$f":"catp","v":4}]
[2151,"Trif Mihai","Cluj Napoca",49.2,4.59,"HJ",null,null,null,{"$f":"catp","v":4}]
[2643,"Munteanu Stefan","Piatra Neamt",29.1,4.58,"H",null,null,null,{"$f":"catp","v":4}]
[2912,"Borsan Adrian","Cluj Napoca",21.9,4.58,"H",null,null,null,{"$f":"catp","v":4}]
[3486,"Puisoru Victor","Bucuresti",11.6,4.57,"H",null,null,null,{"$f":"catp","v":4}]
[1958,"Petre Gabriel","Bucuresti",60.1,4.55,"H",null,null,null,{"$f":"catp","v":4}]
[2278,"Pralea David Constantin","Alba Iulia",43,4.53,"H",null,null,null,{"$f":"catp","v":4}]
[2913,"Dumitrache Daniel","Sinaia",21.9,4.53,"H",null,null,null,{"$f":"catp","v":4}]
[3395,"Gabor David","Agnita",12.7,4.53,"H",null,null,null,{"$f":"catp","v":4}]
[3418,"Talpa Artiom","Moldova-Balti",12.4,4.53,"H",null,null,null,{"$f":"catp","v":4}]
[3197,"Cocea Felix","Bucuresti",15.8,4.5,"H",null,null,null,{"$f":"catp","v":4}]
[3698,"Nasui Gavrila","Cluj Napoca",9,4.5,"H",null,null,null,{"$f":"catp","v":4}]
[3910,"Iojiban Victor","Balan",6.5,4.5,"H",null,null,null,{"$f":"catp","v":4}]
[4239,"Craciunescu Mihai","Calarasi",4.5,4.5,"H",null,null,null,{"$f":"catp","v":4}]
[4240,"Fodor Attila","Vanatori",4.5,4.5,"H",null,null,null,{"$f":"catp","v":4}]
[4241,"Ghinea Costin","Moinesti",4.5,4.5,"H",null,null,null,{"$f":"catp","v":4}]
[4242,"Kolumban Elek","Targu Mures",4.5,4.5,"H",null,null,null,{"$f":"catp","v":4}]
[4243,"Cangia Tudor","Tulcea",4.5,4.5,"H",null,null,null,{"$f":"catp","v":4}]
[4244,"Cirstea Alexandru","Bucuresti",4.5,4.5,"H",null,null,null,{"$f":"catp","v":4}]
[4245,"Seer Zoltan","Gheorgheni",4.5,4.5,"H",null,null,null,{"$f":"catp","v":4}]
[4246,"Aloman Mircea","Andrasesti",4.5,4.5,"H",null,null,null,{"$f":"catp","v":4}]
[4247,"Triteanu Ovidiu","Cluj Napoca",4.5,4.5,"H",null,null,null,{"$f":"catp","v":4}]
[4248,"Chiper Codrin Gabriel","Bacau",4.5,4.5,"H",null,null,null,{"$f":"catp","v":4}]
[4249,"Lepadatu Robert","Priboieni",4.5,4.5,"H",null,null,null,{"$f":"catp","v":4}]
[4250,"Biris Alexandru","Sighisoara",4.5,4.5,"H",null,null,null,{"$f":"catp","v":4}]
[4251,"Dinescu Alin","Bucuresti",4.5,4.5,"H",null,null,null,{"$f":"catp","v":4}]
[4461,"Iconaru Madalin","Alexandria",3.4,4.5,"H",null,null,null,{"$f":"catp","v":4}]
[4462,"Baidanac Radu","Alexandria",3.4,4.5,"H",null,null,null,{"$f":"catp","v":4}]
[4463,"Preda Ion","Targoviste",3.4,4.5,"H",null,null,null,{"$f":"catp","v":4}]
[4464,"Dicu Bogdan","Voinesti DB",3.4,4.5,"H",null,null,null,{"$f":"catp","v":4}]
[4465,"Musceleanu Stefan","Buftea",3.4,4.5,"H",null,null,null,{"$f":"catp","v":4}]
[3002,"Stinea Adrian","Sibiu",19.7,4.45,"H",null,null,null,{"$f":"catp","v":4}]
[3073,"Cili Denis","Ludus",18.3,4.45,"H",null,null,null,{"$f":"catp","v":4}]
[3191,"Voivod Mihai","Cluj Napoca",15.9,4.45,"H",null,null,null,{"$f":"catp","v":4}]
[3317,"Ciobanu Mihail","Moldova-Vulcanesti",13.9,4.45,"H",null,null,null,{"$f":"catp","v":4}]
[3705,"Loghin Cristian","Pascani",8.9,4.45,"H",null,null,null,{"$f":"catp","v":4}]
[3706,"Covasa Gloria","Pascani",8.9,4.45,"HF",null,null,null,{"$f":"catp","v":4}]
[3707,"Obis Akos","Berveni",8.9,4.45,"H",null,null,null,{"$f":"catp","v":4}]
[3016,"Furdui Maria","Simeria",19.3,4.43,"HF",null,null,null,{"$f":"catp","v":4}]
[3263,"Szekely Attila","Arad",14.9,4.43,"H",null,null,null,{"$f":"catp","v":4}]
[2828,"Barbu Dorin","Constanta",23.8,4.4000000000000004,"H",null,null,null,{"$f":"catp","v":4}]
[2963,"Berbecanu Andrei","Videle",20.7,4.4000000000000004,"H",null,null,null,{"$f":"catp","v":4}]
[3026,"Jitaru Stefan","Piatra Neamt",19.100000000000001,4.4000000000000004,"H",null,null,null,{"$f":"catp","v":4}]
[3368,"Gavre Natanael","Hateg",13.2,4.4000000000000004,"H",null,null,null,{"$f":"catp","v":4}]
[3396,"Crutian Alexei","Moldova-Balti",12.7,4.4000000000000004,"H",null,null,null,{"$f":"catp","v":4}]
[3716,"Gaspar Janos","Cristuru Secuiesc",8.8000000000000007,4.4000000000000004,"H",null,null,null,{"$f":"catp","v":4}]
[3901,"Gheorghe Alexandru","Pitesti",6.6,4.4000000000000004,"H",null,null,null,{"$f":"catp","v":4}]
[3902,"Ciurez Vladimir","Bucuresti",6.6,4.4000000000000004,"H",null,null,null,{"$f":"catp","v":4}]
[3903,"Dragomirescu Stefan","Bucuresti",6.6,4.4000000000000004,"H",null,null,null,{"$f":"catp","v":4}]
[4263,"Burnar Ioan","Viseu",4.4000000000000004,4.4000000000000004,"H",null,null,null,{"$f":"catp","v":4}]
[4264,"Jujonescu Paul","Nadrag",4.4000000000000004,4.4000000000000004,"H",null,null,null,{"$f":"catp","v":4}]
[4265,"Farcas Rares","Targu Mures",4.4000000000000004,4.4000000000000004,"H",null,null,null,{"$f":"catp","v":4}]
[4266,"Delev Paula","Moldova-Balti",4.4000000000000004,4.4000000000000004,"HF",null,null,null,{"$f":"catp","v":4}]
[4267,"Tudorache Ciprian","Ploiesti",4.4000000000000004,4.4000000000000004,"H",null,null,null,{"$f":"catp","v":4}]
[4268,"Masnita Andrei","Viseu",4.4000000000000004,4.4000000000000004,"H",null,null,null,{"$f":"catp","v":4}]
[4473,"Morosan Dana","Vatra Dornei",3.3,4.4000000000000004,"HF",null,null,null,{"$f":"catp","v":4}]
[4474,"Ciciou Ionut Danut","Dumbravita",3.3,4.4000000000000004,"H",null,null,null,{"$f":"catp","v":4}]
[4475,"Constantin Alessia","Lugoj",3.3,4.4000000000000004,"HF",null,null,null,{"$f":"catp","v":4}]
[4476,"Stamatin Alexandru","Tibanesti",3.3,4.4000000000000004,"H",null,null,null,{"$f":"catp","v":4}]
[4477,"Ticlos Cristian","Iasi",3.3,4.4000000000000004,"H",null,null,null,{"$f":"catp","v":4}]
[4478,"Minea Robert","Brasov",3.3,4.4000000000000004,"H",null,null,null,{"$f":"catp","v":4}]
[2733,"Valcica Razvan Daniel","Uricani",26.2,4.38,"H",null,null,null,{"$f":"catp","v":4}]
[3412,"Fagaras Daniel","Arad",12.5,4.37,"H",null,null,null,{"$f":"catp","v":4}]
[3441,"Predoi Bogdan","Rosiori de Vede",12.1,4.37,"H",null,null,null,{"$f":"catp","v":4}]
[3559,"Toma Calaraseanu","Bucuresti",10.8,4.37,"H",null,null,null,{"$f":"catp","v":4}]
[2489,"Buraciuc Raluca","Nasaud",34.5,4.3499999999999996,"HF",null,null,null,{"$f":"catp","v":4}]
[3549,"Streche Andrei","Bucuresti",10.9,4.3499999999999996,"H",null,null,null,{"$f":"catp","v":4}]
[3725,"Zorilla Andrei","Moldova-Ceadir-Lunga",8.6999999999999993,4.3499999999999996,"H",null,null,null,{"$f":"catp","v":4}]
[3801,"Carp Marius","Bucuresti",7.8,4.3499999999999996,"H",null,null,null,{"$f":"catp","v":4}]
[3802,"Cailean Daniel","Turda",7.8,4.3499999999999996,"H",null,null,null,{"$f":"catp","v":4}]
[3818,"Kosa Karol","Sibiu",7.6,4.3499999999999996,"HF",null,null,null,{"$f":"catp","v":4}]
[3837,"Sava Ionut","Bacau",7.4,4.3499999999999996,"H",null,null,null,{"$f":"catp","v":4}]
[3904,"Oana Ion","Bucuresti",6.6,4.3499999999999996,"H",null,null,null,{"$f":"catp","v":4}]
[2891,"Toderita Catalina","Bucuresti",22.4,4.33,"HF",null,null,null,{"$f":"catp","v":4}]
[3456,"Popa Yannis","Pitesti",11.9,4.33,"H",null,null,null,{"$f":"catp","v":4}]
[2391,"Orosan Vasile","Ludus",38,4.3,"H",null,null,null,{"$f":"catp","v":4}]
[2533,"Radulescu Catalin","Ploiesti",33.1,4.3,"HD",null,null,null,{"$f":"catp","v":4}]
[2580,"Istina Lucas","Arad",31.4,4.3,"H",null,null,null,{"$f":"catp","v":4}]
[3318,"Bodoni Renata","Targu Mures",13.9,4.3,"HF",null,null,null,{"$f":"catp","v":4}]
[3397,"Feldara David","Agnita",12.7,4.3,"H",null,null,null,{"$f":"catp","v":4}]
[3735,"Vasiliu Aurel","Barlad",8.6,4.3,"H",null,null,null,{"$f":"catp","v":4}]
[3911,"Eden Memet","Constanta",6.5,4.3,"H",null,null,null,{"$f":"catp","v":4}]
[4274,"Tudosie Marcel","Ploiesti",4.3,4.3,"H",null,null,null,{"$f":"catp","v":4}]
[4275,"Deac Isabela","Dumbravita",4.3,4.3,"HF",null,null,null,{"$f":"catp","v":4}]
[4276,"Bialis Nina","Dumbravita",4.3,4.3,"HF",null,null,null,{"$f":"catp","v":4}]
[4277,"Vaida Szilard","Bistrita",4.3,4.3,"H",null,null,null,{"$f":"catp","v":4}]
[4278,"Neacsu Cristian","Bucuresti",4.3,4.3,"H",null,null,null,{"$f":"catp","v":4}]
[4479,"Butunoiu Dorin","Brasov",3.3,4.3,"H",null,null,null,{"$f":"catp","v":4}]
[4480,"Mocan Marius","Cluj Napoca",3.3,4.3,"H",null,null,null,{"$f":"catp","v":4}]
[4481,"Paizs Sandor","Targu Mures",3.3,4.3,"H",null,null,null,{"$f":"catp","v":4}]
[4482,"Iliescu Ion","Bucuresti",3.3,4.3,"H",null,null,null,{"$f":"catp","v":4}]
[4483,"Bocean Andrei Emanuel","Apahida",3.3,4.3,"H",null,null,null,{"$f":"catp","v":4}]
[4484,"Stoleru Matei","Iasi",3.3,4.3,"H",null,null,null,{"$f":"catp","v":4}]
[4485,"Enea Manuel","Iasi",3.3,4.3,"H",null,null,null,{"$f":"catp","v":4}]
[4486,"Patric Filip","Cluj Napoca",3.3,4.3,"H",null,null,null,{"$f":"catp","v":4}]
[2744,"Muresan Alexandra","Cluj Napoca",25.9,4.28,"HF",null,null,null,{"$f":"catp","v":4}]
[3127,"Burga Ionut","Bucuresti",17.3,4.28,"H",null,null,null,{"$f":"catp","v":4}]
[3110,"Condrea Nicolae","Alba Iulia",17.600000000000001,4.2699999999999996,"H",null,null,null,{"$f":"catp","v":4}]
[3448,"Petrov Marius","Lovrin",12,4.2699999999999996,"H",null,null,null,{"$f":"catp","v":4}]
[3521,"Radovan Goran","Timisoara",11.2,4.2699999999999996,"H",null,null,null,{"$f":"catp","v":4}]
[2939,"Lienerth Lukas","Sibiu",21.2,4.25,"H",null,null,null,{"$f":"catp","v":4}]
[2999,"Kifor Razvan","Bran",19.8,4.25,"H",null,null,null,{"$f":"catp","v":4}]
[3207,"Marinescu Dan","Ramnicu Valcea",15.6,4.25,"H",null,null,null,{"$f":"catp","v":4}]
[3745,"Todea Mircea","Cluj Napoca",8.5,4.25,"H",null,null,null,{"$f":"catp","v":4}]
[3746,"Buicea Andra","Pitesti",8.5,4.25,"HF",null,null,null,{"$f":"catp","v":4}]
[3819,"Cusmir Raul","Oradea",7.6,4.25,"H",null,null,null,{"$f":"catp","v":4}]
[3270,"Grecu Radu","Iasi",14.8,4.2300000000000004,"H",null,null,null,{"$f":"catp","v":4}]
[2539,"Selejan Laurentiu","Arad",33,4.2,"H",null,null,null,{"$f":"catp","v":4}]
[2922,"Bradina Daniel","Calan",21.6,4.2,"H",null,null,null,{"$f":"catp","v":4}]
[3597,"Alecu Cristian","Targoviste",10.199999999999999,4.2,"H",null,null,null,{"$f":"catp","v":4}]
[3757,"Gaspar Zsolt Endre","Pericei",8.4,4.2,"H",null,null,null,{"$f":"catp","v":4}]
[3758,"Deaconu Adrian","Sibiu",8.4,4.2,"H",null,null,null,{"$f":"catp","v":4}]
[3803,"Ilie Marius Viorel","Brasov",7.8,4.2,"H",null,null,null,{"$f":"catp","v":4}]
[3861,"Ostrovanu Cosmin","Suceava",7,4.2,"H",null,null,null,{"$f":"catp","v":4}]
[4285,"Berei Roland","Satu Mare",4.2,4.2,"H",null,null,null,{"$f":"catp","v":4}]
[4286,"Baceanu Adrian","Slobozia",4.2,4.2,"H",null,null,null,{"$f":"catp","v":4}]
[4287,"Badiu Patricia","Floresti",4.2,4.2,"HF",null,null,null,{"$f":"catp","v":4}]
[4288,"Curea Sara","Cluj Napoca",4.2,4.2,"HF",null,null,null,{"$f":"catp","v":4}]
[4289,"Cernev Valeri","Moldova-Vulcanesti",4.2,4.2,"H",null,null,null,{"$f":"catp","v":4}]
[4290,"Golofeev Arteom","Moldova-Comrat",4.2,4.2,"H",null,null,null,{"$f":"catp","v":4}]
[4291,"Secrii Sergiu","Moldova-Cahul",4.2,4.2,"H",null,null,null,{"$f":"catp","v":4}]
[4292,"Muntean Radu","Floresti",4.2,4.2,"H",null,null,null,{"$f":"catp","v":4}]
[4293,"Chaikovskyi Maxim","Moldova-Comrat",4.2,4.2,"H",null,null,null,{"$f":"catp","v":4}]
[4294,"Iancu Vasile","Zalau",4.2,4.2,"H",null,null,null,{"$f":"catp","v":4}]
[4295,"Platon Dan","Beclean",4.2,4.2,"H",null,null,null,{"$f":"catp","v":4}]
[4296,"Moldovan Alexandru Radu","Cluj Napoca",4.2,4.2,"H",null,null,null,{"$f":"catp","v":4}]
[4494,"Croitoru Ianiss","Brasov",3.2,4.2,"H",null,null,null,{"$f":"catp","v":4}]
[4495,"Brasoveanu Arthur","Brasov",3.2,4.2,"H",null,null,null,{"$f":"catp","v":4}]
[3086,"Coaja Constantin","Bucuresti",17.899999999999999,4.18,"H",null,null,null,{"$f":"catp","v":4}]
[2518,"Ivanov Alexandru","Moldova-Cahul",33.5,4.17,"H",null,null,null,{"$f":"catp","v":4}]
[2594,"Popovici Rares Andrei","Brasov",30.8,4.1500000000000004,"H",null,null,null,{"$f":"catp","v":4}]
[2737,"Szep Octavian","Nasaud",26.1,4.1500000000000004,"H",null,null,null,{"$f":"catp","v":4}]
[3770,"Turtoi Costin","Tulcea",8.3000000000000007,4.1500000000000004,"H",null,null,null,{"$f":"catp","v":4}]
[3771,"Veress Csaba","Sovata",8.3000000000000007,4.1500000000000004,"H",null,null,null,{"$f":"catp","v":4}]
[3772,"Kopka David","Arad",8.3000000000000007,4.1500000000000004,"H",null,null,null,{"$f":"catp","v":4}]
[3051,"Petrache Stefan","Blaj",18.7,4.13,"H",null,null,null,{"$f":"catp","v":4}]
[3299,"Chesintan Luca","Lipova",14.3,4.13,"H",null,null,null,{"$f":"catp","v":4}]
[2179,"Seica Gheorghe","Oradea",47.9,4.1100000000000003,"H",null,null,null,{"$f":"catp","v":4}]
[2927,"Gheorghe Radu Andrei","Ploiesti",21.5,4.0999999999999996,"H",null,null,null,{"$f":"catp","v":4}]
[3011,"Bajko Daniel","Sarmas",19.399999999999999,4.0999999999999996,"H",null,null,null,{"$f":"catp","v":4}]
[3158,"Coman Denis","Cluj Napoca",16.600000000000001,4.0999999999999996,"H",null,null,null,{"$f":"catp","v":4}]
[3192,"Poraico Xenia","Moldova-Balti",15.9,4.0999999999999996,"HF",null,null,null,{"$f":"catp","v":4}]
[3603,"Incze Geza","Targu Mures",10.1,4.0999999999999996,"H",null,null,null,{"$f":"catp","v":4}]
[3776,"Mihailov Serghei","Moldova-Balti",8.1999999999999993,4.0999999999999996,"H",null,null,null,{"$f":"catp","v":4}]
[3777,"Drimbau Calin","Marghita",8.1999999999999993,4.0999999999999996,"H",null,null,null,{"$f":"catp","v":4}]
[3778,"Todos Alexandru","Moldova-Cahul",8.1999999999999993,4.0999999999999996,"H",null,null,null,{"$f":"catp","v":4}]
[3838,"Muhin Andrei","Moldova-Balti",7.4,4.0999999999999996,"H",null,null,null,{"$f":"catp","v":4}]
[4301,"Paraschiv Mihai","Targu Neamt",4.0999999999999996,4.0999999999999996,"H",null,null,null,{"$f":"catp","v":4}]
[4302,"Ciolpan Grigore","Viseu",4.0999999999999996,4.0999999999999996,"H",null,null,null,{"$f":"catp","v":4}]
[4303,"Piper Mirel","Luna CJ",4.0999999999999996,4.0999999999999996,"H",null,null,null,{"$f":"catp","v":4}]
[4304,"Ionescu Aurelian","Campulung Mold",4.0999999999999996,4.0999999999999996,"H",null,null,null,{"$f":"catp","v":4}]
[4305,"Fedorciuc Elias","Viseu",4.0999999999999996,4.0999999999999996,"H",null,null,null,{"$f":"catp","v":4}]
[4306,"Ploia Tudor","Sibiu",4.0999999999999996,4.0999999999999996,"H",null,null,null,{"$f":"catp","v":4}]
[4307,"Ilisan Alex","Toplita",4.0999999999999996,4.0999999999999996,"H",null,null,null,{"$f":"catp","v":4}]
[4308,"Chidovat David","Darmanesti SV",4.0999999999999996,4.0999999999999996,"H",null,null,null,{"$f":"catp","v":4}]
[4309,"Baies Daniel","Sibiu",4.0999999999999996,4.0999999999999996,"H",null,null,null,{"$f":"catp","v":4}]
[4310,"Linoiu Alexandru","Constanta",4.0999999999999996,4.0999999999999996,"H",null,null,null,{"$f":"catp","v":4}]
[4311,"Jevdic Aleksandar","Varset",4.0999999999999996,4.0999999999999996,"H",null,null,null,{"$f":"catp","v":4}]
[4499,"Pop Eugen","Bistrita",3.1,4.0999999999999996,"H",null,null,null,{"$f":"catp","v":4}]
[4500,"Sopterean Ioan","Bistrita",3.1,4.0999999999999996,"H",null,null,null,{"$f":"catp","v":4}]
[4501,"Istrate Adrian","Bistrita",3.1,4.0999999999999996,"HW",null,null,null,{"$f":"catp","v":4}]
[4502,"Astanoaiei Adrian","Arad",3.1,4.0999999999999996,"H",null,null,null,{"$f":"catp","v":4}]
[4503,"Canpan Radu","Bistrita",3.1,4.0999999999999996,"H",null,null,null,{"$f":"catp","v":4}]
[4504,"Palagheanu Luis","Plopeni SV",3.1,4.0999999999999996,"HJ",null,null,null,{"$f":"catp","v":4}]
[4505,"Tudor Raisa","Pitesti",3.1,4.0999999999999996,"HF",null,null,null,{"$f":"catp","v":4}]
[4506,"Popescu Adrian","Pitesti",3.1,4.0999999999999996,"H",null,null,null,{"$f":"catp","v":4}]
[2931,"Ristica Alexandru","Craiova",21.4,4.08,"H",null,null,null,{"$f":"catp","v":4}]
[3145,"Ionita Dan","Bucuresti",16.8,4.08,"H",null,null,null,{"$f":"catp","v":4}]
[3181,"Muresan Nicolaie","Cluj Napoca",16.2,4.07,"H",null,null,null,{"$f":"catp","v":4}]
[2330,"Cucu Gabriela","Brasov",40.6,4.05,"HF",null,null,null,{"$f":"catp","v":4}]
[3184,"Bodnar Alexandra Ioana","Vicovu de Sus",16.100000000000001,4.05,"HJF",null,null,null,{"$f":"catp","v":4}]
[3232,"Matei Alexandru","Pitesti",15.1,4.05,"H",null,null,null,{"$f":"catp","v":4}]
[3736,"Lapadat Claudia","Hunedoara",8.6,4.05,"HF",null,null,null,{"$f":"catp","v":4}]
[2023,"Ciorlip Sorin","Hunedoara",57,4.04,"H",null,null,null,{"$f":"catp","v":4}]
[2695,"Dirlea Ana","Aiud",27.5,4.03,"HF",null,null,null,{"$f":"catp","v":4}]
[3005,"Armene Ionel","Barlad",19.600000000000001,4.03,"H",null,null,null,{"$f":"catp","v":4}]
[3027,"Herdes Gabriel","Putna",19.100000000000001,4.03,"H",null,null,null,{"$f":"catp","v":4}]
[3193,"Suceava Raul","Targu Mures",15.9,4.03,"H",null,null,null,{"$f":"catp","v":4}]
[3215,"Blaga Daria","Cluj Napoca",15.4,4.03,"HF",null,null,null,{"$f":"catp","v":4}]
[3351,"Stefanescu Eugen","Bucuresti",13.4,4.03,"H",null,null,null,{"$f":"catp","v":4}]
[3383,"Drulea Radu Vlad","Jimbolia",12.9,4.03,"H",null,null,null,{"$f":"catp","v":4}]
[3384,"Ciobanu Raul","Ciohorani",12.9,4.03,"H",null,null,null,{"$f":"catp","v":4}]
[3003,"Ploscar Claudiu","Cluj Napoca",19.7,4,"H",null,null,null,{"$f":"catp","v":4}]
[3062,"Lemhenyi Tamas","Gheorgheni",18.5,4,"H",null,null,null,{"$f":"catp","v":4}]
[3300,"Novac Gabriel","Targoviste",14.3,4,"H",null,null,null,{"$f":"catp","v":4}]
[3352,"Eftemita Polina","Moldova-Balti",13.4,4,"HF",null,null,null,{"$f":"catp","v":4}]
[3390,"Leonescu David","Alesd",12.8,4,"H",null,null,null,{"$f":"catp","v":4}]
[3560,"Savu Maria Cornelia","Bilca",10.8,4,"HF",null,null,null,{"$f":"catp","v":4}]
[3620,"Cristea Adrian","Bucuresti",10,4,"H",null,null,null,{"$f":"catp","v":4}]
[3621,"Lacatusu Aurelian","Iasi",10,4,"H",null,null,null,{"$f":"catp","v":4}]
[3956,"Negoita Ionut Silviu","Bucuresti",6,4,"H",null,null,null,{"$f":"catp","v":4}]
[3957,"Curutiu Traian","Dumbraveni SB",6,4,"H",null,null,null,{"$f":"catp","v":4}]
[3958,"Varga Istvan","Targu Mures",6,4,"H",null,null,null,{"$f":"catp","v":4}]
[3959,"Durlai George","Barlad",6,4,"H",null,null,null,{"$f":"catp","v":4}]
[3960,"Carcea David","Galanesti",6,4,"H",null,null,null,{"$f":"catp","v":4}]
[3961,"Sarbu Bogdan","Gligoresti",6,4,"H",null,null,null,{"$f":"catp","v":4}]
[3962,"Pop Crina Julieta","Cluj Napoca",6,4,"HF",null,null,null,{"$f":"catp","v":4}]
[4314,"Achim Georgel","Calarasi",4,4,"H",null,null,null,{"$f":"catp","v":4}]
[4315,"Sabau Alex Aurelian","Tarnaveni",4,4,"H",null,null,null,{"$f":"catp","v":4}]
[4316,"Nechita Victor","Pascani",4,4,"H",null,null,null,{"$f":"catp","v":4}]
[4317,"Aron Razvan","Fenes",4,4,"H",null,null,null,{"$f":"catp","v":4}]
[4318,"Grigoras Dinu","Pascani",4,4,"H",null,null,null,{"$f":"catp","v":4}]
[4319,"Osan George","Floresti",4,4,"H",null,null,null,{"$f":"catp","v":4}]
[4320,"Manea Ionel","Barlad",4,4,"H",null,null,null,{"$f":"catp","v":4}]
[4321,"Istrate Victor","Barlad",4,4,"H",null,null,null,{"$f":"catp","v":4}]
[4322,"Paval Vlad Florin","Harlau",4,4,"H",null,null,null,{"$f":"catp","v":4}]
[4323,"Florea Dumitru","Iasi",4,4,"H",null,null,null,{"$f":"catp","v":4}]
[4324,"Sava Dumitru","Fetesti",4,4,"H",null,null,null,{"$f":"catp","v":4}]
[4325,"Enache Ion","Curtea de Arges",4,4,"H",null,null,null,{"$f":"catp","v":4}]
[4326,"Scirlet Stelian","Jaristea",4,4,"H",null,null,null,{"$f":"catp","v":4}]
[4507,"Trascau Ovidiu","Bucuresti",3,4,"H",null,null,null,{"$f":"catp","v":4}]
[4508,"Rujoiu Teodor","Azuga",3,4,"H",null,null,null,{"$f":"catp","v":4}]
[4509,"Oanta Flavian","Alexandria",3,4,"H",null,null,null,{"$f":"catp","v":4}]
[4510,"Halamaghe Dan Catalin","Tulcea",3,4,"H",null,null,null,{"$f":"catp","v":4}]
[4511,"Diaconu Vasile Iliuta","Izvoarele",3,4,"H",null,null,null,{"$f":"catp","v":4}]
[4512,"Petrisor Mihai Marinel","Sibiu",3,4,"H",null,null,null,{"$f":"catp","v":4}]
[4513,"Dancu Luminita","Sibiu",3,4,"HF",null,null,null,{"$f":"catp","v":4}]
[2522,"Moroldi Antonio","Targu Mures",33.4,3.99,"H",null,null,null,{"$f":"catp","v":4}]
[2751,"Mares Andrei","Bucuresti",25.6,3.98,"H",null,null,null,{"$f":"catp","v":4}]
[3442,"Ceausescu Rebeca","Pitesti",12.1,3.97,"HF",null,null,null,{"$f":"catp","v":4}]
[3403,"Pruna Cristian","Ploiesti",12.6,3.95,"H",null,null,null,{"$f":"catp","v":4}]
[3491,"Bogdan Daniel","Sibiu",11.5,3.95,"H",null,null,null,{"$f":"catp","v":4}]
[3793,"Itcus Marian","Sucevita",7.9,3.95,"H",null,null,null,{"$f":"catp","v":4}]
[2196,"Grigore Mihai","Bucuresti",46.8,3.94,"H",null,null,null,{"$f":"catp","v":4}]
[2670,"Andrei Alin","Nasaud",28.1,3.92,"H",null,null,null,{"$f":"catp","v":4}]
[2964,"Prisacaru Razvan","Iasi",20.7,3.9,"H",null,null,null,{"$f":"catp","v":4}]
[3216,"Radu Gabriel Bogdan","Sibiu",15.4,3.9,"H",null,null,null,{"$f":"catp","v":4}]
[3580,"Stanciu Mario Andrei","Fieni",10.5,3.9,"H",null,null,null,{"$f":"catp","v":4}]
[3591,"Bradu Georgel","Barlad",10.3,3.9,"H",null,null,null,{"$f":"catp","v":4}]
[3804,"Isumbeli Afanasii","Moldova-Cahul",7.8,3.9,"H",null,null,null,{"$f":"catp","v":4}]
[3846,"Gavrilescu Petru Albert","Vaslui",7.2,3.9,"H",null,null,null,{"$f":"catp","v":4}]
[4514,"Herte Cristian","Oradea",3,3.9,"H",null,null,null,{"$f":"catp","v":4}]
[2756,"Moldovan Alexandru","Nasaud",25.5,3.88,"H",null,null,null,{"$f":"catp","v":4}]
[3194,"Enache Cristian","Bucuresti",15.9,3.88,"H",null,null,null,{"$f":"catp","v":4}]
[2510,"Mesaros Ovidiu","Valenii de Munte",33.9,3.87,"H",null,null,null,{"$f":"catp","v":4}]
[3319,"Lucineti Gabriel","Sighetu Marmatiei",13.9,3.87,"H",null,null,null,{"$f":"catp","v":4}]
[3622,"Negrila Marius","Mioveni",10,3.87,"H",null,null,null,{"$f":"catp","v":4}]
[2469,"Andrei Cornel","Nasaud",35.200000000000003,3.86,"H",null,null,null,{"$f":"catp","v":4}]
[3926,"Cretu Ionut","Bacau",6.4,3.85,"H",null,null,null,{"$f":"catp","v":4}]
[3198,"Paun Carmen","Alexandria",15.8,3.83,"HF",null,null,null,{"$f":"catp","v":4}]
[3217,"Oana Alexandru","Barlad",15.4,3.83,"H",null,null,null,{"$f":"catp","v":4}]
[3592,"Dobre Nicolae","Alesd",10.3,3.83,"H",null,null,null,{"$f":"catp","v":4}]
[2403,"Acu Rares","Bucuresti",37.5,3.81,"H",null,null,null,{"$f":"catp","v":4}]
[2653,"Petrut Luminita","Targu Mures",28.6,3.8,"HF",null,null,null,{"$f":"catp","v":4}]
[3550,"Moldovan Claudiu","Dej",10.9,3.8,"H",null,null,null,{"$f":"catp","v":4}]
[3820,"Iosca Sandu","Bucuresti",7.6,3.8,"H",null,null,null,{"$f":"catp","v":4}]
[3912,"Bozga Codrin","Vatra Dornei",6.5,3.8,"H",null,null,null,{"$f":"catp","v":4}]
[3989,"Daia Cristina","Bucuresti",5.7,3.8,"HF",null,null,null,{"$f":"catp","v":4}]
[4385,"Draghin Florin","Caransebes",3.8,3.8,"H",null,null,null,{"$f":"catp","v":4}]
[4386,"Velcea Rebeca","Bucuresti",3.8,3.8,"HF",null,null,null,{"$f":"catp","v":4}]
[4387,"Tudosie David","Ploiesti",3.8,3.8,"H",null,null,null,{"$f":"catp","v":4}]
[4586,"Caraman Ionel","Tulcea",2.9,3.8,"H",null,null,null,{"$f":"catp","v":4}]
[4587,"Krempels Peter","Bucuresti",2.9,3.8,"H",null,null,null,{"$f":"catp","v":4}]
[4588,"Lica Luca","Slatina",2.9,3.8,"H",null,null,null,{"$f":"catp","v":4}]
[4589,"Antonie Matei","Slatina",2.9,3.8,"H",null,null,null,{"$f":"catp","v":4}]
[4590,"Rosca Matei","Vicov",2.9,3.8,"H",null,null,null,{"$f":"catp","v":4}]
[4591,"Lazareanu Ilie","Partestii de Jos",2.9,3.8,"H",null,null,null,{"$f":"catp","v":4}]
[4592,"Tofan Sebastian","Lipova",2.9,3.8,"H",null,null,null,{"$f":"catp","v":4}]
[4593,"Bulgaria Dan","Deva",2.9,3.8,"H",null,null,null,{"$f":"catp","v":4}]
[4594,"Slupetchi Victor Gabriel","Brasov",2.9,3.8,"H",null,null,null,{"$f":"catp","v":4}]
[3032,"Ispas Marius","Sebes",19,3.78,"H",null,null,null,{"$f":"catp","v":4}]
[3077,"Cristea Cristian Claudiu","Blaj",18.2,3.77,"H",null,null,null,{"$f":"catp","v":4}]
[3185,"Radovan Dusan","Timisoara",16.100000000000001,3.75,"H",null,null,null,{"$f":"catp","v":4}]
[3650,"Szocs Gaspar","Gheorgheni",9.5,3.75,"H",null,null,null,{"$f":"catp","v":4}]
[3651,"Barboiu Adrian","Curtea de Arges",9.5,3.75,"H",null,null,null,{"$f":"catp","v":4}]
[3652,"Burechita Marian","Vaslui",9.5,3.75,"H",null,null,null,{"$f":"catp","v":4}]
[3810,"Fota Cosmin","Buftea",7.7,3.75,"H",null,null,null,{"$f":"catp","v":4}]
[3847,"Cristian Enache","Bucuresti",7.2,3.75,"H",null,null,null,{"$f":"catp","v":4}]
[3932,"Costin Filip","Iasi",6.3,3.75,"H",null,null,null,{"$f":"catp","v":4}]
[3990,"Hirleata Andrei","Bucuresti",5.7,3.75,"H",null,null,null,{"$f":"catp","v":4}]
[2894,"Ispas Cristian","Sebes",22.3,3.74,"H",null,null,null,{"$f":"catp","v":4}]
[3087,"Taschina Petru","Barlad",17.899999999999999,3.73,"H",null,null,null,{"$f":"catp","v":4}]
[3565,"Ion Ion","Ploiesti",10.7,3.73,"H",null,null,null,{"$f":"catp","v":4}]
[3335,"Irimia Viorel","Comanesti",13.6,3.7,"H",null,null,null,{"$f":"catp","v":4}]
[3369,"Stegariu Vladut","Iasi",13.2,3.7,"H",null,null,null,{"$f":"catp","v":4}]
[3933,"Bugariu Teodora","Lugoj",6.3,3.7,"HF",null,null,null,{"$f":"catp","v":4}]
[3991,"Bighiu Florin","Tecuci",5.7,3.7,"H",null,null,null,{"$f":"catp","v":4}]
[4390,"Constantin Ciprian","Buzau",3.7,3.7,"H",null,null,null,{"$f":"catp","v":4}]
[4391,"Ilie Viorel","Matca",3.7,3.7,"H",null,null,null,{"$f":"catp","v":4}]
[4392,"Trif Radu","Ludus",3.7,3.7,"H",null,null,null,{"$f":"catp","v":4}]
[4600,"Bobocea Teodor","Buzau",2.8,3.7,"H",null,null,null,{"$f":"catp","v":4}]
[4601,"Sevastita Sebastian","Buzau",2.8,3.7,"H",null,null,null,{"$f":"catp","v":4}]
[3006,"Radu Eric","Brasov",19.600000000000001,3.68,"H",null,null,null,{"$f":"catp","v":4}]
[2918,"Oprita Miruna","Nasaud",21.7,3.65,"HF",null,null,null,{"$f":"catp","v":4}]
[3336,"Ungureanu Adrian","Piatra Neamt",13.6,3.65,"H",null,null,null,{"$f":"catp","v":4}]
[3635,"Petrescu Alin","Hateg",9.8000000000000007,3.65,"H",null,null,null,{"$f":"catp","v":4}]
[3671,"Balan Cristian","Tecuci",9.3000000000000007,3.65,"H",null,null,null,{"$f":"catp","v":4}]
[3895,"Sas Gabriel","Timisoara",6.7,3.65,"H",null,null,null,{"$f":"catp","v":4}]
[2361,"Stavarache Cornel","Targoviste",39.299999999999997,3.63,"H",null,null,null,{"$f":"catp","v":4}]
[3604,"Popov Alexandr","Moldova-Balti",10.1,3.63,"H",null,null,null,{"$f":"catp","v":4}]
[2752,"Cozma Maria","Dej",25.6,3.6,"HF",null,null,null,{"$f":"catp","v":4}]
[2839,"Soare Aurel","Targoviste",23.6,3.6,"H",null,null,null,{"$f":"catp","v":4}]
[3208,"Bzovii Teodora","Moldova-Cahul",15.6,3.6,"HF",null,null,null,{"$f":"catp","v":4}]
[3478,"Moldovan Ionut","Agnita",11.7,3.6,"H",null,null,null,{"$f":"catp","v":4}]
[3643,"Burian Alexandru","Cluj Napoca",9.6,3.6,"H",null,null,null,{"$f":"catp","v":4}]
[3848,"Cuznetova Polina","Moldova-Comrat",7.2,3.6,"HF",null,null,null,{"$f":"catp","v":4}]
[3849,"Nita Dorel","Urleta",7.2,3.6,"H",null,null,null,{"$f":"catp","v":4}]
[3999,"Soare Bogdan","Targoviste",5.6,3.6,"H",null,null,null,{"$f":"catp","v":4}]
[4000,"Petrici Sergiu","Calan",5.6,3.6,"H",null,null,null,{"$f":"catp","v":4}]
[4034,"Mandrean Gabriel","Hunedoara",5.4,3.6,"H",null,null,null,{"$f":"catp","v":4}]
[4400,"Draganescu Laurentiu","Pascani",3.6,3.6,"H",null,null,null,{"$f":"catp","v":4}]
[4401,"Bran Miruna","Buhusi",3.6,3.6,"H",null,null,null,{"$f":"catp","v":4}]
[4402,"Cotet George","Pascani",3.6,3.6,"H",null,null,null,{"$f":"catp","v":4}]
[4403,"Corozel Vasile","Barlad",3.6,3.6,"H",null,null,null,{"$f":"catp","v":4}]
[4404,"Dascalu Matei","Buhusi",3.6,3.6,"H",null,null,null,{"$f":"catp","v":4}]
[4405,"Apreotesei Alex","Piatra Neamt",3.6,3.6,"H",null,null,null,{"$f":"catp","v":4}]
[4406,"Argesanu Johnny","Barlad",3.6,3.6,"H",null,null,null,{"$f":"catp","v":4}]
[4407,"Virticosu Teodor","Pascani",3.6,3.6,"H",null,null,null,{"$f":"catp","v":4}]
[4408,"Sava Catalin","Iasi",3.6,3.6,"H",null,null,null,{"$f":"catp","v":4}]
[4603,"Nesta Claudiu","Bucuresti",2.7,3.6,"H",null,null,null,{"$f":"catp","v":4}]
[2070,"Tobosaru Stefan","Brasov",53.6,3.58,"H",null,null,null,{"$f":"catp","v":4}]
[3398,"Stanescu Ladislau","Hunedoara",12.7,3.58,"H",null,null,null,{"$f":"catp","v":4}]
[3203,"Hreamata Sorin","Pascani",15.7,3.57,"H",null,null,null,{"$f":"catp","v":4}]
[2816,"Borodi Levi","Dobric",24,3.55,"H",null,null,null,{"$f":"catp","v":4}]
[3851,"Pich Ioan","Viseu",7.1,3.55,"H",null,null,null,{"$f":"catp","v":4}]
[3852,"Derzsi Gabor","Hunedoara",7.1,3.55,"H",null,null,null,{"$f":"catp","v":4}]
[3913,"Telman Matei","Deva",6.5,3.55,"H",null,null,null,{"$f":"catp","v":4}]
[3114,"Gonzales Levi","Deva",17.5,3.53,"H",null,null,null,{"$f":"catp","v":4}]
[2444,"Domnescu Mirela","Iasi",36.200000000000003,3.52,"HF",null,null,null,{"$f":"catp","v":4}]
[3492,"Arhip George","Botosani",11.5,3.5,"H",null,null,null,{"$f":"catp","v":4}]
[3672,"Budusan Claudiu","Dej",9.3000000000000007,3.5,"H",null,null,null,{"$f":"catp","v":4}]
[3699,"Constantin Andrei","Buzau",9,3.5,"H",null,null,null,{"$f":"catp","v":4}]
[3862,"Barabas Victor","Suceava",7,3.5,"H",null,null,null,{"$f":"catp","v":4}]
[3914,"Craciun Rafael","Videle",6.5,3.5,"H",null,null,null,{"$f":"catp","v":4}]
[3963,"Dansolean Stefan","Cluj Napoca",6,3.5,"H",null,null,null,{"$f":"catp","v":4}]
[3974,"Antonescu Nicolae","Pitesti",5.9,3.5,"H",null,null,null,{"$f":"catp","v":4}]
[3981,"Baluta Vlad","Buhusi",5.8,3.5,"H",null,null,null,{"$f":"catp","v":4}]
[3982,"Pop Radu","Hunedoara",5.8,3.5,"H",null,null,null,{"$f":"catp","v":4}]
[3983,"Marinescu Ioana","Bucuresti",5.8,3.5,"HF",null,null,null,{"$f":"catp","v":4}]
[4051,"Nicu Luca Stefan","Ramnicu Valcea",5.3,3.5,"H",null,null,null,{"$f":"catp","v":4}]
[4410,"Buda Nelu","Arad",3.5,3.5,"H",null,null,null,{"$f":"catp","v":4}]
[4411,"Codin Mihai","Bucuresti",3.5,3.5,"H",null,null,null,{"$f":"catp","v":4}]
[4412,"Sipos Ina","Arad",3.5,3.5,"HF",null,null,null,{"$f":"catp","v":4}]
[4413,"Coica Laurentia","Iasi",3.5,3.5,"HF",null,null,null,{"$f":"catp","v":4}]
[4414,"Voicu Mihai","Bucuresti",3.5,3.5,"H",null,null,null,{"$f":"catp","v":4}]
[4415,"Nyanzeh Eric","Bucuresti",3.5,3.5,"H",null,null,null,{"$f":"catp","v":4}]
[4416,"Oprea Ovidiu","Calan",3.5,3.5,"H",null,null,null,{"$f":"catp","v":4}]
[4417,"Lucky Cristina","Comanesti",3.5,3.5,"HF",null,null,null,{"$f":"catp","v":4}]
[4418,"Mocanu Gabriel Iustin","Bacau",3.5,3.5,"H",null,null,null,{"$f":"catp","v":4}]
[4419,"Neagu Dumitru","Branceni",3.5,3.5,"H",null,null,null,{"$f":"catp","v":4}]
[4420,"Terteci Ilie Alin","Ramnicu Valcea",3.5,3.5,"H",null,null,null,{"$f":"catp","v":4}]
[4421,"Petrean Calin Filip","Arad",3.5,3.5,"H",null,null,null,{"$f":"catp","v":4}]
[4422,"Luca Sorin","Arad",3.5,3.5,"H",null,null,null,{"$f":"catp","v":4}]
[4423,"Cotruta Alexandru Florin","Vaslui",3.5,3.5,"H",null,null,null,{"$f":"catp","v":4}]
[4424,"Chelaru Tudor","Iasi",3.5,3.5,"H",null,null,null,{"$f":"catp","v":4}]
[4425,"Oliusceac Arina","Moldova-Balti",3.5,3.5,"HF",null,null,null,{"$f":"catp","v":4}]
[4426,"Terzi Vasili","Moldova-Ceadir-Lunga",3.5,3.5,"H",null,null,null,{"$f":"catp","v":4}]
[4427,"Pascov Stepan","Moldova-Tvardita",3.5,3.5,"H",null,null,null,{"$f":"catp","v":4}]
[4428,"Samoila Georgel","Bucuresti",3.5,3.5,"H",null,null,null,{"$f":"catp","v":4}]
[4429,"Enescu Robert","Bucuresti",3.5,3.5,"H",null,null,null,{"$f":"catp","v":4}]
[4430,"Comanoiu Claudiu","Bucuresti",3.5,3.5,"H",null,null,null,{"$f":"catp","v":4}]
[4604,"Vasile Augustin","Brasov",2.7,3.5,"H",null,null,null,{"$f":"catp","v":4}]
[4605,"Nicolae Dana Gabriela","Brasov",2.7,3.5,"HF",null,null,null,{"$f":"catp","v":4}]
[4606,"Mocanu Constantin","Muncel",2.7,3.5,"H",null,null,null,{"$f":"catp","v":4}]
[4607,"Petrean Liviu","Zalau",2.7,3.5,"H",null,null,null,{"$f":"catp","v":4}]
[4608,"Stoica Denis Andrei","Alexandria",2.7,3.5,"H",null,null,null,{"$f":"catp","v":4}]
[4609,"Hadar Onisim","Chiuza",2.7,3.5,"H",null,null,null,{"$f":"catp","v":4}]
[4610,"Solomon Milan","Cluj Napoca",2.7,3.5,"H",null,null,null,{"$f":"catp","v":4}]
[4611,"Micula Bogdan","Saliste de Vascau",2.7,3.5,"H",null,null,null,{"$f":"catp","v":4}]
[4612,"Tirla Madalin","Stei",2.7,3.5,"H",null,null,null,{"$f":"catp","v":4}]
[2689,"Popescu Alex","Hateg",27.6,3.49,"H",null,null,null,{"$f":"catp","v":4}]
[3708,"Istratescu Albert Mihai","Targoviste",8.9,3.45,"H",null,null,null,{"$f":"catp","v":4}]
[3934,"Salmanov Serghei","Moldova-Balti",6.3,3.45,"H",null,null,null,{"$f":"catp","v":4}]
[4063,"Spereatu Darius","Dobrotesti",5.2,3.45,"H",null,null,null,{"$f":"catp","v":4}]
[3501,"Longauer Tiberiu","Brasov",11.4,3.43,"H",null,null,null,{"$f":"catp","v":4}]
[3587,"Stanciu Alexander","Vatra Dornei",10.4,3.43,"H",null,null,null,{"$f":"catp","v":4}]
[3709,"Zaharia Danut","Braila",8.9,3.43,"H",null,null,null,{"$f":"catp","v":4}]
[2983,"Risteiu Paul","Alba Iulia",20.2,3.4,"H",null,null,null,{"$f":"catp","v":4}]
[3457,"Lienerth Markus","Sibiu",11.9,3.4,"H",null,null,null,{"$f":"catp","v":4}]
[3710,"Neica Sorin","Brasov",8.9,3.4,"H",null,null,null,{"$f":"catp","v":4}]
[3805,"Lupu Gabriel Ionel","Piatra Neamt",7.8,3.4,"H",null,null,null,{"$f":"catp","v":4}]
[3853,"Balan David Andrei","Targu Jiu",7.1,3.4,"H",null,null,null,{"$f":"catp","v":4}]
[3889,"Dumitrescu Mihai","Slobozia",6.8,3.4,"H",null,null,null,{"$f":"catp","v":4}]
[3935,"Petrisor Alexandru","Craiova",6.3,3.4,"H",null,null,null,{"$f":"catp","v":4}]
[3975,"Iosca George","Bucuresti",5.9,3.4,"H",null,null,null,{"$f":"catp","v":4}]
[4001,"Avram Marius","Pitesti",5.6,3.4,"H",null,null,null,{"$f":"catp","v":4}]
[4002,"Ianc Bogdan","Floresti",5.6,3.4,"H",null,null,null,{"$f":"catp","v":4}]
[4003,"Cazac Abel","Radauti",5.6,3.4,"H",null,null,null,{"$f":"catp","v":4}]
[4035,"Necula Florin","Straoane",5.4,3.4,"H",null,null,null,{"$f":"catp","v":4}]
[4080,"Rudy Vrany","Targu Jiu",5.0999999999999996,3.4,"H",null,null,null,{"$f":"catp","v":4}]
[4466,"Cristea Gabriel","Straoane",3.4,3.4,"H",null,null,null,{"$f":"catp","v":4}]
[4467,"Suru Mihai","Hunedoara",3.4,3.4,"H",null,null,null,{"$f":"catp","v":4}]
[4468,"Dabucean Matei","Hateg",3.4,3.4,"H",null,null,null,{"$f":"catp","v":4}]
[3522,"Raducanu Kevin Ionut","Targoviste",11.2,3.38,"H",null,null,null,{"$f":"catp","v":4}]
[3551,"Soldan Maxim","Cajvana",10.9,3.37,"H",null,null,null,{"$f":"catp","v":4}]
[3413,"Radu Albert","Brasov",12.5,3.35,"H",null,null,null,{"$f":"catp","v":4}]
[3821,"Crisan Patrik","Oradea",7.6,3.35,"H",null,null,null,{"$f":"catp","v":4}]
[2717,"Parvan Dumitru","Deva",26.6,3.34,"H",null,null,null,{"$f":"catp","v":4}]
[3033,"Maris Andrei","Piatra Neamt",19,3.33,"H",null,null,null,{"$f":"catp","v":4}]
[3468,"Vrasti Timeea","Ploiesti",11.8,3.33,"HF",null,null,null,{"$f":"catp","v":4}]
[3523,"Paul Marian","Gherla",11.2,3.33,"H",null,null,null,{"$f":"catp","v":4}]
[3337,"Dumitrascu Alin","Buzau",13.6,3.3,"H",null,null,null,{"$f":"catp","v":4}]
[3784,"Illyes Elemer","Ditrau",8.1,3.3,"H",null,null,null,{"$f":"catp","v":4}]
[4004,"Balcan Gigi","Buhusi",5.6,3.3,"H",null,null,null,{"$f":"catp","v":4}]
[4052,"Neagu Alexandru","Bucuresti",5.3,3.3,"H",null,null,null,{"$f":"catp","v":4}]
[4487,"Pop Vasile","Dej",3.3,3.3,"H",null,null,null,{"$f":"catp","v":4}]
[4488,"Aga Dan","Putna",3.3,3.3,"H",null,null,null,{"$f":"catp","v":4}]
[4489,"Tataranu Daniel","Slatina",3.3,3.3,"H",null,null,null,{"$f":"catp","v":4}]
[4490,"Serban Marius","Vaslui",3.3,3.3,"H",null,null,null,{"$f":"catp","v":4}]
[4491,"Pintilie Cristi","Vaslui",3.3,3.3,"H",null,null,null,{"$f":"catp","v":4}]
[4492,"Popa Vasile","Vaslui",3.3,3.3,"H",null,null,null,{"$f":"catp","v":4}]
[4493,"Tataru Alexandru","Vaslui",3.3,3.3,"H",null,null,null,{"$f":"catp","v":4}]
[4618,"Cheranu Alex","Ramnicu Valcea",2.5,3.3,"H",null,null,null,{"$f":"catp","v":4}]
[4619,"Moise Daniel","Mioveni",2.5,3.3,"H",null,null,null,{"$f":"catp","v":4}]
[4620,"Coroama Mircea","Suceava",2.5,3.3,"H",null,null,null,{"$f":"catp","v":4}]
[3737,"Gurita Ionut","Tulcea",8.6,3.27,"H",null,null,null,{"$f":"catp","v":4}]
[3747,"Popa Romica","Pascani",8.5,3.25,"H",null,null,null,{"$f":"catp","v":4}]
[3915,"Blahuta Luca","Alesd",6.5,3.25,"H",null,null,null,{"$f":"catp","v":4}]
[3992,"Tobol Arsenii","Moldova-Balti",5.7,3.25,"H",null,null,null,{"$f":"catp","v":4}]
[4036,"Rezus Oana","Sibiu",5.4,3.25,"HF",null,null,null,{"$f":"catp","v":4}]
[4192,"Andrei Radu","Tulcea",4.9000000000000004,3.25,"H",null,null,null,{"$f":"catp","v":4}]
[3524,"Blaga Alexandru","Iasi",11.2,3.2,"H",null,null,null,{"$f":"catp","v":4}]
[3653,"Coca Mircea","Topoloveni",9.5,3.2,"H",null,null,null,{"$f":"catp","v":4}]
[3654,"Marin Costel","Cateasca",9.5,3.2,"H",null,null,null,{"$f":"catp","v":4}]
[3881,"Sorin Iulian","Bucuresti",6.9,3.2,"H",null,null,null,{"$f":"catp","v":4}]
[3993,"Rugina Mihail","Bucuresti",5.7,3.2,"H",null,null,null,{"$f":"catp","v":4}]
[4210,"Floca Raul","Sibiu",4.8,3.2,"H",null,null,null,{"$f":"catp","v":4}]
[4496,"Aldea Adrian","Ploiesti",3.2,3.2,"H",null,null,null,{"$f":"catp","v":4}]
[4497,"Pana Bogdan","Ploiesti",3.2,3.2,"H",null,null,null,{"$f":"catp","v":4}]
[4498,"Ceolca Robert","Sibiu",3.2,3.2,"H",null,null,null,{"$f":"catp","v":4}]
[4678,"Stan Adrian","Brasov",2.4,3.2,"H",null,null,null,{"$f":"catp","v":4}]
[4679,"Varzaru Alexandru","Bucuresti",2.4,3.2,"H",null,null,null,{"$f":"catp","v":4}]
[4680,"Petric Mihai","Dej",2.4,3.2,"H",null,null,null,{"$f":"catp","v":4}]
[4681,"Cernea Andrei","Targoviste",2.4,3.2,"H",null,null,null,{"$f":"catp","v":4}]
[4682,"Balan Andrei Tiberiu","Timisoara",2.4,3.2,"H",null,null,null,{"$f":"catp","v":4}]
[2588,"Dutu Constantin","Galati",31.1,3.18,"H",null,null,null,{"$f":"catp","v":4}]
[3146,"Marcu Paul","Sibiu",16.8,3.18,"H",null,null,null,{"$f":"catp","v":4}]
[3385,"Teaca Gabriel","Rosiori de Vede",12.9,3.15,"H",null,null,null,{"$f":"catp","v":4}]
[3936,"Corbeanu David","Slatina",6.3,3.15,"H",null,null,null,{"$f":"catp","v":4}]
[3937,"Buica Elias","Hateg",6.3,3.15,"H",null,null,null,{"$f":"catp","v":4}]
[3984,"Fulop Lehel","Sovata",5.8,3.15,"H",null,null,null,{"$f":"catp","v":4}]
[4211,"Preda Rares","Bals",4.8,3.15,"H",null,null,null,{"$f":"catp","v":4}]
[2757,"Varga Codrut","Luna CJ",25.5,3.1,"H",null,null,null,{"$f":"catp","v":4}]
[3561,"Stefan Mihai","Craiova",10.8,3.1,"H",null,null,null,{"$f":"catp","v":4}]
[3940,"David Andrei","Slobozia",6.2,3.1,"H",null,null,null,{"$f":"catp","v":4}]
[3994,"Telecan Mircea Vasile","Apahida",5.7,3.1,"H",null,null,null,{"$f":"catp","v":4}]
[4014,"Duman Constantin","Alexandria",5.5,3.1,"H",null,null,null,{"$f":"catp","v":4}]
[4683,"Pena Marian","Bucuresti",2.4,3.1,"H",null,null,null,{"$f":"catp","v":4}]
[3726,"Szekely Claudia","Targu Mures",8.6999999999999993,3.07,"HF",null,null,null,{"$f":"catp","v":4}]
[3811,"Zorila Victor","Craiova",7.7,3.07,"H",null,null,null,{"$f":"catp","v":4}]
[3233,"Maranceac Victoria","Moldova-Balti",15.1,3.05,"HF",null,null,null,{"$f":"catp","v":4}]
[3822,"Portik Matyas","Miercurea Ciuc",7.6,3.05,"H",null,null,null,{"$f":"catp","v":4}]
[3949,"Astefanoaie Bogdan","Pascani",6.1,3.05,"H",null,null,null,{"$f":"catp","v":4}]
[4015,"Chitigoi Gabriel","Buhusi",5.5,3.05,"H",null,null,null,{"$f":"catp","v":4}]
[4081,"Vatavu Eduard","Coarnele Caprei",5.0999999999999996,3.05,"H",null,null,null,{"$f":"catp","v":4}]
[4237,"Nitulescu Bogdan","Sibiu",4.5999999999999996,3.05,"H",null,null,null,{"$f":"catp","v":4}]
[3528,"Mateut Ionut","Zalau",11.1,3.03,"H",null,null,null,{"$f":"catp","v":4}]
[3562,"Miron Gheorghe","Bucuresti",10.8,3.03,"H",null,null,null,{"$f":"catp","v":4}]
[3581,"Vescan Lucian","Cluj Napoca",10.5,3,"H",null,null,null,{"$f":"catp","v":4}]
[3806,"Lantos Monica","Targu Mures",7.8,3,"HF",null,null,null,{"$f":"catp","v":4}]
[3831,"Bodea Cezar","Alesd",7.5,3,"H"]
[3927,"Kozi Zoltan Szabolcs","Brasov",6.4,3,"H",null,null,null,{"$f":"catp","v":4}]
[3964,"Deaconu Lucian","Curtea de Arges",6,3,"H",null,null,null,{"$f":"catp","v":4}]
[3965,"Corniet Nicolai","Moldova-Balti",6,3,"H",null,null,null,{"$f":"catp","v":4}]
[4053,"Stoian Gabriel","Alexandria",5.3,3,"H",null,null,null,{"$f":"catp","v":4}]
[4172,"Zamfir Stefan","Urlati",5,3,"H",null,null,null,{"$f":"catp","v":4}]
[4173,"Birloncea Claudiu","Medias",5,3,"H",null,null,null,{"$f":"catp","v":4}]
[4174,"Vasilache Lucica","Barlad",5,3,"H",null,null,null,{"$f":"catp","v":4}]
[4175,"Borbeiu Paul","Baia Mare",5,3,"H",null,null,null,{"$f":"catp","v":4}]
[4252,"Apostol Valentin","Alexandria",4.5,3,"H",null,null,null,{"$f":"catp","v":4}]
[4253,"Sisu Florian","Alexandria",4.5,3,"H",null,null,null,{"$f":"catp","v":4}]
[4515,"Piscoiu Viorel","Buzias",3,3,"H",null,null,null,{"$f":"catp","v":4}]
[4516,"Maciuc Sorin","Suceava",3,3,"H",null,null,null,{"$f":"catp","v":4}]
[4517,"Hriban Stefan","Viseu",3,3,"H",null,null,null,{"$f":"catp","v":4}]
[4518,"Suhan George","Curtea de Arges",3,3,"H",null,null,null,{"$f":"catp","v":4}]
[4519,"Stoia Alesia","Timisoara",3,3,"HF",null,null,null,{"$f":"catp","v":4}]
[4520,"Voicu Mihai","Ploiesti",3,3,"H",null,null,null,{"$f":"catp","v":4}]
[4521,"Ternauciuc Octavian","Nadrag",3,3,"H",null,null,null,{"$f":"catp","v":4}]
[4522,"Rusu Stefan","Deva",3,3,"H",null,null,null,{"$f":"catp","v":4}]
[4523,"Lazar Bogdan","Nasaud",3,3,"H",null,null,null,{"$f":"catp","v":4}]
[4524,"Dragomir Iulian","Targoviste",3,3,"H",null,null,null,{"$f":"catp","v":4}]
[4525,"Tonu Pavel","Moldova-Balti",3,3,"H",null,null,null,{"$f":"catp","v":4}]
[4526,"Balan Norocel","Bucuresti",3,3,"H",null,null,null,{"$f":"catp","v":4}]
[4527,"Muresan Mihai","Malut",3,3,"H",null,null,null,{"$f":"catp","v":4}]
[4528,"Salgau Viorel","Barlad",3,3,"H",null,null,null,{"$f":"catp","v":4}]
[4529,"Kaposta Dominic","Arad",3,3,"H",null,null,null,{"$f":"catp","v":4}]
[4530,"Bocea Georgia","Dumbravita",3,3,"HF",null,null,null,{"$f":"catp","v":4}]
[4531,"Caruntu David","Dumbravita",3,3,"H",null,null,null,{"$f":"catp","v":4}]
[4532,"Moraru Marcel","Timisoara",3,3,"H",null,null,null,{"$f":"catp","v":4}]
[4533,"Carabas Adrian","Timisoara",3,3,"H",null,null,null,{"$f":"catp","v":4}]
[4534,"Caruntu Razvan","Dumbravita",3,3,"H",null,null,null,{"$f":"catp","v":4}]
[4535,"Doda Cosmin","Chisineu Cris",3,3,"H",null,null,null,{"$f":"catp","v":4}]
[4536,"Gheorghiasa Catalin","Sighisoara",3,3,"H",null,null,null,{"$f":"catp","v":4}]
[4537,"Felicia Persida","Baia Mare",3,3,"HF",null,null,null,{"$f":"catp","v":4}]
[4538,"Dobrea Nicolae","Alesd",3,3,"H"]
[4539,"Dobai Patricia","Alesd",3,3,"HF",null,null,null,{"$f":"catp","v":4}]
[4540,"Popescu Tudor","Cluj Napoca",3,3,"H",null,null,null,{"$f":"catp","v":4}]
[4541,"Chirita Ion","Frasinet",3,3,"H",null,null,null,{"$f":"catp","v":4}]
[4542,"Ciobanu Edi","Lugoj",3,3,"H",null,null,null,{"$f":"catp","v":4}]
[4543,"Calin Cosmin","Navodari",3,3,"H",null,null,null,{"$f":"catp","v":4}]
[4544,"Ditu Constantin","Tulcea",3,3,"H",null,null,null,{"$f":"catp","v":4}]
[4545,"Eftinoiu Andri","Ploiesti",3,3,"H",null,null,null,{"$f":"catp","v":4}]
[4546,"Manea Florin","Fetesti",3,3,"H",null,null,null,{"$f":"catp","v":4}]
[4547,"Dosoftei Kevin","Arad",3,3,"H",null,null,null,{"$f":"catp","v":4}]
[4548,"Ionica Marian","Curtea de Arges",3,3,"H",null,null,null,{"$f":"catp","v":4}]
[4549,"Roman Jon","Vlajkovac",3,3,"H",null,null,null,{"$f":"catp","v":4}]
[4550,"Stankovic Marko","Kumane",3,3,"H",null,null,null,{"$f":"catp","v":4}]
[4551,"Cocerva Nica","Moldova-Balti",3,3,"H",null,null,null,{"$f":"catp","v":4}]
[4552,"Lungu Tatiana","Moldova-Balti",3,3,"HF",null,null,null,{"$f":"catp","v":4}]
[4553,"Crasnojon Alexandra","Moldova-Balti",3,3,"HF",null,null,null,{"$f":"catp","v":4}]
[4554,"Cravcenco Dmitrii","Ucraina-Kiev",3,3,"H",null,null,null,{"$f":"catp","v":4}]
[4555,"Popa Gheorghe","Brasov",3,3,"H",null,null,null,{"$f":"catp","v":4}]
[4556,"Tudose Laurentiu","Comanesti",3,3,"H",null,null,null,{"$f":"catp","v":4}]
[4557,"Neculai Robert Haisuc","Iasi",3,3,"H",null,null,null,{"$f":"catp","v":4}]
[4558,"Moldovan Petrut Sorin","Beclean",3,3,"H",null,null,null,{"$f":"catp","v":4}]
[4559,"Munteanu Mariana","Moldova-Cahul",3,3,"HF",null,null,null,{"$f":"catp","v":4}]
[4560,"Bosbiciu Stefan","Nasaud",3,3,"H",null,null,null,{"$f":"catp","v":4}]
[4561,"Dunca Andrei","Viseu",3,3,"H",null,null,null,{"$f":"catp","v":4}]
[4562,"Pop Alexandru","Viseu",3,3,"H",null,null,null,{"$f":"catp","v":4}]
[4563,"Galban Dorel","Viseu",3,3,"H",null,null,null,{"$f":"catp","v":4}]
[4564,"Negulescu Florin Adrian","Bucuresti",3,3,"H",null,null,null,{"$f":"catp","v":4}]
[4565,"Honciu Bogdan","Bucuresti",3,3,"H",null,null,null,{"$f":"catp","v":4}]
[4684,"Radu Adrian","Bucuresti",2.2999999999999998,3,"H",null,null,null,{"$f":"catp","v":4}]
[4685,"Modirca Daniel","Ucraina",2.2999999999999998,3,"H",null,null,null,{"$f":"catp","v":4}]
[4686,"Stetco Teodor","Sighetu Marmatiei",2.2999999999999998,3,"H",null,null,null,{"$f":"catp","v":4}]
[4687,"Furtuna Alexandru","Bacau",2.2999999999999998,3,"H",null,null,null,{"$f":"catp","v":4}]
[4688,"Donca Daniel","Brasov",2.2999999999999998,3,"H",null,null,null,{"$f":"catp","v":4}]
[4689,"Patulea Mirel","Bucuresti",2.2999999999999998,3,"H",null,null,null,{"$f":"catp","v":4}]
[4690,"Nica Sebastian","Bucuresti",2.2999999999999998,3,"H",null,null,null,{"$f":"catp","v":4}]
[4691,"Man Adelin","Targu Mures",2.2999999999999998,3,"H",null,null,null,{"$f":"catp","v":4}]
[4692,"Kalinsky Victor","Ucraina",2.2999999999999998,3,"H",null,null,null,{"$f":"catp","v":4}]
[4693,"Caileanu Patrick","Sibiu",2.2999999999999998,3,"H",null,null,null,{"$f":"catp","v":4}]
[4694,"Matei Vlad","Alexandria",2.2999999999999998,3,"H",null,null,null,{"$f":"catp","v":4}]
[4695,"Degau Toni","Stei",2.2999999999999998,3,"H",null,null,null,{"$f":"catp","v":4}]
[4696,"Filip Marcu","Stei",2.2999999999999998,3,"H",null,null,null,{"$f":"catp","v":4}]
[4697,"Goldis Robert","Stei",2.2999999999999998,3,"H",null,null,null,{"$f":"catp","v":4}]
[4698,"Milos Stefan","Alexandria",2.2999999999999998,3,"H",null,null,null,{"$f":"catp","v":4}]
[4699,"Barbu Marian","Alexandria",2.2999999999999998,3,"H",null,null,null,{"$f":"catp","v":4}]
[4700,"Sandu Liviu Sorinel","Alexandria",2.2999999999999998,3,"H",null,null,null,{"$f":"catp","v":4}]
[3563,"Manciu Adrian","Cluj Napoca",10.8,2.98,"H",null,null,null,{"$f":"catp","v":4}]
[2412,"Lumezeanu Adelina","Bucuresti",37.200000000000003,2.97,"HF",null,null,null,{"$f":"catp","v":4}]
[2829,"Tegzes Angela","Stejeris",23.8,2.97,"HF",null,null,null,{"$f":"catp","v":4}]
[3727,"Popovici Mircea","Caracal",8.6999999999999993,2.97,"H",null,null,null,{"$f":"catp","v":4}]
[3320,"Szep Carolina","Nasaud",13.9,2.95,"HF",null,null,null,{"$f":"catp","v":4}]
[3391,"Muhammad Shehzad","Sibiu",12.8,2.95,"H",null,null,null,{"$f":"catp","v":4}]
[4054,"Filip Patric","Cluj Napoca",5.3,2.95,"H",null,null,null,{"$f":"catp","v":4}]
[4064,"Wagner Max","Arad",5.2,2.95,"H",null,null,null,{"$f":"catp","v":4}]
[2681,"Florean Luca","Lunca Muresului",27.7,2.93,"H",null,null,null,{"$f":"catp","v":4}]
[3807,"Cheranu Alexandru","Ramnicu Valcea",7.8,2.9,"H",null,null,null,{"$f":"catp","v":4}]
[4193,"Bogza Liviu","Botosani",4.9000000000000004,2.9,"H",null,null,null,{"$f":"catp","v":4}]
[4595,"Caldaruse Roland","Craiova",2.9,2.9,"H",null,null,null,{"$f":"catp","v":4}]
[4596,"Dancu Luminita","Medias",2.9,2.9,"HF",null,null,null,{"$f":"catp","v":4}]
[4597,"Cimpoes Bogdan","Moldova",2.9,2.9,"H",null,null,null,{"$f":"catp","v":4}]
[4598,"Boda Horatiu","Sibiu",2.9,2.9,"H",null,null,null,{"$f":"catp","v":4}]
[4599,"Sofronie Robert Cristian","Sibiu",2.9,2.9,"H",null,null,null,{"$f":"catp","v":4}]
[4701,"Mos Florin","Arad",2.2000000000000002,2.9,"H",null,null,null,{"$f":"catp","v":4}]
[3748,"Ionas Radu","Sibiu",8.5,2.87,"H",null,null,null,{"$f":"catp","v":4}]
[2690,"Iliescu Patricia","Snagov",27.6,2.85,"HF",null,null,null,{"$f":"catp","v":4}]
[3271,"Matei Razvan","Sibiu",14.8,2.85,"H",null,null,null,{"$f":"catp","v":4}]
[3995,"Hupca Ricardo","Straoane",5.7,2.85,"H",null,null,null,{"$f":"catp","v":4}]
[4176,"Ilie Mihai Serban","Sibiu",5,2.85,"H",null,null,null,{"$f":"catp","v":4}]
[3882,"Milcica Andrei","Brasov",6.9,2.83,"H",null,null,null,{"$f":"catp","v":4}]
[2762,"Oprinca Mariana","Targu Mures",25.4,2.82,"HF",null,null,null,{"$f":"catp","v":4}]
[3458,"Ilea Daria","Aiud",11.9,2.8,"HF",null,null,null,{"$f":"catp","v":4}]
[3717,"Badea Alexandru","Bucuresti",8.8000000000000007,2.8,"H",null,null,null,{"$f":"catp","v":4}]
[3996,"Crihana Ciprian","Bucuresti",5.7,2.8,"H",null,null,null,{"$f":"catp","v":4}]
[4005,"Grosu Gheorghita","Targu Neamt",5.6,2.8,"H",null,null,null,{"$f":"catp","v":4}]
[4006,"Hategan Nicolae","Alba Iulia",5.6,2.8,"H",null,null,null,{"$f":"catp","v":4}]
[4007,"Astefanoaie David","Pascani",5.6,2.8,"H",null,null,null,{"$f":"catp","v":4}]
[4008,"Zugravu Alexandru","Barlad",5.6,2.8,"H",null,null,null,{"$f":"catp","v":4}]
[4082,"Kovaci Stefan","Buhusi",5.0999999999999996,2.8,"H",null,null,null,{"$f":"catp","v":4}]
[4297,"Armanu Razvan","Bucuresti",4.2,2.8,"H",null,null,null,{"$f":"catp","v":4}]
[4602,"Papiu Lucian","Cluj Napoca",2.8,2.8,"H",null,null,null,{"$f":"catp","v":4}]
[2491,"Milea Darius","Galati",34.4,2.78,"H",null,null,null,{"$f":"catp","v":4}]
[3449,"Bocai Marius","Blaj",12,2.78,"H",null,null,null,{"$f":"catp","v":4}]
[3540,"Pintilie Maria","Iasi",11,2.78,"HF",null,null,null,{"$f":"catp","v":4}]
[3711,"Alexandru Anghel","Bucuresti",8.9,2.77,"H",null,null,null,{"$f":"catp","v":4}]
[3052,"Ilie Radu","Iasi",18.7,2.75,"H",null,null,null,{"$f":"catp","v":4}]
[4016,"Furdui Iulian","Moldova-Balti",5.5,2.75,"H",null,null,null,{"$f":"catp","v":4}]
[4017,"Stancila Luca","Iasi",5.5,2.75,"H",null,null,null,{"$f":"catp","v":4}]
[4194,"Simionov Sebastian","Navodari",4.9000000000000004,2.75,"H",null,null,null,{"$f":"catp","v":4}]
[4220,"Maldaianu Stefan","Alexandria",4.7,2.75,"H",null,null,null,{"$f":"catp","v":4}]
[4298,"Cracanel Gerard Sr","Agnita",4.2,2.75,"H",null,null,null,{"$f":"catp","v":4}]
[4299,"Alexandrescu Cristi","Alexandria",4.2,2.75,"H",null,null,null,{"$f":"catp","v":4}]
[3566,"Gheorghe Eduard","Targoviste",10.7,2.73,"H",null,null,null,{"$f":"catp","v":4}]
[3644,"Bilibok Kristof","Gheorgheni",9.6,2.7,"H",null,null,null,{"$f":"catp","v":4}]
[3645,"Pascariu Andrei Razvan","Iasi",9.6,2.7,"H",null,null,null,{"$f":"catp","v":4}]
[4037,"Iancu Stefan","Hateg",5.4,2.7,"H",null,null,null,{"$f":"catp","v":4}]
[4212,"Stefanescu Alin","Sucevita",4.8,2.7,"H",null,null,null,{"$f":"catp","v":4}]
[4221,"Mladin Rahela","Valenii de Munte",4.7,2.7,"HF",null,null,null,{"$f":"catp","v":4}]
[4613,"Nita Ion","Ploiesti",2.7,2.7,"H",null,null,null,{"$f":"catp","v":4}]
[4614,"Defta Mihai","Iedera",2.7,2.7,"H",null,null,null,{"$f":"catp","v":4}]
[4702,"Campean Cristian","Cluj Napoca",2.1,2.7,"H",null,null,null,{"$f":"catp","v":4}]
[4703,"Buliga Sorin","Cluj Napoca",2.1,2.7,"H",null,null,null,{"$f":"catp","v":4}]
[4704,"Ciocarlan Vlad","Tulcea",2.1,2.7,"H",null,null,null,{"$f":"catp","v":4}]
[4705,"Oniscu Amalia","Constanta",2.1,2.7,"HF",null,null,null,{"$f":"catp","v":4}]
[4706,"Abrudan Cosmin","Apahida",2.1,2.7,"H",null,null,null,{"$f":"catp","v":4}]
[3159,"Fazakas Antal","Suseni",16.600000000000001,2.68,"H",null,null,null,{"$f":"catp","v":4}]
[3588,"Anghelus Flavius","Lipova",10.4,2.67,"H",null,null,null,{"$f":"catp","v":4}]
[3655,"Baldan Eric","Cluj Napoca",9.5,2.67,"H",null,null,null,{"$f":"catp","v":4}]
[3728,"Tarnavean Sorin","Cluj Napoca",8.6999999999999993,2.67,"H",null,null,null,{"$f":"catp","v":4}]
[3260,"Cuzincu Iulian","Bucuresti",15,2.65,"H",null,null,null,{"$f":"catp","v":4}]
[3541,"Tarnavean Robert","Cluj Napoca",11,2.65,"H",null,null,null,{"$f":"catp","v":4}]
[4213,"Anghel Patrick","Voluntari",4.7,2.65,"H",null,null,null,{"$f":"catp","v":4}]
[4327,"Paraschiv Florin","Dobrotesti",4,2.65,"H",null,null,null,{"$f":"catp","v":4}]
[3685,"Baldan Andrei","Cluj Napoca",9.1,2.6,"H",null,null,null,{"$f":"catp","v":4}]
[3850,"Enache Adrian Victor","Ploiesti",7.2,2.6,"H",null,null,null,{"$f":"catp","v":4}]
[4352,"Andriy Buldyzhov","Targu Mures",3.9,2.6,"H",null,null,null,{"$f":"catp","v":4}]
[4615,"Marin Mircea","Bucuresti",2.6,2.6,"H",null,null,null,{"$f":"catp","v":4}]
[4616,"Sterie Cristian","Bucuresti",2.6,2.6,"H",null,null,null,{"$f":"catp","v":4}]
[4617,"Musat Filip","Lipanesti",2.6,2.6,"H",null,null,null,{"$f":"catp","v":4}]
[3034,"Tibre Lucian","Cluj Napoca",19,2.57,"H",null,null,null,{"$f":"catp","v":4}]
[4353,"Neagu Darius","Bucuresti",3.9,2.5499999999999998,"H",null,null,null,{"$f":"catp","v":4}]
[3812,"Rusanovschi Adrian","Oradea",7.7,2.5299999999999998,"H",null,null,null,{"$f":"catp","v":4}]
[3427,"Pnacsek Andrei","Lunca Muresului",12.3,2.52,"H",null,null,null,{"$f":"catp","v":4}]
[3712,"Podhora Cristina","Alesd",8.9,2.5,"HF",null,null,null,{"$f":"catp","v":4}]
[4018,"Chichernea Paul","Bucuresti",5.5,2.5,"H",null,null,null,{"$f":"catp","v":4}]
[4177,"Argesanu David","Barlad",5,2.5,"H",null,null,null,{"$f":"catp","v":4}]
[4178,"Zaharii Narcis","Falticeni",5,2.5,"H",null,null,null,{"$f":"catp","v":4}]
[4179,"Pufulete Andrei Razvan","Bucuresti",5,2.5,"H",null,null,null,{"$f":"catp","v":4}]
[4180,"Radief Cristian Dan","Constanta",5,2.5,"H",null,null,null,{"$f":"catp","v":4}]
[4181,"Tulei Marius","Iasi",5,2.5,"H",null,null,null,{"$f":"catp","v":4}]
[4254,"Stoian Mihaita Cezar","Navodari",4.5,2.5,"H",null,null,null,{"$f":"catp","v":4}]
[4255,"Palagheanu Elvis","Plopeni SV",4.5,2.5,"H",null,null,null,{"$f":"catp","v":4}]
[4256,"Bara Natanael","Oradea",4.5,2.5,"H",null,null,null,{"$f":"catp","v":4}]
[4257,"Moldoveanu Rares","Bucuresti",4.5,2.5,"H",null,null,null,{"$f":"catp","v":4}]
[4269,"Ciurdea Gheorghe","Mogosesti",4.4000000000000004,2.5,"H",null,null,null,{"$f":"catp","v":4}]
[4270,"Haidau David","Buhusi",4.4000000000000004,2.5,"H",null,null,null,{"$f":"catp","v":4}]
[4271,"Stir Andrei","Hunedoara",4.4000000000000004,2.5,"H",null,null,null,{"$f":"catp","v":4}]
[4272,"Ioana Mihai","Bucuresti",4.4000000000000004,2.5,"H",null,null,null,{"$f":"catp","v":4}]
[4279,"Smisleaeva Liudmila","Moldova-Balti",4.3,2.5,"HF",null,null,null,{"$f":"catp","v":4}]
[4388,"Tose Petre","Oradea",3.8,2.5,"H",null,null,null,{"$f":"catp","v":4}]
[4621,"Tiganescu Ionut","Stulpicani",2.5,2.5,"H",null,null,null,{"$f":"catp","v":4}]
[4622,"Bratu Valentin","Bucuresti",2.5,2.5,"H",null,null,null,{"$f":"catp","v":4}]
[4623,"Cata Teodor","Baia Mare",2.5,2.5,"H",null,null,null,{"$f":"catp","v":4}]
[4624,"Brandusa Marius","Sighisoara",2.5,2.5,"H",null,null,null,{"$f":"catp","v":4}]
[4625,"Dascalu Sergiu","Vorona",2.5,2.5,"H",null,null,null,{"$f":"catp","v":4}]
[4626,"Pasca Vlad","Targu Mures",2.5,2.5,"H",null,null,null,{"$f":"catp","v":4}]
[4627,"Vukovic Zoran","Varset",2.5,2.5,"H",null,null,null,{"$f":"catp","v":4}]
[4628,"Bohotineanu Stefan","Vaslui",2.5,2.5,"H",null,null,null,{"$f":"catp","v":4}]
[4629,"Ivarlac Slava","Moldova-Comrat",2.5,2.5,"H",null,null,null,{"$f":"catp","v":4}]
[4630,"Lucaci Anton Daniel","Mogosesti",2.5,2.5,"H",null,null,null,{"$f":"catp","v":4}]
[4631,"Luca Marius","Mogosesti",2.5,2.5,"H",null,null,null,{"$f":"catp","v":4}]
[4632,"Bardos Iosif","Oradea",2.5,2.5,"H",null,null,null,{"$f":"catp","v":4}]
[4633,"Fabian David","Moldova-Cahul",2.5,2.5,"H",null,null,null,{"$f":"catp","v":4}]
[4634,"Gherghescu Catalin","Plopeni",2.5,2.5,"H",null,null,null,{"$f":"catp","v":4}]
[4635,"Cernat Constantin","Blejoi",2.5,2.5,"H",null,null,null,{"$f":"catp","v":4}]
[4636,"Luca Gheorghe","Boldesti Scaeni",2.5,2.5,"H",null,null,null,{"$f":"catp","v":4}]
[4637,"Dascalu Octavian","Suceava",2.5,2.5,"H",null,null,null,{"$f":"catp","v":4}]
[4638,"Bejenariu Andrei","Arghira",2.5,2.5,"H",null,null,null,{"$f":"catp","v":4}]
[4639,"Nistor Alex","Falticeni",2.5,2.5,"H",null,null,null,{"$f":"catp","v":4}]
[4640,"Prispian Teodor","Blandesti",2.5,2.5,"H",null,null,null,{"$f":"catp","v":4}]
[4641,"Punga Ovidiu","Bucuresti",2.5,2.5,"H",null,null,null,{"$f":"catp","v":4}]
[4642,"Giubila Alessandro","Popesti Leordeni",2.5,2.5,"H",null,null,null,{"$f":"catp","v":4}]
[4643,"Mozes Andrei","Santamaria Orlea",2.5,2.5,"H",null,null,null,{"$f":"catp","v":4}]
[4644,"Farcas Carla","Dumbravita",2.5,2.5,"HF",null,null,null,{"$f":"catp","v":4}]
[4645,"Alexe Daria","Dumbravita",2.5,2.5,"HF",null,null,null,{"$f":"catp","v":4}]
[4646,"Dima Alexandru","Dumbravita",2.5,2.5,"H",null,null,null,{"$f":"catp","v":4}]
[4647,"Herbei Tudor","Dumbravita",2.5,2.5,"H",null,null,null,{"$f":"catp","v":4}]
[4648,"Lup Levi","Dumbravita",2.5,2.5,"H",null,null,null,{"$f":"catp","v":4}]
[4649,"Corduneanu Eduard","Suceava",2.5,2.5,"H",null,null,null,{"$f":"catp","v":4}]
[4650,"Cernat Ionut","Moinesti",2.5,2.5,"H",null,null,null,{"$f":"catp","v":4}]
[4651,"Stanica Ciprian","Pitesti",2.5,2.5,"H",null,null,null,{"$f":"catp","v":4}]
[4652,"Duta David","Curtea de Arges",2.5,2.5,"H",null,null,null,{"$f":"catp","v":4}]
[4653,"Stoica Ayana Maria","Slobozia",2.5,2.5,"HF",null,null,null,{"$f":"catp","v":4}]
[4654,"Petcu Mihai","Vaslui",2.5,2.5,"H",null,null,null,{"$f":"catp","v":4}]
[4655,"Marcel Adam","Sighisoara",2.5,2.5,"H",null,null,null,{"$f":"catp","v":4}]
[4656,"Moian Calin","Sighisoara",2.5,2.5,"H",null,null,null,{"$f":"catp","v":4}]
[4657,"Necula Andrei","Arad",2.5,2.5,"H",null,null,null,{"$f":"catp","v":4}]
[4658,"Furtuna Serghei","Moldova-Balti",2.5,2.5,"H",null,null,null,{"$f":"catp","v":4}]
[4659,"Pastusoc Cornel","Moldova-Edinet",2.5,2.5,"H",null,null,null,{"$f":"catp","v":4}]
[4660,"Roman Marcel","Sebes",2.5,2.5,"H",null,null,null,{"$f":"catp","v":4}]
[4661,"Dasca Laurentiu","Bucuresti",2.5,2.5,"H",null,null,null,{"$f":"catp","v":4}]
[4662,"Fenesan Alex","Turda",2.5,2.5,"H",null,null,null,{"$f":"catp","v":4}]
[4663,"Moldovan Nicolae Ioan","Poienita",2.5,2.5,"H",null,null,null,{"$f":"catp","v":4}]
[4664,"Paunas Raul","Navodari",2.5,2.5,"H",null,null,null,{"$f":"catp","v":4}]
[4665,"Dumitras Matia","Vorona",2.5,2.5,"H",null,null,null,{"$f":"catp","v":4}]
[4666,"Cotoara Daniel","Iasi",2.5,2.5,"H",null,null,null,{"$f":"catp","v":4}]
[4667,"Furdui Lia","Moldova-Balti",2.5,2.5,"HF",null,null,null,{"$f":"catp","v":4}]
[4668,"Hobinca Cezar","Iasi",2.5,2.5,"H",null,null,null,{"$f":"catp","v":4}]
[4669,"Mihalachi Luca","Mogosesti",2.5,2.5,"H",null,null,null,{"$f":"catp","v":4}]
[4670,"Ciobanu Sebastian","Mogosesti",2.5,2.5,"H",null,null,null,{"$f":"catp","v":4}]
[4671,"Simonfi Maghiar","Jibou",2.5,2.5,"H",null,null,null,{"$f":"catp","v":4}]
[4672,"Teaca Andrei","Rosiori de Vede",2.5,2.5,"H",null,null,null,{"$f":"catp","v":4}]
[4673,"Urzica Pavel","Piatra Neamt",2.5,2.5,"H",null,null,null,{"$f":"catp","v":4}]
[4674,"Calpacci Olga","Moldova-Ceadir-Lunga",2.5,2.5,"HF",null,null,null,{"$f":"catp","v":4}]
[4675,"Urs Lucian","Nasaud",2.5,2.5,"H",null,null,null,{"$f":"catp","v":4}]
[4676,"Chesa Rares","Viseu",2.5,2.5,"H",null,null,null,{"$f":"catp","v":4}]
[4677,"Faiciuc Alex","Viseu",2.5,2.5,"H",null,null,null,{"$f":"catp","v":4}]
[4898,"Dinu Vladimir","Bucuresti",1.9,2.5,"H",null,null,null,{"$f":"catp","v":4}]
[4899,"Oeru Valentin","Bucuresti",1.9,2.5,"H",null,null,null,{"$f":"catp","v":4}]
[4900,"Stancu Aurel","Gostavatu",1.9,2.5,"H",null,null,null,{"$f":"catp","v":4}]
[4901,"Paduraru Adrian","Buhusi",1.9,2.5,"H",null,null,null,{"$f":"catp","v":4}]
[4902,"Dulap Ovidiu","Moldova-Edinet",1.9,2.5,"H",null,null,null,{"$f":"catp","v":4}]
[4903,"Dragomir Noemi","Brasov",1.9,2.5,"HF",null,null,null,{"$f":"catp","v":4}]
[4904,"Nutiu Alexandru","Oradea",1.9,2.5,"H",null,null,null,{"$f":"catp","v":4}]
[4905,"Mocanu Radu","Ramnicu Valcea",1.9,2.5,"H",null,null,null,{"$f":"catp","v":4}]
[4906,"Ionescu Dan","Iasi",1.9,2.5,"H",null,null,null,{"$f":"catp","v":4}]
[4907,"Maican Atanase Marian","Brasov",1.9,2.5,"H",null,null,null,{"$f":"catp","v":4}]
[4908,"Morut Sebastian","Oradea",1.9,2.5,"H",null,null,null,{"$f":"catp","v":4}]
[4909,"Strinu Paul","Drobeta Tr Severin",1.9,2.5,"H",null,null,null,{"$f":"catp","v":4}]
[4910,"Arovich Laszlo","Ucraina",1.9,2.5,"H",null,null,null,{"$f":"catp","v":4}]
[4911,"Venture Taras","Ucraina",1.9,2.5,"H",null,null,null,{"$f":"catp","v":4}]
[4912,"Calinoiu Matei","Sibiu",1.9,2.5,"H",null,null,null,{"$f":"catp","v":4}]
[4913,"Alexandrescu Antonie","Voluntari",1.9,2.5,"H",null,null,null,{"$f":"catp","v":4}]
[4914,"Carmazan Andra","Deva",1.9,2.5,"HF",null,null,null,{"$f":"catp","v":4}]
[4915,"Banulescu Cristian","Brasov",1.9,2.5,"H",null,null,null,{"$f":"catp","v":4}]
[4916,"Putineanu Gabriel","Alexandria",1.9,2.5,"H",null,null,null,{"$f":"catp","v":4}]
[4917,"Santos Ivo","Bucuresti",1.9,2.5,"H",null,null,null,{"$f":"catp","v":4}]
[4918,"Arseni Mihai","Moinesti",1.9,2.5,"H",null,null,null,{"$f":"catp","v":4}]
[4919,"Prisecariu Darius","Moinesti",1.9,2.5,"H",null,null,null,{"$f":"catp","v":4}]
[4920,"Cuc Remus","Hotarel",1.9,2.5,"H",null,null,null,{"$f":"catp","v":4}]
[4921,"Litescu Radu","Otopeni",1.9,2.5,"H",null,null,null,{"$f":"catp","v":4}]
[4922,"Ionescu Sebastian","Buzau",1.9,2.5,"H",null,null,null,{"$f":"catp","v":4}]
[4923,"Popescu Matei","Alexandria",1.9,2.5,"H",null,null,null,{"$f":"catp","v":4}]
[4924,"Pantelimon Sorin","Craiova",1.9,2.5,"H",null,null,null,{"$f":"catp","v":4}]
[4925,"Petrache Matei","Buzau",1.9,2.5,"H",null,null,null,{"$f":"catp","v":4}]
[4926,"Marginean Ovidiu","Aiud",1.9,2.5,"H",null,null,null,{"$f":"catp","v":4}]
[4927,"Lako Valentin","Targu Mures",1.9,2.5,"H",null,null,null,{"$f":"catp","v":4}]
[4273,"Florea Albert","Sibiu",4.4000000000000004,2.4500000000000002,"H",null,null,null,{"$f":"catp","v":4}]
[3286,"Chirita Ioana","Targu Mures",14.5,2.44,"HF",null,null,null,{"$f":"catp","v":4}]
[3832,"Niculescu Marin","Bucuresti",7.5,2.4300000000000002,"HW",null,null,null,{"$f":"catp","v":4}]
[2908,"Florean Renata","Lunca Muresului",22.1,2.4,"HF",null,null,null,{"$f":"catp","v":4}]
[3063,"Dodon Vlad","Dej",18.5,2.4,"H",null,null,null,{"$f":"catp","v":4}]
[3718,"Orosz Silviu","Dumbraveni SB",8.8000000000000007,2.4,"HJ",null,null,null,{"$f":"catp","v":4}]
[3759,"Ranca Mihai","Aiud",8.4,2.4,"H",null,null,null,{"$f":"catp","v":4}]
[3839,"Briceag Bebe","Targoviste",7.4,2.4,"H",null,null,null,{"$f":"catp","v":4}]
[4280,"Majeri Adrian","Bistrita",4.3,2.4,"H",null,null,null,{"$f":"catp","v":4}]
[3833,"Cocea Radu","Bucuresti",7.5,2.37,"H",null,null,null,{"$f":"catp","v":4}]
[4083,"Gaga Ioana","Cluj Napoca",5.0999999999999996,2.35,"HF",null,null,null,{"$f":"catp","v":4}]
[4222,"Gheorghe Constantin","Paulesti",4.7,2.35,"H",null,null,null,{"$f":"catp","v":4}]
[4223,"Raicu David","Filipestii de Targ",4.7,2.35,"H",null,null,null,{"$f":"catp","v":4}]
[4300,"Simon Andrei","Popesti Leordeni",4.2,2.35,"H",null,null,null,{"$f":"catp","v":4}]
[3589,"Rotaru Ianis","Galati",10.4,2.33,"H",null,null,null,{"$f":"catp","v":4}]
[3749,"Bercea Darius Marian","Iasi",8.5,2.33,"H",null,null,null,{"$f":"catp","v":4}]
[3808,"Barna Florin","Blaj",7.8,2.33,"H",null,null,null,{"$f":"catp","v":4}]
[3916,"Sterpu Gabriel","Navodari",6.5,2.33,"H",null,null,null,{"$f":"catp","v":4}]
[3917,"Dumitru Denis","Navodari",6.5,2.33,"H",null,null,null,{"$f":"catp","v":4}]
[3966,"Kiss David","Miercurea Ciuc",6,2.33,"H",null,null,null,{"$f":"catp","v":4}]
[3785,"Loloiu Maia","Sibiu",8.1,2.2999999999999998,"HF",null,null,null,{"$f":"catp","v":4}]
[4238,"Moise Valentin","Ploiesti",4.5999999999999996,2.2999999999999998,"H",null,null,null,{"$f":"catp","v":4}]
[3823,"Simon Csongor","Targu Mures",7.6,2.27,"H",null,null,null,{"$f":"catp","v":4}]
[3750,"Tulei Stefan","Iasi",8.5,2.25,"H",null,null,null,{"$f":"catp","v":4}]
[3918,"Maier Ciprian","Sebes",6.5,2.25,"H",null,null,null,{"$f":"catp","v":4}]
[3967,"Frisan Andrei","Nasaud",6,2.25,"H",null,null,null,{"$f":"catp","v":4}]
[4019,"Rosu David Mugurel","Comanesti",5.5,2.25,"H",null,null,null,{"$f":"catp","v":4}]
[4258,"Ceacusta Daria","Moldova-Avdarma",4.5,2.25,"HF",null,null,null,{"$f":"catp","v":4}]
[4259,"Nedealcova Daria","Moldova-Avdarma",4.5,2.25,"HF",null,null,null,{"$f":"catp","v":4}]
[4260,"Blaj Cristian","Navodari",4.5,2.25,"H",null,null,null,{"$f":"catp","v":4}]
[4328,"Ionescu Dragos","Buhusi",4,2.25,"H",null,null,null,{"$f":"catp","v":4}]
[4329,"Popescu Cristina","Boldesti Scaeni",4,2.25,"HF",null,null,null,{"$f":"catp","v":4}]
[4330,"Marcu Catalin","Moinesti",4,2.25,"H",null,null,null,{"$f":"catp","v":4}]
[4331,"Cuzmin Gabriel","Navodari",4,2.25,"H",null,null,null,{"$f":"catp","v":4}]
[4332,"Roxin Andrei","Arad",4,2.25,"H",null,null,null,{"$f":"catp","v":4}]
[4333,"Andras Robert","Hateg",4,2.25,"H",null,null,null,{"$f":"catp","v":4}]
[4354,"Cangea Tudor","Galati",3.9,2.25,"H",null,null,null,{"$f":"catp","v":4}]
[4355,"Flocea Codrin","Vatra Dornei",3.9,2.25,"H",null,null,null,{"$f":"catp","v":4}]
[4356,"Petcu Nicolas","Buhusi",3.9,2.25,"H",null,null,null,{"$f":"catp","v":4}]
[4357,"Arama Ciprian","Buhusi",3.9,2.25,"H",null,null,null,{"$f":"catp","v":4}]
[4358,"Binzari Stanislav","Moldova-Balti",3.9,2.25,"H",null,null,null,{"$f":"catp","v":4}]
[4359,"Melniciuc Elena","Vatra Dornei",3.9,2.25,"HF",null,null,null,{"$f":"catp","v":4}]
[4469,"Irimia Marian","Ploiesti",3.4,2.25,"H",null,null,null,{"$f":"catp","v":4}]
[4470,"Carcea Daria","Galanesti",3.4,2.25,"HF",null,null,null,{"$f":"catp","v":4}]
[4471,"Pintea Larisa","Deva",3.4,2.25,"HF",null,null,null,{"$f":"catp","v":4}]
[4472,"Eparu Darius","Iasi",3.4,2.25,"H",null,null,null,{"$f":"catp","v":4}]
[3950,"Frincu Iustin","Ploiesti",6.1,2.2000000000000002,"H",null,null,null,{"$f":"catp","v":4}]
[3552,"Nemes Iasmina","Lunca Muresului",10.9,2.17,"HF",null,null,null,{"$f":"catp","v":4}]
[3976,"Lungu Raul","Tecuci",5.9,2.17,"H",null,null,null,{"$f":"catp","v":4}]
[4020,"Petrache Lucian","Bucuresti",5.5,2.17,"H",null,null,null,{"$f":"catp","v":4}]
[2892,"Catinean Anda","Targu Mures",22.4,2.08,"HF",null,null,null,{"$f":"catp","v":4}]
[3064,"Varga Bianca","Luna CJ",18.5,2,"HJF",null,null,null,{"$f":"catp","v":4}]
[3346,"Hoca Lucas","Lunca Muresului",13.5,2,"H",null,null,null,{"$f":"catp","v":4}]
[3380,"Damian Toma","Comanesti",13,2,"H",null,null,null,{"$f":"catp","v":4}]
[3450,"Macovei Tudor","Bucuresti",12,2,"H",null,null,null,{"$f":"catp","v":4}]
[3542,"Cont Mircea","Hunedoara",11,2,"H",null,null,null,{"$f":"catp","v":4}]
[3543,"Cocis Radu","Lunca Muresului",11,2,"H",null,null,null,{"$f":"catp","v":4}]
[3544,"Pustianu Raul","Lunca Muresului",11,2,"H",null,null,null,{"$f":"catp","v":4}]
[3700,"Milian Iulian","Hunedoara",9,2,"H",null,null,null,{"$f":"catp","v":4}]
[3701,"Ursu Ciprian","Calan",9,2,"H",null,null,null,{"$f":"catp","v":4}]
[3702,"Manoiu Nicolae Sebastian","Fieni",9,2,"H",null,null,null,{"$f":"catp","v":4}]
[3751,"Chiriac Andrei","Bucuresti",8.5,2,"H",null,null,null,{"$f":"catp","v":4}]
[3834,"Blaj Filip","Iasi",7.5,2,"H",null,null,null,{"$f":"catp","v":4}]
[3835,"Vasincu Octavian Laurentiu","Iasi",7.5,2,"H",null,null,null,{"$f":"catp","v":4}]
[3863,"Ignat Darius","Arad",7,2,"H",null,null,null,{"$f":"catp","v":4}]
[3864,"Ionica Codrin","Comanesti",7,2,"H",null,null,null,{"$f":"catp","v":4}]
[3919,"Csibi Razvan","Lunca Muresului",6.5,2,"H",null,null,null,{"$f":"catp","v":4}]
[3968,"Turbatu Rares","Fieni",6,2,"H",null,null,null,{"$f":"catp","v":4}]
[4021,"Herlo Ioan","Arad",5.5,2,"H",null,null,null,{"$f":"catp","v":4}]
[4022,"Ichim David","Buhusi",5.5,2,"H",null,null,null,{"$f":"catp","v":4}]
[4023,"Stir Bogdan","Telega",5.5,2,"H",null,null,null,{"$f":"catp","v":4}]
[4024,"Lupu Rares","Navodari",5.5,2,"H",null,null,null,{"$f":"catp","v":4}]
[4025,"Milos Alexandru","Alexandria",5.5,2,"H",null,null,null,{"$f":"catp","v":4}]
[4026,"Dumitru Daria","Navodari",5.5,2,"HF",null,null,null,{"$f":"catp","v":4}]
[4027,"Pal Norbert","Joseni",5.5,2,"H",null,null,null,{"$f":"catp","v":4}]
[4182,"Plumb Gabriel","Comarnic",5,2,"H",null,null,null,{"$f":"catp","v":4}]
[4183,"Filip Maia","Cluj Napoca",5,2,"HF",null,null,null,{"$f":"catp","v":4}]
[4184,"Moldovan Andrei","Bucuresti",5,2,"H",null,null,null,{"$f":"catp","v":4}]
[4185,"Tasedan Marcel","Arad",5,2,"H",null,null,null,{"$f":"catp","v":4}]
[4186,"Maria Stefania Izabela","Targoviste",5,2,"HF",null,null,null,{"$f":"catp","v":4}]
[4187,"Cutar Ionut","Targoviste",5,2,"H",null,null,null,{"$f":"catp","v":4}]
[4261,"Luca Maria","Lunca Muresului",4.5,2,"HF",null,null,null,{"$f":"catp","v":4}]
[4262,"Pnacsek Alex","Lunca Muresului",4.5,2,"H",null,null,null,{"$f":"catp","v":4}]
[4334,"Raduta Luis","Darmanesti",4,2,"H",null,null,null,{"$f":"catp","v":4}]
[4335,"Gologan Vlad","Faurei",4,2,"H",null,null,null,{"$f":"catp","v":4}]
[4336,"Ene Camelia","Barlad",4,2,"HF",null,null,null,{"$f":"catp","v":4}]
[4337,"Orga Denis","Gligoresti",4,2,"H",null,null,null,{"$f":"catp","v":4}]
[4338,"Balaban Cosmin","Focsani",4,2,"H",null,null,null,{"$f":"catp","v":4}]
[4339,"Bordeianu Alice","Bucuresti",4,2,"HF",null,null,null,{"$f":"catp","v":4}]
[4340,"Coman Radu","Campina",4,2,"H",null,null,null,{"$f":"catp","v":4}]
[4341,"Stanciu Stefan","Urlati",4,2,"H",null,null,null,{"$f":"catp","v":4}]
[4342,"Bernea Daniel","Bucuresti",4,2,"H",null,null,null,{"$f":"catp","v":4}]
[4343,"Tabara Sebastian","Valenii de Munte",4,2,"H",null,null,null,{"$f":"catp","v":4}]
[4344,"Voicu Denis","Navodari",4,2,"H",null,null,null,{"$f":"catp","v":4}]
[4345,"Racz Peter","Targu Mures",4,2,"H",null,null,null,{"$f":"catp","v":4}]
[4346,"Orban Darius","Siret",4,2,"H",null,null,null,{"$f":"catp","v":4}]
[4347,"Cirsmar Stefan","Siret",4,2,"H",null,null,null,{"$f":"catp","v":4}]
[4348,"Stinea Adrian","Cluj Napoca",4,2,"H",null,null,null,{"$f":"catp","v":4}]
[4349,"Naghi Bianca","Lunca Muresului",4,2,"HF",null,null,null,{"$f":"catp","v":4}]
[4350,"Pojoni Oliver","Orastie",4,2,"H",null,null,null,{"$f":"catp","v":4}]
[4431,"Ipate Bogdan","Pascani",3.5,2,"H",null,null,null,{"$f":"catp","v":4}]
[4432,"Staicu Ovidiu","Targoviste",3.5,2,"H",null,null,null,{"$f":"catp","v":4}]
[4433,"Modog Octavian","Alesd",3.5,2,"H",null,null,null,{"$f":"catp","v":4}]
[4434,"Ciocanel Stefan","Botosani",3.5,2,"H",null,null,null,{"$f":"catp","v":4}]
[4435,"Diaconu Mariana","Moinesti",3.5,2,"HF",null,null,null,{"$f":"catp","v":4}]
[4436,"Manolache Andrei","Iasi",3.5,2,"H",null,null,null,{"$f":"catp","v":4}]
[4437,"Butnaru Damian","Mogosesti",3.5,2,"H",null,null,null,{"$f":"catp","v":4}]
[4438,"Negrut Cristian","Alesd",3.5,2,"H",null,null,null,{"$f":"catp","v":4}]
[4439,"Lipovanu Stefan","Buhusi",3.5,2,"H",null,null,null,{"$f":"catp","v":4}]
[4440,"Covaci Eduardo","Arad",3.5,2,"H",null,null,null,{"$f":"catp","v":4}]
[4441,"Neacsu Radu","Bucuresti",3.5,2,"H",null,null,null,{"$f":"catp","v":4}]
[4442,"Mocanu Marius","Baicoi",3.5,2,"H",null,null,null,{"$f":"catp","v":4}]
[4443,"Sztan Eric Traian","Buzau",3.5,2,"H",null,null,null,{"$f":"catp","v":4}]
[4444,"Paris Ianis Nicolas","Navodari",3.5,2,"H",null,null,null,{"$f":"catp","v":4}]
[4445,"Ciobanu Ioana","Pitesti",3.5,2,"HF",null,null,null,{"$f":"catp","v":4}]
[4446,"Apetrei Constantin","Iasi",3.5,2,"H",null,null,null,{"$f":"catp","v":4}]
[4447,"Besteala Andrei","Alexandria",3.5,2,"H",null,null,null,{"$f":"catp","v":4}]
[4448,"Balaceanu Iulian","Drobeta Tr Severin",3.5,2,"H",null,null,null,{"$f":"catp","v":4}]
[4449,"Balaceanu Mihai","Drobeta Tr Severin",3.5,2,"H",null,null,null,{"$f":"catp","v":4}]
[4450,"Martiniuc Cosmin","Viseu",3.5,2,"H",null,null,null,{"$f":"catp","v":4}]
[4451,"Szalisznyo Luca","Lugoj",3.5,2,"H",null,null,null,{"$f":"catp","v":4}]
[4452,"Coman Razvan","Lugoj",3.5,2,"H",null,null,null,{"$f":"catp","v":4}]
[4453,"Bartha Nimrod","Oradea",3.5,2,"H",null,null,null,{"$f":"catp","v":4}]
[4454,"Pantecan Alex","Bucuresti",3.5,2,"H",null,null,null,{"$f":"catp","v":4}]
[4455,"Tirulnic Evgheni","Bucuresti",3.5,2,"H",null,null,null,{"$f":"catp","v":4}]
[4456,"Popa Alexandra","Sibiu",3.5,2,"HF",null,null,null,{"$f":"catp","v":4}]
[4457,"Radoi Ianis","Alexandria",3.5,2,"H",null,null,null,{"$f":"catp","v":4}]
[4458,"Tutuianu Radu","Timisoara",3.5,2,"H",null,null,null,{"$f":"catp","v":4}]
[4459,"Iordache Alexandru","Bucuresti",3.5,2,"H",null,null,null,{"$f":"catp","v":4}]
[4460,"Crivat Matei","Bucuresti",3.5,2,"H",null,null,null,{"$f":"catp","v":4}]
[4566,"Turlui Rares","Bals",3,2,"H",null,null,null,{"$f":"catp","v":4}]
[4567,"Zaharie Sofia","Radauti",3,2,"HF",null,null,null,{"$f":"catp","v":4}]
[4568,"Bajko Tamas","Targu Secuiesc",3,2,"H",null,null,null,{"$f":"catp","v":4}]
[4569,"Radu Corvin","Sibiu",3,2,"H",null,null,null,{"$f":"catp","v":4}]
[4570,"Tufeanu Bogdan","Slatina",3,2,"H",null,null,null,{"$f":"catp","v":4}]
[4571,"Preda Antonia","Bals",3,2,"HF",null,null,null,{"$f":"catp","v":4}]
[4572,"Smadici Adrian","Milisauti",3,2,"H",null,null,null,{"$f":"catp","v":4}]
[4573,"Fudulu Sorin Gigi","Alexandria",3,2,"H",null,null,null,{"$f":"catp","v":4}]
[4574,"Oprea Raul","Dobrotesti",3,2,"H",null,null,null,{"$f":"catp","v":4}]
[4575,"Croitoru Ionut","Iasi",3,2,"H",null,null,null,{"$f":"catp","v":4}]
[4576,"Contes Vasile","Timisoara",3,2,"H",null,null,null,{"$f":"catp","v":4}]
[4577,"Liculescu Vlad","Bucuresti",3,2,"H",null,null,null,{"$f":"catp","v":4}]
[4578,"Chiriac Adrian","Bucuresti",3,2,"H",null,null,null,{"$f":"catp","v":4}]
[4579,"Gagiu David","Targoviste",3,2,"H",null,null,null,{"$f":"catp","v":4}]
[4580,"Faur Sebastian","Bucuresti",3,2,"H",null,null,null,{"$f":"catp","v":4}]
[4581,"Szitar Mihai","Bucuresti",3,2,"H",null,null,null,{"$f":"catp","v":4}]
[4582,"Kupan David","Lunca Muresului",3,2,"H",null,null,null,{"$f":"catp","v":4}]
[4583,"Domokos David","Lunca Muresului",3,2,"H",null,null,null,{"$f":"catp","v":4}]
[4584,"Manea Florian","Fetesti",3,2,"H",null,null,null,{"$f":"catp","v":4}]
[4585,"Simion Mircea","Targu Jiu",3,2,"H",null,null,null,{"$f":"catp","v":4}]
[4707,"Pop Daniel","Cluj Napoca",2,2,"H",null,null,null,{"$f":"catp","v":4}]
[4708,"Palamariuc Mihai","Onesti",2,2,"H",null,null,null,{"$f":"catp","v":4}]
[4709,"Buga Mihai","Alexandria",2,2,"H",null,null,null,{"$f":"catp","v":4}]
[4710,"Carciog Ionut Alexandru","Calarasi",2,2,"H",null,null,null,{"$f":"catp","v":4}]
[4711,"Frent George","Arad",2,2,"H",null,null,null,{"$f":"catp","v":4}]
[4712,"Nopcea Marius","Hateg",2,2,"H",null,null,null,{"$f":"catp","v":4}]
[4713,"Caba Ciprian","Putna",2,2,"H",null,null,null,{"$f":"catp","v":4}]
[4714,"Marin George Remus","Tulcea",2,2,"H",null,null,null,{"$f":"catp","v":4}]
[4715,"Bulancea Victor","Curtea de Arges",2,2,"H",null,null,null,{"$f":"catp","v":4}]
[4716,"Nistor Mirela","Cisnadie",2,2,"HF",null,null,null,{"$f":"catp","v":4}]
[4717,"Profir Alexandru","Tecuci",2,2,"H",null,null,null,{"$f":"catp","v":4}]
[4718,"Ciortescu Mihai","Iasi",2,2,"H",null,null,null,{"$f":"catp","v":4}]
[4719,"Voinescu Dan","Lugoj",2,2,"H",null,null,null,{"$f":"catp","v":4}]
[4720,"Gojkov Milan","Varset",2,2,"H",null,null,null,{"$f":"catp","v":4}]
[4721,"Marin Goran","Varset",2,2,"H",null,null,null,{"$f":"catp","v":4}]
[4722,"Ion Alexandru","Darmanesti",2,2,"H",null,null,null,{"$f":"catp","v":4}]
[4723,"Sfera Mihai","Lokve",2,2,"H",null,null,null,{"$f":"catp","v":4}]
[4724,"Buleandra Radu","Craiova",2,2,"H",null,null,null,{"$f":"catp","v":4}]
[4725,"Dima George","Ploiesti",2,2,"H",null,null,null,{"$f":"catp","v":4}]
[4726,"Barbus David","Luna de Sus",2,2,"H",null,null,null,{"$f":"catp","v":4}]
[4727,"Campean Bogdan","Apahida",2,2,"H",null,null,null,{"$f":"catp","v":4}]
[4728,"Bejan Beniamin","Pascani",2,2,"H",null,null,null,{"$f":"catp","v":4}]
[4729,"Badalan Adina","Drobeta Tr Severin",2,2,"HF",null,null,null,{"$f":"catp","v":4}]
[4730,"Balazs Anna","Toplita",2,2,"HF",null,null,null,{"$f":"catp","v":4}]
[4731,"Amarghioalei Iulian Andrei","Harlau",2,2,"H",null,null,null,{"$f":"catp","v":4}]
[4732,"Andrei Bogdan","Jijila",2,2,"H",null,null,null,{"$f":"catp","v":4}]
[4733,"Saftoiu Claudiu","Bucuresti",2,2,"H",null,null,null,{"$f":"catp","v":4}]
[4734,"Uram Mihai","Tulcea",2,2,"H",null,null,null,{"$f":"catp","v":4}]
[4735,"Diaconu Ionut","Moinesti",2,2,"H",null,null,null,{"$f":"catp","v":4}]
[4736,"Chironda Leonid","Moldova",2,2,"H",null,null,null,{"$f":"catp","v":4}]
[4737,"Neicovcen Vadim","Moldova-Comrat",2,2,"H",null,null,null,{"$f":"catp","v":4}]
[4738,"Berezov Stanislav","Moldova-Ceadir-Lunga",2,2,"H",null,null,null,{"$f":"catp","v":4}]
[4739,"Muntean Tudor","Floresti",2,2,"H",null,null,null,{"$f":"catp","v":4}]
[4740,"Popa Alexandru Arthur","Arad",2,2,"H",null,null,null,{"$f":"catp","v":4}]
[4741,"Miculici Vlad","Floresti",2,2,"H",null,null,null,{"$f":"catp","v":4}]
[4742,"Gilca Ionut","Mogosesti",2,2,"H",null,null,null,{"$f":"catp","v":4}]
[4743,"Ursu Cristi","Muncel",2,2,"H",null,null,null,{"$f":"catp","v":4}]
[4744,"Blahuta Catalin","Alesd",2,2,"H",null,null,null,{"$f":"catp","v":4}]
[4745,"Calangea Adrian","Galati",2,2,"H",null,null,null,{"$f":"catp","v":4}]
[4746,"Morun Angel","Galati",2,2,"H",null,null,null,{"$f":"catp","v":4}]
[4747,"Morariu Albert","Nasaud",2,2,"H",null,null,null,{"$f":"catp","v":4}]
[4748,"Chirita Dmitri","Moldova-Avdarma",2,2,"H",null,null,null,{"$f":"catp","v":4}]
[4749,"Marinov Mihail","Moldova-Avdarma",2,2,"H",null,null,null,{"$f":"catp","v":4}]
[4750,"Dinu Marius","Videle",2,2,"H",null,null,null,{"$f":"catp","v":4}]
[4751,"Ionescu Rebeca Alesia","Salcea",2,2,"HF",null,null,null,{"$f":"catp","v":4}]
[4752,"Hoanca Sara Ionela","Salcea",2,2,"HF",null,null,null,{"$f":"catp","v":4}]
[4753,"Soldan Iacob","Cajvana",2,2,"H",null,null,null,{"$f":"catp","v":4}]
[4754,"Horeic Andrei","Iasi",2,2,"H",null,null,null,{"$f":"catp","v":4}]
[4755,"Frentz Robert","Iasi",2,2,"H",null,null,null,{"$f":"catp","v":4}]
[4756,"Scalat Luca","Bucuresti",2,2,"H",null,null,null,{"$f":"catp","v":4}]
[4757,"Chesaraicu Andrei","Bucuresti",2,2,"H",null,null,null,{"$f":"catp","v":4}]
[4758,"Cernat Andrei","Blejoi",2,2,"H",null,null,null,{"$f":"catp","v":4}]
[4759,"Bratu Denis","Boldesti Scaeni",2,2,"H",null,null,null,{"$f":"catp","v":4}]
[4760,"Pachitu Dan","Vaslui",2,2,"H",null,null,null,{"$f":"catp","v":4}]
[4761,"Ailincai Constantin","Petia",2,2,"H",null,null,null,{"$f":"catp","v":4}]
[4762,"Lemnaru Nicoleta","Moldova-Chisinau",2,2,"HF",null,null,null,{"$f":"catp","v":4}]
[4763,"Popescu Manuela Camelia","Ramnicu Valcea",2,2,"HF",null,null,null,{"$f":"catp","v":4}]
[4764,"Popa Luca","Floresti",2,2,"H",null,null,null,{"$f":"catp","v":4}]
[4765,"Tanca Paul","Floresti",2,2,"H",null,null,null,{"$f":"catp","v":4}]
[4766,"Gherghevici Calin","Bucuresti",2,2,"H",null,null,null,{"$f":"catp","v":4}]
[4767,"Martinescu Alessio","Barlad",2,2,"H",null,null,null,{"$f":"catp","v":4}]
[4768,"Jora Daria","Barlad",2,2,"HF",null,null,null,{"$f":"catp","v":4}]
[4769,"Sabo Ioan","Alba Iulia",2,2,"H",null,null,null,{"$f":"catp","v":4}]
[4770,"Farcas Flavian","Bulzestii de Sus",2,2,"H",null,null,null,{"$f":"catp","v":4}]
[4771,"Buiturian Ionel","Santamaria Orlea",2,2,"H",null,null,null,{"$f":"catp","v":4}]
[4772,"Leordean Leontin","Balomir",2,2,"H",null,null,null,{"$f":"catp","v":4}]
[4773,"Blaj Victor","Dumbravita",2,2,"H",null,null,null,{"$f":"catp","v":4}]
[4774,"Moise Silviu","Timisoara",2,2,"H",null,null,null,{"$f":"catp","v":4}]
[4775,"Stoi Vlad","Timisoara",2,2,"H",null,null,null,{"$f":"catp","v":4}]
[4776,"Eremie Liviu","Dumbravita",2,2,"H",null,null,null,{"$f":"catp","v":4}]
[4777,"Deac Adrian","Dumbravita",2,2,"H",null,null,null,{"$f":"catp","v":4}]
[4778,"Carnu Miruna","Dumbravita",2,2,"HF",null,null,null,{"$f":"catp","v":4}]
[4779,"Voica Larisa","Filipestii de Targ",2,2,"HF",null,null,null,{"$f":"catp","v":4}]
[4780,"Lambru Cristian","Slobozia",2,2,"H",null,null,null,{"$f":"catp","v":4}]
[4781,"Panduru Liviu","Calarasi",2,2,"H",null,null,null,{"$f":"catp","v":4}]
[4782,"Matei Sorin","Buzau",2,2,"H",null,null,null,{"$f":"catp","v":4}]
[4783,"Cretu Ricardo","Luna CJ",2,2,"H",null,null,null,{"$f":"catp","v":4}]
[4784,"Todea Ioan","Rasca",2,2,"H",null,null,null,{"$f":"catp","v":4}]
[4785,"Orza Razvan","Suceava",2,2,"H",null,null,null,{"$f":"catp","v":4}]
[4786,"Rusu Victor","Suceava",2,2,"H",null,null,null,{"$f":"catp","v":4}]
[4787,"Cazaciuc Marius","Suceava",2,2,"H",null,null,null,{"$f":"catp","v":4}]
[4788,"Mara Cristina","Comanesti",2,2,"HF",null,null,null,{"$f":"catp","v":4}]
[4789,"Mocondoi Gheorghita","Moinesti",2,2,"H",null,null,null,{"$f":"catp","v":4}]
[4790,"Chira Ciprian","Magiresti",2,2,"H",null,null,null,{"$f":"catp","v":4}]
[4791,"Bujenita Elena","Galati",2,2,"HF",null,null,null,{"$f":"catp","v":4}]
[4792,"Pacuret Geraldina","Pitesti",2,2,"HF",null,null,null,{"$f":"catp","v":4}]
[4793,"Predutoiu Andrei","Pitesti",2,2,"H",null,null,null,{"$f":"catp","v":4}]
[4794,"Puskas Attila","Sovata",2,2,"H",null,null,null,{"$f":"catp","v":4}]
[4795,"Pirta Sara","Oradea",2,2,"HF",null,null,null,{"$f":"catp","v":4}]
[4796,"Rada Matei","Oradea",2,2,"H",null,null,null,{"$f":"catp","v":4}]
[4797,"Miculaiciuc Daniel Ioan","Ileanda",2,2,"H",null,null,null,{"$f":"catp","v":4}]
[4798,"Nichita Petru","Sibiu",2,2,"H",null,null,null,{"$f":"catp","v":4}]
[4799,"Oprea Mihai","Cluj Napoca",2,2,"H",null,null,null,{"$f":"catp","v":4}]
[4800,"Constantinescu Liviu","Curtea de Arges",2,2,"H",null,null,null,{"$f":"catp","v":4}]
[4801,"Oancea Andrei","Curtea de Arges",2,2,"H",null,null,null,{"$f":"catp","v":4}]
[4802,"Vasilache Geoni","Matca",2,2,"H",null,null,null,{"$f":"catp","v":4}]
[4803,"Balan Liviu","Tecuci",2,2,"H",null,null,null,{"$f":"catp","v":4}]
[4804,"Mladin Vasile","Calan",2,2,"H",null,null,null,{"$f":"catp","v":4}]
[4805,"Zorfie Daniel","Baru",2,2,"H",null,null,null,{"$f":"catp","v":4}]
[4806,"Burhui Radu","Buhusi",2,2,"H",null,null,null,{"$f":"catp","v":4}]
[4807,"Dita Diana","Bucuresti",2,2,"HF",null,null,null,{"$f":"catp","v":4}]
[4808,"Barlianu Liviu","Vaslui",2,2,"H",null,null,null,{"$f":"catp","v":4}]
[4809,"Copacinschi Raisa","Vaslui",2,2,"HF",null,null,null,{"$f":"catp","v":4}]
[4810,"Chirica Dragos","Vaslui",2,2,"H",null,null,null,{"$f":"catp","v":4}]
[4811,"Stoica Ioan Cristian","Targoviste",2,2,"H",null,null,null,{"$f":"catp","v":4}]
[4812,"Olteanu Stefan","Sighisoara",2,2,"H",null,null,null,{"$f":"catp","v":4}]
[4813,"Teodorescu Ovidiu","Sighisoara",2,2,"H",null,null,null,{"$f":"catp","v":4}]
[4814,"Meyndt Alexander","Sighisoara",2,2,"H",null,null,null,{"$f":"catp","v":4}]
[4815,"Simo Pal Levente","Sighisoara",2,2,"H",null,null,null,{"$f":"catp","v":4}]
[4816,"Andreica Gabriel","Viseu",2,2,"H",null,null,null,{"$f":"catp","v":4}]
[4817,"Rad Solomon","Viseu",2,2,"H",null,null,null,{"$f":"catp","v":4}]
[4818,"Nan Marius","Tarnaveni",2,2,"H",null,null,null,{"$f":"catp","v":4}]
[4819,"Mandache Andreea","Bucuresti",2,2,"HF",null,null,null,{"$f":"catp","v":4}]
[4820,"Mladin Stelian","Calan",2,2,"H",null,null,null,{"$f":"catp","v":4}]
[4821,"Caba Alin","Putna",2,2,"H",null,null,null,{"$f":"catp","v":4}]
[4822,"Carpaci Szanto Cristian","Ludus",2,2,"H",null,null,null,{"$f":"catp","v":4}]
[4823,"Huruba Ilie","Targu Mures",2,2,"H",null,null,null,{"$f":"catp","v":4}]
[4824,"Doroftei Kevyn","Arad",2,2,"H",null,null,null,{"$f":"catp","v":4}]
[4825,"Necula Gabriel","Arad",2,2,"H",null,null,null,{"$f":"catp","v":4}]
[4826,"Pantea Gratian","Arad",2,2,"H",null,null,null,{"$f":"catp","v":4}]
[4827,"Daroiu Augustin","Bucuresti",2,2,"H",null,null,null,{"$f":"catp","v":4}]
[4828,"Dabu Alex","Bucuresti",2,2,"H",null,null,null,{"$f":"catp","v":4}]
[4829,"Mondoaca Matteo","Rosiori de Vede",2,2,"H",null,null,null,{"$f":"catp","v":4}]
[4830,"Baicu Angelo","Bucuresti",2,2,"H",null,null,null,{"$f":"catp","v":4}]
[4831,"Pastusoc Cristi","Moldova-Edinet",2,2,"H",null,null,null,{"$f":"catp","v":4}]
[4832,"Gabriel Coman","Bucuresti",2,2,"H",null,null,null,{"$f":"catp","v":4}]
[4833,"Nalboiu David","Craiova",2,2,"H",null,null,null,{"$f":"catp","v":4}]
[4834,"Cirstea Matei","Craiova",2,2,"H",null,null,null,{"$f":"catp","v":4}]
[4835,"Patrascu Erik","Navodari",2,2,"H",null,null,null,{"$f":"catp","v":4}]
[4836,"Orbocea Alesia","Navodari",2,2,"H",null,null,null,{"$f":"catp","v":4}]
[4837,"Langa Timotei","Dumbraveni SV",2,2,"H",null,null,null,{"$f":"catp","v":4}]
[4838,"Prodan Daniel","Lunca Muresului",2,2,"H",null,null,null,{"$f":"catp","v":4}]
[4839,"Cut Dan","Caransebes",2,2,"H",null,null,null,{"$f":"catp","v":4}]
[4840,"Oprea Marian","Bucuresti",2,2,"H",null,null,null,{"$f":"catp","v":4}]
[4841,"Dicu Andrei","Bucuresti",2,2,"H",null,null,null,{"$f":"catp","v":4}]
[4842,"Ghimpau Stefan","Bucuresti",2,2,"H",null,null,null,{"$f":"catp","v":4}]
[4843,"Ifrim Mihai","Falticeni",2,2,"H",null,null,null,{"$f":"catp","v":4}]
[4844,"Ceornei Andrei","Falticeni",2,2,"H",null,null,null,{"$f":"catp","v":4}]
[4845,"Avram Mihai","Sibiu",2,2,"H",null,null,null,{"$f":"catp","v":4}]
[4846,"Tudorascu Mircea","Orastie",2,2,"H",null,null,null,{"$f":"catp","v":4}]
[4847,"Cata Doru","Baia Mare",2,2,"H",null,null,null,{"$f":"catp","v":4}]
[4848,"Bordea Diana","Calan",2,2,"HF",null,null,null,{"$f":"catp","v":4}]
[4849,"Taga Mario","Barlad",2,2,"H",null,null,null,{"$f":"catp","v":4}]
[4850,"Linoiu Mircea","Constanta",2,2,"H",null,null,null,{"$f":"catp","v":4}]
[4851,"Rusti Denis","Arad",2,2,"H",null,null,null,{"$f":"catp","v":4}]
[4852,"Cirja Sorin","Arad",2,2,"H",null,null,null,{"$f":"catp","v":4}]
[4853,"Cirja Anita","Arad",2,2,"HF",null,null,null,{"$f":"catp","v":4}]
[4854,"Cirja Timea","Arad",2,2,"HF",null,null,null,{"$f":"catp","v":4}]
[4855,"Antonas Cristian","Dorohoi",2,2,"H",null,null,null,{"$f":"catp","v":4}]
[4856,"Gavriliuc Sorin","Botosani",2,2,"H",null,null,null,{"$f":"catp","v":4}]
[4857,"Ailoaie Cosmin Marian","Vorona",2,2,"H",null,null,null,{"$f":"catp","v":4}]
[4858,"Iordachioaea Filip","Pitesti",2,2,"H",null,null,null,{"$f":"catp","v":4}]
[4859,"Malureanu Grigore","Focsani",2,2,"H",null,null,null,{"$f":"catp","v":4}]
[4860,"Constantin Luca Andrei","Focsani",2,2,"H",null,null,null,{"$f":"catp","v":4}]
[4861,"Gegea Dimitrie","Straoane",2,2,"H",null,null,null,{"$f":"catp","v":4}]
[4862,"Bogatan Marius","Cluj Napoca",2,2,"H",null,null,null,{"$f":"catp","v":4}]
[4863,"Supciuc Apollinaria","Moldova-Balti",2,2,"HF",null,null,null,{"$f":"catp","v":4}]
[4864,"Ceaica Ilia","Moldova-Balti",2,2,"HF",null,null,null,{"$f":"catp","v":4}]
[4865,"Saric Artiom","Moldova-Balti",2,2,"H",null,null,null,{"$f":"catp","v":4}]
[4866,"Virla Teodor","Pitesti",2,2,"H",null,null,null,{"$f":"catp","v":4}]
[4867,"Ungureanu Rares","Pascani",2,2,"H",null,null,null,{"$f":"catp","v":4}]
[4868,"Albu Stefan","Iasi",2,2,"H",null,null,null,{"$f":"catp","v":4}]
[4869,"Bura Ionut Virgil","Cluj Napoca",2,2,"H",null,null,null,{"$f":"catp","v":4}]
[4870,"Dragan Paul","Zalau",2,2,"H",null,null,null,{"$f":"catp","v":4}]
[4871,"Boncoi Bogdan","Sinaia",2,2,"H",null,null,null,{"$f":"catp","v":4}]
[4872,"Ulesan Alexandru","Sibiu",2,2,"H",null,null,null,{"$f":"catp","v":4}]
[4873,"Mozes Florin","Sibiu",2,2,"H",null,null,null,{"$f":"catp","v":4}]
[4874,"Cretu Catalin","Floresti",2,2,"H",null,null,null,{"$f":"catp","v":4}]
[4875,"Stoian Mihnea","Alexandria",2,2,"H",null,null,null,{"$f":"catp","v":4}]
[4876,"Dinca Bogdan","Alexandria",2,2,"H",null,null,null,{"$f":"catp","v":4}]
[4877,"Cosma Cosmin","Iasi",2,2,"H",null,null,null,{"$f":"catp","v":4}]
[4878,"Muresan Paul","Uriu",2,2,"H",null,null,null,{"$f":"catp","v":4}]
[4879,"Penciuc Danut","Cluj Napoca",2,2,"H",null,null,null,{"$f":"catp","v":4}]
[4880,"Fazecas Daniel","Malut",2,2,"H",null,null,null,{"$f":"catp","v":4}]
[4881,"Musat Tudor","Lipanesti",2,2,"H",null,null,null,{"$f":"catp","v":4}]
[4882,"Stefan Nicolas","Magurele",2,2,"H",null,null,null,{"$f":"catp","v":4}]
[4883,"Borza Sergiu","Moldova-Leova",2,2,"H",null,null,null,{"$f":"catp","v":4}]
[4884,"Deli Victoria","Moldova-Comrat",2,2,"HF",null,null,null,{"$f":"catp","v":4}]
[4885,"Osipov Dmitrii","Moldova-Comrat",2,2,"H",null,null,null,{"$f":"catp","v":4}]
[4886,"Tomoiaga Daniel","Viseu",2,2,"H",null,null,null,{"$f":"catp","v":4}]
[4887,"Potlog Nicolae","Viseu",2,2,"H",null,null,null,{"$f":"catp","v":4}]
[4888,"Chesa Dragos","Viseu",2,2,"H",null,null,null,{"$f":"catp","v":4}]
[4889,"Dunca Daniel","Viseu",2,2,"H",null,null,null,{"$f":"catp","v":4}]
[4890,"Mechetiuc Daniel","Viseu",2,2,"H",null,null,null,{"$f":"catp","v":4}]
[4891,"Faiciuc Damian","Viseu",2,2,"H",null,null,null,{"$f":"catp","v":4}]
[4892,"Ciotlaus Ilarie","Hunedoara",2,2,"H",null,null,null,{"$f":"catp","v":4}]
[4893,"Stanamirescu Ianis","Hateg",2,2,"H",null,null,null,{"$f":"catp","v":4}]
[4894,"Gotea Denis","Hateg",2,2,"H",null,null,null,{"$f":"catp","v":4}]
[4895,"Petre Viorel","Bucuresti",2,2,"H",null,null,null,{"$f":"catp","v":4}]
[4896,"Avramescu Claudiu","Bucuresti",2,2,"H",null,null,null,{"$f":"catp","v":4}]
[4897,"Bistreanu Petru","Bucuresti",2,2,"H",null,null,null,{"$f":"catp","v":4}]
[4928,"Pop Stefan","Bistrita",1.5,2,"HW",null,null,null,{"$f":"catp","v":4}]
[4929,"Span Adrian","Bistrita",1.5,2,"H",null,null,null,{"$f":"catp","v":4}]
[4930,"Dochita Mircea","Braila",1.5,2,"H",null,null,null,{"$f":"catp","v":4}]
[4931,"Urdes Marian","Tulcea",1.5,2,"H",null,null,null,{"$f":"catp","v":4}]
[4932,"Ungureanu Costinel","Drobeta Tr Severin",1.5,2,"H",null,null,null,{"$f":"catp","v":4}]
[4933,"Badiu Neculaie","Braila",1.5,2,"H",null,null,null,{"$f":"catp","v":4}]
[4934,"Rusu Alexandru","Bistrita",1.5,2,"HW",null,null,null,{"$f":"catp","v":4}]
[4935,"Ceocea Elena","Tulcea",1.5,2,"HF",null,null,null,{"$f":"catp","v":4}]
[4936,"Toader Andrei","Bucuresti",1.5,2,"H",null,null,null,{"$f":"catp","v":4}]
[4937,"Milos Eugen","Alexandria",1.5,2,"H",null,null,null,{"$f":"catp","v":4}]
[4938,"Cozma Georgiana","Bistrita",1.5,2,"HF",null,null,null,{"$f":"catp","v":4}]
[4939,"Radu George","Targoviste",1.5,2,"H",null,null,null,{"$f":"catp","v":4}]
[4940,"Galateanu Lucian","Suceava",1.5,2,"H",null,null,null,{"$f":"catp","v":4}]
[4941,"Cozma Delia","Bistrita",1.5,2,"HF",null,null,null,{"$f":"catp","v":4}]
[4942,"Vlaicu Victor","Zalau",1.5,2,"H",null,null,null,{"$f":"catp","v":4}]
[4943,"Ghenea Eugen","Targoviste",1.5,2,"H",null,null,null,{"$f":"catp","v":4}]
[4944,"Bardan Bogdan","Craiova",1.5,2,"H",null,null,null,{"$f":"catp","v":4}]
[4945,"Pop Ioan Sorin","Dej",1.5,2,"H",null,null,null,{"$f":"catp","v":4}]
[4946,"Szabo Luka Kazmer","Miercurea Ciuc",1.5,2,"H",null,null,null,{"$f":"catp","v":4}]
[4947,"Stoica Sebastian","Sibiu",1.5,2,"H",null,null,null,{"$f":"catp","v":4}]
[4948,"Moise Cristian","Brasov",1.5,2,"H",null,null,null,{"$f":"catp","v":4}]
[4949,"Tufis Razvan","Bucuresti",1.5,2,"H",null,null,null,{"$f":"catp","v":4}]
[4950,"Spatar Denis","Agnita",1.5,2,"H",null,null,null,{"$f":"catp","v":4}]
[4951,"Simota Florin","Radauti",1.5,2,"H",null,null,null,{"$f":"catp","v":4}]
[4952,"Abdullah Diab","Iordania",1.5,2,"H",null,null,null,{"$f":"catp","v":4}]
[4953,"Terhes George","Zalau",1.5,2,"H",null,null,null,{"$f":"catp","v":4}]
[4954,"Zaharie Elisa","Radauti",1.5,2,"HF",null,null,null,{"$f":"catp","v":4}]
[4955,"Horeanu Lucian Adrian","Botosani",1.5,2,"H",null,null,null,{"$f":"catp","v":4}]
[4956,"Lebada Flavia","Bucuresti",1.5,2,"HF",null,null,null,{"$f":"catp","v":4}]
[4957,"Baciu Alexandru","Giarmata",1.5,2,"H",null,null,null,{"$f":"catp","v":4}]
[4958,"Baciu Adrian","Giarmata",1.5,2,"H",null,null,null,{"$f":"catp","v":4}]
[4959,"Benko Istvan","Targu Secuiesc",1.5,2,"H",null,null,null,{"$f":"catp","v":4}]
[4960,"Luca Ioan Iacob","Hunedoara",1.5,2,"H",null,null,null,{"$f":"catp","v":4}]
[4961,"Tocan Costin","Moreni",1.5,2,"H",null,null,null,{"$f":"catp","v":4}]
[4962,"Patrascu George","Tulcea",1.5,2,"H",null,null,null,{"$f":"catp","v":4}]
[4963,"Manescu David","Bucuresti",1.5,2,"H",null,null,null,{"$f":"catp","v":4}]
[4964,"Ghimis Alexandru","Sibiu",1.5,2,"H",null,null,null,{"$f":"catp","v":4}]
[4965,"Lacatus Ana Maria","Agnita",1.5,2,"HF",null,null,null,{"$f":"catp","v":4}]
[4966,"Pandelescu Romulus","Bucuresti",1.5,2,"H",null,null,null,{"$f":"catp","v":4}]
[4967,"Tatarus Daniel","Bucuresti",1.5,2,"H",null,null,null,{"$f":"catp","v":4}]
[4968,"Ionescu Mihai Dragos","Bucuresti",1.5,2,"H",null,null,null,{"$f":"catp","v":4}]
[4969,"Marinas Lucian","Bucuresti",1.5,2,"H",null,null,null,{"$f":"catp","v":4}]
[4970,"Berbentea Flavius","Dumbravita",1.5,2,"H",null,null,null,{"$f":"catp","v":4}]
[4971,"Dascalescu Rares","Hunedoara",1.5,2,"H",null,null,null,{"$f":"catp","v":4}]
[4972,"Vintilescu Adelin","Slatina",1.5,2,"H",null,null,null,{"$f":"catp","v":4}]
[4973,"Alexandru Valentin","Slatina",1.5,2,"H",null,null,null,{"$f":"catp","v":4}]
[4974,"Contiu Flaviu","Floresti",1.5,2,"H",null,null,null,{"$f":"catp","v":4}]
[4975,"Sava Codrin","Buhusi",1.5,2,"H",null,null,null,{"$f":"catp","v":4}]
[4976,"Usatiuc Toader","Radauti",1.5,2,"H",null,null,null,{"$f":"catp","v":4}]
[4977,"Breaz Alexandru","Hunedoara",1.5,2,"H",null,null,null,{"$f":"catp","v":4}]
[4978,"Cimpoies Serghei","Moldova-Briceni",1.5,2,"H",null,null,null,{"$f":"catp","v":4}]
[4979,"Munteanu Ion","Moldova-Balti",1.5,2,"H",null,null,null,{"$f":"catp","v":4}]
[4980,"Cisco Elvira","Moldova-Balti",1.5,2,"HF",null,null,null,{"$f":"catp","v":4}]
[4981,"Cucereavii Mihail","Moldova-Balti",1.5,2,"H",null,null,null,{"$f":"catp","v":4}]
[4982,"Dulap Viorel","Moldova-Edinet",1.5,2,"H",null,null,null,{"$f":"catp","v":4}]
[4983,"Ilie Dumitru","Galati",1.5,2,"H",null,null,null,{"$f":"catp","v":4}]
[4984,"Danaila Cornel","Galati",1.5,2,"H",null,null,null,{"$f":"catp","v":4}]
[4985,"Dansorean Stefan","Cluj Napoca",1.5,2,"H",null,null,null,{"$f":"catp","v":4}]
[4986,"Husanu Ciprian","Brasov",1.5,2,"H",null,null,null,{"$f":"catp","v":4}]
[4987,"Bargianu Mario David","Botosani",1.5,2,"H",null,null,null,{"$f":"catp","v":4}]
[4988,"Belenesi Istvan","Oradea",1.5,2,"H",null,null,null,{"$f":"catp","v":4}]
[4989,"Anbrus Stefan","Bistrita",1.5,2,"H",null,null,null,{"$f":"catp","v":4}]
[4990,"Schemel Mihai","Bistrita",1.5,2,"H",null,null,null,{"$f":"catp","v":4}]
[4991,"Constantin Alexandru","Cluj Napoca",1.5,2,"H",null,null,null,{"$f":"catp","v":4}]
[4992,"Babadac Patricia","Slatina",1.5,2,"HF",null,null,null,{"$f":"catp","v":4}]
[4993,"Lazar Emilian","Navodari",1.5,2,"H",null,null,null,{"$f":"catp","v":4}]
[4994,"Zamfir Robert","Constanta",1.5,2,"H",null,null,null,{"$f":"catp","v":4}]
[4995,"Moraru David","Constanta",1.5,2,"H",null,null,null,{"$f":"catp","v":4}]
[4996,"Ciobanu Andrei","Iasi",1.5,2,"H",null,null,null,{"$f":"catp","v":4}]
[4997,"Benchea Celestin","Iasi",1.5,2,"H",null,null,null,{"$f":"catp","v":4}]
[4998,"Bragus Sorin","Bucuresti",1.5,2,"H",null,null,null,{"$f":"catp","v":4}]
[4999,"Ciubar Codrut","Bucuresti",1.5,2,"H",null,null,null,{"$f":"catp","v":4}]
[5000,"Cheran Tiberiu","Bucuresti",1.5,2,"H",null,null,null,{"$f":"catp","v":4}]
[5001,"Bojan Alina","Alexandria",1.5,2,"HF",null,null,null,{"$f":"catp","v":4}]
[5002,"Serban Claudio","Alexandria",1.5,2,"H",null,null,null,{"$f":"catp","v":4}]
[5003,"Bokor Barna","Targu Mures",1.5,2,"H",null,null,null,{"$f":"catp","v":4}]
[5004,"Ionescu Vlad Alex","Brasov",1.5,2,"H",null,null,null,{"$f":"catp","v":4}]
[5005,"Sagau Damian","Brasov",1.5,2,"H",null,null,null,{"$f":"catp","v":4}]
[5006,"Mateut David Jr","Apahida",1.5,2,"H",null,null,null,{"$f":"catp","v":4}]
[5007,"Baluta George","Tulcea",1.5,2,"H",null,null,null,{"$f":"catp","v":4}]
[5008,"Ene Aurel","Tulcea",1.5,2,"H",null,null,null,{"$f":"catp","v":4}]
[5009,"Tipa Aurel Maxim","Solonet",1.5,2,"H",null,null,null,{"$f":"catp","v":4}]
[5010,"Manastireanu Andrei","Botosani",1.5,2,"H",null,null,null,{"$f":"catp","v":4}]
[5011,"Donea George","Brasov",1.5,2,"H",null,null,null,{"$f":"catp","v":4}]
[5012,"Dragu Bogdan","Brasov",1.5,2,"H",null,null,null,{"$f":"catp","v":4}]
[5013,"Grosu Alexandru","Brasov",1.5,2,"H",null,null,null,{"$f":"catp","v":4}]
[5014,"Rizescu David","Ramnicu Valcea",1.5,2,"H",null,null,null,{"$f":"catp","v":4}]
[5015,"Balaj Cristian","Navodari",1.5,2,"H",null,null,null,{"$f":"catp","v":4}]
[5016,"Nicu Daniel","Ramnicu Valcea",1.5,2,"H",null,null,null,{"$f":"catp","v":4}]
[5017,"Enache Ionut","Ramnicu Valcea",1.5,2,"H",null,null,null,{"$f":"catp","v":4}]
[5018,"Incze Szilard","Miercurea Ciuc",1.5,2,"H",null,null,null,{"$f":"catp","v":4}]
[5019,"Trifan Stefan","Galati",1.5,2,"H",null,null,null,{"$f":"catp","v":4}]
[5020,"Burtea Iustin Gabriel","Galati",1.5,2,"H",null,null,null,{"$f":"catp","v":4}]
[5021,"Trifan Valentin","Galati",1.5,2,"H",null,null,null,{"$f":"catp","v":4}]
[5022,"Modiga Patrick","Arad",1.5,2,"H",null,null,null,{"$f":"catp","v":4}]
[5023,"Meszaros Mircea","Oradea",1.5,2,"H",null,null,null,{"$f":"catp","v":4}]
[5024,"Sabau Florin","Oradea",1.5,2,"H",null,null,null,{"$f":"catp","v":4}]
[5025,"Nan Luca","Oradea",1.5,2,"H",null,null,null,{"$f":"catp","v":4}]
[5026,"Mada Razvan","Oradea",1.5,2,"H",null,null,null,{"$f":"catp","v":4}]
[5027,"Cotun Leo","Suceava",1.5,2,"H",null,null,null,{"$f":"catp","v":4}]
[5028,"Merlici Daniel","Bucuresti",1.5,2,"H",null,null,null,{"$f":"catp","v":4}]
[5029,"Pop Vlad","Viseu",1.5,2,"H",null,null,null,{"$f":"catp","v":4}]
[5030,"Munteanu Sorin","Baia Mare",1.5,2,"H",null,null,null,{"$f":"catp","v":4}]
[5031,"Bartha Zoltan","Oradea",1.5,2,"H",null,null,null,{"$f":"catp","v":4}]
[5032,"Hodorog Ana Maria","Oradea",1.5,2,"HF",null,null,null,{"$f":"catp","v":4}]
[5033,"Munteanu Dragos","Tulcea",1.5,2,"H",null,null,null,{"$f":"catp","v":4}]
[5034,"Ailinca Cristina","Brasov",1.5,2,"HF",null,null,null,{"$f":"catp","v":4}]
[5035,"Lehel Csiki","Brasov",1.5,2,"H",null,null,null,{"$f":"catp","v":4}]
[5036,"Lupu Vladimir Nicolas","Brasov",1.5,2,"H",null,null,null,{"$f":"catp","v":4}]
[5037,"Popa Marius","Brasov",1.5,2,"H",null,null,null,{"$f":"catp","v":4}]
[5038,"Dobrean Ruben","Faget",1.5,2,"H",null,null,null,{"$f":"catp","v":4}]
[5039,"Stoica Carmen","Lunca Muresului",1.5,2,"HF",null,null,null,{"$f":"catp","v":4}]
[5040,"Stoica Flavia","Lunca Muresului",1.5,2,"HF",null,null,null,{"$f":"catp","v":4}]
[5041,"Cerciu Samir","Timisoara",1.5,2,"H",null,null,null,{"$f":"catp","v":4}]
[5042,"Sandor Bela","Sfantu Gheorghe",1.5,2,"H",null,null,null,{"$f":"catp","v":4}]
[5043,"Dima Ionel","Braila",1.5,2,"H",null,null,null,{"$f":"catp","v":4}]
[5044,"Enus Claudiu","Videle",1.5,2,"H",null,null,null,{"$f":"catp","v":4}]
[5045,"Voicu Sergiu","Bucuresti",1.5,2,"H",null,null,null,{"$f":"catp","v":4}]
[5046,"Anghel Vlad","Bucuresti",1.5,2,"H",null,null,null,{"$f":"catp","v":4}]
[5047,"Tesleanu Catalin","Bucuresti",1.5,2,"H",null,null,null,{"$f":"catp","v":4}]
[5048,"Florea Daniel","Bucuresti",1.5,2,"H",null,null,null,{"$f":"catp","v":4}]
[5049,"Brezaie Andrei","Alexandria",1.5,2,"H",null,null,null,{"$f":"catp","v":4}]
[5050,"Timar Alex","Targu Mures",1.5,2,"H",null,null,null,{"$f":"catp","v":4}]
[5051,"Csiszer Sandor","Targu Mures",1.5,2,"H",null,null,null,{"$f":"catp","v":4}]
[5052,"Armanu Cristian","Bucuresti",1.5,2,"H",null,null,null,{"$f":"catp","v":4}]
[5053,"Moldovan Sorin","Beclean",1.5,2,"H",null,null,null,{"$f":"catp","v":4}]
[5054,"Malutan Corneliu","Chiuza",1.5,2,"H",null,null,null,{"$f":"catp","v":4}]
[5055,"Constantin Vlad","Bucuresti",1.5,2,"H",null,null,null,{"$f":"catp","v":4}]
[5056,"Dutu Alexandru","Ploiesti",1.5,2,"H",null,null,null,{"$f":"catp","v":4}]
[5057,"Ghinea Dragos","Moinesti",1.5,2,"H",null,null,null,{"$f":"catp","v":4}]
[5058,"Mato Petru","Timisoara",1.5,2,"H",null,null,null,{"$f":"catp","v":4}]
[5059,"Onet Denis","Utvin",1.5,2,"H",null,null,null,{"$f":"catp","v":4}]
[5060,"Fordon Alin","Campani",1.5,2,"H",null,null,null,{"$f":"catp","v":4}]
[5061,"Mocan Betuel","Stei",1.5,2,"H",null,null,null,{"$f":"catp","v":4}]
[5062,"Mocan Elias","Stei",1.5,2,"H",null,null,null,{"$f":"catp","v":4}]
[5063,"Manole Daria","Bucuresti",1.5,2,"HF",null,null,null,{"$f":"catp","v":4}]
[5064,"Ghita Eric","Sibiu",1.5,2,"H",null,null,null,{"$f":"catp","v":4}]
[5065,"Mohonea Angel","Braila",1.5,2,"H",null,null,null,{"$f":"catp","v":4}]
[5066,"Anghel Ciprian","Buzau",1.5,2,"H",null,null,null,{"$f":"catp","v":4}]
[5067,"Roman Raisa","Alexandria",1.5,2,"HF",null,null,null,{"$f":"catp","v":4}]
[5068,"Mavrodineanu Gabriel","Alexandria",1.5,2,"H",null,null,null,{"$f":"catp","v":4}]
[5069,"Stoinea Mihai","Alexandria",1.5,2,"H",null,null,null,{"$f":"catp","v":4}]
[5070,"Sandu Adrian Stefan","Slatina",1.5,2,"H",null,null,null,{"$f":"catp","v":4}]
[5071,"Codreanu Iulia","Vatra Dornei",1.5,2,"HF",null,null,null,{"$f":"catp","v":4}]
[5072,"Oprea Daciana","Aiud",1.5,2,"HF",null,null,null,{"$f":"catp","v":4}]
[5073,"Faladau Madalina","Aiud",1.5,2,"HF",null,null,null,{"$f":"catp","v":4}]
[5074,"Duma Tiberiu","Sibiu",1.5,2,"H",null,null,null,{"$f":"catp","v":4}]
[5075,"Zaharia Tudor","Suceava",1.5,2,"H",null,null,null,{"$f":"catp","v":4}]
[5076,"Lupchian Elisa","Suceava",1.5,2,"HF",null,null,null,{"$f":"catp","v":4}]
[5077,"Nagy Kristof","Targu Mures",1.5,2,"H",null,null,null,{"$f":"catp","v":4}]
[5078,"Pataki Albertina","Targu Mures",1.5,2,"HF",null,null,null,{"$f":"catp","v":4}]
[6001,null,null,0,0,null,null,null,null,{"$f":"catp","v":9}]
[6002,null,null,0,0,null,null,null,null,{"$f":"catp","v":9}]
[6003,null,null,0,0,null,null,null,null,{"$f":"catp","v":9}]
[6004,null,null,0,0,null,null,null,null,{"$f":"catp","v":9}]
[6005,null,null,0,0,null,null,null,null,{"$f":"catp","v":9}]
[6006,null,null,0,0,null,null,null,null,{"$f":"catp","v":9}]
[6007,null,null,0,0,null,null,null,null,{"$f":"catp","v":9}]
[6008,null,null,0,0,null,null,null,null,{"$f":"catp","v":9}]
[6009,null,null,0,0,null,null,null,null,{"$f":"catp","v":9}]
[6010,null,null,0,0,null,null,null,null,{"$f":"catp","v":9}]
[6011,null,null,0,0,null,null,null,null,{"$f":"catp","v":9}]
[6012,null,null,0,0,null,null,null,null,{"$f":"catp","v":9}]
[6013,null,null,0,0,null,null,null,null,{"$f":"catp","v":9}]
[6014,null,null,0,0,null,null,null,null,{"$f":"catp","v":9}]
[6015,null,null,0,0,null,null,null,null,{"$f":"catp","v":9}]
[6016,null,null,0,0,null,null,null,null,{"$f":"catp","v":9}]
[6017,null,null,0,0,null,null,null,null,{"$f":"catp","v":9}]
[6018,null,null,0,0,null,null,null,null,{"$f":"catp","v":9}]
[6019,null,null,0,0,null,null,null,null,{"$f":"catp","v":9}]
[6020,null,null,0,0,null,null,null,null,{"$f":"catp","v":9}]
[6021,null,null,0,0,null,null,null,null,{"$f":"catp","v":9}]
[6022,null,null,0,0,null,null,null,null,{"$f":"catp","v":9}]
[6023,null,null,0,0,null,null,null,null,{"$f":"catp","v":9}]
[6024,null,null,0,0,null,null,null,null,{"$f":"catp","v":9}]
[6025,null,null,0,0,null,null,null,null,{"$f":"catp","v":9}]
[6026,null,null,0,0,null,null,null,null,{"$f":"catp","v":9}]
[6027,null,null,0,0,null,null,null,null,{"$f":"catp","v":9}]
[6028,null,null,0,0,null,null,null,null,{"$f":"catp","v":9}]
[6029,null,null,0,0,null,null,null,null,{"$f":"catp","v":9}]
[6030,null,null,0,0,null,null,null,null,{"$f":"catp","v":9}]
[6031,null,null,0,0,null,null,null,null,{"$f":"catp","v":9}]
[6032,null,null,0,0,null,null,null,null,{"$f":"catp","v":9}]
[6033,null,null,0,0,null,null,null,null,{"$f":"catp","v":9}]
[6034,null,null,0,0,null,null,null,null,{"$f":"catp","v":9}]
[6035,null,null,0,0,null,null,null,null,{"$f":"catp","v":9}]
[6036,null,null,0,0,null,null,null,null,{"$f":"catp","v":9}]
[6037,null,null,0,0,null,null,null,null,{"$f":"catp","v":9}]
[6038,null,null,0,0,null,null,null,null,{"$f":"catp","v":9}]
[6039,null,null,0,0,null,null,null,null,{"$f":"catp","v":9}]
[6040,null,null,0,0,null,null,null,null,{"$f":"catp","v":9}]
[6041,null,null,0,0,null,null,null,null,{"$f":"catp","v":9}]
[6042,null,null,0,0,null,null,null,null,{"$f":"catp","v":9}]
[6043,null,null,0,0,null,null,null,null,{"$f":"catp","v":9}]
[6044,null,null,0,0,null,null,null,null,{"$f":"catp","v":9}]
[6045,null,null,0,0,null,null,null,null,{"$f":"catp","v":9}]
[6046,null,null,0,0,null,null,null,null,{"$f":"catp","v":9}]
[6047,null,null,0,0,null,null,null,null,{"$f":"catp","v":9}]
[6048,null,null,0,0,null,null,null,null,{"$f":"catp","v":9}]
[6049,null,null,0,0,null,null,null,null,{"$f":"catp","v":9}]
[6050,null,null,0,0,null,null,null,null,{"$f":"catp","v":9}]
[6051,null,null,0,0,null,null,null,null,{"$f":"catp","v":9}]
[6052,null,null,0,0,null,null,null,null,{"$f":"catp","v":9}]
[6053,null,null,0,0,null,null,null,null,{"$f":"catp","v":9}]
[6054,null,null,0,0,null,null,null,null,{"$f":"catp","v":9}]
[6055,null,null,0,0,null,null,null,null,{"$f":"catp","v":9}]
[6056,null,null,0,0,null,null,null,null,{"$f":"catp","v":9}]
[6057,null,null,0,0,null,null,null,null,{"$f":"catp","v":9}]
[6058,null,null,0,0,null,null,null,null,{"$f":"catp","v":9}]
[6059,null,null,0,0,null,null,null,null,{"$f":"catp","v":9}]
[6060,null,null,0,0,null,null,null,null,{"$f":"catp","v":9}]
[6061,null,null,0,0,null,null,null,null,{"$f":"catp","v":9}]
[6062,null,null,0,0,null,null,null,null,{"$f":"catp","v":9}]
[6063,null,null,0,0,null,null,null,null,{"$f":"catp","v":9}]
[6064,null,null,0,0,null,null,null,null,{"$f":"catp","v":9}]
[6065,null,null,0,0,null,null,null,null,{"$f":"catp","v":9}]
[6066,null,null,0,0,null,null,null,null,{"$f":"catp","v":9}]
[6067,null,null,0,0,null,null,null,null,{"$f":"catp","v":9}]
[6068,null,null,0,0,null,null,null,null,{"$f":"catp","v":9}]
[6069,null,null,0,0,null,null,null,null,{"$f":"catp","v":9}]
[6070,null,null,0,0,null,null,null,null,{"$f":"catp","v":9}]
[6071,null,null,0,0,null,null,null,null,{"$f":"catp","v":9}]
[6072,null,null,0,0,null,null,null,null,{"$f":"catp","v":9}]
[6073,null,null,0,0,null,null,null,null,{"$f":"catp","v":9}]
[6074,null,null,0,0,null,null,null,null,{"$f":"catp","v":9}]
[6075,null,null,0,0,null,null,null,null,{"$f":"catp","v":9}]
[6076,null,null,0,0,null,null,null,null,{"$f":"catp","v":9}]
[6077,null,null,0,0,null,null,null,null,{"$f":"catp","v":9}]
[6078,null,null,0,0,null,null,null,null,{"$f":"catp","v":9}]
[6079,null,null,0,0,null,null,null,null,{"$f":"catp","v":9}]
[6080,null,null,0,0,null,null,null,null,{"$f":"catp","v":9}]
[6081,null,null,0,0,null,null,null,null,{"$f":"catp","v":9}]
[6082,null,null,0,0,null,null,null,null,{"$f":"catp","v":9}]
[6083,null,null,0,0,null,null,null,null,{"$f":"catp","v":9}]
[6084,null,null,0,0,null,null,null,null,{"$f":"catp","v":9}]
[6085,null,null,0,0,null,null,null,null,{"$f":"catp","v":9}]
[6086,null,null,0,0,null,null,null,null,{"$f":"catp","v":9}]
[6087,null,null,0,0,null,null,null,null,{"$f":"catp","v":9}]
[6088,null,null,0,0,null,null,null,null,{"$f":"catp","v":9}]
[6089,null,null,0,0,null,null,null,null,{"$f":"catp","v":9}]
[6090,null,null,0,0,null,null,null,null,{"$f":"catp","v":9}]
[6091,null,null,0,0,null,null,null,null,{"$f":"catp","v":9}]
[6092,null,null,0,0,null,null,null,null,{"$f":"catp","v":9}]
[6093,null,null,0,0,null,null,null,null,{"$f":"catp","v":9}]
[6094,null,null,0,0,null,null,null,null,{"$f":"catp","v":9}]
[6095,null,null,0,0,null,null,null,null,{"$f":"catp","v":9}]
[6096,null,null,0,0,null,null,null,null,{"$f":"catp","v":9}]
[6097,null,null,0,0,null,null,null,null,{"$f":"catp","v":9}]
[6098,null,null,0,0,null,null,null,null,{"$f":"catp","v":9}]
[6099,null,null,0,0,null,null,null,null,{"$f":"catp","v":9}]
[6100,null,null,0,0,null,null,null,null,{"$f":"catp","v":9}]
[6101,null,null,0,0,null,null,null,null,{"$f":"catp","v":9}]
[6102,null,null,0,0,null,null,null,null,{"$f":"catp","v":9}]
[6103,null,null,0,0,null,null,null,null,{"$f":"catp","v":9}]
[6104,null,null,0,0,null,null,null,null,{"$f":"catp","v":9}]
[6105,null,null,0,0,null,null,null,null,{"$f":"catp","v":9}]
[6106,null,null,0,0,null,null,null,null,{"$f":"catp","v":9}]
[6107,null,null,0,0,null,null,null,null,{"$f":"catp","v":9}]
[6108,null,null,0,0,null,null,null,null,{"$f":"catp","v":9}]
[6109,null,null,0,0,null,null,null,null,{"$f":"catp","v":9}]
[6110,null,null,0,0,null,null,null,null,{"$f":"catp","v":9}]
[6111,null,null,0,0,null,null,null,null,{"$f":"catp","v":9}]
[6112,null,null,0,0,null,null,null,null,{"$f":"catp","v":9}]
[6113,null,null,0,0,null,null,null,null,{"$f":"catp","v":9}]
[6114,null,null,0,0,null,null,null,null,{"$f":"catp","v":9}]
[6115,null,null,0,0,null,null,null,null,{"$f":"catp","v":9}]
[6116,null,null,0,0,null,null,null,null,{"$f":"catp","v":9}]
[6117,null,null,0,0,null,null,null,null,{"$f":"catp","v":9}]
[6118,null,null,0,0,null,null,null,null,{"$f":"catp","v":9}]
[6119,null,null,0,0,null,null,null,null,{"$f":"catp","v":9}]
[6120,null,null,0,0,null,null,null,null,{"$f":"catp","v":9}]
[6121,null,null,0,0,null,null,null,null,{"$f":"catp","v":9}]
[6122,null,null,0,0,null,null,null,null,{"$f":"catp","v":9}]
[6123,null,null,0,0,null,null,null,null,{"$f":"catp","v":9}]
[6124,null,null,0,0,null,null,null,null,{"$f":"catp","v":9}]
[6125,null,null,0,0,null,null,null,null,{"$f":"catp","v":9}]
[6126,null,null,0,0,null,null,null,null,{"$f":"catp","v":9}]
[6127,null,null,0,0,null,null,null,null,{"$f":"catp","v":9}]
[6128,null,null,0,0,null,null,null,null,{"$f":"catp","v":9}]
[6129,null,null,0,0,null,null,null,null,{"$f":"catp","v":9}]
[6130,null,null,0,0,null,null,null,null,{"$f":"catp","v":9}]
[6131,null,null,0,0,null,null,null,null,{"$f":"catp","v":9}]
[6132,null,null,0,0,null,null,null,null,{"$f":"catp","v":9}]
[6133,null,null,0,0,null,null,null,null,{"$f":"catp","v":9}]
[6134,null,null,0,0,null,null,null,null,{"$f":"catp","v":9}]
[6135,null,null,0,0,null,null,null,null,{"$f":"catp","v":9}]
[6136,null,null,0,0,null,null,null,null,{"$f":"catp","v":9}]
[6137,null,null,0,0,null,null,null,null,{"$f":"catp","v":9}]
[6138,null,null,0,0,null,null,null,null,{"$f":"catp","v":9}]
[6139,null,null,0,0,null,null,null,null,{"$f":"catp","v":9}]
[6140,null,null,0,0,null,null,null,null,{"$f":"catp","v":9}]
[6141,null,null,0,0,null,null,null,null,{"$f":"catp","v":9}]
[6142,null,null,0,0,null,null,null,null,{"$f":"catp","v":9}]
[6143,null,null,0,0,null,null,null,null,{"$f":"catp","v":9}]
[6144,null,null,0,0,null,null,null,null,{"$f":"catp","v":9}]
[6145,null,null,0,0,null,null,null,null,{"$f":"catp","v":9}]
[6146,null,null,0,0,null,null,null,null,{"$f":"catp","v":9}]
[6147,null,null,0,0,null,null,null,null,{"$f":"catp","v":9}]
[6148,null,null,0,0,null,null,null,null,{"$f":"catp","v":9}]
[6149,null,null,0,0,null,null,null,null,{"$f":"catp","v":9}]
[6150,null,null,0,0,null,null,null,null,{"$f":"catp","v":9}]
[6151,null,null,0,0,null,null,null,null,{"$f":"catp","v":9}]
[6152,null,null,0,0,null,null,null,null,{"$f":"catp","v":9}]
[6153,null,null,0,0,null,null,null,null,{"$f":"catp","v":9}]
[6154,null,null,0,0,null,null,null,null,{"$f":"catp","v":9}]
[6155,null,null,0,0,null,null,null,null,{"$f":"catp","v":9}]
[6156,null,null,0,0,null,null,null,null,{"$f":"catp","v":9}]
[6157,null,null,0,0,null,null,null,null,{"$f":"catp","v":9}]
[6158,null,null,0,0,null,null,null,null,{"$f":"catp","v":9}]
[6159,null,null,0,0,null,null,null,null,{"$f":"catp","v":9}]
[6160,null,null,0,0,null,null,null,null,{"$f":"catp","v":9}]
[6161,null,null,0,0,null,null,null,null,{"$f":"catp","v":9}]
[6162,null,null,0,0,null,null,null,null,{"$f":"catp","v":9}]
[6163,null,null,0,0,null,null,null,null,{"$f":"catp","v":9}]
[6164,null,null,0,0,null,null,null,null,{"$f":"catp","v":9}]
[6165,null,null,0,0,null,null,null,null,{"$f":"catp","v":9}]
[6166,null,null,0,0,null,null,null,null,{"$f":"catp","v":9}]
[6167,null,null,0,0,null,null,null,null,{"$f":"catp","v":9}]
[6168,null,null,0,0,null,null,null,null,{"$f":"catp","v":9}]
[6169,null,null,0,0,null,null,null,null,{"$f":"catp","v":9}]
[6170,null,null,0,0,null,null,null,null,{"$f":"catp","v":9}]
[6171,null,null,0,0,null,null,null,null,{"$f":"catp","v":9}]
[6172,null,null,0,0,null,null,null,null,{"$f":"catp","v":9}]
[6173,null,null,0,0,null,null,null,null,{"$f":"catp","v":9}]
[6174,null,null,0,0,null,null,null,null,{"$f":"catp","v":9}]
[6175,null,null,0,0,null,null,null,null,{"$f":"catp","v":9}]
[6176,null,null,0,0,null,null,null,null,{"$f":"catp","v":9}]
[6177,null,null,0,0,null,null,null,null,{"$f":"catp","v":9}]
[6178,null,null,0,0,null,null,null,null,{"$f":"catp","v":9}]
[6179,null,null,0,0,null,null,null,null,{"$f":"catp","v":9}]
[6180,null,null,0,0,null,null,null,null,{"$f":"catp","v":9}]
[6181,null,null,0,0,null,null,null,null,{"$f":"catp","v":9}]
[6182,null,null,0,0,null,null,null,null,{"$f":"catp","v":9}]
[6183,null,null,0,0,null,null,null,null,{"$f":"catp","v":9}]
[6184,null,null,0,0,null,null,null,null,{"$f":"catp","v":9}]
[6185,null,null,0,0,null,null,null,null,{"$f":"catp","v":9}]
[6186,null,null,0,0,null,null,null,null,{"$f":"catp","v":9}]
[6187,null,null,0,0,null,null,null,null,{"$f":"catp","v":9}]
[6188,null,null,0,0,null,null,null,null,{"$f":"catp","v":9}]
[6189,null,null,0,0,null,null,null,null,{"$f":"catp","v":9}]
[6190,null,null,0,0,null,null,null,null,{"$f":"catp","v":9}]
[6191,null,null,0,0,null,null,null,null,{"$f":"catp","v":9}]
[6192,null,null,0,0,null,null,null,null,{"$f":"catp","v":9}]
[6193,null,null,0,0,null,null,null,null,{"$f":"catp","v":9}]
[6194,null,null,0,0,null,null,null,null,{"$f":"catp","v":9}]
[6195,null,null,0,0,null,null,null,null,{"$f":"catp","v":9}]
[6196,null,null,0,0,null,null,null,null,{"$f":"catp","v":9}]
[6197,null,null,0,0,null,null,null,null,{"$f":"catp","v":9}]
[6198,null,null,0,0,null,null,null,null,{"$f":"catp","v":9}]
[6199,null,null,0,0,null,null,null,null,{"$f":"catp","v":9}]
[6200,null,null,0,0,null,null,null,null,{"$f":"catp","v":9}]
[6201,null,null,0,0,null,null,null,null,{"$f":"catp","v":9}]
[6202,null,null,0,0,null,null,null,null,{"$f":"catp","v":9}]
[6203,null,null,0,0,null,null,null,null,{"$f":"catp","v":9}]
[6204,null,null,0,0,null,null,null,null,{"$f":"catp","v":9}]
[6205,null,null,0,0,null,null,null,null,{"$f":"catp","v":9}]
[6206,null,null,0,0,null,null,null,null,{"$f":"catp","v":9}]
[6207,null,null,0,0,null,null,null,null,{"$f":"catp","v":9}]
[6208,null,null,0,0,null,null,null,null,{"$f":"catp","v":9}]
[6209,null,null,0,0,null,null,null,null,{"$f":"catp","v":9}]
[6210,null,null,0,0,null,null,null,null,{"$f":"catp","v":9}]
[6211,null,null,0,0,null,null,null,null,{"$f":"catp","v":9}]
[6212,null,null,0,0,null,null,null,null,{"$f":"catp","v":9}]
[6213,null,null,0,0,null,null,null,null,{"$f":"catp","v":9}]
[6214,null,null,0,0,null,null,null,null,{"$f":"catp","v":9}]
[6215,null,null,0,0,null,null,null,null,{"$f":"catp","v":9}]
[6216,null,null,0,0,null,null,null,null,{"$f":"catp","v":9}]
[6217,null,null,0,0,null,null,null,null,{"$f":"catp","v":9}]
[6218,null,null,0,0,null,null,null,null,{"$f":"catp","v":9}]
[6219,null,null,0,0,null,null,null,null,{"$f":"catp","v":9}]
[6220,null,null,0,0,null,null,null,null,{"$f":"catp","v":9}]
[6221,null,null,0,0,null,null,null,null,{"$f":"catp","v":9}]
[null,null,null,null,null,null,null,null,null,{"$f":"catp","v":9}]
[null,null,null,null,null,null,null,null,null,{"$f":"catp","v":9}]
[null,null,null,null,null,null,null,null,null,{"$f":"catp","v":9}]
[null,null,null,null,null,null,null,null,null,{"$f":"catp","v":9}]
[null,null,null,null,null,null,null,null,null,{"$f":"catp","v":9}]
[null,null,null,null,null,null,null,null,null,{"$f":"catp","v":9}]
[null,null,null,null,null,null,null,null,null,{"$f":"catp","v":9}]
[null,null,null,null,null,null,null,null,null,{"$f":"catp","v":9}]
[null,null,null,null,null,null,null,null,null,{"$f":"catp","v":9}]
[null,null,null,null,null,null,null,null,null,{"$f":"catp","v":9}]
[null,null,null,null,null,null,null,null,null,{"$f":"catp","v":9}]
[null,null,null,null,null,null,null,null,null,{"$f":"catp","v":9}]
[null,null,null,null,null,null,null,null,null,{"$f":"catp","v":9}]
[null,null,null,null,null,null,null,null,null,{"$f":"catp","v":9}]
[null,null,null,null,null,null,null,null,null,{"$f":"catp","v":9}]
[null,null,null,null,null,null,null,null,null,{"$f":"catp","v":9}]
[null,null,null,null,null,null,null,null,null,{"$f":"catp","v":9}]
[null,null,null,null,null,null,null,null,null,{"$f":"catp","v":9}]
[null,null,null,null,null,null,null,null,null,{"$f":"catp","v":9}]
[null,null,null,null,null,null,null,null,null,{"$f":"catp","v":9}]
[null,null,null,null,null,null,null,null,null,{"$f":"catp","v":9}]
[null,null,null,null,null,null,null,null,null,{"$f":"catp","v":9}]
[null,null,null,null,null,null,null,null,null,{"$f":"catp","v":9}]
[null,null,null,null,null,null,null,null,null,{"$f":"catp","v":9}]
[null,null,null,null,null,null,null,null,null,{"$f":"catp","v":9}]
[null,null,null,null,null,null,null,null,null,{"$f":"catp","v":9}]
[null,null,null,null,null,null,null,null,null,{"$f":"catp","v":9}]
[null,null,null,null,null,null,null,null,null,{"$f":"catp","v":9}]
[null,null,null,null,null,null,null,null,null,{"$f":"catp","v":9}]
[null,null,null,null,null,null,null,null,null,{"$f":"catp","v":9}]
[null,null,null,null,null,null,null,null,null,{"$f":"catp","v":9}]
[null,null,null,null,null,null,null,null,null,{"$f":"catp","v":9}]
[null,null,null,null,null,null,null,null,null,{"$f":"catp","v":9}]
[null,null,null,null,null,null,null,null,null,{"$f":"catp","v":9}]
[null,null,null,null,null,null,null,null,null,{"$f":"catp","v":9}]
[null,null,null,null,null,null,null,null,null,{"$f":"catp","v":9}]
[null,null,null,null,null,null,null,null,null,{"$f":"catp","v":9}]
[null,null,null,null,null,null,null,null,null,{"$f":"catp","v":9}]
[null,null,null,null,null,null,null,null,null,{"$f":"catp","v":9}]
[null,null,null,null,null,null,null,null,null,{"$f":"catp","v":9}]
[null,null,null,null,null,null,null,null,null,{"$f":"catp","v":9}]
[null,null,null,null,null,null,null,null,null,{"$f":"catp","v":9}]
[null,null,null,null,null,null,null,null,null,{"$f":"catp","v":9}]
[null,null,null,null,null,null,null,null,null,{"$f":"catp","v":9}]
[null,null,null,null,null,null,null,null,null,{"$f":"catp","v":9}]
[null,null,null,null,null,null,null,null,null,{"$f":"catp","v":9}]
[null,null,null,null,null,null,null,null,null,{"$f":"catp","v":9}]
[null,null,null,null,null,null,null,null,null,{"$f":"catp","v":9}]
[null,null,null,null,null,null,null,null,null,{"$f":"catp","v":9}]
[null,null,null,null,null,null,null,null,null,{"$f":"catp","v":9}]
[null,null,null,null,null,null,null,null,null,{"$f":"catp","v":9}]
[null,null,null,null,null,null,null,null,null,{"$f":"catp","v":9}]
[null,null,null,null,null,null,null,null,null,{"$f":"catp","v":9}]
[null,null,null,null,null,null,null,null,null,{"$f":"catp","v":9}]
[null,null,null,null,null,null,null,null,null,{"$f":"catp","v":9}]
[null,null,null,null,null,null,null,null,null,{"$f":"catp","v":9}]
[null,null,null,null,null,null,null,null,null,{"$f":"catp","v":9}]
[null,null,null,null,null,null,null,null,null,{"$f":"catp","v":9}]
[null,null,null,null,null,null,null,null,null,{"$f":"catp","v":9}]
[null,null,null,null,null,null,null,null,null,{"$f":"catp","v":9}]
[null,null,null,null,null,null,null,null,null,{"$f":"catp","v":9}]
[null,null,null,null,null,null,null,null,null,{"$f":"catp","v":9}]
[null,null,null,null,null,null,null,null,null,{"$f":"catp","v":9}]
[null,null,null,null,null,null,null,null,null,{"$f":"catp","v":9}]
[null,null,null,null,null,null,null,null,null,{"$f":"catp","v":9}]
[null,null,null,null,null,null,null,null,null,{"$f":"catp","v":9}]
[null,null,null,null,null,null,null,null,null,{"$f":"catp","v":9}]
[null,null,null,null,null,null,null,null,null,{"$f":"catp","v":9}]
[null,null,null,null,null,null,null,null,null,{"$f":"catp","v":9}]
[null,null,null,null,null,null,null,null,null,{"$f":"catp","v":9}]
[null,null,null,null,null,null,null,null,null,{"$f":"catp","v":9}]
[null,null,null,null,null,null,null,null,null,{"$f":"catp","v":9}]
[null,null,null,null,null,null,null,null,null,{"$f":"catp","v":9}]
[null,null,null,null,null,null,null,null,null,{"$f":"catp","v":9}]
[null,null,null,null,null,null,null,null,null,{"$f":"catp","v":9}]
[null,null,null,null,null,null,null,null,null,{"$f":"catp","v":9}]
[null,null,null,null,null,null,null,null,null,{"$f":"catp","v":9}]
[null,null,null,null,null,null,null,null,null,{"$f":"catp","v":9}]
[null,null,null,null,null,null,null,null,null,{"$f":"catp","v":9}]
[null,null,null,null,null,null,null,null,null,{"$f":"catp","v":9}]
[null,null,null,null,null,null,null,null,null,{"$f":"catp","v":9}]
[null,null,null,null,null,null,null,null,null,{"$f":"catp","v":9}]
[null,null,null,null,null,null,null,null,null,{"$f":"catp","v":9}]
[null,null,null,null,null,null,null,null,null,{"$f":"catp","v":9}]
[null,null,null,null,null,null,null,null,null,{"$f":"catp","v":9}]
[null,null,null,null,null,null,null,null,null,{"$f":"catp","v":9}]
[null,null,null,null,null,null,null,null,null,{"$f":"catp","v":9}]
[null,null,null,null,null,null,null,null,null,{"$f":"catp","v":9}]
[null,null,null,null,null,null,null,null,null,{"$f":"catp","v":9}]
[null,null,null,null,null,null,null,null,null,{"$f":"catp","v":9}]
[null,null,null,null,null,null,null,null,null,{"$f":"catp","v":9}]
[null,null,null,null,null,null,null,null,null,{"$f":"catp","v":9}]
[null,null,null,null,null,null,null,null,null,{"$f":"catp","v":9}]
[null,null,null,null,null,null,null,null,null,{"$f":"catp","v":9}]
[null,null,null,null,null,null,null,null,null,{"$f":"catp","v":9}]
[null,null,null,null,null,null,null,null,null,{"$f":"catp","v":9}]
[null,null,null,null,null,null,null,null,null,{"$f":"catp","v":9}]
[null,null,null,null,null,null,null,null,null,{"$f":"catp","v":9}]
[null,null,null,null,null,null,null,null,null,{"$f":"catp","v":9}]
[null,null,null,null,null,null,null,null,null,{"$f":"catp","v":9}]
[null,null,null,null,null,null,null,null,null,{"$f":"catp","v":9}]
[null,null,null,null,null,null,null,null,null,{"$f":"catp","v":9}]
[null,null,null,null,null,null,null,null,null,{"$f":"catp","v":9}]
[null,null,null,null,null,null,null,null,null,{"$f":"catp","v":9}]
[null,null,null,null,null,null,null,null,null,{"$f":"catp","v":9}]
[null,null,null,null,null,null,null,null,null,{"$f":"catp","v":9}]
[null,null,null,null,null,null,null,null,null,{"$f":"catp","v":9}]
[null,null,null,null,null,null,null,null,null,{"$f":"catp","v":9}]
[null,null,null,null,null,null,null,null,null,{"$f":"catp","v":9}]
[null,null,null,null,null,null,null,null,null,{"$f":"catp","v":9}]
[null,null,null,null,null,null,null,null,null,{"$f":"catp","v":9}]
[null,null,null,null,null,null,null,null,null,{"$f":"catp","v":9}]
[null,null,null,null,null,null,null,null,null,{"$f":"catp","v":9}]
[null,null,null,null,null,null,null,null,null,{"$f":"catp","v":9}]
[null,null,null,null,null,null,null,null,null,{"$f":"catp","v":9}]
[null,null,null,null,null,null,null,null,null,{"$f":"catp","v":9}]
[null,null,null,null,null,null,null,null,null,{"$f":"catp","v":9}]
[null,null,null,null,null,null,null,null,null,{"$f":"catp","v":9}]
[null,null,null,null,null,null,null,null,null,{"$f":"catp","v":9}]
[null,null,null,null,null,null,null,null,null,{"$f":"catp","v":9}]
[null,null,null,null,null,null,null,null,null,{"$f":"catp","v":9}]
[null,null,null,null,null,null,null,null,null,{"$f":"catp","v":9}]
[null,null,null,null,null,null,null,null,null,{"$f":"catp","v":9}]
[null,null,null,null,null,null,null,null,null,{"$f":"catp","v":9}]
[null,null,null,null,null,null,null,null,null,{"$f":"catp","v":9}]
[null,null,null,null,null,null,null,null,null,{"$f":"catp","v":9}]
[null,null,null,null,null,null,null,null,null,{"$f":"catp","v":9}]
[null,null,null,null,null,null,null,null,null,{"$f":"catp","v":9}]
[null,null,null,null,null,null,null,null,null,{"$f":"catp","v":9}]
[null,null,null,null,null,null,null,null,null,{"$f":"catp","v":9}]
[null,null,null,null,null,null,null,null,null,{"$f":"catp","v":9}]
[null,null,null,null,null,null,null,null,null,{"$f":"catp","v":9}]
[null,null,null,null,null,null,null,null,null,{"$f":"catp","v":9}]
[null,null,null,null,null,null,null,null,null,{"$f":"catp","v":9}]
[null,null,null,null,null,null,null,null,null,{"$f":"catp","v":9}]
[null,null,null,null,null,null,null,null,null,{"$f":"catp","v":9}]
[null,null,null,null,null,null,null,null,null,{"$f":"catp","v":9}]
[null,null,null,null,null,null,null,null,null,{"$f":"catp","v":9}]
[null,null,null,null,null,null,null,null,null,{"$f":"catp","v":9}]
[null,null,null,null,null,null,null,null,null,{"$f":"catp","v":9}]
[null,null,null,null,null,null,null,null,null,{"$f":"catp","v":9}]
[null,null,null,null,null,null,null,null,null,{"$f":"catp","v":9}]
[null,null,null,null,null,null,null,null,null,{"$f":"catp","v":9}]
[null,null,null,null,null,null,null,null,null,{"$f":"catp","v":9}]
[null,null,null,null,null,null,null,null,null,{"$f":"catp","v":9}]
[null,null,null,null,null,null,null,null,null,{"$f":"catp","v":9}]
[null,null,null,null,null,null,null,null,null,{"$f":"catp","v":9}]
[null,null,null,null,null,null,null,null,null,{"$f":"catp","v":9}]
[null,null,null,null,null,null,null,null,null,{"$f":"catp","v":9}]
[null,null,null,null,null,null,null,null,null,{"$f":"catp","v":9}]
[null,null,null,null,null,null,null,null,null,{"$f":"catp","v":9}]
[null,null,null,null,null,null,null,null,null,{"$f":"catp","v":9}]
[null,null,null,null,null,null,null,null,null,{"$f":"catp","v":9}]
[null,null,null,null,null,null,null,null,null,{"$f":"catp","v":9}]
[null,null,null,null,null,null,null,null,null,{"$f":"catp","v":9}]
[null,null,null,null,null,null,null,null,null,{"$f":"catp","v":9}]
[null,null,null,null,null,null,null,null,null,{"$f":"catp","v":9}]
[null,null,null,null,null,null,null,null,null,{"$f":"catp","v":9}]
[null,null,null,null,null,null,null,null,null,{"$f":"catp","v":9}]
[null,null,null,null,null,null,null,null,null,{"$f":"catp","v":9}]
[null,null,null,null,null,null,null,null,null,{"$f":"catp","v":9}]
[null,null,null,null,null,null,null,null,null,{"$f":"catp","v":9}]
[null,null,null,null,null,null,null,null,null,{"$f":"catp","v":9}]
[null,null,null,null,null,null,null,null,null,{"$f":"catp","v":9}]
[null,null,null,null,null,null,null,null,null,{"$f":"catp","v":9}]
[null,null,null,null,null,null,null,null,null,{"$f":"catp","v":9}]
[null,null,null,null,null,null,null,null,null,{"$f":"catp","v":9}]
[null,null,null,null,null,null,null,null,null,{"$f":"catp","v":9}]
[null,null,null,null,null,null,null,null,null,{"$f":"catp","v":9}]
[null,null,null,null,null,null,null,null,null,{"$f":"catp","v":9}]
[null,null,null,null,null,null,null,null,null,{"$f":"catp","v":9}]
[null,null,null,null,null,null,null,null,null,{"$f":"catp","v":9}]
[null,null,null,null,null,null,null,null,null,{"$f":"catp","v":9}]
[null,null,null,null,null,null,null,null,null,{"$f":"catp","v":9}]
[null,null,null,null,null,null,null,null,null,{"$f":"catp","v":9}]
[null,null,null,null,null,null,null,null,null,{"$f":"catp","v":9}]
[null,null,null,null,null,null,null,null,null,{"$f":"catp","v":9}]
[null,null,null,null,null,null,null,null,null,{"$f":"catp","v":9}]
[null,null,null,null,null,null,null,null,null,{"$f":"catp","v":9}]
[null,null,null,null,null,null,null,null,null,{"$f":"catp","v":9}]
[null,null,null,null,null,null,null,null,null,{"$f":"catp","v":9}]
[null,null,null,null,null,null,null,null,null,{"$f":"catp","v":9}]
[null,null,null,null,null,null,null,null,null,{"$f":"catp","v":9}]
[null,null,null,null,null,null,null,null,null,{"$f":"catp","v":9}]
[null,null,null,null,null,null,null,null,null,{"$f":"catp","v":9}]
[null,null,null,null,null,null,null,null,null,{"$f":"catp","v":9}]
[null,null,null,null,null,null,null,null,null,{"$f":"catp","v":9}]
[null,null,null,null,null,null,null,null,null,{"$f":"catp","v":9}]
[null,null,null,null,null,null,null,null,null,{"$f":"catp","v":9}]
[null,null,null,null,null,null,null,null,null,{"$f":"catp","v":9}]
[null,null,null,null,null,null,null,null,null,{"$f":"catp","v":9}]
[null,null,null,null,null,null,null,null,null,{"$f":"catp","v":9}]
[null,null,null,null,null,null,null,null,null,{"$f":"catp","v":9}]
[null,null,null,null,null,null,null,null,null,{"$f":"catp","v":9}]
[null,null,null,null,null,null,null,null,null,{"$f":"catp","v":9}]
[null,null,null,null,null,null,null,null,null,{"$f":"catp","v":9}]
[null,null,null,null,null,null,null,null,null,{"$f":"catp","v":9}]
[null,null,null,null,null,null,null,null,null,{"$f":"catp","v":9}]
[null,null,null,null,null,null,null,null,null,{"$f":"catp","v":9}]
[null,null,null,null,null,null,null,null,null,{"$f":"catp","v":9}]
[null,null,null,null,null,null,null,null,null,{"$f":"catp","v":9}]
[null,null,null,null,null,null,null,null,null,{"$f":"catp","v":9}]
[null,null,null,null,null,null,null,null,null,{"$f":"catp","v":9}]
[null,null,null,null,null,null,null,null,null,{"$f":"catp","v":9}]
[null,null,null,null,null,null,null,null,null,{"$f":"catp","v":9}]
[null,null,null,null,null,null,null,null,null,{"$f":"catp","v":9}]
[null,null,null,null,null,null,null,null,null,{"$f":"catp","v":9}]
[null,null,null,null,null,null,null,null,null,{"$f":"catp","v":9}]
[null,null,null,null,null,null,null,null,null,{"$f":"catp","v":9}]
[null,null,null,null,null,null,null,null,null,{"$f":"catp","v":9}]
[null,null,null,null,null,null,null,null,null,{"$f":"catp","v":9}]
[null,null,null,null,null,null,null,null,null,{"$f":"catp","v":9}]
[null,null,null,null,null,null,null,null,null,{"$f":"catp","v":9}]
[null,null,null,null,null,null,null,null,null,{"$f":"catp","v":9}]
[null,null,null,null,null,null,null,null,null,{"$f":"catp","v":9}]
[null,null,null,null,null,null,null,null,null,{"$f":"catp","v":9}]
[null,null,null,null,null,null,null,null,null,{"$f":"catp","v":9}]
[null,null,null,null,null,null,null,null,null,{"$f":"catp","v":9}]
[null,null,null,null,null,null,null,null,null,{"$f":"catp","v":9}]
[null,null,null,null,null,null,null,null,null,{"$f":"catp","v":9}]
[null,null,null,null,null,null,null,null,null,{"$f":"catp","v":9}]
[null,null,null,null,null,null,null,null,null,{"$f":"catp","v":9}]
[null,null,null,null,null,null,null,null,null,{"$f":"catp","v":9}]
[null,null,null,null,null,null,null,null,null,{"$f":"catp","v":9}]
[null,null,null,null,null,null,null,null,null,{"$f":"catp","v":9}]
[null,null,null,null,null,null,null,null,null,{"$f":"catp","v":9}]
[null,null,null,null,null,null,null,null,null,{"$f":"catp","v":9}]
[null,null,null,null,null,null,null,null,null,{"$f":"catp","v":9}]
[null,null,null,null,null,null,null,null,null,{"$f":"catp","v":9}]
[null,null,null,null,null,null,null,null,null,{"$f":"catp","v":9}]
[null,null,null,null,null,null,null,null,null,{"$f":"catp","v":9}]
[null,null,null,null,null,null,null,null,null,{"$f":"catp","v":9}]
[null,null,null,null,null,null,null,null,null,{"$f":"catp","v":9}]
[null,null,null,null,null,null,null,null,null,{"$f":"catp","v":9}]
[null,null,null,null,null,null,null,null,null,{"$f":"catp","v":9}]
[null,null,null,null,null,null,null,null,null,{"$f":"catp","v":9}]
[null,null,null,null,null,null,null,null,null,{"$f":"catp","v":9}]
[null,null,null,null,null,null,null,null,null,{"$f":"catp","v":9}]
[null,null,null,null,null,null,null,null,null,{"$f":"catp","v":9}]
[null,null,null,null,null,null,null,null,null,{"$f":"catp","v":9}]
[null,null,null,null,null,null,null,null,null,{"$f":"catp","v":9}]
[null,null,null,null,null,null,null,null,null,{"$f":"catp","v":9}]
[null,null,null,null,null,null,null,null,null,{"$f":"catp","v":9}]
[null,null,null,null,null,null,null,null,null,{"$f":"catp","v":9}]
[null,null,null,null,null,null,null,null,null,{"$f":"catp","v":9}]
[null,null,null,null,null,null,null,null,null,{"$f":"catp","v":9}]
[null,null,null,null,null,null,null,null,null,{"$f":"catp","v":9}]
[null,null,null,null,null,null,null,null,null,{"$f":"catp","v":9}]
[null,null,null,null,null,null,null,null,null,{"$f":"catp","v":9}]
[null,null,null,null,null,null,null,null,null,{"$f":"catp","v":9}]
[null,null,null,null,null,null,null,null,null,{"$f":"catp","v":9}]
[null,null,null,null,null,null,null,null,null,{"$f":"catp","v":9}]
[null,null,null,null,null,null,null,null,null,{"$f":"catp","v":9}]
[null,null,null,null,null,null,null,null,null,{"$f":"catp","v":9}]
[null,null,null,null,null,null,null,null,null,{"$f":"catp","v":9}]
[null,null,null,null,null,null,null,null,null,{"$f":"catp","v":9}]
[null,null,null,null,null,null,null,null,null,{"$f":"catp","v":9}]
[null,null,null,null,null,null,null,null,null,{"$f":"catp","v":9}]
[null,null,null,null,null,null,null,null,null,{"$f":"catp","v":9}]
[null,null,null,null,null,null,null,null,null,{"$f":"catp","v":9}]
[null,null,null,null,null,null,null,null,null,{"$f":"catp","v":9}]
[null,null,null,null,null,null,null,null,null,{"$f":"catp","v":9}]
[null,null,null,null,null,null,null,null,null,{"$f":"catp","v":9}]
[null,null,null,null,null,null,null,null,null,{"$f":"catp","v":9}]
[null,null,null,null,null,null,null,null,null,{"$f":"catp","v":9}]
[null,null,null,null,null,null,null,null,null,{"$f":"catp","v":9}]
[null,null,null,null,null,null,null,null,null,{"$f":"catp","v":9}]
[null,null,null,null,null,null,null,null,null,{"$f":"catp","v":9}]
[null,null,null,null,null,null,null,null,null,{"$f":"catp","v":9}]
[null,null,null,null,null,null,null,null,null,{"$f":"catp","v":9}]
[null,null,null,null,null,null,null,null,null,{"$f":"catp","v":9}]
[null,null,null,null,null,null,null,null,null,{"$f":"catp","v":9}]
[null,null,null,null,null,null,null,null,null,{"$f":"catp","v":9}]
[null,null,null,null,null,null,null,null,null,{"$f":"catp","v":9}]
[null,null,null,null,null,null,null,null,null,{"$f":"catp","v":9}]
[null,null,null,null,null,null,null,null,null,{"$f":"catp","v":9}]
[null,null,null,null,null,null,null,null,null,{"$f":"catp","v":9}]
[null,null,null,null,null,null,null,null,null,{"$f":"catp","v":9}]
[null,null,null,null,null,null,null,null,null,{"$f":"catp","v":9}]
[null,null,null,null,null,null,null,null,null,{"$f":"catp","v":9}]
[null,null,null,null,null,null,null,null,null,{"$f":"catp","v":9}]
[null,null,null,null,null,null,null,null,null,{"$f":"catp","v":9}]
[null,null,null,null,null,null,null,null,null,{"$f":"catp","v":9}]
[null,null,null,null,null,null,null,null,null,{"$f":"catp","v":9}]
[null,null,null,null,null,null,null,null,null,{"$f":"catp","v":9}]
[null,null,null,null,null,null,null,null,null,{"$f":"catp","v":9}]
[null,null,null,null,null,null,null,null,null,{"$f":"catp","v":9}]
[null,null,null,null,null,null,null,null,null,{"$f":"catp","v":9}]
[null,null,null,null,null,null,null,null,null,{"$f":"catp","v":9}]
[null,null,null,null,null,null,null,null,null,{"$f":"catp","v":9}]
[null,null,null,null,null,null,null,null,null,{"$f":"catp","v":9}]
[null,null,null,null,null,null,null,null,null,{"$f":"catp","v":9}]
[null,null,null,null,null,null,null,null,null,{"$f":"catp","v":9}]
[null,null,null,null,null,null,null,null,null,{"$f":"catp","v":9}]
[null,null,null,null,null,null,null,null,null,{"$f":"catp","v":9}]
[null,null,null,null,null,null,null,null,null,{"$f":"catp","v":9}]

{"sheet":"CLS","index":6,"n_rows":7,"n_cols":40,"rows_kept":7,"cut":false,"hidden":false,"merged":[]}
["Poz","Nume_si_prenume","Localitate","Pct","MP","Cat",{"$f":"COUNTA(G2:G6001)","v":0},null,null,null,"Cls","EL","V S","V I","V G",null,null,null,null,"EL","V S","V I","0v EL",{"$f":"IF(Start!$D$8=1,\"G1\",\"\")","v":""},{"$f":"IF(Start!$D$8=1,\"L1\",\"\")","v":""},"V G",null,null,null,null,{"$f":"Start!$L$6","v":0},{"$f":"IFERROR(VLOOKUP(AE1,AE2:AF7,2,TRUE),4)","v":0},{"$f":"IFERROR(VLOOKUP(AE1,AE2:AG7,3,TRUE),4)","v":0},"fm",null,null,null,null,null,{"$f":"MAX($A:$A)","v":0}]
[null,null,null,null,null,null,null,null,null,null,null,null,null,null,null,null,null,null,null,null,null,null,null,null,null,null,null,null,null,null,0,0,null,{"$f":"Start!$D$8","v":6}]
[null,null,null,null,null,null,null,null,null,null,null,null,null,null,null,null,null,null,null,null,null,null,null,null,null,null,null,null,null,null,1,1,4]
[null,null,null,null,null,null,null,null,null,null,null,null,null,null,null,null,null,null,null,null,null,null,null,null,null,null,null,null,null,null,9,2,8]
[null,null,null,null,null,null,null,null,null,null,null,null,null,null,null,null,null,null,null,null,null,null,null,null,null,null,null,null,null,null,17,3,16]
[null,null,null,null,null,null,null,null,null,null,null,null,null,null,null,null,null,null,null,null,null,null,null,null,null,null,null,null,null,null,33,4,32,{"$f":"Elim.!$H$7","v":0}]
[null,null,null,null,null,null,null,null,null,null,null,null,null,null,null,null,null,null,null,null,null,null,null,null,null,null,null,null,null,null,65]

{"sheet":"www","index":7,"n_rows":86,"n_cols":34,"rows_kept":86,"cut":false,"hidden":true,"merged":[]}
["Poz","Nume_si_prenume","Localitate","Pct","MP","Cat",{"$f":"COUNTA(G2:G6021)","v":15},null,null,null,"Cls","EL","V S","V I","V G",null,null,null,null,"EL","V S","V I","0v EL",{"$f":"IF(Start!$D$8=1,\"G1\",\"\")","v":""},{"$f":"IF(Start!$D$8=1,\"L1\",\"\")","v":""},"V G",null,null,null,null,{"$f":"Start!$L$6","v":0},{"$f":"IFERROR(VLOOKUP(AE1,AE2:AF7,2,TRUE),4)","v":0},{"$f":"IFERROR(VLOOKUP(AE1,AE2:AG7,3,TRUE),4)","v":0},"fm"]
[null,null,null,null,null,null,null,null,null,null,null,null,null,null,null,null,null,null,{"$f":"IF($A2=\"\",\"\",IF(P2=\"\",S1,P2&IF(Q2=\"\",\"\",\" - \")&Q2))","v":""},{"$f":"IF($AH$2=1,$Y2,IFERROR(VLOOKUP($B2&\",\"&$A2,tEL,2,FALSE),\"\"))","v":""},{"$f":"IF($AH$2=1,\"\",V_sup)","v":""},{"$f":"IF($AH$2=1,$X2,V_inf)","v":""},{"$f":"IF(AND($AH$2>1,$T2<>\"\",$T2>v0),0,\"\")","v":""},{"$f":"IF($AH$2=1,v_1,\"\")","v":""},{"$f":"IF(AND(v_1L>0,v_1L<5),v_1L,\"\")","v":""},{"$f":"IF(AND(T2>8,W2=0),SUM(U2:V2),\"\")","v":""},null,null,null,null,0,0,null,{"$f":"Start!$D$8","v":6}]
[null,null,null,null,null,null,null,null,null,null,null,null,null,null,null,null,null,null,null,null,null,null,null,null,null,null,null,null,null,null,1,1,4]
[null,null,null,null,null,null,null,null,null,null,null,null,null,null,null,null,null,null,null,null,null,null,null,null,null,null,null,null,null,null,9,2,8]
[null,null,null,null,null,null,null,null,null,null,null,null,null,null,null,null,null,null,null,null,null,null,null,null,null,null,null,null,null,null,17,3,16]
[null,null,null,null,null,null,null,null,null,null,null,null,null,null,null,null,null,null,null,null,null,null,null,null,null,null,null,null,null,null,33,4,32,{"$f":"Elim.!$H$7","v":0}]
[null,null,null,null,null,null,null,null,null,null,null,null,null,null,null,null,null,null,null,null,null,null,null,null,null,null,null,null,null,null,65]
[]
[]
[]
[{"$f":"Start!$A$1 & \" \" & Start!$C$1 & \" - \" & Start!$D$1","v":"Localitate Data - Categoria"}]
[{"$f":"INT(ROW(A12)/25)+1","v":1}]
[{"$f":"\"Gr.inferioara nr. \"&A12","v":"Gr.inferioara nr. 1"},null,"Masa nr. ",null,null,null,null,null,null,null,null,null,null,null,"Clasament Partial"]
[null,"Nume si prenume","Localitate",1,2,3,4,5,6,7,"V","LOC","Cls",{"$f":"IF(SUM($K15:$K21)>0,$A12&\"  \",\"\")","v":""},"AVg","AVp","Vp","Poz","Vp","Avp","Avg","Loc"]
[1,{"$f":"IFERROR(UPPER(VLOOKUP($M15,CLS!$A:$C,2,FALSE)),\"\")","v":""},{"$f":"IFERROR(VLOOKUP($M15,CLS!$A:$C,3,FALSE),\"\")","v":""},null,null,null,null,null,null,null,{"$f":"scv($D15:$J15)","v":""}]
[2,{"$f":"IFERROR(UPPER(VLOOKUP($M16,CLS!$A:$C,2,FALSE)),\"\")","v":""},{"$f":"IFERROR(VLOOKUP($M16,CLS!$A:$C,3,FALSE),\"\")","v":""},{"$f":"sg(E15)","v":""},null,null,null,null,null,null,""]
[3,{"$f":"IFERROR(UPPER(VLOOKUP($M17,CLS!$A:$C,2,FALSE)),\"\")","v":""},{"$f":"IFERROR(VLOOKUP($M17,CLS!$A:$C,3,FALSE),\"\")","v":""},{"$f":"sg(F15)","v":""},{"$f":"sg(F16)","v":""},null,null,null,null,null,""]
[4,{"$f":"IFERROR(UPPER(VLOOKUP($M18,CLS!$A:$C,2,FALSE)),\"\")","v":""},{"$f":"IFERROR(VLOOKUP($M18,CLS!$A:$C,3,FALSE),\"\")","v":""},{"$f":"sg(G15)","v":""},{"$f":"sg(G16)","v":""},{"$f":"sg(G17)","v":""},null,null,null,null,""]
[5,{"$f":"IFERROR(UPPER(VLOOKUP($M19,CLS!$A:$C,2,FALSE)),\"\")","v":""},{"$f":"IFERROR(VLOOKUP($M19,CLS!$A:$C,3,FALSE),\"\")","v":""},{"$f":"sg(H15)","v":""},{"$f":"sg(H16)","v":""},{"$f":"sg(H17)","v":""},{"$f":"sg(H18)","v":""},null,null,null,""]
[6,{"$f":"IFERROR(UPPER(VLOOKUP($M20,CLS!$A:$C,2,FALSE)),\"\")","v":""},{"$f":"IFERROR(VLOOKUP($M20,CLS!$A:$C,3,FALSE),\"\")","v":""},{"$f":"sg(I15)","v":""},{"$f":"sg(I16)","v":""},{"$f":"sg(I17)","v":""},{"$f":"sg(I18)","v":""},{"$f":"sg(I19)","v":""},null,null,""]
[7,{"$f":"IFERROR(UPPER(VLOOKUP($M21,CLS!$A:$C,2,FALSE)),\"\")","v":""},{"$f":"IFERROR(VLOOKUP($M21,CLS!$A:$C,3,FALSE),\"\")","v":""},{"$f":"sg(J15)","v":""},{"$f":"sg(J16)","v":""},{"$f":"sg(J17)","v":""},{"$f":"sg(J18)","v":""},{"$f":"sg(J19)","v":""},{"$f":"sg(J20)","v":""},null,""]
[null,{"$f":"7-COUNTBLANK(B15:B21)","v":0}]
[null,{"$f":"\"Se califica primii: \" &jci","v":"Se califica primii: 4"}]
[null,{"$f":"IF(jxi>0,\"si cele mai bune \"& jxi&\" locuri \" & jci+1,\"\")","v":""}]
[]
[]
[]
[]
[]
[]
[]
[]
[]
[]
[]
[]
[]
[]
[]
[]
[{"$f":"Start!$A$1 & \" \" & Start!$C$1 & \" - \" & Start!$D$1","v":"Localitate Data - Categoria"}]
[{"$f":"INT(ROW(A42)/25)+1","v":2}]
[{"$f":"\"Gr.superioara nr. \"&A42","v":"Gr.superioara nr. 2"},null,"Masa nr. ",null,null,null,null,null,null,null,null,null,null,null,"Clasament Partial"]
[null,"Nume si prenume","Localitate",1,2,3,4,5,"V","LOC","Cls",{"$f":"IF(SUM($I45:$I49)>0,$A42&\"  \",\"\")","v":""},null,null,"AVg","AVp","Vp","Poz","Vp","Avp","Avg","Loc"]
[1,null,null,null,null,null,null,null,{"$f":"scv($D45:$H45)","v":""}]
[2,null,null,{"$f":"sg(E45)","v":""},null,null,null,null,{"$f":"scv($D46:$H46)","v":""}]
[3,null,null,{"$f":"sg(F45)","v":""},{"$f":"sg(F46)","v":""},null,null,null,{"$f":"scv($D47:$H47)","v":""}]
[4,null,null,{"$f":"sg(G45)","v":""},{"$f":"sg(G46)","v":""},{"$f":"sg(G47)","v":""},null,null,{"$f":"scv($D48:$H48)","v":""}]
[5,null,null,{"$f":"sg(H45)","v":""},{"$f":"sg(H46)","v":""},{"$f":"sg(H47)","v":""},{"$f":"sg(H48)","v":""},null,{"$f":"scv($D49:$H49)","v":""}]
[null,{"$f":"5-COUNTBLANK(B45:B49)","v":0}]
[null,{"$f":"\"Se califica primii: \" &jcs","v":"Se califica primii: 2"}]
[null,{"$f":"IF(jxs>0,\"si cele mai bune \"& jxs&\" locuri \" & jcs+1,\"\")","v":""}]
[]
[]
[]
[]
[]
[]
[]
[]
[]
[]
[]
[]
[]
[]
[]
[]
[]
[]
[{"$f":"Start!$A$1 & \" \" & Start!$C$1 & \" - \" & Start!$D$1","v":"Localitate Data - Categoria"}]
[{"$f":"INT(ROW(A72)/25)+1","v":3}]
[{"$f":"\"Gr.inferioara nr. \"&A72","v":"Gr.inferioara nr. 3"},null,"Masa nr. ",null,null,null,null,null,null,null,null,null,null,null,null,null,null,null,null,"Clasament Partial"]
[null,"Nume si prenume","Localitate",1,2,3,4,5,6,7,8,9,10,11,12,"V","LOC","Cls",{"$f":"IF(SUM($K75:$K81)>0,$A72&\"  \",\"\")","v":""},"AVg","AVp","Vp","Poz","Vp","Avp","Avg","Loc"]
[1,{"$f":"IFERROR(UPPER(VLOOKUP($R75,CLS!$A:$C,2,FALSE)),\"\")","v":""},{"$f":"IFERROR(VLOOKUP($R75,CLS!$A:$C,3,FALSE),\"\")","v":""},null,null,null,null,null,null,null,null,null,null,null,null,{"$f":"scv($D75:$O75)","v":""}]
[2,{"$f":"IFERROR(UPPER(VLOOKUP($R76,CLS!$A:$C,2,FALSE)),\"\")","v":""},{"$f":"IFERROR(VLOOKUP($R76,CLS!$A:$C,3,FALSE),\"\")","v":""},{"$f":"sg(E75)","v":""},null,null,null,null,null,null,null,null,null,null,null,""]
[3,{"$f":"IFERROR(UPPER(VLOOKUP($R77,CLS!$A:$C,2,FALSE)),\"\")","v":""},{"$f":"IFERROR(VLOOKUP($R77,CLS!$A:$C,3,FALSE),\"\")","v":""},{"$f":"sg(F75)","v":""},{"$f":"sg(F76)","v":""},null,null,null,null,null,null,null,null,null,null,""]
[4,{"$f":"IFERROR(UPPER(VLOOKUP($R78,CLS!$A:$C,2,FALSE)),\"\")","v":""},{"$f":"IFERROR(VLOOKUP($R78,CLS!$A:$C,3,FALSE),\"\")","v":""},{"$f":"sg(G75)","v":""},{"$f":"sg(G76)","v":""},{"$f":"sg(G77)","v":""},null,null,null,null,null,null,null,null,null,""]
[5,{"$f":"IFERROR(UPPER(VLOOKUP($R79,CLS!$A:$C,2,FALSE)),\"\")","v":""},{"$f":"IFERROR(VLOOKUP($R79,CLS!$A:$C,3,FALSE),\"\")","v":""},{"$f":"sg(H75)","v":""},{"$f":"sg(H76)","v":""},{"$f":"sg(H77)","v":""},{"$f":"sg(H78)","v":""},null,null,null,null,null,null,null,null,""]
[6,{"$f":"IFERROR(UPPER(VLOOKUP($R80,CLS!$A:$C,2,FALSE)),\"\")","v":""},{"$f":"IFERROR(VLOOKUP($R80,CLS!$A:$C,3,FALSE),\"\")","v":""},{"$f":"sg(I75)","v":""},{"$f":"sg(I76)","v":""},{"$f":"sg(I77)","v":""},{"$f":"sg(I78)","v":""},{"$f":"sg(I79)","v":""},null,null,null,null,null,null,null,""]
[7,{"$f":"IFERROR(UPPER(VLOOKUP($R81,CLS!$A:$C,2,FALSE)),\"\")","v":""},{"$f":"IFERROR(VLOOKUP($R81,CLS!$A:$C,3,FALSE),\"\")","v":""},{"$f":"sg(J75)","v":""},{"$f":"sg(J76)","v":""},{"$f":"sg(J77)","v":""},{"$f":"sg(J78)","v":""},{"$f":"sg(J79)","v":""},{"$f":"sg(J80)","v":""},null,null,null,null,null,null,""]
[8,{"$f":"IFERROR(UPPER(VLOOKUP($R82,CLS!$A:$C,2,FALSE)),\"\")","v":""},{"$f":"IFERROR(VLOOKUP($R82,CLS!$A:$C,3,FALSE),\"\")","v":""},{"$f":"sg(K75)","v":""},{"$f":"sg(K76)","v":""},{"$f":"sg(K77)","v":""},{"$f":"sg(K78)","v":""},{"$f":"sg(K79)","v":""},{"$f":"sg(K80)","v":""},{"$f":"sg(K81)","v":""},null,null,null,null,null,""]
[9,{"$f":"IFERROR(UPPER(VLOOKUP($R83,CLS!$A:$C,2,FALSE)),\"\")","v":""},{"$f":"IFERROR(VLOOKUP($R83,CLS!$A:$C,3,FALSE),\"\")","v":""},{"$f":"sg(L75)","v":""},{"$f":"sg(L76)","v":""},{"$f":"sg(L77)","v":""},{"$f":"sg(L78)","v":""},{"$f":"sg(L79)","v":""},{"$f":"sg(L80)","v":""},{"$f":"sg(L81)","v":""},{"$f":"sg(L82)","v":""},null,null,null,null,""]
[10,{"$f":"IFERROR(UPPER(VLOOKUP($R84,CLS!$A:$C,2,FALSE)),\"\")","v":""},{"$f":"IFERROR(VLOOKUP($R84,CLS!$A:$C,3,FALSE),\"\")","v":""},{"$f":"sg(M75)","v":""},{"$f":"sg(M76)","v":""},{"$f":"sg(M77)","v":""},{"$f":"sg(M78)","v":""},{"$f":"sg(M79)","v":""},{"$f":"sg(M80)","v":""},{"$f":"sg(M81)","v":""},{"$f":"sg(M82)","v":""},{"$f":"sg(M83)","v":""},null,null,null,""]
[11,{"$f":"IFERROR(UPPER(VLOOKUP($R85,CLS!$A:$C,2,FALSE)),\"\")","v":""},{"$f":"IFERROR(VLOOKUP($R85,CLS!$A:$C,3,FALSE),\"\")","v":""},{"$f":"sg(N75)","v":""},{"$f":"sg(N76)","v":""},{"$f":"sg(N77)","v":""},{"$f":"sg(N78)","v":""},{"$f":"sg(N79)","v":""},{"$f":"sg(N80)","v":""},{"$f":"sg(N81)","v":""},{"$f":"sg(N82)","v":""},{"$f":"sg(N83)","v":""},{"$f":"sg(N84)","v":""},null,null,""]
[12,{"$f":"IFERROR(UPPER(VLOOKUP($R86,CLS!$A:$C,2,FALSE)),\"\")","v":""},{"$f":"IFERROR(VLOOKUP($R86,CLS!$A:$C,3,FALSE),\"\")","v":""},{"$f":"sg(O75)","v":""},{"$f":"sg(O76)","v":""},{"$f":"sg(O77)","v":""},{"$f":"sg(O78)","v":""},{"$f":"sg(O79)","v":""},{"$f":"sg(O80)","v":""},{"$f":"sg(O81)","v":""},{"$f":"sg(O82)","v":""},{"$f":"sg(O83)","v":""},{"$f":"sg(O84)","v":""},{"$f":"sg(O85)","v":""},null,""]

{"sheet":"Rezultate","index":8,"n_rows":0,"n_cols":0,"rows_kept":0,"cut":false,"hidden":true,"merged":[]}

{"sheet":"Grupe","index":9,"n_rows":1,"n_cols":13,"rows_kept":1,"cut":false,"hidden":false,"merged":[]}
[null,"Grupe inferioare",null,null,null,null,null,null,null,"Masa nr.",null,"Dubluri","Culori lipsa"]

{"sheet":"Gr.1","index":10,"n_rows":0,"n_cols":0,"rows_kept":0,"cut":false,"hidden":false,"merged":[]}

{"sheet":"Gr.inf.","index":11,"n_rows":834,"n_cols":49,"rows_kept":834,"cut":false,"hidden":false,"merged":[]}
[null,null,null,null,null,null,null,null,null,null,null,null,null,null,null,null,null,null,null,null,null,null,null,null,null,{"$f":"CONCATENATE($N$4,$N$29,$N$54,$N$79,$N$104,$N$129,$N$154,$N$179,$N$204,$N$229,$N$254,$N$279,$N$304,$N$329,$N$354,$N$379,$N$404,$N$429,$N$454,$N$479,$N$504,$N$529,$N$554,$N$579)","v":""},null,null,null,null,null,null,null,null,{"$f":"MAX($B:$B)","v":0},null,null,"3-0","3-1","3-2","2-3","1-3","0-3","2-0","2-1","1-2","0-2","1-0","0-1"]
[]
[]
[]
[]
[]
[]
[]
[]
[]
[]
[]
[]
[]
[]
[]
[]
[]
[]
[]
[]
[]
[]
[]
[]
[]
[]
[]
[]
[]
[]
[]
[]
[]
[]
[]
[]
[]
[]
[]
[]
[]
[]
[]
[]
[]
[]
[]
[]
[]
[]
[]
[]
[]
[]
[]
[]
[]
[]
[]
[]
[]
[]
[]
[]
[]
[]
[]
[]
[]
[]
[]
[]
[]
[]
[]
[]
[]
[]
[]
[]
[]
[]
[]
[]
[]
[]
[]
[]
[]
[]
[]
[]
[]
[]
[]
[]
[]
[]
[]
[]
[]
[]
[]
[]
[]
[]
[]
[]
[]
[]
[]
[]
[]
[]
[]
[]
[]
[]
[]
[]
[]
[]
[]
[]
[]
[]
[]
[]
[]
[]
[]
[]
[]
[]
[]
[]
[]
[]
[]
[]
[]
[]
[]
[]
[]
[]
[]
[]
[]
[]
[]
[]
[]
[]
[]
[]
[]
[]
[]
[]
[]
[]
[]
[]
[]
[]
[]
[]
[]
[]
[]
[]
[]
[]
[]
[]
[]
[]
[]
[]
[]
[]
[]
[]
[]
[]
[]
[]
[]
[]
[]
[]
[]
[]
[]
[]
[]
[]
[]
[]
[]
[]
[]
[]
[]
[]
[]
[]
[]
[]
[]
[]
[]
[]
[]
[]
[]
[]
[]
[]
[]
[]
[]
[]
[]
[]
[]
[]
[]
[]
[]
[]
[]
[]
[]
[]
[]
[]
[]
[]
[]
[]
[]
[]
[]
[]
[]
[]
[]
[]
[]
[]
[]
[]
[]
[]
[]
[]
[]
[]
[]
[]
[]
[]
[]
[]
[]
[]
[]
[]
[]
[]
[]
[]
[]
[]
[]
[]
[]
[]
[]
[]
[]
[]
[]
[]
[]
[]
[]
[]
[]
[]
[]
[]
[]
[]
[]
[]
[]
[]
[]
[]
[]
[]
[]
[]
[]
[]
[]
[]
[]
[]
[]
[]
[]
[]
[]
[]
[]
[]
[]
[]
[]
[]
[]
[]
[]
[]
[]
[]
[]
[]
[]
[]
[]
[]
[]
[]
[]
[]
[]
[]
[]
[]
[]
[]
[]
[]
[]
[]
[]
[]
[]
[]
[]
[]
[]
[]
[]
[]
[]
[]
[]
[]
[]
[]
[]
[]
[]
[]
[]
[]
[]
[]
[]
[]
[]
[]
[]
[]
[]
[]
[]
[]
[]
[]
[]
[]
[]
[]
[]
[]
[]
[]
[]
[]
[]
[]
[]
[]
[]
[]
[]
[]
[]
[]
[]
[]
[]
[]
[]
[]
[]
[]
[]
[]
[]
[]
[]
[]
[]
[]
[]
[]
[]
[]
[]
[]
[]
[]
[]
[]
[]
[]
[]
[]
[]
[]
[]
[]
[]
[]
[]
[]
[]
[]
[]
[]
[]
[]
[]
[]
[]
[]
[]
[]
[]
[]
[]
[]
[]
[]
[]
[]
[]
[]
[]
[]
[]
[]
[]
[]
[]
[]
[]
[]
[]
[]
[]
[]
[]
[]
[]
[]
[]
[]
[]
[]
[]
[]
[]
[]
[]
[]
[]
[]
[]
[]
[]
[]
[]
[]
[]
[]
[]
[]
[]
[]
[]
[]
[]
[]
[]
[]
[]
[]
[]
[]
[]
[]
[]
[]
[]
[]
[]
[]
[]
[]
[]
[]
[]
[]
[]
[]
[]
[]
[]
[]
[]
[]
[]
[]
[]
[]
[]
[]
[]
[]
[]
[]
[]
[]
[]
[]
[]
[]
[]
[]
[]
[]
[]
[]
[]
[]
[]
[]
[]
[]
[]
[]
[]
[]
[]
[]
[]
[]
[]
[]
[]
[]
[]
[]
[]
[]
[]
[]
[]
[]
[]
[]
[]
[]
[]
[]
[]
[]
[]
[]
[]
[]
[]
[]
[]
[]
[]
[]
[]
[]
[]
[]
[]
[]
[]
[]
[]
[]
[]
[]
[]
[]
[]
[]
[]
[]
[]
[]
[]
[]
[]
[]
[]
[]
[]
[]
[]
[]
[]
[]
[]
[]
[]
[]
[]
[]
[]
[]
[]
[]
[]
[]
[]
[]
[]
[]
[]
[]
[]
[]
[]
[]
[]
[]
[]
[]
[]
[]
[]
[]
[]
[]
[]
[]
[]
[]
[]
[]
[]
[]
[]
[]
[]
[]
[]
[]
[]
[]
[]
[]
[]
[]
[]
[]
[]
[]
[]
[]
[]
[]
[]
[]
[]
[]
[]
[]
[]
[]
[]
[]
[]
[]
[]
[]
[]
[]
[]
[]
[]
[]
[]
[]
[]
[]
[]
[]
[]
[]
[]
[]
[]
[]
[]
[]
[]
[]
[]
[]
[]
[]
[]
[]
[]
[]
[]
[]
[]
[]
[]
[]
[]
[]
[]
[]
[]
[]
[]
[]
[]
[]
[]
[]
[]
[]
[]
[]
[]
[]
[]
[]
[]
[]
[]
[]
[]
[]
[]
[]
[]
[]
[]
[]
[]
[]
[]
[]
[]
[]
[]
[]
[]
[]
[]
[]
[]
[]
[]
[]
[]
[]
[]
[]
[]
[]
[]
[]
[]
[]
[]
[]
[]
[]
[]
[]
[null,{"$f":"IF(jxi>0,\"si cele mai bune \"& jxi&\" locuri \" & jci+1,\"\")","v":""}]
[]
[]
[]
[]
[]
[]
[]
[]
[]
[]
[]
[]
[]
[]
[]
[]
[null,null,null,null,null,null,null,null,null,null,null,null,null,null,"",""]
[null,null,null,null,null,null,null,null,null,null,null,null,null,null,"",""]
[null,null,null,null,null,null,null,null,null,null,null,null,null,null,null,""]
[null,null,null,null,null,null,null,null,null,null,null,null,null,null,null,""]

{"sheet":"Gr.sup.","index":12,"n_rows":834,"n_cols":35,"rows_kept":834,"cut":false,"hidden":false,"merged":[]}
[null,null,null,null,null,null,null,null,null,null,null,null,null,null,null,null,null,null,null,null,null,null,null,null,null,{"$f":"CONCATENATE($L$4,$L$29,$L$54,$L$79,$L$104,$L$129,$L$154,$L$179,$L$204,$L$229,$L$254,$L$279,$L$304,$L$329,$L$354,$L$379,$L$404,$L$429,$L$454,$L$479,$L$504,$L$529,$L$554,$L$579)","v":""},null,null,null,null,null,null,null,null,{"$f":"MAX($B:$B)","v":0}]
[]
[]
[]
[]
[]
[]
[]
[]
[]
[]
[]
[]
[]
[]
[]
[]
[]
[]
[]
[]
[]
[]
[]
[]
[]
[]
[]
[]
[]
[]
[]
[]
[]
[]
[]
[]
[]
[]
[]
[]
[]
[]
[]
[]
[]
[]
[]
[]
[]
[]
[]
[]
[]
[]
[]
[]
[]
[]
[]
[]
[]
[]
[]
[]
[]
[]
[]
[]
[]
[]
[]
[]
[]
[]
[]
[]
[]
[]
[]
[]
[]
[]
[]
[]
[]
[]
[]
[]
[]
[]
[]
[]
[]
[]
[]
[]
[]
[]
[]
[]
[]
[]
[]
[]
[]
[]
[]
[]
[]
[]
[]
[]
[]
[]
[]
[]
[]
[]
[]
[]
[]
[]
[]
[]
[]
[]
[]
[]
[]
[]
[]
[]
[]
[]
[]
[]
[]
[]
[]
[]
[]
[]
[]
[]
[]
[]
[]
[]
[]
[]
[]
[]
[]
[]
[]
[]
[]
[]
[]
[]
[]
[]
[]
[]
[]
[]
[]
[]
[]
[]
[]
[]
[]
[]
[]
[]
[]
[]
[]
[]
[]
[]
[]
[]
[]
[]
[]
[]
[]
[]
[]
[]
[]
[]
[]
[]
[]
[]
[]
[]
[]
[]
[]
[]
[]
[]
[]
[]
[]
[]
[]
[]
[]
[]
[]
[]
[]
[]
[]
[]
[]
[]
[]
[]
[]
[]
[]
[]
[]
[]
[]
[]
[]
[]
[]
[]
[]
[]
[]
[]
[]
[]
[]
[]
[]
[]
[]
[]
[]
[]
[]
[]
[]
[]
[]
[]
[]
[]
[]
[]
[]
[]
[]
[]
[]
[]
[]
[]
[]
[]
[]
[]
[]
[]
[]
[]
[]
[]
[]
[]
[]
[]
[]
[]
[]
[]
[]
[]
[]
[]
[]
[]
[]
[]
[]
[]
[]
[]
[]
[]
[]
[]
[]
[]
[]
[]
[]
[]
[]
[]
[]
[]
[]
[]
[]
[]
[]
[]
[]
[]
[]
[]
[]
[]
[]
[]
[]
[]
[]
[]
[]
[]
[]
[]
[]
[]
[]
[]
[]
[]
[]
[]
[]
[]
[]
[]
[]
[]
[]
[]
[]
[]
[]
[]
[]
[]
[]
[]
[]
[]
[]
[]
[]
[]
[]
[]
[]
[]
[]
[]
[]
[]
[]
[]
[]
[]
[]
[]
[]
[]
[]
[]
[]
[]
[]
[]
[]
[]
[]
[]
[]
[]
[]
[]
[]
[]
[]
[]
[]
[]
[]
[]
[]
[]
[]
[]
[]
[]
[]
[]
[]
[]
[]
[]
[]
[]
[]
[]
[]
[]
[]
[]
[]
[]
[]
[]
[]
[]
[]
[]
[]
[]
[]
[]
[]
[]
[]
[]
[]
[]
[]
[]
[]
[]
[]
[]
[]
[]
[]
[]
[]
[]
[]
[]
[]
[]
[]
[]
[]
[]
[]
[]
[]
[]
[]
[]
[]
[]
[]
[]
[]
[]
[]
[]
[]
[]
[]
[]
[]
[]
[]
[]
[]
[]
[]
[]
[]
[]
[]
[]
[]
[]
[]
[]
[]
[]
[]
[]
[]
[]
[]
[]
[]
[]
[]
[]
[]
[]
[]
[]
[]
[]
[]
[]
[]
[]
[]
[]
[]
[]
[]
[]
[]
[]
[]
[]
[]
[]
[]
[]
[]
[]
[]
[]
[]
[]
[]
[]
[]
[]
[]
[]
[]
[]
[]
[]
[]
[]
[]
[]
[]
[]
[]
[]
[]
[]
[]
[]
[]
[]
[]
[]
[]
[]
[]
[]
[]
[]
[]
[]
[]
[]
[]
[]
[]
[]
[]
[]
[]
[]
[]
[]
[]
[]
[]
[]
[]
[]
[]
[]
[]
[]
[]
[]
[]
[]
[]
[]
[]
[]
[]
[]
[]
[]
[]
[]
[]
[]
[]
[]
[]
[]
[]
[]
[]
[]
[]
[]
[]
[]
[]
[]
[]
[]
[]
[]
[]
[]
[]
[]
[]
[]
[]
[]
[]
[]
[]
[]
[]
[]
[]
[]
[]
[]
[]
[]
[]
[]
[]
[]
[]
[]
[]
[]
[]
[]
[]
[]
[]
[]
[]
[]
[]
[]
[]
[]
[]
[]
[]
[]
[]
[]
[]
[]
[]
[]
[]
[]
[]
[]
[]
[]
[]
[]
[]
[]
[]
[]
[]
[]
[]
[]
[]
[]
[]
[]
[]
[]
[]
[]
[]
[]
[]
[]
[]
[]
[]
[]
[]
[]
[]
[]
[]
[]
[]
[]
[]
[]
[]
[]
[]
[]
[]
[]
[]
[]
[]
[]
[]
[]
[]
[]
[]
[]
[]
[]
[]
[]
[]
[]
[]
[]
[]
[]
[]
[]
[]
[]
[]
[]
[]
[]
[]
[]
[]
[]
[]
[]
[]
[]
[]
[]
[]
[]
[]
[]
[]
[]
[]
[]
[]
[]
[]
[]
[]
[]
[]
[]
[]
[]
[]
[]
[]
[]
[]
[]
[]
[]
[]
[]
[]
[]
[]
[]
[]
[]
[]
[]
[]
[]
[]
[]
[]
[]
[]
[]
[]
[]
[]
[]
[null,{"$f":"IF(jxs>0,\"si cele mai bune \"& jxs&\" locuri \" & jcs+1,\"\")","v":""}]
[]
[]
[]
[]
[]
[]
[]
[]
[]
[]
[]
[]
[]
[]
[]
[]
[]
[]
[null,null,null,null,null,null,null,null,null,null,null,null,null,null,"",""]
[null,null,null,null,null,null,null,null,null,null,null,null,null,null,"",""]
[null,null,null,null,null,null,null,null,null,null,null,null,null,null,null,""]
[null,null,null,null,null,null,null,null,null,null,null,null,null,null,null,""]

{"sheet":"Arb.inf.","index":13,"n_rows":34,"n_cols":44,"rows_kept":34,"cut":false,"hidden":false,"merged":[]}
[null,null,null,null,null,null,null,null,null,null,null,null,null,null,null,"Ora","Durata",null,null,4,"Arbitru",5,"Arbitru",6,"Arbitru",7,"Arbitru",null,null,null,{"$f":"nlc(INDEX(Gr.inf.!$A:$A,ROW(AE1)-10*INT(ROW(AE1)/35)))","v":""}]
[null,null,null,null,null,null,null,null,null,null,null,null,null,null,null,"10:00:00","00:15:00",null,1,"1--4",2,"2--5",3,"1--6",4,"2--7",1]
[null,null,null,null,null,null,null,null,null,null,null,null,null,null,null,null,null,null,2,"2--3",4,"3--4",1,"2--5",6,"3--6",2,null,null,null,{"$f":"nlc(INDEX(Gr.inf.!$A:$A,ROW(AE3)-10*INT(ROW(AE3)/35)))","v":""},null,"Masa nr. ",{"$f":"nlc(INDEX(Gr.inf.!$D:$D,ROW(AH3)-10*INT(ROW(AH3)/35)))","v":""}]
[null,null,null,null,null,null,null,null,null,null,null,null,null,null,null,null,null,null,3,"1--3",2,"1--5",4,"3--4",2,"4--5",6,null,null,null,null,"Nume si prenume","Localitate",1,2,3,4,5,6,7,"V","LOC"]
[null,null,null,null,null,null,null,null,null,null,null,null,null,null,null,null,null,null,4,"2--4",3,"2--3",5,"1--5",3,"1--7",4,null,null,null,1,{"$f":"nlc(INDEX(Gr.inf.!$B:$B,ROW(AF5)-10*INT(ROW(AF5)/35)))","v":""},{"$f":"nlc(INDEX(Gr.inf.!$C:$C,ROW(AG5)-10*INT(ROW(AG5)/35)))","v":""}]
[null,null,null,null,null,null,null,null,null,null,null,null,null,null,null,null,null,null,5,"1--2",4,"1--4",2,"4--6",1,"2--5",7,null,null,null,2,{"$f":"nlc(INDEX(Gr.inf.!$B:$B,ROW(AF6)-10*INT(ROW(AF6)/35)))","v":""},{"$f":"nlc(INDEX(Gr.inf.!$C:$C,ROW(AG6)-10*INT(ROW(AG6)/35)))","v":""}]
[null,null,null,null,null,null,null,null,null,null,null,null,null,null,null,null,null,null,6,"3--4",1,"3--5",1,"2--3",6,"3--4",5,null,null,null,3,{"$f":"nlc(INDEX(Gr.inf.!$B:$B,ROW(AF7)-10*INT(ROW(AF7)/35)))","v":""},{"$f":"nlc(INDEX(Gr.inf.!$C:$C,ROW(AG7)-10*INT(ROW(AG7)/35)))","v":""}]
[null,null,null,null,null,null,null,null,null,null,null,null,null,null,null,null,null,null,7,"-","-","2--4",5,"1--4",2,"1--6",3,null,null,null,4,{"$f":"nlc(INDEX(Gr.inf.!$B:$B,ROW(AF8)-10*INT(ROW(AF8)/35)))","v":""},{"$f":"nlc(INDEX(Gr.inf.!$C:$C,ROW(AG8)-10*INT(ROW(AG8)/35)))","v":""}]
[null,null,null,null,null,null,null,null,null,null,null,null,null,null,null,null,null,null,8,"-","-","1--3",2,"3--5",4,"5--7",1,null,null,null,5,{"$f":"nlc(INDEX(Gr.inf.!$B:$B,ROW(AF9)-10*INT(ROW(AF9)/35)))","v":""},{"$f":"nlc(INDEX(Gr.inf.!$C:$C,ROW(AG9)-10*INT(ROW(AG9)/35)))","v":""}]
[null,null,null,null,null,null,null,null,null,null,null,null,null,null,null,null,null,null,9,"-","-","4--5",3,"2--6",5,"2--3",7,null,null,null,6,{"$f":"nlc(INDEX(Gr.inf.!$B:$B,ROW(AF10)-10*INT(ROW(AF10)/35)))","v":""},{"$f":"nlc(INDEX(Gr.inf.!$C:$C,ROW(AG10)-10*INT(ROW(AG10)/35)))","v":""}]
[null,null,null,null,null,null,null,null,null,null,null,null,null,null,null,null,null,null,10,"-","-","1--2",4,"1--3",6,"1--5",2,null,null,null,7,{"$f":"nlc(INDEX(Gr.inf.!$B:$B,ROW(AF11)-10*INT(ROW(AF11)/35)))","v":""},{"$f":"nlc(INDEX(Gr.inf.!$C:$C,ROW(AG11)-10*INT(ROW(AG11)/35)))","v":""}]
[null,null,null,null,null,null,null,null,null,null,null,null,null,null,null,null,null,null,11,"-","-","-","-","2--4",3,"4--6",5]
[null,null,null,null,null,null,null,null,null,null,null,null,null,null,null,null,null,null,12,"-","-","-","-","5--6",4,"3--7",6,null,null,null,"Meci","Jucator 1","Jucator 2","Set 1","Set 2","Set 3","Set 4","Set 5","Scor","Arbitru",null,"Timp\nestim.",{"$f":"7-COUNTBLANK(AF5:AF11)","v":0}]
[null,null,null,null,null,null,null,null,null,null,null,null,null,null,null,null,null,null,13,"-","-","-","-","1--2",5,"1--4",3,null,null,null,{"$f":"IFERROR(VLOOKUP(AQ14,$S:$AA,AQ13*2-6,FALSE),\"\")","v":""},{"$f":"IFERROR(PROPER(VLOOKUP(LEFT(AE14,1)+0,AE5:AF11,2,FALSE)),\"\")","v":""},{"$f":"IFERROR(PROPER(VLOOKUP(RIGHT(AE14,1)+0,AE5:AF11,2,FALSE)),\"\")","v":""},null,null,null,null,null,null,{"$f":"IFERROR(lfs(PROPER(VLOOKUP(AR14,AE5:AF11,2,FALSE))),\"\")","v":""},null,{"$f":"$P$2","v":"10:00:00"},1,{"$f":"IFERROR(VLOOKUP(AQ14,$S:$AA,AQ13*2-5,FALSE),\"\")","v":""}]
[null,null,null,null,null,null,null,null,null,null,null,null,null,null,null,null,null,null,14,"-","-","-","-","3--6",1,"3--5",4,null,null,null,{"$f":"IFERROR(VLOOKUP(AQ15,$S:$AA,AQ13*2-6,FALSE),\"\")","v":""},{"$f":"IFERROR(PROPER(VLOOKUP(LEFT(AE15,1)+0,AE5:AF11,2,FALSE)),\"\")","v":""},{"$f":"IFERROR(PROPER(VLOOKUP(RIGHT(AE15,1)+0,AE5:AF11,2,FALSE)),\"\")","v":""},null,null,null,null,null,null,{"$f":"IFERROR(lfs(PROPER(VLOOKUP(AR15,AE5:AF11,2,FALSE))),\"\")","v":""},null,{"$f":"AP14+$Q$2","v":"10:15:00"},2,{"$f":"IFERROR(VLOOKUP(AQ15,$S:$AA,AQ13*2-5,FALSE),\"\")","v":""}]
[null,null,null,null,null,null,null,null,null,null,null,null,null,null,null,null,null,null,15,"-","-","-","-","4--5",3,"2--6",5,null,null,null,{"$f":"IFERROR(VLOOKUP(AQ16,$S:$AA,AQ13*2-6,FALSE),\"\")","v":""},{"$f":"IFERROR(PROPER(VLOOKUP(LEFT(AE16,1)+0,AE5:AF11,2,FALSE)),\"\")","v":""},{"$f":"IFERROR(PROPER(VLOOKUP(RIGHT(AE16,1)+0,AE5:AF11,2,FALSE)),\"\")","v":""},null,null,null,null,null,null,{"$f":"IFERROR(lfs(PROPER(VLOOKUP(AR16,AE5:AF11,2,FALSE))),\"\")","v":""},null,"10:30:00",3,{"$f":"IFERROR(VLOOKUP(AQ16,$S:$AA,AQ13*2-5,FALSE),\"\")","v":""}]
[null,null,null,null,null,null,null,null,null,null,null,null,null,null,null,null,null,null,16,"-","-","-","-","-","-","1--3",2,null,null,null,{"$f":"IFERROR(VLOOKUP(AQ17,$S:$AA,AQ13*2-6,FALSE),\"\")","v":""},{"$f":"IFERROR(PROPER(VLOOKUP(LEFT(AE17,1)+0,AE5:AF11,2,FALSE)),\"\")","v":""},{"$f":"IFERROR(PROPER(VLOOKUP(RIGHT(AE17,1)+0,AE5:AF11,2,FALSE)),\"\")","v":""},null,null,null,null,null,null,{"$f":"IFERROR(lfs(PROPER(VLOOKUP(AR17,AE5:AF11,2,FALSE))),\"\")","v":""},null,"10:45:00",4,{"$f":"IFERROR(VLOOKUP(AQ17,$S:$AA,AQ13*2-5,FALSE),\"\")","v":""}]
[null,null,null,null,null,null,null,null,null,null,null,null,null,null,null,null,null,null,17,"-","-","-","-","-","-","2--4",3,null,null,null,{"$f":"IFERROR(VLOOKUP(AQ18,$S:$AA,AQ13*2-6,FALSE),\"\")","v":""},{"$f":"IFERROR(PROPER(VLOOKUP(LEFT(AE18,1)+0,AE5:AF11,2,FALSE)),\"\")","v":""},{"$f":"IFERROR(PROPER(VLOOKUP(RIGHT(AE18,1)+0,AE5:AF11,2,FALSE)),\"\")","v":""},null,null,null,null,null,null,{"$f":"IFERROR(lfs(PROPER(VLOOKUP(AR18,AE5:AF11,2,FALSE))),\"\")","v":""},null,"11:00:00",5,{"$f":"IFERROR(VLOOKUP(AQ18,$S:$AA,AQ13*2-5,FALSE),\"\")","v":""}]
[null,null,null,null,null,null,null,null,null,null,null,null,null,null,null,null,null,null,18,"-","-","-","-","-","-","6--7",4,null,null,null,{"$f":"IFERROR(VLOOKUP(AQ19,$S:$AA,AQ13*2-6,FALSE),\"\")","v":""},{"$f":"IFERROR(PROPER(VLOOKUP(LEFT(AE19,1)+0,AE5:AF11,2,FALSE)),\"\")","v":""},{"$f":"IFERROR(PROPER(VLOOKUP(RIGHT(AE19,1)+0,AE5:AF11,2,FALSE)),\"\")","v":""},null,null,null,null,null,null,{"$f":"IFERROR(lfs(PROPER(VLOOKUP(AR19,AE5:AF11,2,FALSE))),\"\")","v":""},null,"11:15:00",6,{"$f":"IFERROR(VLOOKUP(AQ19,$S:$AA,AQ13*2-5,FALSE),\"\")","v":""}]
[null,null,null,null,null,null,null,null,null,null,null,null,null,null,null,null,null,null,19,"-","-","-","-","-","-","1--2",7,null,null,null,{"$f":"IFERROR(VLOOKUP(AQ20,$S:$AA,AQ13*2-6,FALSE),\"\")","v":""},{"$f":"IFERROR(PROPER(VLOOKUP(LEFT(AE20,1)+0,AE5:AF11,2,FALSE)),\"\")","v":""},{"$f":"IFERROR(PROPER(VLOOKUP(RIGHT(AE20,1)+0,AE5:AF11,2,FALSE)),\"\")","v":""},null,null,null,null,null,null,{"$f":"IFERROR(lfs(PROPER(VLOOKUP(AR20,AE5:AF11,2,FALSE))),\"\")","v":""},null,"11:30:00",7,{"$f":"IFERROR(VLOOKUP(AQ20,$S:$AA,AQ13*2-5,FALSE),\"\")","v":""}]
[null,null,null,null,null,null,null,null,null,null,null,null,null,null,null,null,null,null,20,"-","-","-","-","-","-","5--6",1,null,null,null,{"$f":"IFERROR(VLOOKUP(AQ21,$S:$AA,AQ13*2-6,FALSE),\"\")","v":""},{"$f":"IFERROR(PROPER(VLOOKUP(LEFT(AE21,1)+0,AE5:AF11,2,FALSE)),\"\")","v":""},{"$f":"IFERROR(PROPER(VLOOKUP(RIGHT(AE21,1)+0,AE5:AF11,2,FALSE)),\"\")","v":""},null,null,null,null,null,null,{"$f":"IFERROR(lfs(PROPER(VLOOKUP(AR21,AE5:AF11,2,FALSE))),\"\")","v":""},null,"11:45:00",8,{"$f":"IFERROR(VLOOKUP(AQ21,$S:$AA,AQ13*2-5,FALSE),\"\")","v":""}]
[null,null,null,null,null,null,null,null,null,null,null,null,null,null,null,null,null,null,21,"-","-","-","-","-","-","4--7",6,null,null,null,{"$f":"IFERROR(VLOOKUP(AQ22,$S:$AA,AQ13*2-6,FALSE),\"\")","v":""},{"$f":"IFERROR(PROPER(VLOOKUP(LEFT(AE22,1)+0,AE5:AF11,2,FALSE)),\"\")","v":""},{"$f":"IFERROR(PROPER(VLOOKUP(RIGHT(AE22,1)+0,AE5:AF11,2,FALSE)),\"\")","v":""},null,null,null,null,null,null,{"$f":"IFERROR(lfs(PROPER(VLOOKUP(AR22,AE5:AF11,2,FALSE))),\"\")","v":""},null,"12:00:00",9,{"$f":"IFERROR(VLOOKUP(AQ22,$S:$AA,AQ13*2-5,FALSE),\"\")","v":""}]
[null,null,null,null,null,null,null,null,null,null,null,null,null,null,null,null,null,null,null,null,null,null,null,null,null,null,null,null,null,null,{"$f":"IFERROR(VLOOKUP(AQ23,$S:$AA,AQ13*2-6,FALSE),\"\")","v":""},{"$f":"IFERROR(PROPER(VLOOKUP(LEFT(AE23,1)+0,AE5:AF11,2,FALSE)),\"\")","v":""},{"$f":"IFERROR(PROPER(VLOOKUP(RIGHT(AE23,1)+0,AE5:AF11,2,FALSE)),\"\")","v":""},null,null,null,null,null,null,{"$f":"IFERROR(lfs(PROPER(VLOOKUP(AR23,AE5:AF11,2,FALSE))),\"\")","v":""},null,"12:15:00",10,{"$f":"IFERROR(VLOOKUP(AQ23,$S:$AA,AQ13*2-5,FALSE),\"\")","v":""}]
[null,null,null,null,null,null,null,null,null,null,null,null,null,null,null,null,null,null,null,null,null,null,null,null,null,null,null,null,null,null,{"$f":"IFERROR(VLOOKUP(AQ24,$S:$AA,AQ13*2-6,FALSE),\"\")","v":""},{"$f":"IFERROR(PROPER(VLOOKUP(LEFT(AE24,1)+0,AE5:AF11,2,FALSE)),\"\")","v":""},{"$f":"IFERROR(PROPER(VLOOKUP(RIGHT(AE24,1)+0,AE5:AF11,2,FALSE)),\"\")","v":""},null,null,null,null,null,null,{"$f":"IFERROR(lfs(PROPER(VLOOKUP(AR24,AE5:AF11,2,FALSE))),\"\")","v":""},null,"12:30:00",11,{"$f":"IFERROR(VLOOKUP(AQ24,$S:$AA,AQ13*2-5,FALSE),\"\")","v":""}]
[null,null,null,null,null,null,null,null,null,null,null,null,null,null,null,null,null,null,null,null,null,null,null,null,null,null,null,null,null,null,{"$f":"IFERROR(VLOOKUP(AQ25,$S:$AA,AQ13*2-6,FALSE),\"\")","v":""},{"$f":"IFERROR(PROPER(VLOOKUP(LEFT(AE25,1)+0,AE5:AF11,2,FALSE)),\"\")","v":""},{"$f":"IFERROR(PROPER(VLOOKUP(RIGHT(AE25,1)+0,AE5:AF11,2,FALSE)),\"\")","v":""},null,null,null,null,null,null,{"$f":"IFERROR(lfs(PROPER(VLOOKUP(AR25,AE5:AF11,2,FALSE))),\"\")","v":""},null,"12:45:00",12,{"$f":"IFERROR(VLOOKUP(AQ25,$S:$AA,AQ13*2-5,FALSE),\"\")","v":""}]
[null,null,null,null,null,null,null,null,null,null,null,null,null,null,null,null,null,null,null,null,null,null,null,null,null,null,null,null,null,null,{"$f":"IFERROR(VLOOKUP(AQ26,$S:$AA,AQ13*2-6,FALSE),\"\")","v":""},{"$f":"IFERROR(PROPER(VLOOKUP(LEFT(AE26,1)+0,AE5:AF11,2,FALSE)),\"\")","v":""},{"$f":"IFERROR(PROPER(VLOOKUP(RIGHT(AE26,1)+0,AE5:AF11,2,FALSE)),\"\")","v":""},null,null,null,null,null,null,{"$f":"IFERROR(lfs(PROPER(VLOOKUP(AR26,AE5:AF11,2,FALSE))),\"\")","v":""},null,"13:00:00",13,{"$f":"IFERROR(VLOOKUP(AQ26,$S:$AA,AQ13*2-5,FALSE),\"\")","v":""}]
[null,null,null,null,null,null,null,null,null,null,null,null,null,null,null,null,null,null,null,null,null,null,null,null,null,null,null,null,null,null,{"$f":"IFERROR(VLOOKUP(AQ27,$S:$AA,AQ13*2-6,FALSE),\"\")","v":""},{"$f":"IFERROR(PROPER(VLOOKUP(LEFT(AE27,1)+0,AE5:AF11,2,FALSE)),\"\")","v":""},{"$f":"IFERROR(PROPER(VLOOKUP(RIGHT(AE27,1)+0,AE5:AF11,2,FALSE)),\"\")","v":""},null,null,null,null,null,null,{"$f":"IFERROR(lfs(PROPER(VLOOKUP(AR27,AE5:AF11,2,FALSE))),\"\")","v":""},null,"13:15:00",14,{"$f":"IFERROR(VLOOKUP(AQ27,$S:$AA,AQ13*2-5,FALSE),\"\")","v":""}]
[null,null,null,null,null,null,null,null,null,null,null,null,null,null,null,null,null,null,null,null,null,null,null,null,null,null,null,null,null,null,{"$f":"IFERROR(VLOOKUP(AQ28,$S:$AA,AQ13*2-6,FALSE),\"\")","v":""},{"$f":"IFERROR(PROPER(VLOOKUP(LEFT(AE28,1)+0,AE5:AF11,2,FALSE)),\"\")","v":""},{"$f":"IFERROR(PROPER(VLOOKUP(RIGHT(AE28,1)+0,AE5:AF11,2,FALSE)),\"\")","v":""},null,null,null,null,null,null,{"$f":"IFERROR(lfs(PROPER(VLOOKUP(AR28,AE5:AF11,2,FALSE))),\"\")","v":""},null,"13:30:00",15,{"$f":"IFERROR(VLOOKUP(AQ28,$S:$AA,AQ13*2-5,FALSE),\"\")","v":""}]
[null,null,null,null,null,null,null,null,null,null,null,null,null,null,null,null,null,null,null,null,null,null,null,null,null,null,null,null,null,null,{"$f":"IFERROR(VLOOKUP(AQ29,$S:$AA,AQ13*2-6,FALSE),\"\")","v":""},{"$f":"IFERROR(PROPER(VLOOKUP(LEFT(AE29,1)+0,AE5:AF11,2,FALSE)),\"\")","v":""},{"$f":"IFERROR(PROPER(VLOOKUP(RIGHT(AE29,1)+0,AE5:AF11,2,FALSE)),\"\")","v":""},null,null,null,null,null,null,{"$f":"IFERROR(lfs(PROPER(VLOOKUP(AR29,AE5:AF11,2,FALSE))),\"\")","v":""},null,{"$f":"AP28+$Q$2","v":"13:45:00"},16,{"$f":"IFERROR(VLOOKUP(AQ29,$S:$AA,AQ13*2-5,FALSE),\"\")","v":""}]
[null,null,null,null,null,null,null,null,null,null,null,null,null,null,null,null,null,null,null,null,null,null,null,null,null,null,null,null,null,null,{"$f":"IFERROR(VLOOKUP(AQ30,$S:$AA,AQ13*2-6,FALSE),\"\")","v":""},{"$f":"IFERROR(PROPER(VLOOKUP(LEFT(AE30,1)+0,AE5:AF11,2,FALSE)),\"\")","v":""},{"$f":"IFERROR(PROPER(VLOOKUP(RIGHT(AE30,1)+0,AE5:AF11,2,FALSE)),\"\")","v":""},null,null,null,null,null,null,{"$f":"IFERROR(lfs(PROPER(VLOOKUP(AR30,AE5:AF11,2,FALSE))),\"\")","v":""},null,"14:00:00",17,{"$f":"IFERROR(VLOOKUP(AQ30,$S:$AA,AQ13*2-5,FALSE),\"\")","v":""}]
[null,null,null,null,null,null,null,null,null,null,null,null,null,null,null,null,null,null,null,null,null,null,null,null,null,null,null,null,null,null,{"$f":"IFERROR(VLOOKUP(AQ31,$S:$AA,AQ13*2-6,FALSE),\"\")","v":""},{"$f":"IFERROR(PROPER(VLOOKUP(LEFT(AE31,1)+0,AE5:AF11,2,FALSE)),\"\")","v":""},{"$f":"IFERROR(PROPER(VLOOKUP(RIGHT(AE31,1)+0,AE5:AF11,2,FALSE)),\"\")","v":""},null,null,null,null,null,null,{"$f":"IFERROR(lfs(PROPER(VLOOKUP(AR31,AE5:AF11,2,FALSE))),\"\")","v":""},null,"14:15:00",18,{"$f":"IFERROR(VLOOKUP(AQ31,$S:$AA,AQ13*2-5,FALSE),\"\")","v":""}]
[null,null,null,null,null,null,null,null,null,null,null,null,null,null,null,null,null,null,null,null,null,null,null,null,null,null,null,null,null,null,{"$f":"IFERROR(VLOOKUP(AQ32,$S:$AA,AQ13*2-6,FALSE),\"\")","v":""},{"$f":"IFERROR(PROPER(VLOOKUP(LEFT(AE32,1)+0,AE5:AF11,2,FALSE)),\"\")","v":""},{"$f":"IFERROR(PROPER(VLOOKUP(RIGHT(AE32,1)+0,AE5:AF11,2,FALSE)),\"\")","v":""},null,null,null,null,null,null,{"$f":"IFERROR(lfs(PROPER(VLOOKUP(AR32,AE5:AF11,2,FALSE))),\"\")","v":""},null,"14:30:00",19,{"$f":"IFERROR(VLOOKUP(AQ32,$S:$AA,AQ13*2-5,FALSE),\"\")","v":""}]
[null,null,null,null,null,null,null,null,null,null,null,null,null,null,null,null,null,null,null,null,null,null,null,null,null,null,null,null,null,null,{"$f":"IFERROR(VLOOKUP(AQ33,$S:$AA,AQ13*2-6,FALSE),\"\")","v":""},{"$f":"IFERROR(PROPER(VLOOKUP(LEFT(AE33,1)+0,AE5:AF11,2,FALSE)),\"\")","v":""},{"$f":"IFERROR(PROPER(VLOOKUP(RIGHT(AE33,1)+0,AE5:AF11,2,FALSE)),\"\")","v":""},null,null,null,null,null,null,{"$f":"IFERROR(lfs(PROPER(VLOOKUP(AR33,AE5:AF11,2,FALSE))),\"\")","v":""},null,"14:45:00",20,{"$f":"IFERROR(VLOOKUP(AQ33,$S:$AA,AQ13*2-5,FALSE),\"\")","v":""}]
[null,null,null,null,null,null,null,null,null,null,null,null,null,null,null,null,null,null,null,null,null,null,null,null,null,null,null,null,null,null,{"$f":"IFERROR(VLOOKUP(AQ34,$S:$AA,AQ13*2-6,FALSE),\"\")","v":""},{"$f":"IFERROR(PROPER(VLOOKUP(LEFT(AE34,1)+0,AE5:AF11,2,FALSE)),\"\")","v":""},{"$f":"IFERROR(PROPER(VLOOKUP(RIGHT(AE34,1)+0,AE5:AF11,2,FALSE)),\"\")","v":""},null,null,null,null,null,null,{"$f":"IFERROR(lfs(PROPER(VLOOKUP(AR34,AE5:AF11,2,FALSE))),\"\")","v":""},null,"15:00:00",21,{"$f":"IFERROR(VLOOKUP(AQ34,$S:$AA,AQ13*2-5,FALSE),\"\")","v":""}]

{"sheet":"Arb.sup.","index":14,"n_rows":24,"n_cols":44,"rows_kept":24,"cut":false,"hidden":false,"merged":[]}
[null,null,null,null,null,null,null,null,null,null,null,null,null,null,null,"Ora","Durata",null,null,3,"Arbitru",4,"Arbitru",5,"Arbitru",null,null,null,null,null,{"$f":"nlc(Gr.sup.!$A1)","v":""}]
[null,null,null,null,null,null,null,null,null,null,null,null,null,null,null,"15:00:00","00:20:00",null,1,"2--3",1,"1--4",2,"2--5",3]
[null,null,null,null,null,null,null,null,null,null,null,null,null,null,null,null,null,null,2,"1--3",2,"2--3",4,"3--4",1,null,null,null,null,null,{"$f":"nlc(Gr.sup.!$A3)","v":""},null,"Masa nr. ",{"$f":"nlc(Gr.sup.!$D3)","v":""}]
[null,null,null,null,null,null,null,null,null,null,null,null,null,null,null,null,null,null,3,"1--2",3,"1--3",2,"1--5",4,null,null,null,null,null,null,"Nume si prenume","Localitate",1,2,3,4,5,"V","LOC"]
[null,null,null,null,null,null,null,null,null,null,null,null,null,null,null,null,null,null,4,"-","-","2--4",3,"2--3",5,null,null,null,null,null,1,{"$f":"nlc(Gr.sup.!$B5)","v":""},{"$f":"nlc(Gr.sup.!$C5)","v":""}]
[null,null,null,null,null,null,null,null,null,null,null,null,null,null,null,null,null,null,5,"-","-","1--2",4,"1--4",2,null,null,null,null,null,2,{"$f":"nlc(Gr.sup.!$B6)","v":""},{"$f":"nlc(Gr.sup.!$C6)","v":""}]
[null,null,null,null,null,null,null,null,null,null,null,null,null,null,null,null,null,null,6,"-","-","3--4",1,"3--5",1,null,null,null,null,null,3,{"$f":"nlc(Gr.sup.!$B7)","v":""},{"$f":"nlc(Gr.sup.!$C7)","v":""}]
[null,null,null,null,null,null,null,null,null,null,null,null,null,null,null,null,null,null,7,"-","-","-","-","2--4",5,null,null,null,null,null,4,{"$f":"nlc(Gr.sup.!$B8)","v":""},{"$f":"nlc(Gr.sup.!$C8)","v":""}]
[null,null,null,null,null,null,null,null,null,null,null,null,null,null,null,null,null,null,8,"-","-","-","-","1--3",2,null,null,null,null,null,5,{"$f":"nlc(Gr.sup.!$B9)","v":""},{"$f":"nlc(Gr.sup.!$C9)","v":""}]
[null,null,null,null,null,null,null,null,null,null,null,null,null,null,null,null,null,null,9,"-","-","-","-","4--5",3]
[null,null,null,null,null,null,null,null,null,null,null,null,null,null,null,null,null,null,10,"-","-","-","-","1--2",4,null,null,null,null,null,null,{"$f":"nlc(Gr.sup.!AK11)","v":""}]
[null,null,null,null,null,null,null,null,null,null,null,null,null,null,null,null,null,null,null,null,null,null,null,null,null,null,null,null,null,null,null,{"$f":"nlc(Gr.sup.!AK12)","v":""}]
[]
[null,null,null,null,null,null,null,null,null,null,null,null,null,null,null,null,null,null,null,null,null,null,null,null,null,null,null,null,null,null,"Meci","Jucator 1","Jucator 2","Set 1","Set 2","Set 3","Set 4","Set 5","Scor","Arbitru",null,"Timp\nestim.",{"$f":"5-COUNTBLANK(AF5:AF9)","v":0}]
[null,null,null,null,null,null,null,null,null,null,null,null,null,null,null,null,null,null,null,null,null,null,null,null,null,null,null,null,null,null,{"$f":"IFERROR(VLOOKUP(AQ15,$S:$Y,AQ14*2-4,FALSE),\"\")","v":""},{"$f":"IFERROR(PROPER(VLOOKUP(LEFT(AE15,1)+0,AE5:AF10,2,FALSE)),\"\")","v":""},{"$f":"IFERROR(PROPER(VLOOKUP(RIGHT(AE15,1)+0,AE5:AF10,2,FALSE)),\"\")","v":""},null,null,null,null,null,null,{"$f":"IFERROR(lfs(PROPER(VLOOKUP(AR15,AE5:AF10,2,FALSE))),\"\")","v":""},null,{"$f":"$P$2","v":"15:00:00"},1,{"$f":"IFERROR(VLOOKUP(AQ15,$S:$Y,AQ14*2-3,FALSE),\"\")","v":""}]
[null,null,null,null,null,null,null,null,null,null,null,null,null,null,null,null,null,null,null,null,null,null,null,null,null,null,null,null,null,null,{"$f":"IFERROR(VLOOKUP(AQ16,$S:$Y,AQ14*2-4,FALSE),\"\")","v":""},{"$f":"IFERROR(PROPER(VLOOKUP(LEFT(AE16,1)+0,AE5:AF10,2,FALSE)),\"\")","v":""},{"$f":"IFERROR(PROPER(VLOOKUP(RIGHT(AE16,1)+0,AE5:AF10,2,FALSE)),\"\")","v":""},null,null,null,null,null,null,{"$f":"IFERROR(lfs(PROPER(VLOOKUP(AR16,AE5:AF10,2,FALSE))),\"\")","v":""},null,{"$f":"AP15+$Q$2","v":"15:20:00"},2,{"$f":"IFERROR(VLOOKUP(AQ16,$S:$Y,AQ14*2-3,FALSE),\"\")","v":""}]
[null,null,null,null,null,null,null,null,null,null,null,null,null,null,null,null,null,null,null,null,null,null,null,null,null,null,null,null,null,null,{"$f":"IFERROR(VLOOKUP(AQ17,$S:$Y,AQ14*2-4,FALSE),\"\")","v":""},{"$f":"IFERROR(PROPER(VLOOKUP(LEFT(AE17,1)+0,AE5:AF10,2,FALSE)),\"\")","v":""},{"$f":"IFERROR(PROPER(VLOOKUP(RIGHT(AE17,1)+0,AE5:AF10,2,FALSE)),\"\")","v":""},null,null,null,null,null,null,{"$f":"IFERROR(lfs(PROPER(VLOOKUP(AR17,AE5:AF10,2,FALSE))),\"\")","v":""},null,"15:40:00",3,{"$f":"IFERROR(VLOOKUP(AQ17,$S:$Y,AQ14*2-3,FALSE),\"\")","v":""}]
[null,null,null,null,null,null,null,null,null,null,null,null,null,null,null,null,null,null,null,null,null,null,null,null,null,null,null,null,null,null,{"$f":"IFERROR(VLOOKUP(AQ18,$S:$Y,AQ14*2-4,FALSE),\"\")","v":""},{"$f":"IFERROR(PROPER(VLOOKUP(LEFT(AE18,1)+0,AE5:AF10,2,FALSE)),\"\")","v":""},{"$f":"IFERROR(PROPER(VLOOKUP(RIGHT(AE18,1)+0,AE5:AF10,2,FALSE)),\"\")","v":""},null,null,null,null,null,null,{"$f":"IFERROR(lfs(PROPER(VLOOKUP(AR18,AE5:AF10,2,FALSE))),\"\")","v":""},null,"16:00:00",4,{"$f":"IFERROR(VLOOKUP(AQ18,$S:$Y,AQ14*2-3,FALSE),\"\")","v":""}]
[null,null,null,null,null,null,null,null,null,null,null,null,null,null,null,null,null,null,null,null,null,null,null,null,null,null,null,null,null,null,{"$f":"IFERROR(VLOOKUP(AQ19,$S:$Y,AQ14*2-4,FALSE),\"\")","v":""},{"$f":"IFERROR(PROPER(VLOOKUP(LEFT(AE19,1)+0,AE5:AF10,2,FALSE)),\"\")","v":""},{"$f":"IFERROR(PROPER(VLOOKUP(RIGHT(AE19,1)+0,AE5:AF10,2,FALSE)),\"\")","v":""},null,null,null,null,null,null,{"$f":"IFERROR(lfs(PROPER(VLOOKUP(AR19,AE5:AF10,2,FALSE))),\"\")","v":""},null,"16:20:00",5,{"$f":"IFERROR(VLOOKUP(AQ19,$S:$Y,AQ14*2-3,FALSE),\"\")","v":""}]
[null,null,null,null,null,null,null,null,null,null,null,null,null,null,null,null,null,null,null,null,null,null,null,null,null,null,null,null,null,null,{"$f":"IFERROR(VLOOKUP(AQ20,$S:$Y,AQ14*2-4,FALSE),\"\")","v":""},{"$f":"IFERROR(PROPER(VLOOKUP(LEFT(AE20,1)+0,AE5:AF10,2,FALSE)),\"\")","v":""},{"$f":"IFERROR(PROPER(VLOOKUP(RIGHT(AE20,1)+0,AE5:AF10,2,FALSE)),\"\")","v":""},null,null,null,null,null,null,{"$f":"IFERROR(lfs(PROPER(VLOOKUP(AR20,AE5:AF10,2,FALSE))),\"\")","v":""},null,"16:40:00",6,{"$f":"IFERROR(VLOOKUP(AQ20,$S:$Y,AQ14*2-3,FALSE),\"\")","v":""}]
[null,null,null,null,null,null,null,null,null,null,null,null,null,null,null,null,null,null,null,null,null,null,null,null,null,null,null,null,null,null,{"$f":"IFERROR(VLOOKUP(AQ21,$S:$Y,AQ14*2-4,FALSE),\"\")","v":""},{"$f":"IFERROR(PROPER(VLOOKUP(LEFT(AE21,1)+0,AE5:AF10,2,FALSE)),\"\")","v":""},{"$f":"IFERROR(PROPER(VLOOKUP(RIGHT(AE21,1)+0,AE5:AF10,2,FALSE)),\"\")","v":""},null,null,null,null,null,null,{"$f":"IFERROR(lfs(PROPER(VLOOKUP(AR21,AE5:AF10,2,FALSE))),\"\")","v":""},null,"17:00:00",7,{"$f":"IFERROR(VLOOKUP(AQ21,$S:$Y,AQ14*2-3,FALSE),\"\")","v":""}]
[null,null,null,null,null,null,null,null,null,null,null,null,null,null,null,null,null,null,null,null,null,null,null,null,null,null,null,null,null,null,{"$f":"IFERROR(VLOOKUP(AQ22,$S:$Y,AQ14*2-4,FALSE),\"\")","v":""},{"$f":"IFERROR(PROPER(VLOOKUP(LEFT(AE22,1)+0,AE5:AF10,2,FALSE)),\"\")","v":""},{"$f":"IFERROR(PROPER(VLOOKUP(RIGHT(AE22,1)+0,AE5:AF10,2,FALSE)),\"\")","v":""},null,null,null,null,null,null,{"$f":"IFERROR(lfs(PROPER(VLOOKUP(AR22,AE5:AF10,2,FALSE))),\"\")","v":""},null,"17:20:00",8,{"$f":"IFERROR(VLOOKUP(AQ22,$S:$Y,AQ14*2-3,FALSE),\"\")","v":""}]
[null,null,null,null,null,null,null,null,null,null,null,null,null,null,null,null,null,null,null,null,null,null,null,null,null,null,null,null,null,null,{"$f":"IFERROR(VLOOKUP(AQ23,$S:$Y,AQ14*2-4,FALSE),\"\")","v":""},{"$f":"IFERROR(PROPER(VLOOKUP(LEFT(AE23,1)+0,AE5:AF10,2,FALSE)),\"\")","v":""},{"$f":"IFERROR(PROPER(VLOOKUP(RIGHT(AE23,1)+0,AE5:AF10,2,FALSE)),\"\")","v":""},null,null,null,null,null,null,{"$f":"IFERROR(lfs(PROPER(VLOOKUP(AR23,AE5:AF10,2,FALSE))),\"\")","v":""},null,"17:40:00",9,{"$f":"IFERROR(VLOOKUP(AQ23,$S:$Y,AQ14*2-3,FALSE),\"\")","v":""}]
[null,null,null,null,null,null,null,null,null,null,null,null,null,null,null,null,null,null,null,null,null,null,null,null,null,null,null,null,null,null,{"$f":"IFERROR(VLOOKUP(AQ24,$S:$Y,AQ14*2-4,FALSE),\"\")","v":""},{"$f":"IFERROR(PROPER(VLOOKUP(LEFT(AE24,1)+0,AE5:AF10,2,FALSE)),\"\")","v":""},{"$f":"IFERROR(PROPER(VLOOKUP(RIGHT(AE24,1)+0,AE5:AF10,2,FALSE)),\"\")","v":""},null,null,null,null,null,null,{"$f":"IFERROR(lfs(PROPER(VLOOKUP(AR24,AE5:AF10,2,FALSE))),\"\")","v":""},null,"18:00:00",10,{"$f":"IFERROR(VLOOKUP(AQ24,$S:$Y,AQ14*2-3,FALSE),\"\")","v":""}]

{"sheet":"Tabel","index":15,"n_rows":33,"n_cols":19,"rows_kept":33,"cut":false,"hidden":false,"merged":[]}
["Gr.","Loc  1","Poz. tablou","1/4 tab","Loc  2","Poz. tablou","1/4 tab","Loc  3","Poz. tablou","1/4 tab","Loc  4","Poz. tablou","1/4 tab","Loc  5","Poz. tablou","1/4 tab","Loc  6","Poz. tablou","1/4 tab"]
[1,null,null,{"$f":"IF(C2=0,\"\",VLOOKUP(C2,K!$Y:$AC,5,FALSE))","v":""},null,null,{"$f":"IF(F2=0,\"\",VLOOKUP(F2,K!$Y:$AC,5,FALSE))","v":""},null,null,{"$f":"IF(I2=0,\"\",VLOOKUP(I2,K!$Y:$AC,5,FALSE))","v":""},null,null,{"$f":"IF(L2=0,\"\",VLOOKUP(L2,K!$Y:$AC,5,FALSE))","v":""},null,null,{"$f":"IF(O2=0,\"\",VLOOKUP(O2,K!$Y:$AC,5,FALSE))","v":""},null,null,{"$f":"IF(R2=0,\"\",VLOOKUP(R2,K!$Y:$AC,5,FALSE))","v":""}]
[2,null,null,{"$f":"IF(C3=0,\"\",VLOOKUP(C3,K!$Y:$AC,5,FALSE))","v":""},null,null,{"$f":"IF(F3=0,\"\",VLOOKUP(F3,K!$Y:$AC,5,FALSE))","v":""},null,null,{"$f":"IF(I3=0,\"\",VLOOKUP(I3,K!$Y:$AC,5,FALSE))","v":""},null,null,{"$f":"IF(L3=0,\"\",VLOOKUP(L3,K!$Y:$AC,5,FALSE))","v":""},null,null,{"$f":"IF(O3=0,\"\",VLOOKUP(O3,K!$Y:$AC,5,FALSE))","v":""},null,null,{"$f":"IF(R3=0,\"\",VLOOKUP(R3,K!$Y:$AC,5,FALSE))","v":""}]
[3,null,null,{"$f":"IF(C4=0,\"\",VLOOKUP(C4,K!$Y:$AC,5,FALSE))","v":""},null,null,{"$f":"IF(F4=0,\"\",VLOOKUP(F4,K!$Y:$AC,5,FALSE))","v":""},null,null,{"$f":"IF(I4=0,\"\",VLOOKUP(I4,K!$Y:$AC,5,FALSE))","v":""},null,null,{"$f":"IF(L4=0,\"\",VLOOKUP(L4,K!$Y:$AC,5,FALSE))","v":""},null,null,{"$f":"IF(O4=0,\"\",VLOOKUP(O4,K!$Y:$AC,5,FALSE))","v":""},null,null,{"$f":"IF(R4=0,\"\",VLOOKUP(R4,K!$Y:$AC,5,FALSE))","v":""}]
[4,null,null,{"$f":"IF(C5=0,\"\",VLOOKUP(C5,K!$Y:$AC,5,FALSE))","v":""},null,null,{"$f":"IF(F5=0,\"\",VLOOKUP(F5,K!$Y:$AC,5,FALSE))","v":""},null,null,{"$f":"IF(I5=0,\"\",VLOOKUP(I5,K!$Y:$AC,5,FALSE))","v":""},null,null,{"$f":"IF(L5=0,\"\",VLOOKUP(L5,K!$Y:$AC,5,FALSE))","v":""},null,null,{"$f":"IF(O5=0,\"\",VLOOKUP(O5,K!$Y:$AC,5,FALSE))","v":""},null,null,{"$f":"IF(R5=0,\"\",VLOOKUP(R5,K!$Y:$AC,5,FALSE))","v":""}]
[5,null,null,{"$f":"IF(C6=0,\"\",VLOOKUP(C6,K!$Y:$AC,5,FALSE))","v":""},null,null,{"$f":"IF(F6=0,\"\",VLOOKUP(F6,K!$Y:$AC,5,FALSE))","v":""},null,null,{"$f":"IF(I6=0,\"\",VLOOKUP(I6,K!$Y:$AC,5,FALSE))","v":""},null,null,{"$f":"IF(L6=0,\"\",VLOOKUP(L6,K!$Y:$AC,5,FALSE))","v":""},null,null,{"$f":"IF(O6=0,\"\",VLOOKUP(O6,K!$Y:$AC,5,FALSE))","v":""},null,null,{"$f":"IF(R6=0,\"\",VLOOKUP(R6,K!$Y:$AC,5,FALSE))","v":""}]
[6,null,null,{"$f":"IF(C7=0,\"\",VLOOKUP(C7,K!$Y:$AC,5,FALSE))","v":""},null,null,{"$f":"IF(F7=0,\"\",VLOOKUP(F7,K!$Y:$AC,5,FALSE))","v":""},null,null,{"$f":"IF(I7=0,\"\",VLOOKUP(I7,K!$Y:$AC,5,FALSE))","v":""},null,null,{"$f":"IF(L7=0,\"\",VLOOKUP(L7,K!$Y:$AC,5,FALSE))","v":""},null,null,{"$f":"IF(O7=0,\"\",VLOOKUP(O7,K!$Y:$AC,5,FALSE))","v":""},null,null,{"$f":"IF(R7=0,\"\",VLOOKUP(R7,K!$Y:$AC,5,FALSE))","v":""}]
[7,null,null,{"$f":"IF(C8=0,\"\",VLOOKUP(C8,K!$Y:$AC,5,FALSE))","v":""},null,null,{"$f":"IF(F8=0,\"\",VLOOKUP(F8,K!$Y:$AC,5,FALSE))","v":""},null,null,{"$f":"IF(I8=0,\"\",VLOOKUP(I8,K!$Y:$AC,5,FALSE))","v":""},null,null,{"$f":"IF(L8=0,\"\",VLOOKUP(L8,K!$Y:$AC,5,FALSE))","v":""},null,null,{"$f":"IF(O8=0,\"\",VLOOKUP(O8,K!$Y:$AC,5,FALSE))","v":""},null,null,{"$f":"IF(R8=0,\"\",VLOOKUP(R8,K!$Y:$AC,5,FALSE))","v":""}]
[8,null,null,{"$f":"IF(C9=0,\"\",VLOOKUP(C9,K!$Y:$AC,5,FALSE))","v":""},null,null,{"$f":"IF(F9=0,\"\",VLOOKUP(F9,K!$Y:$AC,5,FALSE))","v":""},null,null,{"$f":"IF(I9=0,\"\",VLOOKUP(I9,K!$Y:$AC,5,FALSE))","v":""},null,null,{"$f":"IF(L9=0,\"\",VLOOKUP(L9,K!$Y:$AC,5,FALSE))","v":""},null,null,{"$f":"IF(O9=0,\"\",VLOOKUP(O9,K!$Y:$AC,5,FALSE))","v":""},null,null,{"$f":"IF(R9=0,\"\",VLOOKUP(R9,K!$Y:$AC,5,FALSE))","v":""}]
[9,null,null,{"$f":"IF(C10=0,\"\",VLOOKUP(C10,K!$Y:$AC,5,FALSE))","v":""},null,null,{"$f":"IF(F10=0,\"\",VLOOKUP(F10,K!$Y:$AC,5,FALSE))","v":""},null,null,{"$f":"IF(I10=0,\"\",VLOOKUP(I10,K!$Y:$AC,5,FALSE))","v":""},null,null,{"$f":"IF(L10=0,\"\",VLOOKUP(L10,K!$Y:$AC,5,FALSE))","v":""},null,null,{"$f":"IF(O10=0,\"\",VLOOKUP(O10,K!$Y:$AC,5,FALSE))","v":""},null,null,{"$f":"IF(R10=0,\"\",VLOOKUP(R10,K!$Y:$AC,5,FALSE))","v":""}]
[10,null,null,{"$f":"IF(C11=0,\"\",VLOOKUP(C11,K!$Y:$AC,5,FALSE))","v":""},null,null,{"$f":"IF(F11=0,\"\",VLOOKUP(F11,K!$Y:$AC,5,FALSE))","v":""},null,null,{"$f":"IF(I11=0,\"\",VLOOKUP(I11,K!$Y:$AC,5,FALSE))","v":""},null,null,{"$f":"IF(L11=0,\"\",VLOOKUP(L11,K!$Y:$AC,5,FALSE))","v":""},null,null,{"$f":"IF(O11=0,\"\",VLOOKUP(O11,K!$Y:$AC,5,FALSE))","v":""},null,null,{"$f":"IF(R11=0,\"\",VLOOKUP(R11,K!$Y:$AC,5,FALSE))","v":""}]
[11,null,null,{"$f":"IF(C12=0,\"\",VLOOKUP(C12,K!$Y:$AC,5,FALSE))","v":""},null,null,{"$f":"IF(F12=0,\"\",VLOOKUP(F12,K!$Y:$AC,5,FALSE))","v":""},null,null,{"$f":"IF(I12=0,\"\",VLOOKUP(I12,K!$Y:$AC,5,FALSE))","v":""},null,null,{"$f":"IF(L12=0,\"\",VLOOKUP(L12,K!$Y:$AC,5,FALSE))","v":""},null,null,{"$f":"IF(O12=0,\"\",VLOOKUP(O12,K!$Y:$AC,5,FALSE))","v":""},null,null,{"$f":"IF(R12=0,\"\",VLOOKUP(R12,K!$Y:$AC,5,FALSE))","v":""}]
[12,null,null,{"$f":"IF(C13=0,\"\",VLOOKUP(C13,K!$Y:$AC,5,FALSE))","v":""},null,null,{"$f":"IF(F13=0,\"\",VLOOKUP(F13,K!$Y:$AC,5,FALSE))","v":""},null,null,{"$f":"IF(I13=0,\"\",VLOOKUP(I13,K!$Y:$AC,5,FALSE))","v":""},null,null,{"$f":"IF(L13=0,\"\",VLOOKUP(L13,K!$Y:$AC,5,FALSE))","v":""},null,null,{"$f":"IF(O13=0,\"\",VLOOKUP(O13,K!$Y:$AC,5,FALSE))","v":""},null,null,{"$f":"IF(R13=0,\"\",VLOOKUP(R13,K!$Y:$AC,5,FALSE))","v":""}]
[13,null,null,{"$f":"IF(C14=0,\"\",VLOOKUP(C14,K!$Y:$AC,5,FALSE))","v":""},null,null,{"$f":"IF(F14=0,\"\",VLOOKUP(F14,K!$Y:$AC,5,FALSE))","v":""},null,null,{"$f":"IF(I14=0,\"\",VLOOKUP(I14,K!$Y:$AC,5,FALSE))","v":""},null,null,{"$f":"IF(L14=0,\"\",VLOOKUP(L14,K!$Y:$AC,5,FALSE))","v":""},null,null,{"$f":"IF(O14=0,\"\",VLOOKUP(O14,K!$Y:$AC,5,FALSE))","v":""},null,null,{"$f":"IF(R14=0,\"\",VLOOKUP(R14,K!$Y:$AC,5,FALSE))","v":""}]
[14,null,null,{"$f":"IF(C15=0,\"\",VLOOKUP(C15,K!$Y:$AC,5,FALSE))","v":""},null,null,{"$f":"IF(F15=0,\"\",VLOOKUP(F15,K!$Y:$AC,5,FALSE))","v":""},null,null,{"$f":"IF(I15=0,\"\",VLOOKUP(I15,K!$Y:$AC,5,FALSE))","v":""},null,null,{"$f":"IF(L15=0,\"\",VLOOKUP(L15,K!$Y:$AC,5,FALSE))","v":""},null,null,{"$f":"IF(O15=0,\"\",VLOOKUP(O15,K!$Y:$AC,5,FALSE))","v":""},null,null,{"$f":"IF(R15=0,\"\",VLOOKUP(R15,K!$Y:$AC,5,FALSE))","v":""}]
[15,null,null,{"$f":"IF(C16=0,\"\",VLOOKUP(C16,K!$Y:$AC,5,FALSE))","v":""},null,null,{"$f":"IF(F16=0,\"\",VLOOKUP(F16,K!$Y:$AC,5,FALSE))","v":""},null,null,{"$f":"IF(I16=0,\"\",VLOOKUP(I16,K!$Y:$AC,5,FALSE))","v":""},null,null,{"$f":"IF(L16=0,\"\",VLOOKUP(L16,K!$Y:$AC,5,FALSE))","v":""},null,null,{"$f":"IF(O16=0,\"\",VLOOKUP(O16,K!$Y:$AC,5,FALSE))","v":""},null,null,{"$f":"IF(R16=0,\"\",VLOOKUP(R16,K!$Y:$AC,5,FALSE))","v":""}]
[16,null,null,{"$f":"IF(C17=0,\"\",VLOOKUP(C17,K!$Y:$AC,5,FALSE))","v":""},null,null,{"$f":"IF(F17=0,\"\",VLOOKUP(F17,K!$Y:$AC,5,FALSE))","v":""},null,null,{"$f":"IF(I17=0,\"\",VLOOKUP(I17,K!$Y:$AC,5,FALSE))","v":""},null,null,{"$f":"IF(L17=0,\"\",VLOOKUP(L17,K!$Y:$AC,5,FALSE))","v":""},null,null,{"$f":"IF(O17=0,\"\",VLOOKUP(O17,K!$Y:$AC,5,FALSE))","v":""},null,null,{"$f":"IF(R17=0,\"\",VLOOKUP(R17,K!$Y:$AC,5,FALSE))","v":""}]
[17,null,null,{"$f":"IF(C18=0,\"\",VLOOKUP(C18,K!$Y:$AC,5,FALSE))","v":""},null,null,{"$f":"IF(F18=0,\"\",VLOOKUP(F18,K!$Y:$AC,5,FALSE))","v":""},null,null,{"$f":"IF(I18=0,\"\",VLOOKUP(I18,K!$Y:$AC,5,FALSE))","v":""},null,null,{"$f":"IF(L18=0,\"\",VLOOKUP(L18,K!$Y:$AC,5,FALSE))","v":""},null,null,{"$f":"IF(O18=0,\"\",VLOOKUP(O18,K!$Y:$AC,5,FALSE))","v":""},null,null,{"$f":"IF(R18=0,\"\",VLOOKUP(R18,K!$Y:$AC,5,FALSE))","v":""}]
[18,null,null,{"$f":"IF(C19=0,\"\",VLOOKUP(C19,K!$Y:$AC,5,FALSE))","v":""},null,null,{"$f":"IF(F19=0,\"\",VLOOKUP(F19,K!$Y:$AC,5,FALSE))","v":""},null,null,{"$f":"IF(I19=0,\"\",VLOOKUP(I19,K!$Y:$AC,5,FALSE))","v":""},null,null,{"$f":"IF(L19=0,\"\",VLOOKUP(L19,K!$Y:$AC,5,FALSE))","v":""},null,null,{"$f":"IF(O19=0,\"\",VLOOKUP(O19,K!$Y:$AC,5,FALSE))","v":""},null,null,{"$f":"IF(R19=0,\"\",VLOOKUP(R19,K!$Y:$AC,5,FALSE))","v":""}]
[19,null,null,{"$f":"IF(C20=0,\"\",VLOOKUP(C20,K!$Y:$AC,5,FALSE))","v":""},null,null,{"$f":"IF(F20=0,\"\",VLOOKUP(F20,K!$Y:$AC,5,FALSE))","v":""},null,null,{"$f":"IF(I20=0,\"\",VLOOKUP(I20,K!$Y:$AC,5,FALSE))","v":""},null,null,{"$f":"IF(L20=0,\"\",VLOOKUP(L20,K!$Y:$AC,5,FALSE))","v":""},null,null,{"$f":"IF(O20=0,\"\",VLOOKUP(O20,K!$Y:$AC,5,FALSE))","v":""},null,null,{"$f":"IF(R20=0,\"\",VLOOKUP(R20,K!$Y:$AC,5,FALSE))","v":""}]
[20,null,null,{"$f":"IF(C21=0,\"\",VLOOKUP(C21,K!$Y:$AC,5,FALSE))","v":""},null,null,{"$f":"IF(F21=0,\"\",VLOOKUP(F21,K!$Y:$AC,5,FALSE))","v":""},null,null,{"$f":"IF(I21=0,\"\",VLOOKUP(I21,K!$Y:$AC,5,FALSE))","v":""},null,null,{"$f":"IF(L21=0,\"\",VLOOKUP(L21,K!$Y:$AC,5,FALSE))","v":""},null,null,{"$f":"IF(O21=0,\"\",VLOOKUP(O21,K!$Y:$AC,5,FALSE))","v":""},null,null,{"$f":"IF(R21=0,\"\",VLOOKUP(R21,K!$Y:$AC,5,FALSE))","v":""}]
[21,null,null,{"$f":"IF(C22=0,\"\",VLOOKUP(C22,K!$Y:$AC,5,FALSE))","v":""},null,null,{"$f":"IF(F22=0,\"\",VLOOKUP(F22,K!$Y:$AC,5,FALSE))","v":""},null,null,{"$f":"IF(I22=0,\"\",VLOOKUP(I22,K!$Y:$AC,5,FALSE))","v":""},null,null,{"$f":"IF(L22=0,\"\",VLOOKUP(L22,K!$Y:$AC,5,FALSE))","v":""},null,null,{"$f":"IF(O22=0,\"\",VLOOKUP(O22,K!$Y:$AC,5,FALSE))","v":""},null,null,{"$f":"IF(R22=0,\"\",VLOOKUP(R22,K!$Y:$AC,5,FALSE))","v":""}]
[22,null,null,{"$f":"IF(C23=0,\"\",VLOOKUP(C23,K!$Y:$AC,5,FALSE))","v":""},null,null,{"$f":"IF(F23=0,\"\",VLOOKUP(F23,K!$Y:$AC,5,FALSE))","v":""},null,null,{"$f":"IF(I23=0,\"\",VLOOKUP(I23,K!$Y:$AC,5,FALSE))","v":""},null,null,{"$f":"IF(L23=0,\"\",VLOOKUP(L23,K!$Y:$AC,5,FALSE))","v":""},null,null,{"$f":"IF(O23=0,\"\",VLOOKUP(O23,K!$Y:$AC,5,FALSE))","v":""},null,null,{"$f":"IF(R23=0,\"\",VLOOKUP(R23,K!$Y:$AC,5,FALSE))","v":""}]
[23,null,null,{"$f":"IF(C24=0,\"\",VLOOKUP(C24,K!$Y:$AC,5,FALSE))","v":""},null,null,{"$f":"IF(F24=0,\"\",VLOOKUP(F24,K!$Y:$AC,5,FALSE))","v":""},null,null,{"$f":"IF(I24=0,\"\",VLOOKUP(I24,K!$Y:$AC,5,FALSE))","v":""},null,null,{"$f":"IF(L24=0,\"\",VLOOKUP(L24,K!$Y:$AC,5,FALSE))","v":""},null,null,{"$f":"IF(O24=0,\"\",VLOOKUP(O24,K!$Y:$AC,5,FALSE))","v":""},null,null,{"$f":"IF(R24=0,\"\",VLOOKUP(R24,K!$Y:$AC,5,FALSE))","v":""}]
[24,null,null,{"$f":"IF(C25=0,\"\",VLOOKUP(C25,K!$Y:$AC,5,FALSE))","v":""},null,null,{"$f":"IF(F25=0,\"\",VLOOKUP(F25,K!$Y:$AC,5,FALSE))","v":""},null,null,{"$f":"IF(I25=0,\"\",VLOOKUP(I25,K!$Y:$AC,5,FALSE))","v":""},null,null,{"$f":"IF(L25=0,\"\",VLOOKUP(L25,K!$Y:$AC,5,FALSE))","v":""},null,null,{"$f":"IF(O25=0,\"\",VLOOKUP(O25,K!$Y:$AC,5,FALSE))","v":""},null,null,{"$f":"IF(R25=0,\"\",VLOOKUP(R25,K!$Y:$AC,5,FALSE))","v":""}]
[25,null,null,{"$f":"IF(C26=0,\"\",VLOOKUP(C26,K!$Y:$AC,5,FALSE))","v":""},null,null,{"$f":"IF(F26=0,\"\",VLOOKUP(F26,K!$Y:$AC,5,FALSE))","v":""},null,null,{"$f":"IF(I26=0,\"\",VLOOKUP(I26,K!$Y:$AC,5,FALSE))","v":""},null,null,{"$f":"IF(L26=0,\"\",VLOOKUP(L26,K!$Y:$AC,5,FALSE))","v":""},null,null,{"$f":"IF(O26=0,\"\",VLOOKUP(O26,K!$Y:$AC,5,FALSE))","v":""},null,null,{"$f":"IF(R26=0,\"\",VLOOKUP(R26,K!$Y:$AC,5,FALSE))","v":""}]
[26,null,null,{"$f":"IF(C27=0,\"\",VLOOKUP(C27,K!$Y:$AC,5,FALSE))","v":""},null,null,{"$f":"IF(F27=0,\"\",VLOOKUP(F27,K!$Y:$AC,5,FALSE))","v":""},null,null,{"$f":"IF(I27=0,\"\",VLOOKUP(I27,K!$Y:$AC,5,FALSE))","v":""},null,null,{"$f":"IF(L27=0,\"\",VLOOKUP(L27,K!$Y:$AC,5,FALSE))","v":""},null,null,{"$f":"IF(O27=0,\"\",VLOOKUP(O27,K!$Y:$AC,5,FALSE))","v":""},null,null,{"$f":"IF(R27=0,\"\",VLOOKUP(R27,K!$Y:$AC,5,FALSE))","v":""}]
[27,null,null,{"$f":"IF(C28=0,\"\",VLOOKUP(C28,K!$Y:$AC,5,FALSE))","v":""},null,null,{"$f":"IF(F28=0,\"\",VLOOKUP(F28,K!$Y:$AC,5,FALSE))","v":""},null,null,{"$f":"IF(I28=0,\"\",VLOOKUP(I28,K!$Y:$AC,5,FALSE))","v":""},null,null,{"$f":"IF(L28=0,\"\",VLOOKUP(L28,K!$Y:$AC,5,FALSE))","v":""},null,null,{"$f":"IF(O28=0,\"\",VLOOKUP(O28,K!$Y:$AC,5,FALSE))","v":""},null,null,{"$f":"IF(R28=0,\"\",VLOOKUP(R28,K!$Y:$AC,5,FALSE))","v":""}]
[28,null,null,{"$f":"IF(C29=0,\"\",VLOOKUP(C29,K!$Y:$AC,5,FALSE))","v":""},null,null,{"$f":"IF(F29=0,\"\",VLOOKUP(F29,K!$Y:$AC,5,FALSE))","v":""},null,null,{"$f":"IF(I29=0,\"\",VLOOKUP(I29,K!$Y:$AC,5,FALSE))","v":""},null,null,{"$f":"IF(L29=0,\"\",VLOOKUP(L29,K!$Y:$AC,5,FALSE))","v":""},null,null,{"$f":"IF(O29=0,\"\",VLOOKUP(O29,K!$Y:$AC,5,FALSE))","v":""},null,null,{"$f":"IF(R29=0,\"\",VLOOKUP(R29,K!$Y:$AC,5,FALSE))","v":""}]
[29,null,null,{"$f":"IF(C30=0,\"\",VLOOKUP(C30,K!$Y:$AC,5,FALSE))","v":""},null,null,{"$f":"IF(F30=0,\"\",VLOOKUP(F30,K!$Y:$AC,5,FALSE))","v":""},null,null,{"$f":"IF(I30=0,\"\",VLOOKUP(I30,K!$Y:$AC,5,FALSE))","v":""},null,null,{"$f":"IF(L30=0,\"\",VLOOKUP(L30,K!$Y:$AC,5,FALSE))","v":""},null,null,{"$f":"IF(O30=0,\"\",VLOOKUP(O30,K!$Y:$AC,5,FALSE))","v":""},null,null,{"$f":"IF(R30=0,\"\",VLOOKUP(R30,K!$Y:$AC,5,FALSE))","v":""}]
[30,null,null,{"$f":"IF(C31=0,\"\",VLOOKUP(C31,K!$Y:$AC,5,FALSE))","v":""},null,null,{"$f":"IF(F31=0,\"\",VLOOKUP(F31,K!$Y:$AC,5,FALSE))","v":""},null,null,{"$f":"IF(I31=0,\"\",VLOOKUP(I31,K!$Y:$AC,5,FALSE))","v":""},null,null,{"$f":"IF(L31=0,\"\",VLOOKUP(L31,K!$Y:$AC,5,FALSE))","v":""},null,null,{"$f":"IF(O31=0,\"\",VLOOKUP(O31,K!$Y:$AC,5,FALSE))","v":""},null,null,{"$f":"IF(R31=0,\"\",VLOOKUP(R31,K!$Y:$AC,5,FALSE))","v":""}]
[31,null,null,{"$f":"IF(C32=0,\"\",VLOOKUP(C32,K!$Y:$AC,5,FALSE))","v":""},null,null,{"$f":"IF(F32=0,\"\",VLOOKUP(F32,K!$Y:$AC,5,FALSE))","v":""},null,null,{"$f":"IF(I32=0,\"\",VLOOKUP(I32,K!$Y:$AC,5,FALSE))","v":""},null,null,{"$f":"IF(L32=0,\"\",VLOOKUP(L32,K!$Y:$AC,5,FALSE))","v":""},null,null,{"$f":"IF(O32=0,\"\",VLOOKUP(O32,K!$Y:$AC,5,FALSE))","v":""},null,null,{"$f":"IF(R32=0,\"\",VLOOKUP(R32,K!$Y:$AC,5,FALSE))","v":""}]
[32,null,null,{"$f":"IF(C33=0,\"\",VLOOKUP(C33,K!$Y:$AC,5,FALSE))","v":""},null,null,{"$f":"IF(F33=0,\"\",VLOOKUP(F33,K!$Y:$AC,5,FALSE))","v":""},null,null,{"$f":"IF(I33=0,\"\",VLOOKUP(I33,K!$Y:$AC,5,FALSE))","v":""},null,null,{"$f":"IF(L33=0,\"\",VLOOKUP(L33,K!$Y:$AC,5,FALSE))","v":""},null,null,{"$f":"IF(O33=0,\"\",VLOOKUP(O33,K!$Y:$AC,5,FALSE))","v":""},null,null,{"$f":"IF(R33=0,\"\",VLOOKUP(R33,K!$Y:$AC,5,FALSE))","v":""}]

{"sheet":"Elim.","index":16,"n_rows":0,"n_cols":0,"rows_kept":0,"cut":false,"hidden":false,"merged":[]}

{"sheet":"T64","index":17,"n_rows":142,"n_cols":70,"rows_kept":142,"cut":false,"hidden":true,"merged":[]}
[{"$f":"\"Eliminatorii \" & ctg & \" - page 1\"","v":"Eliminatorii Categoria - page 1"},null,null,null,null,null,null,null,135,6,"SE","Loc",null,{"$f":"\"[B]\"&clr & \"Eliminatorii \" & ctg & _cle & \"[/b]\"","v":"[B][color=red]Eliminatorii Categoria[/color] [/b]"},null,null,null,null,null,null,null,null,null,null,null,null,null,null,{"$f":"\"[b]\"&clr & \"Semifinale - \" & _cle & ctg & \"[/b]\"","v":"[b][color=red]Semifinale - [/color] Categoria[/b]"},null,null,null,null,null,null,null,null,null,null,null,null,null,null,null,null,null,null,null,null,"R64",null,null,"R32",null,null,"R16",null,null,"R8",null,null,"SF",null,null,"F",null,null,"3rd"]
[1,null,null,null,null,null,null,null,null,null,{"$f":"H65","v":""},1,null,null,null,null,null,null,null,null,null,null,null,null,null,null,null,null,null,null,null,null,null,null,null,null,null,null,null,null,null,null,null,null,null,null,null,null,null,{"$f":"IFERROR(RIGHT(B2,LEN(B2)-FIND(\",\",B2)),\"\")","v":""},{"$f":"IFERROR(RIGHT(B4,LEN(B4)-FIND(\",\",B4)),\"\")","v":""},{"$f":"C4","v":0},{"$f":"IFERROR(RIGHT(C3,LEN(C3)-FIND(\",\",C3)),\"\")","v":""},{"$f":"IFERROR(RIGHT(C7,LEN(C7)-FIND(\",\",C7)),\"\")","v":""},{"$f":"D6","v":0},{"$f":"IFERROR(RIGHT(D5,LEN(D5)-FIND(\",\",D5)),\"\")","v":""},{"$f":"IFERROR(RIGHT(D13,LEN(D13)-FIND(\",\",D13)),\"\")","v":""},{"$f":"E10","v":0},{"$f":"IFERROR(RIGHT(E9,LEN(E9)-FIND(\",\",E9)),\"\")","v":""},{"$f":"IFERROR(RIGHT(E25,LEN(E25)-FIND(\",\",E25)),\"\")","v":""},{"$f":"F18","v":0},{"$f":"IFERROR(RIGHT(F17,LEN(F17)-FIND(\",\",F17)),\"\")","v":""},{"$f":"IFERROR(RIGHT(F49,LEN(F49)-FIND(\",\",F49)),\"\")","v":""},{"$f":"G34","v":0},{"$f":"IFERROR(RIGHT(G33,LEN(G33)-FIND(\",\",G33)),\"\")","v":""},{"$f":"IFERROR(RIGHT(G97,LEN(G97)-FIND(\",\",G97)),\"\")","v":""},{"$f":"H66","v":0},{"$f":"IFERROR(RIGHT($G$5,LEN($G$5)-FIND(\",\",$G$5)),\"\")","v":""},{"$f":"IFERROR(RIGHT($G$7,LEN($G$7)-FIND(\",\",$G$7)),\"\")","v":""},{"$f":"$H$7","v":0}]
[null,null,{"$f":"IF(C4=\"\",\"\",IF(LEFT(C4)>RIGHT(C4),B2,B4))","v":""},{"$f":"IF(C3=\"\",\"\",IF(B4=C3,B2,B4))","v":""},null,null,null,null,null,null,{"$f":"I65","v":""},2,null,{"$f":"\"[b]\"&$A2&\"[/b]. \"&_cl1&lfi(B2)&_cle","v":"[b]1[/b]. [color=\"#990000\"][/color] "},null,null,null,null,null,null,null,null,null,null,null,null,null,null,{"$f":"_cl1&lfi(F17)&_cle","v":"[color=\"#990000\"][/color] "},null,null,null,null,null,null,null,null,null,null,null,null,null,null,null,null,null,null,null,null,{"$f":"IFERROR(RIGHT(B6,LEN(B6)-FIND(\",\",B6)),\"\")","v":""},{"$f":"IFERROR(RIGHT(B8,LEN(B8)-FIND(\",\",B8)),\"\")","v":""},{"$f":"C8","v":0},{"$f":"IFERROR(RIGHT(C11,LEN(C11)-FIND(\",\",C11)),\"\")","v":""},{"$f":"IFERROR(RIGHT(C15,LEN(C15)-FIND(\",\",C15)),\"\")","v":""},{"$f":"D14","v":0},{"$f":"IFERROR(RIGHT(D21,LEN(D21)-FIND(\",\",D21)),\"\")","v":""},{"$f":"IFERROR(RIGHT(D29,LEN(D29)-FIND(\",\",D29)),\"\")","v":""},{"$f":"E26","v":0},{"$f":"IFERROR(RIGHT(E41,LEN(E41)-FIND(\",\",E41)),\"\")","v":""},{"$f":"IFERROR(RIGHT(E57,LEN(E57)-FIND(\",\",E57)),\"\")","v":""},{"$f":"F50","v":0},{"$f":"IFERROR(RIGHT(F81,LEN(F81)-FIND(\",\",F81)),\"\")","v":""},{"$f":"IFERROR(RIGHT(F113,LEN(F113)-FIND(\",\",F113)),\"\")","v":""},{"$f":"G98","v":0},"x",null,null,"x"]
[64,null,null,null,null,null,null,null,null,null,{"$f":"IF(H6=\"\",VLOOKUP(K2,$G$9:$H$128,2,FALSE),H6)","v":0},3,null,{"$f":"_m1&_cl2&lfi(C3)&_cle&sc(C4)","v":"-------------------- [color=\"#000075\"][/color] [b][/b]"},null,null,null,null,null,null,null,null,null,null,null,null,null,null,{"$f":"_m1&_cl2&\"[b]\"&lfi(G33)&\"[/b]\"&_cle& \" \" & sc(G34)","v":"-------------------- [color=\"#000075\"][b][/b][/color]  [b][/b]"},null,null,null,null,null,null,null,null,null,null,null,null,null,null,null,null,null,null,null,null,{"$f":"IFERROR(RIGHT(B10,LEN(B10)-FIND(\",\",B10)),\"\")","v":""},{"$f":"IFERROR(RIGHT(B12,LEN(B12)-FIND(\",\",B12)),\"\")","v":""},{"$f":"C12","v":0},{"$f":"IFERROR(RIGHT(C19,LEN(C19)-FIND(\",\",C19)),\"\")","v":""},{"$f":"IFERROR(RIGHT(C23,LEN(C23)-FIND(\",\",C23)),\"\")","v":""},{"$f":"D22","v":0},{"$f":"IFERROR(RIGHT(D37,LEN(D37)-FIND(\",\",D37)),\"\")","v":""},{"$f":"IFERROR(RIGHT(D45,LEN(D45)-FIND(\",\",D45)),\"\")","v":""},{"$f":"E42","v":0},{"$f":"IFERROR(RIGHT(E73,LEN(E73)-FIND(\",\",E73)),\"\")","v":""},{"$f":"IFERROR(RIGHT(E89,LEN(E89)-FIND(\",\",E89)),\"\")","v":""},{"$f":"F82","v":0},"x"]
[null,null,null,{"$f":"IF(D6=\"\",\"\",IF(LEFT(D6)>RIGHT(D6),C3,C7))","v":""},{"$f":"IF(D6=\"\",\"\",IF(LEFT(D6)<RIGHT(D6),C3,C7))","v":""},null,{"$f":"H33","v":""},null,null,null,{"$f":"IF(I6=\"\",VLOOKUP(K3,$G$9:$H$128,2,FALSE),I6)","v":0},4,null,{"$f":"\"[b]\"&$A4&\"[/b]. \"&_cl1&lfi(B4)&_cle","v":"[b]64[/b]. [color=\"#990000\"][/color] "},null,null,null,null,null,null,null,null,null,null,null,null,null,null,{"$f":"_cl1&lfi(F49)&_cle","v":"[color=\"#990000\"][/color] "},null,null,null,null,null,null,null,null,null,null,null,null,null,null,null,null,null,null,null,null,{"$f":"IFERROR(RIGHT(B14,LEN(B14)-FIND(\",\",B14)),\"\")","v":""},{"$f":"IFERROR(RIGHT(B16,LEN(B16)-FIND(\",\",B16)),\"\")","v":""},{"$f":"C16","v":0},{"$f":"IFERROR(RIGHT(C27,LEN(C27)-FIND(\",\",C27)),\"\")","v":""},{"$f":"IFERROR(RIGHT(C31,LEN(C31)-FIND(\",\",C31)),\"\")","v":""},{"$f":"D30","v":0},{"$f":"IFERROR(RIGHT(D53,LEN(D53)-FIND(\",\",D53)),\"\")","v":""},{"$f":"IFERROR(RIGHT(D61,LEN(D61)-FIND(\",\",D61)),\"\")","v":""},{"$f":"E58","v":0},{"$f":"IFERROR(RIGHT(E105,LEN(E105)-FIND(\",\",E105)),\"\")","v":""},{"$f":"IFERROR(RIGHT(E121,LEN(E121)-FIND(\",\",E121)),\"\")","v":""},{"$f":"F114","v":0}]
[33,null,null,null,null,null,{"$f":"REPT(\"-\",20)","v":"--------------------"},{"$f":"IF(H7=\"\",\"\",IF(LEFT(H7)>RIGHT(H7),G5,G7))","v":""},{"$f":"IF(H6=\"\",\"\",IF(G7=H6,G5,G7))","v":""},null,{"$f":"IF(K2=\"\",\"\",VLOOKUP(K2,$F:$G,2,FALSE))","v":""},5,null,{"$f":"_m2&_cl3&lfi(D5)&_cle&sc(D6)","v":"---------------------------------------- [color=\"#009900\"][/color] [b][/b]"},null,null,null,null,null,null,null,null,null,null,null,null,null,null,null,null,null,null,null,null,null,null,null,null,null,null,null,null,null,null,null,null,null,null,null,{"$f":"IFERROR(RIGHT(B18,LEN(B18)-FIND(\",\",B18)),\"\")","v":""},{"$f":"IFERROR(RIGHT(B20,LEN(B20)-FIND(\",\",B20)),\"\")","v":""},{"$f":"C20","v":0},{"$f":"IFERROR(RIGHT(C35,LEN(C35)-FIND(\",\",C35)),\"\")","v":""},{"$f":"IFERROR(RIGHT(C39,LEN(C39)-FIND(\",\",C39)),\"\")","v":""},{"$f":"D38","v":0},{"$f":"IFERROR(RIGHT(D69,LEN(D69)-FIND(\",\",D69)),\"\")","v":""},{"$f":"IFERROR(RIGHT(D77,LEN(D77)-FIND(\",\",D77)),\"\")","v":""},{"$f":"E74","v":0},"x"]
[null,null,{"$f":"IF(C8=\"\",\"\",IF(LEFT(C8)>RIGHT(C8),B6,B8))","v":""},{"$f":"IF(C7=\"\",\"\",IF(B8=C7,B6,B8))","v":""},null,null,{"$f":"H97","v":""},null,null,null,{"$f":"IF(K3=\"\",\"\",VLOOKUP(K3,$F:$G,2,FALSE))","v":""},6,null,{"$f":"\"[b]\"&$A6&\"[/b]. \"&cl1x&lfi(B6)&clex","v":"[b]33[/b]. [color=\"#cc5000\"][i][/i][/color] "},null,null,null,null,null,null,null,null,null,null,null,null,null,null,{"$f":"cl1x&lfi(F81)&clex","v":"[color=\"#cc5000\"][i][/i][/color] "},null,null,null,null,null,null,null,null,null,null,null,null,null,null,null,null,null,null,null,null,{"$f":"IFERROR(RIGHT(B22,LEN(B22)-FIND(\",\",B22)),\"\")","v":""},{"$f":"IFERROR(RIGHT(B24,LEN(B24)-FIND(\",\",B24)),\"\")","v":""},{"$f":"C24","v":0},{"$f":"IFERROR(RIGHT(C43,LEN(C43)-FIND(\",\",C43)),\"\")","v":""},{"$f":"IFERROR(RIGHT(C47,LEN(C47)-FIND(\",\",C47)),\"\")","v":""},{"$f":"D46","v":0},{"$f":"IFERROR(RIGHT(D85,LEN(D85)-FIND(\",\",D85)),\"\")","v":""},{"$f":"IFERROR(RIGHT(D93,LEN(D93)-FIND(\",\",D93)),\"\")","v":""},{"$f":"E90","v":0}]
[32,null,null,null,null,null,null,null,null,null,{"$f":"IF(K4=\"\",\"\",VLOOKUP(K4,$F:$G,2,FALSE))","v":{"$error":"#N/A"}},7,null,{"$f":"_m1&_cl2&lfi(C7)&_cle&sc(C8)","v":"-------------------- [color=\"#000075\"][/color] [b][/b]"},null,null,null,null,null,null,null,null,null,null,null,null,null,null,{"$f":"_m1&_cl2&\"[b]\"&lfi(G97)&\"[/b]\"&_cle& \" \" & sc(G98)","v":"-------------------- [color=\"#000075\"][b][/b][/color]  [b][/b]"},null,null,null,null,null,null,null,null,null,null,null,null,null,null,null,null,null,null,null,null,{"$f":"IFERROR(RIGHT(B26,LEN(B26)-FIND(\",\",B26)),\"\")","v":""},{"$f":"IFERROR(RIGHT(B28,LEN(B28)-FIND(\",\",B28)),\"\")","v":""},{"$f":"C28","v":0},{"$f":"IFERROR(RIGHT(C51,LEN(C51)-FIND(\",\",C51)),\"\")","v":""},{"$f":"IFERROR(RIGHT(C55,LEN(C55)-FIND(\",\",C55)),\"\")","v":""},{"$f":"D54","v":0},{"$f":"IFERROR(RIGHT(D101,LEN(D101)-FIND(\",\",D101)),\"\")","v":""},{"$f":"IFERROR(RIGHT(D109,LEN(D109)-FIND(\",\",D109)),\"\")","v":""},{"$f":"E106","v":0}]
[null,null,null,null,{"$f":"IF(E10=\"\",\"\",IF(LEFT(E10)>RIGHT(E10),D5,D13))","v":""},{"$f":"IF(E9=\"\",\"\",IF(D13=E9,D5,D13))","v":""},null,{"$f":"\"Finala mica - \" & ctg","v":"Finala mica - Categoria"},null,null,{"$f":"IF(K5=\"\",\"\",VLOOKUP(K5,$F:$G,2,FALSE))","v":{"$error":"#N/A"}},8,null,{"$f":"\"[b]\"&$A8&\"[/b]. \"&cl1x&lfi(B8)&clex","v":"[b]32[/b]. [color=\"#cc5000\"][i][/i][/color] "},null,null,null,null,null,null,null,null,null,null,null,null,null,null,{"$f":"cl1x&lfi(F113)&clex","v":"[color=\"#cc5000\"][i][/i][/color] "},null,null,null,null,null,null,null,null,null,null,null,null,null,null,null,null,null,null,null,null,{"$f":"IFERROR(RIGHT(B30,LEN(B30)-FIND(\",\",B30)),\"\")","v":""},{"$f":"IFERROR(RIGHT(B32,LEN(B32)-FIND(\",\",B32)),\"\")","v":""},{"$f":"C32","v":0},{"$f":"IFERROR(RIGHT(C59,LEN(C59)-FIND(\",\",C59)),\"\")","v":""},{"$f":"IFERROR(RIGHT(C63,LEN(C63)-FIND(\",\",C63)),\"\")","v":""},{"$f":"D62","v":0},{"$f":"IFERROR(RIGHT(D117,LEN(D117)-FIND(\",\",D117)),\"\")","v":""},{"$f":"IFERROR(RIGHT(D125,LEN(D125)-FIND(\",\",D125)),\"\")","v":""},{"$f":"E122","v":0}]
[17,null,null,null,null,null,null,null,null,null,{"$f":"VLOOKUP(K2,$E:$F,2,FALSE)","v":0},9,null,{"$f":"_m3&_cl4&lfi(E9)&_cle&sc(E10)","v":"------------------------------------------------------------ [color=\"#6900af\"][/color] [b][/b]"},null,null,null,null,null,null,null,null,null,null,null,null,null,null,null,null,null,null,null,null,null,null,null,null,null,null,null,null,null,null,null,null,null,null,null,{"$f":"IFERROR(RIGHT(B34,LEN(B34)-FIND(\",\",B34)),\"\")","v":""},{"$f":"IFERROR(RIGHT(B36,LEN(B36)-FIND(\",\",B36)),\"\")","v":""},{"$f":"C36","v":0},{"$f":"IFERROR(RIGHT(C67,LEN(C67)-FIND(\",\",C67)),\"\")","v":""},{"$f":"IFERROR(RIGHT(C71,LEN(C71)-FIND(\",\",C71)),\"\")","v":""},{"$f":"D70","v":0},"x"]
[null,null,{"$f":"IF(C12=\"\",\"\",IF(LEFT(C12)>RIGHT(C12),B10,B12))","v":""},{"$f":"IF(C11=\"\",\"\",IF(B12=C11,B10,B12))","v":""},null,null,null,null,null,null,{"$f":"VLOOKUP(K3,$E:$F,2,FALSE)","v":0},10,null,{"$f":"\"[b]\"&$A10&\"[/b]. \"&_cl1&lfi(B10)&_cle","v":"[b]17[/b]. [color=\"#990000\"][/color] "},null,null,null,null,null,null,null,null,null,null,null,null,null,null,{"$f":"\"[b]\"&clr & \"Finala - \" & _cle & ctg & \"[/b]\"","v":"[b][color=red]Finala - [/color] Categoria[/b]"},null,null,null,null,null,null,null,null,null,null,null,null,null,null,null,null,null,null,null,null,{"$f":"IFERROR(RIGHT(B38,LEN(B38)-FIND(\",\",B38)),\"\")","v":""},{"$f":"IFERROR(RIGHT(B40,LEN(B40)-FIND(\",\",B40)),\"\")","v":""},{"$f":"C40","v":0},{"$f":"IFERROR(RIGHT(C75,LEN(C75)-FIND(\",\",C75)),\"\")","v":""},{"$f":"IFERROR(RIGHT(C79,LEN(C79)-FIND(\",\",C79)),\"\")","v":""},{"$f":"D78","v":0}]
[48,null,null,null,null,null,null,null,null,null,{"$error":"#N/A"},11,null,{"$f":"_m1&cl2x&lfi(C11)&clex&sc(C12)","v":"-------------------- [color=\"#4040FF\"][i][/i][/color] [b][/b]"},null,null,null,null,null,null,null,null,null,null,null,null,null,null,null,null,null,null,null,null,null,null,null,null,null,null,null,null,null,null,null,null,null,null,null,{"$f":"IFERROR(RIGHT(B42,LEN(B42)-FIND(\",\",B42)),\"\")","v":""},{"$f":"IFERROR(RIGHT(B44,LEN(B44)-FIND(\",\",B44)),\"\")","v":""},{"$f":"C44","v":0},{"$f":"IFERROR(RIGHT(C83,LEN(C83)-FIND(\",\",C83)),\"\")","v":""},{"$f":"IFERROR(RIGHT(C87,LEN(C87)-FIND(\",\",C87)),\"\")","v":""},{"$f":"D86","v":0}]
[null,null,null,{"$f":"IF(D14=\"\",\"\",IF(LEFT(D14)>RIGHT(D14),C11,C15))","v":""},{"$f":"IF(D14=\"\",\"\",IF(LEFT(D14)<RIGHT(D14),C11,C15))","v":""},null,null,null,null,null,{"$error":"#N/A"},12,null,{"$f":"\"[b]\"&$A12&\"[/b]. \"&_cl1&lfi(B12)&_cle","v":"[b]48[/b]. [color=\"#990000\"][/color] "},null,null,null,null,null,null,null,null,null,null,null,null,null,null,{"$f":"_cl2&lfi($G$33)&_cle","v":"[color=\"#000075\"][/color] "},null,null,null,null,null,null,null,null,null,null,null,null,null,null,null,null,null,null,null,null,{"$f":"IFERROR(RIGHT(B46,LEN(B46)-FIND(\",\",B46)),\"\")","v":""},{"$f":"IFERROR(RIGHT(B48,LEN(B48)-FIND(\",\",B48)),\"\")","v":""},{"$f":"C48","v":0},{"$f":"IFERROR(RIGHT(C91,LEN(C91)-FIND(\",\",C91)),\"\")","v":""},{"$f":"IFERROR(RIGHT(C95,LEN(C95)-FIND(\",\",C95)),\"\")","v":""},{"$f":"D94","v":0}]
[49,null,null,null,null,null,null,null,null,null,0,13,null,{"$f":"_m2&_cl3&lfi(D13)&_cle&sc(D14)","v":"---------------------------------------- [color=\"#009900\"][/color] [b][/b]"},null,null,null,null,null,null,null,null,null,null,null,null,null,null,{"$f":"_m1&_cl5&\"[b]\"&lfi($H$65)&\"[/b]\"&_cle& \" \" & sc($H$66)","v":"-------------------- [color=red][b][/b][/color]  [b][/b]"},null,null,null,null,null,null,null,null,null,null,null,null,null,null,null,null,null,null,null,null,{"$f":"IFERROR(RIGHT(B50,LEN(B50)-FIND(\",\",B50)),\"\")","v":""},{"$f":"IFERROR(RIGHT(B52,LEN(B52)-FIND(\",\",B52)),\"\")","v":""},{"$f":"C52","v":0},{"$f":"IFERROR(RIGHT(C99,LEN(C99)-FIND(\",\",C99)),\"\")","v":""},{"$f":"IFERROR(RIGHT(C103,LEN(C103)-FIND(\",\",C103)),\"\")","v":""},{"$f":"D102","v":0}]
[null,null,{"$f":"IF(C16=\"\",\"\",IF(LEFT(C16)>RIGHT(C16),B14,B16))","v":""},{"$f":"IF(C15=\"\",\"\",IF(B16=C15,B14,B16))","v":""},null,null,null,null,null,null,0,14,null,{"$f":"\"[b]\"&$A14&\"[/b]. \"&cl1x&lfi(B14)&clex","v":"[b]49[/b]. [color=\"#cc5000\"][i][/i][/color] "},null,null,null,null,null,null,null,null,null,null,null,null,null,null,{"$f":"_cl2&lfi($G$97)&_cle","v":"[color=\"#000075\"][/color] "},null,null,null,null,null,null,null,null,null,null,null,null,null,null,null,null,null,null,null,null,{"$f":"IFERROR(RIGHT(B54,LEN(B54)-FIND(\",\",B54)),\"\")","v":""},{"$f":"IFERROR(RIGHT(B56,LEN(B56)-FIND(\",\",B56)),\"\")","v":""},{"$f":"C56","v":0},{"$f":"IFERROR(RIGHT(C107,LEN(C107)-FIND(\",\",C107)),\"\")","v":""},{"$f":"IFERROR(RIGHT(C111,LEN(C111)-FIND(\",\",C111)),\"\")","v":""},{"$f":"D110","v":0}]
[16,null,null,null,null,null,null,null,null,null,{"$error":"#N/A"},15,null,{"$f":"_m1&cl2x&lfi(C15)&clex&sc(C16)","v":"-------------------- [color=\"#4040FF\"][i][/i][/color] [b][/b]"},null,null,null,null,null,null,null,null,null,null,null,null,null,null,null,null,null,null,null,null,null,null,null,null,null,null,null,null,null,null,null,null,null,null,null,{"$f":"IFERROR(RIGHT(B58,LEN(B58)-FIND(\",\",B58)),\"\")","v":""},{"$f":"IFERROR(RIGHT(B60,LEN(B60)-FIND(\",\",B60)),\"\")","v":""},{"$f":"C60","v":0},{"$f":"IFERROR(RIGHT(C115,LEN(C115)-FIND(\",\",C115)),\"\")","v":""},{"$f":"IFERROR(RIGHT(C119,LEN(C119)-FIND(\",\",C119)),\"\")","v":""},{"$f":"D118","v":0}]
[null,null,null,null,"A",{"$f":"IF(F18=\"\",\"\",IF(LEFT(F18)>RIGHT(F18),E9,E25))","v":""},{"$f":"IF(F17=\"\",\"\",IF(E25=F17,E9,E25))","v":""},null,null,null,{"$error":"#N/A"},16,null,{"$f":"\"[b]\"&$A16&\"[/b]. \"&cl1x&lfi(B16)&clex","v":"[b]16[/b]. [color=\"#cc5000\"][i][/i][/color] "},null,null,null,null,null,null,null,null,null,null,null,null,null,null,{"$f":"\"[b]\"&clr & \"Finala mica - \" & _cle & ctg & \"[/b]\"","v":"[b][color=red]Finala mica - [/color] Categoria[/b]"},null,null,null,null,null,null,null,null,null,null,null,null,null,null,null,null,null,null,null,null,{"$f":"IFERROR(RIGHT(B62,LEN(B62)-FIND(\",\",B62)),\"\")","v":""},{"$f":"IFERROR(RIGHT(B64,LEN(B64)-FIND(\",\",B64)),\"\")","v":""},{"$f":"C64","v":0},{"$f":"IFERROR(RIGHT(C123,LEN(C123)-FIND(\",\",C123)),\"\")","v":""},{"$f":"IFERROR(RIGHT(C127,LEN(C127)-FIND(\",\",C127)),\"\")","v":""},{"$f":"D126","v":0}]
[9,null,null,null,null,null,null,null,null,null,{"$f":"VLOOKUP(K2,$D:$E,2,FALSE)","v":0},17,null,{"$f":"_m4&_cl1&lfi(F17)&_cle&sc(F18)","v":"-------------------------------------------------------------------------------- [color=\"#990000\"][/color] [b][/b]"},null,null,null,null,null,null,null,null,null,null,null,null,null,null,null,null,null,null,null,null,null,null,null,null,null,null,null,null,null,null,null,null,null,null,null,{"$f":"IFERROR(RIGHT(B66,LEN(B66)-FIND(\",\",B66)),\"\")","v":""},{"$f":"IFERROR(RIGHT(B68,LEN(B68)-FIND(\",\",B68)),\"\")","v":""},{"$f":"C68","v":0},"x"]
[null,null,{"$f":"IF(C20=\"\",\"\",IF(LEFT(C20)>RIGHT(C20),B18,B20))","v":""},{"$f":"IF(C19=\"\",\"\",IF(B20=C19,B18,B20))","v":""},null,null,null,null,null,null,{"$f":"VLOOKUP(K3,$D:$E,2,FALSE)","v":0},18,null,{"$f":"\"[b]\"&$A18&\"[/b]. \"&_cl1&lfi(B18)&_cle","v":"[b]9[/b]. [color=\"#990000\"][/color] "},null,null,null,null,null,null,null,null,null,null,null,null,null,null,{"$f":"_cl3&lfi($G$5)&_cle","v":"[color=\"#009900\"][/color] "},null,null,null,null,null,null,null,null,null,null,null,null,null,null,null,null,null,null,null,null,{"$f":"IFERROR(RIGHT(B70,LEN(B70)-FIND(\",\",B70)),\"\")","v":""},{"$f":"IFERROR(RIGHT(B72,LEN(B72)-FIND(\",\",B72)),\"\")","v":""},{"$f":"C72","v":0}]
[56,null,null,null,null,null,null,null,null,null,{"$error":"#N/A"},19,null,{"$f":"_m1&_cl2&lfi(C19)&_cle&sc(C20)","v":"-------------------- [color=\"#000075\"][/color] [b][/b]"},null,null,null,null,null,null,null,null,null,null,null,null,null,null,{"$f":"_m1&_cl5&\"[b]\"&lfi($H$6)&\"[/b]\"&_cle& \" \" & sc($H$7)","v":"-------------------- [color=red][b][/b][/color]  [b][/b]"},null,null,null,null,null,null,null,null,null,null,null,null,null,null,null,null,null,null,null,null,{"$f":"IFERROR(RIGHT(B74,LEN(B74)-FIND(\",\",B74)),\"\")","v":""},{"$f":"IFERROR(RIGHT(B76,LEN(B76)-FIND(\",\",B76)),\"\")","v":""},{"$f":"C76","v":0}]
[null,null,null,{"$f":"IF(D22=\"\",\"\",IF(LEFT(D22)>RIGHT(D22),C19,C23))","v":""},{"$f":"IF(D22=\"\",\"\",IF(LEFT(D22)<RIGHT(D22),C19,C23))","v":""},null,null,null,null,null,{"$error":"#N/A"},20,null,{"$f":"\"[b]\"&$A20&\"[/b]. \"&_cl1&lfi(B20)&_cle","v":"[b]56[/b]. [color=\"#990000\"][/color] "},null,null,null,null,null,null,null,null,null,null,null,null,null,null,{"$f":"_cl3&lfi($G$7)&_cle","v":"[color=\"#009900\"][/color] "},null,null,null,null,null,null,null,null,null,null,null,null,null,null,null,null,null,null,null,null,{"$f":"IFERROR(RIGHT(B78,LEN(B78)-FIND(\",\",B78)),\"\")","v":""},{"$f":"IFERROR(RIGHT(B80,LEN(B80)-FIND(\",\",B80)),\"\")","v":""},{"$f":"C80","v":0}]
[41,null,null,null,null,null,null,null,null,null,0,21,null,{"$f":"_m2&cl3x&lfi(D21)&clex&sc(D22)","v":"---------------------------------------- [color=\"#00DC00\"][i][/i][/color] [b][/b]"},null,null,null,null,null,null,null,null,null,null,null,null,null,null,null,null,null,null,null,null,null,null,null,null,null,null,null,null,null,null,null,null,null,null,null,{"$f":"IFERROR(RIGHT(B82,LEN(B82)-FIND(\",\",B82)),\"\")","v":""},{"$f":"IFERROR(RIGHT(B84,LEN(B84)-FIND(\",\",B84)),\"\")","v":""},{"$f":"C84","v":0}]
[null,null,{"$f":"IF(C24=\"\",\"\",IF(LEFT(C24)>RIGHT(C24),B22,B24))","v":""},{"$f":"IF(C23=\"\",\"\",IF(B24=C23,B22,B24))","v":""},null,null,null,null,null,null,0,22,null,{"$f":"\"[b]\"&$A22&\"[/b]. \"&cl1x&lfi(B22)&clex","v":"[b]41[/b]. [color=\"#cc5000\"][i][/i][/color] "},null,null,null,null,null,null,null,null,null,null,null,null,null,null,null,null,null,null,null,null,null,null,null,null,null,null,null,null,null,null,null,null,null,null,null,{"$f":"IFERROR(RIGHT(B86,LEN(B86)-FIND(\",\",B86)),\"\")","v":""},{"$f":"IFERROR(RIGHT(B88,LEN(B88)-FIND(\",\",B88)),\"\")","v":""},{"$f":"C88","v":0}]
[24,null,null,null,null,null,null,null,null,null,{"$error":"#N/A"},23,null,{"$f":"_m1&_cl2&lfi(C23)&_cle&sc(C24)","v":"-------------------- [color=\"#000075\"][/color] [b][/b]"},null,null,null,null,null,null,null,null,null,null,null,null,null,null,null,null,null,null,null,null,null,null,null,null,null,null,null,null,null,null,null,null,null,null,null,{"$f":"IFERROR(RIGHT(B90,LEN(B90)-FIND(\",\",B90)),\"\")","v":""},{"$f":"IFERROR(RIGHT(B92,LEN(B92)-FIND(\",\",B92)),\"\")","v":""},{"$f":"C92","v":0}]
[null,null,null,null,{"$f":"IF(E26=\"\",\"\",IF(LEFT(E26)>RIGHT(E26),D21,D29))","v":""},{"$f":"IF(E25=\"\",\"\",IF(D29=E25,D21,D29))","v":""},null,null,null,null,{"$error":"#N/A"},24,null,{"$f":"\"[b]\"&$A24&\"[/b]. \"&cl1x&lfi(B24)&clex","v":"[b]24[/b]. [color=\"#cc5000\"][i][/i][/color] "},null,null,null,null,null,null,null,null,null,null,null,null,null,null,null,null,null,null,null,null,null,null,null,null,null,null,null,null,null,null,null,null,null,null,null,{"$f":"IFERROR(RIGHT(B94,LEN(B94)-FIND(\",\",B94)),\"\")","v":""},{"$f":"IFERROR(RIGHT(B96,LEN(B96)-FIND(\",\",B96)),\"\")","v":""},{"$f":"C96","v":0}]
[25,null,null,null,null,null,null,null,null,null,{"$error":"#N/A"},25,null,{"$f":"_m3&_cl4&lfi(E25)&_cle&sc(E26)","v":"------------------------------------------------------------ [color=\"#6900af\"][/color] [b][/b]"},null,null,null,null,null,null,null,null,null,null,null,null,null,null,null,null,null,null,null,null,null,null,null,null,null,null,null,null,null,null,null,null,null,null,null,{"$f":"IFERROR(RIGHT(B98,LEN(B98)-FIND(\",\",B98)),\"\")","v":""},{"$f":"IFERROR(RIGHT(B100,LEN(B100)-FIND(\",\",B100)),\"\")","v":""},{"$f":"C100","v":0}]
[null,null,{"$f":"IF(C28=\"\",\"\",IF(LEFT(C28)>RIGHT(C28),B26,B28))","v":""},{"$f":"IF(C27=\"\",\"\",IF(B28=C27,B26,B28))","v":""},null,null,null,null,null,null,{"$error":"#N/A"},26,null,{"$f":"\"[b]\"&$A26&\"[/b]. \"&_cl1&lfi(B26)&_cle","v":"[b]25[/b]. [color=\"#990000\"][/color] "},null,null,null,null,null,null,null,null,null,null,null,null,null,null,null,null,null,null,null,null,null,null,null,null,null,null,null,null,null,null,null,null,null,null,null,{"$f":"IFERROR(RIGHT(B102,LEN(B102)-FIND(\",\",B102)),\"\")","v":""},{"$f":"IFERROR(RIGHT(B104,LEN(B104)-FIND(\",\",B104)),\"\")","v":""},{"$f":"C104","v":0},{"$f":"IFERROR(RIGHT(#REF!,LEN(#REF!)-FIND(\",\",#REF!)),\"\")","v":""}]
[40,null,null,null,null,null,null,null,null,null,{"$error":"#N/A"},27,null,{"$f":"_m1&cl2x&lfi(C27)&clex&sc(C28)","v":"-------------------- [color=\"#4040FF\"][i][/i][/color] [b][/b]"},null,null,null,null,null,null,null,null,null,null,null,null,null,null,null,null,null,null,null,null,null,null,null,null,null,null,null,null,null,null,null,null,null,null,null,{"$f":"IFERROR(RIGHT(B106,LEN(B106)-FIND(\",\",B106)),\"\")","v":""},{"$f":"IFERROR(RIGHT(B108,LEN(B108)-FIND(\",\",B108)),\"\")","v":""},{"$f":"C108","v":0}]
[null,null,null,{"$f":"IF(D30=\"\",\"\",IF(LEFT(D30)>RIGHT(D30),C27,C31))","v":""},{"$f":"IF(D30=\"\",\"\",IF(LEFT(D30)<RIGHT(D30),C27,C31))","v":""},null,null,null,null,null,{"$error":"#N/A"},28,null,{"$f":"\"[b]\"&$A28&\"[/b]. \"&_cl1&lfi(B28)&_cle","v":"[b]40[/b]. [color=\"#990000\"][/color] "},null,null,null,null,null,null,null,null,null,null,null,null,null,null,null,null,null,null,null,null,null,null,null,null,null,null,null,null,null,null,null,null,null,null,null,{"$f":"IFERROR(RIGHT(B110,LEN(B110)-FIND(\",\",B110)),\"\")","v":""},{"$f":"IFERROR(RIGHT(B112,LEN(B112)-FIND(\",\",B112)),\"\")","v":""},{"$f":"C112","v":0}]
[57,null,null,null,null,null,null,null,null,null,{"$error":"#N/A"},29,null,{"$f":"_m2&cl3x&lfi(D29)&clex&sc(D30)","v":"---------------------------------------- [color=\"#00DC00\"][i][/i][/color] [b][/b]"},null,null,null,null,null,null,null,null,null,null,null,null,null,null,null,null,null,null,null,null,null,null,null,null,null,null,null,null,null,null,null,null,null,null,null,{"$f":"IFERROR(RIGHT(B114,LEN(B114)-FIND(\",\",B114)),\"\")","v":""},{"$f":"IFERROR(RIGHT(B116,LEN(B116)-FIND(\",\",B116)),\"\")","v":""},{"$f":"C116","v":0}]
[null,null,{"$f":"IF(C32=\"\",\"\",IF(LEFT(C32)>RIGHT(C32),B30,B32))","v":""},{"$f":"IF(C31=\"\",\"\",IF(B32=C31,B30,B32))","v":""},null,null,null,null,null,null,{"$error":"#N/A"},30,null,{"$f":"\"[b]\"&$A30&\"[/b]. \"&cl1x&lfi(B30)&clex","v":"[b]57[/b]. [color=\"#cc5000\"][i][/i][/color] "},null,null,null,null,null,null,null,null,null,null,null,null,null,null,null,null,null,null,null,null,null,null,null,null,null,null,null,null,null,null,null,null,null,null,null,{"$f":"IFERROR(RIGHT(B118,LEN(B118)-FIND(\",\",B118)),\"\")","v":""},{"$f":"IFERROR(RIGHT(B120,LEN(B120)-FIND(\",\",B120)),\"\")","v":""},{"$f":"C120","v":0}]
[8,null,null,null,null,null,null,null,null,null,{"$error":"#N/A"},31,null,{"$f":"_m1&cl2x&lfi(C31)&clex&sc(C32)","v":"-------------------- [color=\"#4040FF\"][i][/i][/color] [b][/b]"},null,null,null,null,null,null,null,null,null,null,null,null,null,null,null,null,null,null,null,null,null,null,null,null,null,null,null,null,null,null,null,null,null,null,null,{"$f":"IFERROR(RIGHT(B122,LEN(B122)-FIND(\",\",B122)),\"\")","v":""},{"$f":"IFERROR(RIGHT(B124,LEN(B124)-FIND(\",\",B124)),\"\")","v":""},{"$f":"C124","v":0},null,null,null,{"$f":"IFERROR(RIGHT(D96,LEN(D96)-FIND(\",\",D96)),\"\")","v":""}]
[{"$f":"\"Eliminatorii \" & ctg & \" - page 2\"","v":"Eliminatorii Categoria - page 2"},null,null,null,null,null,{"$f":"IF(G34=\"\",\"\",IF(LEFT(G34)>RIGHT(G34),F17,F49))","v":""},{"$f":"IF(G33=\"\",\"\",IF(F49=G33,F17,F49))","v":""},null,null,{"$error":"#N/A"},32,null,{"$f":"\"[b]\"&$A32&\"[/b]. \"&cl1x&lfi(B32)&clex","v":"[b]8[/b]. [color=\"#cc5000\"][i][/i][/color] "},null,null,null,null,null,null,null,null,null,null,null,null,null,null,null,null,null,null,null,null,null,null,null,null,null,null,null,null,null,null,null,null,null,null,null,{"$f":"IFERROR(RIGHT(B126,LEN(B126)-FIND(\",\",B126)),\"\")","v":""},{"$f":"IFERROR(RIGHT(B128,LEN(B128)-FIND(\",\",B128)),\"\")","v":""},{"$f":"C128","v":0}]
[5,null,null,null,null,null,null,null,null,null,{"$f":"VLOOKUP(K2,$C:$D,2,FALSE)","v":""},33,null,null,null,null,null,null,null,null,null,null,null,null,null,null,null,null,null,null,null,null,null,null,null,null,null,null,null,null,null,null,null,null,null,null,null,null,null,"x"]
[null,null,{"$f":"IF(C36=\"\",\"\",IF(LEFT(C36)>RIGHT(C36),B34,B36))","v":""},{"$f":"IF(C35=\"\",\"\",IF(B36=C35,B34,B36))","v":""},null,null,"SF 1",null,null,null,{"$f":"VLOOKUP(K3,$C:$D,2,FALSE)","v":""},34,null,{"$f":"_m5&_cl2&\"[b]\"&lfi(G33)&\"[/b]\"&_cle&sc(G34)","v":"---------------------------------------------------------------------------------------------------- [color=\"#000075\"][b][/b][/color] [b][/b]"}]
[60,null,null,null,null,null,null,null,null,null,{"$error":"#N/A"},35]
[null,null,null,{"$f":"IF(D38=\"\",\"\",IF(LEFT(D38)>RIGHT(D38),C35,C39))","v":""},{"$f":"IF(D38=\"\",\"\",IF(LEFT(D38)<RIGHT(D38),C35,C39))","v":""},null,null,null,null,null,{"$error":"#N/A"},36,null,{"$f":"\"[b]\"&$A34&\"[/b]. \"&_cl1&lfi(B34)&_cle","v":"[b]5[/b]. [color=\"#990000\"][/color] "}]
[37,null,null,null,null,null,null,null,null,null,"",37,null,{"$f":"_m1&_cl2&lfi(C35)&_cle&sc(C36)","v":"-------------------- [color=\"#000075\"][/color] [b][/b]"}]
[null,null,{"$f":"IF(C40=\"\",\"\",IF(LEFT(C40)>RIGHT(C40),B38,B40))","v":""},{"$f":"IF(C39=\"\",\"\",IF(B40=C39,B38,B40))","v":""},null,null,null,null,null,null,"",38,null,{"$f":"\"[b]\"&$A36&\"[/b]. \"&_cl1&lfi(B36)&_cle","v":"[b]60[/b]. [color=\"#990000\"][/color] "}]
[28,null,null,null,null,null,null,null,null,null,{"$error":"#N/A"},39,null,{"$f":"_m2&_cl3&lfi(D37)&_cle&sc(D38)","v":"---------------------------------------- [color=\"#009900\"][/color] [b][/b]"}]
[null,null,null,null,{"$f":"IF(E42=\"\",\"\",IF(LEFT(E42)>RIGHT(E42),D37,D45))","v":""},{"$f":"IF(E41=\"\",\"\",IF(D45=E41,D37,D45))","v":""},null,null,null,null,{"$error":"#N/A"},40,null,{"$f":"\"[b]\"&$A38&\"[/b]. \"&cl1x&lfi(B38)&clex","v":"[b]37[/b]. [color=\"#cc5000\"][i][/i][/color] "}]
[21,null,null,null,null,null,null,null,null,null,{"$error":"#N/A"},41,null,{"$f":"_m1&_cl2&lfi(C39)&_cle&sc(C40)","v":"-------------------- [color=\"#000075\"][/color] [b][/b]"}]
[null,null,{"$f":"IF(C44=\"\",\"\",IF(LEFT(C44)>RIGHT(C44),B42,B44))","v":""},{"$f":"IF(C43=\"\",\"\",IF(B44=C43,B42,B44))","v":""},null,null,null,null,null,null,{"$error":"#N/A"},42,null,{"$f":"\"[b]\"&$A40&\"[/b]. \"&cl1x&lfi(B40)&clex","v":"[b]28[/b]. [color=\"#cc5000\"][i][/i][/color] "}]
[44,null,null,null,null,null,null,null,null,null,{"$error":"#N/A"},43,null,{"$f":"_m3&cl4x&lfi(E41)&clex&sc(E42)","v":"------------------------------------------------------------ [color=\"#bd5dff\"][i][/i][/color] [b][/b]"}]
[null,null,null,{"$f":"IF(D46=\"\",\"\",IF(LEFT(D46)>RIGHT(D46),C43,C47))","v":""},{"$f":"IF(D46=\"\",\"\",IF(LEFT(D46)<RIGHT(D46),C43,C47))","v":""},null,null,null,null,null,{"$error":"#N/A"},44,null,{"$f":"\"[b]\"&$A42&\"[/b]. \"&_cl1&lfi(B42)&_cle","v":"[b]21[/b]. [color=\"#990000\"][/color] "}]
[53,null,null,null,null,null,null,null,null,null,{"$error":"#N/A"},45,null,{"$f":"_m1&cl2x&lfi(C43)&clex&sc(C44)","v":"-------------------- [color=\"#4040FF\"][i][/i][/color] [b][/b]"}]
[null,null,{"$f":"IF(C48=\"\",\"\",IF(LEFT(C48)>RIGHT(C48),B46,B48))","v":""},{"$f":"IF(C47=\"\",\"\",IF(B48=C47,B46,B48))","v":""},null,null,null,null,null,null,{"$error":"#N/A"},46,null,{"$f":"\"[b]\"&$A44&\"[/b]. \"&_cl1&lfi(B44)&_cle","v":"[b]44[/b]. [color=\"#990000\"][/color] "}]
[12,null,null,null,null,null,null,null,null,null,{"$error":"#N/A"},47,null,{"$f":"_m2&_cl3&lfi(D45)&_cle&sc(D46)","v":"---------------------------------------- [color=\"#009900\"][/color] [b][/b]"}]
[null,null,null,null,"B",{"$f":"IF(F50=\"\",\"\",IF(LEFT(F50)>RIGHT(F50),E41,E57))","v":""},{"$f":"IF(F49=\"\",\"\",IF(E57=F49,E41,E57))","v":""},null,null,null,{"$error":"#N/A"},48,null,{"$f":"\"[b]\"&$A46&\"[/b]. \"&cl1x&lfi(B46)&clex","v":"[b]53[/b]. [color=\"#cc5000\"][i][/i][/color] "}]
[13,null,null,null,null,null,null,null,null,null,{"$error":"#N/A"},49,null,{"$f":"_m1&cl2x&lfi(C47)&clex&sc(C48)","v":"-------------------- [color=\"#4040FF\"][i][/i][/color] [b][/b]"}]
[null,null,{"$f":"IF(C52=\"\",\"\",IF(LEFT(C52)>RIGHT(C52),B50,B52))","v":""},{"$f":"IF(C51=\"\",\"\",IF(B52=C51,B50,B52))","v":""},null,null,null,null,null,null,{"$error":"#N/A"},50,null,{"$f":"\"[b]\"&$A48&\"[/b]. \"&cl1x&lfi(B48)&clex","v":"[b]12[/b]. [color=\"#cc5000\"][i][/i][/color] "}]
[52,null,null,null,null,null,null,null,null,null,{"$error":"#N/A"},51,null,{"$f":"_m4&_cl1&lfi(F49)&_cle&sc(F50)","v":"-------------------------------------------------------------------------------- [color=\"#990000\"][/color] [b][/b]"}]
[null,null,null,{"$f":"IF(D54=\"\",\"\",IF(LEFT(D54)>RIGHT(D54),C51,C55))","v":""},{"$f":"IF(D54=\"\",\"\",IF(LEFT(D54)<RIGHT(D54),C51,C55))","v":""},null,null,null,null,null,{"$error":"#N/A"},52,null,{"$f":"\"[b]\"&$A50&\"[/b]. \"&_cl1&lfi(B50)&_cle","v":"[b]13[/b]. [color=\"#990000\"][/color] "}]
[45,null,null,null,null,null,null,null,null,null,{"$error":"#N/A"},53,null,{"$f":"_m1&_cl2&lfi(C51)&_cle&sc(C52)","v":"-------------------- [color=\"#000075\"][/color] [b][/b]"}]
[null,null,{"$f":"IF(C56=\"\",\"\",IF(LEFT(C56)>RIGHT(C56),B54,B56))","v":""},{"$f":"IF(C55=\"\",\"\",IF(B56=C55,B54,B56))","v":""},null,null,null,null,null,null,{"$error":"#N/A"},54,null,{"$f":"\"[b]\"&$A52&\"[/b]. \"&_cl1&lfi(B52)&_cle","v":"[b]52[/b]. [color=\"#990000\"][/color] "}]
[20,null,null,null,null,null,null,null,null,null,{"$error":"#N/A"},55,null,{"$f":"_m2&cl3x&lfi(D53)&clex&sc(D54)","v":"---------------------------------------- [color=\"#00DC00\"][i][/i][/color] [b][/b]"}]
[null,null,null,null,{"$f":"IF(E58=\"\",\"\",IF(LEFT(E58)>RIGHT(E58),D53,D61))","v":""},{"$f":"IF(E57=\"\",\"\",IF(D61=E57,D53,D61))","v":""},null,null,null,null,{"$error":"#N/A"},56,null,{"$f":"\"[b]\"&$A54&\"[/b]. \"&cl1x&lfi(B54)&clex","v":"[b]45[/b]. [color=\"#cc5000\"][i][/i][/color] "}]
[29,null,null,null,null,null,null,null,null,null,{"$error":"#N/A"},57,null,{"$f":"_m1&_cl2&lfi(C55)&_cle&sc(C56)","v":"-------------------- [color=\"#000075\"][/color] [b][/b]"}]
[null,null,{"$f":"IF(C60=\"\",\"\",IF(LEFT(C60)>RIGHT(C60),B58,B60))","v":""},{"$f":"IF(C59=\"\",\"\",IF(B60=C59,B58,B60))","v":""},null,null,null,null,null,null,{"$error":"#N/A"},58,null,{"$f":"\"[b]\"&$A56&\"[/b]. \"&cl1x&lfi(B56)&clex","v":"[b]20[/b]. [color=\"#cc5000\"][i][/i][/color] "}]
[36,null,null,null,null,null,null,null,null,null,{"$error":"#N/A"},59,null,{"$f":"_m3&cl4x&lfi(E57)&clex&sc(E58)","v":"------------------------------------------------------------ [color=\"#bd5dff\"][i][/i][/color] [b][/b]"}]
[null,null,null,{"$f":"IF(D62=\"\",\"\",IF(LEFT(D62)>RIGHT(D62),C59,C63))","v":""},{"$f":"IF(D62=\"\",\"\",IF(LEFT(D62)<RIGHT(D62),C59,C63))","v":""},null,null,null,null,null,{"$error":"#N/A"},60,null,{"$f":"\"[b]\"&$A58&\"[/b]. \"&_cl1&lfi(B58)&_cle","v":"[b]29[/b]. [color=\"#990000\"][/color] "}]
[61,null,null,null,null,null,null,null,null,null,{"$error":"#N/A"},61,null,{"$f":"_m1&cl2x&lfi(C59)&clex&sc(C60)","v":"-------------------- [color=\"#4040FF\"][i][/i][/color] [b][/b]"}]
[null,null,{"$f":"IF(C64=\"\",\"\",IF(LEFT(C64)>RIGHT(C64),B62,B64))","v":""},{"$f":"IF(C63=\"\",\"\",IF(B64=C63,B62,B64))","v":""},null,null,null,null,null,null,{"$error":"#N/A"},62,null,{"$f":"\"[b]\"&$A60&\"[/b]. \"&_cl1&lfi(B60)&_cle","v":"[b]36[/b]. [color=\"#990000\"][/color] "}]
[4,null,null,null,null,null,null,null,null,null,{"$error":"#N/A"},63,null,{"$f":"_m2&cl3x&lfi(D61)&clex&sc(D62)","v":"---------------------------------------- [color=\"#00DC00\"][i][/i][/color] [b][/b]"}]
[{"$f":"\"Eliminatorii \" & ctg & \" - page 3\"","v":"Eliminatorii Categoria - page 3"},null,null,null,null,null,null,{"$f":"IF(H66=\"\",\"\",IF(LEFT(H66)>RIGHT(H66),G33,G97))","v":""},{"$f":"IF(H65=\"\",\"\",IF(G97=H65,G33,G97))","v":""},null,{"$error":"#N/A"},64,null,{"$f":"\"[b]\"&$A62&\"[/b]. \"&cl1x&lfi(B62)&clex","v":"[b]61[/b]. [color=\"#cc5000\"][i][/i][/color] "}]
[3,null,null,null,null,null,null,null,null,null,null,null,null,{"$f":"_m1&cl2x&lfi(C63)&clex&sc(C64)","v":"-------------------- [color=\"#4040FF\"][i][/i][/color] [b][/b]"}]
[null,null,{"$f":"IF(C68=\"\",\"\",IF(LEFT(C68)>RIGHT(C68),B66,B68))","v":""},{"$f":"IF(C67=\"\",\"\",IF(B68=C67,B66,B68))","v":""},null,null,null,"Finala",null,null,null,null,null,{"$f":"\"[b]\"&$A64&\"[/b]. \"&cl1x&lfi(B64)&clex","v":"[b]4[/b]. [color=\"#cc5000\"][i][/i][/color] "}]
[62]
[null,null,null,{"$f":"IF(D70=\"\",\"\",IF(LEFT(D70)>RIGHT(D70),C67,C71))","v":""},{"$f":"IF(D70=\"\",\"\",IF(LEFT(D70)<RIGHT(D70),C67,C71))","v":""},null,null,null,null,null,null,null,null,{"$f":"_m6&_m1&clr&\"[b]\"&lfi(H65)&\"[/b]\"&_cle&sc(H66)","v":"------------------------------------------------------------------------------------------------------------------------ -------------------- [color=red][b][/b][/color] [b][/b]"}]
[35]
[null,null,{"$f":"IF(C72=\"\",\"\",IF(LEFT(C72)>RIGHT(C72),B70,B72))","v":""},{"$f":"IF(C71=\"\",\"\",IF(B72=C71,B70,B72))","v":""},null,null,null,null,null,null,null,null,null,{"$f":"\"[b]\"&$A66&\"[/b]. \"&_cl1&lfi(B66)&_cle","v":"[b]3[/b]. [color=\"#990000\"][/color] "}]
[30,null,null,null,null,null,null,null,null,null,null,null,null,{"$f":"_m1&_cl2&lfi(C67)&_cle&sc(C68)","v":"-------------------- [color=\"#000075\"][/color] [b][/b]"}]
[null,null,null,null,{"$f":"IF(E74=\"\",\"\",IF(LEFT(E74)>RIGHT(E74),D69,D77))","v":""},{"$f":"IF(E73=\"\",\"\",IF(D77=E73,D69,D77))","v":""},null,null,null,null,null,null,null,{"$f":"\"[b]\"&$A68&\"[/b]. \"&_cl1&lfi(B68)&_cle","v":"[b]62[/b]. [color=\"#990000\"][/color] "}]
[19,null,null,null,null,null,null,null,null,null,null,null,null,{"$f":"_m2&_cl3&lfi(D69)&_cle&sc(D70)","v":"---------------------------------------- [color=\"#009900\"][/color] [b][/b]"}]
[null,null,{"$f":"IF(C76=\"\",\"\",IF(LEFT(C76)>RIGHT(C76),B74,B76))","v":""},{"$f":"IF(C75=\"\",\"\",IF(B76=C75,B74,B76))","v":""},null,null,null,null,null,null,null,null,null,{"$f":"\"[b]\"&$A70&\"[/b]. \"&cl1x&lfi(B70)&clex","v":"[b]35[/b]. [color=\"#cc5000\"][i][/i][/color] "}]
[46,null,null,null,null,null,null,null,null,null,null,null,null,{"$f":"_m1&_cl2&lfi(C71)&_cle&sc(C72)","v":"-------------------- [color=\"#000075\"][/color] [b][/b]"}]
[null,null,null,{"$f":"IF(D78=\"\",\"\",IF(LEFT(D78)>RIGHT(D78),C75,C79))","v":""},{"$f":"IF(D78=\"\",\"\",IF(LEFT(D78)<RIGHT(D78),C75,C79))","v":""},null,null,null,null,null,null,null,null,{"$f":"\"[b]\"&$A72&\"[/b]. \"&cl1x&lfi(B72)&clex","v":"[b]30[/b]. [color=\"#cc5000\"][i][/i][/color] "}]
[51,null,null,null,null,null,null,null,null,null,null,null,null,{"$f":"_m3&_cl4&lfi(E73)&_cle&sc(E74)","v":"------------------------------------------------------------ [color=\"#6900af\"][/color] [b][/b]"}]
[null,null,{"$f":"IF(C80=\"\",\"\",IF(LEFT(C80)>RIGHT(C80),B78,B80))","v":""},{"$f":"IF(C79=\"\",\"\",IF(B80=C79,B78,B80))","v":""},null,null,null,null,null,null,null,null,null,{"$f":"\"[b]\"&$A74&\"[/b]. \"&_cl1&lfi(B74)&_cle","v":"[b]19[/b]. [color=\"#990000\"][/color] "}]
[14,null,null,null,null,null,null,null,null,null,null,null,null,{"$f":"_m1&cl2x&lfi(C75)&clex&sc(C76)","v":"-------------------- [color=\"#4040FF\"][i][/i][/color] [b][/b]"}]
[null,null,null,null,"C",{"$f":"IF(F82=\"\",\"\",IF(LEFT(F82)>RIGHT(F82),E73,E89))","v":""},{"$f":"IF(F81=\"\",\"\",IF(E89=F81,E73,E89))","v":""},null,null,null,null,null,null,{"$f":"\"[b]\"&$A76&\"[/b]. \"&_cl1&lfi(B76)&_cle","v":"[b]46[/b]. [color=\"#990000\"][/color] "}]
[11,null,null,null,null,null,null,null,null,null,null,null,null,{"$f":"_m2&_cl3&lfi(D77)&_cle&sc(D78)","v":"---------------------------------------- [color=\"#009900\"][/color] [b][/b]"}]
[null,null,{"$f":"IF(C84=\"\",\"\",IF(LEFT(C84)>RIGHT(C84),B82,B84))","v":""},{"$f":"IF(C83=\"\",\"\",IF(B84=C83,B82,B84))","v":""},null,null,null,null,null,null,null,null,null,{"$f":"\"[b]\"&$A78&\"[/b]. \"&cl1x&lfi(B78)&clex","v":"[b]51[/b]. [color=\"#cc5000\"][i][/i][/color] "}]
[54,null,null,null,null,null,null,null,null,null,null,null,null,{"$f":"_m1&cl2x&lfi(C79)&clex&sc(C80)","v":"-------------------- [color=\"#4040FF\"][i][/i][/color] [b][/b]"}]
[null,null,null,{"$f":"IF(D86=\"\",\"\",IF(LEFT(D86)>RIGHT(D86),C83,C87))","v":""},{"$f":"IF(D86=\"\",\"\",IF(LEFT(D86)<RIGHT(D86),C83,C87))","v":""},null,null,null,null,null,null,null,null,{"$f":"\"[b]\"&$A80&\"[/b]. \"&cl1x&lfi(B80)&clex","v":"[b]14[/b]. [color=\"#cc5000\"][i][/i][/color] "}]
[43,null,null,null,null,null,null,null,null,null,null,null,null,{"$f":"_m4&cl1x&lfi(F81)&clex&sc(F82)","v":"-------------------------------------------------------------------------------- [color=\"#cc5000\"][i][/i][/color] [b][/b]"}]
[null,null,{"$f":"IF(C88=\"\",\"\",IF(LEFT(C88)>RIGHT(C88),B86,B88))","v":""},{"$f":"IF(C87=\"\",\"\",IF(B88=C87,B86,B88))","v":""},null,null,null,null,null,null,null,null,null,{"$f":"\"[b]\"&$A82&\"[/b]. \"&_cl1&lfi(B82)&_cle","v":"[b]11[/b]. [color=\"#990000\"][/color] "}]
[22,null,null,null,null,null,null,null,null,null,null,null,null,{"$f":"_m1&_cl2&lfi(C83)&_cle&sc(C84)","v":"-------------------- [color=\"#000075\"][/color] [b][/b]"}]
[null,null,null,null,{"$f":"IF(E90=\"\",\"\",IF(LEFT(E90)>RIGHT(E90),D85,D93))","v":""},{"$f":"IF(E89=\"\",\"\",IF(D93=E89,D85,D93))","v":""},null,null,null,null,null,null,null,{"$f":"\"[b]\"&$A84&\"[/b]. \"&_cl1&lfi(B84)&_cle","v":"[b]54[/b]. [color=\"#990000\"][/color] "}]
[27,null,null,null,null,null,null,null,null,null,null,null,null,{"$f":"_m2&cl3x&lfi(D85)&clex&sc(D86)","v":"---------------------------------------- [color=\"#00DC00\"][i][/i][/color] [b][/b]"}]
[null,null,{"$f":"IF(C92=\"\",\"\",IF(LEFT(C92)>RIGHT(C92),B90,B92))","v":""},{"$f":"IF(C91=\"\",\"\",IF(B92=C91,B90,B92))","v":""},null,null,null,null,null,null,null,null,null,{"$f":"\"[b]\"&$A86&\"[/b]. \"&cl1x&lfi(B86)&clex","v":"[b]43[/b]. [color=\"#cc5000\"][i][/i][/color] "}]
[38,null,null,null,null,null,null,null,null,null,null,null,null,{"$f":"_m1&_cl2&lfi(C87)&_cle&sc(C88)","v":"-------------------- [color=\"#000075\"][/color] [b][/b]"}]
[null,null,null,{"$f":"IF(D94=\"\",\"\",IF(LEFT(D94)>RIGHT(D94),C91,C95))","v":""},{"$f":"IF(D94=\"\",\"\",IF(LEFT(D94)<RIGHT(D94),C91,C95))","v":""},null,null,null,null,null,null,null,null,{"$f":"\"[b]\"&$A88&\"[/b]. \"&cl1x&lfi(B88)&clex","v":"[b]22[/b]. [color=\"#cc5000\"][i][/i][/color] "}]
[59,null,null,null,null,null,null,null,null,null,null,null,null,{"$f":"_m3&_cl4&lfi(E89)&_cle&sc(E90)","v":"------------------------------------------------------------ [color=\"#6900af\"][/color] [b][/b]"}]
[null,null,{"$f":"IF(C96=\"\",\"\",IF(LEFT(C96)>RIGHT(C96),B94,B96))","v":""},{"$f":"IF(C95=\"\",\"\",IF(B96=C95,B94,B96))","v":""},null,null,null,null,null,null,null,null,null,{"$f":"\"[b]\"&$A90&\"[/b]. \"&_cl1&lfi(B90)&_cle","v":"[b]27[/b]. [color=\"#990000\"][/color] "}]
[6,null,null,null,null,null,null,null,null,null,null,null,null,{"$f":"_m1&cl2x&lfi(C91)&clex&sc(C92)","v":"-------------------- [color=\"#4040FF\"][i][/i][/color] [b][/b]"}]
[{"$f":"\"Eliminatorii \" & ctg & \" - page 4\"","v":"Eliminatorii Categoria - page 4"},null,null,null,null,null,{"$f":"IF(G98=\"\",\"\",IF(LEFT(G98)>RIGHT(G98),F81,F113))","v":""},{"$f":"IF(G97=\"\",\"\",IF(F113=G97,F81,F113))","v":""},null,null,null,null,null,{"$f":"\"[b]\"&$A92&\"[/b]. \"&_cl1&lfi(B92)&_cle","v":"[b]38[/b]. [color=\"#990000\"][/color] "}]
[7,null,null,null,null,null,null,null,null,null,null,null,null,{"$f":"_m2&cl3x&lfi(D93)&clex&sc(D94)","v":"---------------------------------------- [color=\"#00DC00\"][i][/i][/color] [b][/b]"}]
[null,null,{"$f":"IF(C100=\"\",\"\",IF(LEFT(C100)>RIGHT(C100),B98,B100))","v":""},{"$f":"IF(C99=\"\",\"\",IF(B100=C99,B98,B100))","v":""},null,null,"SF 2",null,null,null,null,null,null,{"$f":"\"[b]\"&$A94&\"[/b]. \"&cl1x&lfi(B94)&clex","v":"[b]59[/b]. [color=\"#cc5000\"][i][/i][/color] "}]
[58,null,null,null,null,null,null,null,null,null,null,null,null,{"$f":"_m1&cl2x&lfi(C95)&clex&sc(C96)","v":"-------------------- [color=\"#4040FF\"][i][/i][/color] [b][/b]"}]
[null,null,null,{"$f":"IF(D102=\"\",\"\",IF(LEFT(D102)>RIGHT(D102),C99,C103))","v":""},{"$f":"IF(D102=\"\",\"\",IF(LEFT(D102)<RIGHT(D102),C99,C103))","v":""},null,null,null,null,null,null,null,null,{"$f":"\"[b]\"&$A96&\"[/b]. \"&cl1x&lfi(B96)&clex","v":"[b]6[/b]. [color=\"#cc5000\"][i][/i][/color] "}]
[39]
[null,null,{"$f":"IF(C104=\"\",\"\",IF(LEFT(C104)>RIGHT(C104),B102,B104))","v":""},{"$f":"IF(C103=\"\",\"\",IF(B104=C103,B102,B104))","v":""},null,null,null,null,null,null,null,null,null,{"$f":"_m5&_cl2&\"[b]\"&lfi(G97)&\"[/b]\"&_cle&sc(G98)","v":"---------------------------------------------------------------------------------------------------- [color=\"#000075\"][b][/b][/color] [b][/b]"}]
[26]
[null,null,null,null,{"$f":"IF(E106=\"\",\"\",IF(LEFT(E106)>RIGHT(E106),D101,D109))","v":""},{"$f":"IF(E105=\"\",\"\",IF(D109=E105,D101,D109))","v":""},null,null,null,null,null,null,null,{"$f":"\"[b]\"&$A98&\"[/b]. \"&_cl1&lfi(B98)&_cle","v":"[b]7[/b]. [color=\"#990000\"][/color] "}]
[23,null,null,null,null,null,null,null,null,null,null,null,null,{"$f":"_m1&_cl2&lfi(C99)&_cle&sc(C100)","v":"-------------------- [color=\"#000075\"][/color] [b][/b]"}]
[null,null,{"$f":"IF(C108=\"\",\"\",IF(LEFT(C108)>RIGHT(C108),B106,B108))","v":""},{"$f":"IF(C107=\"\",\"\",IF(B108=C107,B106,B108))","v":""},null,null,null,null,null,null,null,null,null,{"$f":"\"[b]\"&$A100&\"[/b]. \"&_cl1&lfi(B100)&_cle","v":"[b]58[/b]. [color=\"#990000\"][/color] "}]
[42,null,null,null,null,null,null,null,null,null,null,null,null,{"$f":"_m2&_cl3&lfi(D101)&_cle&sc(D102)","v":"---------------------------------------- [color=\"#009900\"][/color] [b][/b]"}]
[null,null,null,{"$f":"IF(D110=\"\",\"\",IF(LEFT(D110)>RIGHT(D110),C107,C111))","v":""},{"$f":"IF(D110=\"\",\"\",IF(LEFT(D110)<RIGHT(D110),C107,C111))","v":""},null,null,null,null,null,null,null,null,{"$f":"\"[b]\"&$A102&\"[/b]. \"&cl1x&lfi(B102)&clex","v":"[b]39[/b]. [color=\"#cc5000\"][i][/i][/color] "}]
[55,null,null,null,null,null,null,null,null,null,null,null,null,{"$f":"_m1&_cl2&lfi(C103)&_cle&sc(C104)","v":"-------------------- [color=\"#000075\"][/color] [b][/b]"}]
[null,null,{"$f":"IF(C112=\"\",\"\",IF(LEFT(C112)>RIGHT(C112),B110,B112))","v":""},{"$f":"IF(C111=\"\",\"\",IF(B112=C111,B110,B112))","v":""},null,null,null,null,null,null,null,null,null,{"$f":"\"[b]\"&$A104&\"[/b]. \"&cl1x&lfi(B104)&clex","v":"[b]26[/b]. [color=\"#cc5000\"][i][/i][/color] "}]
[10,null,null,null,null,null,null,null,null,null,null,null,null,{"$f":"_m3&cl4x&lfi(E105)&clex&sc(E106)","v":"------------------------------------------------------------ [color=\"#bd5dff\"][i][/i][/color] [b][/b]"}]
[null,null,null,null,"D",{"$f":"IF(F114=\"\",\"\",IF(LEFT(F114)>RIGHT(F114),E105,E121))","v":""},{"$f":"IF(F113=\"\",\"\",IF(E121=F113,E105,E121))","v":""},null,null,null,null,null,null,{"$f":"\"[b]\"&$A106&\"[/b]. \"&_cl1&lfi(B106)&_cle","v":"[b]23[/b]. [color=\"#990000\"][/color] "}]
[15,null,null,null,null,null,null,null,null,null,null,null,null,{"$f":"_m1&cl2x&lfi(C107)&clex&sc(C108)","v":"-------------------- [color=\"#4040FF\"][i][/i][/color] [b][/b]"}]
[null,null,{"$f":"IF(C116=\"\",\"\",IF(LEFT(C116)>RIGHT(C116),B114,B116))","v":""},{"$f":"IF(C115=\"\",\"\",IF(B116=C115,B114,B116))","v":""},null,null,null,null,null,null,null,null,null,{"$f":"\"[b]\"&$A108&\"[/b]. \"&_cl1&lfi(B108)&_cle","v":"[b]42[/b]. [color=\"#990000\"][/color] "}]
[50,null,null,null,null,null,null,null,null,null,null,null,null,{"$f":"_m2&_cl3&lfi(D109)&_cle&sc(D110)","v":"---------------------------------------- [color=\"#009900\"][/color] [b][/b]"}]
[null,null,null,{"$f":"IF(D118=\"\",\"\",IF(LEFT(D118)>RIGHT(D118),C115,C119))","v":""},{"$f":"IF(D118=\"\",\"\",IF(LEFT(D118)<RIGHT(D118),C115,C119))","v":""},null,null,null,null,null,null,null,null,{"$f":"\"[b]\"&$A110&\"[/b]. \"&cl1x&lfi(B110)&clex","v":"[b]55[/b]. [color=\"#cc5000\"][i][/i][/color] "}]
[47,null,null,null,null,null,null,null,null,null,null,null,null,{"$f":"_m1&cl2x&lfi(C111)&clex&sc(C112)","v":"-------------------- [color=\"#4040FF\"][i][/i][/color] [b][/b]"}]
[null,null,{"$f":"IF(C120=\"\",\"\",IF(LEFT(C120)>RIGHT(C120),B118,B120))","v":""},{"$f":"IF(C119=\"\",\"\",IF(B120=C119,B118,B120))","v":""},null,null,null,null,null,null,null,null,null,{"$f":"\"[b]\"&$A112&\"[/b]. \"&cl1x&lfi(B112)&clex","v":"[b]10[/b]. [color=\"#cc5000\"][i][/i][/color] "}]
[18,null,null,null,null,null,null,null,null,null,null,null,null,{"$f":"_m4&cl1x&lfi(F113)&clex&sc(F114)","v":"-------------------------------------------------------------------------------- [color=\"#cc5000\"][i][/i][/color] [b][/b]"}]
[null,null,null,null,{"$f":"IF(E122=\"\",\"\",IF(LEFT(E122)>RIGHT(E122),D117,D125))","v":""},{"$f":"IF(E121=\"\",\"\",IF(D125=E121,D117,D125))","v":""},null,null,null,null,null,null,null,{"$f":"\"[b]\"&$A114&\"[/b]. \"&_cl1&lfi(B114)&_cle","v":"[b]15[/b]. [color=\"#990000\"][/color] "}]
[31,null,null,null,null,null,null,null,null,null,null,null,null,{"$f":"_m1&_cl2&lfi(C115)&_cle&sc(C116)","v":"-------------------- [color=\"#000075\"][/color] [b][/b]"}]
[null,null,{"$f":"IF(C124=\"\",\"\",IF(LEFT(C124)>RIGHT(C124),B122,B124))","v":""},{"$f":"IF(C123=\"\",\"\",IF(B124=C123,B122,B124))","v":""},null,null,null,null,null,null,null,null,null,{"$f":"\"[b]\"&$A116&\"[/b]. \"&_cl1&lfi(B116)&_cle","v":"[b]50[/b]. [color=\"#990000\"][/color] "}]
[34,null,null,null,null,null,null,null,null,null,null,null,null,{"$f":"_m2&cl3x&lfi(D117)&clex&sc(D118)","v":"---------------------------------------- [color=\"#00DC00\"][i][/i][/color] [b][/b]"}]
[null,null,null,{"$f":"IF(D126=\"\",\"\",IF(LEFT(D126)>RIGHT(D126),C123,C127))","v":""},{"$f":"IF(D126=\"\",\"\",IF(LEFT(D126)<RIGHT(D126),C123,C127))","v":""},null,null,null,null,null,null,null,null,{"$f":"\"[b]\"&$A118&\"[/b]. \"&cl1x&lfi(B118)&clex","v":"[b]47[/b]. [color=\"#cc5000\"][i][/i][/color] "}]
[63,null,null,null,null,null,null,null,null,null,null,null,null,{"$f":"_m1&_cl2&lfi(C119)&_cle&sc(C120)","v":"-------------------- [color=\"#000075\"][/color] [b][/b]"}]
[null,null,{"$f":"IF(C128=\"\",\"\",IF(LEFT(C128)>RIGHT(C128),B126,B128))","v":""},{"$f":"IF(C127=\"\",\"\",IF(B128=C127,B126,B128))","v":""},null,null,null,null,null,null,null,null,null,{"$f":"\"[b]\"&$A120&\"[/b]. \"&cl1x&lfi(B120)&clex","v":"[b]18[/b]. [color=\"#cc5000\"][i][/i][/color] "}]
[2,null,null,null,null,null,null,null,null,null,null,null,null,{"$f":"_m3&cl4x&lfi(E121)&clex&sc(E122)","v":"------------------------------------------------------------ [color=\"#bd5dff\"][i][/i][/color] [b][/b]"}]
[null,null,null,null,null,null,null,null,null,null,null,null,null,{"$f":"\"[b]\"&$A122&\"[/b]. \"&_cl1&lfi(B122)&_cle","v":"[b]31[/b]. [color=\"#990000\"][/color] "}]
[null,null,null,null,null,null,null,null,null,null,null,null,null,{"$f":"_m1&cl2x&lfi(C123)&clex&sc(C124)","v":"-------------------- [color=\"#4040FF\"][i][/i][/color] [b][/b]"}]
[null,null,null,null,null,null,null,null,null,null,null,null,null,{"$f":"\"[b]\"&$A124&\"[/b]. \"&_cl1&lfi(B124)&_cle","v":"[b]34[/b]. [color=\"#990000\"][/color] "}]
[null,null,null,null,null,null,null,null,null,null,null,null,null,{"$f":"_m2&cl3x&lfi(D125)&clex&sc(D126)","v":"---------------------------------------- [color=\"#00DC00\"][i][/i][/color] [b][/b]"}]
[null,null,null,null,null,null,null,null,null,null,null,null,null,{"$f":"\"[b]\"&$A126&\"[/b]. \"&cl1x&lfi(B126)&clex","v":"[b]63[/b]. [color=\"#cc5000\"][i][/i][/color] "}]
[null,null,null,null,null,null,null,null,null,null,null,null,null,{"$f":"_m1&cl2x&lfi(C127)&clex&sc(C128)","v":"-------------------- [color=\"#4040FF\"][i][/i][/color] [b][/b]"}]
[null,null,null,null,null,null,null,null,null,null,null,null,null,{"$f":"\"[b]\"&$A128&\"[/b]. \"&cl1x&lfi(B128)&clex","v":"[b]2[/b]. [color=\"#cc5000\"][i][/i][/color] "}]
[]
[]
[null,null,null,null,null,null,null,null,null,null,null,null,null,{"$f":"\"[b]\"&clr & \"Finala mica - \" & _cle & ctg & \"[/b]\"","v":"[b][color=red]Finala mica - [/color] Categoria[/b]"}]
[]
[null,null,null,null,null,null,null,null,null,null,null,null,null,{"$f":"_cl3&lfi($G$5)&_cle","v":"[color=\"#009900\"][/color] "}]
[null,null,null,null,null,null,null,null,null,null,null,null,null,{"$f":"_m1&_cl5&\"[b]\"&lfi($H$6)&\"[/b]\"&_cle& \" \" & sc($H$7)","v":"-------------------- [color=red][b][/b][/color]  [b][/b]"}]
[null,null,null,null,null,null,null,null,null,null,null,null,null,{"$f":"_cl3&lfi($G$7)&_cle","v":"[color=\"#009900\"][/color] "}]

{"sheet":"T32","index":18,"n_rows":113,"n_cols":67,"rows_kept":113,"cut":false,"hidden":true,"merged":[]}
[{"$f":"\"Eliminatorii \" & ctg & \" - page 1\"","v":"Eliminatorii Categoria - page 1"},null,null,null,null,null,null,null,67,5,"SE","Loc",null,{"$f":"\"[B]\"&clr & \"Eliminatorii \" & ctg & _cle & \"[/b]\"","v":"[B][color=red]Eliminatorii Categoria[/color] [/b]"},null,null,null,null,null,null,null,null,null,null,null,null,null,null,{"$f":"\"[b]\"&clr & \"Semifinale - \" & _cle & ctg & \"[/b]\"","v":"[b][color=red]Semifinale - [/color] Categoria[/b]"},null,null,null,null,null,null,null,null,null,null,null,null,null,null,null,null,null,null,null,null,"R32",null,null,"R16",null,null,"R8",null,null,"SF",null,null,"F",null,null,"3rd"]
[1,null,null,null,null,null,null,null,null,null,{"$f":"G33","v":""},1,null,null,null,null,null,null,null,null,null,null,null,null,null,null,null,null,null,null,null,null,null,null,null,null,null,null,null,null,null,null,null,null,null,null,null,null,null,{"$f":"IFERROR(RIGHT(B2,LEN(B2)-FIND(\",\",B2)),\"\")","v":""},{"$f":"IFERROR(RIGHT(B4,LEN(B4)-FIND(\",\",B4)),\"\")","v":""},{"$f":"C4","v":0},{"$f":"IFERROR(RIGHT(C3,LEN(C3)-FIND(\",\",C3)),\"\")","v":""},{"$f":"IFERROR(RIGHT(C7,LEN(C7)-FIND(\",\",C7)),\"\")","v":""},{"$f":"D6","v":0},{"$f":"IFERROR(RIGHT(D5,LEN(D5)-FIND(\",\",D5)),\"\")","v":""},{"$f":"IFERROR(RIGHT(D13,LEN(D13)-FIND(\",\",D13)),\"\")","v":""},{"$f":"E10","v":0},{"$f":"IFERROR(RIGHT(E9,LEN(E9)-FIND(\",\",E9)),\"\")","v":""},{"$f":"IFERROR(RIGHT(E25,LEN(E25)-FIND(\",\",E25)),\"\")","v":""},{"$f":"F18","v":0},{"$f":"IFERROR(RIGHT(F17,LEN(F17)-FIND(\",\",F17)),\"\")","v":""},{"$f":"IFERROR(RIGHT(F49,LEN(F49)-FIND(\",\",F49)),\"\")","v":""},{"$f":"G34","v":0},{"$f":"IFERROR(RIGHT($G$5,LEN($G$5)-FIND(\",\",$G$5)),\"\")","v":""},{"$f":"IFERROR(RIGHT($G$7,LEN($G$7)-FIND(\",\",$G$7)),\"\")","v":""},{"$f":"$H$7","v":0}]
[null,null,{"$f":"IF(C4=\"\",\"\",IF(LEFT(C4)>RIGHT(C4),B2,B4))","v":""},{"$f":"IF(C3=\"\",\"\",IF(B4=C3,B2,B4))","v":""},null,null,null,null,null,null,{"$f":"H33","v":""},2,null,{"$f":"\"[b]\"&$A2&\"[/b]. \"&_cl1&lfi(B2)&_cle","v":"[b]1[/b]. [color=\"#990000\"][/color] "},null,null,null,null,null,null,null,null,null,null,null,null,null,null,{"$f":"_cl1&lfi(E9)&_cle","v":"[color=\"#990000\"][/color] "},null,null,null,null,null,null,null,null,null,null,null,null,null,null,null,null,null,null,null,null,{"$f":"IFERROR(RIGHT(B6,LEN(B6)-FIND(\",\",B6)),\"\")","v":""},{"$f":"IFERROR(RIGHT(B8,LEN(B8)-FIND(\",\",B8)),\"\")","v":""},{"$f":"C8","v":0},{"$f":"IFERROR(RIGHT(C11,LEN(C11)-FIND(\",\",C11)),\"\")","v":""},{"$f":"IFERROR(RIGHT(C15,LEN(C15)-FIND(\",\",C15)),\"\")","v":""},{"$f":"D14","v":0},{"$f":"IFERROR(RIGHT(D21,LEN(D21)-FIND(\",\",D21)),\"\")","v":""},{"$f":"IFERROR(RIGHT(D29,LEN(D29)-FIND(\",\",D29)),\"\")","v":""},{"$f":"E26","v":0},{"$f":"IFERROR(RIGHT(E41,LEN(E41)-FIND(\",\",E41)),\"\")","v":""},{"$f":"IFERROR(RIGHT(E57,LEN(E57)-FIND(\",\",E57)),\"\")","v":""},{"$f":"F50","v":0},"x",null,null,"x"]
[32,null,null,null,null,null,null,null,null,null,{"$f":"IF(H6=\"\",VLOOKUP(K2,$F:$G,2,FALSE),H6)","v":0},3,null,{"$f":"_m1&_cl2&lfi(C3)&_cle&sc(C4)","v":"-------------------- [color=\"#000075\"][/color] [b][/b]"},null,null,null,null,null,null,null,null,null,null,null,null,null,null,{"$f":"_m1&_cl2&\"[b]\"&lfi(F17)&\"[/b]\"&_cle& \" \" & sc(F18)","v":"-------------------- [color=\"#000075\"][b][/b][/color]  [b][/b]"},null,null,null,null,null,null,null,null,null,null,null,null,null,null,null,null,null,null,null,null,{"$f":"IFERROR(RIGHT(B10,LEN(B10)-FIND(\",\",B10)),\"\")","v":""},{"$f":"IFERROR(RIGHT(B12,LEN(B12)-FIND(\",\",B12)),\"\")","v":""},{"$f":"C12","v":0},{"$f":"IFERROR(RIGHT(C19,LEN(C19)-FIND(\",\",C19)),\"\")","v":""},{"$f":"IFERROR(RIGHT(C23,LEN(C23)-FIND(\",\",C23)),\"\")","v":""},{"$f":"D22","v":0},{"$f":"IFERROR(RIGHT(D37,LEN(D37)-FIND(\",\",D37)),\"\")","v":""},{"$f":"IFERROR(RIGHT(D45,LEN(D45)-FIND(\",\",D45)),\"\")","v":""},{"$f":"E42","v":0},"x"]
[null,null,null,{"$f":"IF(D6=\"\",\"\",IF(LEFT(D6)>RIGHT(D6),C3,C7))","v":""},{"$f":"IF(D6=\"\",\"\",IF(LEFT(D6)<RIGHT(D6),C3,C7))","v":""},null,{"$f":"G17","v":""},null,null,null,{"$f":"IF(I6=\"\",VLOOKUP(K3,$F:$G,2,FALSE),I6)","v":0},4,null,{"$f":"\"[b]\"&$A4&\"[/b]. \"&_cl1&lfi(B4)&_cle","v":"[b]32[/b]. [color=\"#990000\"][/color] "},null,null,null,null,null,null,null,null,null,null,null,null,null,null,{"$f":"_cl1&lfi(E25)&_cle","v":"[color=\"#990000\"][/color] "},null,null,null,null,null,null,null,null,null,null,null,null,null,null,null,null,null,null,null,null,{"$f":"IFERROR(RIGHT(B14,LEN(B14)-FIND(\",\",B14)),\"\")","v":""},{"$f":"IFERROR(RIGHT(B16,LEN(B16)-FIND(\",\",B16)),\"\")","v":""},{"$f":"C16","v":0},{"$f":"IFERROR(RIGHT(C27,LEN(C27)-FIND(\",\",C27)),\"\")","v":""},{"$f":"IFERROR(RIGHT(C31,LEN(C31)-FIND(\",\",C31)),\"\")","v":""},{"$f":"D30","v":0},{"$f":"IFERROR(RIGHT(D53,LEN(D53)-FIND(\",\",D53)),\"\")","v":""},{"$f":"IFERROR(RIGHT(D61,LEN(D61)-FIND(\",\",D61)),\"\")","v":""},{"$f":"E58","v":0}]
[17,null,null,null,null,null,{"$f":"REPT(\"-\",20)","v":"--------------------"},{"$f":"IF(H7=\"\",\"\",IF(LEFT(H7)>RIGHT(H7),G5,G7))","v":""},{"$f":"IF(H6=\"\",\"\",IF(G7=H6,G5,G7))","v":""},null,{"$f":"VLOOKUP(K2,$E:$F,2,FALSE)","v":0},5,null,{"$f":"_m2&_cl3&lfi(D5)&_cle&sc(D6)","v":"---------------------------------------- [color=\"#009900\"][/color] [b][/b]"},null,null,null,null,null,null,null,null,null,null,null,null,null,null,null,null,null,null,null,null,null,null,null,null,null,null,null,null,null,null,null,null,null,null,null,{"$f":"IFERROR(RIGHT(B18,LEN(B18)-FIND(\",\",B18)),\"\")","v":""},{"$f":"IFERROR(RIGHT(B20,LEN(B20)-FIND(\",\",B20)),\"\")","v":""},{"$f":"C20","v":0},{"$f":"IFERROR(RIGHT(C35,LEN(C35)-FIND(\",\",C35)),\"\")","v":""},{"$f":"IFERROR(RIGHT(C39,LEN(C39)-FIND(\",\",C39)),\"\")","v":""},{"$f":"D38","v":0},"x"]
[null,null,{"$f":"IF(C8=\"\",\"\",IF(LEFT(C8)>RIGHT(C8),B6,B8))","v":""},{"$f":"IF(C7=\"\",\"\",IF(B8=C7,B6,B8))","v":""},null,null,{"$f":"G49","v":""},null,null,null,{"$f":"VLOOKUP(K3,$E:$F,2,FALSE)","v":0},6,null,{"$f":"\"[b]\"&$A6&\"[/b]. \"&cl1x&lfi(B6)&clex","v":"[b]17[/b]. [color=\"#cc5000\"][i][/i][/color] "},null,null,null,null,null,null,null,null,null,null,null,null,null,null,{"$f":"cl1x&lfi(E41)&clex","v":"[color=\"#cc5000\"][i][/i][/color] "},null,null,null,null,null,null,null,null,null,null,null,null,null,null,null,null,null,null,null,null,{"$f":"IFERROR(RIGHT(B22,LEN(B22)-FIND(\",\",B22)),\"\")","v":""},{"$f":"IFERROR(RIGHT(B24,LEN(B24)-FIND(\",\",B24)),\"\")","v":""},{"$f":"C24","v":0},{"$f":"IFERROR(RIGHT(C43,LEN(C43)-FIND(\",\",C43)),\"\")","v":""},{"$f":"IFERROR(RIGHT(C47,LEN(C47)-FIND(\",\",C47)),\"\")","v":""},{"$f":"D46","v":0}]
[16,null,null,null,null,null,null,null,null,null,{"$f":"VLOOKUP(K4,$E:$F,2,FALSE)","v":{"$error":"#N/A"}},7,null,{"$f":"_m1&_cl2&lfi(C7)&_cle&sc(C8)","v":"-------------------- [color=\"#000075\"][/color] [b][/b]"},null,null,null,null,null,null,null,null,null,null,null,null,null,null,{"$f":"_m1&_cl2&\"[b]\"&lfi(F49)&\"[/b]\"&_cle& \" \" & sc(F50)","v":"-------------------- [color=\"#000075\"][b][/b][/color]  [b][/b]"},null,null,null,null,null,null,null,null,null,null,null,null,null,null,null,null,null,null,null,null,{"$f":"IFERROR(RIGHT(B26,LEN(B26)-FIND(\",\",B26)),\"\")","v":""},{"$f":"IFERROR(RIGHT(B28,LEN(B28)-FIND(\",\",B28)),\"\")","v":""},{"$f":"C28","v":0},{"$f":"IFERROR(RIGHT(C51,LEN(C51)-FIND(\",\",C51)),\"\")","v":""},{"$f":"IFERROR(RIGHT(C55,LEN(C55)-FIND(\",\",C55)),\"\")","v":""},{"$f":"D54","v":0}]
[null,null,null,null,{"$f":"IF(E10=\"\",\"\",IF(LEFT(E10)>RIGHT(E10),D5,D13))","v":""},{"$f":"IF(E9=\"\",\"\",IF(D13=E9,D5,D13))","v":""},null,{"$f":"\"Finala mica - \" & ctg","v":"Finala mica - Categoria"},null,null,{"$f":"VLOOKUP(K5,$E:$F,2,FALSE)","v":{"$error":"#N/A"}},8,null,{"$f":"\"[b]\"&$A8&\"[/b]. \"&cl1x&lfi(B8)&clex","v":"[b]16[/b]. [color=\"#cc5000\"][i][/i][/color] "},null,null,null,null,null,null,null,null,null,null,null,null,null,null,{"$f":"cl1x&lfi(E57)&clex","v":"[color=\"#cc5000\"][i][/i][/color] "},null,null,null,null,null,null,null,null,null,null,null,null,null,null,null,null,null,null,null,null,{"$f":"IFERROR(RIGHT(B30,LEN(B30)-FIND(\",\",B30)),\"\")","v":""},{"$f":"IFERROR(RIGHT(B32,LEN(B32)-FIND(\",\",B32)),\"\")","v":""},{"$f":"C32","v":0},{"$f":"IFERROR(RIGHT(C59,LEN(C59)-FIND(\",\",C59)),\"\")","v":""},{"$f":"IFERROR(RIGHT(C63,LEN(C63)-FIND(\",\",C63)),\"\")","v":""},{"$f":"D62","v":0}]
[9,null,null,null,null,null,null,null,null,null,{"$f":"VLOOKUP(K2,$D:$E,2,FALSE)","v":0},9,null,{"$f":"_m3&_cl4&lfi(E9)&_cle&sc(E10)","v":"------------------------------------------------------------ [color=\"#6900af\"][/color] [b][/b]"},null,null,null,null,null,null,null,null,null,null,null,null,null,null,null,null,null,null,null,null,null,null,null,null,null,null,null,null,null,null,null,null,null,null,null,{"$f":"IFERROR(RIGHT(B34,LEN(B34)-FIND(\",\",B34)),\"\")","v":""},{"$f":"IFERROR(RIGHT(B36,LEN(B36)-FIND(\",\",B36)),\"\")","v":""},{"$f":"C36","v":0},"x"]
[null,null,{"$f":"IF(C12=\"\",\"\",IF(LEFT(C12)>RIGHT(C12),B10,B12))","v":""},{"$f":"IF(C11=\"\",\"\",IF(B12=C11,B10,B12))","v":""},null,null,null,null,null,null,{"$f":"VLOOKUP(K3,$D:$E,2,FALSE)","v":0},10,null,{"$f":"\"[b]\"&$A10&\"[/b]. \"&_cl1&lfi(B10)&_cle","v":"[b]9[/b]. [color=\"#990000\"][/color] "},null,null,null,null,null,null,null,null,null,null,null,null,null,null,{"$f":"\"[b]\"&clr & \"Finala - \" & _cle & ctg & \"[/b]\"","v":"[b][color=red]Finala - [/color] Categoria[/b]"},null,null,null,null,null,null,null,null,null,null,null,null,null,null,null,null,null,null,null,null,{"$f":"IFERROR(RIGHT(B38,LEN(B38)-FIND(\",\",B38)),\"\")","v":""},{"$f":"IFERROR(RIGHT(B40,LEN(B40)-FIND(\",\",B40)),\"\")","v":""},{"$f":"C40","v":0},{"$f":"IFERROR(RIGHT(#REF!,LEN(#REF!)-FIND(\",\",#REF!)),\"\")","v":""}]
[24,null,null,null,null,null,null,null,null,null,{"$error":"#N/A"},11,null,{"$f":"_m1&cl2x&lfi(C11)&clex&sc(C12)","v":"-------------------- [color=\"#4040FF\"][i][/i][/color] [b][/b]"},null,null,null,null,null,null,null,null,null,null,null,null,null,null,null,null,null,null,null,null,null,null,null,null,null,null,null,null,null,null,null,null,null,null,null,{"$f":"IFERROR(RIGHT(B42,LEN(B42)-FIND(\",\",B42)),\"\")","v":""},{"$f":"IFERROR(RIGHT(B44,LEN(B44)-FIND(\",\",B44)),\"\")","v":""},{"$f":"C44","v":0}]
[null,null,null,{"$f":"IF(D14=\"\",\"\",IF(LEFT(D14)>RIGHT(D14),C11,C15))","v":""},{"$f":"IF(D14=\"\",\"\",IF(LEFT(D14)<RIGHT(D14),C11,C15))","v":""},null,null,null,null,null,{"$error":"#N/A"},12,null,{"$f":"\"[b]\"&$A12&\"[/b]. \"&_cl1&lfi(B12)&_cle","v":"[b]24[/b]. [color=\"#990000\"][/color] "},null,null,null,null,null,null,null,null,null,null,null,null,null,null,{"$f":"_cl2&lfi($F$17)&_cle","v":"[color=\"#000075\"][/color] "},null,null,null,null,null,null,null,null,null,null,null,null,null,null,null,null,null,null,null,null,{"$f":"IFERROR(RIGHT(B46,LEN(B46)-FIND(\",\",B46)),\"\")","v":""},{"$f":"IFERROR(RIGHT(B48,LEN(B48)-FIND(\",\",B48)),\"\")","v":""},{"$f":"C48","v":0}]
[25,null,null,null,null,null,null,null,null,null,{"$error":"#N/A"},13,null,{"$f":"_m2&_cl3&lfi(D13)&_cle&sc(D14)","v":"---------------------------------------- [color=\"#009900\"][/color] [b][/b]"},null,null,null,null,null,null,null,null,null,null,null,null,null,null,{"$f":"_m1&clr&\"[b]\"&lfi($G$33)&\"[/b]\"&_cle& \" \" & sc($G$34)","v":"-------------------- [color=red][b][/b][/color]  [b][/b]"},null,null,null,null,null,null,null,null,null,null,null,null,null,null,null,null,null,null,null,null,{"$f":"IFERROR(RIGHT(B50,LEN(B50)-FIND(\",\",B50)),\"\")","v":""},{"$f":"IFERROR(RIGHT(B52,LEN(B52)-FIND(\",\",B52)),\"\")","v":""},{"$f":"C52","v":0}]
[null,null,{"$f":"IF(C16=\"\",\"\",IF(LEFT(C16)>RIGHT(C16),B14,B16))","v":""},{"$f":"IF(C15=\"\",\"\",IF(B16=C15,B14,B16))","v":""},null,null,null,null,null,null,{"$error":"#N/A"},14,null,{"$f":"\"[b]\"&$A14&\"[/b]. \"&cl1x&lfi(B14)&clex","v":"[b]25[/b]. [color=\"#cc5000\"][i][/i][/color] "},null,null,null,null,null,null,null,null,null,null,null,null,null,null,{"$f":"_cl2&lfi($F$49)&_cle","v":"[color=\"#000075\"][/color] "},null,null,null,null,null,null,null,null,null,null,null,null,null,null,null,null,null,null,null,null,{"$f":"IFERROR(RIGHT(B54,LEN(B54)-FIND(\",\",B54)),\"\")","v":""},{"$f":"IFERROR(RIGHT(B56,LEN(B56)-FIND(\",\",B56)),\"\")","v":""},{"$f":"C56","v":0}]
[8,null,null,null,null,null,null,null,null,null,{"$error":"#N/A"},15,null,{"$f":"_m1&cl2x&lfi(C15)&clex&sc(C16)","v":"-------------------- [color=\"#4040FF\"][i][/i][/color] [b][/b]"},null,null,null,null,null,null,null,null,null,null,null,null,null,null,null,null,null,null,null,null,null,null,null,null,null,null,null,null,null,null,null,null,null,null,null,{"$f":"IFERROR(RIGHT(B58,LEN(B58)-FIND(\",\",B58)),\"\")","v":""},{"$f":"IFERROR(RIGHT(B60,LEN(B60)-FIND(\",\",B60)),\"\")","v":""},{"$f":"C60","v":0},null,null,null,{"$f":"IFERROR(RIGHT(D32,LEN(D32)-FIND(\",\",D32)),\"\")","v":""}]
[null,null,null,null,null,{"$f":"IF(F18=\"\",\"\",IF(LEFT(F18)>RIGHT(F18),E9,E25))","v":""},{"$f":"IF(F17=\"\",\"\",IF(E25=F17,E9,E25))","v":""},null,null,null,{"$error":"#N/A"},16,null,{"$f":"\"[b]\"&$A16&\"[/b]. \"&cl1x&lfi(B16)&clex","v":"[b]8[/b]. [color=\"#cc5000\"][i][/i][/color] "},null,null,null,null,null,null,null,null,null,null,null,null,null,null,{"$f":"\"[b]\"&clr & \"Finala mica - \" & _cle & ctg & \"[/b]\"","v":"[b][color=red]Finala mica - [/color] Categoria[/b]"},null,null,null,null,null,null,null,null,null,null,null,null,null,null,null,null,null,null,null,null,{"$f":"IFERROR(RIGHT(B62,LEN(B62)-FIND(\",\",B62)),\"\")","v":""},{"$f":"IFERROR(RIGHT(B64,LEN(B64)-FIND(\",\",B64)),\"\")","v":""},{"$f":"C64","v":0}]
[5,null,null,null,null,null,null,null,null,null,{"$f":"VLOOKUP(K2,$C:$D,2,FALSE)","v":""},17,null,{"$f":"_m4&_cl1&\"[b]\"&lfi(F17)&\"[/b]\"&_cle&sc(F18)","v":"-------------------------------------------------------------------------------- [color=\"#990000\"][b][/b][/color] [b][/b]"},null,null,null,null,null,null,null,null,null,null,null,null,null,null,null,null,null,null,null,null,null,null,null,null,null,null,null,null,null,null,null,null,null,null,null,"x"]
[null,null,{"$f":"IF(C20=\"\",\"\",IF(LEFT(C20)>RIGHT(C20),B18,B20))","v":""},{"$f":"IF(C19=\"\",\"\",IF(B20=C19,B18,B20))","v":""},null,"SF 1",null,null,null,null,{"$f":"VLOOKUP(K3,$C:$D,2,FALSE)","v":""},18,null,{"$f":"\"[b]\"&$A18&\"[/b]. \"&_cl1&lfi(B18)&_cle","v":"[b]5[/b]. [color=\"#990000\"][/color] "},null,null,null,null,null,null,null,null,null,null,null,null,null,null,{"$f":"_cl3&lfi($G$5)&_cle","v":"[color=\"#009900\"][/color] "}]
[28,null,null,null,null,null,null,null,null,null,{"$error":"#N/A"},19,null,{"$f":"_m1&_cl2&lfi(C19)&_cle&sc(C20)","v":"-------------------- [color=\"#000075\"][/color] [b][/b]"},null,null,null,null,null,null,null,null,null,null,null,null,null,null,{"$f":"_m1&clr&\"[b]\"&lfi($H$6)&\"[/b]\"&_cle& \" \" & sc($H$7)","v":"-------------------- [color=red][b][/b][/color]  [b][/b]"}]
[null,null,null,{"$f":"IF(D22=\"\",\"\",IF(LEFT(D22)>RIGHT(D22),C19,C23))","v":""},{"$f":"IF(D22=\"\",\"\",IF(LEFT(D22)<RIGHT(D22),C19,C23))","v":""},null,null,null,null,null,{"$error":"#N/A"},20,null,{"$f":"\"[b]\"&$A20&\"[/b]. \"&_cl1&lfi(B20)&_cle","v":"[b]28[/b]. [color=\"#990000\"][/color] "},null,null,null,null,null,null,null,null,null,null,null,null,null,null,{"$f":"_cl3&lfi($G$7)&_cle","v":"[color=\"#009900\"][/color] "}]
[21,null,null,null,null,null,null,null,null,null,{"$error":"#N/A"},21,null,{"$f":"_m2&cl3x&lfi(D21)&clex&sc(D22)","v":"---------------------------------------- [color=\"#00DC00\"][i][/i][/color] [b][/b]"}]
[null,null,{"$f":"IF(C24=\"\",\"\",IF(LEFT(C24)>RIGHT(C24),B22,B24))","v":""},{"$f":"IF(C23=\"\",\"\",IF(B24=C23,B22,B24))","v":""},null,null,null,null,null,null,{"$error":"#N/A"},22,null,{"$f":"\"[b]\"&$A22&\"[/b]. \"&cl1x&lfi(B22)&clex","v":"[b]21[/b]. [color=\"#cc5000\"][i][/i][/color] "}]
[12,null,null,null,null,null,null,null,null,null,{"$error":"#N/A"},23,null,{"$f":"_m1&_cl2&lfi(C23)&_cle&sc(C24)","v":"-------------------- [color=\"#000075\"][/color] [b][/b]"}]
[null,null,null,null,{"$f":"IF(E26=\"\",\"\",IF(LEFT(E26)>RIGHT(E26),D21,D29))","v":""},{"$f":"IF(E25=\"\",\"\",IF(D29=E25,D21,D29))","v":""},null,null,null,null,{"$error":"#N/A"},24,null,{"$f":"\"[b]\"&$A24&\"[/b]. \"&cl1x&lfi(B24)&clex","v":"[b]12[/b]. [color=\"#cc5000\"][i][/i][/color] "}]
[13,null,null,null,null,null,null,null,null,null,{"$error":"#N/A"},25,null,{"$f":"_m3&_cl4&lfi(E25)&_cle&sc(E26)","v":"------------------------------------------------------------ [color=\"#6900af\"][/color] [b][/b]"}]
[null,null,{"$f":"IF(C28=\"\",\"\",IF(LEFT(C28)>RIGHT(C28),B26,B28))","v":""},{"$f":"IF(C27=\"\",\"\",IF(B28=C27,B26,B28))","v":""},null,null,null,null,null,null,{"$error":"#N/A"},26,null,{"$f":"\"[b]\"&$A26&\"[/b]. \"&_cl1&lfi(B26)&_cle","v":"[b]13[/b]. [color=\"#990000\"][/color] "}]
[20,null,null,null,null,null,null,null,null,null,{"$error":"#N/A"},27,null,{"$f":"_m1&cl2x&lfi(C27)&clex&sc(C28)","v":"-------------------- [color=\"#4040FF\"][i][/i][/color] [b][/b]"}]
[null,null,null,{"$f":"IF(D30=\"\",\"\",IF(LEFT(D30)>RIGHT(D30),C27,C31))","v":""},{"$f":"IF(D30=\"\",\"\",IF(LEFT(D30)<RIGHT(D30),C27,C31))","v":""},null,null,null,null,null,{"$error":"#N/A"},28,null,{"$f":"\"[b]\"&$A28&\"[/b]. \"&_cl1&lfi(B28)&_cle","v":"[b]20[/b]. [color=\"#990000\"][/color] "}]
[29,null,null,null,null,null,null,null,null,null,{"$error":"#N/A"},29,null,{"$f":"_m2&cl3x&lfi(D29)&clex&sc(D30)","v":"---------------------------------------- [color=\"#00DC00\"][i][/i][/color] [b][/b]"}]
[null,null,{"$f":"IF(C32=\"\",\"\",IF(LEFT(C32)>RIGHT(C32),B30,B32))","v":""},{"$f":"IF(C31=\"\",\"\",IF(B32=C31,B30,B32))","v":""},null,null,null,null,null,null,{"$error":"#N/A"},30,null,{"$f":"\"[b]\"&$A30&\"[/b]. \"&cl1x&lfi(B30)&clex","v":"[b]29[/b]. [color=\"#cc5000\"][i][/i][/color] "}]
[4,null,null,null,null,null,null,null,null,null,{"$error":"#N/A"},31,null,{"$f":"_m1&cl2x&lfi(C31)&clex&sc(C32)","v":"-------------------- [color=\"#4040FF\"][i][/i][/color] [b][/b]"}]
[{"$f":"\"Eliminatorii \" & ctg & \" - page 2\"","v":"Eliminatorii Categoria - page 2"},null,null,null,null,null,{"$f":"IF(G34=\"\",\"\",IF(LEFT(G34)>RIGHT(G34),F17,F49))","v":""},{"$f":"IF(G33=\"\",\"\",IF(F49=G33,F17,F49))","v":""},null,null,{"$error":"#N/A"},32,null,{"$f":"\"[b]\"&$A32&\"[/b]. \"&cl1x&lfi(B32)&clex","v":"[b]4[/b]. [color=\"#cc5000\"][i][/i][/color] "}]
[3]
[null,null,{"$f":"IF(C36=\"\",\"\",IF(LEFT(C36)>RIGHT(C36),B34,B36))","v":""},{"$f":"IF(C35=\"\",\"\",IF(B36=C35,B34,B36))","v":""},null,null,"Finala",null,null,null,null,null,null,{"$f":"_m5&clr&\"[b]\"&lfi(G33)&\"[/b]\"&_cle&sc(G34)","v":"---------------------------------------------------------------------------------------------------- [color=red][b][/b][/color] [b][/b]"}]
[30]
[null,null,null,{"$f":"IF(D38=\"\",\"\",IF(LEFT(D38)>RIGHT(D38),C35,C39))","v":""},{"$f":"IF(D38=\"\",\"\",IF(LEFT(D38)<RIGHT(D38),C35,C39))","v":""},null,null,null,null,null,null,null,null,{"$f":"\"[b]\"&$A34&\"[/b]. \"&_cl1&lfi(B34)&_cle","v":"[b]3[/b]. [color=\"#990000\"][/color] "}]
[19,null,null,null,null,null,null,null,null,null,null,null,null,{"$f":"_m1&_cl2&lfi(C35)&_cle&sc(C36)","v":"-------------------- [color=\"#000075\"][/color] [b][/b]"}]
[null,null,{"$f":"IF(C40=\"\",\"\",IF(LEFT(C40)>RIGHT(C40),B38,B40))","v":""},{"$f":"IF(C39=\"\",\"\",IF(B40=C39,B38,B40))","v":""},null,null,null,null,null,null,null,null,null,{"$f":"\"[b]\"&$A36&\"[/b]. \"&_cl1&lfi(B36)&_cle","v":"[b]30[/b]. [color=\"#990000\"][/color] "}]
[14,null,null,null,null,null,null,null,null,null,null,null,null,{"$f":"_m2&_cl3&lfi(D37)&_cle&sc(D38)","v":"---------------------------------------- [color=\"#009900\"][/color] [b][/b]"}]
[null,null,null,null,{"$f":"IF(E42=\"\",\"\",IF(LEFT(E42)>RIGHT(E42),D37,D45))","v":""},{"$f":"IF(E41=\"\",\"\",IF(D45=E41,D37,D45))","v":""},null,null,null,null,null,null,null,{"$f":"\"[b]\"&$A38&\"[/b]. \"&cl1x&lfi(B38)&clex","v":"[b]19[/b]. [color=\"#cc5000\"][i][/i][/color] "}]
[11,null,null,null,null,null,null,null,null,null,null,null,null,{"$f":"_m1&_cl2&lfi(C39)&_cle&sc(C40)","v":"-------------------- [color=\"#000075\"][/color] [b][/b]"}]
[null,null,{"$f":"IF(C44=\"\",\"\",IF(LEFT(C44)>RIGHT(C44),B42,B44))","v":""},{"$f":"IF(C43=\"\",\"\",IF(B44=C43,B42,B44))","v":""},null,null,null,null,null,null,null,null,null,{"$f":"\"[b]\"&$A40&\"[/b]. \"&cl1x&lfi(B40)&clex","v":"[b]14[/b]. [color=\"#cc5000\"][i][/i][/color] "}]
[22,null,null,null,null,null,null,null,null,null,null,null,null,{"$f":"_m3&cl4x&lfi(E41)&clex&sc(E42)","v":"------------------------------------------------------------ [color=\"#bd5dff\"][i][/i][/color] [b][/b]"}]
[null,null,null,{"$f":"IF(D46=\"\",\"\",IF(LEFT(D46)>RIGHT(D46),C43,C47))","v":""},{"$f":"IF(D46=\"\",\"\",IF(LEFT(D46)<RIGHT(D46),C43,C47))","v":""},null,null,null,null,null,null,null,null,{"$f":"\"[b]\"&$A42&\"[/b]. \"&_cl1&lfi(B42)&_cle","v":"[b]11[/b]. [color=\"#990000\"][/color] "}]
[27,null,null,null,null,null,null,null,null,null,null,null,null,{"$f":"_m1&cl2x&lfi(C43)&clex&sc(C44)","v":"-------------------- [color=\"#4040FF\"][i][/i][/color] [b][/b]"}]
[null,null,{"$f":"IF(C48=\"\",\"\",IF(LEFT(C48)>RIGHT(C48),B46,B48))","v":""},{"$f":"IF(C47=\"\",\"\",IF(B48=C47,B46,B48))","v":""},null,null,null,null,null,null,null,null,null,{"$f":"\"[b]\"&$A44&\"[/b]. \"&_cl1&lfi(B44)&_cle","v":"[b]22[/b]. [color=\"#990000\"][/color] "}]
[6,null,null,null,null,null,null,null,null,null,null,null,null,{"$f":"_m2&_cl3&lfi(D45)&_cle&sc(D46)","v":"---------------------------------------- [color=\"#009900\"][/color] [b][/b]"}]
[null,null,null,null,null,{"$f":"IF(F50=\"\",\"\",IF(LEFT(F50)>RIGHT(F50),E41,E57))","v":""},{"$f":"IF(F49=\"\",\"\",IF(E57=F49,E41,E57))","v":""},null,null,null,null,null,null,{"$f":"\"[b]\"&$A46&\"[/b]. \"&cl1x&lfi(B46)&clex","v":"[b]27[/b]. [color=\"#cc5000\"][i][/i][/color] "}]
[7,null,null,null,null,null,null,null,null,null,null,null,null,{"$f":"_m1&cl2x&lfi(C47)&clex&sc(C48)","v":"-------------------- [color=\"#4040FF\"][i][/i][/color] [b][/b]"}]
[null,null,{"$f":"IF(C52=\"\",\"\",IF(LEFT(C52)>RIGHT(C52),B50,B52))","v":""},{"$f":"IF(C51=\"\",\"\",IF(B52=C51,B50,B52))","v":""},null,"SF 2",null,null,null,null,null,null,null,{"$f":"\"[b]\"&$A48&\"[/b]. \"&cl1x&lfi(B48)&clex","v":"[b]6[/b]. [color=\"#cc5000\"][i][/i][/color] "}]
[26,null,null,null,null,null,null,null,null,null,null,null,null,{"$f":"_m4&_cl1&\"[b]\"&lfi(F49)&\"[/b]\"&_cle&sc(F50)","v":"-------------------------------------------------------------------------------- [color=\"#990000\"][b][/b][/color] [b][/b]"}]
[null,null,null,{"$f":"IF(D54=\"\",\"\",IF(LEFT(D54)>RIGHT(D54),C51,C55))","v":""},{"$f":"IF(D54=\"\",\"\",IF(LEFT(D54)<RIGHT(D54),C51,C55))","v":""},null,null,null,null,null,null,null,null,{"$f":"\"[b]\"&$A50&\"[/b]. \"&_cl1&lfi(B50)&_cle","v":"[b]7[/b]. [color=\"#990000\"][/color] "}]
[23,null,null,null,null,null,null,null,null,null,null,null,null,{"$f":"_m1&_cl2&lfi(C51)&_cle&sc(C52)","v":"-------------------- [color=\"#000075\"][/color] [b][/b]"}]
[null,null,{"$f":"IF(C56=\"\",\"\",IF(LEFT(C56)>RIGHT(C56),B54,B56))","v":""},{"$f":"IF(C55=\"\",\"\",IF(B56=C55,B54,B56))","v":""},null,null,null,null,null,null,null,null,null,{"$f":"\"[b]\"&$A52&\"[/b]. \"&_cl1&lfi(B52)&_cle","v":"[b]26[/b]. [color=\"#990000\"][/color] "}]
[10,null,null,null,null,null,null,null,null,null,null,null,null,{"$f":"_m2&cl3x&lfi(D53)&clex&sc(D54)","v":"---------------------------------------- [color=\"#00DC00\"][i][/i][/color] [b][/b]"}]
[null,null,null,null,{"$f":"IF(E58=\"\",\"\",IF(LEFT(E58)>RIGHT(E58),D53,D61))","v":""},{"$f":"IF(E57=\"\",\"\",IF(D61=E57,D53,D61))","v":""},null,null,null,null,null,null,null,{"$f":"\"[b]\"&$A54&\"[/b]. \"&cl1x&lfi(B54)&clex","v":"[b]23[/b]. [color=\"#cc5000\"][i][/i][/color] "}]
[15,null,null,null,null,null,null,null,null,null,null,null,null,{"$f":"_m1&_cl2&lfi(C55)&_cle&sc(C56)","v":"-------------------- [color=\"#000075\"][/color] [b][/b]"}]
[null,null,{"$f":"IF(C60=\"\",\"\",IF(LEFT(C60)>RIGHT(C60),B58,B60))","v":""},{"$f":"IF(C59=\"\",\"\",IF(B60=C59,B58,B60))","v":""},null,null,null,null,null,null,null,null,null,{"$f":"\"[b]\"&$A56&\"[/b]. \"&cl1x&lfi(B56)&clex","v":"[b]10[/b]. [color=\"#cc5000\"][i][/i][/color] "}]
[18,null,null,null,null,null,null,null,null,null,null,null,null,{"$f":"_m3&cl4x&lfi(E57)&clex&sc(E58)","v":"------------------------------------------------------------ [color=\"#bd5dff\"][i][/i][/color] [b][/b]"}]
[null,null,null,{"$f":"IF(D62=\"\",\"\",IF(LEFT(D62)>RIGHT(D62),C59,C63))","v":""},{"$f":"IF(D62=\"\",\"\",IF(LEFT(D62)<RIGHT(D62),C59,C63))","v":""},null,null,null,null,null,null,null,null,{"$f":"\"[b]\"&$A58&\"[/b]. \"&_cl1&lfi(B58)&_cle","v":"[b]15[/b]. [color=\"#990000\"][/color] "}]
[31,null,null,null,null,null,null,null,null,null,null,null,null,{"$f":"_m1&cl2x&lfi(C59)&clex&sc(C60)","v":"-------------------- [color=\"#4040FF\"][i][/i][/color] [b][/b]"}]
[null,null,{"$f":"IF(C64=\"\",\"\",IF(LEFT(C64)>RIGHT(C64),B62,B64))","v":""},{"$f":"IF(C63=\"\",\"\",IF(B64=C63,B62,B64))","v":""},null,null,null,null,null,null,null,null,null,{"$f":"\"[b]\"&$A60&\"[/b]. \"&_cl1&lfi(B60)&_cle","v":"[b]18[/b]. [color=\"#990000\"][/color] "}]
[2,null,null,null,null,null,null,null,null,null,null,null,null,{"$f":"_m2&cl3x&lfi(D61)&clex&sc(D62)","v":"---------------------------------------- [color=\"#00DC00\"][i][/i][/color] [b][/b]"}]
[null,null,null,null,null,null,null,null,null,null,null,null,null,{"$f":"\"[b]\"&$A62&\"[/b]. \"&cl1x&lfi(B62)&clex","v":"[b]31[/b]. [color=\"#cc5000\"][i][/i][/color] "}]
[null,null,null,null,null,null,null,null,null,null,null,null,null,{"$f":"_m1&cl2x&lfi(C63)&clex&sc(C64)","v":"-------------------- [color=\"#4040FF\"][i][/i][/color] [b][/b]"}]
[null,null,null,null,null,null,null,null,null,null,null,null,null,{"$f":"\"[b]\"&$A64&\"[/b]. \"&cl1x&lfi(B64)&clex","v":"[b]2[/b]. [color=\"#cc5000\"][i][/i][/color] "}]
[]
[]
[null,null,null,null,null,null,null,null,null,null,null,null,null,{"$f":"\"[b]\"&clr & \"Finala mica - \" & _cle & ctg & \"[/b]\"","v":"[b][color=red]Finala mica - [/color] Categoria[/b]"}]
[]
[null,null,null,null,null,null,null,null,null,null,null,null,null,{"$f":"_cl3&lfi($G$5)&_cle","v":"[color=\"#009900\"][/color] "}]
[null,null,null,null,null,null,null,null,null,null,null,null,null,{"$f":"_m1&clr&\"[b]\"&lfi($H$6)&\"[/b]\"&_cle& \" \" & sc($H$7)","v":"-------------------- [color=red][b][/b][/color]  [b][/b]"}]
[null,null,null,null,null,null,null,null,null,null,null,null,null,{"$f":"_cl3&lfi($G$7)&_cle","v":"[color=\"#009900\"][/color] "}]
[]
[]
[]
[]
[]
[]
[null,null,null,null,null,null,{"$f":"IF(F81=\"\",\"\",IF(E89=F81,E73,E89))","v":""}]
[]
[]
[]
[]
[]
[]
[]
[]
[]
[]
[]
[]
[]
[]
[]
[]
[]
[]
[]
[]
[]
[]
[]
[]
[]
[]
[]
[]
[]
[]
[]
[null,null,null,null,null,null,{"$f":"IF(F113=\"\",\"\",IF(E121=F113,E105,E121))","v":""}]

{"sheet":"T16","index":19,"n_rows":40,"n_cols":64,"rows_kept":40,"cut":false,"hidden":true,"merged":[]}
[{"$f":"\"Eliminatorii \" & Start!$D$1","v":"Eliminatorii Categoria"},null,null,null,null,null,null,null,33,4,"SE","Loc",null,{"$f":"\"[B]\"&clr &$A1 & _cle & \"[/b]\"","v":"[B][color=red]Eliminatorii Categoria[/color] [/b]"},null,null,null,null,null,null,null,null,null,null,null,null,null,null,{"$f":"\"[b]\"&clr &\"SemiFinale - \" & _cle & ctg & \"[/b]\"","v":"[b][color=red]SemiFinale - [/color] Categoria[/b]"},null,null,null,null,null,null,null,null,null,null,null,null,null,null,null,null,null,null,null,null,"R16",null,null,"R8",null,null,"SF",null,null,"F",null,null,"3rd"]
[1,null,null,null,null,null,null,null,null,null,{"$f":"F17","v":""},1,null,null,null,null,null,null,null,null,null,null,null,null,null,null,null,null,null,null,null,null,null,null,null,null,null,null,null,null,null,null,null,null,null,null,null,null,null,{"$f":"IFERROR(RIGHT(B2,LEN(B2)-FIND(\",\",B2)),\"\")","v":""},{"$f":"IFERROR(RIGHT(B4,LEN(B4)-FIND(\",\",B4)),\"\")","v":""},{"$f":"C4","v":0},{"$f":"IFERROR(RIGHT(C3,LEN(C3)-FIND(\",\",C3)),\"\")","v":""},{"$f":"IFERROR(RIGHT(C7,LEN(C7)-FIND(\",\",C7)),\"\")","v":""},{"$f":"D6","v":0},{"$f":"IFERROR(RIGHT(D5,LEN(D5)-FIND(\",\",D5)),\"\")","v":""},{"$f":"IFERROR(RIGHT(D13,LEN(D13)-FIND(\",\",D13)),\"\")","v":""},{"$f":"E10","v":0},{"$f":"IFERROR(RIGHT(E9,LEN(E9)-FIND(\",\",E9)),\"\")","v":""},{"$f":"IFERROR(RIGHT(E25,LEN(E25)-FIND(\",\",E25)),\"\")","v":""},{"$f":"F18","v":0},{"$f":"IFERROR(RIGHT($G$5,LEN($G$5)-FIND(\",\",$G$5)),\"\")","v":""},{"$f":"IFERROR(RIGHT($G$7,LEN($G$7)-FIND(\",\",$G$7)),\"\")","v":""},{"$f":"$H$7","v":0}]
[null,null,{"$f":"IF(C4=\"\",\"\",IF(LEFT(C4)>RIGHT(C4),B2,B4))","v":""},{"$f":"IF(C3=\"\",\"\",IF(B4=C3,B2,B4))","v":""},null,null,null,null,null,null,{"$f":"G17","v":""},2,null,{"$f":"\"[b]\"&$A2&\"[/b]. \"&_cl1&lfi(B2)&_cle","v":"[b]1[/b]. [color=\"#990000\"][/color] "},null,null,null,null,null,null,null,null,null,null,null,null,null,null,{"$f":"_cl1&lfi(D5)&_cle","v":"[color=\"#990000\"][/color] "},null,null,null,null,null,null,null,null,null,null,null,null,null,null,null,null,null,null,null,null,{"$f":"IFERROR(RIGHT(B6,LEN(B6)-FIND(\",\",B6)),\"\")","v":""},{"$f":"IFERROR(RIGHT(B8,LEN(B8)-FIND(\",\",B8)),\"\")","v":""},{"$f":"C8","v":0},{"$f":"IFERROR(RIGHT(C11,LEN(C11)-FIND(\",\",C11)),\"\")","v":""},{"$f":"IFERROR(RIGHT(C15,LEN(C15)-FIND(\",\",C15)),\"\")","v":""},{"$f":"D14","v":0},{"$f":"IFERROR(RIGHT(D21,LEN(D21)-FIND(\",\",D21)),\"\")","v":""},{"$f":"IFERROR(RIGHT(D29,LEN(D29)-FIND(\",\",D29)),\"\")","v":""},{"$f":"E26","v":0},"x",null,null,"x"]
[16,null,null,null,null,null,null,null,null,null,{"$f":"IF(H6=\"\",VLOOKUP(K2,$E:$F,2,FALSE),H6)","v":0},3,null,{"$f":"_m1&_cl2&lfi(C3)&_cle&sc(C4)","v":"-------------------- [color=\"#000075\"][/color] [b][/b]"},null,null,null,null,null,null,null,null,null,null,null,null,null,null,{"$f":"_m1&_cl2&\"[b]\"&lfi(E9)&\"[/b]\"&_cle& \" \" & sc(E10)","v":"-------------------- [color=\"#000075\"][b][/b][/color]  [b][/b]"},null,null,null,null,null,null,null,null,null,null,null,null,null,null,null,null,null,null,null,null,{"$f":"IFERROR(RIGHT(B10,LEN(B10)-FIND(\",\",B10)),\"\")","v":""},{"$f":"IFERROR(RIGHT(B12,LEN(B12)-FIND(\",\",B12)),\"\")","v":""},{"$f":"C12","v":0},{"$f":"IFERROR(RIGHT(C19,LEN(C19)-FIND(\",\",C19)),\"\")","v":""},{"$f":"IFERROR(RIGHT(C23,LEN(C23)-FIND(\",\",C23)),\"\")","v":""},{"$f":"D22","v":0},"x"]
[null,null,null,{"$f":"IF(D6=\"\",\"\",IF(LEFT(D6)>RIGHT(D6),C3,C7))","v":""},{"$f":"IF(D6=\"\",\"\",IF(LEFT(D6)<RIGHT(D6),C3,C7))","v":""},null,{"$f":"F9","v":""},null,null,null,{"$f":"IF(I6=\"\",VLOOKUP(K3,$E:$F,2,FALSE),I6)","v":0},4,null,{"$f":"\"[b]\"&$A4&\"[/b]. \"&_cl1&lfi(B4)&_cle","v":"[b]16[/b]. [color=\"#990000\"][/color] "},null,null,null,null,null,null,null,null,null,null,null,null,null,null,{"$f":"_cl1&lfi(D13)&_cle","v":"[color=\"#990000\"][/color] "},null,null,null,null,null,null,null,null,null,null,null,null,null,null,null,null,null,null,null,null,{"$f":"IFERROR(RIGHT(B14,LEN(B14)-FIND(\",\",B14)),\"\")","v":""},{"$f":"IFERROR(RIGHT(B16,LEN(B16)-FIND(\",\",B16)),\"\")","v":""},{"$f":"C16","v":0},{"$f":"IFERROR(RIGHT(C27,LEN(C27)-FIND(\",\",C27)),\"\")","v":""},{"$f":"IFERROR(RIGHT(C31,LEN(C31)-FIND(\",\",C31)),\"\")","v":""},{"$f":"D30","v":0}]
[9,null,null,null,null,null,{"$f":"REPT(\"-\",20)","v":"--------------------"},{"$f":"IF(H7=\"\",\"\",IF(LEFT(H7)>RIGHT(H7),G5,G7))","v":""},{"$f":"IF(H6=\"\",\"\",IF(G7=H6,G5,G7))","v":""},null,{"$f":"VLOOKUP(K2,$D:$E,2,FALSE)","v":0},5,null,{"$f":"_m2&_cl3&lfi(D5)&_cle&sc(D6)","v":"---------------------------------------- [color=\"#009900\"][/color] [b][/b]"},null,null,null,null,null,null,null,null,null,null,null,null,null,null,null,null,null,null,null,null,null,null,null,null,null,null,null,null,null,null,null,null,null,null,null,{"$f":"IFERROR(RIGHT(B18,LEN(B18)-FIND(\",\",B18)),\"\")","v":""},{"$f":"IFERROR(RIGHT(B20,LEN(B20)-FIND(\",\",B20)),\"\")","v":""},{"$f":"C20","v":0},"x"]
[null,null,{"$f":"IF(C8=\"\",\"\",IF(LEFT(C8)>RIGHT(C8),B6,B8))","v":""},{"$f":"IF(C7=\"\",\"\",IF(B8=C7,B6,B8))","v":""},null,null,{"$f":"F25","v":""},null,null,null,{"$f":"VLOOKUP(K3,$D:$E,2,FALSE)","v":0},6,null,{"$f":"\"[b]\"&$A6&\"[/b]. \"&cl1x&lfi(B6)&clex","v":"[b]9[/b]. [color=\"#cc5000\"][i][/i][/color] "},null,null,null,null,null,null,null,null,null,null,null,null,null,null,{"$f":"cl1x&lfi(D21)&clex","v":"[color=\"#cc5000\"][i][/i][/color] "},null,null,null,null,null,null,null,null,null,null,null,null,null,null,null,null,null,null,null,null,{"$f":"IFERROR(RIGHT(B22,LEN(B22)-FIND(\",\",B22)),\"\")","v":""},{"$f":"IFERROR(RIGHT(B24,LEN(B24)-FIND(\",\",B24)),\"\")","v":""},{"$f":"C24","v":0},{"$f":"IFERROR(RIGHT(#REF!,LEN(#REF!)-FIND(\",\",#REF!)),\"\")","v":""}]
[8,null,null,null,null,null,null,null,null,null,{"$f":"VLOOKUP(K4,$D:$E,2,FALSE)","v":{"$error":"#N/A"}},7,null,{"$f":"_m1&_cl2&lfi(C7)&_cle&sc(C8)","v":"-------------------- [color=\"#000075\"][/color] [b][/b]"},null,null,null,null,null,null,null,null,null,null,null,null,null,null,{"$f":"_m1&_cl2&\"[b]\"&lfi(E25)&\"[/b]\"&_cle& \" \" & sc(E26)","v":"-------------------- [color=\"#000075\"][b][/b][/color]  [b][/b]"},null,null,null,null,null,null,null,null,null,null,null,null,null,null,null,null,null,null,null,null,{"$f":"IFERROR(RIGHT(B26,LEN(B26)-FIND(\",\",B26)),\"\")","v":""},{"$f":"IFERROR(RIGHT(B28,LEN(B28)-FIND(\",\",B28)),\"\")","v":""},{"$f":"C28","v":0}]
[null,null,null,null,{"$f":"IF(E10=\"\",\"\",IF(LEFT(E10)>RIGHT(E10),D5,D13))","v":""},{"$f":"IF(E9=\"\",\"\",IF(D13=E9,D5,D13))","v":""},null,{"$f":"\"Finala mica - \" & ctg","v":"Finala mica - Categoria"},null,null,{"$f":"VLOOKUP(K5,$D:$E,2,FALSE)","v":{"$error":"#N/A"}},8,null,{"$f":"\"[b]\"&$A8&\"[/b]. \"&cl1x&lfi(B8)&clex","v":"[b]8[/b]. [color=\"#cc5000\"][i][/i][/color] "},null,null,null,null,null,null,null,null,null,null,null,null,null,null,{"$f":"cl1x&lfi(D29)&clex","v":"[color=\"#cc5000\"][i][/i][/color] "},null,null,null,null,null,null,null,null,null,null,null,null,null,null,null,null,null,null,null,null,{"$f":"IFERROR(RIGHT(B30,LEN(B30)-FIND(\",\",B30)),\"\")","v":""},{"$f":"IFERROR(RIGHT(B32,LEN(B32)-FIND(\",\",B32)),\"\")","v":""},{"$f":"C32","v":0}]
[5,null,null,null,null,null,null,null,null,null,{"$f":"VLOOKUP(K2,$C:$D,2,FALSE)","v":""},9,null,{"$f":"_m3&_cl4&\"[b]\"&lfi(E9)&\"[/b]\"&_cle&sc(E10)","v":"------------------------------------------------------------ [color=\"#6900af\"][b][/b][/color] [b][/b]"},null,null,null,null,null,null,null,null,null,null,null,null,null,null,null,null,null,null,null,null,null,null,null,null,null,null,null,null,null,null,null,null,null,null,null,"x"]
[null,null,{"$f":"IF(C12=\"\",\"\",IF(LEFT(C12)>RIGHT(C12),B10,B12))","v":""},{"$f":"IF(C11=\"\",\"\",IF(B12=C11,B10,B12))","v":""},null,null,null,null,null,null,"",10,null,{"$f":"\"[b]\"&$A10&\"[/b]. \"&_cl1&lfi(B10)&_cle","v":"[b]5[/b]. [color=\"#990000\"][/color] "},null,null,null,null,null,null,null,null,null,null,null,null,null,null,{"$f":"\"[b]\"&clr & \"Finala - \" & _cle & ctg & \"[/b]\"","v":"[b][color=red]Finala - [/color] Categoria[/b]"}]
[12,null,null,null,null,null,null,null,null,null,{"$error":"#N/A"},11,null,{"$f":"_m1&cl2x&lfi(C11)&clex&sc(C12)","v":"-------------------- [color=\"#4040FF\"][i][/i][/color] [b][/b]"}]
[null,null,null,{"$f":"IF(D14=\"\",\"\",IF(LEFT(D14)>RIGHT(D14),C11,C15))","v":""},{"$f":"IF(D14=\"\",\"\",IF(LEFT(D14)<RIGHT(D14),C11,C15))","v":""},null,null,null,null,null,{"$error":"#N/A"},12,null,{"$f":"\"[b]\"&$A12&\"[/b]. \"&_cl1&lfi(B12)&_cle","v":"[b]12[/b]. [color=\"#990000\"][/color] "},null,null,null,null,null,null,null,null,null,null,null,null,null,null,{"$f":"_cl2&lfi($E$9)&_cle","v":"[color=\"#000075\"][/color] "}]
[13,null,null,null,null,null,null,null,null,null,{"$error":"#N/A"},13,null,{"$f":"_m2&_cl3&lfi(D13)&_cle&sc(D14)","v":"---------------------------------------- [color=\"#009900\"][/color] [b][/b]"},null,null,null,null,null,null,null,null,null,null,null,null,null,null,{"$f":"_m1&clr&\"[b]\"&lfi($F$17)&\"[/b]\"&_cle& \" \" & sc($F$18)","v":"-------------------- [color=red][b][/b][/color]  [b][/b]"},null,null,null,null,null,null,null,null,null,null,null,null,null,null,null,null,null,null,null,null,null,null,null,null,null,null,{"$f":"IFERROR(RIGHT(D32,LEN(D32)-FIND(\",\",D32)),\"\")","v":""}]
[null,null,{"$f":"IF(C16=\"\",\"\",IF(LEFT(C16)>RIGHT(C16),B14,B16))","v":""},{"$f":"IF(C15=\"\",\"\",IF(B16=C15,B14,B16))","v":""},null,null,null,null,null,null,{"$error":"#N/A"},14,null,{"$f":"\"[b]\"&$A14&\"[/b]. \"&cl1x&lfi(B14)&clex","v":"[b]13[/b]. [color=\"#cc5000\"][i][/i][/color] "},null,null,null,null,null,null,null,null,null,null,null,null,null,null,{"$f":"_cl2&lfi($E$25)&_cle","v":"[color=\"#000075\"][/color] "}]
[4,null,null,null,null,null,null,null,null,null,{"$error":"#N/A"},15,null,{"$f":"_m1&cl2x&lfi(C15)&clex&sc(C16)","v":"-------------------- [color=\"#4040FF\"][i][/i][/color] [b][/b]"}]
[null,null,null,null,null,{"$f":"IF(F18=\"\",\"\",IF(LEFT(F18)>RIGHT(F18),E9,E25))","v":""},{"$f":"IF(F17=\"\",\"\",IF(E25=F17,E9,E25))","v":""},null,null,null,{"$error":"#N/A"},16,null,{"$f":"\"[b]\"&$A16&\"[/b]. \"&cl1x&lfi(B16)&clex","v":"[b]4[/b]. [color=\"#cc5000\"][i][/i][/color] "},null,null,null,null,null,null,null,null,null,null,null,null,null,null,{"$f":"\"[b]\"&clr & \"Finala mica - \" & _cle & ctg & \"[/b]\"","v":"[b][color=red]Finala mica - [/color] Categoria[/b]"}]
[3,null,null,null,null,null,null,null,null,null,null,null,null,{"$f":"_m4&clr&\"[b]\"&lfi(F17)&\"[/b]\"&_cle&sc(F18)","v":"-------------------------------------------------------------------------------- [color=red][b][/b][/color] [b][/b]"}]
[null,null,{"$f":"IF(C20=\"\",\"\",IF(LEFT(C20)>RIGHT(C20),B18,B20))","v":""},{"$f":"IF(C19=\"\",\"\",IF(B20=C19,B18,B20))","v":""},null,null,null,null,null,null,null,null,null,{"$f":"\"[b]\"&$A18&\"[/b]. \"&_cl1&lfi(B18)&_cle","v":"[b]3[/b]. [color=\"#990000\"][/color] "},null,null,null,null,null,null,null,null,null,null,null,null,null,null,{"$f":"_cl3&lfi($G$5)&_cle","v":"[color=\"#009900\"][/color] "}]
[14,null,null,null,null,null,null,null,null,null,null,null,null,{"$f":"_m1&_cl2&lfi(C19)&_cle&sc(C20)","v":"-------------------- [color=\"#000075\"][/color] [b][/b]"},null,null,null,null,null,null,null,null,null,null,null,null,null,null,{"$f":"_m1&clr&\"[b]\"&lfi($H$6)&\"[/b]\"&_cle& \" \" & sc($H$7)","v":"-------------------- [color=red][b][/b][/color]  [b][/b]"}]
[null,null,null,{"$f":"IF(D22=\"\",\"\",IF(LEFT(D22)>RIGHT(D22),C19,C23))","v":""},{"$f":"IF(D22=\"\",\"\",IF(LEFT(D22)<RIGHT(D22),C19,C23))","v":""},null,null,null,null,null,null,null,null,{"$f":"\"[b]\"&$A20&\"[/b]. \"&_cl1&lfi(B20)&_cle","v":"[b]14[/b]. [color=\"#990000\"][/color] "},null,null,null,null,null,null,null,null,null,null,null,null,null,null,{"$f":"_cl3&lfi($G$7)&_cle","v":"[color=\"#009900\"][/color] "}]
[11,null,null,null,null,null,null,null,null,null,null,null,null,{"$f":"_m2&cl3x&lfi(D21)&clex&sc(D22)","v":"---------------------------------------- [color=\"#00DC00\"][i][/i][/color] [b][/b]"}]
[null,null,{"$f":"IF(C24=\"\",\"\",IF(LEFT(C24)>RIGHT(C24),B22,B24))","v":""},{"$f":"IF(C23=\"\",\"\",IF(B24=C23,B22,B24))","v":""},null,null,null,null,null,null,null,null,null,{"$f":"\"[b]\"&$A22&\"[/b]. \"&cl1x&lfi(B22)&clex","v":"[b]11[/b]. [color=\"#cc5000\"][i][/i][/color] "}]
[6,null,null,null,null,null,null,null,null,null,null,null,null,{"$f":"_m1&_cl2&lfi(C23)&_cle&sc(C24)","v":"-------------------- [color=\"#000075\"][/color] [b][/b]"}]
[null,null,null,null,{"$f":"IF(E26=\"\",\"\",IF(LEFT(E26)>RIGHT(E26),D21,D29))","v":""},{"$f":"IF(E25=\"\",\"\",IF(D29=E25,D21,D29))","v":""},null,null,null,null,null,null,null,{"$f":"\"[b]\"&$A24&\"[/b]. \"&cl1x&lfi(B24)&clex","v":"[b]6[/b]. [color=\"#cc5000\"][i][/i][/color] "}]
[7,null,null,null,null,null,null,null,null,null,null,null,null,{"$f":"_m3&_cl4&\"[b]\"&lfi(E25)&\"[/b]\"&_cle&sc(E26)","v":"------------------------------------------------------------ [color=\"#6900af\"][b][/b][/color] [b][/b]"}]
[null,null,{"$f":"IF(C28=\"\",\"\",IF(LEFT(C28)>RIGHT(C28),B26,B28))","v":""},{"$f":"IF(C27=\"\",\"\",IF(B28=C27,B26,B28))","v":""},null,null,null,null,null,null,null,null,null,{"$f":"\"[b]\"&$A26&\"[/b]. \"&_cl1&lfi(B26)&_cle","v":"[b]7[/b]. [color=\"#990000\"][/color] "}]
[10,null,null,null,null,null,null,null,null,null,null,null,null,{"$f":"_m1&cl2x&lfi(C27)&clex&sc(C28)","v":"-------------------- [color=\"#4040FF\"][i][/i][/color] [b][/b]"}]
[null,null,null,{"$f":"IF(D30=\"\",\"\",IF(LEFT(D30)>RIGHT(D30),C27,C31))","v":""},{"$f":"IF(D30=\"\",\"\",IF(LEFT(D30)<RIGHT(D30),C27,C31))","v":""},null,null,null,null,null,null,null,null,{"$f":"\"[b]\"&$A28&\"[/b]. \"&_cl1&lfi(B28)&_cle","v":"[b]10[/b]. [color=\"#990000\"][/color] "}]
[15,null,null,null,null,null,null,null,null,null,null,null,null,{"$f":"_m2&cl3x&lfi(D29)&clex&sc(D30)","v":"---------------------------------------- [color=\"#00DC00\"][i][/i][/color] [b][/b]"}]
[null,null,{"$f":"IF(C32=\"\",\"\",IF(LEFT(C32)>RIGHT(C32),B30,B32))","v":""},{"$f":"IF(C31=\"\",\"\",IF(B32=C31,B30,B32))","v":""},null,null,null,null,null,null,null,null,null,{"$f":"\"[b]\"&$A30&\"[/b]. \"&cl1x&lfi(B30)&clex","v":"[b]15[/b]. [color=\"#cc5000\"][i][/i][/color] "}]
[2,null,null,null,null,null,null,null,null,null,null,null,null,{"$f":"_m1&cl2x&lfi(C31)&clex&sc(C32)","v":"-------------------- [color=\"#4040FF\"][i][/i][/color] [b][/b]"}]
[null,null,null,null,null,null,null,null,null,null,null,null,null,{"$f":"\"[b]\"&$A32&\"[/b]. \"&cl1x&lfi(B32)&clex","v":"[b]2[/b]. [color=\"#cc5000\"][i][/i][/color] "}]
[]
[]
[null,null,null,null,null,null,null,null,null,null,null,null,null,{"$f":"\"[b]\"&clr & \"Finala mica - \" & _cle & ctg & \"[/b]\"","v":"[b][color=red]Finala mica - [/color] Categoria[/b]"}]
[]
[null,null,null,null,null,null,null,null,null,null,null,null,null,{"$f":"_cl3&lfi($G$5)&_cle","v":"[color=\"#009900\"][/color] "}]
[null,null,null,null,null,null,null,null,null,null,null,null,null,{"$f":"_m1&clr&\"[b]\"&lfi($H$6)&\"[/b]\"&_cle& \" \" & sc($H$7)","v":"-------------------- [color=red][b][/b][/color]  [b][/b]"}]
[null,null,null,null,null,null,null,null,null,null,null,null,null,{"$f":"_cl3&lfi($G$7)&_cle","v":"[color=\"#009900\"][/color] "}]

{"sheet":"T8","index":20,"n_rows":125,"n_cols":61,"rows_kept":125,"cut":false,"hidden":true,"merged":[]}
[{"$f":"\"Eliminatorii \" & Start!$D$1","v":"Eliminatorii Categoria"},null,null,null,null,null,null,null,17,3,"SE","Loc",null,{"$f":"\"[B]\"&clr &$A1 & _cle & \"[/b]\"","v":"[B][color=red]Eliminatorii Categoria[/color] [/b]"},null,null,null,null,null,null,null,null,null,null,null,null,null,null,null,null,null,null,null,null,null,null,null,null,null,null,null,null,null,null,null,null,null,null,null,"R8",null,null,"SF",null,null,"F",null,null,"3rd"]
[1,null,null,null,null,null,null,null,null,null,{"$f":"E9","v":""},1,null,null,null,null,null,null,null,null,null,null,null,null,null,null,null,null,null,null,null,null,null,null,null,null,null,null,null,null,null,null,null,null,null,null,null,null,null,{"$f":"IFERROR(RIGHT(B2,LEN(B2)-FIND(\",\",B2)),\"\")","v":""},{"$f":"IFERROR(RIGHT(B4,LEN(B4)-FIND(\",\",B4)),\"\")","v":""},{"$f":"C4","v":0},{"$f":"IFERROR(RIGHT(C3,LEN(C3)-FIND(\",\",C3)),\"\")","v":""},{"$f":"IFERROR(RIGHT(C7,LEN(C7)-FIND(\",\",C7)),\"\")","v":""},{"$f":"D6","v":0},{"$f":"IFERROR(RIGHT(D5,LEN(D5)-FIND(\",\",D5)),\"\")","v":""},{"$f":"IFERROR(RIGHT(D13,LEN(D13)-FIND(\",\",D13)),\"\")","v":""},{"$f":"E10","v":0},{"$f":"IFERROR(RIGHT($G$5,LEN($G$5)-FIND(\",\",$G$5)),\"\")","v":""},{"$f":"IFERROR(RIGHT($G$7,LEN($G$7)-FIND(\",\",$G$7)),\"\")","v":""},{"$f":"$H$7","v":0}]
[null,null,{"$f":"IF(C4=\"\",\"\",IF(LEFT(C4)>RIGHT(C4),B2,B4))","v":""},{"$f":"IF(C3=\"\",\"\",IF(B4=C3,B2,B4))","v":""},null,null,null,null,null,null,{"$f":"F9","v":""},2,null,{"$f":"\"[b]\"&$A2&\"[/b]. \"&_cl1&lfi(B2)&_cle","v":"[b]1[/b]. [color=\"#990000\"][/color] "},null,null,null,null,null,null,null,null,null,null,null,null,null,null,null,null,null,null,null,null,null,null,null,null,null,null,null,null,null,null,null,null,null,null,null,{"$f":"IFERROR(RIGHT(B6,LEN(B6)-FIND(\",\",B6)),\"\")","v":""},{"$f":"IFERROR(RIGHT(B8,LEN(B8)-FIND(\",\",B8)),\"\")","v":""},{"$f":"C8","v":0},{"$f":"IFERROR(RIGHT(C11,LEN(C11)-FIND(\",\",C11)),\"\")","v":""},{"$f":"IFERROR(RIGHT(C15,LEN(C15)-FIND(\",\",C15)),\"\")","v":""},{"$f":"D14","v":0},"x",null,null,"x"]
[8,null,null,null,null,null,null,null,null,null,{"$f":"IF(H6=\"\",VLOOKUP(K2,$D:$E,2,FALSE),H6)","v":0},3,null,{"$f":"_m1&_cl2&lfi(C3)&_cle&sc(C4)","v":"-------------------- [color=\"#000075\"][/color] [b][/b]"},null,null,null,null,null,null,null,null,null,null,null,null,null,null,null,null,null,null,null,null,null,null,null,null,null,null,null,null,null,null,null,null,null,null,null,{"$f":"IFERROR(RIGHT(B10,LEN(B10)-FIND(\",\",B10)),\"\")","v":""},{"$f":"IFERROR(RIGHT(B12,LEN(B12)-FIND(\",\",B12)),\"\")","v":""},{"$f":"C12","v":0},"x"]
[null,null,null,{"$f":"IF(D6=\"\",\"\",IF(LEFT(D6)>RIGHT(D6),C3,C7))","v":""},{"$f":"IF(D5=\"\",\"\",IF(C7=D5,C3,C7))","v":""},null,{"$f":"E5","v":""},null,null,null,{"$f":"IF(I6=\"\",VLOOKUP(K3,$D:$E,2,FALSE),I6)","v":0},4,null,{"$f":"\"[b]\"&$A4&\"[/b]. \"&_cl1&lfi(B4)&_cle","v":"[b]8[/b]. [color=\"#990000\"][/color] "},null,null,null,null,null,null,null,null,null,null,null,null,null,null,null,null,null,null,null,null,null,null,null,null,null,null,null,null,null,null,null,null,null,null,null,{"$f":"IFERROR(RIGHT(B14,LEN(B14)-FIND(\",\",B14)),\"\")","v":""},{"$f":"IFERROR(RIGHT(B16,LEN(B16)-FIND(\",\",B16)),\"\")","v":""},{"$f":"C16","v":0}]
[5,null,null,null,null,null,{"$f":"REPT(\"-\",20)","v":"--------------------"},{"$f":"IF(H7=\"\",\"\",IF(LEFT(H7)>RIGHT(H7),G5,G7))","v":""},{"$f":"IF(H6=\"\",\"\",IF(G7=H6,G5,G7))","v":""},null,{"$f":"VLOOKUP(K2,$C:$D,2,FALSE)","v":""},5,null,{"$f":"_m2&_cl3&\"[b]\"&lfi(D5)&\"[/b]\"&_cle&sc(D6)","v":"---------------------------------------- [color=\"#009900\"][b][/b][/color] [b][/b]"},null,null,null,null,null,null,null,null,null,null,null,null,null,null,null,null,null,null,null,null,null,null,null,null,null,null,null,null,null,null,null,null,null,null,null,"x"]
[null,null,{"$f":"IF(C8=\"\",\"\",IF(LEFT(C8)>RIGHT(C8),B6,B8))","v":""},{"$f":"IF(C7=\"\",\"\",IF(B8=C7,B6,B8))","v":""},null,null,{"$f":"E13","v":""},null,null,null,{"$f":"VLOOKUP(K3,$C:$D,2,FALSE)","v":""},6,null,{"$f":"\"[b]\"&$A6&\"[/b]. \"&cl1x&lfi(B6)&clex","v":"[b]5[/b]. [color=\"#cc5000\"][i][/i][/color] "}]
[4,null,null,null,null,null,null,null,null,null,{"$f":"VLOOKUP(K4,$C:$D,2,FALSE)","v":{"$error":"#N/A"}},7,null,{"$f":"_m1&_cl2&lfi(C7)&_cle&sc(C8)","v":"-------------------- [color=\"#000075\"][/color] [b][/b]"}]
[null,null,null,null,{"$f":"IF(E10=\"\",\"\",IF(LEFT(E10)>RIGHT(E10),D5,D13))","v":""},{"$f":"IF(E9=\"\",\"\",IF(D13=E9,D5,D13))","v":""},null,{"$f":"\"Finala mica - \" & ctg","v":"Finala mica - Categoria"},null,null,{"$f":"VLOOKUP(K5,$C:$D,2,FALSE)","v":{"$error":"#N/A"}},8,null,{"$f":"\"[b]\"&$A8&\"[/b]. \"&cl1x&lfi(B8)&clex","v":"[b]4[/b]. [color=\"#cc5000\"][i][/i][/color] "}]
[3,null,null,null,null,null,null,null,null,null,null,null,null,{"$f":"_m3&clr&\"[b]\"&lfi(E9)&\"[/b]\"&_cle&sc(E10)","v":"------------------------------------------------------------ [color=red][b][/b][/color] [b][/b]"}]
[null,null,{"$f":"IF(C12=\"\",\"\",IF(LEFT(C12)>RIGHT(C12),B10,B12))","v":""},{"$f":"IF(C11=\"\",\"\",IF(B12=C11,B10,B12))","v":""},null,null,null,null,null,null,null,null,null,{"$f":"\"[b]\"&$A10&\"[/b]. \"&_cl1&lfi(B10)&_cle","v":"[b]3[/b]. [color=\"#990000\"][/color] "},null,null,null,null,null,null,null,null,null,null,null,null,null,null,{"$f":"\"[b]\"&clr & \"Finala - \" & _cle & ctg & \"[/b]\"","v":"[b][color=red]Finala - [/color] Categoria[/b]"}]
[6,null,null,null,null,null,null,null,null,null,null,null,null,{"$f":"_m1&cl2x&lfi(C11)&clex&sc(C12)","v":"-------------------- [color=\"#4040FF\"][i][/i][/color] [b][/b]"}]
[null,null,null,{"$f":"IF(D14=\"\",\"\",IF(LEFT(D14)>RIGHT(D14),C11,C15))","v":""},{"$f":"IF(D13=\"\",\"\",IF(C15=D13,C11,C15))","v":""},null,null,null,null,null,null,null,null,{"$f":"\"[b]\"&$A12&\"[/b]. \"&_cl1&lfi(B12)&_cle","v":"[b]6[/b]. [color=\"#990000\"][/color] "},null,null,null,null,null,null,null,null,null,null,null,null,null,null,{"$f":"_cl2&lfi($D$5)&_cle","v":"[color=\"#000075\"][/color] "}]
[7,null,null,null,null,null,null,null,null,null,null,null,null,{"$f":"_m2&_cl3&\"[b]\"&lfi(D13)&\"[/b]\"&_cle&sc(D14)","v":"---------------------------------------- [color=\"#009900\"][b][/b][/color] [b][/b]"},null,null,null,null,null,null,null,null,null,null,null,null,null,null,{"$f":"_m1&clr&\"[b]\"&lfi($E$9)&\"[/b]\"&_cle& \" \" & sc($E$10)","v":"-------------------- [color=red][b][/b][/color]  [b][/b]"}]
[null,null,{"$f":"IF(C16=\"\",\"\",IF(LEFT(C16)>RIGHT(C16),B14,B16))","v":""},{"$f":"IF(C15=\"\",\"\",IF(B16=C15,B14,B16))","v":""},null,null,null,null,null,null,null,null,null,{"$f":"\"[b]\"&$A14&\"[/b]. \"&cl1x&lfi(B14)&clex","v":"[b]7[/b]. [color=\"#cc5000\"][i][/i][/color] "},null,null,null,null,null,null,null,null,null,null,null,null,null,null,{"$f":"_cl2&lfi($D$13)&_cle","v":"[color=\"#000075\"][/color] "}]
[2,null,null,null,null,null,null,null,null,null,null,null,null,{"$f":"_m1&cl2x&lfi(C15)&clex&sc(C16)","v":"-------------------- [color=\"#4040FF\"][i][/i][/color] [b][/b]"}]
[null,null,null,null,null,null,null,null,null,null,null,null,null,{"$f":"\"[b]\"&$A16&\"[/b]. \"&cl1x&lfi(B16)&clex","v":"[b]2[/b]. [color=\"#cc5000\"][i][/i][/color] "},null,null,null,null,null,null,null,null,null,null,null,null,null,null,{"$f":"\"[b]\"&clr & \"Finala mica - \" & _cle & ctg & \"[/b]\"","v":"[b][color=red]Finala mica - [/color] Categoria[/b]"}]
[]
[null,null,null,null,null,null,null,null,null,null,null,null,null,null,null,null,null,null,null,null,null,null,null,null,null,null,null,null,{"$f":"_cl3&lfi($G$5)&_cle","v":"[color=\"#009900\"][/color] "}]
[null,null,null,null,null,null,null,null,null,null,null,null,null,{"$f":"\"[b]\"&clr & \"Finala mica - \" & _cle & ctg & \"[/b]\"","v":"[b][color=red]Finala mica - [/color] Categoria[/b]"},null,null,null,null,null,null,null,null,null,null,null,null,null,null,{"$f":"_m1&clr&\"[b]\"&lfi($H$6)&\"[/b]\"&_cle& \" \" & sc($H$7)","v":"-------------------- [color=red][b][/b][/color]  [b][/b]"}]
[null,null,null,null,{"$f":"IF(D21=\"\",\"\",IF(C23=D21,C19,C23))","v":""},null,null,null,null,null,null,null,null,null,null,null,null,null,null,null,null,null,null,null,null,null,null,null,{"$f":"_cl3&lfi($G$7)&_cle","v":"[color=\"#009900\"][/color] "}]
[null,null,null,null,null,null,null,null,null,null,null,null,null,{"$f":"_cl3&lfi($G$5)&_cle","v":"[color=\"#009900\"][/color] "}]
[null,null,null,null,null,null,null,null,null,null,null,null,null,{"$f":"_m1&clr&\"[b]\"&lfi($H$6)&\"[/b]\"&_cle& \" \" & sc($H$7)","v":"-------------------- [color=red][b][/b][/color]  [b][/b]"}]
[null,null,null,null,null,null,null,null,null,null,null,null,null,{"$f":"_cl3&lfi($G$7)&_cle","v":"[color=\"#009900\"][/color] "}]
[]
[]
[]
[]
[null,null,null,null,{"$f":"IF(D29=\"\",\"\",IF(C31=D29,C27,C31))","v":""}]
[]
[]
[]
[]
[]
[]
[]
[null,null,null,null,{"$f":"IF(D37=\"\",\"\",IF(C39=D37,C35,C39))","v":""}]
[]
[]
[]
[]
[]
[]
[]
[null,null,null,null,{"$f":"IF(D45=\"\",\"\",IF(C47=D45,C43,C47))","v":""}]
[]
[]
[]
[]
[]
[]
[]
[null,null,null,null,{"$f":"IF(D53=\"\",\"\",IF(C55=D53,C51,C55))","v":""}]
[]
[]
[]
[]
[]
[]
[]
[null,null,null,null,{"$f":"IF(D61=\"\",\"\",IF(C63=D61,C59,C63))","v":""}]
[]
[]
[]
[]
[]
[]
[]
[null,null,null,null,{"$f":"IF(D69=\"\",\"\",IF(C71=D69,C67,C71))","v":""}]
[]
[]
[]
[]
[]
[]
[]
[null,null,null,null,{"$f":"IF(D77=\"\",\"\",IF(C79=D77,C75,C79))","v":""}]
[]
[]
[]
[]
[]
[]
[]
[null,null,null,null,{"$f":"IF(D85=\"\",\"\",IF(C87=D85,C83,C87))","v":""}]
[]
[]
[]
[]
[]
[]
[]
[null,null,null,null,{"$f":"IF(D93=\"\",\"\",IF(C95=D93,C91,C95))","v":""}]
[]
[]
[]
[]
[]
[]
[]
[null,null,null,null,{"$f":"IF(D101=\"\",\"\",IF(C103=D101,C99,C103))","v":""}]
[]
[]
[]
[]
[]
[]
[]
[null,null,null,null,{"$f":"IF(D109=\"\",\"\",IF(C111=D109,C107,C111))","v":""}]
[]
[]
[]
[]
[]
[]
[]
[null,null,null,null,{"$f":"IF(D117=\"\",\"\",IF(C119=D117,C115,C119))","v":""}]
[]
[]
[]
[]
[]
[]
[]
[null,null,null,null,{"$f":"IF(D125=\"\",\"\",IF(C127=D125,C123,C127))","v":""}]